{"text_format":"1","workbook":"xlsx","n_sheets":15,"sheets":["Zmeny","Soutez","Kp","Pilot","Region","Temp","Data","Zebrik G","Zebrik W","KB PMRg 2021","KB PMRg 2022","KB PMRg 2023","N PMČR 2024","N PMČRj 2024","N PMRg 2024"],"not_rendered":{"charts":0,"images":0,"macros":1,"external_links":0,"defined_names":37,"comments":2,"pivot_tables":2},"unopened":[],"bounds":{"document_bytes":16777216,"sheet_cells":100000,"rows_first":2000,"rows_last":500,"rows_between":2000,"halvings":0,"cell_chars":16384,"cell_head_chars":4096},"cells_cut":0,"cells_raw":0,"read":"whole","date_system":"1900"}

{"sheet":"Zmeny","index":0,"n_rows":6,"n_cols":3,"rows_kept":6,"cut":false,"hidden":false,"merged":[[0,1,0,2]]}
[null,"Změna"]
["Datum","Rev","Popis"]
["2023-12-17","00","První draft"]
["2024-01-10","01","Vezrze schválená Plachtařskou komisí AeČR"]
["2024-01-19","02","Doplněn Alpe Adria Cup 2023, oprava roků narození"]
["2024-02-08","03","Oprava chyby s velkými písmeny v názvu pilota"]

{"sheet":"Soutez","index":1,"n_rows":132,"n_cols":15,"rows_kept":132,"cut":false,"hidden":false,"merged":[]}
["Soutěž","Stát","Rok","Místo","Termín","Poč. disc.","Poč. pilotů","Ki","Kn1","Kn2","Kp","Kinp","dKinp","Poznámka","Results"]
["Zařazené soutěže 2021:"]
["JPJ 2021 - Klub","CZ",2021,"Šumperk","24.7.-31.7.21",5,38,0.9,0,0,{"$f":"VLOOKUP(F3,Kp!$A$4:$B$24,2,FALSE)","v":5.0000000000000001E-3},{"$f":"IF(H3=0,0,IF(OR(F3=0,F3=1,F3=2),0,IF(G3<10,0,SUM(H3:K3))))","v":0.90500000000000003},{"$f":"L3-H3","v":5.0000000000000044E-3},null,"https://www.soaringspot.com/cs/jpj2021/results/klubova-trida"]
["JPJ 2021 - Kombi","CZ",2021,"Šumperk","24.7.-31.7.21",5,25,0.9,0,0,{"$f":"VLOOKUP(F4,Kp!$A$4:$B$24,2,FALSE)","v":5.0000000000000001E-3},0.90500000000000003,5.0000000000000044E-3,null,"https://www.soaringspot.com/cs/jpj2021/results/kombi-trida"]
["PMČR 2021 - Klub","CZ",2021,"Tábor","22.5.-5.6.21",8,16,1,0.02,0.01,{"$f":"VLOOKUP(F5,Kp!$A$4:$B$24,2,FALSE)","v":0.02},1.05,{"$f":"L5-H5","v":5.0000000000000044E-2},null,"https://www.soaringspot.com/cs/pmcr-pre-jwgc2022-tabor-2021/results/club"]
["PMČR 2021 - Kombi 15m","CZ",2021,"Tábor","22.5.-5.6.21",7,16,1,2.5000000000000001E-2,0.02,{"$f":"VLOOKUP(F6,Kp!$A$4:$B$24,2,FALSE)","v":1.4999999999999999E-2},1.0599999999999998,{"$f":"L6-H6","v":5.9999999999999831E-2},null,"https://www.soaringspot.com/cs/pmcr-pre-jwgc2022-tabor-2021/results/15m-mixed"]
["PMČR 2021 - Kombi Open","CZ",2021,"Tábor","22.5.-5.6.21",7,19,1,0.04,0,{"$f":"VLOOKUP(F7,Kp!$A$4:$B$24,2,FALSE)","v":1.4999999999999999E-2},1.0549999999999999,{"$f":"L7-H7","v":5.4999999999999938E-2},null,"https://www.soaringspot.com/cs/pmcr-pre-jwgc2022-tabor-2021/results/open-mixed"]
["PMRg 2021 - Klub","CZ",2021,"Moravská Třebová","1.8.-15.8.21",8,26,0.9,0.02,0,{"$f":"VLOOKUP(F8,Kp!$A$4:$B$24,2,FALSE)","v":0.02},0.94000000000000006,{"$f":"L8-H8","v":4.0000000000000036E-2},null,"https://www.soaringspot.com/cs/plachtarske-mistrovstvi-regionu-2021-moravska-trebova-2021/results/club"]
["PMRg 2021 - Kombi","CZ",2021,"Moravská Třebová","1.8.-15.8.21",8,13,0.9,0.01,0,{"$f":"VLOOKUP(F9,Kp!$A$4:$B$24,2,FALSE)","v":0.02},0.93,3.0000000000000027E-2,null,"https://www.soaringspot.com/cs/plachtarske-mistrovstvi-regionu-2021-moravska-trebova-2021/results/kombi"]
["PMČRj 2021 - Klub","CZ",2021,"Moravská Třebová","1.8.-15.8.21",7,29,0.9,0,0,{"$f":"VLOOKUP(F10,Kp!$A$4:$B$24,2,FALSE)","v":1.4999999999999999E-2},0.91500000000000004,{"$f":"L10-H10","v":1.5000000000000013E-2},null,"https://www.soaringspot.com/cs/plachtarske-mistrovstvi-cr-junioru-moravska-trebova-2021/results/club"]
["GGP MB 2021 - Gradient GP","CZ",2021,"Mladá Boleslav","21.8.-28.8.21",3,9,0.75,0,0,{"$f":"VLOOKUP(F11,Kp!$A$4:$B$24,2,FALSE)","v":-0.02},0,{"$f":"L11-H11","v":-0.75},"Méně jak 10 soutěžících ve třídě","https://www.soaringspot.com/cs/ggp2021/results/standard"]
["GGP MB 2021 - Klub GP","CZ",2021,"Mladá Boleslav","21.8.-28.8.221",3,17,0.9,0,0,{"$f":"VLOOKUP(F12,Kp!$A$4:$B$24,2,FALSE)","v":-0.02},0.88,-2.0000000000000018E-2,null,"https://www.soaringspot.com/cs/ggp2021/results/club-gp"]
["GGP MB 2021 - Pohár MV - Kombi","CZ",2021,"Mladá Boleslav","21.8.-28.8.221",3,11,0.9,0.01,0,{"$f":"VLOOKUP(F13,Kp!$A$4:$B$24,2,FALSE)","v":-0.02},0.89,{"$f":"L13-H13","v":-1.0000000000000009E-2},null,"https://www.soaringspot.com/cs/ggp2021/results/pohar-metodeje-vlach"]
["Rakovnická Dlaždice 2021 - Kombi","CZ",2021,"Rakovník","14.8.-22.8.21",2,12,0.75,0,0,{"$f":"VLOOKUP(F14,Kp!$A$4:$B$24,2,FALSE)","v":0},0,{"$f":"L14-H14","v":-0.75},"Méně jak 3 platné disciplíny","https://www.soaringspot.com/cs/rakovnicka-dlazdice-rd2021-rakovnik-2021/results/kombi"]
["HOP 2021 - Klub","CZ",2021,"Hronov","7.8.-14.8.21",6,26,0.75,5.0000000000000001E-3,0,{"$f":"VLOOKUP(F15,Kp!$A$4:$B$24,2,FALSE)","v":0.01},0.76500000000000001,{"$f":"L15-H15","v":1.5000000000000013E-2},null,"https://www.soaringspot.com/cs/20-hop-2021-velke-porici-2021/results/klub-hop"]
["HOP 2021 - Kombi","CZ",2021,"Hronov","7.8.-14.8.21",6,17,0.75,0,0,{"$f":"VLOOKUP(F16,Kp!$A$4:$B$24,2,FALSE)","v":0.01},0.76,1.0000000000000009E-2,null,"https://www.soaringspot.com/cs/20-hop-2021-velke-porici-2021/results/kombi-ppf"]
["Pohár Českého Ráje 2021 - Kombi","CZ",2021,"Jičín","31.7.-7.8.21",3,12,0.75,0,0,{"$f":"VLOOKUP(F17,Kp!$A$4:$B$24,2,FALSE)","v":-0.02},0.73,{"$f":"L17-H17","v":-2.0000000000000018E-2},null,"https://www.soaringspot.com/cs/http-wwwletistejicininfo-news-pagephpid-315/results/kombi"]
["Ranský pohár 2021 - Kombi","CZ",2021,"Raná","24.7.-1.8.21",4,19,0.75,0,0,{"$f":"VLOOKUP(F18,Kp!$A$4:$B$24,2,FALSE)","v":0},0.75,0,null,"https://www.soaringspot.com/cs/ransky-pohar-2021-rana-loumy-2021/results/combi"]
["Cirrus GP 2021 - Std. Cirrus","CZ",2021,"Křižanov","24.7.-30.7.21",5,14,0.75,5.0000000000000001E-3,0,{"$f":"VLOOKUP(F19,Kp!$A$4:$B$24,2,FALSE)","v":5.0000000000000001E-3},0.76,1.0000000000000009E-2,null,"https://www.soaringspot.com/cs/cgp2021/results/club"]
["WGC 2021 - Klub","FR",2021,"Montlucon","8.8.-20.8.21",9,36,1,0.05,0.03,{"$f":"VLOOKUP(F20,Kp!$A$4:$B$24,2,FALSE)","v":2.5000000000000001E-2},1.105,0.10499999999999998,null,"https://www.soaringspot.com/cs/wgc2021-club-std-15m-montlucon-gueret-2021/results/club"]
["WGC 2021 - Std","FR",2021,"Montlucon","8.8.-20.8.21",8,30,1,3.5000000000000003E-2,0.03,{"$f":"VLOOKUP(F21,Kp!$A$4:$B$24,2,FALSE)","v":0.02},1.085,8.4999999999999964E-2,null,"https://www.soaringspot.com/cs/wgc2021-club-std-15m-montlucon-gueret-2021/results/standard"]
["WGC 2021 - 15m","FR",2021,"Montlucon","8.8.-20.8.21",8,29,1,3.5000000000000003E-2,0.02,{"$f":"VLOOKUP(F22,Kp!$A$4:$B$24,2,FALSE)","v":0.02},1.075,7.4999999999999956E-2,null,"https://www.soaringspot.com/cs/wgc2021-club-std-15m-montlucon-gueret-2021/results/15-meter"]
["FCC 2021 - Klub","SK",2021,"Prievidza","1.8.-13.8.21",10,10,0.9,5.0000000000000001E-3,0,{"$f":"VLOOKUP(F23,Kp!$A$4:$B$24,2,FALSE)","v":0.03},0.93500000000000005,3.5000000000000031E-2,null,"https://www.soaringspot.com/cs/fcc-gliding-2021-prievidza-2021/results/club"]
["FCC 2021 - Kombi 15m","SK",2021,"Prievidza","1.8.-13.8.21",10,10,0.9,1.4999999999999999E-2,0,{"$f":"VLOOKUP(F24,Kp!$A$4:$B$24,2,FALSE)","v":0.03},0.94500000000000006,4.500000000000004E-2,null,"https://www.soaringspot.com/cs/fcc-gliding-2021-prievidza-2021/results/15-m"]
["FCC 2021 - Kombi Open","SK",2021,"Prievidza","1.8.-13.8.21",10,18,0.9,1.4999999999999999E-2,0,{"$f":"VLOOKUP(F25,Kp!$A$4:$B$24,2,FALSE)","v":0.03},0.94500000000000006,4.500000000000004E-2,null,"https://www.soaringspot.com/cs/fcc-gliding-2021-prievidza-2021/results/combi"]
["Oldtimer Pribina Star 2021 - Klub","SK",2021,"Nitra","7.8.-13.8.21",4,22,0.75,0,0,{"$f":"VLOOKUP(F26,Kp!$A$4:$B$24,2,FALSE)","v":0},0.75,0,null,"https://www.soaringspot.com/cs/oldtimer-pribina-star-2021-nitra-2021/results/unknown"]
["PMSR 2021 - Klub","SK",2021,"Nitra","20.6.-2.7.21",12,22,0.9,1.4999999999999999E-2,0,{"$f":"VLOOKUP(F27,Kp!$A$4:$B$24,2,FALSE)","v":0.03},0.94500000000000006,4.500000000000004E-2,null,"https://www.soaringspot.com/cs/slovak-gliding-championship-2021-nitra-2021/results/club"]
["PMSR 2021 - Kombi 15m","SK",2021,"Nitra","20.6.-2.7.21",12,22,0.9,1.4999999999999999E-2,0.02,{"$f":"VLOOKUP(F28,Kp!$A$4:$B$24,2,FALSE)","v":0.03},0.96500000000000008,6.5000000000000058E-2,null,"https://www.soaringspot.com/cs/slovak-gliding-championship-2021-nitra-2021/results/15-meter"]
["PMSR 2021 - Kombi Open","SK",2021,"Nitra","20.6.-2.7.21",12,22,0.9,0.02,0,{"$f":"VLOOKUP(F29,Kp!$A$4:$B$24,2,FALSE)","v":0.03},0.95000000000000007,5.0000000000000044E-2,null,"https://www.soaringspot.com/cs/slovak-gliding-championship-2021-nitra-2021/results/combi"]
["JWGC 2021 - Klub","LT",2021,"Pociunai","11.7.-23.7.21",7,27,1,1.4999999999999999E-2,0.01,{"$f":"VLOOKUP(F30,Kp!$A$4:$B$24,2,FALSE)","v":1.4999999999999999E-2},{"$f":"IF(H30=0,0,IF(OR(F30=0,F30=1,F30=2),0,IF(G30<10,0,SUM(H30:K30))))","v":1.0399999999999998},3.9999999999999813E-2,null,"https://www.soaringspot.com/cs/jegc2021/results/club"]
["JWGC 2021 - Std","LT",2021,"Pociunai","11.7.-23.7.21",6,17,1,0.01,0.01,{"$f":"VLOOKUP(F31,Kp!$A$4:$B$24,2,FALSE)","v":0.01},1.03,3.0000000000000027E-2,null,"https://www.soaringspot.com/cs/jegc2021/results/standard"]
["WSGP Final 2021 - 18m GP","FR",2021,"Saint Auban","5.9.-11.9.21",6,20,1,0.03,0.03,{"$f":"VLOOKUP(F32,Kp!$A$4:$B$24,2,FALSE)","v":0.01},1.07,7.0000000000000062E-2,null,"https://www.soaringspot.com/cs/wsgp2021/results/grand-prix-world-fin"]
["Safari 2021 - Klub","CZ",2021,"Dvůr Králové","3.7.-17.7.21",4,33,0.75,0,0,{"$f":"VLOOKUP(F33,Kp!$A$4:$B$24,2,FALSE)","v":0},0.75,{"$f":"L33-H33","v":0},null,"https://www.soaringspot.com/cs/safari-cup-2021-dvur-kralove-nad-labem-2021/results/klubova"]
["Safari 2021 - Kombi","CZ",2021,"Dvůr Králové","3.7.-17.7.21",5,13,0.75,0,0,{"$f":"VLOOKUP(F34,Kp!$A$4:$B$24,2,FALSE)","v":5.0000000000000001E-3},0.755,5.0000000000000044E-3,null,"https://www.soaringspot.com/cs/safari-cup-2021-dvur-kralove-nad-labem-2021/results/volna"]
["Safari 2021 - Duo Klub","CZ",2021,"Dvůr Králové","3.7.-17.7.21",3,11,0.75,0,0,{"$f":"VLOOKUP(F35,Kp!$A$4:$B$24,2,FALSE)","v":-0.02},0.73,-2.0000000000000018E-2,null,"https://www.soaringspot.com/cs/safari-cup-2021-dvur-kralove-nad-labem-2021/results/dvousedadlovky"]
["Zařazené soutěže 2022:"]
["PMČR 2022 - Klub","CZ",2022,"Zbraslavice","22.5.-4.6.22",9,16,1,2.5000000000000001E-2,0,{"$f":"VLOOKUP(F37,Kp!$A$4:$B$24,2,FALSE)","v":2.5000000000000001E-2},{"$f":"IF(H37=0,0,IF(OR(F37=0,F37=1,F37=2),0,IF(G37<10,0,SUM(H37:K37))))","v":1.0499999999999998},{"$f":"L37-H37","v":4.9999999999999822E-2},null,"https://www.soaringspot.com/en_gb/plachtarske-mistrovstvi-ceske-republiky-2022-zbraslavice-2022/results/klub#"]
["PMČR 2022 - Kombi 15m","CZ",2022,"Zbraslavice","22.5.-4.6.22",8,13,1,0.02,0.02,{"$f":"VLOOKUP(F38,Kp!$A$4:$B$24,2,FALSE)","v":0.02},{"$f":"IF(H38=0,0,IF(OR(F38=0,F38=1,F38=2),0,IF(G38<10,0,SUM(H38:K38))))","v":1.06},6.0000000000000053E-2,null,"https://www.soaringspot.com/en_gb/plachtarske-mistrovstvi-ceske-republiky-2022-zbraslavice-2022/results/kombi-15#"]
["PMČR 2022 - Kombi Open","CZ",2022,"Zbraslavice","22.5.-4.6.22",7,19,1,0.05,0.01,{"$f":"VLOOKUP(F39,Kp!$A$4:$B$24,2,FALSE)","v":1.4999999999999999E-2},1.075,7.4999999999999956E-2,null,"https://www.soaringspot.com/en_gb/plachtarske-mistrovstvi-ceske-republiky-2022-zbraslavice-2022/results/kombi-open#"]
["JPJ 2022 - Klub","CZ",2022,"Šumperk","7.5.-14.5.22",5,39,0.9,0,0,{"$f":"VLOOKUP(F40,Kp!$A$4:$B$24,2,FALSE)","v":5.0000000000000001E-3},0.90500000000000003,5.0000000000000044E-3,null,"https://www.soaringspot.com/en_gb/jpj2022/results/klubova-trida#"]
["JPJ 2022 - Kombi","CZ",2022,"Šumperk","7.5.-14.5.22",5,20,0.9,5.0000000000000001E-3,0,{"$f":"VLOOKUP(F41,Kp!$A$4:$B$24,2,FALSE)","v":5.0000000000000001E-3},0.91,1.0000000000000009E-2,null,"https://www.soaringspot.com/en_gb/jpj2022/results/kombi-trida#"]
["PMRg 2022 - Klub","CZ",2022,"Hodkovice","14.8.-26.8.22",6,13,0.9,5.0000000000000001E-3,0,{"$f":"VLOOKUP(F42,Kp!$A$4:$B$24,2,FALSE)","v":0.01},0.91500000000000004,1.5000000000000013E-2,null,"https://www.soaringspot.com/en_gb/mistrovstvi-ceske-republiky-regionu-2022-hodkovice-2022/results/klubova-trida#"]
["PMRg 2022 - Kombi","CZ",2022,"Hodkovice","14.8.-26.8.22",6,11,0.9,0,0,{"$f":"VLOOKUP(F43,Kp!$A$4:$B$24,2,FALSE)","v":0.01},0.91,1.0000000000000009E-2,null,"https://www.soaringspot.com/en_gb/mistrovstvi-ceske-republiky-regionu-2022-hodkovice-2022/results/kombi-open#"]
["PMČRj 2022 - Klub","CZ",2022,"Hodkovice","3.7.-16.7.22",6,29,0.9,5.0000000000000001E-3,0,{"$f":"VLOOKUP(F44,Kp!$A$4:$B$24,2,FALSE)","v":0.01},0.91500000000000004,1.5000000000000013E-2,null,"https://www.soaringspot.com/en_gb/plachtarske-mistrovstvi-cr-junioru-hodkovice-nad-mohelkou-2022/results/klubova-trida#"]
["GGP MB 2022 - Klub GP","CZ",2022,"Mladá Boleslav","27.8.-3.9.22",5,15,0.9,"0.005",0,{"$f":"VLOOKUP(F45,Kp!$A$4:$B$24,2,FALSE)","v":5.0000000000000001E-3},0.90500000000000003,5.0000000000000044E-3,null,"https://www.soaringspot.com/en_gb/ggp2022/results/club-gp"]
["GGP MB 2022 - Pohár MV - Kombi","CZ",2022,"Mladá Boleslav","27.8.-3.9.22",5,11,0.9,0.01,0,{"$f":"VLOOKUP(F46,Kp!$A$4:$B$24,2,FALSE)","v":5.0000000000000001E-3},0.91500000000000004,1.5000000000000013E-2,null,"https://www.soaringspot.com/en_gb/ggp2022/results/pohar-metodeje-vlach#"]
["Rakovnická Dlaždice 2022 - Klub","CZ",2022,"Rakovník","6.8-14.8.22",6,14,0,0,0,{"$f":"VLOOKUP(F47,Kp!$A$4:$B$24,2,FALSE)","v":0.01},0,{"$f":"L47-H47","v":0},"Rozhodnutím PK AeČR","https://www.soaringspot.com/en_gb/rakovnicka-dlazdice-2022-rakovnik1-2022/results/open#"]
["HOP 2022 - Klub","CZ",2022,"Velké Poříčí","13.8.-20.8.22",4,23,0.75,5.0000000000000001E-3,0,{"$f":"VLOOKUP(F48,Kp!$A$4:$B$24,2,FALSE)","v":0},0.755,5.0000000000000044E-3,null,"https://www.soaringspot.com/en_gb/21-hop-2022-velke-porici-2022/results/klub-hop#"]
["HOP 2022 - Kombi","CZ",2022,"Velké Poříčí","13.8.-20.8.22",4,19,0.75,"0.005",0,{"$f":"VLOOKUP(F49,Kp!$A$4:$B$24,2,FALSE)","v":0},0.75,0,null,"https://www.soaringspot.com/en_gb/21-hop-2022-velke-porici-2022/results/kombi-ppf"]
["Pohár Českého Ráje 2022 - Klub","CZ",2022,"Jičín","23.7.-30.7.22",3,17,0,0,0,{"$f":"VLOOKUP(F50,Kp!$A$4:$B$24,2,FALSE)","v":-0.02},0,0,"Rozhodnutím PK AeČR","https://www.soaringspot.com/en_gb/pohar-ceskeho-raje-2022-jicin-2022/results/klub#"]
["Ranský pohár 2022 - Klub","CZ",2022,"Jičín","30.7.-6.8.22",6,21,0,0,0,{"$f":"VLOOKUP(F51,Kp!$A$4:$B$24,2,FALSE)","v":0.01},0,0,"Rozhodnutím PK AeČR","https://www.soaringspot.com/en_gb/ransky-pohar-2022-rana-loumy-2022/results/combi#"]
["Ranský pohár 2022 - Kombi","CZ",2022,"Raná","30.7.-6.8.22",6,7,0,0,0,{"$f":"VLOOKUP(F52,Kp!$A$4:$B$24,2,FALSE)","v":0.01},0,0,"Rozhodnutím PK AeČR, méně jak 10 soutěžících ve třídě","https://www.soaringspot.com/en_gb/ransky-pohar-2022-rana-loumy-2022/results/super-combi"]
["Safari 2022 - Duo","CZ",2022,"Dvůr Králové","2.7.-16.7.22",4,9,0,0,0,{"$f":"VLOOKUP(F53,Kp!$A$4:$B$24,2,FALSE)","v":0},0,{"$f":"L53-H53","v":0},"Rozhodnutím PK AeČR, méně jak 10 soutěžících ve třídě","https://www.soaringspot.com/en_gb/safari-cup-2022-dvur-kralove-nad-labem-2022/results/duo#"]
["Safari 2022 - Klub","CZ",2022,"Dvůr Králové","2.7.-16.7.22",5,26,0.75,0,0,{"$f":"VLOOKUP(F54,Kp!$A$4:$B$24,2,FALSE)","v":5.0000000000000001E-3},0.755,5.0000000000000044E-3,null,"https://www.soaringspot.com/en_gb/safari-cup-2022-dvur-kralove-nad-labem-2022/results/klub"]
["Safari 2022 - Kombi","CZ",2022,"Dvůr Králové","2.7.-16.7.22",5,10,0.75,0,0,{"$f":"VLOOKUP(F55,Kp!$A$4:$B$24,2,FALSE)","v":5.0000000000000001E-3},0.755,5.0000000000000044E-3,null,"https://www.soaringspot.com/en_gb/safari-cup-2022-dvur-kralove-nad-labem-2022/results/volna"]
["Toužim Cup 2022 - Klub","CZ",2022,"Toužim","9.7.-17.7.22",5,26,0.9,0.01,0,{"$f":"VLOOKUP(F56,Kp!$A$4:$B$24,2,FALSE)","v":5.0000000000000001E-3},0.91500000000000004,1.5000000000000013E-2,null,"https://www.soaringspot.com/en_gb/t-cup-2022-touzim-2022/results/club# "]
["Toužim Cup 2022 - Kombi","CZ",2022,"Toužim","9.7.-17.7.22",5,26,0.9,5.0000000000000001E-3,0,{"$f":"VLOOKUP(F57,Kp!$A$4:$B$24,2,FALSE)","v":5.0000000000000001E-3},0.91,1.0000000000000009E-2,null,"https://www.soaringspot.com/en_gb/t-cup-2022-touzim-2022/results/kombi"]
["FL 2022 - Kombi","CZ",2022,"Frýdlant n/Ostr.","1.7.-9.7.22",3,15,0.75,5.0000000000000001E-3,0,{"$f":"VLOOKUP(F58,Kp!$A$4:$B$24,2,FALSE)","v":-0.02},0.73499999999999999,-1.5000000000000013E-2,null,"https://www.soaringspot.com/en_gb/fl-2022-adrenalin-grand-prix-frydlant-2022/results/fl#"]
["Adrenalin GP 2022 - Klub GP","CZ",2022,"Frýdlant n/Ostr.","1.7.-9.7.22",4,12,0.9,0,0,{"$f":"VLOOKUP(F59,Kp!$A$4:$B$24,2,FALSE)","v":0},0.9,0,null,"https://www.soaringspot.com/en_gb/fl-2022-adrenalin-grand-prix-frydlant-2022/results/adrenalin-grand-prix"]
["Ulfův memoriál","CZ",2022,"Raná","21.5.-28.5.22",3,10,0,0,0,{"$f":"VLOOKUP(F60,Kp!$A$4:$B$24,2,FALSE)","v":-0.02},{"$f":"IF(H60=0,0,IF(OR(F60=0,F60=1,F60=2),0,IF(G60<10,0,SUM(H60:K60))))","v":0},0,"Rozhodnutím PK AeČR","https://www.soaringspot.com/en_gb/ulfuv-memorial-zavody-historickych-kluzaku-rana-loumy-2022/results/oldtimer"]
["Podbrdský pohár","CZ",2022,"Letkov","30.4.-7.5.22",4,20,0,0,0,{"$f":"VLOOKUP(F61,Kp!$A$4:$B$24,2,FALSE)","v":0},0,0,"Rozhodnutím PK AeČR","https://www.soaringspot.com/en_gb/pp2022/results/kombi#"]
["AZ Cup 2022 - Klub","CZ",2022,"Zbraslavice","22.4.-30.4.22",6,22,0.9,5.0000000000000001E-3,0,{"$f":"VLOOKUP(F62,Kp!$A$4:$B$24,2,FALSE)","v":0.01},0.91500000000000004,1.5000000000000013E-2,null,"https://www.soaringspot.com/en_gb/az-cup-2022-zbraslavice-2022/results/klub#"]
["AZ Cup 2022 - Kombi ","CZ",2022,"Zbraslavice","22.4.-30.4.22",6,24,0.9,3.5000000000000003E-2,0.01,{"$f":"VLOOKUP(F63,Kp!$A$4:$B$24,2,FALSE)","v":0.01},0.95500000000000007,5.5000000000000049E-2,null,"https://www.soaringspot.com/en_gb/az-cup-2022-zbraslavice-2022/results/kombi-a"]
["PPV 2022 - Klub","CZ",2022,"Havlíčkův Brod","23.7-30.7.22",3,37,0.9,5.0000000000000001E-3,0,{"$f":"VLOOKUP(F64,Kp!$A$4:$B$24,2,FALSE)","v":-0.02},0.88500000000000001,-1.5000000000000013E-2,null,"https://www.soaringspot.com/en_gb/ppv-2022-lkhb/results/klub#"]
["PPV 2022 - Kombi","CZ",2022,"Havlíčkův Brod","23.7-30.7.22",4,25,0.9,0.02,0,{"$f":"VLOOKUP(F65,Kp!$A$4:$B$24,2,FALSE)","v":0},0.92,2.0000000000000018E-2,null,"https://www.soaringspot.com/en_gb/ppv-2022-lkhb/results/kombi"]
["WGC 2022 - 18m","HU",2022,"Szeged","24.7.-5.8.22",10,42,1,0.05,0.01,{"$f":"VLOOKUP(F66,Kp!$A$4:$B$24,2,FALSE)","v":0.03},1.0900000000000001,{"$f":"L66-H66","v":9.000000000000008E-2},null,"https://www.soaringspot.com/en_gb/37th-fai-world-gliding-championships-2022-szeged-2022/results/18m#"]
["WGC 2022 - Open","HU",2022,"Szeged","24.7.-5.8.22",10,22,1,0.05,0.02,{"$f":"VLOOKUP(F67,Kp!$A$4:$B$24,2,FALSE)","v":0.03},1.1000000000000001,0.10000000000000009,null,"https://www.soaringspot.com/en_gb/37th-fai-world-gliding-championships-2022-szeged-2022/results/open#"]
["WGC 2022 - Duo 20m","HU",2022,"Szeged","24.7.-5.8.22",10,19,1,0.05,0.01,{"$f":"VLOOKUP(F68,Kp!$A$4:$B$24,2,FALSE)","v":0.03},1.0900000000000001,9.000000000000008E-2,null,"https://www.soaringspot.com/en_gb/37th-fai-world-gliding-championships-2022-szeged-2022/results/20m-multi-seat"]
["EGC 2022 - Klub","LT",2022,"Pociunai","3.7.-15.7.22",8,28,1,3.5000000000000003E-2,0.02,{"$f":"VLOOKUP(F69,Kp!$A$4:$B$24,2,FALSE)","v":0.02},1.075,7.4999999999999956E-2,null,"https://www.soaringspot.com/en_gb/21st-fai-european-gliding-championships-pociunai-2022/results/club#"]
["EGC 2022 - Std","LT",2022,"Pociunai","3.7.-15.7.22",7,28,1,4.4999999999999998E-2,0.03,{"$f":"VLOOKUP(F70,Kp!$A$4:$B$24,2,FALSE)","v":1.4999999999999999E-2},1.0899999999999999,8.9999999999999858E-2,null,"https://www.soaringspot.com/en_gb/21st-fai-european-gliding-championships-pociunai-2022/results/standard#"]
["EGC 2022 - 15m","LT",2022,"Pociunai","3.7.-15.7.22",8,26,1,0.02,0.02,{"$f":"VLOOKUP(F71,Kp!$A$4:$B$24,2,FALSE)","v":0.02},1.06,6.0000000000000053E-2,null,"https://www.soaringspot.com/en_gb/21st-fai-european-gliding-championships-pociunai-2022/results/15-meter#"]
["JWGC 2022 - Klub","CZ",2022,"Tabor","30.7.-12.8.22",10,45,1,1.4999999999999999E-2,0.03,{"$f":"VLOOKUP(F72,Kp!$A$4:$B$24,2,FALSE)","v":0.03},1.075,7.4999999999999956E-2,null,"https://www.soaringspot.com/en_gb/junior-world-gliding-championships-2022-tabor-2022/results/class-club#"]
["JWGC 2022 - Std","CZ",2022,"Tabor","30.7.-12.8.22",10,29,1,1.4999999999999999E-2,0.03,{"$f":"VLOOKUP(F73,Kp!$A$4:$B$24,2,FALSE)","v":0.03},1.075,7.4999999999999956E-2,null,"https://www.soaringspot.com/en_gb/junior-world-gliding-championships-2022-tabor-2022/results/class-standard#"]
["WWGC 2022 - Klub","UK",2022,"Husbands Bosworth","14.8.-26.8.22",6,18,1,0.01,0.02,{"$f":"VLOOKUP(F74,Kp!$A$4:$B$24,2,FALSE)","v":0.01},1.04,4.0000000000000036E-2,null,"https://www.soaringspot.com/en_gb/11th-fai-womens-world-gliding-championship-2022/results/club#"]
["WWGC 2022 - Std","UK",2022,"Husbands Bosworth","14.8.-26.8.22",8,13,1,5.0000000000000001E-3,0.01,{"$f":"VLOOKUP(F75,Kp!$A$4:$B$24,2,FALSE)","v":0.02},1.0349999999999999,3.499999999999992E-2,null,"https://www.soaringspot.com/en_gb/11th-fai-womens-world-gliding-championship-2022/results/standard#"]
["WWGC 2022 - 18m","UK",2022,"Husbands Bosworth","14.8.-26.8.22",8,12,1,5.0000000000000001E-3,0.03,{"$f":"VLOOKUP(F76,Kp!$A$4:$B$24,2,FALSE)","v":0.02},1.0549999999999999,5.4999999999999938E-2,null,"https://www.soaringspot.com/en_gb/11th-fai-womens-world-gliding-championship-2022/results/18-meter"]
["PMSR 2022 - Klub","SK",2022,"Martin","12.6.-26.6.22",11,16,0.9,5.0000000000000001E-3,0,{"$f":"VLOOKUP(F77,Kp!$A$4:$B$24,2,FALSE)","v":0.03},0.93500000000000005,3.5000000000000031E-2,null,"https://www.soaringspot.com/en_gb/65majstrovstva-sr-v-bezmotorovom-lietani-2022-martin-2022/results/klubova-trieda#"]
["PMSR 2022 - Kombi A+B","SK",2022,"Martin","12.6.-26.6.22",10,24,0.9,5.0000000000000001E-3,0,{"$f":"VLOOKUP(F78,Kp!$A$4:$B$24,2,FALSE)","v":0.03},0.93500000000000005,3.5000000000000031E-2,null,"https://www.soaringspot.com/en_gb/65majstrovstva-sr-v-bezmotorovom-lietani-2022-martin-2022/results/kombinovana-b-trieda#"]
["Oldtimer Pribina Star 2022 - Klub","SK",2022,"Nitra","6.8.-13.8.22",4,16,0.75,0,0,{"$f":"VLOOKUP(F79,Kp!$A$4:$B$24,2,FALSE)","v":0},0.75,0,null,"https://www.soaringspot.com/en_gb/oldtimer-pribina-star-2022-nitra-2022/results/club#"]
["Top Gun 2022 - Kombi","SK",2022,"Prievidza","6.8.-13.8.22",5,8,0.75,0,0,{"$f":"VLOOKUP(F80,Kp!$A$4:$B$24,2,FALSE)","v":5.0000000000000001E-3},0,-0.75,"Méně jak 10 soutěžících ve třídě","https://www.soaringspot.com/en_gb/top-gun-gliding-cup-2022-prievidza-2022/results/mixed#"]
["Fatraglide 2022 - Klub","SK",2022,"Martin","21.5.-28.5.22",6,16,0.75,0,0,{"$f":"VLOOKUP(F81,Kp!$A$4:$B$24,2,FALSE)","v":0.01},0.76,1.0000000000000009E-2,null,"https://www.soaringspot.com/en_gb/20-fatraglide-2022-martin-2022/results/club#"]
["Fatraglide 2022 - Kombi","SK",2022,"Martin","21.5.-28.5.22",6,10,0.75,5.0000000000000001E-3,0,{"$f":"VLOOKUP(F82,Kp!$A$4:$B$24,2,FALSE)","v":0.01},0.76500000000000001,1.5000000000000013E-2,null,"https://www.soaringspot.com/en_gb/20-fatraglide-2022-martin-2022/results/kombinovana-trieda#"]
["FCC 2022 - Klub","SK",2022,"Prievidza","24.4.-5.5.22",7,43,0.9,1.4999999999999999E-2,0.01,{"$f":"VLOOKUP(F83,Kp!$A$4:$B$24,2,FALSE)","v":1.4999999999999999E-2},0.94000000000000006,4.0000000000000036E-2,null,"https://www.soaringspot.com/en_gb/fcc-gliding-2022-prievidza-2022/results/club"]
["FCC 2022 - Kombi 15m","SK",2022,"Prievidza","24.4.-5.5.22",7,28,0.9,1.4999999999999999E-2,0.03,{"$f":"VLOOKUP(F84,Kp!$A$4:$B$24,2,FALSE)","v":1.4999999999999999E-2},0.96000000000000008,6.0000000000000053E-2,null,"https://www.soaringspot.com/en_gb/fcc-gliding-2022-prievidza-2022/results/15m#"]
["FCC 2022 - Kombi Open","SK",2022,"Prievidza","24.4.-5.5.22",7,45,0.9,0.03,0.02,{"$f":"VLOOKUP(F85,Kp!$A$4:$B$24,2,FALSE)","v":1.4999999999999999E-2},0.96500000000000008,6.5000000000000058E-2,null,"https://www.soaringspot.com/en_gb/fcc-gliding-2022-prievidza-2022/results/combi#"]
["Pribina Cup 2022 - Klub","SK",2022,"Nitra","15.4.-23.4.22",5,28,0.9,2.5000000000000001E-2,0.01,{"$f":"VLOOKUP(F86,Kp!$A$4:$B$24,2,FALSE)","v":5.0000000000000001E-3},0.94000000000000006,4.0000000000000036E-2,null,"https://www.soaringspot.com/en_gb/pribina-cup-2022-nitra-2022/results/club#"]
["Pribina Cup 2022 - Kombi 15m","SK",2022,"Nitra","15.4.-23.4.22",5,26,0.9,1.4999999999999999E-2,0.01,{"$f":"VLOOKUP(F87,Kp!$A$4:$B$24,2,FALSE)","v":5.0000000000000001E-3},0.93,3.0000000000000027E-2,null,"https://www.soaringspot.com/en_gb/pribina-cup-2022-nitra-2022/results/15-meter#"]
["Pribina Cup 2022 - Kombi Open","SK",2022,"Nitra","15.4.-23.4.22",5,46,0.9,4.4999999999999998E-2,0,{"$f":"VLOOKUP(F88,Kp!$A$4:$B$24,2,FALSE)","v":5.0000000000000001E-3},0.95000000000000007,5.0000000000000044E-2,null,"https://www.soaringspot.com/en_gb/pribina-cup-2022-nitra-2022/results/open#"]
["Flatland Cup 2022 - Klub","SK",2022,"Szeged","1.7.-9.7.22",6,33,0.9,0.03,0,{"$f":"VLOOKUP(F89,Kp!$A$4:$B$24,2,FALSE)","v":0.01},0.94000000000000006,{"$f":"L89-H89","v":4.0000000000000036E-2},null,"https://www.soaringspot.com/en_gb/xii-flatland-cup-szeged-2022/results/fai-club#"]
["Flatland Cup 2022 - Kombi Open","SK",2022,"Szeged","1.7.-9.7.22",7,22,0.9,0.03,0,{"$f":"VLOOKUP(F90,Kp!$A$4:$B$24,2,FALSE)","v":1.4999999999999999E-2},0.94500000000000006,4.500000000000004E-2,null,"https://www.soaringspot.com/en_gb/xii-flatland-cup-szeged-2022/results/mixed-15m#"]
["SGP Sweden 2022 - 18m GP","SE",2022,"Boras","8.5.-14.5.22",3,15,0.9,5.0000000000000001E-3,0,{"$f":"VLOOKUP(F91,Kp!$A$4:$B$24,2,FALSE)","v":-0.02},0.88500000000000001,-1.5000000000000013E-2,null,"https://sweden22.sgp.aero/race-results"]
["Zařazené soutěže 2023:"]
["SGP Final 2023","IT",2023,"Pavullo","16.4.-27.4.23",4,19,1,3.5000000000000003E-2,0.03,{"$f":"VLOOKUP(F93,Kp!$A$4:$B$24,2,FALSE)","v":0},{"$f":"IF(H93=0,0,IF(OR(F93=0,F93=1,F93=2),0,IF(G93<10,0,SUM(H93:K93))))","v":1.0649999999999999},{"$f":"L93-H93","v":6.4999999999999947E-2},null,"https://sgpfinal23.sgp.aero/results"]
["FCC Gliding 2023 - Klub","SK",2023,"Prievidza","16.4.-27.4.23",7,21,0.9,0.01,0.01,{"$f":"VLOOKUP(F94,Kp!$A$4:$B$24,2,FALSE)","v":1.4999999999999999E-2},0.93500000000000005,3.5000000000000031E-2,null,"https://www.soaringspot.com/cs/fcc-gliding-2023-prievidza-2023/results/club"]
["FCC Gliding 2023 - Kombi 15m","SK",2023,"Prievidza","16.4.-27.4.23",7,31,0.9,0.05,0.02,{"$f":"VLOOKUP(F95,Kp!$A$4:$B$24,2,FALSE)","v":1.4999999999999999E-2},0.9850000000000001,8.5000000000000075E-2,null,"https://www.soaringspot.com/cs/fcc-gliding-2023-prievidza-2023/results/15m"]
["FCC Gliding 2023 - Kombi Open","SK",2023,"Prievidza","16.4.-27.4.23",7,39,0.9,0.02,0.02,{"$f":"VLOOKUP(F96,Kp!$A$4:$B$24,2,FALSE)","v":1.4999999999999999E-2},0.95500000000000007,5.5000000000000049E-2,null,"https://www.soaringspot.com/cs/fcc-gliding-2023-prievidza-2023/results/combi"]
["Fatraglide 2023 - Klub","SK",2023,"Martin","29.4.-6.5.23",4,19,0.75,5.0000000000000001E-3,0,{"$f":"VLOOKUP(F97,Kp!$A$4:$B$24,2,FALSE)","v":0},0.755,5.0000000000000044E-3,null,"https://www.soaringspot.com/cs/21-fatraglide-2023-martin-2023/results/klubova-trieda"]
["Fatraglide 2023 - Kombi","SK",2023,"Martin","29.4.-6.5.23",4,15,0.75,5.0000000000000001E-3,0,{"$f":"VLOOKUP(F98,Kp!$A$4:$B$24,2,FALSE)","v":0},0.755,5.0000000000000044E-3,null,"https://www.soaringspot.com/cs/21-fatraglide-2023-martin-2023/results/kombi-trieda"]
["AZ Cup 2023 - Klub","CZ",2023,"Zbraslavice","25.5.-3.6.23",9,27,0.9,0.02,0.01,{"$f":"VLOOKUP(F99,Kp!$A$4:$B$24,2,FALSE)","v":2.5000000000000001E-2},0.95500000000000007,5.5000000000000049E-2,null,"https://www.soaringspot.com/en_gb/azcup/results/klub"]
["AZ Cup 2023 - Kombi ","CZ",2023,"Zbraslavice","25.5.-3.6.23",9,32,0.9,4.4999999999999998E-2,0.03,{"$f":"VLOOKUP(F100,Kp!$A$4:$B$24,2,FALSE)","v":2.5000000000000001E-2},1,9.9999999999999978E-2,null,"https://www.soaringspot.com/en_gb/azcup/results/kombi"]
["FL 2023 - Kombi","CZ",2023,"Frýdlant n/Ostr.","30.6.-9.7.23",7,11,0.9,0,0,{"$f":"VLOOKUP(F101,Kp!$A$4:$B$24,2,FALSE)","v":1.4999999999999999E-2},0.91500000000000004,1.5000000000000013E-2,null,"https://www.soaringspot.com/cs/fl-2023-frydlant-2023/results/fl-kombi"]
["FL 2023 - Klub","CZ",2023,"Frýdlant n/Ostr.","30.6.-9.7.23",7,9,0,0,0,{"$f":"VLOOKUP(F102,Kp!$A$4:$B$24,2,FALSE)","v":1.4999999999999999E-2},0,0,null,"https://www.soaringspot.com/cs/fl-2023-frydlant-2023/results/fl-klub"]
["JPJ 2023 - Klub","CZ",2023,"Šumperk","6.5.-13.5.23",4,40,0.9,5.0000000000000001E-3,0,{"$f":"VLOOKUP(F103,Kp!$A$4:$B$24,2,FALSE)","v":0},0.90500000000000003,5.0000000000000044E-3,null,"https://www.soaringspot.com/cs/jpj2023/results/klubova-trida"]
["JPJ 2023 - Kombi","CZ",2023,"Šumperk","6.5.-13.5.23",4,19,0.9,5.0000000000000001E-3,0.01,{"$f":"VLOOKUP(F104,Kp!$A$4:$B$24,2,FALSE)","v":0},0.91500000000000004,1.5000000000000013E-2,null,"https://www.soaringspot.com/cs/jpj2023/results/kombi-trida"]
["PMRg 2023 - Klub","CZ",2023,"Hosín","1.7.-15.7.23",10,13,0.9,0,0,{"$f":"VLOOKUP(F105,Kp!$A$4:$B$24,2,FALSE)","v":0.03},0.93,3.0000000000000027E-2,null,"https://www.soaringspot.com/cs/plachtarske-mistrovstvi-regionu-cr-2023-hosin-2023/results/klub"]
["PMRg, PMČRj 2023 - Kombi","CZ",2023,"Hosín","1.7.-15.7.23",10,11,0.9,0.02,0,{"$f":"VLOOKUP(F106,Kp!$A$4:$B$24,2,FALSE)","v":0.03},0.95000000000000007,5.0000000000000044E-2,null,"https://www.soaringspot.com/cs/plachtarske-mistrovstvi-regionu-cr-2023-hosin-2023/results/kombi"]
["PMČRj 2023 - Klub","CZ",2023,"Hosín","1.7.-15.7.23",10,25,0.9,0.01,0,{"$f":"VLOOKUP(F107,Kp!$A$4:$B$24,2,FALSE)","v":0.03},0.94000000000000006,4.0000000000000036E-2,null,"https://www.soaringspot.com/en_gb/plachtarske-mistrovstvi-cr-junioru-2023-hosin-2023/results/klub"]
["WWGC 2023 - Klub","SP",2023,"Garray","2.7.-14.7.23",8,19,1,1.4999999999999999E-2,0.01,{"$f":"VLOOKUP(F108,Kp!$A$4:$B$24,2,FALSE)","v":0.02},1.0449999999999999,4.4999999999999929E-2,null,"https://www.soaringspot.com/cs/12th-fai-womens-world-gliding-championship-garray-2023/results/club"]
["WWGC 2023 - Std","SP",2023,"Garray","2.7.-14.7.23",10,16,1,1.4999999999999999E-2,0.01,{"$f":"VLOOKUP(F109,Kp!$A$4:$B$24,2,FALSE)","v":0.03},1.0549999999999999,5.4999999999999938E-2,null,"https://www.soaringspot.com/cs/12th-fai-womens-world-gliding-championship-garray-2023/results/standard"]
["WWGC 2023 - 18m","SP",2023,"Garray","2.7.-14.7.23",10,12,1,0.01,"0, 03",{"$f":"VLOOKUP(F110,Kp!$A$4:$B$24,2,FALSE)","v":0.03},1.04,4.0000000000000036E-2,null,"https://www.soaringspot.com/cs/12th-fai-womens-world-gliding-championship-garray-2023/results/18-meter"]
["Safari Cup 2023 - Klub","CZ",2023,"Dvůr Králové","2.7.-15.7.23",9,25,0.75,0,0,{"$f":"VLOOKUP(F111,Kp!$A$4:$B$24,2,FALSE)","v":2.5000000000000001E-2},{"$f":"IF(H111=0,0,IF(OR(F111=0,F111=1,F111=2),0,IF(G111<10,0,SUM(H111:K111))))","v":0.77500000000000002},{"$f":"L111-H111","v":2.5000000000000022E-2},null,"https://www.soaringspot.com/en_gb/safari-and-blanik-cup-dvur-kralove-nad-labem-2023/results/dvousedadlovky"]
["Safari Cup 2023 - Kombi","CZ",2023,"Dvůr Králové","2.7.-15.7.23",9,10,0.75,0,0,{"$f":"VLOOKUP(F112,Kp!$A$4:$B$24,2,FALSE)","v":2.5000000000000001E-2},{"$f":"IF(H112=0,0,IF(OR(F112=0,F112=1,F112=2),0,IF(G112<10,0,SUM(H112:K112))))","v":0.77500000000000002},{"$f":"L112-H112","v":2.5000000000000022E-2},null,"https://www.soaringspot.com/en_gb/safari-and-blanik-cup-dvur-kralove-nad-labem-2023/results/unknown"]
["Toužim Cup 2023 - Klub","CZ",2023,"Toužim","8.7.-16.7.23",6,18,0.9,5.0000000000000001E-3,0,{"$f":"VLOOKUP(F113,Kp!$A$4:$B$24,2,FALSE)","v":0.01},{"$f":"IF(H113=0,0,IF(OR(F113=0,F113=1,F113=2),0,IF(G113<10,0,SUM(H113:K113))))","v":0.91500000000000004},{"$f":"L113-H113","v":1.5000000000000013E-2},null,"https://www.soaringspot.com/en_gb/tcup2023/results/klub"]
["Toužim Cup 2023 - Kombi","CZ",2023,"Toužim","8.7.-16.7.23",6,26,0.9,1.4999999999999999E-2,0,{"$f":"VLOOKUP(F114,Kp!$A$4:$B$24,2,FALSE)","v":0.01},0.92500000000000004,2.5000000000000022E-2,null,"https://www.soaringspot.com/en_gb/tcup2023/results/kombi"]
["PMSR 2023 - Kombi Open","SK",2023,"Prievidza","9.7.-22.7.23",10,14,0.9,0.02,0,{"$f":"VLOOKUP(F115,Kp!$A$4:$B$24,2,FALSE)","v":0.03},{"$f":"IF(H115=0,0,IF(OR(F115=0,F115=1,F115=2),0,IF(G115<10,0,SUM(H115:K115))))","v":0.95000000000000007},{"$f":"L115-H115","v":5.0000000000000044E-2},null,"https://www.soaringspot.com/cs/slovak-gliding-nationals-pmsr-2023-prievidza-2023/results/kombi-b"]
["Cirrus GP 2023 - Klub","CZ",2023,"Křižanov","15.7.-22.7.23",5,12,0.75,0,0,{"$f":"VLOOKUP(F116,Kp!$A$4:$B$24,2,FALSE)","v":5.0000000000000001E-3},0.755,5.0000000000000044E-3,null,"https://www.soaringspot.com/en_gb/cgp2023/results/cirrus-grand-prix"]
["Cirrus GP 2023 - Kombi 15m","CZ",2023,"Křižanov","15.7.-22.7.23",4,9,0,0,0,{"$f":"VLOOKUP(F117,Kp!$A$4:$B$24,2,FALSE)","v":0},{"$f":"IF(H117=0,0,IF(OR(F117=0,F117=1,F117=2),0,IF(G117<10,0,SUM(H117:K117))))","v":0},{"$f":"L117-H117","v":0},null,"https://www.soaringspot.com/en_gb/cgp2023/results/15m-grand-prix"]
["PPV 2023 - Klub","CZ",2023,"Havlíčkův Brod","22.7-30.7.23",4,42,0.9,0,0,{"$f":"VLOOKUP(F118,Kp!$A$4:$B$24,2,FALSE)","v":0},0.9,0,null,"https://www.soaringspot.com/en_gb/ppv2023-lkhb/results/klub"]
["PPV 2023 - Kombi","CZ",2023,"Havlíčkův Brod","22.7-30.7.23",4,19,0.9,0.02,0,{"$f":"VLOOKUP(F119,Kp!$A$4:$B$24,2,FALSE)","v":0},0.92,2.0000000000000018E-2,null,"https://www.soaringspot.com/en_gb/ppv2023-lkhb/results/kombi"]
["EGC 2023 - 18m","PL",2023,"Leszno","26.7.-11.8.23",7,36,1,0.06,0.02,{"$f":"VLOOKUP(F120,Kp!$A$4:$B$24,2,FALSE)","v":1.4999999999999999E-2},1.095,9.4999999999999973E-2,null,"https://www.soaringspot.com/cs/egc2023/results/18m"]
["EGC 2023 - Open","PL",2023,"Leszno","26.7.-11.8.23",8,15,1,0.03,0.01,{"$f":"VLOOKUP(F121,Kp!$A$4:$B$24,2,FALSE)","v":0.02},{"$f":"IF(H121=0,0,IF(OR(F121=0,F121=1,F121=2),0,IF(G121<10,0,SUM(H121:K121))))","v":1.06},{"$f":"L121-H121","v":6.0000000000000053E-2},null,"https://www.soaringspot.com/cs/egc2023/results/open"]
["EGC 2023 - Duo 20m","PL",2023,"Leszno","26.7.-11.8.23",8,22,1,3.5000000000000003E-2,0.03,{"$f":"VLOOKUP(F122,Kp!$A$4:$B$24,2,FALSE)","v":0.02},1.085,8.4999999999999964E-2,null,"https://www.soaringspot.com/cs/egc2023/results/20m-multi-seat"]
["JEGC 2023 - Klub","DK",2023,"Arnborg","29.7.-12.8.23",4,36,1,0.01,0.01,{"$f":"VLOOKUP(F123,Kp!$A$4:$B$24,2,FALSE)","v":0},1.02,2.0000000000000018E-2,null,"https://www.soaringspot.com/cs/6th-fai-junior-european-gliding-championship-2023/results/club"]
["JEGC 2023 - Std","DK",2023,"Arnborg","29.7.-12.8.23",4,20,1,0,0.02,{"$f":"VLOOKUP(F124,Kp!$A$4:$B$24,2,FALSE)","v":0},1.02,2.0000000000000018E-2,null,"https://www.soaringspot.com/cs/6th-fai-junior-european-gliding-championship-2023/results/standard"]
["PMČR 2023 - Klub","CZ",2023,"Moravská Třebová","14.8.-25.8.23",9,16,1,1.4999999999999999E-2,0.01,{"$f":"VLOOKUP(F125,Kp!$A$4:$B$24,2,FALSE)","v":2.5000000000000001E-2},1.0499999999999998,4.9999999999999822E-2,null,"https://www.soaringspot.com/en_gb/plachtarske-mistrovstvi-cr-2023-moravska-trebova-2023/results/klubova-trida"]
["PMČR 2023 - Kombi 15m","CZ",2023,"Moravská Třebová","14.8.-25.8.23",9,10,1,0.02,0,{"$f":"VLOOKUP(F126,Kp!$A$4:$B$24,2,FALSE)","v":2.5000000000000001E-2},1.0449999999999999,4.4999999999999929E-2,null,"https://www.soaringspot.com/en_gb/plachtarske-mistrovstvi-cr-2023-moravska-trebova-2023/results/kombi-15m"]
["PMČR 2023 - Kombi Open","CZ",2023,"Moravská Třebová","14.8.-25.8.23",9,11,1,2.5000000000000001E-2,0.01,{"$f":"VLOOKUP(F127,Kp!$A$4:$B$24,2,FALSE)","v":2.5000000000000001E-2},1.0599999999999998,5.9999999999999831E-2,null,"https://www.soaringspot.com/en_gb/plachtarske-mistrovstvi-cr-2023-moravska-trebova-2023/results/kombi-open"]
["WGC 2023 - Klub","AU",2023,"Narromine","2.12.-17.12.23",10,30,1,0.05,0.03,{"$f":"VLOOKUP(F128,Kp!$A$4:$B$24,2,FALSE)","v":0.03},1.1100000000000001,0.1100000000000001,null,"https://www.soaringspot.com/cs/37th-fai-world-gliding-championships-narromine-2023/results/club"]
["WGC 2023 - Std","AU",2023,"Narromine","2.12.-17.12.23",10,21,1,4.4999999999999998E-2,0.03,{"$f":"VLOOKUP(F129,Kp!$A$4:$B$24,2,FALSE)","v":0.03},1.105,0.10499999999999998,null,"https://www.soaringspot.com/cs/37th-fai-world-gliding-championships-narromine-2023/results/standard"]
["WGC 2023 - 15m","AU",2023,"Narromine","2.12.-17.12.23",10,27,1,6.5000000000000002E-2,0.03,{"$f":"VLOOKUP(F130,Kp!$A$4:$B$24,2,FALSE)","v":0.03},1.125,0.125,null,"https://www.soaringspot.com/cs/37th-fai-world-gliding-championships-narromine-2023/results/15m"]
["Alpe Adria Cup 2023 - 113","AT",2023,"Feldkirchen","10.6.-17.6.23",5,17,0.75,0,0,{"$f":"VLOOKUP(F131,Kp!$A$4:$B$24,2,FALSE)","v":5.0000000000000001E-3},{"$f":"IF(H131=0,0,IF(OR(F131=0,F131=1,F131=2),0,IF(G131<10,0,SUM(H131:K131))))","v":0.755},{"$f":"L131-H131","v":5.0000000000000044E-3},null,"https://www.soaringspot.com/en_gb/aac2023/results/113er"]
["Alpe Adria Cup 2023 - Kombi Open","AT",2023,"Feldkirchen","10.6.-17.6.23",5,24,0.75,0,0,{"$f":"VLOOKUP(F132,Kp!$A$4:$B$24,2,FALSE)","v":5.0000000000000001E-3},{"$f":"IF(H132=0,0,IF(OR(F132=0,F132=1,F132=2),0,IF(G132<10,0,SUM(H132:K132))))","v":0.755},{"$f":"L132-H132","v":5.0000000000000044E-3},null,"https://www.soaringspot.com/en_gb/aac2023/results/offene"]

{"sheet":"Kp","index":2,"n_rows":24,"n_cols":2,"rows_kept":24,"cut":false,"hidden":true,"merged":[]}
["Korekce na počet platných disciplín"]
[]
["Počet platných disciplín","Korekce Kp"]
[0,0]
[1,0]
[2,0]
[3,-0.02]
[4,0]
[5,5.0000000000000001E-3]
[6,0.01]
[7,1.4999999999999999E-2]
[8,0.02]
[9,2.5000000000000001E-2]
[10,0.03]
[11,0.03]
[12,0.03]
[13,0.03]
[14,0.03]
[15,0.03]
[16,0.03]
[17,0.03]
[18,0.03]
[19,0.03]
[20,0.03]

{"sheet":"Pilot","index":3,"n_rows":1025,"n_cols":17,"rows_kept":1025,"cut":false,"hidden":false,"merged":[]}
["Jmeno","Rok nar.","Aeroklub","Region","M/F","Junior v roce",2024,"Hranice pro juniory:\n/ Poznámka:",{"$f":"G1-25","v":1999},"Počet Jun:",{"$f":"COUNTIF(F2:F2191,\"Junior v roce \"&G1)","v":67},"Počet F:",{"$f":"COUNTIF(E2:E2191,\"F\")","v":76},"Počet M:",{"$f":"COUNTIF(E2:E2191,\"M\")","v":947},"Počet celk:",{"$f":"COUNTIF(A2:A2191,\"<>\")","v":1024}]
["-"," "," ","Region"," "," "]
["Adam Hepal",2004,"Moravská Třebová",{"$f":"VLOOKUP(C3,Region,2,0)","v":"CZ/M"},"M",{"$f":"IF(A3=\"(prázdné)\",\"\",IF(($G$1-B3)>25,\"\",\"Junior v roce \"&$G$1))","v":"Junior v roce 2024"},null,"Kolín do 2022"]
["Adam Jandora",1992,"Medlánky",{"$f":"VLOOKUP(C4,Region,2,0)","v":"CZ/M"},"M",{"$f":"IF(A4=\"(prázdné)\",\"\",IF(($G$1-B4)>25,\"\",\"Junior v roce \"&$G$1))","v":""}]
["Adam Olejar",1991,"Medlánky","CZ/M","M",{"$f":"IF(A5=\"(prázdné)\",\"\",IF(($G$1-B5)>25,\"\",\"Junior v roce \"&$G$1))","v":""}]
["Adam Pergner",2002,"Rakovník",{"$f":"VLOOKUP(C6,Region,2,0)","v":"CZ/C1"},"M",{"$f":"IF(A6=\"(prázdné)\",\"\",IF(($G$1-B6)>25,\"\",\"Junior v roce \"&$G$1))","v":"Junior v roce 2024"}]
["Adam Sostaric",1991,"Chrudim","CZ/C2","M",""]
["Adam Sugl",1987,"Vyškov","CZ/M","M",""]
["Albert Schneider",1967,"Hranice",{"$f":"VLOOKUP(C9,Region,2,0)","v":"CZ/M"},"M",""]
["Albrecht Beat",1953,"Šumperk","CZ/M","M",""]
["Alena Netusilova",1970,"Zbraslavice","CZ/C1","F",""]
["Ales Cervenka",1981,"Soběslav","CZ/C1","M",""]
["Ales Hajek",1958,"Mladá Boleslav","CZ/C1","M",""]
["Ales Hala",1994,"Tábor","CZ/C1","M",""]
["Ales Holoubek",1966,"Jičín","CZ/C2","M",""]
["Ales Tresl",1958,"Raná","CZ/C2","M",""]
["Ales Vorac",1985,"Křižanov","CZ/M","M",""]
["Ales Vyhnal",1989,"Kralupy","CZ/C1","M",""]
["Alex Gulich",2005,"Slaný",{"$f":"VLOOKUP(C19,Region,2,0)","v":"CZ/C1"},"M","Junior v roce 2024"]
["Alexander Nerandzic",1966,"Raná","CZ/C2","M",""]
["Alois Cmajdalka",1963,"Kunovice","CZ/M","M",""]
["Alois Sohr",1939,"Hranice","CZ/M","M",""]
["Andrea Bensova",1978,"Zbraslavice","CZ/C1","F",""]
["Aneta Prachtova",1991,"Kralupy","CZ/C1","F",""]
["Anna Bordovska",1989,"Mladá Boleslav","CZ/C1","F",""]
["Antonin Bordovsky",1951,"Krnov","CZ/M","M",""]
["Antonin Bruna",1945,"GAC Benešov","CZ/C1","M",""]
["Antonin Burger",1943,"Panenský Týnec","CZ/C1","M",""]
["Antonin Konicek",1973,"Kunovice","CZ/M","M",""]
["Antonin Kutalek",1943,"Zábřeh","CZ/M","M",""]
["Antonin Novotny",1972,"Luhačovice","CZ/M","M",""]
["Antonin Otrusina",1948,"Křižanov","CZ/M","M",""]
["Antonin Pilat",1971,"Vyškov","CZ/M","M",""]
["Antonin Teichmann",1965,"Hronov","CZ/C2","M",""]
["Barbora Kubickova",1993,"Medlánky","CZ/M","F",""]
["Barbora Moravcova",1994,"Zbraslavice","CZ/C1","F",""]
["Barbora Nahodilova",1989,"Hosín","CZ/C1","F",""]
["Bedrich Honzicek",1972,"Letňany",{"$f":"VLOOKUP(C38,Region,2,0)","v":"CZ/C1"},"M",""]
["Bedrich Prochazka",1957,"Rakovník","CZ/C1","M",""]
["Bohdan Sebestik",1957,"Kroměříž","CZ/M","M",""]
["Bohumil Kunc",1983,"Kunovice","CZ/M","M",""]
["Bohumil Rikal",1946,"Hronov","CZ/C2","M",""]
["Bohumil Svec",1985,"Roudnice","CZ/C2","M",""]
["Bohumir Zajdl",1950,"Dvůr Králové","CZ/C2","M",""]
["Bohus Marcinik",1947,"Příbram","CZ/C1","M",""]
["Boris Bachraty",1974,"Kyjov","CZ/M","M","",null,"Dříve Břeclav"]
["Bronislav Smatana",1970,"Zbraslavice","CZ/C1","M",""]
["Carsten Tietz",1966,"Hronov",{"$f":"VLOOKUP(C48,Region,2,0)","v":"CZ/C2"},"M",""]
["Christof Madoery",1958,"Šumperk",{"$f":"VLOOKUP(C49,Region,2,0)","v":"CZ/M"},"M",""]
["Dalibor Daricek",1993,"Kunovice","CZ/M","M",""]
["Dalibor Fencl",1966,"Zbraslavice","CZ/C1","M",""]
["Dalibor Pek",1968,"Raná","CZ/C2","M",""]
["Dana Novakova",1965,"Mladá Boleslav","CZ/C1","F",""]
["Danes Grula",1961,"Medlánky","CZ/M","M",""]
["Daniel Adamec",1977,"Hranice","CZ/M","M",""]
["Daniel Brichta",1962,"GAC Benešov",{"$f":"VLOOKUP(C56,Region,2,0)","v":"CZ/C1"},"M",""]
["Daniel Devecka",1981,"Vlašim",{"$f":"VLOOKUP(C57,Region,2,0)","v":"CZ/C1"},"M",{"$f":"IF(A57=\"(prázdné)\",\"\",IF(($G$1-B57)>25,\"\",\"Junior v roce \"&$G$1))","v":""}]
["Daniel Dvorak",1980,"Letkov","CZ/C1","M",""]
["Daniel Krasnicky",1984,"Příbram","CZ/C1","M",""]
["Daniel Marek",1983,"Hosín",{"$f":"VLOOKUP(C60,Region,2,0)","v":"CZ/C1"},"M",""]
["Daniel Moravek",1973,"Hodkovice","CZ/C2","M",""]
["Daniel Novak",1971,"Letkov","CZ/C1","M",""]
["Daniel Ryba",1994,"Dvůr Králové","CZ/C2","M",""]
["Daniel Suchy",1995,"Hranice","CZ/M","M",""]
["Daniela Frankova",1997,"Jaroměř","CZ/C2","M",""]
["Daniela Stepankova",1988,"Hosín","CZ/C1","F",""]
["David Benda",1974,"Letňany",{"$f":"VLOOKUP(C67,Region,2,0)","v":"CZ/C1"},"M",{"$f":"IF(A67=\"(prázdné)\",\"\",IF(($G$1-B67)>25,\"\",\"Junior v roce \"&$G$1))","v":""}]
["David Cisar",1987,"Křižanov","CZ/M","M",""]
["David Darnady",1987,"Zbraslavice",{"$f":"VLOOKUP(C69,Region,2,0)","v":"CZ/C1"},"M",{"$f":"IF(A69=\"(prázdné)\",\"\",IF(($G$1-B69)>25,\"\",\"Junior v roce \"&$G$1))","v":""}]
["David Kaspar",1993,"Jaroměř",{"$f":"VLOOKUP(C70,Region,2,0)","v":"CZ/C2"},"M",""]
["David Krcil",1976,"Raná",{"$f":"VLOOKUP(C71,Region,2,0)","v":"CZ/C2"},"M",""]
["David Londa",1973,"Mladá Boleslav","CZ/C1","M",""]
["David Mach",1994,"Hronov","CZ/C2","M",""]
["David Marek",1991,"Křižanov","CZ/M","M",""]
["David Nenicka",2005,"Hranice",{"$f":"VLOOKUP(C75,Region,2,0)","v":"CZ/M"},"M",{"$f":"IF(A75=\"(prázdné)\",\"\",IF(($G$1-B75)>25,\"\",\"Junior v roce \"&$G$1))","v":"Junior v roce 2024"}]
["David Novotny",1984,"Polička","CZ/C2","M",""]
["David Popovsky",1976,"Rakovník","CZ/C1","M",{"$f":"IF(A77=\"(prázdné)\",\"\",IF(($G$1-B77)>25,\"\",\"Junior v roce \"&$G$1))","v":""}]
["David Prihoda",1994,"Hranice","CZ/M","M",""]
["David Rozporka",1994,"Hronov","CZ/C2","M",""]
["David Rytina",1983,"Zbraslavice","CZ/C1","M",""]
["David Riha",1983,"Vlašim","CZ/C1","M",""]
["David Sachl",1978,"Kralupy","CZ/C1","M",""]
["David Tejnora",1982,"Jaroměř","CZ/C2","M",""]
["David Trnecka",1979,"Medlánky","CZ/M","M",""]
["David Vrchota",1976,"Jaroměř",{"$f":"VLOOKUP(C85,Region,2,0)","v":"CZ/C2"},"M",""]
["David Zapletal",1970,"Mladá Boleslav","CZ/C1","M",""]
["David Zatecka",1993,"GAC Benešov",{"$f":"VLOOKUP(C87,Region,2,0)","v":"CZ/C1"},"M",""]
["Dusan Gadas",1960,"Hranice","CZ/M","M",""]
["Dusan Kmet",1972,"Křižanov","CZ/M","M",""]
["Dusan Patocka",1972,"Vrchlabí",{"$f":"VLOOKUP(C90,Region,2,0)","v":"CZ/C2"},"M",{"$f":"IF(A90=\"(prázdné)\",\"\",IF(($G$1-B90)>25,\"\",\"Junior v roce \"&$G$1))","v":""}]
["Dusan Sys",1977,"Šumperk","CZ/M","M",""]
["Dusan Zerzan",1970,"Šumperk","CZ/M","M",""]
["Eduard Niko",1988,"Zbraslavice",{"$f":"VLOOKUP(C93,Region,2,0)","v":"CZ/C1"},"M",{"$f":"IF(A93=\"(prázdné)\",\"\",IF(($G$1-B93)>25,\"\",\"Junior v roce \"&$G$1))","v":""}]
["Eduard Svoboda",1957,"Raná","CZ/C2","M",""]
["Eliska Bohunovska",2001,"Hranice",{"$f":"VLOOKUP(C95,Region,2,0)","v":"CZ/M"},"F","Junior v roce 2024"]
["Eliska Kudejova",2006,"Strakonice",{"$f":"VLOOKUP(C96,Region,2,0)","v":"CZ/C1"},"F",{"$f":"IF(A96=\"(prázdné)\",\"\",IF(($G$1-B96)>25,\"\",\"Junior v roce \"&$G$1))","v":"Junior v roce 2024"}]
["Eva Cerna",1964,"Příbram","CZ/C1","F",""]
["Eva Klapkova",1993,"Raná",{"$f":"VLOOKUP(C98,Region,2,0)","v":"CZ/C2"},"F",{"$f":"IF(A98=\"(prázdné)\",\"\",IF(($G$1-B98)>25,\"\",\"Junior v roce \"&$G$1))","v":""}]
["Evzen Skala",1954,"Vrchlabí","CZ/C2","M",""]
["Fabian Curda",2004,"Zábřeh",{"$f":"VLOOKUP(C100,Region,2,0)","v":"CZ/M"},"M","Junior v roce 2024"]
["Filip Borůvka",2004,"Nové Město nad Metují",{"$f":"VLOOKUP(C101,Region,2,0)","v":"CZ/C2"},"M",{"$f":"IF(A101=\"(prázdné)\",\"\",IF(($G$1-B101)>25,\"\",\"Junior v roce \"&$G$1))","v":"Junior v roce 2024"}]
["Filip Graf",1981,"Křižanov","CZ/M","M",""]
["Filip Malik",2001,"Letňany",{"$f":"VLOOKUP(C103,Region,2,0)","v":"CZ/C1"},"M","Junior v roce 2024"]
["Filip Mrstny",2006,"Beroun",{"$f":"VLOOKUP(C104,Region,2,0)","v":"CZ/C1"},"M","Junior v roce 2024"]
["Filip Neumann",1977,"GAC Benešov","CZ/C1","M",""]
["Filip Sklenar",1990,"Žamberk","CZ/C2","M",""]
["Filip sirc",1993,"Letňany","CZ/C1","M",""]
["Filip Vita",2001,"Kroměříž","CZ/M","M","Junior v roce 2024"]
["Frantisek Brozman",1960,"Tachov","CZ/C1","M",""]
["Frantisek Filandr",1956,"Most","CZ/C2","M",""]
["Frantisek Hubacek",1978,"Točná","CZ/C1","M",""]
["Frantisek Komarek",1985,"Zbraslavice","CZ/C1","M",""]
["Frantisek Kriz",1961,"Toužim","CZ/C1","M",""]
["Frantisek Marek",1960,"Křižanov","CZ/M","M",""]
["Frantisek Matousek",1937,"Nové Město nad Metují","CZ/C2","M",""]
["Frantisek Myska",1968,"Most","CZ/C2","M",""]
["Frantisek Pycha",1972,"Chrudim","CZ/C2","M",""]
["Frantisek Soucek",1945,"Dvůr Králové","CZ/C2","M",""]
["Frantisek Sindelar",1954,"Kralupy","CZ/C1","M",""]
["Frantisek Suna",1983,"Hosín",{"$f":"VLOOKUP(C120,Region,2,0)","v":"CZ/C1"},"M",""]
["Frantisek Vancura",1966,"Hranice","CZ/M","M",""]
["Gabriela Cervena",1966,"Jaroměř","CZ/C2","F",""]
["Gustav Vrbacky",1933,"Medlánky","CZ/M","M",""]
["Hana Treslova",1991,"Raná","CZ/C2","F",""]
["Hana Vokrinkova",1958,"Hodkovice","CZ/C2","F",""]
["Hynek Pokorny",1991,"Letňany","CZ/C1","M",""]
["Christof Madory",1958,"Šumperk","CZ/M","M",""]
["Ilja Kopacek",1943,"Jičín",{"$f":"VLOOKUP(C128,Region,2,0)","v":"CZ/C2"},"M",""]
["Ivan Filakovsky",1965,"Medlánky","CZ/M","M",""]
["Ivan Harasta 65",1965,"Toužim","CZ/C1","M",""]
["Ivan Harasta 98",1998,"Toužim","CZ/C1","M",""]
["Ivan Kuzelka",1945,"Havlíčkův Brod","CZ/C2","M",""]
["Ivan Ladr",1940,"Dvůr Králové","CZ/C2","M",""]
["Ivan Novak",1962,"Mladá Boleslav","CZ/C1","M",""]
["Ivan Tvrdik",1997,"Letňany","CZ/C1","M",""]
["Ivo Burda",1962,"Zbraslavice","CZ/C1","M",""]
["Ivo Nezval",1964,"Šumperk","CZ/M","M",""]
["Ivo Vudarcik",1994,"Rakovník","CZ/C1","M",""]
["Jacek Kerum",1943,"Příbram","CZ/C1","M",""]
["Jakub Brotanek",1985,"Roudnice","CZ/C2","M",""]
["Jakub Hlavacek",1991,"Letkov","CZ/C1","M",""]
["Jakub Kmosek",1978,"Zbraslavice","CZ/C1","M",""]
["Jakub Kohn",1992,"Prostějov","CZ/M","M",""]
["Jakub Koudelka",2000,"Křižanov",{"$f":"VLOOKUP(C144,Region,2,0)","v":"CZ/M"},"M","Junior v roce 2024"]
["Jakub Malik",1999,"Letňany","CZ/C1","M","Junior v roce 2024"]
["Jakub Michalicka",1993,"Rakovník","CZ/C1","M",""]
["Jakub Spanger",2002,"Jeseník",{"$f":"VLOOKUP(C147,Region,2,0)","v":"CZ/M"},"M","Junior v roce 2024"]
["Jakub Tiller",1987,"Broumov","CZ/C2","M",""]
["Jakub Vimr",1975,"GAC Benešov","CZ/C1","M",{"$f":"IF(A149=\"(prázdné)\",\"\",IF(($G$1-B149)>25,\"\",\"Junior v roce \"&$G$1))","v":""}]
["Jan Adam",2002,"Podhořany",{"$f":"VLOOKUP(C150,Region,2,0)","v":"CZ/C2"},"M","Junior v roce 2024"]
["Jan Bejdl",1978,"Zbraslavice",{"$f":"VLOOKUP(C151,Region,2,0)","v":"CZ/C1"},"M",""]
["Jan Belina",1979,"Hořice","CZ/C2","M",""]
["Jan Beran",1999,"Kladno",{"$f":"VLOOKUP(C153,Region,2,0)","v":"CZ/C1"},"M","Junior v roce 2024"]
["Jan Beranek",1976,"Jihlava","CZ/M","M",""]
["Jan Blaha",1983,"Kyjov",{"$f":"VLOOKUP(C155,Region,2,0)","v":"CZ/M"},"M",{"$f":"IF(A155=\"(prázdné)\",\"\",IF(($G$1-B155)>25,\"\",\"Junior v roce \"&$G$1))","v":""}]
["Jan Boruvka",1984,"Jičín","CZ/C2","M",""]
["Jan Camr",2002,"Jaroměř",{"$f":"VLOOKUP(C157,Region,2,0)","v":"CZ/C2"},"M","Junior v roce 2024"]
["Jan Cerveny",1984,"Jaroměř","CZ/C2","M",""]
["Jan Cibulka",2002,"Letňany",{"$f":"VLOOKUP(C159,Region,2,0)","v":"CZ/C1"},"M","Junior v roce 2024"]
["Jan Dersak 69",1969,"Kralupy","CZ/C1","M",""]
["Jan Dersak 92",1992,"Kralupy","CZ/C1","M",""]
["Jan Drahota",1988,"Rakovník","CZ/C1","M",""]
["Jan Drbohlav",1999,"Hodkovice",{"$f":"VLOOKUP(C163,Region,2,0)","v":"CZ/C2"},"M","Junior v roce 2024"]
["Jan Florian",1992,"Zbraslavice","CZ/C1","M",""]
["Jan Habermann",1975,"Vlašim",{"$f":"VLOOKUP(C165,Region,2,0)","v":"CZ/C1"},"M",""]
["Jan Hejret",1976,"Jaroměř","CZ/C2","M",""]
["Jan Heroudek",1970,"Rakovník",{"$f":"VLOOKUP(C167,Region,2,0)","v":"CZ/C1"},"M",""]
["Jan Hlavacek",1965,"Rakovník","CZ/C1","M",""]
["Jan Horak",1971,"Zbraslavice","CZ/C1","M",""]
["Jan Horky",1968,"Medlánky","CZ/M","M",""]
["Jan Hrbatsch",1989,"Hodkovice","CZ/C2","M",""]
["Jan Hruska",1988,"Tábor","CZ/C1","M",""]
["Jan Hybner",1977,"Liberec",{"$f":"VLOOKUP(C173,Region,2,0)","v":"CZ/C2"},"M",""]
["Jan Jicha",1984,"Podhořany","CZ/C2","M",""]
["Jan Jindra",1981,"Roudnice","CZ/C2","M",""]
["Jan Kantor",1983,"Letňany","CZ/C1","M",""]
["Jan Kapralek",1991,"Kladno","CZ/C1","M",""]
["Jan Karabec",2000,"Podhořany",{"$f":"VLOOKUP(C178,Region,2,0)","v":"CZ/C2"},"M","Junior v roce 2024"]
["Jan Karnik",1976,"Letkov",{"$f":"VLOOKUP(C179,Region,2,0)","v":"CZ/C1"},"M",""]
["Jan Kaspar",1994,"Letňany",{"$f":"VLOOKUP(C180,Region,2,0)","v":"CZ/C1"},"M",""]
["Jan Kohout",1970,"Žamberk","CZ/C2","M",""]
["Jan Konecny",1972,"Rakovník","CZ/C1","M",""]
["Jan Kostka",1996,"Kladno","CZ/C1","M",""]
["Jan Kotan",1982,"Letňany","CZ/C1","M",""]
["Jan Kralik",1991,"Letkov","CZ/C1","M",""]
["Jan Kristof",1962,"Frýdlant","CZ/M","M",""]
["Jan Kulistak",1990,"Kunovice","CZ/M","M",""]
["Jan Lancdorf",1988,"Panenský Týnec","CZ/C1","M",""]
["Jan Louda",1986,"Mladá Boleslav","CZ/C1","M",""]
["Jan Mareth",1979,"Frýdlant","CZ/M","M",""]
["Jan Masek",1977,"Kladno","CZ/C1","M",""]
["Jan Matejovsky",1972,"Hranice","CZ/M","M",""]
["Jan Merta",1952,"Šumperk","CZ/M","M",""]
["Jan Mittner",1986,"Zbraslavice",{"$f":"VLOOKUP(C194,Region,2,0)","v":"CZ/C1"},"M",""]
["Jan Moravec",1979,"Zábřeh","CZ/M","M",""]
["Jan Mrozek",1982,"Frýdlant",{"$f":"VLOOKUP(C196,Region,2,0)","v":"CZ/M"},"M",""]
["Jan Muknsnabl",1992,"Letkov",{"$f":"VLOOKUP(C197,Region,2,0)","v":"CZ/C1"},"M",{"$f":"IF(A197=\"(prázdné)\",\"\",IF(($G$1-B197)>25,\"\",\"Junior v roce \"&$G$1))","v":""}]
["Jan Nyc",1943,"Dvůr Králové",{"$f":"VLOOKUP(C198,Region,2,0)","v":"CZ/C2"},"M",""]
["Jan Obrucnik",1991,"Kralupy","CZ/C1","M",""]
["Jan Oscatka",1990,"Jaroměř",{"$f":"VLOOKUP(C200,Region,2,0)","v":"CZ/C2"},"M",""]
["Jan Otrusina",1976,"Křižanov","CZ/M","M",""]
["Jan Ourada",1978,"Točná","CZ/C1","M",""]
["Jan Pavlik",1987,"Křižanov","CZ/M","M",""]
["Jan Pazour",1979,"Dvůr Králové",{"$f":"VLOOKUP(C204,Region,2,0)","v":"CZ/C2"},"M",""]
["Jan Platenik",1981,"Krnov","CZ/M","M",""]
["Jan Plechac",1966,"Slaný",{"$f":"VLOOKUP(C206,Region,2,0)","v":"CZ/C1"},"M",{"$f":"IF(A206=\"(prázdné)\",\"\",IF(($G$1-B206)>25,\"\",\"Junior v roce \"&$G$1))","v":""}]
["Jan Podhrazsky",1976,"Šumperk","CZ/M","M",""]
["Jan Pokluda",1973,"Šumperk","CZ/M","M",""]
["Jan Pubec",1979,"Plzeň Bory","CZ/C1","M",""]
["Jan Ratz",1987,"Zbraslavice","CZ/C1","M",""]
["Jan Rensa",1980,"Polička","CZ/C2","M",""]
["Jan Rolinek",1973,"Luhačovice","CZ/M","M",""]
["Jan Rott",1962,"Hronov","CZ/C2","M",""]
["Jan Repka",1959,"Liberec","CZ/C2","M",""]
["Jan Seifert",1948,"Raná","CZ/C2","M",""]
["Jan Simon",1970,"Kralupy","CZ/C1","M",""]
["Jan Sindelar",1946,"Kunovice","CZ/M","M",{"$f":"IF(A217=\"(prázdné)\",\"\",IF(($G$1-B217)>25,\"\",\"Junior v roce \"&$G$1))","v":""}]
["Jan Smaha",1958,"Česká Lípa","CZ/C2","M",""]
["Jan Smekal",1976,"Zbraslavice",{"$f":"VLOOKUP(C219,Region,2,0)","v":"CZ/C1"},"M",""]
["Jan Sobotka",1973,"Vyškov",{"$f":"VLOOKUP(C220,Region,2,0)","v":"CZ/M"},"M",""]
["Jan Sponer",1988,"Medlánky","CZ/M","M",""]
["Jan Stastny",2003,"Medlánky",{"$f":"VLOOKUP(C222,Region,2,0)","v":"CZ/M"},"M","Junior v roce 2024"]
["Jan Stepan",1991,"Hronov","CZ/C2","M",""]
["Jan Sustr 76",1976,"Raná","CZ/C2","M",""]
["Jan Sustr 77",1977,"Staňkov","CZ/C1","M",""]
["Jan Svarc",1977,"Raná","CZ/C2","M",""]
["Jan Svestka",2005,"Křižanov",{"$f":"VLOOKUP(C227,Region,2,0)","v":"CZ/M"},"M",{"$f":"IF(A227=\"(prázdné)\",\"\",IF(($G$1-B227)>25,\"\",\"Junior v roce \"&$G$1))","v":"Junior v roce 2024"}]
["Jan Terrich",1978,"Liberec","CZ/C2","M",""]
["Jan Tomasek",1970,"Dvůr Králové","CZ/C2","M",""]
["Jan Turek",1987,"Toužim","CZ/C1","M",""]
["Jan Vavrin",1987,"Vysoké Mýto","CZ/C2","M",""]
["Jan Viskot",1995,"Břeclav","CZ/M","M",""]
["Jan Vozeh",1995,"Rakovník","CZ/C1","M",""]
["Jan Zahradka",1981,"Hodkovice","CZ/C2","M",""]
["Jan Zapletal",1997,"Břeclav","CZ/M","M",""]
["Jan Zdvorak",1980,"Roudnice","CZ/C2","M",""]
["Jan Zezula",1979,"Letňany","CZ/C1","M",""]
["Jan Zona",1965,"Kroměříž","CZ/M","M",""]
["Jan Zanda",1983,"Letkov","CZ/C1","M",""]
["Jana Dvorakova",1953,"Raná","CZ/C2","F",""]
["Jana Kantorova",1980,"Hosín","CZ/C1","F",""]
["Jana Krejcova",1972,"Křižanov","CZ/M","F",""]
["Jana Mezerova",1975,"Raná","CZ/C2","F",""]
["Jana Treslova",1963,"Raná","CZ/C2","F",""]
["Jana Veprekova",1961,"Dvůr Králové","CZ/C2","F",""]
["Jarmila Zatykova",1959,"Kralupy","CZ/C1","F",""]
["Jaromir Hammer",1965,"Křižanov","CZ/M","M",""]
["Jaromir Hendrych",1954,"Raná","CZ/C2","M",""]
["Jaromir Jedlicka",1972,"Letňany","CZ/C1","M",""]
["Jaromir Macoun",1999,"Jičín","CZ/C2","M","Junior v roce 2024"]
["Jaromir Pauer",1974,"Hosín",{"$f":"VLOOKUP(C251,Region,2,0)","v":"CZ/C1"},"M",""]
["Jaromir Prokes",1984,"Tábor","CZ/C1","M",""]
["Jaromir Simunek",1975,"Rakovník",{"$f":"VLOOKUP(C253,Region,2,0)","v":"CZ/C1"},"M",{"$f":"IF(A253=\"(prázdné)\",\"\",IF(($G$1-B253)>25,\"\",\"Junior v roce \"&$G$1))","v":""}]
["Jaromir Vlk",1959,"Šumperk","CZ/M","M",""]
["Jaroslav Bocek",1962,"Turnov","CZ/C2","M",""]
["Jaroslav Buryan",1953,"Zábřeh","CZ/M","M",""]
["Jaroslav Cempirek 51",1951,"Jindřichův Hradec","CZ/C1","M",""]
["Jaroslav Cempirek 77",1977,"Jihlava",{"$f":"VLOOKUP(C258,Region,2,0)","v":"CZ/M"},"M",""]
["Jaroslav Cejka",1952,"Letkov","CZ/C1","M",""]
["Jaroslav Deml",1986,"Hořice","CZ/C2","M",""]
["Jaroslav Florian",1977,"Medlánky","CZ/M","M",""]
["Jaroslav Hendrych",1946,"Příbram","CZ/C1","M",""]
["Jaroslav Hot",1965,"Toužim","CZ/C1","M",""]
["Jaroslav Juracka",1971,"Křižanov","CZ/M","M",""]
["Jaroslav Kacer",1978,"Raná","CZ/C2","M",""]
["Jaroslav Kares",1962,"Olomouc","CZ/M","M",""]
["Jaroslav Kral",1961,"Přibyslav",{"$f":"VLOOKUP(C267,Region,2,0)","v":"CZ/C2"},"M",""]
["Jaroslav Marek",1938,"Luhačovice","CZ/M","M",""]
["Jaroslav Nedorost",1986,"Letňany",{"$f":"VLOOKUP(C269,Region,2,0)","v":"CZ/C1"},"M",""]
["Jaroslav Palicka",1992,"Frýdlant","CZ/M","M",""]
["Jaroslav Petrasek",1976,"Jičín","CZ/C2","M",""]
["Jaroslav Potmesil",1964,"Zbraslavice","CZ/C1","M",""]
["Jaroslav Rapac",1977,"Dvůr Králové","CZ/C2","M",""]
["Jaroslav Sefc",1971,"Broumov",{"$f":"VLOOKUP(C274,Region,2,0)","v":"CZ/C2"},"M",{"$f":"IF(A274=\"(prázdné)\",\"\",IF(($G$1-B274)>25,\"\",\"Junior v roce \"&$G$1))","v":""}]
["Jaroslav Sima",1972,"Chomutov","CZ/C2","M",""]
["Jaroslav Simek",1968,"Letkov","CZ/C1","M",""]
["Jaroslav Szakal",1955,"Jaroměř",{"$f":"VLOOKUP(C277,Region,2,0)","v":"CZ/C2"},"M",{"$f":"IF(A277=\"(prázdné)\",\"\",IF(($G$1-B277)>25,\"\",\"Junior v roce \"&$G$1))","v":""}]
["Jaroslav Tomana",1975,"Zbraslavice","CZ/C1","M",""]
["Jaroslav Tyls",1941,"Hronov","CZ/C2","M",""]
["Jaroslav Vancata",1985,"Raná",{"$f":"VLOOKUP(C280,Region,2,0)","v":"CZ/C2"},"M",""]
["Jaroslav Zavrel",1971,"Medlánky","CZ/M","M",""]
["Jindrich Hala",1989,"Rakovník","CZ/C1","M",""]
["Jindrich Hruska",1986,"Soběslav","CZ/C1","M",""]
["Jindrich Svorc",1978,"Letňany","CZ/C1","M",""]
["Jindriska Sloukova",1973,"Medlánky","CZ/M","F",{"$f":"IF(A285=\"(prázdné)\",\"\",IF(($G$1-B285)>25,\"\",\"Junior v roce \"&$G$1))","v":""}]
["Jirka Rybar",1958,"Hodkovice","CZ/C2","M",""]
["Jiri Balak",1978,"Zbraslavice",{"$f":"VLOOKUP(C287,Region,2,0)","v":"CZ/C1"},"M",""]
["Jiri Bartak",1978,"Letkov",{"$f":"VLOOKUP(C288,Region,2,0)","v":"CZ/C1"},"M",{"$f":"IF(A288=\"(prázdné)\",\"\",IF(($G$1-B288)>25,\"\",\"Junior v roce \"&$G$1))","v":""}]
["Jiri Bastl",1944,"Turnov","CZ/C2","M",""]
["Jiri Bojko",1959,"Krnov","CZ/M","M",""]
["Jiri Bulanek",1983,"Rakovník",{"$f":"VLOOKUP(C291,Region,2,0)","v":"CZ/C1"},"M",{"$f":"IF(A291=\"(prázdné)\",\"\",IF(($G$1-B291)>25,\"\",\"Junior v roce \"&$G$1))","v":""}]
["Jiri Cincera",1966,"Toužim","CZ/C1","M",""]
["Jiri Dockal",1982,"Letňany","CZ/C1","M",""]
["Jiri Donat",1983,"Letňany","CZ/C1","M","",null,"Chrudim do 2022"]
["Jiri Fousek",1990,"Raná","CZ/C2","M",""]
["Jiri Hendrych",1943,"Točná","CZ/C1","M",""]
["Jiri Hodan",1959,"Zbraslavice","CZ/C1","M",""]
["Jiri Holcman",1976,"Hosín","CZ/C1","M",""]
["Jiri Horak",1971,"Kladno","CZ/C1","M",""]
["Jiri Hula",1973,"Slaný","CZ/C1","M",""]
["Jiri Janda",1966,"Letňany","CZ/C1","M",""]
["Jiri Jirmus",2003,"Tábor",{"$f":"VLOOKUP(C302,Region,2,0)","v":"CZ/C1"},"M","Junior v roce 2024"]
["Jiri Klicnar",1965,"Medlánky","CZ/M","M",""]
["Jiri Kobik",1952,"Hořice","CZ/C2","M",""]
["Jiri Kohoutek",1983,"Olomouc",{"$f":"VLOOKUP(C305,Region,2,0)","v":"CZ/M"},"M",""]
["Jiri Kokrment",1950,"Frýdlant","CZ/M","M",""]
["Jiri Koudela",1974,"Vyškov","CZ/M","M",""]
["Jiri Kratochvil",2003,"Podhořany",{"$f":"VLOOKUP(C308,Region,2,0)","v":"CZ/C2"},"M",{"$f":"IF(A308=\"(prázdné)\",\"\",IF(($G$1-B308)>25,\"\",\"Junior v roce \"&$G$1))","v":"Junior v roce 2024"}]
["Jiri Krofta",1988,"Hosín",{"$f":"VLOOKUP(C309,Region,2,0)","v":"CZ/C1"},"M",""]
["Jiri Krticka",1965,"Jaroměř","CZ/C2","M",""]
["Jiri Krzanowski",1944,"Letkov","CZ/C1","M",""]
["Jiri Kupec",1960,"Medlánky","CZ/M","M",""]
["Jiri Kusbach",1959,"Luhačovice","CZ/M","M",""]
["Jiri Kyslik",1968,"Česká Lípa","CZ/C2","M",""]
["Jiri Lenik",1947,"Raná","CZ/C2","M",""]
["Jiri Maier 66",1966,"Raná","CZ/C2","M",""]
["Jiri Maier 99",1999,"Raná","CZ/C2","M","Junior v roce 2024"]
["Jiri Mlejnek",1984,"Mladá Boleslav","CZ/C1","M",""]
["Jiri Obst",1964,"Vrchlabí","CZ/C2","M",""]
["Jiri Pajer",1977,"Zbraslavice","CZ/C1","M",""]
["Jiri Pelucha",1984,"Frýdlant","CZ/M","M",""]
["Jiri Pesta",1973,"Dvůr Králové","CZ/C2","M",""]
["Jiri Peterka",1951,"Křižanov",{"$f":"VLOOKUP(C323,Region,2,0)","v":"CZ/M"},"M",""]
["Jiri Piskaty",1962,"Kunovice","CZ/M","M",""]
["Jiri Pixa",1968,"Slaný","CZ/C1","M",""]
["Jiri Prochazka",1971,"Toužim","CZ/C1","M",""]
["Jiri Prucha",1963,"Chomutov","CZ/C2","M",""]
["Jiri Skarka",1965,"Chomutov",{"$f":"VLOOKUP(C328,Region,2,0)","v":"CZ/C2"},"M",""]
["Jiri Slouka",1967,"Medlánky",{"$f":"VLOOKUP(C329,Region,2,0)","v":"CZ/M"},"M",""]
["Jiri Sohr",1960,"Šumperk",{"$f":"VLOOKUP(C330,Region,2,0)","v":"CZ/M"},"M",""]
["Jiri Steiger",1969,"Olomouc","CZ/M","M",""]
["Jiri Suchomel",1950,"Broumov",{"$f":"VLOOKUP(C332,Region,2,0)","v":"CZ/C2"},"M",""]
["Jiri Slemr",1979,"Vysoké Mýto","CZ/C2","M",""]
["Jiri Stepanek",1956,"Moravská Třebová","CZ/M","M",""]
["Jiri Tomicek",1947,"Dvůr Králové","CZ/C2","M",""]
["Jiri Valentr",1947,"Rakovník","CZ/C1","M",""]
["Jiri Vavrina",1958,"Kyjov","CZ/M","M",""]
["Jiri Veprek",1959,"Dvůr Králové",{"$f":"VLOOKUP(C338,Region,2,0)","v":"CZ/C2"},"M",{"$f":"IF(A338=\"(prázdné)\",\"\",IF(($G$1-B338)>25,\"\",\"Junior v roce \"&$G$1))","v":""}]
["Jiri Vokrinek",1965,"Hodkovice","CZ/C2","M",""]
["Jiri Vondracek",1989,"Kladno","CZ/C1","M",""]
["Jiri Zablatzky",1978,"Hranice","CZ/M","M",""]
["Jitka Hromkova",1985,"Šumperk","CZ/M","F",""]
["Jitka Skalova",1955,"Zbraslavice","CZ/C1","F",""]
["Jitka Zimova",1981,"Hodkovice","CZ/C2","F",""]
["Josef Andrasovsky",1954,"Jaroměř","CZ/C2","M",""]
["Josef Bacina",1976,"Vysoké Mýto","CZ/C2","M",""]
["Josef Barta",1977,"Vysoké Mýto","CZ/C2","M",""]
["Josef Bostik",1963,"GAC Benešov","CZ/C1","M",""]
["Josef Busek",1967,"Hosín","CZ/C1","M",""]
["Josef Hlusek",1993,"Kunovice","CZ/M","M",""]
["Josef Kolman",1983,"Letňany","CZ/C1","M",""]
["Josef Krejsa",1938,"Hranice","CZ/M","M",""]
["Josef Kreutzer",1992,"Letkov","CZ/C1","M",{"$f":"IF(A353=\"(prázdné)\",\"\",IF(($G$1-B353)>25,\"\",\"Junior v roce \"&$G$1))","v":""}]
["Josef Linhart",1972,"Medlánky","CZ/M","M",""]
["Josef Macicek",1949,"Frýdlant","CZ/M","M",""]
["Josef Mezera",1951,"Raná","CZ/C2","M",""]
["Josef Novak",1981,"Kunovice","CZ/M","M",""]
["Josef Novotny",1983,"Přibyslav","CZ/C2","M",""]
["Josef Plechac",1942,"Hronov","CZ/C2","M",""]
["Josef Rydl",1940,"Turnov","CZ/C2","M",""]
["Josef Sedlacek",1968,"Zbraslavice","CZ/C1","M",""]
["Jozef Hartinger",1987,"Medlánky","CZ/M","M",""]
["Juraj Dudas",1990,"Křižanov",{"$f":"VLOOKUP(C363,Region,2,0)","v":"CZ/M"},"M",""]
["Jurij Sikorsky",1975,"Hodkovice","CZ/C2","M",""]
["Kamil Hejda",1973,"Jičín",{"$f":"VLOOKUP(C365,Region,2,0)","v":"CZ/C2"},"M",{"$f":"IF(A365=\"(prázdné)\",\"\",IF(($G$1-B365)>25,\"\",\"Junior v roce \"&$G$1))","v":""}]
["Kamil Novak",1970,"Jaroměř","CZ/C2","M",""]
["Kamil Sohr",1973,"Šumperk","CZ/M","M",""]
["Karel Balatka",1965,"Liberec","CZ/C2","M",""]
["Karel Benes",1980,"Polička","CZ/C2","M",""]
["Karel Benisek 48",1948,"Toužim","CZ/C1","M",""]
["Karel Benisek 76",1976,"Toužim","CZ/C1","M",""]
["Karel Cerny",1943,"Beroun","CZ/C1","M",""]
["Karel Elsnic",1974,"Křižanov","CZ/M","M",""]
["Karel Ertl",1939,"LK Břeclav","CZ/M","M",""]
["Karel Grotz",1934,"Toužim","CZ/C1","M",""]
["Karel Horalek",1976,"Olomouc",{"$f":"VLOOKUP(C376,Region,2,0)","v":"CZ/M"},"M",""]
["Karel Knotek",1961,"Soběslav","CZ/C1","M",""]
["Karel Kolomaznik",1955,"Šumperk","CZ/M","M",""]
["Karel Kotlan",1957,"Medlánky","CZ/M","M",""]
["Karel Lang",1967,"Medlánky","CZ/M","M",""]
["Karel Mares",1974,"Slaný","CZ/C1","M",""]
["Karel Minarik",1965,"Hranice","CZ/M","M",""]
["Karel Novak",1993,"Mladá Boleslav","CZ/C1","M",""]
["Karel Policky",1950,"Kolín","CZ/C1","M",""]
["Karel Stach",1963,"Letňany","CZ/C1","M",""]
["Karel Toman",1976,"Letňany","CZ/C1","M",""]
["Karel Vagenknecht",1960,"Šumperk","CZ/M","M",""]
["Karel Vladar",1972,"Hodkovice","CZ/C2","M",""]
["Katerina Dvorakova",1984,"Most","CZ/C2","F",""]
["Katerina Kardosova",1988,"Kunovice","CZ/M","F",""]
["Katerina Vancurova",2002,"Hranice",{"$f":"VLOOKUP(C391,Region,2,0)","v":"CZ/M"},"F","Junior v roce 2024"]
["Katerina Vojtova",1983,"Slaný","CZ/C1","F",""]
["Klara Teichmannova",1993,"Hronov","CZ/C2","F",""]
["Kristina Santruckova",1996,"Podhořany",{"$f":"VLOOKUP(C394,Region,2,0)","v":"CZ/C2"},"F",""]
["Krystof Mimra",1992,"Most",{"$f":"VLOOKUP(C395,Region,2,0)","v":"CZ/C2"},"M",""]
["Krystof Urban",1999,"Jindřichův Hradec","CZ/C1","M","Junior v roce 2024"]
["Kuk",1900,"Dvůr Králové",{"$f":"VLOOKUP(C397,Region,2,0)","v":"CZ/C2"},"M",""]
["Ladislav Berger",1970,"Kralupy","CZ/C1","M",""]
["Ladislav Durnik",1974,"Kunovice","CZ/M","M",""]
["Ladislav Hybl",1955,"Šumperk","CZ/M","M",""]
["Ladislav Jozsa",1981,"Medlánky","CZ/M","M",""]
["Ladislav Krecbach",1985,"Jaroměř","CZ/C2","M",""]
["Ladislav Krizek",1982,"Šumperk",{"$f":"VLOOKUP(C403,Region,2,0)","v":"CZ/M"},"M",""]
["Ladislav Prokes",1954,"Vrchlabí",{"$f":"VLOOKUP(C404,Region,2,0)","v":"CZ/C2"},"M",""]
["Ladislav Valenta",1961,"Žamberk","CZ/C2","M",""]
["Ladislav Vratny",1959,"Jaroměř","CZ/C2","M",""]
["Lenka Hajkova",1982,"Raná","CZ/C2","F",""]
["Lenka Kuthanova",1960,"Tábor","CZ/C1","F",""]
["Lenka Stovickova",1963,"Hořice","CZ/C2","F",""]
["Leos Nosek",1958,"Křižanov",{"$f":"VLOOKUP(C410,Region,2,0)","v":"CZ/M"},"M",""]
["Leos Strnadek",1983,"Hodkovice","CZ/C2","M",""]
["Libor Bednarik",1972,"Kunovice","CZ/M","M",""]
["Libor Danhel",1966,"Kunovice","CZ/M","M",""]
["Libor Hyps",1988,"Chrudim","CZ/C2","M",""]
["Libor Kovarik",1966,"Mladá Boleslav","CZ/C1","M","",null,"Dříve Hosín"]
["Libor Kovarnik",1968,"Mladá Boleslav",{"$f":"VLOOKUP(C416,Region,2,0)","v":"CZ/C1"},"M",""]
["Linda Vasatova",1990,"Mladá Boleslav","CZ/C1","F",""]
["Lubomir Doupal",1975,"Kroměříž","CZ/M","M",{"$f":"IF(A418=\"(prázdné)\",\"\",IF(($G$1-B418)>25,\"\",\"Junior v roce \"&$G$1))","v":""}]
["Lubomir Motl",1959,"Kyjov","CZ/M","M",""]
["Lubomir Papezik",1951,"Luhačovice","CZ/M","M",""]
["Lubomir Svoboda",1959,"Letkov","CZ/C1","M",""]
["Lubomir Vrba",1955,"Toužim","CZ/C1","M",""]
["Lubor Sobek",1979,"Frýdlant","CZ/M","M",""]
["Lubor Vyhlid",1972,"Kroměříž","CZ/M","M",""]
["Lubor Zeleny",1957,"Přibyslav","CZ/C2","M",""]
["Lubos Florian",1966,"Jičín",{"$f":"VLOOKUP(C426,Region,2,0)","v":"CZ/C2"},"M",""]
["Lubos Kunc 56",1956,"Dvůr Králové","CZ/C2","M",""]
["Lubos Kunc 85",1985,"Vrchlabí","CZ/C2","M",""]
["Lubos Stiburek",1954,"Raná","CZ/C2","M",""]
["Lubos Svoboda",1959,"Letkov","CZ/C1","M",""]
["Ludek Kluger",1963,"Tábor","CZ/C1","M",""]
["Ludek Mikl",1963,"Šumperk",{"$f":"VLOOKUP(C432,Region,2,0)","v":"CZ/M"},"M","",null,"Dříve Kroměříž"]
["Ludek Souhrada",1974,"Raná","CZ/C2","M",""]
["Lukas Capek",1992,"Letňany","CZ/C1","M",""]
["Lukas Fiala",1976,"Kralupy","CZ/C1","M",""]
["Lukas Fronek",1989,"Kyjov",{"$f":"VLOOKUP(C436,Region,2,0)","v":"CZ/M"},"M",""]
["Lukas Hykl",1985,"Kolín",{"$f":"VLOOKUP(C437,Region,2,0)","v":"CZ/C1"},"M",""]
["Lukas Hynek",1979,"Dvůr Králové","CZ/C2","M",""]
["Lukas Jezek",1975,"Jičín","CZ/C2","M",""]
["Lukas Kotek",1994,"Frýdlant","CZ/M","M",""]
["Lukas Koukal",1991,"Letkov","CZ/C1","M",""]
["Lukas Kriz",2003,"Křižanov",{"$f":"VLOOKUP(C442,Region,2,0)","v":"CZ/M"},"M","Junior v roce 2024"]
["Lukas Maly",1998,"Vysoké Mýto","CZ/C2","M",""]
["Lukas Nalos",1976,"Letkov",{"$f":"VLOOKUP(C444,Region,2,0)","v":"CZ/C1"},"M",{"$f":"IF(A444=\"(prázdné)\",\"\",IF(($G$1-B444)>25,\"\",\"Junior v roce \"&$G$1))","v":""}]
["Lukas Petrzela",1987,"Olomouc",{"$f":"VLOOKUP(C445,Region,2,0)","v":"CZ/M"},"M",""]
["Lukas Plocek",1990,"Mladá Boleslav","CZ/C1","M",""]
["Lukas Popelka",1977,"Polička","CZ/C2","M",""]
["Lukas Volek",2004,"Hodkovice",{"$f":"VLOOKUP(C448,Region,2,0)","v":"CZ/C2"},"M","Junior v roce 2024"]
["Lukas Zach",1987,"Vyškov",{"$f":"VLOOKUP(C449,Region,2,0)","v":"CZ/M"},"M",""]
["Lukas Zeman",2000,"Rakovník",{"$f":"VLOOKUP(C450,Region,2,0)","v":"CZ/C1"},"M","Junior v roce 2024"]
["Lukas Zemek",1994,"Letkov",{"$f":"VLOOKUP(C451,Region,2,0)","v":"CZ/C1"},"M",""]
["Lumir Motyka",1955,"Frýdlant","CZ/M","M",""]
["Marcel Skarohlid",1972,"Hodkovice","CZ/C2","M",""]
["Marek Blatak",1969,"Šumperk","CZ/M","M",""]
["Marek Csukas",1982,"Podhořany","CZ/C2","M",""]
["Marek Cacky",1971,"Kladno","CZ/C1","M",""]
["Marek Cerveny",1989,"Jaroměř","CZ/C2","M",""]
["Marek Kornec",1957,"Dvůr Králové","CZ/C2","M",""]
["Marek Loukota",2000,"Letkov",{"$f":"VLOOKUP(C459,Region,2,0)","v":"CZ/C1"},"M","Junior v roce 2024"]
["Marek Malinsky",1985,"Chrudim","CZ/C2","M",""]
["Marek Novy",1973,"Roudnice","CZ/C2","M",""]
["Marek Pechanec",1970,"Luhačovice","CZ/M","M",""]
["Marek Pechar",1995,"Chrudim","CZ/C2","M",""]
["Marek Seitl",1995,"Dvůr Králové","CZ/C2","M",""]
["Marek Sild",1976,"Kunovice","CZ/M","M",""]
["Marek Simon",1998,"Kralupy",{"$f":"VLOOKUP(C466,Region,2,0)","v":"CZ/C1"},"M",""]
["Marek Svancara",1976,"GAC Benešov","CZ/C1","M",""]
["Marek Vinar",1976,"Letňany","CZ/C1","M",""]
["Marie Vesela",1999,"Staňkov","CZ/C1","F","Junior v roce 2024"]
["Martin Adamec",1971,"Medlánky",{"$f":"VLOOKUP(C470,Region,2,0)","v":"CZ/M"},"M",""]
["Martin Babak",1976,"Hořice",{"$f":"VLOOKUP(C471,Region,2,0)","v":"CZ/C2"},"M",""]
["Martin Balik",1982,"Kralupy","CZ/C1","M",""]
["Martin Benesovsky",1975,"Kolín",{"$f":"VLOOKUP(C473,Region,2,0)","v":"CZ/C1"},"M",""]
["Martin Cicvarek",1966,"Liberec","CZ/C2","M",""]
["Martin Donek",1976,"Beroun","CZ/C1","M",""]
["Martin Dundr",1968,"Hořice","CZ/C2","M",""]
["Martin Ficnar",1971,"Šumperk","CZ/M","M",""]
["Martin Fric",1967,"Raná","CZ/C2","M",""]
["Martin Gedeon",1989,"Letkov","CZ/C1","M",""]
["Martin Grmela",1989,"Zbraslavice",{"$f":"VLOOKUP(C480,Region,2,0)","v":"CZ/C1"},"M",""]
["Martin Hejny",1984,"Šumperk","CZ/M","M",""]
["Martin Holik",1959,"Letňany","CZ/C1","M",""]
["Martin Horacek",1985,"Dvůr Králové","CZ/C2","M",""]
["Martin Hrivna",1978,"Zbraslavice","CZ/C1","M",{"$f":"IF(A484=\"(prázdné)\",\"\",IF(($G$1-B484)>25,\"\",\"Junior v roce \"&$G$1))","v":""}]
["Martin Chovan",1973,"Zbraslavice","CZ/C1","M",""]
["Martin Janousek",1985,"Turnov","CZ/C2","M",""]
["Martin Koci",1975,"Ústí nad Orlicí","CZ/C2","M",""]
["Martin Kozina",1970,"Křižanov",{"$f":"VLOOKUP(C488,Region,2,0)","v":"CZ/M"},"M",""]
["Martin Kriz",1968,"Přibyslav",{"$f":"VLOOKUP(C489,Region,2,0)","v":"CZ/C2"},"M",""]
["Martin Krizovic",1971,"Přibyslav","CZ/C2","M",""]
["Martin Liptak",1970,"Toužim","CZ/C1","M",""]
["Martin Marek",1967,"Roudnice","CZ/C2","M",""]
["Martin Marhefka",1975,"Kyjov","CZ/M","M",""]
["Martin Markl",1960,"Kolín","CZ/C1","M",""]
["Martin Molnar",1986,"Šumperk","CZ/M","M",""]
["Martin Nejezchleb",1979,"Plzeň Bory","CZ/C1","M",""]
["Martin Novak",1976,"Slaný","CZ/C1","M",""]
["Martin Pehe",1978,"Soběslav","CZ/C1","M",""]
["Martin Pekar",1973,"Šumperk","CZ/M","M",""]
["Martin Picka",1974,"Tábor","CZ/C1","M","",null,"Tábor od roku 2018, dříve Letkov"]
["Martin Piskacek",1991,"Křižanov","CZ/M","M",""]
["Martin Sehnoutka",1970,"Dvůr Králové","CZ/C2","M",""]
["Martin Skala",1985,"Vrchlabí","CZ/C2","M",""]
["Martin Soldan",2001,"Hronov",{"$f":"VLOOKUP(C504,Region,2,0)","v":"CZ/C2"},"M","Junior v roce 2024"]
["Martin Soucek",1975,"Mladá Boleslav","CZ/C1","M",""]
["Martin Stastny",2005,"Medlánky",{"$f":"VLOOKUP(C506,Region,2,0)","v":"CZ/M"},"M",{"$f":"IF(A506=\"(prázdné)\",\"\",IF(($G$1-B506)>25,\"\",\"Junior v roce \"&$G$1))","v":"Junior v roce 2024"}]
["Martin Suchy",1969,"Hranice","CZ/M","M",""]
["Martin Svacina",1965,"Frýdlant","CZ/M","M",""]
["Martin Svoboda",1989,"Letkov","CZ/C1","M",""]
["Martin Sonka",1978,"Tábor","CZ/C1","M",""]
["Martin Stepanek",1987,"Moravská Třebová","CZ/M","M",""]
["Martin Stepka",1966,"Turnov","CZ/C2","M",""]
["Martin Svarc",1981,"Olomouc","CZ/M","M",""]
["Martin Tison",2000,"Hosín",{"$f":"VLOOKUP(C514,Region,2,0)","v":"CZ/C1"},"M","Junior v roce 2024"]
["Martin Urban",1971,"Frýdlant","CZ/M","M",""]
["Martin Urner",1974,"Letňany","CZ/C1","M",""]
["Martin Valenta",1969,"Toužim","CZ/C1","M",""]
["Martin Vana",1979,"Mladá Boleslav","CZ/C1","M",""]
["Martin Vnoucek",1972,"Vlašim","CZ/C1","M",""]
["Martin Vondracek",1967,"Hronov","CZ/C2","M",""]
["Martin Vrba",1977,"Toužim","CZ/C1","M",""]
["Martin Vyskocil",1981,"Hodkovice","CZ/C2","M",""]
["Martin Zahalka",1987,"Staňkov","CZ/C1","M",""]
["Martin Zvonicek",1972,"Raná","CZ/C2","M",""]
["Martina Bartonikova",1990,"Luhačovice","CZ/M","F",""]
["Martina Kloubova",1991,"Hodkovice","CZ/C2","F",""]
["Martina Voráčová",1988,"Křižanov","CZ/M","F","",null,"Dříve Kubátová, AK Kyjov"]
["Matej Bartos",1998,"Hodkovice",{"$f":"VLOOKUP(C528,Region,2,0)","v":"CZ/C2"},"M",""]
["Matej Dolejs",2004,"Beroun",{"$f":"VLOOKUP(C529,Region,2,0)","v":"CZ/C1"},"M",{"$f":"IF(A529=\"(prázdné)\",\"\",IF(($G$1-B529)>25,\"\",\"Junior v roce \"&$G$1))","v":"Junior v roce 2024"}]
["Matej Charouz",1993,"Hodkovice","CZ/C2","M",""]
["Matej Jelinek",1999,"Hronov",{"$f":"VLOOKUP(C531,Region,2,0)","v":"CZ/C2"},"M","Junior v roce 2024"]
["Matej Kiss",1990,"Točná","CZ/C1","M",""]
["Matej Krestes",1986,"Slaný","CZ/C1","M",""]
["Matej Plch",1987,"Letkov","CZ/C1","M",""]
["Matej Rendla",2000,"Zbraslavice","CZ/C1","M","Junior v roce 2024"]
["Matej Uhlik",1995,"Letkov","CZ/C1","M",""]
["Matous Schmidt",1981,"Letňany","CZ/C1","M",""]
["Michael Cernes",1997,"Letňany","CZ/C1","M",""]
["Michael Fik",1972,"Strakonice","CZ/C1","M",""]
["Michaela Houskova",1978,"Letkov","CZ/C1","F",""]
["Michaela Krizova",2001,"Přibyslav",{"$f":"VLOOKUP(C541,Region,2,0)","v":"CZ/C2"},"F","Junior v roce 2024"]
["Michaela Rendlova",2004,"Toužim",{"$f":"VLOOKUP(C542,Region,2,0)","v":"CZ/C1"},"F","Junior v roce 2024"]
["Michaela Sirmerova",2000,"Jihlava",{"$f":"VLOOKUP(C543,Region,2,0)","v":"CZ/M"},"F","Junior v roce 2024"]
["MIchaela Vlacilikova",1993,"Luhačovice","CZ/M","F",""]
["Michal Budejovsky",1991,"Letkov","CZ/C1","M",""]
["Michal Buryan",1977,"Vysoké Mýto","CZ/C2","M",""]
["Michal Coufal",1999,"Jičín",{"$f":"VLOOKUP(C547,Region,2,0)","v":"CZ/C2"},"M","Junior v roce 2024"]
["Michal Cupak",1991,"Medlánky","CZ/M","M",""]
["Michal Cechmanek",1978,"Kroměříž","CZ/M","M","",null,"Luhačovice do 2022"]
["Michal Drab",1969,"Letkov","CZ/C1","M",{"$f":"IF(A550=\"(prázdné)\",\"\",IF(($G$1-B550)>25,\"\",\"Junior v roce \"&$G$1))","v":""}]
["Michal Dvorak",1986,"Zbraslavice","CZ/C1","M",""]
["Michal Fortik",1976,"Točná","CZ/C1","M",""]
["Michal Hemrle",1974,"Česká Lípa",{"$f":"VLOOKUP(C553,Region,2,0)","v":"CZ/C2"},"M",""]
["Michal Janda",1972,"Broumov","CZ/C2","M",""]
["Michal Kares",1987,"Ústí nad Orlicí","CZ/C2","M",""]
["Michal Kodousek",1983,"Jaroměř","CZ/C2","M",""]
["Michal Kratochvil",1984,"Slaný","CZ/C1","M",""]
["Michal Krupicka",1975,"Most","CZ/C2","M",""]
["Michal Lesinger",1966,"Moravská Třebová","CZ/M","M",""]
["Michal Linhart",1982,"Vyškov","CZ/M","M",""]
["Michal Maly",1982,"Broumov","CZ/C2","M",""]
["Michal Marek",1982,"Křižanov","CZ/M","M",""]
["Michal Navratil",1985,"Křižanov","CZ/M","M",""]
["Michal Nutil",1966,"Náchod",{"$f":"VLOOKUP(C564,Region,2,0)","v":"CZ/C2"},"M",""]
["Michal Ondracek",1966,"Medlánky",{"$f":"VLOOKUP(C565,Region,2,0)","v":"CZ/M"},"M",""]
["Michal Posluzny",1968,"Medlánky",{"$f":"VLOOKUP(C566,Region,2,0)","v":"CZ/M"},"M",""]
["Michal Rancak",1984,"Mladá Boleslav","CZ/C1","M",""]
["Michal Richter",1983,"Kolín","CZ/C1","M",""]
["Michal Sebek",1998,"Letňany","CZ/C1","M",""]
["Michal Sich",1979,"Mladá Boleslav","CZ/C1","M",""]
["Michal Stastny",1970,"Medlánky","CZ/M","M",""]
["Michal Trylc",1987,"Plasy","CZ/C1","M",""]
["Michal Vopalensky",1974,"Letňany",{"$f":"VLOOKUP(C573,Region,2,0)","v":"CZ/C1"},"M",""]
["Michal Vorlicek",1995,"Kolín",{"$f":"VLOOKUP(C574,Region,2,0)","v":"CZ/C1"},"M",{"$f":"IF(A574=\"(prázdné)\",\"\",IF(($G$1-B574)>25,\"\",\"Junior v roce \"&$G$1))","v":""}]
["Michal Vrana",1999,"Vyškov",{"$f":"VLOOKUP(C575,Region,2,0)","v":"CZ/M"},"M","Junior v roce 2024"]
["Michal Vranek",1993,"Hosín",{"$f":"VLOOKUP(C576,Region,2,0)","v":"CZ/C1"},"M",""]
["Milada Moudra",1991,"Hodkovice","CZ/C2","F",""]
["Milan Bado",1975,"Kolín","CZ/C1","M",{"$f":"IF(A578=\"(prázdné)\",\"\",IF(($G$1-B578)>25,\"\",\"Junior v roce \"&$G$1))","v":""}]
["Milan Benes",1953,"Raná",{"$f":"VLOOKUP(C579,Region,2,0)","v":"CZ/C2"},"M",""]
["Milan Dvorak",1965,"Liberec","CZ/C2","M",""]
["Milan Kuk",1950,"Dvůr Králové","CZ/C2","M",""]
["Milan Meisner",1961,"Dvůr Králové","CZ/C2","M",""]
["Milan Riha",1973,"Zbraslavice",{"$f":"VLOOKUP(C583,Region,2,0)","v":"CZ/C1"},"M",""]
["Milan Svoboda 34",1934,"Letkov","CZ/C1","M",""]
["Milan Svoboda 80",1980,"Havlíčkův Brod","CZ/C2","M","",null,"Dříve Chotěboř"]
["Milan Svorc",1955,"Podhořany","CZ/C2","M",""]
["Miloslav Cindr",1974,"Ústí nad Orlicí","CZ/C2","M",""]
["Miloslav Cink",1987,"Letkov","CZ/C1","M","",null,"Dříve Letkov"]
["Miloslav Fiser",1974,"Hodkovice","CZ/C2","M",""]
["Miloslav Hulmak",1963,"Hosín","CZ/C1","M",""]
["Miloslav Krch",1988,"Zbraslavice","CZ/C1","M",""]
["Milos Dedera",1956,"Jihlava","CZ/M","M",""]
["Milos Eichler",1964,"Dvůr Králové","CZ/C2","M",""]
["Milos Houha",1954,"Plzeň Bory","CZ/C1","M",""]
["Milos Hrabe",1979,"Letňany","CZ/C1","M",""]
["Milos Matejka",1956,"Beroun","CZ/C1","M",""]
["Milos Novotny",1973,"Hronov",{"$f":"VLOOKUP(C597,Region,2,0)","v":"CZ/C2"},"M",""]
["Milos Nyvlt",1963,"Hronov",{"$f":"VLOOKUP(C598,Region,2,0)","v":"CZ/C2"},"M",{"$f":"IF(A598=\"(prázdné)\",\"\",IF(($G$1-B598)>25,\"\",\"Junior v roce \"&$G$1))","v":""}]
["Milos Pajr",1966,"Jičín","CZ/C2","M",""]
["Milos Pospisil",1952,"Frýdlant","CZ/M","M",""]
["Milos Rejzl",1962,"Klatovy","CZ/C1","M",""]
["Miroslav Burdych",1973,"Nové Město nad Metují","CZ/C2","M",""]
["Miroslav Burian",1969,"Křižanov","CZ/M","M",""]
["Miroslav Cervenka",1980,"Křižanov","CZ/M","M",""]
["Miroslav Filip",1959,"Křižanov","CZ/M","M",""]
["Miroslav Horinek",1976,"Křižanov","CZ/M","M",""]
["Miroslav Jezek",1973,"Žamberk","CZ/C2","M",""]
["Miroslav Koci",1961,"Žamberk","CZ/C2","M",""]
["Miroslav Kudlacek",1986,"Polička",{"$f":"VLOOKUP(C609,Region,2,0)","v":"CZ/C2"},"M",""]
["Miroslav Macik",1983,"Rakovník","CZ/C1","M",""]
["Miroslav Major",1968,"Kralupy","CZ/C1","M",""]
["Miroslav Mancik",1976,"Kyjov","CZ/M","M",""]
["Miroslav Mitrus",1972,"GAC Benešov",{"$f":"VLOOKUP(C613,Region,2,0)","v":"CZ/C1"},"M",""]
["Miroslav Odlozilik",1973,"Křižanov","CZ/M","M",""]
["Miroslav Ofukany",1951,"Kolín","CZ/C1","M",""]
["Miroslav Plechac",1969,"Hronov","CZ/C2","M",""]
["Miroslav Sklenar",1964,"Žamberk","CZ/C2","M",{"$f":"IF(A617=\"(prázdné)\",\"\",IF(($G$1-B617)>25,\"\",\"Junior v roce \"&$G$1))","v":""}]
["Miroslav Streda",1945,"Vrchlabí","CZ/C2","M",""]
["Miroslav Sedivy",1974,"Letkov","CZ/C1","M",""]
["Miroslav Stepan",1955,"Žamberk","CZ/C2","M",""]
["Miroslav Trybucek",1965,"Jičín","CZ/C2","M",""]
["Monika Bezdekova",1988,"Letňany","CZ/C1","F","",null,"Dříve Bubnová"]
["Monika Jiraskova",1994,"Hronov","CZ/C2","F",""]
["Monika Klovanicova",1992,"Kunovice","CZ/M","F",""]
["Nikola Zizkovsky",1980,"Kralupy","CZ/C1","M",""]
["Oldrich Bartonik",1961,"Luhačovice","CZ/M","M",""]
["Oldrich Hlavacek",1973,"Medlánky","CZ/M","M",""]
["Oldrich Houzvicka",1975,"Frýdlant","CZ/M","M",""]
["Oldrich Kounovsky",1976,"Medlánky",{"$f":"VLOOKUP(C629,Region,2,0)","v":"CZ/M"},"M",""]
["Oldrich Slavicek",1959,"Hronov","CZ/C2","M",""]
["Oldrich Stumbauer",1992,"Prachatice",{"$f":"VLOOKUP(C631,Region,2,0)","v":"CZ/C1"},"M",""]
["Olga Mokosova",1970,"Jihlava","CZ/M","F",""]
["Ondrej Bartos",1975,"Točná","CZ/C1","M",""]
["Ondrej Belohlavek",1978,"Vysoké Mýto","CZ/C2","M",""]
["Ondrej Blaha",1976,"Letňany","CZ/C1","M",""]
["Ondrej Bordovsky",1983,"Krnov","CZ/M","M",""]
["Ondrej Dupal",1966,"GAC Benešov","CZ/C1","M",""]
["Ondrej Dvorak 58",1958,"Raná","CZ/C2","M",""]
["Ondrej Dvorak 87",1987,"Raná","CZ/C2","M",""]
["Ondrej Dvorak 98",1998,"Mladá Boleslav","CZ/C1","M",""]
["Ondrej Hart",1990,"Letňany",{"$f":"VLOOKUP(C641,Region,2,0)","v":"CZ/C1"},"M",""]
["Ondrej Holas",1989,"Česká Lípa","CZ/C2","M",""]
["Ondrej Jung",1976,"Zbraslavice","CZ/C1","M",""]
["Ondrej Kluger",1990,"LK Břeclav",{"$f":"VLOOKUP(C644,Region,2,0)","v":"CZ/M"},"M",""]
["Ondrej Kover",1993,"Šumperk","CZ/M","M",""]
["Ondrej Krejci",1974,"Chotěboř","CZ/C2","M",""]
["Ondrej Prazsky",1978,"Zbraslavice",{"$f":"VLOOKUP(C647,Region,2,0)","v":"CZ/C1"},"M",""]
["Ondrej Marek",1989,"Žamberk","CZ/C2","M",""]
["Ondrej Skala",1982,"Vrchlabí","CZ/C2","M",""]
["Ondrej Sindelar",1979,"Mladá Boleslav","CZ/C1","M",""]
["Ondrej Supka",1994,"Kunovice","CZ/M","M",""]
["Ondrej Teichman",1984,"Dvůr Králové","CZ/C2","M",""]
["Ondrej Trkal",1991,"Vysoké Mýto","CZ/C2","M",""]
["Ondrej Valach",1986,"Točná","CZ/C1","M",""]
["Ondrej Vyskocil",1991,"Letkov","CZ/C1","M",""]
["Ondrej Zeman",1980,"Letňany","CZ/C1","M",""]
["Ota Vavrin",1947,"Vysoké Mýto","CZ/C2","M",""]
["Otakar Tucek",1947,"Raná","CZ/C2","M",""]
["Patrik Cebis",1972,"Kralupy","CZ/C1","M",""]
["Pavel Brodsky",1992,"Hořice","CZ/C2","M",""]
["Pavel Cerny",1996,"Příbram","CZ/C1","M",""]
["Pavel Derda",1952,"Dvůr Králové","CZ/C2","M",""]
["Pavel Dostal",1944,"Turnov","CZ/C2","M",""]
["Pavel Foldyna",1976,"Frýdlant","CZ/M","M",""]
["Pavel Franc",1974,"Hronov","CZ/C2","M",""]
["Pavel Haluza",1966,"Prostějov","CZ/M","M",""]
["Pavel Handl",1971,"Kroměříž",{"$f":"VLOOKUP(C667,Region,2,0)","v":"CZ/M"},"M",""]
["Pavel Hartman",1963,"Jaroměř","CZ/C2","M",""]
["Pavel Jiranek",1993,"Toužim","CZ/C1","M",""]
["Pavel Jurak",1986,"Kunovice","CZ/M","M",""]
["Pavel Jurka",1955,"Moravská Třebová","CZ/M","M",""]
["Pavel Kalous",1921,"Frýdlant","CZ/M","M",""]
["Pavel Kostkan",1952,"Dvůr Králové","CZ/C2","M",""]
["Pavel Koudelka",1973,"Křižanov","CZ/M","M",""]
["Pavel Kuriscak",1987,"Beroun",{"$f":"VLOOKUP(C675,Region,2,0)","v":"CZ/C1"},"M",""]
["Pavel Kyzivat",1973,"Zbraslavice",{"$f":"VLOOKUP(C676,Region,2,0)","v":"CZ/C1"},"M",""]
["Pavel Laznicka",1955,"Letňany","CZ/C1","M",""]
["Pavel Liska",1965,"Roudnice","CZ/C2","M",""]
["Pavel Louzecky",1957,"Přibyslav","CZ/C2","M",""]
["Pavel Nemec",1988,"Šumperk","CZ/M","M",""]
["Pavel Opat",1975,"Rakovník",{"$f":"VLOOKUP(C681,Region,2,0)","v":"CZ/C1"},"M",{"$f":"IF(A681=\"(prázdné)\",\"\",IF(($G$1-B681)>25,\"\",\"Junior v roce \"&$G$1))","v":""}]
["Pavel Paces",1972,"Kladno","CZ/C1","M",""]
["Pavel Pittner",1980,"Polička","CZ/C2","M",""]
["Pavel Rericha",1967,"Moravská Třebová","CZ/M","M",""]
["Pavel Schor",1985,"Medlánky","CZ/M","M",""]
["Pavel Svoboda",1938,"Letňany","CZ/C1","M",""]
["Pavel Simek",1957,"Vyškov","CZ/M","M",""]
["Pavel Skrabal",1969,"Šumperk","CZ/M","M",""]
["Pavel Sulc",1976,"Hodkovice",{"$f":"VLOOKUP(C689,Region,2,0)","v":"CZ/C2"},"M",""]
["Pavel Svejkovsky",1968,"Česká Lípa",{"$f":"VLOOKUP(C690,Region,2,0)","v":"CZ/C2"},"M",""]
["Pavel Svrcek",1972,"Frýdlant","CZ/M","M",""]
["Pavel Trojan",1960,"Chrudim","CZ/C2","M",""]
["Pavel Trybenekr",1990,"Hořice","CZ/C2","M",""]
["Pavel Zima",1979,"Břeclav","CZ/M","M",""]
["Pavla Seifertova",1981,"Raná","CZ/C2","F",""]
["Pavlina Hanusova",1970,"Turnov","CZ/C2","F",""]
["Pavlina Horackova",1965,"Šumperk","CZ/M","F",""]
["Peter Kaspar",1980,"Vyškov",{"$f":"VLOOKUP(C698,Region,2,0)","v":"CZ/M"},"M",""]
["Petr Babak",1973,"Hořice",{"$f":"VLOOKUP(C699,Region,2,0)","v":"CZ/C2"},"M",""]
["Petr Baros",1974,"Hranice","CZ/M","M",""]
["Petr Bartak",1984,"Letkov","CZ/C1","M",""]
["Petr Brezina",1963,"Frýdlant","CZ/M","M",""]
["Petr Benes",1980,"Raná",{"$f":"VLOOKUP(C703,Region,2,0)","v":"CZ/C2"},"M",{"$f":"IF(A703=\"(prázdné)\",\"\",IF(($G$1-B703)>25,\"\",\"Junior v roce \"&$G$1))","v":""}]
["Petr Bezdek",1965,"Letňany","CZ/C1","M",""]
["Petr Cernicky",1974,"Toužim",{"$f":"VLOOKUP(C705,Region,2,0)","v":"CZ/C1"},"M",""]
["Petr Doubek",1974,"Kralupy","CZ/C1","M",""]
["Petr Filip",1982,"Zbraslavice","CZ/C1","M",""]
["Petr Fisar",1974,"Ústí nad Orlicí","CZ/C2","M",""]
["Petr Fousek",1958,"Zbraslavice","CZ/C1","M",""]
["Petr Frycek",1960,"Most","CZ/C2","M",""]
["Petr Gebauer",1999,"Mladá Boleslav","CZ/C1","M","Junior v roce 2024"]
["Petr Gryc",1949,"Medlánky","CZ/M","M",""]
["Petr Hanacek",1962,"Jeseník","CZ/M","M",""]
["Petr Havelka",1997,"Zbraslavice",{"$f":"VLOOKUP(C714,Region,2,0)","v":"CZ/C1"},"M",""]
["Petr Havrlant",1965,"Šumperk","CZ/M","M",""]
["Petr Herold",1970,"Vlašim",{"$f":"VLOOKUP(C716,Region,2,0)","v":"CZ/C1"},"M",{"$f":"IF(A716=\"(prázdné)\",\"\",IF(($G$1-B716)>25,\"\",\"Junior v roce \"&$G$1))","v":""}]
["Petr Hodulak",1974,"Beroun","CZ/C1","M",""]
["Petr Hofman",1984,"Letňany","CZ/C1","M",""]
["Petr Homola",1974,"GAC Benešov",{"$f":"VLOOKUP(C719,Region,2,0)","v":"CZ/C1"},"M",""]
["Petr Hora",1948,"Hodkovice","CZ/C2","M",""]
["Petr Hosek",2001,"Beroun",{"$f":"VLOOKUP(C721,Region,2,0)","v":"CZ/C1"},"M","Junior v roce 2024"]
["Petr Hotovy",1958,"Česká Lípa",{"$f":"VLOOKUP(C722,Region,2,0)","v":"CZ/C2"},"M",""]
["Petr Houstek 49",1949,"Jaroměř","CZ/C2","M",""]
["Petr Houstek 79",1979,"Jaroměř","CZ/C2","M",""]
["Petr Hrebec",1972,"Točná","CZ/C1","M",""]
["Petr Humlicek",1973,"Medlánky","CZ/M","M",""]
["Petr Hybner",1951,"Liberec","CZ/C2","M",""]
["Petr Jasan",1960,"Medlánky","CZ/M","M",""]
["Petr Jedlicka",1987,"Medlánky","CZ/M","M",""]
["Petr Jiranek 63",1962,"Toužim","CZ/C1","M",""]
["Petr Jiranek 91",1991,"Toužim","CZ/C1","M",""]
["Petr Jirasek",1968,"Hronov","CZ/C2","M",""]
["Petr Kachlik",1954,"GAC Benešov","CZ/C1","M",""]
["Petr Kapounek",1977,"Kroměříž","CZ/M","M",""]
["Petr Kaufmann",1958,"Nové Město nad Metují","CZ/C2","M",""]
["Petr Kejr",1959,"Kralupy","CZ/C1","M",""]
["Petr Kolacek",1965,"Šumperk","CZ/M","M",""]
["Petr Kolomaznik",1981,"Šumperk","CZ/M","M",""]
["Petr Kotal",1975,"Točná","CZ/C1","M",""]
["Petr Koutny",1971,"Křižanov","CZ/M","M",""]
["Petr Kohr",1970,"Raná","CZ/C2","M",""]
["Petr Krejcirik",1960,"Hranice","CZ/M","M",""]
["Petr Kubik 74",1974,"Křižanov","CZ/M","M",""]
["Petr Kubik 75",1975,"Moravská Třebová","CZ/M","M",""]
["Petr Kyzivat",1970,"Jičín","CZ/C2","M",""]
["Petr Lonsky",1965,"Toužim","CZ/C1","M",""]
["Petr Los",1961,"Toužim","CZ/C1","M",{"$f":"IF(A747=\"(prázdné)\",\"\",IF(($G$1-B747)>25,\"\",\"Junior v roce \"&$G$1))","v":""}]
["Petr Macicek",1976,"Frýdlant","CZ/M","M",""]
["Petr Malcek",1965,"Letňany","CZ/C1","M",""]
["Petr Masik",2001,"Zábřeh",{"$f":"VLOOKUP(C750,Region,2,0)","v":"CZ/M"},"M",{"$f":"IF(A750=\"(prázdné)\",\"\",IF(($G$1-B750)>25,\"\",\"Junior v roce \"&$G$1))","v":"Junior v roce 2024"}]
["Petr Mitas",1993,"Kunovice","CZ/M","M",""]
["Petr Omelka",1970,"Vyškov",{"$f":"VLOOKUP(C752,Region,2,0)","v":"CZ/M"},"M",""]
["Petr Panek",1975,"Dvůr Králové","CZ/C2","M",""]
["Petr Petricka",1972,"Soběslav","CZ/C1","M",""]
["Petr Prichystal",1973,"Moravská Třebová","CZ/M","M",""]
["Petr Rajda",1970,"Křižanov","CZ/M","M",""]
["Petr Rozhon",1972,"Hosín","CZ/C1","M",""]
["Petr Rygl",1966,"Jičín","CZ/C2","M",""]
["Petr Seibrt",1974,"Náchod","CZ/C2","M",""]
["Petr Sloupensky",1959,"Ústí nad Orlicí","CZ/C2","M",""]
["Petr Starek",1974,"Zbraslavice","CZ/C1","M",""]
["Petr Striz",1980,"Točná","CZ/C1","M",""]
["Petr Svoboda",1988,"Letkov","CZ/C1","M",""]
["Petr Safar",1978,"Ústí nad Orlicí","CZ/C2","M",""]
["Petr Senkyr",1965,"Kunovice","CZ/M","M",""]
["Petr Setka",1971,"Letkov","CZ/C1","M",""]
["Petr Sindelar 45",1945,"Rakovník",{"$f":"VLOOKUP(C767,Region,2,0)","v":"CZ/C1"},"M",{"$f":"IF(A767=\"(prázdné)\",\"\",IF(($G$1-B767)>25,\"\",\"Junior v roce \"&$G$1))","v":""}]
["Petr Sindelar 80",1980,"Rakovník",{"$f":"VLOOKUP(C768,Region,2,0)","v":"CZ/C1"},"M",{"$f":"IF(A768=\"(prázdné)\",\"\",IF(($G$1-B768)>25,\"\",\"Junior v roce \"&$G$1))","v":""}]
["Petr Sochor",1986,"Hosín",{"$f":"VLOOKUP(C769,Region,2,0)","v":"CZ/C1"},"M",""]
["Petr Spunar",1966,"Mladá Boleslav","CZ/C1","M",""]
["Petr Stepanek",1989,"Moravská Třebová","CZ/M","M",""]
["Petr Styblo",1975,"Letňany",{"$f":"VLOOKUP(C772,Region,2,0)","v":"CZ/C1"},"M",{"$f":"IF(A772=\"(prázdné)\",\"\",IF(($G$1-B772)>25,\"\",\"Junior v roce \"&$G$1))","v":""}]
["Petr Tax",1968,"Jičín",{"$f":"VLOOKUP(C773,Region,2,0)","v":"CZ/C2"},"M",""]
["Petr Tichy",1973,"Zbraslavice","CZ/C1","M",""]
["Petr Traeger",1983,"Vrchlabí",{"$f":"VLOOKUP(C775,Region,2,0)","v":"CZ/C2"},"M",{"$f":"IF(A775=\"(prázdné)\",\"\",IF(($G$1-B775)>25,\"\",\"Junior v roce \"&$G$1))","v":""}]
["Petr Uhrincko",1969,"Kladno","CZ/C1","M",""]
["Petr Valenta 94",1994,"Kunovice","CZ/M","M",""]
["Petr Valenta 76",1976,"Jaroměř",{"$f":"VLOOKUP(C778,Region,2,0)","v":"CZ/C2"},"M",""]
["Petr Velek",1975,"GAC Benešov",{"$f":"VLOOKUP(C779,Region,2,0)","v":"CZ/C1"},"M",""]
["Petr Vezda",1974,"Medlánky",{"$f":"VLOOKUP(C780,Region,2,0)","v":"CZ/M"},"M",""]
["Petr Vlasak",1974,"Medlánky","CZ/M","M",""]
["Petr Vodicka",1965,"Jaroměř","CZ/C2","M",""]
["Petr Zajic",1962,"Liberec","CZ/C2","M",""]
["Petra Benesova",1985,"Beroun","CZ/C1","F",""]
["Petra Diepoldova",1978,"Vysoké Mýto","CZ/C2","F",""]
["Petra Piskata",1989,"Luhačovice","CZ/M","F",""]
["Petra Pinkova",1988,"Letkov","CZ/C1","F",""]
["Petra Retamozova",1990,"Kralupy","CZ/C1","F",""]
["Premek Popovsky",1966,"Kyjov","CZ/M","M",""]
["Premysl Chvoj",2003,"Zbraslavice",{"$f":"VLOOKUP(C790,Region,2,0)","v":"CZ/C1"},"M","Junior v roce 2024"]
["Premysl Muzik",1990,"Hosín","CZ/C1","M",""]
["Radek Bares",1963,"Jičín",{"$f":"VLOOKUP(C792,Region,2,0)","v":"CZ/C2"},"M",{"$f":"IF(A792=\"(prázdné)\",\"\",IF(($G$1-B792)>25,\"\",\"Junior v roce \"&$G$1))","v":""}]
["Radek Bartos",1971,"Kolín",{"$f":"VLOOKUP(C793,Region,2,0)","v":"CZ/C1"},"M",{"$f":"IF(A793=\"(prázdné)\",\"\",IF(($G$1-B793)>25,\"\",\"Junior v roce \"&$G$1))","v":""}]
["Radek Gadas",1998,"Hodkovice",{"$f":"VLOOKUP(C794,Region,2,0)","v":"CZ/C2"},"M",""]
["Radek Hamrla",1973,"Vyškov",{"$f":"VLOOKUP(C795,Region,2,0)","v":"CZ/M"},"M",""]
["Radek Hybl",1980,"Šumperk","CZ/M","M",""]
["Radek Chmela",1984,"Luhačovice","CZ/M","M",""]
["Radek Jaksa",1979,"Prostějov","CZ/M","M",""]
["Radek Krejcirik",1991,"Hranice","CZ/M","M",""]
["Radek Kucirek",1973,"Havlíčkův Brod","CZ/C2","M",""]
["Radek Laga",1997,"Kunovice",{"$f":"VLOOKUP(C801,Region,2,0)","v":"CZ/M"},"M",""]
["Radek Munzar",1976,"Jaroměř","CZ/C2","M",""]
["Radek Tobolka",1977,"Jičín",{"$f":"VLOOKUP(C803,Region,2,0)","v":"CZ/C2"},"M",""]
["Radek Trunec",1989,"Letkov","CZ/C1","M",""]
["Radek Vlcek",1982,"Šumperk","CZ/M","M",""]
["Radek Zima 78",1978,"Hodkovice","CZ/C2","M",""]
["Radek Zima 75",1975,"Břeclav","CZ/M","M",""]
["Radim Bradac",1995,"Letňany","CZ/C1","M",""]
["Radim Hahn",1972,"Zábřeh","CZ/M","M",""]
["Radim Hauptmann",1963,"Jičín","CZ/C2","M",""]
["Radim Jordan",1976,"Žamberk","CZ/C2","M",""]
["Radim Krofta",1984,"Rakovník","CZ/C1","M",""]
["Radim Malatek",1978,"Beroun","CZ/C1","M",""]
["Radim Sobek",1977,"Hranice",{"$f":"VLOOKUP(C814,Region,2,0)","v":"CZ/M"},"M",{"$f":"IF(A814=\"(prázdné)\",\"\",IF(($G$1-B814)>25,\"\",\"Junior v roce \"&$G$1))","v":""}]
["Radim Tomala",1972,"Prostějov",{"$f":"VLOOKUP(C815,Region,2,0)","v":"CZ/M"},"M",{"$f":"IF(A815=\"(prázdné)\",\"\",IF(($G$1-B815)>25,\"\",\"Junior v roce \"&$G$1))","v":""}]
["Radim Vadasz",1989,"Soběslav","CZ/C1","M",""]
["Radim Zielinski",1969,"Frýdlant","CZ/M","M",""]
["Radmila Horacek Filakovska",1963,"Dvůr Králové","CZ/C2","F",""]
["Radoslav Pur",1973,"Hosín","CZ/C1","M",""]
["Radovan Otto",1968,"Ústí nad Labem","CZ/C2","M",{"$f":"IF(A820=\"(prázdné)\",\"\",IF(($G$1-B820)>25,\"\",\"Junior v roce \"&$G$1))","v":""}]
["Radovan Sohr",1965,"Hranice","CZ/M","M","",null,"Dříve Jičín"]
["Rene Hudak",1972,"Kunovice","CZ/M","M",""]
["Rene Picha",1970,"Vlašim","CZ/C1","M",""]
["Richard Jensen",1965,"Zbraslavice","CZ/C1","M",""]
["Richard Svarovsky",1976,"Zábřeh","CZ/M","M",""]
["Richard Vlcek",1993,"Kunovice","CZ/M","M",""]
["Robert Jandera",1976,"Hodkovice","CZ/C2","M",""]
["Robert Sima",1971,"GAC Benešov","CZ/C1","M",""]
["Robin Stichenwirth",1984,"Letkov",{"$f":"VLOOKUP(C829,Region,2,0)","v":"CZ/C1"},"M",{"$f":"IF(A829=\"(prázdné)\",\"\",IF(($G$1-B829)>25,\"\",\"Junior v roce \"&$G$1))","v":""}]
["Roman Cerny",1971,"Hranice","CZ/M","M",""]
["Roman Huszar",1963,"Letňany","CZ/C1","M",""]
["Roman Jokl",1979,"Letkov","CZ/C1","M",""]
["Roman Konarik",1976,"Luhačovice","CZ/M","M",""]
["Roman Lanzendorf",1964,"Letkov","CZ/C1","M",""]
["Roman Lengal",1987,"Břeclav",{"$f":"VLOOKUP(C835,Region,2,0)","v":"CZ/M"},"M",""]
["Roman Lukes",1979,"Přibyslav",{"$f":"VLOOKUP(C836,Region,2,0)","v":"CZ/C2"},"M",""]
["Roman Michalek",1974,"Toužim","CZ/C1","M",""]
["Roman Mracek",1980,"Letkov","CZ/C1","M",""]
["Roman Schotli",1970,"Hranice","CZ/M","M",""]
["Roman Stoklasa",1984,"Medlánky","CZ/M","M",""]
["Rostislav Broz",1968,"Vrchlabí","CZ/C2","M",""]
["Rostislav Fric",1973,"Raná","CZ/C2","M","",null,"Dříve Jičín"]
["Rostislav Konderla",1972,"Rakovník",{"$f":"VLOOKUP(C843,Region,2,0)","v":"CZ/C1"},"M",{"$f":"IF(A843=\"(prázdné)\",\"\",IF(($G$1-B843)>25,\"\",\"Junior v roce \"&$G$1))","v":""}]
["Rostislav Matl",1972,"Vyškov","CZ/M","M",""]
["Rostislav Stryk",1972,"Frýdlant","CZ/M","M",""]
["Rostislav Subert",1982,"Šumperk","CZ/M","M",""]
["Rudolf Ferbar",1969,"Moravská Třebová","CZ/M","M",""]
["Rudolf Jung",1954,"Zbraslavice","CZ/C1","M",""]
["Sabina Vitova",1998,"Kroměříž","CZ/M","F",""]
["Slavomir Piskaty 58",1958,"Kunovice","CZ/M","M",""]
["Slavomir Piskaty 84",1984,"Kunovice","CZ/M","M",""]
["Slavomir Tanglmajer",1966,"Chomutov","CZ/C2","M",""]
["Slavomir Valecko",1960,"Hranice","CZ/M","M",""]
["Sona Fortova",1980,"GAC Benešov","CZ/C1","F",""]
["Stanislav Doskocil",1978,"Medlánky","CZ/M","M",""]
["Stanislav Hanus",1970,"Vrchlabí","CZ/C2","M",""]
["Stanislav Honzatko",1952,"Slaný","CZ/C1","M",""]
["Stanislav John",1974,"Hosín",{"$f":"VLOOKUP(C858,Region,2,0)","v":"CZ/C1"},"M",""]
["Stanislav Kubicek",1960,"Medlánky","CZ/M","M",""]
["Stanislav Poslusny",1965,"GAC Benešov","CZ/C1","M",""]
["Stanislav Vrabec",1975,"Česká Lípa",{"$f":"VLOOKUP(C861,Region,2,0)","v":"CZ/C2"},"M",""]
["Stanislava Zemlickova",2000,"Vyškov",{"$f":"VLOOKUP(C862,Region,2,0)","v":"CZ/M"},"F","Junior v roce 2024"]
["Svatopluk Tomsu",1973,"Jaroměř","CZ/C2","M",""]
["Sarka Lochova",1966,"Šumperk","CZ/M","F",""]
["Stefan Uher",1968,"Turnov","CZ/C2","M",""]
["Stepan Bartos",2004,"Kolín",{"$f":"VLOOKUP(C866,Region,2,0)","v":"CZ/C1"},"M",{"$f":"IF(A866=\"(prázdné)\",\"\",IF(($G$1-B866)>25,\"\",\"Junior v roce \"&$G$1))","v":"Junior v roce 2024"}]
["Stepan Capek",1960,"Jičín",{"$f":"VLOOKUP(C867,Region,2,0)","v":"CZ/C2"},"M",{"$f":"IF(A867=\"(prázdné)\",\"\",IF(($G$1-B867)>25,\"\",\"Junior v roce \"&$G$1))","v":""}]
["Stepan Filakovsky",2005,"Medlánky",{"$f":"VLOOKUP(C868,Region,2,0)","v":"CZ/M"},"M",{"$f":"IF(A868=\"(prázdné)\",\"\",IF(($G$1-B868)>25,\"\",\"Junior v roce \"&$G$1))","v":"Junior v roce 2024"}]
["Stepan Matous",1980,"Dvůr Králové","CZ/C2","M",""]
["Stepan Obrovsky",1990,"Frýdlant",{"$f":"VLOOKUP(C870,Region,2,0)","v":"CZ/M"},"M",""]
["Teodor Skoda",1998,"Hronov",{"$f":"VLOOKUP(C871,Region,2,0)","v":"CZ/C2"},"M",""]
["Tereza Jirsakova",1997,"Hronov","CZ/C2","F",""]
["Tereza Koubkova",1999,"Vysoké Mýto","CZ/C2","F","Junior v roce 2024"]
["Tereza Krcilova Spalenkova",1981,"Raná",{"$f":"VLOOKUP(C874,Region,2,0)","v":"CZ/C2"},"F",""]
["Tereza Ludvikova",1997,"Jaroměř",{"$f":"VLOOKUP(C875,Region,2,0)","v":"CZ/C2"},"F",{"$f":"IF(A875=\"(prázdné)\",\"\",IF(($G$1-B875)>25,\"\",\"Junior v roce \"&$G$1))","v":""}]
["Tereza Novakova",1993,"Chrudim",{"$f":"VLOOKUP(C876,Region,2,0)","v":"CZ/C2"},"F",""]
["Tibor Hezina",2002,"Křižanov",{"$f":"VLOOKUP(C877,Region,2,0)","v":"CZ/M"},"M","Junior v roce 2024"]
["Tibor Hruza",1970,"Letkov","CZ/C1","M",""]
["Tim Raasch",2000,"Polička",{"$f":"VLOOKUP(C879,Region,2,0)","v":"CZ/C2"},"M","Junior v roce 2024"]
["Tomas Barton",1982,"Hosín","CZ/C1","M",""]
["Tomas Buben",1971,"Jaroměř","CZ/C2","M",""]
["Tomas Ditrt",1969,"Podhořany","CZ/C2","M",""]
["Tomas Fiala 72",1972,"Křižanov","CZ/M","M",""]
["Tomas Fiala 77",1977,"Luhačovice","CZ/M","M",""]
["Tomas Fila",1987,"Beroun","CZ/C1","M",""]
["Tomas Flegl",1987,"Hodkovice",{"$f":"VLOOKUP(C886,Region,2,0)","v":"CZ/C2"},"M",""]
["Tomas Frinta",1970,"Hodkovice","CZ/C2","M",""]
["Tomas Hlavacek",1984,"Mladá Boleslav",{"$f":"VLOOKUP(C888,Region,2,0)","v":"CZ/C1"},"M",""]
["Tomas Hlavenka",1987,"Luhačovice","CZ/M","M",""]
["Tomas Holenda",1956,"Havlíčkův Brod",{"$f":"VLOOKUP(C890,Region,2,0)","v":"CZ/C2"},"M",{"$f":"IF(A890=\"(prázdné)\",\"\",IF(($G$1-B890)>25,\"\",\"Junior v roce \"&$G$1))","v":""}]
["Tomas Holzapfel",1975,"Mladá Boleslav","CZ/C1","M",""]
["Tomas Hulmak",1999,"Hosín","CZ/C1","M","Junior v roce 2024"]
["Tomas Hynek",2002,"Dvůr Králové",{"$f":"VLOOKUP(C893,Region,2,0)","v":"CZ/C2"},"M","Junior v roce 2024"]
["Tomas Charvat",1981,"Vysoké Mýto","CZ/C2","M",""]
["Tomas Jakoubek",2000,"Hronov",{"$f":"VLOOKUP(C895,Region,2,0)","v":"CZ/C2"},"M","Junior v roce 2024"]
["Tomas Jedlicka",1959,"Karlštejn","CZ/C1","M",""]
["Tomas Jilek",1995,"Raná","CZ/C2","M",""]
["Tomas Jiricny",1981,"Hodkovice","CZ/C2","M",""]
["Tomas Jung",1950,"Zbraslavice","CZ/C1","M",""]
["Tomas Kohout",1981,"Slaný","CZ/C1","M",""]
["Tomas Koutnik",1985,"Jaroměř","CZ/C2","M",""]
["Tomas Kovarik",1965,"Zbraslavice","CZ/C1","M",""]
["Tomas Kubac",1993,"Roudnice","CZ/C2","M",""]
["Tomas Kulhavy",2001,"Liberec",{"$f":"VLOOKUP(C904,Region,2,0)","v":"CZ/C2"},"M","Junior v roce 2024"]
["Tomas Lisec",1984,"Točná","CZ/C1","M",""]
["Tomas Magnusek",1988,"Frýdlant","CZ/M","M",""]
["Tomas Malik",1972,"Letňany","CZ/C1","M",""]
["Tomas Malinsky",1988,"Křižanov","CZ/M","M",""]
["Tomas Manasek",1980,"Kunovice","CZ/M","M",""]
["Tomas Mezera",1973,"Raná","CZ/C2","M",""]
["Tomas Michna",1989,"Šumperk","CZ/M","M",""]
["Tomas Moravec",2000,"Žamberk","CZ/C2","M","Junior v roce 2024"]
["Tomas Morch",1981,"Raná","CZ/C2","M",""]
["Tomas Novak",1974,"Česká Lípa",{"$f":"VLOOKUP(C914,Region,2,0)","v":"CZ/C2"},"M",""]
["Tomas Ohera",1977,"Letňany","CZ/C1","M",""]
["Tomas Ondrusek",1994,"Letkov","CZ/C1","M",""]
["Tomas Ondrisek",1970,"Kunovice","CZ/M","M",""]
["Tomas Palata",1966,"Liberec","CZ/C2","M",""]
["Tomas Podolak",1986,"Kralupy","CZ/C1","M",""]
["Tomas Profeld",1964,"Jičín","CZ/C2","M",""]
["Tomas Prokop",1972,"Šumperk","CZ/M","M",""]
["Tomas Prikryl",1973,"Vyškov","CZ/M","M",""]
["Tomas Ptacovsky",1981,"Letňany","CZ/C1","M",""]
["Tomas Rendla",1973,"Zbraslavice","CZ/C1","M",""]
["Tomas Rysavy",1959,"Medlánky","CZ/M","M",""]
["Tomas Sedlacek",1972,"Zbraslavice","CZ/C1","M",""]
["Tomas Seifert",1972,"Raná","CZ/C2","M",""]
["Tomas Shrbeny",1968,"Točná","CZ/C1","M",""]
["Tomas Suchanek",1964,"GAC Benešov","CZ/C1","M",""]
["Tomas Talanda",1988,"Křižanov","CZ/M","M",""]
["Tomas Turek",1988,"Zbraslavice",{"$f":"VLOOKUP(C931,Region,2,0)","v":"CZ/C1"},"M",""]
["Tomas Vaclavik",1974,"Hosín",{"$f":"VLOOKUP(C932,Region,2,0)","v":"CZ/C1"},"M",""]
["Tomas Vrbsky",1964,"Letkov","CZ/C1","M",""]
["Tomas Zamecnik",1988,"Zbraslavice","CZ/C1","M",""]
["Ulf Kern",1958,"Raná","CZ/C2","M",""]
["Vaclav Cerny",1949,"Slaný","CZ/C1","M",""]
["Vaclav Halek",1966,"Toužim",{"$f":"VLOOKUP(C937,Region,2,0)","v":"CZ/C1"},"M",""]
["Vaclav Hrdina",1984,"Letkov",{"$f":"VLOOKUP(C938,Region,2,0)","v":"CZ/C1"},"M",""]
["Vaclav Hruza",1965,"Břeclav","CZ/M","M",""]
["Vaclav Koudelka",1997,"Jičín","CZ/C2","M",""]
["Vaclav Krejcar",1943,"Hořice","CZ/C2","M",""]
["Vaclav Kult",1973,"Broumov","CZ/C2","M",""]
["Vaclav Kunasek",1987,"Zbraslavice","CZ/C1","M",""]
["Vaclav Kysilka",1979,"GAC Benešov",{"$f":"VLOOKUP(C944,Region,2,0)","v":"CZ/C1"},"M",""]
["Vaclav Marel",1974,"Jaroměř","CZ/C2","M",""]
["Vaclav Ochotny",1966,"Kunovice",{"$f":"VLOOKUP(C946,Region,2,0)","v":"CZ/M"},"M",""]
["Vaclav Petru",1974,"Letňany","CZ/C1","M",""]
["Vaclav Sehnal",1962,"Kolín","CZ/C1","M",""]
["Vaclav Svoboda",1970,"Letkov","CZ/C1","M",""]
["Vaclav Trnka",1939,"Ústí nad Orlicí","CZ/C2","M",""]
["Vaclav Zeman",1984,"Zbraslavice","CZ/C1","M",""]
["Vaclav Zak",1962,"GAC Benešov","CZ/C1","M",""]
["Vera Vavrinova",1949,"Vysoké Mýto","CZ/C2","F",""]
["Veronika Ambrozova",1984,"Křižanov","CZ/M","F",""]
["Veronika Jezkova",1986,"Mladá Boleslav","CZ/C1","F",{"$f":"IF(A955=\"(prázdné)\",\"\",IF(($G$1-B955)>25,\"\",\"Junior v roce \"&$G$1))","v":""}]
["Veronika Mullerova",1983,"Letňany","CZ/C1","F",""]
["Viktor Becan",1979,"Vlašim","CZ/C1","M","",null,"GAC Benešov do 2022"]
["Viktor Tvrdik",1977,"Rakovník",{"$f":"VLOOKUP(C958,Region,2,0)","v":"CZ/C1"},"M",{"$f":"IF(A958=\"(prázdné)\",\"\",IF(($G$1-B958)>25,\"\",\"Junior v roce \"&$G$1))","v":""}]
["Viktor Zimcik",1976,"Kunovice",{"$f":"VLOOKUP(C959,Region,2,0)","v":"CZ/M"},"M",""]
["Vilem Riha",1990,"Letňany","CZ/C1","M",""]
["Vit Grossmann",1977,"Hranice",{"$f":"VLOOKUP(C961,Region,2,0)","v":"CZ/M"},"M",""]
["Vit Hrdlicka",1960,"Medlánky","CZ/M","M",""]
["Vit Morkovsky",2000,"Polička","CZ/C2","M","Junior v roce 2024"]
["Vit Novak",1985,"Olomouc","CZ/M","M",""]
["Vit Pavelka",2004,"Moravská Třebová",{"$f":"VLOOKUP(C965,Region,2,0)","v":"CZ/M"},"M",{"$f":"IF(A965=\"(prázdné)\",\"\",IF(($G$1-B965)>25,\"\",\"Junior v roce \"&$G$1))","v":"Junior v roce 2024"}]
["Vit Prokop",1987,"Medlánky",{"$f":"VLOOKUP(C966,Region,2,0)","v":"CZ/M"},"M",""]
["Vit Rydl",1969,"Turnov","CZ/C2","M",""]
["Vit Tvrdik",2000,"Letňany","CZ/C1","M","Junior v roce 2024"]
["Vladimir Abraham",1962,"Raná","CZ/C2","M",""]
["Vladimir Baran",1949,"Frýdlant","CZ/M","M",""]
["Vladimir Dostal",1943,"Hronov","CZ/C2","M",""]
["Vladimir Fousek",1964,"Raná","CZ/C2","M",""]
["Vladimir Fux",1963,"Křižanov","CZ/M","M",""]
["Vladimir Hammer",2000,"Letkov",{"$f":"VLOOKUP(C974,Region,2,0)","v":"CZ/C1"},"M","Junior v roce 2024"]
["Vladimir Hampl",1970,"Dvůr Králové","CZ/C2","M",""]
["Vladimir Jirka",1965,"Zábřeh","CZ/M","M",""]
["Vladimir Kamensky",1983,"Břeclav","CZ/M","M",""]
["Vladimir Kramosil",1937,"Most","CZ/C2","M",""]
["Vladimir Maca",1982,"Jihlava","CZ/M","M",""]
["Vladimir Nemec",1976,"Jeseník","CZ/M","M",""]
["Vladimir Prihoda",1953,"Kralupy","CZ/C1","M",""]
["Vladimir Spilka",1940,"Hranice","CZ/M","M",""]
["Vladislav Cadsky",1975,"Kolín",{"$f":"VLOOKUP(C983,Region,2,0)","v":"CZ/C1"},"M",{"$f":"IF(A983=\"(prázdné)\",\"\",IF(($G$1-B983)>25,\"\",\"Junior v roce \"&$G$1))","v":""}]
["Vlastislav Picka",1948,"Jindřichův Hradec","CZ/C1","M",""]
["Vojtech Bartos",1970,"Medlánky","CZ/M","M",""]
["Vojtech Flidr",2003,"Dvůr Králové",{"$f":"VLOOKUP(C986,Region,2,0)","v":"CZ/C2"},"M","Junior v roce 2024"]
["Vojtech Hajek",1987,"Mladá Boleslav","CZ/C1","M",""]
["Vojtech Karlik",1982,"Kunovice","CZ/M","M",""]
["Vojtech Kostejn",1974,"Česká Lípa","CZ/C2","M",""]
["Vojtech Labuda",1980,"Příbram","CZ/C1","M",""]
["Vojtech Novotny",1992,"Kralupy","CZ/C1","M",""]
["Vojtech Pavek",2000,"Medlánky",{"$f":"VLOOKUP(C992,Region,2,0)","v":"CZ/M"},"M",{"$f":"IF(A992=\"(prázdné)\",\"\",IF(($G$1-B992)>25,\"\",\"Junior v roce \"&$G$1))","v":"Junior v roce 2024"}]
["Vojtech Petrovicky",1986,"Mladá Boleslav","CZ/C1","M",""]
["Vojtech Pivonka",1976,"Vrchlabí","CZ/C2","M",""]
["Vojtech Sehnal",1994,"Kolín","CZ/C1","M",""]
["Vojtech Stavny",1962,"Letkov","CZ/C1","M",""]
["Vojtech Svoboda",1994,"Zbraslavice",{"$f":"VLOOKUP(C997,Region,2,0)","v":"CZ/C1"},"M",""]
["Vojtech Vach 76",1976,"Nové Město nad Metují","CZ/C2","M",""]
["Vojtech Vach 03",2003,"Nové Město nad Metují",{"$f":"VLOOKUP(C999,Region,2,0)","v":"CZ/C2"},"M",{"$f":"IF(A999=\"(prázdné)\",\"\",IF(($G$1-B999)>25,\"\",\"Junior v roce \"&$G$1))","v":"Junior v roce 2024"}]
["Vratislav Orlita",1946,"Kunovice","CZ/M","M",""]
["Vratislav Sram",1966,"Broumov","CZ/C2","M",""]
["Wolfgang Sluka",1942,"Liberec","CZ/C2","M",""]
["Yvona Vyhnankova",1963,"Olomouc","CZ/M","F",""]
["Zbynek Bican",1961,"Raná","CZ/C2","M",""]
["Zbynek Fuksa",1956,"Jičín",{"$f":"VLOOKUP(C1005,Region,2,0)","v":"CZ/C2"},"M",""]
["Zbynek Zdrahal",1965,"Medlánky","CZ/M","M",""]
["Zbynek Koudelka",1991,"Křižanov","CZ/M","M",""]
["Zbynek Kuchta",1976,"Klatovy",{"$f":"VLOOKUP(C1008,Region,2,0)","v":"CZ/C1"},"M",""]
["Zdenek Balcarek",1967,"Kroměříž","CZ/M","M",""]
["Zdenek Bohm",1963,"Kolín","CZ/C1","M",""]
["Zdenek Boruvka 54",1954,"Jičín","CZ/C2","M",""]
["Zdenek Boruvka 86",1986,"Jičín","CZ/C2","M",""]
["Zdenek Buben",1978,"Hodkovice","CZ/C2","M",""]
["Zdenek Kropac",1981,"Kladno","CZ/C1","M",""]
["Zdenek Krivanek",1967,"Kolín","CZ/C1","M",""]
["Zdenek Mach",1976,"Broumov","CZ/C2","M",""]
["Zdenek Parizek",1984,"Raná","CZ/C2","M",""]
["Zdenek Schenk",1972,"Hranice","CZ/M","M",""]
["Zdenek Setek",1980,"Kolín","CZ/C1","M",""]
["Zdenek Spacek",1980,"Přibyslav","CZ/C2","M",""]
["Zdenek Zabloudil",1962,"Medlánky","CZ/M","M",""]
["Zdenek Zerzan",1968,"Šumperk",{"$f":"VLOOKUP(C1022,Region,2,0)","v":"CZ/M"},"M",""]
["Zuzana Kutilkova",1993,"Křižanov",{"$f":"VLOOKUP(C1023,Region,2,0)","v":"CZ/M"},"F",""]
["Zuzana Markesova",2001,"Medlánky",{"$f":"VLOOKUP(C1024,Region,2,0)","v":"CZ/M"},"F","Junior v roce 2024"]
["Zitomir Krepinsky",1987,"Chrudim",{"$f":"VLOOKUP(C1025,Region,2,0)","v":"CZ/C2"},"M",{"$f":"IF(A1025=\"(prázdné)\",\"\",IF(($G$1-B1025)>25,\"\",\"Junior v roce \"&$G$1))","v":""}]

{"sheet":"Region","index":4,"n_rows":116,"n_cols":4,"rows_kept":116,"cut":false,"hidden":true,"merged":[]}
["Aeroklub","Region","Počet",{"$f":"C70+C37+C2","v":89}]
["Benešov","CZ/C1",{"$f":"COUNTIF(B2:B35,B2)","v":34}]
["Beroun","CZ/C1"]
["Bystřice u Benešova","CZ/C1"]
["Erpužice","CZ/C1"]
["GAC Benešov","CZ/C1"]
["Hořovice","CZ/C1"]
["Hosín","CZ/C1"]
["Jindřichův Hradec","CZ/C1"]
["Karlovy Vary","CZ/C1"]
["Karlštejn","CZ/C1"]
["Kladno","CZ/C1"]
["Klatovy","CZ/C1"]
["Kolín","CZ/C1"]
["Kralupy","CZ/C1"]
["Letkov","CZ/C1"]
["Letňany","CZ/C1"]
["Mladá Boleslav","CZ/C1"]
["Nesvačily","CZ/C1"]
["Panenský Týnec","CZ/C1"]
["Plasy","CZ/C1"]
["Plzeň Bory","CZ/C1"]
["Prachatice","CZ/C1"]
["Příbram","CZ/C1"]
["Rakovník","CZ/C1"]
["Slaný","CZ/C1"]
["Soběslav","CZ/C1"]
["Staňkov","CZ/C1"]
["Strakonice","CZ/C1"]
["Tábor","CZ/C1"]
["Tachov","CZ/C1"]
["Točná","CZ/C1"]
["Toužim","CZ/C1"]
["Vlašim","CZ/C1"]
["Zbraslavice","CZ/C1"]
["-","-"]
["Broumov","CZ/C2",{"$f":"COUNTIF(B37:B68,B37)","v":32}]
["Česká Lípa","CZ/C2"]
["Dvůr Králové","CZ/C2"]
["Havlíčkův Brod","CZ/C2"]
["Hodkovice","CZ/C2"]
["Hořice","CZ/C2"]
["Hradčany","CZ/C2"]
["Hronov","CZ/C2"]
["Chomutov","CZ/C2"]
["Chotěboř","CZ/C2"]
["Chrudim","CZ/C2"]
["Jaroměř","CZ/C2"]
["Jičín","CZ/C2"]
["Letecká společnost na Vysočině","CZ/C2"]
["Liberec","CZ/C2"]
["Mnichovo Hradiště","CZ/C2"]
["Most","CZ/C2"]
["Náchod","CZ/C2"]
["Nové Město nad Metují","CZ/C2"]
["Pardubice","CZ/C2"]
["Podhořany","CZ/C2"]
["Polička","CZ/C2"]
["Přibyslav","CZ/C2"]
["Raná","CZ/C2"]
["Roudnice","CZ/C2"]
["Skuteč","CZ/C2"]
["Turnov","CZ/C2"]
["Ústí nad Labem","CZ/C2"]
["Ústí nad Orlicí","CZ/C2"]
["Vrchlabí","CZ/C2"]
["Vysoké Mýto","CZ/C2"]
["Žamberk","CZ/C2"]
["-","-"]
["Bohuňovice","CZ/M",{"$f":"COUNTIF(B70:B92,B70)","v":23}]
["Břeclav","CZ/M"]
["LK Břeclav","CZ/M"]
["Frýdlant","CZ/M"]
["Hranice","CZ/M"]
["Jeseník","CZ/M"]
["Jihlava","CZ/M"]
["Krnov","CZ/M"]
["Kroměříž","CZ/M"]
["Křižanov","CZ/M"]
["Kunovice","CZ/M"]
["Kyjov","CZ/M"]
["Luhačovice","CZ/M"]
["Medlánky","CZ/M"]
["Moravská Třebová","CZ/M"]
["Olomouc","CZ/M"]
["Prostějov","CZ/M"]
["Slatina","CZ/M"]
["Slavičín","CZ/M"]
["Stichovice","CZ/M"]
["Šumperk","CZ/M"]
["Vyškov","CZ/M"]
["Zábřeh","CZ/M"]
[]
["Aalborg","DK"]
["Air Sympatia","SK"]
["Akaflieg Dresden","DE"]
["Bad Nauheim","DE"]
["Bratislava","SK"]
["Dánsko","DK"]
["Greiz","DE"]
["Japonsko","JP"]
["Jelenia Góra","PL"]
["Martin","SK"]
["Německo","DE"]
["Nitra","SK"]
["Novo Mesto","SI"]
["Poprad","SK"]
["Prešov","SK"]
["Prievidza","SK"]
["Rakousko","AT"]
["Ružomberok","SK"]
["SGC Martin","SK"]
["Slovinsko","SI"]
["Trenčín","SK"]
["Trnava","SK"]
["Žilina","SK"]

{"sheet":"Temp","index":5,"n_rows":1,"n_cols":19,"rows_kept":1,"cut":false,"hidden":true,"merged":[]}
["Jmeno","Rok narození","M/F","Aeroklub","Region","Soutěž","Stát","Rok","Pořadí ve třídě","Body ve třídě","Kinp","Bi","Bi×Kinp","G","W","Typ","CN","Junior","Poznámka"]

{"sheet":"Data","index":6,"n_rows":2713,"n_cols":19,"rows_kept":2713,"cut":false,"hidden":false,"merged":[]}
[null,null,null,null,null,null,null,null,null,null,null,null,"Počet X filtr:",{"$f":"SUBTOTAL(103,N7:N9998)","v":920},{"$f":"SUBTOTAL(103,O7:O9998)","v":64}]
["*",null,null,null,null,null,null,null,null,null,null,null,"Počet X:",{"$f":"COUNTIFS(N$7:N$9998,\"x\",$A$7:$A$9998,$A$2)","v":920},{"$f":"COUNTIFS(O$7:O$9998,\"x\",$A$7:$A$9998,$A$2)","v":64}]
[null,null,null,null,null,null,null,2017,null,null,null,null,null,{"$f":"COUNTIFS(#REF!,$H3,#REF!,\"x\",#REF!,$A$2)","v":{"$error":"#REF!"}},{"$f":"COUNTIFS(#REF!,$H3,#REF!,\"x\",#REF!,$A$2)","v":{"$error":"#REF!"}}]
[null,null,null,null,null,null,null,2016,null,null,null,null,null,{"$f":"COUNTIFS(#REF!,$H4,#REF!,\"x\",#REF!,$A$2)","v":{"$error":"#REF!"}},{"$f":"COUNTIFS(#REF!,$H4,#REF!,\"x\",#REF!,$A$2)","v":{"$error":"#REF!"}}]
[null,null,null,null,null,null,null,2015,null,null,null,null,null,{"$f":"COUNTIFS(#REF!,$H5,#REF!,\"x\",#REF!,$A$2)","v":{"$error":"#REF!"}},{"$f":"COUNTIFS(#REF!,$H5,#REF!,\"x\",#REF!,$A$2)","v":{"$error":"#REF!"}}]
["Jméno","Rok narození","M/F","Aeroklub","Region","Soutěž","Stát","Rok","Pořadí ve třídě","Body ve třídě","Kinp","Bi","Bi×Kinp","G","W","Typ","CN","Junior","Poznámka"]
["Lukas Kriz",{"$f":"VLOOKUP(A7,Pilot,2,0)","v":2003},{"$f":"VLOOKUP(A7,Pilot,5,0)","v":"M"},{"$f":"VLOOKUP(A7,Pilot,3,0)","v":"Křižanov"},{"$f":"VLOOKUP(A7,Pilot,4,0)","v":"CZ/M"},"JPJ 2021 - Klub",{"$f":"VLOOKUP(F7,Soutez!A:B,2,FALSE)","v":"CZ"},{"$f":"VLOOKUP(F7,Soutez!A:C,3,FALSE)","v":2021},1,3547,{"$f":"VLOOKUP(F7,Soutez,12,0)","v":0.90500000000000003},{"$f":"ROUND(J7/MAX($J$7:$J$42)*10000*0.7+(MAX($I$7:$I$42)-I7)/(MAX($I$7:$I$42)-1)*10000*0.3,0)","v":10000},{"$f":"ROUND(K7*L7,0)","v":9050},null,null,"Std. Cirrus","EJ",{"$f":"IF(ISERROR(VLOOKUP(A7,Pilot,6,0)),\"Není v databázi\",VLOOKUP(A7,Pilot,6,0))","v":"Junior v roce 2024"}]
["Josef Novotny",1983,"M","Přibyslav","CZ/C2","JPJ 2021 - Klub",{"$f":"VLOOKUP(F8,Soutez!A:B,2,FALSE)","v":"CZ"},{"$f":"VLOOKUP(F8,Soutez!A:C,3,FALSE)","v":2021},2,3464,0.90500000000000003,9750,{"$f":"ROUND(K8*L8,0)","v":8824},"x",null,"Std. Cirrus","AW",""]
["Marek Blatak",1969,"M","Šumperk","CZ/M","JPJ 2021 - Klub",{"$f":"VLOOKUP(F9,Soutez!A:B,2,FALSE)","v":"CZ"},{"$f":"VLOOKUP(F9,Soutez!A:C,3,FALSE)","v":2021},3,3388,0.90500000000000003,9515,8611,"x",null,"LS-1f","LS",""]
["David Sachl",1978,"M","Kralupy","CZ/C1","JPJ 2021 - Klub",{"$f":"VLOOKUP(F10,Soutez!A:B,2,FALSE)","v":"CZ"},{"$f":"VLOOKUP(F10,Soutez!A:C,3,FALSE)","v":2021},4,3362,0.90500000000000003,9378,8487,"x",null,"DG-300 Club ELAN WL","BK",""]
["Martin Ficnar",{"$f":"VLOOKUP(A11,Pilot,2,0)","v":1971},{"$f":"VLOOKUP(A11,Pilot,5,0)","v":"M"},{"$f":"VLOOKUP(A11,Pilot,3,0)","v":"Šumperk"},{"$f":"VLOOKUP(A11,Pilot,4,0)","v":"CZ/M"},"JPJ 2021 - Klub",{"$f":"VLOOKUP(F11,Soutez!A:B,2,FALSE)","v":"CZ"},{"$f":"VLOOKUP(F11,Soutez!A:C,3,FALSE)","v":2021},5,3311,0.90500000000000003,9191,8318,"x",null,"LS-3a 15m","S20",""]
["Jindrich Svorc",1978,"M","Letňany","CZ/C1","JPJ 2021 - Klub",{"$f":"VLOOKUP(F12,Soutez!A:B,2,FALSE)","v":"CZ"},{"$f":"VLOOKUP(F12,Soutez!A:C,3,FALSE)","v":2021},6,3214,0.90500000000000003,8914,8067,"x",null,"Std. Cirrus","IMI",""]
["Jan Mareth",1979,"M","Frýdlant","CZ/M","JPJ 2021 - Klub",{"$f":"VLOOKUP(F13,Soutez!A:B,2,FALSE)","v":"CZ"},{"$f":"VLOOKUP(F13,Soutez!A:C,3,FALSE)","v":2021},7,3209,0.90500000000000003,8819,7981,"x",null,"ASW-15B","PA",""]
["Martin Urner",1974,"M","Letňany","CZ/C1","JPJ 2021 - Klub",{"$f":"VLOOKUP(F14,Soutez!A:B,2,FALSE)","v":"CZ"},{"$f":"VLOOKUP(F14,Soutez!A:C,3,FALSE)","v":2021},8,3123,0.90500000000000003,8563,7750,"x",null,"ASW-15B","JJ",""]
["Josef Novak",1981,"M","Kunovice","CZ/M","JPJ 2021 - Klub",{"$f":"VLOOKUP(F15,Soutez!A:B,2,FALSE)","v":"CZ"},{"$f":"VLOOKUP(F15,Soutez!A:C,3,FALSE)","v":2021},9,3102,0.90500000000000003,8436,7635,"x",null,"Discus CS","CS",""]
["Rene Hudak",1972,"M","Kunovice","CZ/M","JPJ 2021 - Klub",{"$f":"VLOOKUP(F16,Soutez!A:B,2,FALSE)","v":"CZ"},{"$f":"VLOOKUP(F16,Soutez!A:C,3,FALSE)","v":2021},10,3074,0.90500000000000003,8295,7507,"x",null,"Std. Cirrus WL","NK",""]
["Petr Kolomaznik",1981,"M","Šumperk","CZ/M","JPJ 2021 - Klub",{"$f":"VLOOKUP(F17,Soutez!A:B,2,FALSE)","v":"CZ"},{"$f":"VLOOKUP(F17,Soutez!A:C,3,FALSE)","v":2021},11,3021,0.90500000000000003,8105,7335,"x",null,"Discus b","VE",""]
["Pavlina Horackova",1965,"F","Šumperk","CZ/M","JPJ 2021 - Klub",{"$f":"VLOOKUP(F18,Soutez!A:B,2,FALSE)","v":"CZ"},{"$f":"VLOOKUP(F18,Soutez!A:C,3,FALSE)","v":2021},12,2971,0.90500000000000003,7920,7168,"x","x","SZD-48 Jantar std. 2","SU",""]
["David Vrchota",1976,"M","Jaroměř","CZ/C2","JPJ 2021 - Klub",{"$f":"VLOOKUP(F19,Soutez!A:B,2,FALSE)","v":"CZ"},{"$f":"VLOOKUP(F19,Soutez!A:C,3,FALSE)","v":2021},13,2940,0.90500000000000003,7774,7035,null,null,"Std. Cirrus","GO",""]
["Vaclav Marel",1974,"M","Jaroměř","CZ/C2","JPJ 2021 - Klub",{"$f":"VLOOKUP(F20,Soutez!A:B,2,FALSE)","v":"CZ"},{"$f":"VLOOKUP(F20,Soutez!A:C,3,FALSE)","v":2021},14,2871,0.90500000000000003,7552,6835,"x",null,"Std. Cirrus","IF",""]
["Petr Kolacek",1965,"M","Šumperk","CZ/M","JPJ 2021 - Klub",{"$f":"VLOOKUP(F21,Soutez!A:B,2,FALSE)","v":"CZ"},{"$f":"VLOOKUP(F21,Soutez!A:C,3,FALSE)","v":2021},15,2862,0.90500000000000003,7448,6740,"x",null,"SZD-48 Jantar std. 3","IX",""]
["Vojtech Novotny",1992,"M","Kralupy","CZ/C1","JPJ 2021 - Klub",{"$f":"VLOOKUP(F22,Soutez!A:B,2,FALSE)","v":"CZ"},{"$f":"VLOOKUP(F22,Soutez!A:C,3,FALSE)","v":2021},16,2771,0.90500000000000003,7183,6501,"x",null,"LS-1f","EF",{"$f":"IF(ISERROR(VLOOKUP(A22,Pilot,6,0)),\"Není v databázi\",VLOOKUP(A22,Pilot,6,0))","v":""}]
["Peter Kaspar",1980,"M","Vyškov","CZ/M","JPJ 2021 - Klub",{"$f":"VLOOKUP(F23,Soutez!A:B,2,FALSE)","v":"CZ"},{"$f":"VLOOKUP(F23,Soutez!A:C,3,FALSE)","v":2021},17,2604,0.90500000000000003,6768,6125,"x",null,"G-102 Astir 77","AP",""]
["Martin Svarc",1981,"M","Olomouc","CZ/M","JPJ 2021 - Klub",{"$f":"VLOOKUP(F24,Soutez!A:B,2,FALSE)","v":"CZ"},{"$f":"VLOOKUP(F24,Soutez!A:C,3,FALSE)","v":2021},18,2435,0.90500000000000003,6348,5745,"x",null,"DG-101 G","HE",""]
["Jiri Koudela",1974,"M","Vyškov","CZ/M","JPJ 2021 - Klub",{"$f":"VLOOKUP(F25,Soutez!A:B,2,FALSE)","v":"CZ"},{"$f":"VLOOKUP(F25,Soutez!A:C,3,FALSE)","v":2021},19,2432,0.90500000000000003,6257,5663,"x",null,"ASW-19B","JK",""]
["Roman Schotli",1970,"M","Hranice","CZ/M","JPJ 2021 - Klub",{"$f":"VLOOKUP(F26,Soutez!A:B,2,FALSE)","v":"CZ"},{"$f":"VLOOKUP(F26,Soutez!A:C,3,FALSE)","v":2021},20,2338,0.90500000000000003,5985,5416,"x",null,"ASW-19B",19,""]
["Adam Sugl",1987,"M","Vyškov","CZ/M","JPJ 2021 - Klub",{"$f":"VLOOKUP(F27,Soutez!A:B,2,FALSE)","v":"CZ"},{"$f":"VLOOKUP(F27,Soutez!A:C,3,FALSE)","v":2021},21,2323,0.90500000000000003,5870,5312,"x",null,"G-102 Astir 77","AS",""]
["Jaromir Vlk",{"$f":"VLOOKUP(A28,Pilot,2,0)","v":1959},{"$f":"VLOOKUP(A28,Pilot,5,0)","v":"M"},{"$f":"VLOOKUP(A28,Pilot,3,0)","v":"Šumperk"},{"$f":"VLOOKUP(A28,Pilot,4,0)","v":"CZ/M"},"JPJ 2021 - Klub",{"$f":"VLOOKUP(F28,Soutez!A:B,2,FALSE)","v":"CZ"},{"$f":"VLOOKUP(F28,Soutez!A:C,3,FALSE)","v":2021},22,2301,0.90500000000000003,5741,5196,"x",null,"ASW-15B","R5",""]
["Petr Havrlant",1965,"M","Šumperk","CZ/M","JPJ 2021 - Klub",{"$f":"VLOOKUP(F29,Soutez!A:B,2,FALSE)","v":"CZ"},{"$f":"VLOOKUP(F29,Soutez!A:C,3,FALSE)","v":2021},23,2144,0.90500000000000003,5345,4837,"x",null,"ASW-15B","Q1",""]
["Stepan Obrovsky",1990,"M","Frýdlant","CZ/M","JPJ 2021 - Klub",{"$f":"VLOOKUP(F30,Soutez!A:B,2,FALSE)","v":"CZ"},{"$f":"VLOOKUP(F30,Soutez!A:C,3,FALSE)","v":2021},24,2135,0.90500000000000003,5242,4744,null,null,"Std. Cirrus",22,""]
["Karel Horalek",1976,"M","Olomouc","CZ/M","JPJ 2021 - Klub",{"$f":"VLOOKUP(F31,Soutez!A:B,2,FALSE)","v":"CZ"},{"$f":"VLOOKUP(F31,Soutez!A:C,3,FALSE)","v":2021},25,2134,0.90500000000000003,5154,4664,"x",null,"LS-3 15m","Y1",""]
["Jan Zezula",1979,"M","Letňany","CZ/C1","JPJ 2021 - Klub",{"$f":"VLOOKUP(F32,Soutez!A:B,2,FALSE)","v":"CZ"},{"$f":"VLOOKUP(F32,Soutez!A:C,3,FALSE)","v":2021},26,2066,0.90500000000000003,4934,4465,"x",null,"ASW-19B","HD",""]
["Lukas Petrzela",1987,"M","Olomouc","CZ/M","JPJ 2021 - Klub",{"$f":"VLOOKUP(F33,Soutez!A:B,2,FALSE)","v":"CZ"},{"$f":"VLOOKUP(F33,Soutez!A:C,3,FALSE)","v":2021},27,1797,0.90500000000000003,4318,3908,"x",null,"G-102 Astir cs","AL",""]
["Petr Valenta 76",{"$f":"VLOOKUP(A34,Pilot,2,0)","v":1976},{"$f":"VLOOKUP(A34,Pilot,5,0)","v":"M"},{"$f":"VLOOKUP(A34,Pilot,3,0)","v":"Jaroměř"},{"$f":"VLOOKUP(A34,Pilot,4,0)","v":"CZ/C2"},"JPJ 2021 - Klub",{"$f":"VLOOKUP(F34,Soutez!A:B,2,FALSE)","v":"CZ"},{"$f":"VLOOKUP(F34,Soutez!A:C,3,FALSE)","v":2021},28,1580,0.90500000000000003,3804,3443,"x",null,"Discus b","JA",""]
["Petr Lonsky",1965,"M","Toužim","CZ/C1","JPJ 2021 - Klub",{"$f":"VLOOKUP(F35,Soutez!A:B,2,FALSE)","v":"CZ"},{"$f":"VLOOKUP(F35,Soutez!A:C,3,FALSE)","v":2021},29,1430,0.90500000000000003,3422,3097,null,null,"Cirrus","JP",""]
["Yvona Vyhnankova",1963,"F","Olomouc","CZ/M","JPJ 2021 - Klub",{"$f":"VLOOKUP(F36,Soutez!A:B,2,FALSE)","v":"CZ"},{"$f":"VLOOKUP(F36,Soutez!A:C,3,FALSE)","v":2021},30,1427,0.90500000000000003,3330,3014,"x","x","ASW-15","YZ",""]
["Karel Ertl",1939,"M","LK Břeclav","CZ/M","JPJ 2021 - Klub",{"$f":"VLOOKUP(F37,Soutez!A:B,2,FALSE)","v":"CZ"},{"$f":"VLOOKUP(F37,Soutez!A:C,3,FALSE)","v":2021},31,1071,0.90500000000000003,2542,2301,"x",null,"TST-10M Atlas","KE",""]
["Jan Pokluda",1973,"M","Šumperk","CZ/M","JPJ 2021 - Klub",{"$f":"VLOOKUP(F38,Soutez!A:B,2,FALSE)","v":"CZ"},{"$f":"VLOOKUP(F38,Soutez!A:C,3,FALSE)","v":2021},32,1028,0.90500000000000003,2372,2147,"x",null,"ASW-15B WL","JG",""]
["Lubomir Papezik",1951,"M","Luhačovice","CZ/M","JPJ 2021 - Klub",{"$f":"VLOOKUP(F39,Soutez!A:B,2,FALSE)","v":"CZ"},{"$f":"VLOOKUP(F39,Soutez!A:C,3,FALSE)","v":2021},33,899,{"$f":"VLOOKUP(F39,Soutez,12,0)","v":0.90500000000000003},2031,1838,"x",null,"LS-4","FP",""]
["Michal Linhart",1982,"M","Vyškov","CZ/M","JPJ 2021 - Klub",{"$f":"VLOOKUP(F40,Soutez!A:B,2,FALSE)","v":"CZ"},{"$f":"VLOOKUP(F40,Soutez!A:C,3,FALSE)","v":2021},34,617,0.90500000000000003,1389,{"$f":"ROUND(K40*L40,0)","v":1257},"x",null,"VSO-10","B2",""]
["Ludek Mikl",1963,"M","Šumperk","CZ/M","JPJ 2021 - Klub",{"$f":"VLOOKUP(F41,Soutez!A:B,2,FALSE)","v":"CZ"},{"$f":"VLOOKUP(F41,Soutez!A:C,3,FALSE)","v":2021},35,601,0.90500000000000003,1272,1151,"x",null,"Std. Cirrus",16,""]
["Albert Schneider",{"$f":"VLOOKUP(A42,Pilot,2,0)","v":1967},{"$f":"VLOOKUP(A42,Pilot,5,0)","v":"M"},{"$f":"VLOOKUP(A42,Pilot,3,0)","v":"Hranice"},{"$f":"VLOOKUP(A42,Pilot,4,0)","v":"CZ/M"},"JPJ 2021 - Klub",{"$f":"VLOOKUP(F42,Soutez!A:B,2,FALSE)","v":"CZ"},{"$f":"VLOOKUP(F42,Soutez!A:C,3,FALSE)","v":2021},36,580,0.90500000000000003,1145,1036,"x",null,"Mini-Nimbus c","I",""]
["Jan Sustr 76",{"$f":"VLOOKUP(A43,Pilot,2,0)","v":1976},{"$f":"VLOOKUP(A43,Pilot,5,0)","v":"M"},{"$f":"VLOOKUP(A43,Pilot,3,0)","v":"Raná"},{"$f":"VLOOKUP(A43,Pilot,4,0)","v":"CZ/C2"},"JPJ 2021 - Klub",{"$f":"VLOOKUP(F43,Soutez!A:B,2,FALSE)","v":"CZ"},{"$f":"VLOOKUP(F43,Soutez!A:C,3,FALSE)","v":2021},"DNS",0,0.90500000000000003,0,0,null,null,"DG-300 Club ELAN","WL",""]
["Pavel Skrabal",1969,"M","Šumperk","CZ/M","JPJ 2021 - Klub",{"$f":"VLOOKUP(F44,Soutez!A:B,2,FALSE)","v":"CZ"},{"$f":"VLOOKUP(F44,Soutez!A:C,3,FALSE)","v":2021},"DNS",0,0.90500000000000003,0,0,null,null,"L-13 Blaník dvojí","PAS",""]
["Radek Hybl",{"$f":"VLOOKUP(A45,Pilot,2,0)","v":1980},{"$f":"VLOOKUP(A45,Pilot,5,0)","v":"M"},{"$f":"VLOOKUP(A45,Pilot,3,0)","v":"Šumperk"},{"$f":"VLOOKUP(A45,Pilot,4,0)","v":"CZ/M"},"JPJ 2021 - Kombi",{"$f":"VLOOKUP(F45,Soutez!A:B,2,FALSE)","v":"CZ"},{"$f":"VLOOKUP(F45,Soutez!A:C,3,FALSE)","v":2021},1,3343,0.90500000000000003,{"$f":"ROUND(J45/MAX($J$45:$J$69)*10000*0.7+(MAX($I$45:$I$69)-I45)/(MAX($I$45:$I$69)-1)*10000*0.3,0)","v":10000},{"$f":"ROUND(K45*L45,0)","v":9050},"x",null,"Ventus cm 17,6m","IHH",""]
["Radek Zima 78",1978,"M","Hodkovice","CZ/C2","JPJ 2021 - Kombi",{"$f":"VLOOKUP(F46,Soutez!A:B,2,FALSE)","v":"CZ"},{"$f":"VLOOKUP(F46,Soutez!A:C,3,FALSE)","v":2021},2,3263,0.90500000000000003,9707,{"$f":"ROUND(K46*L46,0)","v":8785},"x",null,"ASG-29E 18m","XZ",""]
["Miroslav Koci",{"$f":"VLOOKUP(A47,Pilot,2,0)","v":1961},{"$f":"VLOOKUP(A47,Pilot,5,0)","v":"M"},{"$f":"VLOOKUP(A47,Pilot,3,0)","v":"Žamberk"},{"$f":"VLOOKUP(A47,Pilot,4,0)","v":"CZ/C2"},"JPJ 2021 - Kombi",{"$f":"VLOOKUP(F47,Soutez!A:B,2,FALSE)","v":"CZ"},{"$f":"VLOOKUP(F47,Soutez!A:C,3,FALSE)","v":2021},3,3119,0.90500000000000003,9281,8399,"x",null,"Ventus 2cxm 18m 565kg","E8",""]
["Frantisek Vancura",1966,"M","Hranice","CZ/M","JPJ 2021 - Kombi",{"$f":"VLOOKUP(F48,Soutez!A:B,2,FALSE)","v":"CZ"},{"$f":"VLOOKUP(F48,Soutez!A:C,3,FALSE)","v":2021},4,3015,0.90500000000000003,8938,8089,null,null,"Nimbus 3T 24,5m WL 750kg","A1",""]
["Michal Cechmanek",1978,"M","Kroměříž","CZ/M","JPJ 2021 - Kombi",{"$f":"VLOOKUP(F49,Soutez!A:B,2,FALSE)","v":"CZ"},{"$f":"VLOOKUP(F49,Soutez!A:C,3,FALSE)","v":2021},5,2893,0.90500000000000003,8558,7745,"x",null,"ASW-20 (A)+F 15m WL","MK",""]
["Radim Hahn",1972,"M","Zábřeh","CZ/M","JPJ 2021 - Kombi",{"$f":"VLOOKUP(F50,Soutez!A:B,2,FALSE)","v":"CZ"},{"$f":"VLOOKUP(F50,Soutez!A:C,3,FALSE)","v":2021},6,2872,0.90500000000000003,8389,7592,"x",null,"Arcus","II",""]
["Jan Dersak 69",1969,"M","Kralupy","CZ/C1","JPJ 2021 - Kombi",{"$f":"VLOOKUP(F51,Soutez!A:B,2,FALSE)","v":"CZ"},{"$f":"VLOOKUP(F51,Soutez!A:C,3,FALSE)","v":2021},7,2843,0.90500000000000003,8203,7424,null,null,"HpH 304JS SHARK 18m 573kg","DJ",""]
["Jaroslav Buryan",{"$f":"VLOOKUP(A52,Pilot,2,0)","v":1953},{"$f":"VLOOKUP(A52,Pilot,5,0)","v":"M"},{"$f":"VLOOKUP(A52,Pilot,3,0)","v":"Zábřeh"},{"$f":"VLOOKUP(A52,Pilot,4,0)","v":"CZ/M"},"JPJ 2021 - Kombi",{"$f":"VLOOKUP(F52,Soutez!A:B,2,FALSE)","v":"CZ"},{"$f":"VLOOKUP(F52,Soutez!A:C,3,FALSE)","v":2021},8,2809,0.90500000000000003,8007,7246,"x",null,"ASW-20 (A)+F 15m WL","NS",""]
["Jan Simon",1970,"M","Kralupy","CZ/C1","JPJ 2021 - Kombi",{"$f":"VLOOKUP(F53,Soutez!A:B,2,FALSE)","v":"CZ"},{"$f":"VLOOKUP(F53,Soutez!A:C,3,FALSE)","v":2021},9,2664,0.90500000000000003,7578,6858,"x",null,"Duo Discus T 700kg","ZS",""]
["Zdenek Schenk",1972,"M","Hranice","CZ/M","JPJ 2021 - Kombi",{"$f":"VLOOKUP(F54,Soutez!A:B,2,FALSE)","v":"CZ"},{"$f":"VLOOKUP(F54,Soutez!A:C,3,FALSE)","v":2021},10,2601,0.90500000000000003,7321,6626,"x",null,"Ventus cm 17,6m","ŠNeK",""]
["Jan Kohout",1970,"M","Žamberk","CZ/C2","JPJ 2021 - Kombi",{"$f":"VLOOKUP(F55,Soutez!A:B,2,FALSE)","v":"CZ"},{"$f":"VLOOKUP(F55,Soutez!A:C,3,FALSE)","v":2021},11,2562,0.90500000000000003,7115,6439,"x",null,"LS-8 15m","SK",""]
["Jiri Steiger",1969,"M","Olomouc","CZ/M","JPJ 2021 - Kombi",{"$f":"VLOOKUP(F56,Soutez!A:B,2,FALSE)","v":"CZ"},{"$f":"VLOOKUP(F56,Soutez!A:C,3,FALSE)","v":2021},11,2562,0.90500000000000003,7115,6439,null,null,"Ventus 3M 18m","JS",""]
["Albrecht Beat",1953,"M","Šumperk","CZ/M","JPJ 2021 - Kombi",{"$f":"VLOOKUP(F57,Soutez!A:B,2,FALSE)","v":"CZ"},{"$f":"VLOOKUP(F57,Soutez!A:C,3,FALSE)","v":2021},13,2548,0.90500000000000003,6835,6186,"x",null,"LS-8-18 18m","GL",""]
["Ladislav Jozsa",1981,"M","Medlánky","CZ/M","JPJ 2021 - Kombi",{"$f":"VLOOKUP(F58,Soutez!A:B,2,FALSE)","v":"CZ"},{"$f":"VLOOKUP(F58,Soutez!A:C,3,FALSE)","v":2021},14,2522,0.90500000000000003,6656,6024,"x",null,"Ventus c 17,6m","WW",""]
["Tomas Prikryl",1973,"M","Vyškov","CZ/M","JPJ 2021 - Kombi",{"$f":"VLOOKUP(F59,Soutez!A:B,2,FALSE)","v":"CZ"},{"$f":"VLOOKUP(F59,Soutez!A:C,3,FALSE)","v":2021},15,2425,0.90500000000000003,6328,5727,"x",null,"Ventus 2cm 18m 525kg","FN",""]
["Vit Grossmann",1977,"M","Hranice","CZ/M","JPJ 2021 - Kombi",{"$f":"VLOOKUP(F60,Soutez!A:B,2,FALSE)","v":"CZ"},{"$f":"VLOOKUP(F60,Soutez!A:C,3,FALSE)","v":2021},16,2351,0.90500000000000003,6048,5473,"x",null,"Duo Discus 700kg","OK",""]
["Miroslav Sklenar",1964,"M","Žamberk","CZ/C2","JPJ 2021 - Kombi",{"$f":"VLOOKUP(F61,Soutez!A:B,2,FALSE)","v":"CZ"},{"$f":"VLOOKUP(F61,Soutez!A:C,3,FALSE)","v":2021},17,2282,0.90500000000000003,5778,5229,"x",null,"Duo Discus 700kg","VP",""]
["Pavel Haluza",1966,"M","Prostějov","CZ/M","JPJ 2021 - Kombi",{"$f":"VLOOKUP(F62,Soutez!A:B,2,FALSE)","v":"CZ"},{"$f":"VLOOKUP(F62,Soutez!A:C,3,FALSE)","v":2021},18,2212,0.90500000000000003,5507,4984,"x",null,"Nimbus 2b","HT",""]
["Roman Cerny",1971,"M","Hranice","CZ/M","JPJ 2021 - Kombi",{"$f":"VLOOKUP(F63,Soutez!A:B,2,FALSE)","v":"CZ"},{"$f":"VLOOKUP(F63,Soutez!A:C,3,FALSE)","v":2021},19,1991,0.90500000000000003,4919,4452,"x",null,"DG-500M 22m","T",""]
["Tomas Profeld",1964,"M","Jičín","CZ/C2","JPJ 2021 - Kombi",{"$f":"VLOOKUP(F64,Soutez!A:B,2,FALSE)","v":"CZ"},{"$f":"VLOOKUP(F64,Soutez!A:C,3,FALSE)","v":2021},20,1984,0.90500000000000003,4779,{"$f":"ROUND(K64*L64,0)","v":4325},null,null,"Ventus 2cm 18m 525kg","OZ",""]
["Kamil Sohr",1973,"M","Šumperk","CZ/M","JPJ 2021 - Kombi",{"$f":"VLOOKUP(F65,Soutez!A:B,2,FALSE)","v":"CZ"},{"$f":"VLOOKUP(F65,Soutez!A:C,3,FALSE)","v":2021},21,1915,0.90500000000000003,4510,4082,"x",null,"Ventus c 17,6m","W",""]
["Martin Kriz",1968,"M","Přibyslav","CZ/C2","JPJ 2021 - Kombi",{"$f":"VLOOKUP(F66,Soutez!A:B,2,FALSE)","v":"CZ"},{"$f":"VLOOKUP(F66,Soutez!A:C,3,FALSE)","v":2021},22,1825,0.90500000000000003,4196,3797,null,null,"ASW-20 (A)+F 15m WL",67,""]
["Antonin Kutalek",1943,"M","Zábřeh","CZ/M","JPJ 2021 - Kombi",{"$f":"VLOOKUP(F67,Soutez!A:B,2,FALSE)","v":"CZ"},{"$f":"VLOOKUP(F67,Soutez!A:C,3,FALSE)","v":2021},23,1818,0.90500000000000003,4057,3672,"x",null,"LAK-17AT 18m","GLK",""]
["Vladimir Spilka",1940,"M","Hranice","CZ/M","JPJ 2021 - Kombi",{"$f":"VLOOKUP(F68,Soutez!A:B,2,FALSE)","v":"CZ"},{"$f":"VLOOKUP(F68,Soutez!A:C,3,FALSE)","v":2021},24,1521,0.90500000000000003,3310,2996,"x",null,"Nimbus 2b","AY",""]
["Pavel Handl",1971,"M","Kroměříž","CZ/M","JPJ 2021 - Kombi",{"$f":"VLOOKUP(F69,Soutez!A:B,2,FALSE)","v":"CZ"},{"$f":"VLOOKUP(F69,Soutez!A:C,3,FALSE)","v":2021},25,285,0.90500000000000003,597,540,"x",null,"Ventus 2cm 18m 525kg","VJ",""]
["Toby Freeland",null,null,"Imperial Gliding College Club","GB","PMČR 2021 - Klub",{"$f":"VLOOKUP(F70,Soutez!A:B,2,FALSE)","v":"CZ"},{"$f":"VLOOKUP(F70,Soutez!A:C,3,FALSE)","v":2021},1,6518,1.05,{"$f":"ROUND(J70/MAX($J$70:$J$85)*10000*0.7+(MAX($I$70:$I$85)-I70)/(MAX($I$70:$I$85)-1)*10000*0.3,0)","v":10000},{"$f":"ROUND(K70*L70,0)","v":10500},null,null,"ASW20",212,"Není v databázi"]
["Jakub Hlavacek",{"$f":"VLOOKUP(A71,Pilot,2,0)","v":1991},{"$f":"VLOOKUP(A71,Pilot,5,0)","v":"M"},{"$f":"VLOOKUP(A71,Pilot,3,0)","v":"Letkov"},{"$f":"VLOOKUP(A71,Pilot,4,0)","v":"CZ/C1"},"PMČR 2021 - Klub",{"$f":"VLOOKUP(F71,Soutez!A:B,2,FALSE)","v":"CZ"},{"$f":"VLOOKUP(F71,Soutez!A:C,3,FALSE)","v":2021},2,6482,{"$f":"VLOOKUP(F71,Soutez,12,0)","v":1.05},9761,{"$f":"ROUND(K71*L71,0)","v":10249},"x",null,"StdCirrus","SB",""]
["Finn Sleigh",null,null,"Lasham","GB","PMČR 2021 - Klub",{"$f":"VLOOKUP(F72,Soutez!A:B,2,FALSE)","v":"CZ"},{"$f":"VLOOKUP(F72,Soutez!A:C,3,FALSE)","v":2021},3,6390,1.05,9463,9936,null,null,"ASW 20",5,"Není v databázi"]
["Jan Ratz",{"$f":"VLOOKUP(A73,Pilot,2,0)","v":1987},{"$f":"VLOOKUP(A73,Pilot,5,0)","v":"M"},{"$f":"VLOOKUP(A73,Pilot,3,0)","v":"Zbraslavice"},{"$f":"VLOOKUP(A73,Pilot,4,0)","v":"CZ/C1"},"PMČR 2021 - Klub",{"$f":"VLOOKUP(F73,Soutez!A:B,2,FALSE)","v":"CZ"},{"$f":"VLOOKUP(F73,Soutez!A:C,3,FALSE)","v":2021},4,6335,1.05,9203,9663,"x",null,"StdCirrus","REX",""]
["Zdenek Boruvka 86",1986,"M","Jičín","CZ/C2","PMČR 2021 - Klub",{"$f":"VLOOKUP(F74,Soutez!A:B,2,FALSE)","v":"CZ"},{"$f":"VLOOKUP(F74,Soutez!A:C,3,FALSE)","v":2021},5,6321,1.05,8988,9437,"x",null,"StdCirrus","BJ",""]
["Michal Lesinger",{"$f":"VLOOKUP(A75,Pilot,2,0)","v":1966},{"$f":"VLOOKUP(A75,Pilot,5,0)","v":"M"},{"$f":"VLOOKUP(A75,Pilot,3,0)","v":"Moravská Třebová"},{"$f":"VLOOKUP(A75,Pilot,4,0)","v":"CZ/M"},"PMČR 2021 - Klub",{"$f":"VLOOKUP(F75,Soutez!A:B,2,FALSE)","v":"CZ"},{"$f":"VLOOKUP(F75,Soutez!A:C,3,FALSE)","v":2021},6,5699,1.05,8120,8526,null,null,"ASW19B","LL",""]
["Edmund Schuller",null,null,"Lucenec","SK","PMČR 2021 - Klub",{"$f":"VLOOKUP(F76,Soutez!A:B,2,FALSE)","v":"CZ"},{"$f":"VLOOKUP(F76,Soutez!A:C,3,FALSE)","v":2021},7,5427,1.05,7628,8009,null,null,"ASW24","ZS","Není v databázi"]
["Pavel Rericha",{"$f":"VLOOKUP(A77,Pilot,2,0)","v":1967},{"$f":"VLOOKUP(A77,Pilot,5,0)","v":"M"},{"$f":"VLOOKUP(A77,Pilot,3,0)","v":"Moravská Třebová"},{"$f":"VLOOKUP(A77,Pilot,4,0)","v":"CZ/M"},"PMČR 2021 - Klub",{"$f":"VLOOKUP(F77,Soutez!A:B,2,FALSE)","v":"CZ"},{"$f":"VLOOKUP(F77,Soutez!A:C,3,FALSE)","v":2021},8,5199,1.05,7183,7542,"x",null,"ASW19B","NO",""]
["Tibor Fratrik",null,null,"SGC Martin","SK","PMČR 2021 - Klub",{"$f":"VLOOKUP(F78,Soutez!A:B,2,FALSE)","v":"CZ"},{"$f":"VLOOKUP(F78,Soutez!A:C,3,FALSE)","v":2021},9,5010,1.05,6780,7119,null,null,"C101APegase","OI","Není v databázi"]
["Pawel Glowacki",null,null,"Leszno","PL","PMČR 2021 - Klub",{"$f":"VLOOKUP(F79,Soutez!A:B,2,FALSE)","v":"CZ"},{"$f":"VLOOKUP(F79,Soutez!A:C,3,FALSE)","v":2021},10,4911,1.05,6474,6798,null,null,"C101APegase","J7","Není v databázi"]
["Slavomir Piskaty 84",{"$f":"VLOOKUP(A80,Pilot,2,0)","v":1984},{"$f":"VLOOKUP(A80,Pilot,5,0)","v":"M"},{"$f":"VLOOKUP(A80,Pilot,3,0)","v":"Kunovice"},{"$f":"VLOOKUP(A80,Pilot,4,0)","v":"CZ/M"},"PMČR 2021 - Klub",{"$f":"VLOOKUP(F80,Soutez!A:B,2,FALSE)","v":"CZ"},{"$f":"VLOOKUP(F80,Soutez!A:C,3,FALSE)","v":2021},11,4360,1.05,5682,5966,"x",null,"Discus cs","KAL",""]
["Karol Snapko",null,null,"Nadwislanski","PL","PMČR 2021 - Klub",{"$f":"VLOOKUP(F81,Soutez!A:B,2,FALSE)","v":"CZ"},{"$f":"VLOOKUP(F81,Soutez!A:C,3,FALSE)","v":2021},12,4190,1.05,5300,{"$f":"ROUND(K81*L81,0)","v":5565},null,null,"SZD48 JantarStd2/3","BZ","Není v databázi"]
["Petra Piskata",{"$f":"VLOOKUP(A82,Pilot,2,0)","v":1989},{"$f":"VLOOKUP(A82,Pilot,5,0)","v":"F"},{"$f":"VLOOKUP(A82,Pilot,3,0)","v":"Luhačovice"},{"$f":"VLOOKUP(A82,Pilot,4,0)","v":"CZ/M"},"PMČR 2021 - Klub",{"$f":"VLOOKUP(F82,Soutez!A:B,2,FALSE)","v":"CZ"},{"$f":"VLOOKUP(F82,Soutez!A:C,3,FALSE)","v":2021},13,4187,1.05,5097,5352,null,null,"LS 4","FP",""]
["Lukas Plocek",1990,"M","Mladá Boleslav","CZ/C1","PMČR 2021 - Klub",{"$f":"VLOOKUP(F83,Soutez!A:B,2,FALSE)","v":"CZ"},{"$f":"VLOOKUP(F83,Soutez!A:C,3,FALSE)","v":2021},14,3369,1.05,4018,4219,"x",null,"ASW19B","AH",""]
["Marek Pechanec",1970,"M","Luhačovice","CZ/M","PMČR 2021 - Klub",{"$f":"VLOOKUP(F84,Soutez!A:B,2,FALSE)","v":"CZ"},{"$f":"VLOOKUP(F84,Soutez!A:C,3,FALSE)","v":2021},15,3233,1.05,3672,3856,"x",null,"StdCirrus","SJ",{"$f":"IF(ISERROR(VLOOKUP(A84,Pilot,6,0)),\"Není v databázi\",VLOOKUP(A84,Pilot,6,0))","v":""}]
["Jakub Kos",null,null,"Bielsko-Bialski","PL","PMČR 2021 - Klub",{"$f":"VLOOKUP(F85,Soutez!A:B,2,FALSE)","v":"CZ"},{"$f":"VLOOKUP(F85,Soutez!A:C,3,FALSE)","v":2021},16,3081,1.05,3309,3474,null,null,"SZD48 Jantar std3","ZAR","Není v databázi"]
["Petr Koutny",{"$f":"VLOOKUP(A86,Pilot,2,0)","v":1971},{"$f":"VLOOKUP(A86,Pilot,5,0)","v":"M"},{"$f":"VLOOKUP(A86,Pilot,3,0)","v":"Křižanov"},{"$f":"VLOOKUP(A86,Pilot,4,0)","v":"CZ/M"},"PMČR 2021 - Kombi 15m",{"$f":"VLOOKUP(F86,Soutez!A:B,2,FALSE)","v":"CZ"},{"$f":"VLOOKUP(F86,Soutez!A:C,3,FALSE)","v":2021},1,6225,1.0599999999999998,{"$f":"ROUND(J86/MAX($J$86:$J$101)*10000*0.7+(MAX($I$86:$I$101)-I86)/(MAX($I$86:$I$101)-1)*10000*0.3,0)","v":10000},{"$f":"ROUND(K86*L86,0)","v":10600},"x",null,"LS8 15m","SK",""]
["Jan Zapletal",1997,"M","Břeclav","CZ/M","PMČR 2021 - Kombi 15m",{"$f":"VLOOKUP(F87,Soutez!A:B,2,FALSE)","v":"CZ"},{"$f":"VLOOKUP(F87,Soutez!A:C,3,FALSE)","v":2021},2,6126,1.0599999999999998,9689,{"$f":"ROUND(K87*L87,0)","v":10270},"x",null,"LS8","JS",""]
["Jan Pavlik",1987,"M","Křižanov","CZ/M","PMČR 2021 - Kombi 15m",{"$f":"VLOOKUP(F88,Soutez!A:B,2,FALSE)","v":"CZ"},{"$f":"VLOOKUP(F88,Soutez!A:C,3,FALSE)","v":2021},3,6112,1.0599999999999998,9473,10041,"x",null,"LS8","JW",""]
["Pavel Louzecky",1957,"M","Přibyslav","CZ/C2","PMČR 2021 - Kombi 15m",{"$f":"VLOOKUP(F89,Soutez!A:B,2,FALSE)","v":"CZ"},{"$f":"VLOOKUP(F89,Soutez!A:C,3,FALSE)","v":2021},4,6074,1.0599999999999998,9230,9784,"x",null,"LS8","FX",""]
["Miloslav Cink",1987,"M","Letkov","CZ/C1","PMČR 2021 - Kombi 15m",{"$f":"VLOOKUP(F90,Soutez!A:B,2,FALSE)","v":"CZ"},{"$f":"VLOOKUP(F90,Soutez!A:C,3,FALSE)","v":2021},5,6073,1.0599999999999998,9029,9571,null,null,"LS8","JB",""]
["Henry Inigo-Jones",null,null,"Lasham Gliding Society",null,"PMČR 2021 - Kombi 15m",{"$f":"VLOOKUP(F91,Soutez!A:B,2,FALSE)","v":"CZ"},{"$f":"VLOOKUP(F91,Soutez!A:C,3,FALSE)","v":2021},6,5785,1.0599999999999998,8505,9015,null,null,"LS8",95,"Není v databázi"]
["Thomas Pavis",null,null,"York Gliding Centre",null,"PMČR 2021 - Kombi 15m",{"$f":"VLOOKUP(F92,Soutez!A:B,2,FALSE)","v":"CZ"},{"$f":"VLOOKUP(F92,Soutez!A:C,3,FALSE)","v":2021},7,5444,1.0599999999999998,7922,8397,null,null,"Discus2a",235,"Není v databázi"]
["Jan Horak",{"$f":"VLOOKUP(A93,Pilot,2,0)","v":1971},{"$f":"VLOOKUP(A93,Pilot,5,0)","v":"M"},{"$f":"VLOOKUP(A93,Pilot,3,0)","v":"Zbraslavice"},{"$f":"VLOOKUP(A93,Pilot,4,0)","v":"CZ/C1"},"PMČR 2021 - Kombi 15m",{"$f":"VLOOKUP(F93,Soutez!A:B,2,FALSE)","v":"CZ"},{"$f":"VLOOKUP(F93,Soutez!A:C,3,FALSE)","v":2021},8,5372,1.0599999999999998,7641,8099,"x",null,"ASW 20 WL","WX",""]
["Hana Treslova",1991,"F","Raná","CZ/C2","PMČR 2021 - Kombi 15m",{"$f":"VLOOKUP(F94,Soutez!A:B,2,FALSE)","v":"CZ"},{"$f":"VLOOKUP(F94,Soutez!A:C,3,FALSE)","v":2021},9,5335,1.0599999999999998,7399,7843,null,null,"Ventus2ax","AX",""]
["Barbora Moravcova",1994,"F","Zbraslavice","CZ/C1","PMČR 2021 - Kombi 15m",{"$f":"VLOOKUP(F95,Soutez!A:B,2,FALSE)","v":"CZ"},{"$f":"VLOOKUP(F95,Soutez!A:C,3,FALSE)","v":2021},10,5329,1.0599999999999998,7192,7624,null,null,"LS8","EU",""]
["Jiri Kusbach",1959,"M","Luhačovice","CZ/M","PMČR 2021 - Kombi 15m",{"$f":"VLOOKUP(F96,Soutez!A:B,2,FALSE)","v":"CZ"},{"$f":"VLOOKUP(F96,Soutez!A:C,3,FALSE)","v":2021},11,4688,1.0599999999999998,6272,6648,null,null,"KKB 15E FES","B",""]
["Jan Kotan",1982,"M","Letňany","CZ/C1","PMČR 2021 - Kombi 15m",{"$f":"VLOOKUP(F97,Soutez!A:B,2,FALSE)","v":"CZ"},{"$f":"VLOOKUP(F97,Soutez!A:C,3,FALSE)","v":2021},12,4674,1.0599999999999998,6056,{"$f":"ROUND(K97*L97,0)","v":6419},null,null,"Ventus2bx","YA",""]
["Jana Veprekova",1961,"F","Dvůr Králové","CZ/C2","PMČR 2021 - Kombi 15m",{"$f":"VLOOKUP(F98,Soutez!A:B,2,FALSE)","v":"CZ"},{"$f":"VLOOKUP(F98,Soutez!A:C,3,FALSE)","v":2021},13,4663,1.0599999999999998,5844,6195,null,null,"LS8","W8",""]
["Jana Treslova",1963,"F","Raná","CZ/C2","PMČR 2021 - Kombi 15m",{"$f":"VLOOKUP(F99,Soutez!A:B,2,FALSE)","v":"CZ"},{"$f":"VLOOKUP(F99,Soutez!A:C,3,FALSE)","v":2021},14,4607,1.0599999999999998,5581,5916,null,null,"Discus2a","GX",""]
["Dana Novakova",1965,"F","Mladá Boleslav","CZ/C1","PMČR 2021 - Kombi 15m",{"$f":"VLOOKUP(F100,Soutez!A:B,2,FALSE)","v":"CZ"},{"$f":"VLOOKUP(F100,Soutez!A:C,3,FALSE)","v":2021},15,4498,1.0599999999999998,5258,5573,null,null,"LS8","AU",""]
["Zdenek Balcarek",1967,"M","Kroměříž","CZ/M","PMČR 2021 - Kombi 15m",{"$f":"VLOOKUP(F101,Soutez!A:B,2,FALSE)","v":"CZ"},{"$f":"VLOOKUP(F101,Soutez!A:C,3,FALSE)","v":2021},16,4401,1.0599999999999998,4949,5246,null,null,"DiscusB","OS",""]
["Roman Mracek",{"$f":"VLOOKUP(A102,Pilot,2,0)","v":1980},{"$f":"VLOOKUP(A102,Pilot,5,0)","v":"M"},{"$f":"VLOOKUP(A102,Pilot,3,0)","v":"Letkov"},{"$f":"VLOOKUP(A102,Pilot,4,0)","v":"CZ/C1"},"PMČR 2021 - Kombi Open",{"$f":"VLOOKUP(F102,Soutez!A:B,2,FALSE)","v":"CZ"},{"$f":"VLOOKUP(F102,Soutez!A:C,3,FALSE)","v":2021},1,6274,{"$f":"VLOOKUP(F102,Soutez,12,0)","v":1.0549999999999999},{"$f":"ROUND(J102/MAX($J$102:$J$121)*10000*0.7+(MAX($I$102:$I$121)-I102)/(MAX($I$102:$I$121)-1)*10000*0.3,0)","v":10000},{"$f":"ROUND(K102*L102,0)","v":10550},"x",null,"JS3 18M","ZE",""]
["Radek Krejcirik",1991,"M","Hranice","CZ/M","PMČR 2021 - Kombi Open",{"$f":"VLOOKUP(F103,Soutez!A:B,2,FALSE)","v":"CZ"},{"$f":"VLOOKUP(F103,Soutez!A:C,3,FALSE)","v":2021},2,6065,1.0549999999999999,{"$f":"ROUND(J103/MAX($J$102:$J$121)*10000*0.7+(MAX($I$102:$I$121)-I103)/(MAX($I$102:$I$121)-1)*10000*0.3,0)","v":9609},{"$f":"ROUND(K103*L103,0)","v":10137},"x",null,"JS1 C EVO","ZF",""]
["Jan Boruvka",1984,"M","Jičín","CZ/C2","PMČR 2021 - Kombi Open",{"$f":"VLOOKUP(F104,Soutez!A:B,2,FALSE)","v":"CZ"},{"$f":"VLOOKUP(F104,Soutez!A:C,3,FALSE)","v":2021},3,5635,1.0549999999999999,8971,9464,"x",null,"VentusC","EG",""]
["Radek Kucirek",1973,"M","Havlíčkův Brod","CZ/C2","PMČR 2021 - Kombi Open",{"$f":"VLOOKUP(F105,Soutez!A:B,2,FALSE)","v":"CZ"},{"$f":"VLOOKUP(F105,Soutez!A:C,3,FALSE)","v":2021},4,5525,1.0549999999999999,8691,9169,null,null,"EB28Edition","NA",""]
["Martin Hrivna",1978,"M","Zbraslavice","CZ/C1","PMČR 2021 - Kombi Open",{"$f":"VLOOKUP(F106,Soutez!A:B,2,FALSE)","v":"CZ"},{"$f":"VLOOKUP(F106,Soutez!A:C,3,FALSE)","v":2021},5,5434,1.0549999999999999,8431,8895,null,null,"ASG29E","NX",""]
["Tomas Rendla",1973,"M","Zbraslavice","CZ/C1","PMČR 2021 - Kombi Open",{"$f":"VLOOKUP(F107,Soutez!A:B,2,FALSE)","v":"CZ"},{"$f":"VLOOKUP(F107,Soutez!A:C,3,FALSE)","v":2021},6,5401,1.0549999999999999,8237,8690,null,null,"EB29R","EX",""]
["Radek Zima 78",1978,"M","Hodkovice","CZ/C2","PMČR 2021 - Kombi Open",{"$f":"VLOOKUP(F108,Soutez!A:B,2,FALSE)","v":"CZ"},{"$f":"VLOOKUP(F108,Soutez!A:C,3,FALSE)","v":2021},7,5336,1.0549999999999999,8006,8446,null,null,"ASG29E","XZ",""]
["Ondrej Dupal",{"$f":"VLOOKUP(A109,Pilot,2,0)","v":1966},{"$f":"VLOOKUP(A109,Pilot,5,0)","v":"M"},{"$f":"VLOOKUP(A109,Pilot,3,0)","v":"GAC Benešov"},{"$f":"VLOOKUP(A109,Pilot,4,0)","v":"CZ/C1"},"PMČR 2021 - Kombi Open",{"$f":"VLOOKUP(F109,Soutez!A:B,2,FALSE)","v":"CZ"},{"$f":"VLOOKUP(F109,Soutez!A:C,3,FALSE)","v":2021},8,5326,1.0549999999999999,7837,8268,"x",null,"ASG29E","GO",""]
["David Mach",1994,"M","Hronov","CZ/C2","PMČR 2021 - Kombi Open",{"$f":"VLOOKUP(F110,Soutez!A:B,2,FALSE)","v":"CZ"},{"$f":"VLOOKUP(F110,Soutez!A:C,3,FALSE)","v":2021},9,5323,1.0549999999999999,7676,8098,null,null,"JS3 18M","XM",""]
["Petr Krejcirik",1960,"M","Hranice","CZ/M","PMČR 2021 - Kombi Open",{"$f":"VLOOKUP(F111,Soutez!A:B,2,FALSE)","v":"CZ"},{"$f":"VLOOKUP(F111,Soutez!A:C,3,FALSE)","v":2021},10,5249,1.0549999999999999,7435,7844,null,null,"JS3 18M","VB",""]
["Petr Hotovy",1958,"M","Česká Lípa","CZ/C2","PMČR 2021 - Kombi Open",{"$f":"VLOOKUP(F112,Soutez!A:B,2,FALSE)","v":"CZ"},{"$f":"VLOOKUP(F112,Soutez!A:C,3,FALSE)","v":2021},11,5213,1.0549999999999999,7237,7635,null,null,"JS1 18m EVO","IGC",""]
["Michaela Rendlova",2004,"F","Toužim","CZ/C1","PMČR 2021 - Kombi Open",{"$f":"VLOOKUP(F113,Soutez!A:B,2,FALSE)","v":"CZ"},{"$f":"VLOOKUP(F113,Soutez!A:C,3,FALSE)","v":2021},12,5193,1.0549999999999999,7057,7445,null,null,"ASG29E","QX","Junior v roce 2024"]
["Ivan Novak",1962,"M","Mladá Boleslav","CZ/C1","PMČR 2021 - Kombi Open",{"$f":"VLOOKUP(F114,Soutez!A:B,2,FALSE)","v":"CZ"},{"$f":"VLOOKUP(F114,Soutez!A:C,3,FALSE)","v":2021},13,5131,1.0549999999999999,6830,7206,null,null,"ASG29E","QZ",""]
["Alena Netusilova",1970,"F","Zbraslavice","CZ/C1","PMČR 2021 - Kombi Open",{"$f":"VLOOKUP(F115,Soutez!A:B,2,FALSE)","v":"CZ"},{"$f":"VLOOKUP(F115,Soutez!A:C,3,FALSE)","v":2021},14,5089,1.0549999999999999,6625,6989,null,null,"JS 1 C EVO","JX",""]
["Lenka Kuthanova",{"$f":"VLOOKUP(A116,Pilot,2,0)","v":1960},{"$f":"VLOOKUP(A116,Pilot,5,0)","v":"F"},{"$f":"VLOOKUP(A116,Pilot,3,0)","v":"Tábor"},{"$f":"VLOOKUP(A116,Pilot,4,0)","v":"CZ/C1"},"PMČR 2021 - Kombi Open",{"$f":"VLOOKUP(F116,Soutez!A:B,2,FALSE)","v":"CZ"},{"$f":"VLOOKUP(F116,Soutez!A:C,3,FALSE)","v":2021},15,4805,1.0549999999999999,6150,6488,"x","x","JS1 18EVO","LX",""]
["Jan Kovalcik",null,null,"Bratislava",null,"PMČR 2021 - Kombi Open",{"$f":"VLOOKUP(F117,Soutez!A:B,2,FALSE)","v":"CZ"},{"$f":"VLOOKUP(F117,Soutez!A:C,3,FALSE)","v":2021},16,4720,1.0549999999999999,5898,6222,null,null,"DISCUS2CFES","ZI","Není v databázi"]
["Martin Picka",{"$f":"VLOOKUP(A118,Pilot,2,0)","v":1974},{"$f":"VLOOKUP(A118,Pilot,5,0)","v":"M"},{"$f":"VLOOKUP(A118,Pilot,3,0)","v":"Tábor"},{"$f":"VLOOKUP(A118,Pilot,4,0)","v":"CZ/C1"},"PMČR 2021 - Kombi Open",{"$f":"VLOOKUP(F118,Soutez!A:B,2,FALSE)","v":"CZ"},{"$f":"VLOOKUP(F118,Soutez!A:C,3,FALSE)","v":2021},17,4543,1.0549999999999999,5542,5847,"x",null,"Ventus2C","CX",""]
["Petr Bartak",1984,"M","Letkov","CZ/C1","PMČR 2021 - Kombi Open",{"$f":"VLOOKUP(F119,Soutez!A:B,2,FALSE)","v":"CZ"},{"$f":"VLOOKUP(F119,Soutez!A:C,3,FALSE)","v":2021},18,4539,1.0549999999999999,{"$f":"ROUND(J119/MAX($J$102:$J$121)*10000*0.7+(MAX($I$102:$I$121)-I119)/(MAX($I$102:$I$121)-1)*10000*0.3,0)","v":5380},5676,"x",null,"LS6c-18W","BL",""]
["Lukas Benedikt",null,null,"Trnava",null,"PMČR 2021 - Kombi Open",{"$f":"VLOOKUP(F120,Soutez!A:B,2,FALSE)","v":"CZ"},{"$f":"VLOOKUP(F120,Soutez!A:C,3,FALSE)","v":2021},19,4468,1.0549999999999999,5143,{"$f":"ROUND(K120*L120,0)","v":5426},null,null,"Ventus3f-18m","LB","Není v databázi"]
["Ivan Harasta 65",{"$f":"VLOOKUP(A121,Pilot,2,0)","v":1965},{"$f":"VLOOKUP(A121,Pilot,5,0)","v":"M"},{"$f":"VLOOKUP(A121,Pilot,3,0)","v":"Toužim"},{"$f":"VLOOKUP(A121,Pilot,4,0)","v":"CZ/C1"},"PMČR 2021 - Kombi Open",{"$f":"VLOOKUP(F121,Soutez!A:B,2,FALSE)","v":"CZ"},{"$f":"VLOOKUP(F121,Soutez!A:C,3,FALSE)","v":2021},20,1819,1.0549999999999999,2029,2141,null,null,"Nimbus 3/25.5m",12,""]
["Jan Louda",{"$f":"VLOOKUP(A122,Pilot,2,0)","v":1986},{"$f":"VLOOKUP(A122,Pilot,5,0)","v":"M"},{"$f":"VLOOKUP(A122,Pilot,3,0)","v":"Mladá Boleslav"},{"$f":"VLOOKUP(A122,Pilot,4,0)","v":"CZ/C1"},"PMRg 2021 - Klub",{"$f":"VLOOKUP(F122,Soutez!A:B,2,FALSE)","v":"CZ"},{"$f":"VLOOKUP(F122,Soutez!A:C,3,FALSE)","v":2021},1,5782,{"$f":"VLOOKUP(F122,Soutez,12,0)","v":0.94000000000000006},{"$f":"ROUND(J122/MAX($J$122:$J$147)*10000*0.7+(MAX($I$122:$I$147)-I122)/(MAX($I$122:$I$147)-1)*10000*0.3,0)","v":10000},{"$f":"ROUND(K122*L122,0)","v":9400},"x",null,"ASW-19B","XS",""]
["Pavel Jiranek",1993,"M","Toužim","CZ/C1","PMRg 2021 - Klub",{"$f":"VLOOKUP(F123,Soutez!A:B,2,FALSE)","v":"CZ"},{"$f":"VLOOKUP(F123,Soutez!A:C,3,FALSE)","v":2021},2,5754,0.94000000000000006,9846,{"$f":"ROUND(K123*L123,0)","v":9255},"x",null,"Std. Cirrus","IYD",""]
["Pavel Trybenekr",1990,"M","Hořice","CZ/C2","PMRg 2021 - Klub",{"$f":"VLOOKUP(F124,Soutez!A:B,2,FALSE)","v":"CZ"},{"$f":"VLOOKUP(F124,Soutez!A:C,3,FALSE)","v":2021},3,5741,0.94000000000000006,9710,9127,null,null,"LS-4","PF",""]
["Hana Treslova",1991,"F","Raná","CZ/C2","PMRg 2021 - Klub",{"$f":"VLOOKUP(F125,Soutez!A:B,2,FALSE)","v":"CZ"},{"$f":"VLOOKUP(F125,Soutez!A:C,3,FALSE)","v":2021},4,5404,0.94000000000000006,9182,8631,"x",null,"Std. Cirrus","CI",""]
["Jiri Stepanek",1956,"M","Moravská Třebová","CZ/M","PMRg 2021 - Klub",{"$f":"VLOOKUP(F126,Soutez!A:B,2,FALSE)","v":"CZ"},{"$f":"VLOOKUP(F126,Soutez!A:C,3,FALSE)","v":2021},5,5331,0.94000000000000006,8974,8436,"x",null,"VSO-10","H9",""]
["Martin Stepanek",1987,"M","Moravská Třebová","CZ/M","PMRg 2021 - Klub",{"$f":"VLOOKUP(F127,Soutez!A:B,2,FALSE)","v":"CZ"},{"$f":"VLOOKUP(F127,Soutez!A:C,3,FALSE)","v":2021},6,5267,0.94000000000000006,8777,8250,"x",null,"ASW-15B","LE",""]
["Petr Stepanek",1989,"M","Moravská Třebová","CZ/M","PMRg 2021 - Klub",{"$f":"VLOOKUP(F128,Soutez!A:B,2,FALSE)","v":"CZ"},{"$f":"VLOOKUP(F128,Soutez!A:C,3,FALSE)","v":2021},7,5104,0.94000000000000006,8459,7951,"x",null,"ASW-15B","ZP",""]
["Zdenek Balcarek",1967,"M","Kroměříž","CZ/M","PMRg 2021 - Klub",{"$f":"VLOOKUP(F129,Soutez!A:B,2,FALSE)","v":"CZ"},{"$f":"VLOOKUP(F129,Soutez!A:C,3,FALSE)","v":2021},8,4662,0.94000000000000006,7804,7336,null,null,"Discus b","OS",""]
["Zdenek Boruvka 86",1986,"M","Jičín","CZ/C2","PMRg 2021 - Klub",{"$f":"VLOOKUP(F130,Soutez!A:B,2,FALSE)","v":"CZ"},{"$f":"VLOOKUP(F130,Soutez!A:C,3,FALSE)","v":2021},9,4641,0.94000000000000006,7659,7199,null,null,"Std. Cirrus","BJ",""]
["Petr Valenta 94",{"$f":"VLOOKUP(A131,Pilot,2,0)","v":1994},{"$f":"VLOOKUP(A131,Pilot,5,0)","v":"M"},{"$f":"VLOOKUP(A131,Pilot,3,0)","v":"Kunovice"},{"$f":"VLOOKUP(A131,Pilot,4,0)","v":"CZ/M"},"PMRg 2021 - Klub",{"$f":"VLOOKUP(F131,Soutez!A:B,2,FALSE)","v":"CZ"},{"$f":"VLOOKUP(F131,Soutez!A:C,3,FALSE)","v":2021},10,4371,0.94000000000000006,7212,6779,"x",null,"Std. Cirrus","OK",""]
["Pavlina Horackova",1965,"F","Šumperk","CZ/M","PMRg 2021 - Klub",{"$f":"VLOOKUP(F132,Soutez!A:B,2,FALSE)","v":"CZ"},{"$f":"VLOOKUP(F132,Soutez!A:C,3,FALSE)","v":2021},11,4345,0.94000000000000006,7060,6636,null,null,"SZD-48 Jantar std. 2 (3)","SU",""]
["Jiri Vondracek",1989,"M","Kladno","CZ/C1","PMRg 2021 - Klub",{"$f":"VLOOKUP(F133,Soutez!A:B,2,FALSE)","v":"CZ"},{"$f":"VLOOKUP(F133,Soutez!A:C,3,FALSE)","v":2021},12,4337,0.94000000000000006,6931,6515,"x",null,"ASW-15B","2P",""]
["Jiri Maier 66",1966,"M","Raná","CZ/C2","PMRg 2021 - Klub",{"$f":"VLOOKUP(F134,Soutez!A:B,2,FALSE)","v":"CZ"},{"$f":"VLOOKUP(F134,Soutez!A:C,3,FALSE)","v":2021},13,4311,0.94000000000000006,6779,6372,"x",null,"ASW-24E","JM",""]
["Martin Kriz",{"$f":"VLOOKUP(A135,Pilot,2,0)","v":1968},{"$f":"VLOOKUP(A135,Pilot,5,0)","v":"M"},{"$f":"VLOOKUP(A135,Pilot,3,0)","v":"Přibyslav"},{"$f":"VLOOKUP(A135,Pilot,4,0)","v":"CZ/C2"},"PMRg 2021 - Klub",{"$f":"VLOOKUP(F135,Soutez!A:B,2,FALSE)","v":"CZ"},{"$f":"VLOOKUP(F135,Soutez!A:C,3,FALSE)","v":2021},14,4245,0.94000000000000006,6579,6184,"x",null,"ASW-20 (A)+F /15m WL",67,""]
["Jan Florian",1992,"M","Zbraslavice","CZ/C1","PMRg 2021 - Klub",{"$f":"VLOOKUP(F136,Soutez!A:B,2,FALSE)","v":"CZ"},{"$f":"VLOOKUP(F136,Soutez!A:C,3,FALSE)","v":2021},15,3748,0.94000000000000006,5858,5507,"x",null,"Std. Cirrus","C1",""]
["Pavel Liska",1965,"M","Roudnice","CZ/C2","PMRg 2021 - Klub",{"$f":"VLOOKUP(F137,Soutez!A:B,2,FALSE)","v":"CZ"},{"$f":"VLOOKUP(F137,Soutez!A:C,3,FALSE)","v":2021},15,3748,0.94000000000000006,5858,5507,"x",null,"ASW-19B","RCE",""]
["Michal Lesinger",1966,"M","Moravská Třebová","CZ/M","PMRg 2021 - Klub",{"$f":"VLOOKUP(F138,Soutez!A:B,2,FALSE)","v":"CZ"},{"$f":"VLOOKUP(F138,Soutez!A:C,3,FALSE)","v":2021},17,3527,0.94000000000000006,5350,5029,null,null,"ASW-19B","LL",""]
["Pavel Koudelka",1973,"M","Křižanov","CZ/M","PMRg 2021 - Klub",{"$f":"VLOOKUP(F139,Soutez!A:B,2,FALSE)","v":"CZ"},{"$f":"VLOOKUP(F139,Soutez!A:C,3,FALSE)","v":2021},18,3320,0.94000000000000006,4979,4680,"x",null,"Std. Cirrus","ZL",""]
["Petr Prichystal",1973,"M","Moravská Třebová","CZ/M","PMRg 2021 - Klub",{"$f":"VLOOKUP(F140,Soutez!A:B,2,FALSE)","v":"CZ"},{"$f":"VLOOKUP(F140,Soutez!A:C,3,FALSE)","v":2021},19,3256,0.94000000000000006,4782,4495,"x",null,"ASW-19B","AE",""]
["Jan Vozeh",1995,"M","Rakovník","CZ/C1","PMRg 2021 - Klub",{"$f":"VLOOKUP(F141,Soutez!A:B,2,FALSE)","v":"CZ"},{"$f":"VLOOKUP(F141,Soutez!A:C,3,FALSE)","v":2021},20,3074,0.94000000000000006,4442,4175,"x",null,"Std. Cirrus","OG",""]
["Jakub Kohn",1992,"M","Prostějov","CZ/M","PMRg 2021 - Klub",{"$f":"VLOOKUP(F142,Soutez!A:B,2,FALSE)","v":"CZ"},{"$f":"VLOOKUP(F142,Soutez!A:C,3,FALSE)","v":2021},21,2944,0.94000000000000006,4164,3914,"x",null,"ASW-15B","FK",""]
["Josef Hlusek",1993,"M","Kunovice","CZ/M","PMRg 2021 - Klub",{"$f":"VLOOKUP(F143,Soutez!A:B,2,FALSE)","v":"CZ"},{"$f":"VLOOKUP(F143,Soutez!A:C,3,FALSE)","v":2021},22,2433,0.94000000000000006,3426,3220,"x",null,"Std. Cirrus","WO",""]
["Petr Kubik 75",1975,"M","Moravská Třebová","CZ/M","PMRg 2021 - Klub",{"$f":"VLOOKUP(F144,Soutez!A:B,2,FALSE)","v":"CZ"},{"$f":"VLOOKUP(F144,Soutez!A:C,3,FALSE)","v":2021},23,2399,0.94000000000000006,3264,{"$f":"ROUND(K144*L144,0)","v":3068},"x",null,"ASW-19B","NO",""]
["Marek Pechar",{"$f":"VLOOKUP(A145,Pilot,2,0)","v":1995},{"$f":"VLOOKUP(A145,Pilot,5,0)","v":"M"},{"$f":"VLOOKUP(A145,Pilot,3,0)","v":"Chrudim"},{"$f":"VLOOKUP(A145,Pilot,4,0)","v":"CZ/C2"},"PMRg 2021 - Klub",{"$f":"VLOOKUP(F145,Soutez!A:B,2,FALSE)","v":"CZ"},{"$f":"VLOOKUP(F145,Soutez!A:C,3,FALSE)","v":2021},24,1755,0.94000000000000006,2365,2223,"x",null,"Std. Cirrus","JE",{"$f":"IF(ISERROR(VLOOKUP(A145,Pilot,6,0)),\"Není v databázi\",VLOOKUP(A145,Pilot,6,0))","v":""}]
["Jiri Krofta",1988,"M","Hosín","CZ/C1","PMRg 2021 - Klub",{"$f":"VLOOKUP(F146,Soutez!A:B,2,FALSE)","v":"CZ"},{"$f":"VLOOKUP(F146,Soutez!A:C,3,FALSE)","v":2021},25,1748,0.94000000000000006,2236,2102,"x",null,"Std. Cirrus","YU",""]
["Zuzana Kutilkova",1993,"F","Křižanov","CZ/M","PMRg 2021 - Klub",{"$f":"VLOOKUP(F147,Soutez!A:B,2,FALSE)","v":"CZ"},{"$f":"VLOOKUP(F147,Soutez!A:C,3,FALSE)","v":2021},26,813,0.94000000000000006,984,925,"x","x","LS-1f","DP",""]
["Tomas Rendla",{"$f":"VLOOKUP(A148,Pilot,2,0)","v":1973},{"$f":"VLOOKUP(A148,Pilot,5,0)","v":"M"},{"$f":"VLOOKUP(A148,Pilot,3,0)","v":"Zbraslavice"},{"$f":"VLOOKUP(A148,Pilot,4,0)","v":"CZ/C1"},"PMRg 2021 - Kombi",{"$f":"VLOOKUP(F148,Soutez!A:B,2,FALSE)","v":"CZ"},{"$f":"VLOOKUP(F148,Soutez!A:C,3,FALSE)","v":2021},1,5477,0.93,{"$f":"ROUND(J148/MAX($J$148:$J$160)*10000*0.7+(MAX($I$148:$I$160)-I148)/(MAX($I$148:$I$160)-1)*10000*0.3,0)","v":10000},{"$f":"ROUND(K148*L148,0)","v":9300},"x",null,"EB-29R","EX",""]
["Radek Kucirek",1973,"M","Havlíčkův Brod","CZ/C2","PMRg 2021 - Kombi",{"$f":"VLOOKUP(F149,Soutez!A:B,2,FALSE)","v":"CZ"},{"$f":"VLOOKUP(F149,Soutez!A:C,3,FALSE)","v":2021},2,5461,0.93,9730,{"$f":"ROUND(K149*L149,0)","v":9049},null,null,"EB-28 edition","NA",""]
["Jan Boruvka",1984,"M","Jičín","CZ/C2","PMRg 2021 - Kombi",{"$f":"VLOOKUP(F150,Soutez!A:B,2,FALSE)","v":"CZ"},{"$f":"VLOOKUP(F150,Soutez!A:C,3,FALSE)","v":2021},3,5225,0.93,9178,8536,null,null,"Ventus C 17.6m","EG",""]
["Michaela Rendlova",2004,"F","Toužim","CZ/C1","PMRg 2021 - Kombi",{"$f":"VLOOKUP(F151,Soutez!A:B,2,FALSE)","v":"CZ"},{"$f":"VLOOKUP(F151,Soutez!A:C,3,FALSE)","v":2021},4,4833,0.93,8427,7837,null,null,"ASG 29/18m","NX","Junior v roce 2024"]
["Radek Zima 78",1978,"M","Hodkovice","CZ/C2","PMRg 2021 - Kombi",{"$f":"VLOOKUP(F152,Soutez!A:B,2,FALSE)","v":"CZ"},{"$f":"VLOOKUP(F152,Soutez!A:C,3,FALSE)","v":2021},5,4825,0.93,8167,7595,null,null,"ASG 29/18m","XZ",""]
["Jiri Steiger",{"$f":"VLOOKUP(A153,Pilot,2,0)","v":1969},{"$f":"VLOOKUP(A153,Pilot,5,0)","v":"M"},{"$f":"VLOOKUP(A153,Pilot,3,0)","v":"Olomouc"},{"$f":"VLOOKUP(A153,Pilot,4,0)","v":"CZ/M"},"PMRg 2021 - Kombi",{"$f":"VLOOKUP(F153,Soutez!A:B,2,FALSE)","v":"CZ"},{"$f":"VLOOKUP(F153,Soutez!A:C,3,FALSE)","v":2021},6,4284,0.93,7225,6719,"x",null,"Ventus 3M 18m","JSI",""]
["Jaromir Macoun",1999,"M","Jičín","CZ/C2","PMRg 2021 - Kombi",{"$f":"VLOOKUP(F154,Soutez!A:B,2,FALSE)","v":"CZ"},{"$f":"VLOOKUP(F154,Soutez!A:C,3,FALSE)","v":2021},7,4128,0.93,6776,6302,null,null,"LS-8 15m","AU","Junior v roce 2024"]
["Miroslav Koci",1961,"M","Žamberk","CZ/C2","PMRg 2021 - Kombi",{"$f":"VLOOKUP(F155,Soutez!A:B,2,FALSE)","v":"CZ"},{"$f":"VLOOKUP(F155,Soutez!A:C,3,FALSE)","v":2021},8,3695,0.93,5972,5554,null,null,"Ventus 2cxm","E8",""]
["Vit Morkovsky",2000,"M","Polička","CZ/C2","PMRg 2021 - Kombi",{"$f":"VLOOKUP(F156,Soutez!A:B,2,FALSE)","v":"CZ"},{"$f":"VLOOKUP(F156,Soutez!A:C,3,FALSE)","v":2021},9,3438,0.93,5394,{"$f":"ROUND(K156*L156,0)","v":5016},null,null,"Discus 2a","GX","Junior v roce 2024"]
["Ivan Tvrdik",1997,"M","Letňany","CZ/C1","PMRg 2021 - Kombi",{"$f":"VLOOKUP(F157,Soutez!A:B,2,FALSE)","v":"CZ"},{"$f":"VLOOKUP(F157,Soutez!A:C,3,FALSE)","v":2021},10,2951,0.93,4522,4205,null,null,"LS-8 15m","EU",""]
["Jan Zapletal",1997,"M","Břeclav","CZ/M","PMRg 2021 - Kombi",{"$f":"VLOOKUP(F158,Soutez!A:B,2,FALSE)","v":"CZ"},{"$f":"VLOOKUP(F158,Soutez!A:C,3,FALSE)","v":2021},11,2697,0.93,3947,3671,null,null,"LS-8 15m","JS",""]
["Antonin Kutalek",1943,"M","Zábřeh","CZ/M","PMRg 2021 - Kombi",{"$f":"VLOOKUP(F159,Soutez!A:B,2,FALSE)","v":"CZ"},{"$f":"VLOOKUP(F159,Soutez!A:C,3,FALSE)","v":2021},12,1816,0.93,2571,2391,null,null,"LAK-17AT 18m","GL",""]
["Petr Panek",1975,"M","Dvůr Králové","CZ/C2","PMRg 2021 - Kombi",{"$f":"VLOOKUP(F160,Soutez!A:B,2,FALSE)","v":"CZ"},{"$f":"VLOOKUP(F160,Soutez!A:C,3,FALSE)","v":2021},13,495,0.93,633,589,"x",null,"JS1B EVO 18m","IGC",""]
["Jan Stastny",{"$f":"VLOOKUP(A161,Pilot,2,0)","v":2003},{"$f":"VLOOKUP(A161,Pilot,5,0)","v":"M"},{"$f":"VLOOKUP(A161,Pilot,3,0)","v":"Medlánky"},{"$f":"VLOOKUP(A161,Pilot,4,0)","v":"CZ/M"},"PMČRj 2021 - Klub",{"$f":"VLOOKUP(F161,Soutez!A:B,2,FALSE)","v":"CZ"},{"$f":"VLOOKUP(F161,Soutez!A:C,3,FALSE)","v":2021},1,4704,0.91500000000000004,{"$f":"ROUND(J161/MAX($J$161:$J$189)*10000*0.7+(MAX($I$161:$I$189)-I161)/(MAX($I$161:$I$189)-1)*10000*0.3,0)","v":10000},{"$f":"ROUND(K161*L161,0)","v":9150},"x",null,"ASW-15B","TW","Junior v roce 2024"]
["Lukas Kriz",2003,"M","Křižanov","CZ/M","PMČRj 2021 - Klub",{"$f":"VLOOKUP(F162,Soutez!A:B,2,FALSE)","v":"CZ"},{"$f":"VLOOKUP(F162,Soutez!A:C,3,FALSE)","v":2021},2,4628,0.91500000000000004,{"$f":"ROUND(J162/MAX($J$161:$J$189)*10000*0.7+(MAX($I$161:$I$189)-I162)/(MAX($I$161:$I$189)-1)*10000*0.3,0)","v":9780},{"$f":"ROUND(K162*L162,0)","v":8949},null,null,"Std. Cirrus","EJ","Junior v roce 2024"]
["Vladimir Hammer",2000,"M","Letkov","CZ/C1","PMČRj 2021 - Klub",{"$f":"VLOOKUP(F163,Soutez!A:B,2,FALSE)","v":"CZ"},{"$f":"VLOOKUP(F163,Soutez!A:C,3,FALSE)","v":2021},3,4200,0.91500000000000004,9036,8268,"x",null,"Std. Cirrus","UB","Junior v roce 2024"]
["Tereza Koubkova",1999,"F","Vysoké Mýto","CZ/C2","PMČRj 2021 - Klub",{"$f":"VLOOKUP(F164,Soutez!A:B,2,FALSE)","v":"CZ"},{"$f":"VLOOKUP(F164,Soutez!A:C,3,FALSE)","v":2021},4,4051,0.91500000000000004,8707,7967,null,null,"Std. Cirrus","WY","Junior v roce 2024"]
["Tomas Hynek",2002,"M","Dvůr Králové","CZ/C2","PMČRj 2021 - Klub",{"$f":"VLOOKUP(F165,Soutez!A:B,2,FALSE)","v":"CZ"},{"$f":"VLOOKUP(F165,Soutez!A:C,3,FALSE)","v":2021},5,4043,0.91500000000000004,8588,7858,"x",null,"Std. Cirrus","HT","Junior v roce 2024"]
["Tomas Hulmak",1999,"M","Hosín","CZ/C1","PMČRj 2021 - Klub",{"$f":"VLOOKUP(F166,Soutez!A:B,2,FALSE)","v":"CZ"},{"$f":"VLOOKUP(F166,Soutez!A:C,3,FALSE)","v":2021},6,3781,0.91500000000000004,8091,7403,"x",null,"ASW-15B","HH","Junior v roce 2024"]
["Lukas Volek",{"$f":"VLOOKUP(A167,Pilot,2,0)","v":2004},{"$f":"VLOOKUP(A167,Pilot,5,0)","v":"M"},{"$f":"VLOOKUP(A167,Pilot,3,0)","v":"Hodkovice"},{"$f":"VLOOKUP(A167,Pilot,4,0)","v":"CZ/C2"},"PMČRj 2021 - Klub",{"$f":"VLOOKUP(F167,Soutez!A:B,2,FALSE)","v":"CZ"},{"$f":"VLOOKUP(F167,Soutez!A:C,3,FALSE)","v":2021},7,3675,0.91500000000000004,7826,7161,"x",null,"ASW-15B","B","Junior v roce 2024"]
["Petr Havelka",1997,"M","Zbraslavice","CZ/C1","PMČRj 2021 - Klub",{"$f":"VLOOKUP(F168,Soutez!A:B,2,FALSE)","v":"CZ"},{"$f":"VLOOKUP(F168,Soutez!A:C,3,FALSE)","v":2021},8,3484,0.91500000000000004,7435,6803,"x",null,"ASW-19B","PH",""]
["Tomas Moravec",2000,"M","Žamberk","CZ/C2","PMČRj 2021 - Klub",{"$f":"VLOOKUP(F169,Soutez!A:B,2,FALSE)","v":"CZ"},{"$f":"VLOOKUP(F169,Soutez!A:C,3,FALSE)","v":2021},9,3375,0.91500000000000004,7165,6556,"x",null,"Std. Cirrus","OK6","Junior v roce 2024"]
["Lukas Maly",1998,"M","Vysoké Mýto","CZ/C2","PMČRj 2021 - Klub",{"$f":"VLOOKUP(F170,Soutez!A:B,2,FALSE)","v":"CZ"},{"$f":"VLOOKUP(F170,Soutez!A:C,3,FALSE)","v":2021},10,3355,0.91500000000000004,7028,6431,"x",null,"ASW-15B","AM",""]
["Vit Tvrdik",2000,"M","Letňany","CZ/C1","PMČRj 2021 - Klub",{"$f":"VLOOKUP(F171,Soutez!A:B,2,FALSE)","v":"CZ"},{"$f":"VLOOKUP(F171,Soutez!A:C,3,FALSE)","v":2021},11,3329,0.91500000000000004,6882,6297,"x",null,"ASW-19B","HDI","Junior v roce 2024"]
["Ondrej Dvorak 98",1998,"M","Mladá Boleslav","CZ/C1","PMČRj 2021 - Klub",{"$f":"VLOOKUP(F172,Soutez!A:B,2,FALSE)","v":"CZ"},{"$f":"VLOOKUP(F172,Soutez!A:C,3,FALSE)","v":2021},12,3305,0.91500000000000004,6740,6167,"x",null,"ASW-19B","AH",""]
["Jan Cibulka",{"$f":"VLOOKUP(A173,Pilot,2,0)","v":2002},{"$f":"VLOOKUP(A173,Pilot,5,0)","v":"M"},{"$f":"VLOOKUP(A173,Pilot,3,0)","v":"Letňany"},{"$f":"VLOOKUP(A173,Pilot,4,0)","v":"CZ/C1"},"PMČRj 2021 - Klub",{"$f":"VLOOKUP(F173,Soutez!A:B,2,FALSE)","v":"CZ"},{"$f":"VLOOKUP(F173,Soutez!A:C,3,FALSE)","v":2021},13,3194,0.91500000000000004,6467,5917,"x",null,"ASW-19B","KZ","Junior v roce 2024"]
["Petr Hosek",{"$f":"VLOOKUP(A174,Pilot,2,0)","v":2001},{"$f":"VLOOKUP(A174,Pilot,5,0)","v":"M"},{"$f":"VLOOKUP(A174,Pilot,3,0)","v":"Beroun"},{"$f":"VLOOKUP(A174,Pilot,4,0)","v":"CZ/C1"},"PMČRj 2021 - Klub",{"$f":"VLOOKUP(F174,Soutez!A:B,2,FALSE)","v":"CZ"},{"$f":"VLOOKUP(F174,Soutez!A:C,3,FALSE)","v":2021},14,3186,0.91500000000000004,6348,5808,"x",null,"VSO-10","B1","Junior v roce 2024"]
["Matej Jelinek",1999,"M","Hronov","CZ/C2","PMČRj 2021 - Klub",{"$f":"VLOOKUP(F175,Soutez!A:B,2,FALSE)","v":"CZ"},{"$f":"VLOOKUP(F175,Soutez!A:C,3,FALSE)","v":2021},15,3152,0.91500000000000004,6190,5664,"x",null,"Std. Cirrus","ZF","Junior v roce 2024"]
["Michaela Krizova",2001,"F","Přibyslav","CZ/C2","PMČRj 2021 - Klub",{"$f":"VLOOKUP(F176,Soutez!A:B,2,FALSE)","v":"CZ"},{"$f":"VLOOKUP(F176,Soutez!A:C,3,FALSE)","v":2021},16,3092,0.91500000000000004,5994,5485,null,null,"Std. Cirrus","XC","Junior v roce 2024"]
["Jakub Malik",1999,"M","Letňany","CZ/C1","PMČRj 2021 - Klub",{"$f":"VLOOKUP(F177,Soutez!A:B,2,FALSE)","v":"CZ"},{"$f":"VLOOKUP(F177,Soutez!A:C,3,FALSE)","v":2021},17,3075,0.91500000000000004,5862,5364,null,null,"Discus b WL","DP","Junior v roce 2024"]
["Michal Coufal",{"$f":"VLOOKUP(A178,Pilot,2,0)","v":1999},{"$f":"VLOOKUP(A178,Pilot,5,0)","v":"M"},{"$f":"VLOOKUP(A178,Pilot,3,0)","v":"Jičín"},{"$f":"VLOOKUP(A178,Pilot,4,0)","v":"CZ/C2"},"PMČRj 2021 - Klub",{"$f":"VLOOKUP(F178,Soutez!A:B,2,FALSE)","v":"CZ"},{"$f":"VLOOKUP(F178,Soutez!A:C,3,FALSE)","v":2021},18,3066,0.91500000000000004,5741,5253,"x",null,"Std. Cirrus","FS","Junior v roce 2024"]
["Jan Beran",1999,"M","Kladno","CZ/C1","PMČRj 2021 - Klub",{"$f":"VLOOKUP(F179,Soutez!A:B,2,FALSE)","v":"CZ"},{"$f":"VLOOKUP(F179,Soutez!A:C,3,FALSE)","v":2021},19,2977,0.91500000000000004,5501,5033,"x",null,"ASW-19B","HB","Junior v roce 2024"]
["Tibor Hezina",2002,"M","Křižanov","CZ/M","PMČRj 2021 - Klub",{"$f":"VLOOKUP(F180,Soutez!A:B,2,FALSE)","v":"CZ"},{"$f":"VLOOKUP(F180,Soutez!A:C,3,FALSE)","v":2021},20,2897,0.91500000000000004,5275,4827,"x",null,"Std. Cirrus","IJ","Junior v roce 2024"]
["Jan Adam",2002,"M","Podhořany","CZ/C2","PMČRj 2021 - Klub",{"$f":"VLOOKUP(F181,Soutez!A:B,2,FALSE)","v":"CZ"},{"$f":"VLOOKUP(F181,Soutez!A:C,3,FALSE)","v":2021},21,2878,0.91500000000000004,5140,4703,"x",null,"Std. Cirrus","YX","Junior v roce 2024"]
["Jiri Maier 99",1999,"M","Raná","CZ/C2","PMČRj 2021 - Klub",{"$f":"VLOOKUP(F182,Soutez!A:B,2,FALSE)","v":"CZ"},{"$f":"VLOOKUP(F182,Soutez!A:C,3,FALSE)","v":2021},22,2561,0.91500000000000004,4561,4173,null,null,"Discus bT","TAL","Junior v roce 2024"]
["Premysl Chvoj",{"$f":"VLOOKUP(A183,Pilot,2,0)","v":2003},{"$f":"VLOOKUP(A183,Pilot,5,0)","v":"M"},{"$f":"VLOOKUP(A183,Pilot,3,0)","v":"Zbraslavice"},{"$f":"VLOOKUP(A183,Pilot,4,0)","v":"CZ/C1"},"PMČRj 2021 - Klub",{"$f":"VLOOKUP(F183,Soutez!A:B,2,FALSE)","v":"CZ"},{"$f":"VLOOKUP(F183,Soutez!A:C,3,FALSE)","v":2021},23,2341,0.91500000000000004,4126,3775,"x",null,"G-102 Astir cs","MV","Junior v roce 2024"]
["Katerina Vancurova",{"$f":"VLOOKUP(A184,Pilot,2,0)","v":2002},{"$f":"VLOOKUP(A184,Pilot,5,0)","v":"F"},{"$f":"VLOOKUP(A184,Pilot,3,0)","v":"Hranice"},{"$f":"VLOOKUP(A184,Pilot,4,0)","v":"CZ/M"},"PMČRj 2021 - Klub",{"$f":"VLOOKUP(F184,Soutez!A:B,2,FALSE)","v":"CZ"},{"$f":"VLOOKUP(F184,Soutez!A:C,3,FALSE)","v":2021},24,2263,{"$f":"VLOOKUP(F184,Soutez,12,0)","v":0.91500000000000004},3903,3571,null,null,"Discus b","HD","Junior v roce 2024"]
["Matej Bartos",1998,"M","Hodkovice","CZ/C2","PMČRj 2021 - Klub",{"$f":"VLOOKUP(F185,Soutez!A:B,2,FALSE)","v":"CZ"},{"$f":"VLOOKUP(F185,Soutez!A:C,3,FALSE)","v":2021},25,2167,0.91500000000000004,3653,3342,"x",null,"Std. Cirrus","KA",""]
["Jakub Koudelka",2000,"M","Křižanov","CZ/M","PMČRj 2021 - Klub",{"$f":"VLOOKUP(F186,Soutez!A:B,2,FALSE)","v":"CZ"},{"$f":"VLOOKUP(F186,Soutez!A:C,3,FALSE)","v":2021},26,1992,0.91500000000000004,3286,3007,"x",null,"ASW-19B","A1","Junior v roce 2024"]
["Kristina Santruckova",1996,"F","Podhořany","CZ/C2","PMČRj 2021 - Klub",{"$f":"VLOOKUP(F187,Soutez!A:B,2,FALSE)","v":"CZ"},{"$f":"VLOOKUP(F187,Soutez!A:C,3,FALSE)","v":2021},27,1687,0.91500000000000004,2725,2493,"x","x","ASW-15B WL","KS",""]
["Filip Malik",2001,"M","Letňany","CZ/C1","PMČRj 2021 - Klub",{"$f":"VLOOKUP(F188,Soutez!A:B,2,FALSE)","v":"CZ"},{"$f":"VLOOKUP(F188,Soutez!A:C,3,FALSE)","v":2021},28,1654,0.91500000000000004,2568,2350,"x",null,"VSO-10","L5","Junior v roce 2024"]
["Tim Raasch",{"$f":"VLOOKUP(A189,Pilot,2,0)","v":2000},{"$f":"VLOOKUP(A189,Pilot,5,0)","v":"M"},{"$f":"VLOOKUP(A189,Pilot,3,0)","v":"Polička"},{"$f":"VLOOKUP(A189,Pilot,4,0)","v":"CZ/C2"},"PMČRj 2021 - Klub",{"$f":"VLOOKUP(F189,Soutez!A:B,2,FALSE)","v":"CZ"},{"$f":"VLOOKUP(F189,Soutez!A:C,3,FALSE)","v":2021},29,617,0.91500000000000004,918,840,"x",null,"VSO-10","H5","Junior v roce 2024"]
["Michal Kratochvil",{"$f":"VLOOKUP(A190,Pilot,2,0)","v":1984},{"$f":"VLOOKUP(A190,Pilot,5,0)","v":"M"},{"$f":"VLOOKUP(A190,Pilot,3,0)","v":"Slaný"},{"$f":"VLOOKUP(A190,Pilot,4,0)","v":"CZ/C1"},"GGP MB 2021 - Gradient GP",{"$f":"VLOOKUP(F190,Soutez!A:B,2,FALSE)","v":"CZ"},{"$f":"VLOOKUP(F190,Soutez!A:C,3,FALSE)","v":2021},1,14,0,{"$f":"ROUND((MAX($I$190:$I$198)-I190)/(MAX($I$190:$I$198)-1)*10000,0)","v":10000},{"$f":"ROUND(K190*L190,0)","v":0},null,null,"VSO-10",56,""]
["David Vrchota",{"$f":"VLOOKUP(A191,Pilot,2,0)","v":1976},{"$f":"VLOOKUP(A191,Pilot,5,0)","v":"M"},{"$f":"VLOOKUP(A191,Pilot,3,0)","v":"Jaroměř"},{"$f":"VLOOKUP(A191,Pilot,4,0)","v":"CZ/C2"},"GGP MB 2021 - Gradient GP",{"$f":"VLOOKUP(F191,Soutez!A:B,2,FALSE)","v":"CZ"},{"$f":"VLOOKUP(F191,Soutez!A:C,3,FALSE)","v":2021},2,12,0,{"$f":"ROUND((MAX($I$190:$I$198)-I191)/(MAX($I$190:$I$198)-1)*10000,0)","v":8750},{"$f":"ROUND(K191*L191,0)","v":0},null,null,"VSO-10","J6",""]
["Jan Hejret",1976,"M","Jaroměř","CZ/C2","GGP MB 2021 - Gradient GP",{"$f":"VLOOKUP(F192,Soutez!A:B,2,FALSE)","v":"CZ"},{"$f":"VLOOKUP(F192,Soutez!A:C,3,FALSE)","v":2021},3,9,0,7500,0,null,null,"VSO-10","C3",""]
["Libor Bednarik",1972,"M","Kunovice","CZ/M","GGP MB 2021 - Gradient GP",{"$f":"VLOOKUP(F193,Soutez!A:B,2,FALSE)","v":"CZ"},{"$f":"VLOOKUP(F193,Soutez!A:C,3,FALSE)","v":2021},4,6,0,6250,0,null,null,"VSO-10",94,""]
["Karel Policky",{"$f":"VLOOKUP(A194,Pilot,2,0)","v":1950},{"$f":"VLOOKUP(A194,Pilot,5,0)","v":"M"},{"$f":"VLOOKUP(A194,Pilot,3,0)","v":"Kolín"},{"$f":"VLOOKUP(A194,Pilot,4,0)","v":"CZ/C1"},"GGP MB 2021 - Gradient GP",{"$f":"VLOOKUP(F194,Soutez!A:B,2,FALSE)","v":"CZ"},{"$f":"VLOOKUP(F194,Soutez!A:C,3,FALSE)","v":2021},4,6,0,{"$f":"ROUND((MAX($I$190:$I$198)-I194)/(MAX($I$190:$I$198)-1)*10000,0)","v":6250},0,null,null,"VSO-10",93,""]
["David Kaspar",1993,"M","Jaroměř","CZ/C2","GGP MB 2021 - Gradient GP",{"$f":"VLOOKUP(F195,Soutez!A:B,2,FALSE)","v":"CZ"},{"$f":"VLOOKUP(F195,Soutez!A:C,3,FALSE)","v":2021},6,5,0,3750,{"$f":"ROUND(K195*L195,0)","v":0},null,null,"VSO-10",31,""]
["Martin Krizovic",{"$f":"VLOOKUP(A196,Pilot,2,0)","v":1971},{"$f":"VLOOKUP(A196,Pilot,5,0)","v":"M"},{"$f":"VLOOKUP(A196,Pilot,3,0)","v":"Přibyslav"},{"$f":"VLOOKUP(A196,Pilot,4,0)","v":"CZ/C2"},"GGP MB 2021 - Gradient GP",{"$f":"VLOOKUP(F196,Soutez!A:B,2,FALSE)","v":"CZ"},{"$f":"VLOOKUP(F196,Soutez!A:C,3,FALSE)","v":2021},7,2,0,2500,{"$f":"ROUND(K196*L196,0)","v":0},null,null,"VSO-10","G3",""]
["Jan Zdvorak",1980,"M","Roudnice","CZ/C2","GGP MB 2021 - Gradient GP",{"$f":"VLOOKUP(F197,Soutez!A:B,2,FALSE)","v":"CZ"},{"$f":"VLOOKUP(F197,Soutez!A:C,3,FALSE)","v":2021},8,1,0,1250,0,null,null,"VSO-10",6,""]
["Jiri Pixa",1968,"M","Slaný","CZ/C1","GGP MB 2021 - Gradient GP",{"$f":"VLOOKUP(F198,Soutez!A:B,2,FALSE)","v":"CZ"},{"$f":"VLOOKUP(F198,Soutez!A:C,3,FALSE)","v":2021},9,0,0,0,0,null,null,"VSO-10","G8",""]
["Lukas Kriz",{"$f":"VLOOKUP(A199,Pilot,2,0)","v":2003},{"$f":"VLOOKUP(A199,Pilot,5,0)","v":"M"},{"$f":"VLOOKUP(A199,Pilot,3,0)","v":"Křižanov"},{"$f":"VLOOKUP(A199,Pilot,4,0)","v":"CZ/M"},"GGP MB 2021 - Klub GP",{"$f":"VLOOKUP(F199,Soutez!A:B,2,FALSE)","v":"CZ"},{"$f":"VLOOKUP(F199,Soutez!A:C,3,FALSE)","v":2021},1,19,0.88,{"$f":"ROUND((MAX($I$199:$I$215)-I199)/(MAX($I$199:$I$215)-1)*10000,0)","v":10000},{"$f":"ROUND(K199*L199,0)","v":8800},null,null,"Std. Cirrus","EJ","Junior v roce 2024"]
["Matej Krestes",1986,"M","Slaný","CZ/C1","GGP MB 2021 - Klub GP",{"$f":"VLOOKUP(F200,Soutez!A:B,2,FALSE)","v":"CZ"},{"$f":"VLOOKUP(F200,Soutez!A:C,3,FALSE)","v":2021},1,19,0.88,{"$f":"ROUND((MAX($I$199:$I$215)-I200)/(MAX($I$199:$I$215)-1)*10000,0)","v":10000},{"$f":"ROUND(K200*L200,0)","v":8800},"x",null,"Std. Cirrus","CO",""]
["David Sachl",1978,"M","Kralupy","CZ/C1","GGP MB 2021 - Klub GP",{"$f":"VLOOKUP(F201,Soutez!A:B,2,FALSE)","v":"CZ"},{"$f":"VLOOKUP(F201,Soutez!A:C,3,FALSE)","v":2021},3,18,0.88,8333,7333,null,null,"DG 300 WL","BK",""]
["Tomas Hynek",{"$f":"VLOOKUP(A202,Pilot,2,0)","v":2002},{"$f":"VLOOKUP(A202,Pilot,5,0)","v":"M"},{"$f":"VLOOKUP(A202,Pilot,3,0)","v":"Dvůr Králové"},{"$f":"VLOOKUP(A202,Pilot,4,0)","v":"CZ/C2"},"GGP MB 2021 - Klub GP",{"$f":"VLOOKUP(F202,Soutez!A:B,2,FALSE)","v":"CZ"},{"$f":"VLOOKUP(F202,Soutez!A:C,3,FALSE)","v":2021},3,18,0.88,8333,7333,null,null,"Std. Cirrus","HT","Junior v roce 2024"]
["Jan Cibulka",2002,"M","Letňany","CZ/C1","GGP MB 2021 - Klub GP",{"$f":"VLOOKUP(F203,Soutez!A:B,2,FALSE)","v":"CZ"},{"$f":"VLOOKUP(F203,Soutez!A:C,3,FALSE)","v":2021},5,16,0.88,6667,5867,null,null,"ASW 19","KZ","Junior v roce 2024"]
["Ondrej Dvorak 98",{"$f":"VLOOKUP(A204,Pilot,2,0)","v":1998},{"$f":"VLOOKUP(A204,Pilot,5,0)","v":"M"},{"$f":"VLOOKUP(A204,Pilot,3,0)","v":"Mladá Boleslav"},{"$f":"VLOOKUP(A204,Pilot,4,0)","v":"CZ/C1"},"GGP MB 2021 - Klub GP",{"$f":"VLOOKUP(F204,Soutez!A:B,2,FALSE)","v":"CZ"},{"$f":"VLOOKUP(F204,Soutez!A:C,3,FALSE)","v":2021},6,14,0.88,5833,5133,null,null,"ASW 19","AH",""]
["Linda Vasatova",{"$f":"VLOOKUP(A205,Pilot,2,0)","v":1990},{"$f":"VLOOKUP(A205,Pilot,5,0)","v":"F"},{"$f":"VLOOKUP(A205,Pilot,3,0)","v":"Mladá Boleslav"},{"$f":"VLOOKUP(A205,Pilot,4,0)","v":"CZ/C1"},"GGP MB 2021 - Klub GP",{"$f":"VLOOKUP(F205,Soutez!A:B,2,FALSE)","v":"CZ"},{"$f":"VLOOKUP(F205,Soutez!A:C,3,FALSE)","v":2021},7,13,0.88,5000,4400,"x","x","ASW 19b","XS",{"$f":"IF(ISERROR(VLOOKUP(A205,Pilot,6,0)),\"Není v databázi\",VLOOKUP(A205,Pilot,6,0))","v":""}]
["Martin Fric",1967,"M","Raná","CZ/C2","GGP MB 2021 - Klub GP",{"$f":"VLOOKUP(F206,Soutez!A:B,2,FALSE)","v":"CZ"},{"$f":"VLOOKUP(F206,Soutez!A:C,3,FALSE)","v":2021},8,6,0.88,4167,3667,"x",null,"DG 100","E2",""]
["Fabian Curda",2004,"M","Zábřeh","CZ/M","GGP MB 2021 - Klub GP",{"$f":"VLOOKUP(F207,Soutez!A:B,2,FALSE)","v":"CZ"},{"$f":"VLOOKUP(F207,Soutez!A:C,3,FALSE)","v":2021},9,2,0.88,3333,2933,null,null,"Std. Cirrus","MJ","Junior v roce 2024"]
["Katerina Vojtova",{"$f":"VLOOKUP(A208,Pilot,2,0)","v":1983},{"$f":"VLOOKUP(A208,Pilot,5,0)","v":"F"},{"$f":"VLOOKUP(A208,Pilot,3,0)","v":"Slaný"},{"$f":"VLOOKUP(A208,Pilot,4,0)","v":"CZ/C1"},"GGP MB 2021 - Klub GP",{"$f":"VLOOKUP(F208,Soutez!A:B,2,FALSE)","v":"CZ"},{"$f":"VLOOKUP(F208,Soutez!A:C,3,FALSE)","v":2021},9,2,0.88,{"$f":"ROUND((MAX($I$199:$I$215)-I208)/(MAX($I$199:$I$215)-1)*10000,0)","v":3333},2933,"x","x","Std. Cirrus","KAC",""]
["Jan Zahradka",1981,"M","Hodkovice","CZ/C2","GGP MB 2021 - Klub GP",{"$f":"VLOOKUP(F209,Soutez!A:B,2,FALSE)","v":"CZ"},{"$f":"VLOOKUP(F209,Soutez!A:C,3,FALSE)","v":2021},11,1,0.88,1667,1467,null,null,"Std. Cirrus","AR",""]
["Jan Florian",1992,"M","Zbraslavice","CZ/C1","GGP MB 2021 - Klub GP",{"$f":"VLOOKUP(F210,Soutez!A:B,2,FALSE)","v":"CZ"},{"$f":"VLOOKUP(F210,Soutez!A:C,3,FALSE)","v":2021},11,1,0.88,{"$f":"ROUND((MAX($I$199:$I$215)-I210)/(MAX($I$199:$I$215)-1)*10000,0)","v":1667},1467,null,null,"Std. Cirrus","C1",""]
["Tomas Talanda",1988,"M","Křižanov","CZ/M","GGP MB 2021 - Klub GP",{"$f":"VLOOKUP(F211,Soutez!A:B,2,FALSE)","v":"CZ"},{"$f":"VLOOKUP(F211,Soutez!A:C,3,FALSE)","v":2021},13,0,0.88,0,0,null,null,"ASW 19","DS",""]
["Martin Marek",1967,"M","Roudnice","CZ/C2","GGP MB 2021 - Klub GP",{"$f":"VLOOKUP(F212,Soutez!A:B,2,FALSE)","v":"CZ"},{"$f":"VLOOKUP(F212,Soutez!A:C,3,FALSE)","v":2021},13,0,0.88,0,0,null,null,"Std. Cirrus","2X",""]
["Jan Hruska",1988,"M","Tábor","CZ/C1","GGP MB 2021 - Klub GP",{"$f":"VLOOKUP(F213,Soutez!A:B,2,FALSE)","v":"CZ"},{"$f":"VLOOKUP(F213,Soutez!A:C,3,FALSE)","v":2021},13,0,0.88,0,0,null,null,"ASW 15b","LF",""]
["Jan Zezula",1979,"M","Letňany","CZ/C1","GGP MB 2021 - Klub GP",{"$f":"VLOOKUP(F214,Soutez!A:B,2,FALSE)","v":"CZ"},{"$f":"VLOOKUP(F214,Soutez!A:C,3,FALSE)","v":2021},13,0,0.88,0,0,null,null,"ASW 19","HD",""]
["Filip Sirc",1993,"M","Letňany","CZ/C1","GGP MB 2021 - Klub GP",{"$f":"VLOOKUP(F215,Soutez!A:B,2,FALSE)","v":"CZ"},{"$f":"VLOOKUP(F215,Soutez!A:C,3,FALSE)","v":2021},13,0,0.88,0,0,null,null,"ASW 19","WT",""]
["Tomas Suchanek",{"$f":"VLOOKUP(A216,Pilot,2,0)","v":1964},{"$f":"VLOOKUP(A216,Pilot,5,0)","v":"M"},{"$f":"VLOOKUP(A216,Pilot,3,0)","v":"GAC Benešov"},{"$f":"VLOOKUP(A216,Pilot,4,0)","v":"CZ/C1"},"GGP MB 2021 - Pohár MV - Kombi",{"$f":"VLOOKUP(F216,Soutez!A:B,2,FALSE)","v":"CZ"},{"$f":"VLOOKUP(F216,Soutez!A:C,3,FALSE)","v":2021},1,1874,0.89,{"$f":"ROUND(J216/MAX($J$216:$J$226)*10000*0.7+(MAX($I$216:$I$226)-I216)/(MAX($I$216:$I$226)-1)*10000*0.3,0)","v":10000},{"$f":"ROUND(K216*L216,0)","v":8900},null,null,"Ventus c 17.6m","UP",""]
["Ivan Novak",1962,"M","Mladá Boleslav","CZ/C1","GGP MB 2021 - Pohár MV - Kombi",{"$f":"VLOOKUP(F217,Soutez!A:B,2,FALSE)","v":"CZ"},{"$f":"VLOOKUP(F217,Soutez!A:C,3,FALSE)","v":2021},2,1501,0.89,{"$f":"ROUND(J217/MAX($J$216:$J$226)*10000*0.7+(MAX($I$216:$I$226)-I217)/(MAX($I$216:$I$226)-1)*10000*0.3,0)","v":8307},{"$f":"ROUND(K217*L217,0)","v":7393},null,null,"ASG 29(E) 18m","QZ",""]
["Ivan Harasta 65",1965,"M","Toužim","CZ/C1","GGP MB 2021 - Pohár MV - Kombi",{"$f":"VLOOKUP(F218,Soutez!A:B,2,FALSE)","v":"CZ"},{"$f":"VLOOKUP(F218,Soutez!A:C,3,FALSE)","v":2021},3,1427,0.89,7730,6880,null,null,"Nimbus 3/24.5m",12,""]
["Martin Soucek",{"$f":"VLOOKUP(A219,Pilot,2,0)","v":1975},{"$f":"VLOOKUP(A219,Pilot,5,0)","v":"M"},{"$f":"VLOOKUP(A219,Pilot,3,0)","v":"Mladá Boleslav"},{"$f":"VLOOKUP(A219,Pilot,4,0)","v":"CZ/C1"},"GGP MB 2021 - Pohár MV - Kombi",{"$f":"VLOOKUP(F219,Soutez!A:B,2,FALSE)","v":"CZ"},{"$f":"VLOOKUP(F219,Soutez!A:C,3,FALSE)","v":2021},4,1391,0.89,7296,6493,"x",null,"DG 200/17","MS",""]
["Radek Zima 78",1978,"M","Hodkovice","CZ/C2","GGP MB 2021 - Pohár MV - Kombi",{"$f":"VLOOKUP(F220,Soutez!A:B,2,FALSE)","v":"CZ"},{"$f":"VLOOKUP(F220,Soutez!A:C,3,FALSE)","v":2021},5,1364,0.89,6895,6137,null,null,"ASG 29(E) 18m","XZ",""]
["Vojtech Hajek",{"$f":"VLOOKUP(A221,Pilot,2,0)","v":1987},{"$f":"VLOOKUP(A221,Pilot,5,0)","v":"M"},{"$f":"VLOOKUP(A221,Pilot,3,0)","v":"Mladá Boleslav"},{"$f":"VLOOKUP(A221,Pilot,4,0)","v":"CZ/C1"},"GGP MB 2021 - Pohár MV - Kombi",{"$f":"VLOOKUP(F221,Soutez!A:B,2,FALSE)","v":"CZ"},{"$f":"VLOOKUP(F221,Soutez!A:C,3,FALSE)","v":2021},6,1296,0.89,6341,5643,"x",null,"Duo Discus T 700kg",77,""]
["Lukas Hynek",1979,"M","Dvůr Králové","CZ/C2","GGP MB 2021 - Pohár MV - Kombi",{"$f":"VLOOKUP(F222,Soutez!A:B,2,FALSE)","v":"CZ"},{"$f":"VLOOKUP(F222,Soutez!A:C,3,FALSE)","v":2021},7,1247,0.89,5858,5214,null,null,"DG 200/17","HL",""]
["Antonin Bordovsky",1951,"M","Krnov","CZ/M","GGP MB 2021 - Pohár MV - Kombi",{"$f":"VLOOKUP(F223,Soutez!A:B,2,FALSE)","v":"CZ"},{"$f":"VLOOKUP(F223,Soutez!A:C,3,FALSE)","v":2021},8,927,0.89,4363,3883,"x",null,"Ventus C 17,6m","AD",""]
["Barbora Moravcova",1994,"F","Zbraslavice","CZ/C1","GGP MB 2021 - Pohár MV - Kombi",{"$f":"VLOOKUP(F224,Soutez!A:B,2,FALSE)","v":"CZ"},{"$f":"VLOOKUP(F224,Soutez!A:C,3,FALSE)","v":2021},9,898,0.89,3954,3519,null,null,"LS 8 15m","EU",""]
["Jan Dersak 69",1969,"M","Kralupy","CZ/C1","GGP MB 2021 - Pohár MV - Kombi",{"$f":"VLOOKUP(F225,Soutez!A:B,2,FALSE)","v":"CZ"},{"$f":"VLOOKUP(F225,Soutez!A:C,3,FALSE)","v":2021},10,767,0.89,3165,2817,null,null,"HpH 304JS Shark/18m(573kg)","DJ",""]
["David Zapletal",1970,"M","Mladá Boleslav","CZ/C1","GGP MB 2021 - Pohár MV - Kombi",{"$f":"VLOOKUP(F226,Soutez!A:B,2,FALSE)","v":"CZ"},{"$f":"VLOOKUP(F226,Soutez!A:C,3,FALSE)","v":2021},11,539,0.89,2013,1792,null,null,"Duo Discus T","XH",""]
["Jakub Kmosek",{"$f":"VLOOKUP(A227,Pilot,2,0)","v":1978},{"$f":"VLOOKUP(A227,Pilot,5,0)","v":"M"},{"$f":"VLOOKUP(A227,Pilot,3,0)","v":"Zbraslavice"},{"$f":"VLOOKUP(A227,Pilot,4,0)","v":"CZ/C1"},"Rakovnická Dlaždice 2021 - Kombi",{"$f":"VLOOKUP(F227,Soutez!A:B,2,FALSE)","v":"CZ"},{"$f":"VLOOKUP(F227,Soutez!A:C,3,FALSE)","v":2021},1,528,0,{"$f":"ROUND(J227/MAX($J$227:$J$238)*10000*0.7+(MAX($I$227:$I$238)-I227)/(MAX($I$227:$I$238)-1)*10000*0.3,0)","v":10000},{"$f":"ROUND(K227*L227,0)","v":0},null,null,"Std. Cirrus","ST",""]
["Jan Konecny",1972,"M","Rakovník","CZ/C1","Rakovnická Dlaždice 2021 - Kombi",{"$f":"VLOOKUP(F228,Soutez!A:B,2,FALSE)","v":"CZ"},{"$f":"VLOOKUP(F228,Soutez!A:C,3,FALSE)","v":2021},2,509,0,9415,{"$f":"ROUND(K228*L228,0)","v":0},null,null,"LS 7",72,""]
["Jan Hlavacek",1965,"M","Rakovník","CZ/C1","Rakovnická Dlaždice 2021 - Kombi",{"$f":"VLOOKUP(F229,Soutez!A:B,2,FALSE)","v":"CZ"},{"$f":"VLOOKUP(F229,Soutez!A:C,3,FALSE)","v":2021},3,500,0,8962,0,null,null,"Discus","SJ",""]
["Pavel Opat",1975,"M","Rakovník","CZ/C1","Rakovnická Dlaždice 2021 - Kombi",{"$f":"VLOOKUP(F230,Soutez!A:B,2,FALSE)","v":"CZ"},{"$f":"VLOOKUP(F230,Soutez!A:C,3,FALSE)","v":2021},4,451,0,7979,0,null,null,"DG 800S/18m","HC",""]
["Jiri Bulanek",1983,"M","Rakovník","CZ/C1","Rakovnická Dlaždice 2021 - Kombi",{"$f":"VLOOKUP(F231,Soutez!A:B,2,FALSE)","v":"CZ"},{"$f":"VLOOKUP(F231,Soutez!A:C,3,FALSE)","v":2021},5,416,0,7182,0,null,null,"DG 101G",null,""]
["Miroslav Macik",1983,"M","Rakovník","CZ/C1","Rakovnická Dlaždice 2021 - Kombi",{"$f":"VLOOKUP(F232,Soutez!A:B,2,FALSE)","v":"CZ"},{"$f":"VLOOKUP(F232,Soutez!A:C,3,FALSE)","v":2021},6,324,0,5629,0,null,null,"Std. Cirrus","OG",""]
["Petr sindelar 45",1945,"M","Rakovník","CZ/C1","Rakovnická Dlaždice 2021 - Kombi",{"$f":"VLOOKUP(F233,Soutez!A:B,2,FALSE)","v":"CZ"},{"$f":"VLOOKUP(F233,Soutez!A:C,3,FALSE)","v":2021},7,121,0,2604,0,null,null,"LS 1-d","HV",""]
["Petr Sindelar 80",1980,"M","Rakovník","CZ/C1","Rakovnická Dlaždice 2021 - Kombi",{"$f":"VLOOKUP(F234,Soutez!A:B,2,FALSE)","v":"CZ"},{"$f":"VLOOKUP(F234,Soutez!A:C,3,FALSE)","v":2021},8,65,0,1528,0,null,null,"DG 300 WL","U4",""]
["Adam Pergner",2002,"M","Rakovník","CZ/C1","Rakovnická Dlaždice 2021 - Kombi",{"$f":"VLOOKUP(F235,Soutez!A:B,2,FALSE)","v":"CZ"},{"$f":"VLOOKUP(F235,Soutez!A:C,3,FALSE)","v":2021},9,1,0,347,0,null,null,"VSO-10",79,"Junior v roce 2024"]
["Jan Vozeh",1995,"M","Rakovník","CZ/C1","Rakovnická Dlaždice 2021 - Kombi",{"$f":"VLOOKUP(F236,Soutez!A:B,2,FALSE)","v":"CZ"},{"$f":"VLOOKUP(F236,Soutez!A:C,3,FALSE)","v":2021},10,0,0,0,{"$f":"ROUND(K236*L236,0)","v":0},null,null,"Twin Astir RG","T19",""]
["Viktor Tvrdik",1977,"M","Rakovník","CZ/C1","Rakovnická Dlaždice 2021 - Kombi",{"$f":"VLOOKUP(F237,Soutez!A:B,2,FALSE)","v":"CZ"},{"$f":"VLOOKUP(F237,Soutez!A:C,3,FALSE)","v":2021},10,0,0,0,0,null,null,"DG 800S/18m","HF",""]
["Jan Heroudek",1970,"M","Rakovník","CZ/C1","Rakovnická Dlaždice 2021 - Kombi",{"$f":"VLOOKUP(F238,Soutez!A:B,2,FALSE)","v":"CZ"},{"$f":"VLOOKUP(F238,Soutez!A:C,3,FALSE)","v":2021},10,0,0,0,0,null,null,"DG 100",75,""]
["David Mach",{"$f":"VLOOKUP(A239,Pilot,2,0)","v":1994},{"$f":"VLOOKUP(A239,Pilot,5,0)","v":"M"},{"$f":"VLOOKUP(A239,Pilot,3,0)","v":"Hronov"},{"$f":"VLOOKUP(A239,Pilot,4,0)","v":"CZ/C2"},"HOP 2021 - Klub",{"$f":"VLOOKUP(F239,Soutez!A:B,2,FALSE)","v":"CZ"},{"$f":"VLOOKUP(F239,Soutez!A:C,3,FALSE)","v":2021},1,2618,0.76500000000000001,{"$f":"ROUND(J239/MAX($J$239:$J$264)*10000*0.7+(MAX($I$239:$I$264)-I239)/(MAX($I$239:$I$264)-1)*10000*0.3,0)","v":10000},{"$f":"ROUND(K239*L239,0)","v":7650},null,null,"VT-116 Orlik 2",6922,""]
["Oldrich Slavicek",1959,"M","Hronov","CZ/C2","HOP 2021 - Klub",{"$f":"VLOOKUP(F240,Soutez!A:B,2,FALSE)","v":"CZ"},{"$f":"VLOOKUP(F240,Soutez!A:C,3,FALSE)","v":2021},2,2571,0.76500000000000001,9754,{"$f":"ROUND(K240*L240,0)","v":7462},"x",null,"VT-116 Orlik 2",4310,""]
["Milan Svoboda 80",1980,"M","Havlíčkův Brod","CZ/C2","HOP 2021 - Klub",{"$f":"VLOOKUP(F241,Soutez!A:B,2,FALSE)","v":"CZ"},{"$f":"VLOOKUP(F241,Soutez!A:C,3,FALSE)","v":2021},3,2366,0.76500000000000001,9086,6951,"x",null,"VT-116 Orlik 2",6446,""]
["Michal Janda",{"$f":"VLOOKUP(A242,Pilot,2,0)","v":1972},{"$f":"VLOOKUP(A242,Pilot,5,0)","v":"M"},{"$f":"VLOOKUP(A242,Pilot,3,0)","v":"Broumov"},{"$f":"VLOOKUP(A242,Pilot,4,0)","v":"CZ/C2"},"HOP 2021 - Klub",{"$f":"VLOOKUP(F242,Soutez!A:B,2,FALSE)","v":"CZ"},{"$f":"VLOOKUP(F242,Soutez!A:C,3,FALSE)","v":2021},4,2105,0.76500000000000001,8268,6325,"x",null,"VT-116 Orlik 2",7402,""]
["Klara Teichmannova",1993,"F","Hronov","CZ/C2","HOP 2021 - Klub",{"$f":"VLOOKUP(F243,Soutez!A:B,2,FALSE)","v":"CZ"},{"$f":"VLOOKUP(F243,Soutez!A:C,3,FALSE)","v":2021},5,2052,{"$f":"VLOOKUP(F243,Soutez,12,0)","v":0.76500000000000001},8007,6125,"x","x","SZD 30 Pirat",6800,""]
["Miroslav Stepan",1955,"M","Žamberk","CZ/C2","HOP 2021 - Klub",{"$f":"VLOOKUP(F244,Soutez!A:B,2,FALSE)","v":"CZ"},{"$f":"VLOOKUP(F244,Soutez!A:C,3,FALSE)","v":2021},6,2011,0.76500000000000001,7777,5949,"x",null,"VT-116 Orlik 2",8412,""]
["Wolfgang Sluka",{"$f":"VLOOKUP(A245,Pilot,2,0)","v":1942},{"$f":"VLOOKUP(A245,Pilot,5,0)","v":"M"},{"$f":"VLOOKUP(A245,Pilot,3,0)","v":"Liberec"},{"$f":"VLOOKUP(A245,Pilot,4,0)","v":"CZ/C2"},"HOP 2021 - Klub",{"$f":"VLOOKUP(F245,Soutez!A:B,2,FALSE)","v":"CZ"},{"$f":"VLOOKUP(F245,Soutez!A:C,3,FALSE)","v":2021},7,1954,0.76500000000000001,7505,5741,null,null,"VT-116 Orlik 2",8425,""]
["Ondrej Teichman",1984,"M","Dvůr Králové","CZ/C2","HOP 2021 - Klub",{"$f":"VLOOKUP(F246,Soutez!A:B,2,FALSE)","v":"CZ"},{"$f":"VLOOKUP(F246,Soutez!A:C,3,FALSE)","v":2021},8,1929,0.76500000000000001,7318,5598,null,null,"VT-116 Orlik 2",6445,""]
["Michal Nutil",1966,"M","Náchod","CZ/C2","HOP 2021 - Klub",{"$f":"VLOOKUP(F247,Soutez!A:B,2,FALSE)","v":"CZ"},{"$f":"VLOOKUP(F247,Soutez!A:C,3,FALSE)","v":2021},9,1894,0.76500000000000001,7104,5435,"x",null,"VT-116 Orlik 2",7424,""]
["Ondrej Blaha",1976,"M","Letňany","CZ/C1","HOP 2021 - Klub",{"$f":"VLOOKUP(F248,Soutez!A:B,2,FALSE)","v":"CZ"},{"$f":"VLOOKUP(F248,Soutez!A:C,3,FALSE)","v":2021},10,1784,0.76500000000000001,6690,5118,"x",null,"VT-116 Orlik 2",6444,""]
["Ivan Kuzelka",1945,"M","Havlíčkův Brod","CZ/C2","HOP 2021 - Klub",{"$f":"VLOOKUP(F249,Soutez!A:B,2,FALSE)","v":"CZ"},{"$f":"VLOOKUP(F249,Soutez!A:C,3,FALSE)","v":2021},11,1760,0.76500000000000001,6506,4977,"x",null,"VT-116 Orlik 2",4314,""]
["Vaclav Kysilka",1979,"M","GAC Benešov","CZ/C1","HOP 2021 - Klub",{"$f":"VLOOKUP(F250,Soutez!A:B,2,FALSE)","v":"CZ"},{"$f":"VLOOKUP(F250,Soutez!A:C,3,FALSE)","v":2021},12,1728,0.76500000000000001,6300,4820,"x",null,"VT-116 Orlik 2",8436,""]
["J.Vojta / L.Vyhlid / O.Kuchar",null,null,"AK Kroměříž",null,"HOP 2021 - Klub",{"$f":"VLOOKUP(F251,Soutez!A:B,2,FALSE)","v":"CZ"},{"$f":"VLOOKUP(F251,Soutez!A:C,3,FALSE)","v":2021},13,1713,0.76500000000000001,6140,4697,null,null,"VT-116 Orlik 2",8431,"Není v databázi"]
["Tomas Mezera",{"$f":"VLOOKUP(A252,Pilot,2,0)","v":1973},{"$f":"VLOOKUP(A252,Pilot,5,0)","v":"M"},{"$f":"VLOOKUP(A252,Pilot,3,0)","v":"Raná"},{"$f":"VLOOKUP(A252,Pilot,4,0)","v":"CZ/C2"},"HOP 2021 - Klub",{"$f":"VLOOKUP(F252,Soutez!A:B,2,FALSE)","v":"CZ"},{"$f":"VLOOKUP(F252,Soutez!A:C,3,FALSE)","v":2021},13,1713,0.76500000000000001,6140,4697,"x",null,"VT-116 Orlik 2",8401,""]
["Petr Seibrt",1974,"M","Náchod","CZ/C2","HOP 2021 - Klub",{"$f":"VLOOKUP(F253,Soutez!A:B,2,FALSE)","v":"CZ"},{"$f":"VLOOKUP(F253,Soutez!A:C,3,FALSE)","v":2021},15,1684,0.76500000000000001,5823,4455,"x",null,"VT-16 Orlik",2412,""]
["Jaromir Hendrych",1954,"M","Raná","CZ/C2","HOP 2021 - Klub",{"$f":"VLOOKUP(F254,Soutez!A:B,2,FALSE)","v":"CZ"},{"$f":"VLOOKUP(F254,Soutez!A:C,3,FALSE)","v":2021},16,1502,0.76500000000000001,5216,3990,"x",null,"M-35",2403,""]
["Sarka Lochova",1966,"F","Šumperk","CZ/M","HOP 2021 - Klub",{"$f":"VLOOKUP(F255,Soutez!A:B,2,FALSE)","v":"CZ"},{"$f":"VLOOKUP(F255,Soutez!A:C,3,FALSE)","v":2021},17,1462,0.76500000000000001,4989,3817,"x","x","VT-116 Orlik 2",7445,""]
["Miroslav Major",{"$f":"VLOOKUP(A256,Pilot,2,0)","v":1968},{"$f":"VLOOKUP(A256,Pilot,5,0)","v":"M"},{"$f":"VLOOKUP(A256,Pilot,3,0)","v":"Kralupy"},{"$f":"VLOOKUP(A256,Pilot,4,0)","v":"CZ/C1"},"HOP 2021 - Klub",{"$f":"VLOOKUP(F256,Soutez!A:B,2,FALSE)","v":"CZ"},{"$f":"VLOOKUP(F256,Soutez!A:C,3,FALSE)","v":2021},18,1446,0.76500000000000001,4826,3692,"x",null,"VT-116 Orlik 2",8430,""]
["Jana Mezerova",1975,"F","Raná","CZ/C2","HOP 2021 - Klub",{"$f":"VLOOKUP(F257,Soutez!A:B,2,FALSE)","v":"CZ"},{"$f":"VLOOKUP(F257,Soutez!A:C,3,FALSE)","v":2021},19,1431,0.76500000000000001,4666,3569,"x","x","VT-116 Orlik 2",7425,""]
["Petr Vezda",1974,"M","Medlánky","CZ/M","HOP 2021 - Klub",{"$f":"VLOOKUP(F258,Soutez!A:B,2,FALSE)","v":"CZ"},{"$f":"VLOOKUP(F258,Soutez!A:C,3,FALSE)","v":2021},20,1234,0.76500000000000001,4019,3075,"x",null,"VT-116 Orlik 2",4321,""]
["Tomas Holenda",1956,"M","Havlíčkův Brod","CZ/C2","HOP 2021 - Klub",{"$f":"VLOOKUP(F259,Soutez!A:B,2,FALSE)","v":"CZ"},{"$f":"VLOOKUP(F259,Soutez!A:C,3,FALSE)","v":2021},21,1121,0.76500000000000001,3597,2752,"x",null,"VT-116 Orlik 2",8424,""]
["Petr Vlasak",1974,"M","Medlánky","CZ/M","HOP 2021 - Klub",{"$f":"VLOOKUP(F260,Soutez!A:B,2,FALSE)","v":"CZ"},{"$f":"VLOOKUP(F260,Soutez!A:C,3,FALSE)","v":2021},22,1036,0.76500000000000001,3250,2486,"x",null,"VT-16 Orlik",2909,""]
["Martin Adamec",1971,"M","Medlánky","CZ/M","HOP 2021 - Klub",{"$f":"VLOOKUP(F261,Soutez!A:B,2,FALSE)","v":"CZ"},{"$f":"VLOOKUP(F261,Soutez!A:C,3,FALSE)","v":2021},23,954,0.76500000000000001,2911,{"$f":"ROUND(K261*L261,0)","v":2227},"x",null,"VT-116 Orlik 2",8406,""]
["M.Ondracek / J.Linhart",null,null,"AK Medlánky",null,"HOP 2021 - Klub",{"$f":"VLOOKUP(F262,Soutez!A:B,2,FALSE)","v":"CZ"},{"$f":"VLOOKUP(F262,Soutez!A:C,3,FALSE)","v":2021},24,763,0.76500000000000001,2280,1744,null,null,"Ka 6 E",9781,"Není v databázi"]
["Gabriela Cervena",{"$f":"VLOOKUP(A263,Pilot,2,0)","v":1966},{"$f":"VLOOKUP(A263,Pilot,5,0)","v":"F"},{"$f":"VLOOKUP(A263,Pilot,3,0)","v":"Jaroměř"},{"$f":"VLOOKUP(A263,Pilot,4,0)","v":"CZ/C2"},"HOP 2021 - Klub",{"$f":"VLOOKUP(F263,Soutez!A:B,2,FALSE)","v":"CZ"},{"$f":"VLOOKUP(F263,Soutez!A:C,3,FALSE)","v":2021},25,248,0.76500000000000001,783,599,"x","x","VT-116 Orlik 2",7413,""]
["Jaromir Vlk",1959,"M","Šumperk","CZ/M","HOP 2021 - Klub",{"$f":"VLOOKUP(F264,Soutez!A:B,2,FALSE)","v":"CZ"},{"$f":"VLOOKUP(F264,Soutez!A:C,3,FALSE)","v":2021},26,0,0.76500000000000001,0,0,null,null,"VT-116 Orlik 2",6907,""]
["Vratislav Sram",{"$f":"VLOOKUP(A265,Pilot,2,0)","v":1966},{"$f":"VLOOKUP(A265,Pilot,5,0)","v":"M"},{"$f":"VLOOKUP(A265,Pilot,3,0)","v":"Broumov"},{"$f":"VLOOKUP(A265,Pilot,4,0)","v":"CZ/C2"},"HOP 2021 - Kombi",{"$f":"VLOOKUP(F265,Soutez!A:B,2,FALSE)","v":"CZ"},{"$f":"VLOOKUP(F265,Soutez!A:C,3,FALSE)","v":2021},1,2934,0.76,{"$f":"ROUND(J265/MAX($J$265:$J$281)*10000*0.7+(MAX($I$265:$I$281)-I265)/(MAX($I$265:$I$281)-1)*10000*0.3,0)","v":10000},{"$f":"ROUND(K265*L265,0)","v":7600},"x",null,"Duo Discus XT ( bez vody )","DD",{"$f":"IF(ISERROR(VLOOKUP(A265,Pilot,6,0)),\"Není v databázi\",VLOOKUP(A265,Pilot,6,0))","v":""}]
["Jan Cerveny",1984,"M","Jaroměř","CZ/C2","HOP 2021 - Kombi",{"$f":"VLOOKUP(F266,Soutez!A:B,2,FALSE)","v":"CZ"},{"$f":"VLOOKUP(F266,Soutez!A:C,3,FALSE)","v":2021},2,2786,0.76,9459,{"$f":"ROUND(K266*L266,0)","v":7189},"x",null,"LS 3a (bez vody)","EI",""]
["Martin Koci",{"$f":"VLOOKUP(A267,Pilot,2,0)","v":1975},{"$f":"VLOOKUP(A267,Pilot,5,0)","v":"M"},{"$f":"VLOOKUP(A267,Pilot,3,0)","v":"Ústí nad Orlicí"},{"$f":"VLOOKUP(A267,Pilot,4,0)","v":"CZ/C2"},"HOP 2021 - Kombi",{"$f":"VLOOKUP(F267,Soutez!A:B,2,FALSE)","v":"CZ"},{"$f":"VLOOKUP(F267,Soutez!A:C,3,FALSE)","v":2021},3,2729,0.76,9136,6943,"x",null,"Discus b (bez vody)","XE",""]
["Petr Fisar",1974,"M","Ústí nad Orlicí","CZ/C2","HOP 2021 - Kombi",{"$f":"VLOOKUP(F268,Soutez!A:B,2,FALSE)","v":"CZ"},{"$f":"VLOOKUP(F268,Soutez!A:C,3,FALSE)","v":2021},4,2705,0.76,8891,6757,"x",null,"Mosquito b (bez vody)","PF",""]
["Vaclav Kult",1973,"M","Broumov","CZ/C2","HOP 2021 - Kombi",{"$f":"VLOOKUP(F269,Soutez!A:B,2,FALSE)","v":"CZ"},{"$f":"VLOOKUP(F269,Soutez!A:C,3,FALSE)","v":2021},5,2496,0.76,8205,6236,"x",null,"Nimbus 2 b WL (voda)","VK",""]
["Michal Maly",1982,"M","Broumov","CZ/C2","HOP 2021 - Kombi",{"$f":"VLOOKUP(F270,Soutez!A:B,2,FALSE)","v":"CZ"},{"$f":"VLOOKUP(F270,Soutez!A:C,3,FALSE)","v":2021},6,2425,0.76,7848,5964,"x",null,"Ventus c 17,6 (voda)","JN",""]
["Zdenek Boruvka 54",1954,"M","Jičín","CZ/C2","HOP 2021 - Kombi",{"$f":"VLOOKUP(F271,Soutez!A:B,2,FALSE)","v":"CZ"},{"$f":"VLOOKUP(F271,Soutez!A:C,3,FALSE)","v":2021},7,2417,0.76,7642,5808,null,null,"LS 8 15 m (voda)","ZB",""]
["Zdenek Schenk",{"$f":"VLOOKUP(A272,Pilot,2,0)","v":1972},{"$f":"VLOOKUP(A272,Pilot,5,0)","v":"M"},{"$f":"VLOOKUP(A272,Pilot,3,0)","v":"Hranice"},{"$f":"VLOOKUP(A272,Pilot,4,0)","v":"CZ/M"},"HOP 2021 - Kombi",{"$f":"VLOOKUP(F272,Soutez!A:B,2,FALSE)","v":"CZ"},{"$f":"VLOOKUP(F272,Soutez!A:C,3,FALSE)","v":2021},8,2369,0.76,7340,5578,null,null,"Ventus cm 17,6m (bez vody)","SNeK",""]
["Petr Babak",1973,"M","Hořice","CZ/C2","HOP 2021 - Kombi",{"$f":"VLOOKUP(F273,Soutez!A:B,2,FALSE)","v":"CZ"},{"$f":"VLOOKUP(F273,Soutez!A:C,3,FALSE)","v":2021},9,2352,0.76,7111,5404,null,null,"Ventus c 17,6 (voda)","LS",""]
["M.+J. Plechac",null,null,"AK Hronov",null,"HOP 2021 - Kombi",{"$f":"VLOOKUP(F274,Soutez!A:B,2,FALSE)","v":"CZ"},{"$f":"VLOOKUP(F274,Soutez!A:C,3,FALSE)","v":2021},10,2050,0.76,6203,4714,null,null,"Nimbus 2 WL ( voda )","PM","Není v databázi"]
["Christian Rakowski",null,null,"FSV Eisenhüttenstadt",null,"HOP 2021 - Kombi",{"$f":"VLOOKUP(F275,Soutez!A:B,2,FALSE)","v":"CZ"},{"$f":"VLOOKUP(F275,Soutez!A:C,3,FALSE)","v":2021},11,1805,0.76,5431,4128,null,null,"ASW 24 WL ( voda )","TD","Není v databázi"]
["Sebastian Bode",null,null,"FSV Eisenhüttenstadt",null,"HOP 2021 - Kombi",{"$f":"VLOOKUP(F276,Soutez!A:B,2,FALSE)","v":"CZ"},{"$f":"VLOOKUP(F276,Soutez!A:C,3,FALSE)","v":2021},12,1781,0.76,5187,3942,null,null,"HPH 304S Shark (voda)","AY","Není v databázi"]
["Miloslav Cindr",{"$f":"VLOOKUP(A277,Pilot,2,0)","v":1974},{"$f":"VLOOKUP(A277,Pilot,5,0)","v":"M"},{"$f":"VLOOKUP(A277,Pilot,3,0)","v":"Ústí nad Orlicí"},{"$f":"VLOOKUP(A277,Pilot,4,0)","v":"CZ/C2"},"HOP 2021 - Kombi",{"$f":"VLOOKUP(F277,Soutez!A:B,2,FALSE)","v":"CZ"},{"$f":"VLOOKUP(F277,Soutez!A:C,3,FALSE)","v":2021},13,1596,0.76,4558,{"$f":"ROUND(K277*L277,0)","v":3464},"x",null,"Ventus c 17,6 (bez vody)","MC",""]
["Zdenek Mach",{"$f":"VLOOKUP(A278,Pilot,2,0)","v":1976},{"$f":"VLOOKUP(A278,Pilot,5,0)","v":"M"},{"$f":"VLOOKUP(A278,Pilot,3,0)","v":"Broumov"},{"$f":"VLOOKUP(A278,Pilot,4,0)","v":"CZ/C2"},"HOP 2021 - Kombi",{"$f":"VLOOKUP(F278,Soutez!A:B,2,FALSE)","v":"CZ"},{"$f":"VLOOKUP(F278,Soutez!A:C,3,FALSE)","v":2021},14,1454,0.76,4031,3064,"x",null,"LS 1-d ( bez vody)","FK",""]
["Jan Kohout",1970,"M","Žamberk","CZ/C2","HOP 2021 - Kombi",{"$f":"VLOOKUP(F279,Soutez!A:B,2,FALSE)","v":"CZ"},{"$f":"VLOOKUP(F279,Soutez!A:C,3,FALSE)","v":2021},15,1300,0.76,3477,2643,null,null,"LS 8 15 m (voda)","SK",""]
["Pilotky UO / G.Jakl",null,null,"AK Ústí nad Orlicí",null,"HOP 2021 - Kombi",{"$f":"VLOOKUP(F280,Soutez!A:B,2,FALSE)","v":"CZ"},{"$f":"VLOOKUP(F280,Soutez!A:C,3,FALSE)","v":2021},16,1006,0.76,2588,1967,null,null,"Janus 18.2m ( bez vody)","GJ","Není v databázi"]
["Jan Rott",{"$f":"VLOOKUP(A281,Pilot,2,0)","v":1962},{"$f":"VLOOKUP(A281,Pilot,5,0)","v":"M"},{"$f":"VLOOKUP(A281,Pilot,3,0)","v":"Hronov"},{"$f":"VLOOKUP(A281,Pilot,4,0)","v":"CZ/C2"},"HOP 2021 - Kombi",{"$f":"VLOOKUP(F281,Soutez!A:B,2,FALSE)","v":"CZ"},{"$f":"VLOOKUP(F281,Soutez!A:C,3,FALSE)","v":2021},17,594,0.76,1417,1077,"x",null,"HPH 304 cz 17,4 (bez vody)","Jou",""]
["Radek Tobolka",{"$f":"VLOOKUP(A282,Pilot,2,0)","v":1977},{"$f":"VLOOKUP(A282,Pilot,5,0)","v":"M"},{"$f":"VLOOKUP(A282,Pilot,3,0)","v":"Jičín"},{"$f":"VLOOKUP(A282,Pilot,4,0)","v":"CZ/C2"},"Pohár Českého Ráje 2021 - Kombi",{"$f":"VLOOKUP(F282,Soutez!A:B,2,FALSE)","v":"CZ"},{"$f":"VLOOKUP(F282,Soutez!A:C,3,FALSE)","v":2021},1,398,0.73,{"$f":"ROUND(J282/MAX($J$282:$J$293)*10000*0.7+(MAX($I$282:$I$293)-I282)/(MAX($I$282:$I$293)-1)*10000*0.3,0)","v":10000},{"$f":"ROUND(K282*L282,0)","v":7300},"x",null,"TST-10M Atlas",10,""]
["Petr Rygl",1966,"M","Jičín","CZ/C2","Pohár Českého Ráje 2021 - Kombi",{"$f":"VLOOKUP(F283,Soutez!A:B,2,FALSE)","v":"CZ"},{"$f":"VLOOKUP(F283,Soutez!A:C,3,FALSE)","v":2021},2,373,0.73,9288,{"$f":"ROUND(K283*L283,0)","v":6780},"x",null,"ASW-15","A18",""]
["Tomas Profeld",1964,"M","Jičín","CZ/C2","Pohár Českého Ráje 2021 - Kombi",{"$f":"VLOOKUP(F284,Soutez!A:B,2,FALSE)","v":"CZ"},{"$f":"VLOOKUP(F284,Soutez!A:C,3,FALSE)","v":2021},3,359,0.73,8769,6401,"x",null,"Ventus 2cM/18m / 500 kg","OZ",""]
["Zbynek Fuksa",{"$f":"VLOOKUP(A285,Pilot,2,0)","v":1956},{"$f":"VLOOKUP(A285,Pilot,5,0)","v":"M"},{"$f":"VLOOKUP(A285,Pilot,3,0)","v":"Jičín"},{"$f":"VLOOKUP(A285,Pilot,4,0)","v":"CZ/C2"},"Pohár Českého Ráje 2021 - Kombi",{"$f":"VLOOKUP(F285,Soutez!A:B,2,FALSE)","v":"CZ"},{"$f":"VLOOKUP(F285,Soutez!A:C,3,FALSE)","v":2021},4,341,0.73,8179,5971,"x",null,"Duo Discus XL",88,""]
["Petr Kyzivat",1970,"M","Jičín","CZ/C2","Pohár Českého Ráje 2021 - Kombi",{"$f":"VLOOKUP(F286,Soutez!A:B,2,FALSE)","v":"CZ"},{"$f":"VLOOKUP(F286,Soutez!A:C,3,FALSE)","v":2021},5,331,0.73,7731,5644,"x",null,"Std. Cirrus","SC",""]
["Ales Holoubek",1966,"M","Jičín","CZ/C2","Pohár Českého Ráje 2021 - Kombi",{"$f":"VLOOKUP(F287,Soutez!A:B,2,FALSE)","v":"CZ"},{"$f":"VLOOKUP(F287,Soutez!A:C,3,FALSE)","v":2021},6,294,0.73,6807,4969,"x",null,"ASW-15b NG","T",""]
["Ilja Kopacek",1943,"M","Jičín","CZ/C2","Pohár Českého Ráje 2021 - Kombi",{"$f":"VLOOKUP(F288,Soutez!A:B,2,FALSE)","v":"CZ"},{"$f":"VLOOKUP(F288,Soutez!A:C,3,FALSE)","v":2021},7,246,0.73,5690,4154,"x",null,"Std. Cirrus","XL",""]
["Kamil Hejda",{"$f":"VLOOKUP(A289,Pilot,2,0)","v":1973},{"$f":"VLOOKUP(A289,Pilot,5,0)","v":"M"},{"$f":"VLOOKUP(A289,Pilot,3,0)","v":"Jičín"},{"$f":"VLOOKUP(A289,Pilot,4,0)","v":"CZ/C2"},"Pohár Českého Ráje 2021 - Kombi",{"$f":"VLOOKUP(F289,Soutez!A:B,2,FALSE)","v":"CZ"},{"$f":"VLOOKUP(F289,Soutez!A:C,3,FALSE)","v":2021},8,197,0.73,4556,3326,"x",null,"Janus b","JC",""]
["Stepan Capek",{"$f":"VLOOKUP(A290,Pilot,2,0)","v":1960},{"$f":"VLOOKUP(A290,Pilot,5,0)","v":"M"},{"$f":"VLOOKUP(A290,Pilot,3,0)","v":"Jičín"},{"$f":"VLOOKUP(A290,Pilot,4,0)","v":"CZ/C2"},"Pohár Českého Ráje 2021 - Kombi",{"$f":"VLOOKUP(F290,Soutez!A:B,2,FALSE)","v":"CZ"},{"$f":"VLOOKUP(F290,Soutez!A:C,3,FALSE)","v":2021},9,144,0.73,3351,2446,"x",null,"Banjo 2","ZF",""]
["Dusan Patocka",1972,"M","Vrchlabí","CZ/C2","Pohár Českého Ráje 2021 - Kombi",{"$f":"VLOOKUP(F291,Soutez!A:B,2,FALSE)","v":"CZ"},{"$f":"VLOOKUP(F291,Soutez!A:C,3,FALSE)","v":2021},10,107,0.73,2427,1772,"x",null,"VT-116 Orlik 2",null,""]
["Lukas Jezek",{"$f":"VLOOKUP(A292,Pilot,2,0)","v":1975},{"$f":"VLOOKUP(A292,Pilot,5,0)","v":"M"},{"$f":"VLOOKUP(A292,Pilot,3,0)","v":"Jičín"},{"$f":"VLOOKUP(A292,Pilot,4,0)","v":"CZ/C2"},"Pohár Českého Ráje 2021 - Kombi",{"$f":"VLOOKUP(F292,Soutez!A:B,2,FALSE)","v":"CZ"},{"$f":"VLOOKUP(F292,Soutez!A:C,3,FALSE)","v":2021},11,43,0.73,1029,{"$f":"ROUND(K292*L292,0)","v":751},"x",null,"L-13",null,""]
["Jiri Pixa",{"$f":"VLOOKUP(A293,Pilot,2,0)","v":1968},{"$f":"VLOOKUP(A293,Pilot,5,0)","v":"M"},{"$f":"VLOOKUP(A293,Pilot,3,0)","v":"Slaný"},{"$f":"VLOOKUP(A293,Pilot,4,0)","v":"CZ/C1"},"Pohár Českého Ráje 2021 - Kombi",{"$f":"VLOOKUP(F293,Soutez!A:B,2,FALSE)","v":"CZ"},{"$f":"VLOOKUP(F293,Soutez!A:C,3,FALSE)","v":2021},12,16,0.73,281,205,"x",null,"VSO-10","G9",""]
["David Riha",{"$f":"VLOOKUP(A294,Pilot,2,0)","v":1983},{"$f":"VLOOKUP(A294,Pilot,5,0)","v":"M"},{"$f":"VLOOKUP(A294,Pilot,3,0)","v":"Vlašim"},{"$f":"VLOOKUP(A294,Pilot,4,0)","v":"CZ/C1"},"Ranský pohár 2021 - Kombi",{"$f":"VLOOKUP(F294,Soutez!A:B,2,FALSE)","v":"CZ"},{"$f":"VLOOKUP(F294,Soutez!A:C,3,FALSE)","v":2021},1,2928,0.75,{"$f":"ROUND(J294/MAX($J$294:$J$312)*10000*0.7+(MAX($I$294:$I$312)-I294)/(MAX($I$294:$I$312)-1)*10000*0.3,0)","v":10000},{"$f":"ROUND(K294*L294,0)","v":7500},"x",null,"ASW 15 B","XE",""]
["Jan Smaha",1958,"M","Česká Lípa","CZ/C2","Ranský pohár 2021 - Kombi",{"$f":"VLOOKUP(F295,Soutez!A:B,2,FALSE)","v":"CZ"},{"$f":"VLOOKUP(F295,Soutez!A:C,3,FALSE)","v":2021},2,2542,0.75,8911,{"$f":"ROUND(K295*L295,0)","v":6683},null,null,"ASW 15 B","CW",""]
["Tomas Novak",1974,"M","Česká Lípa","CZ/C2","Ranský pohár 2021 - Kombi",{"$f":"VLOOKUP(F296,Soutez!A:B,2,FALSE)","v":"CZ"},{"$f":"VLOOKUP(F296,Soutez!A:C,3,FALSE)","v":2021},3,2444,0.75,8510,6383,"x",null,"Ventus C 17,6m","XE",""]
["Jiri Maier 99",1999,"M","Raná","CZ/C2","Ranský pohár 2021 - Kombi",{"$f":"VLOOKUP(F297,Soutez!A:B,2,FALSE)","v":"CZ"},{"$f":"VLOOKUP(F297,Soutez!A:C,3,FALSE)","v":2021},4,2406,0.75,8252,6189,"x",null,"Discus bT WL","TAL","Junior v roce 2024"]
["Vojtech Kostejn",{"$f":"VLOOKUP(A298,Pilot,2,0)","v":1974},{"$f":"VLOOKUP(A298,Pilot,5,0)","v":"M"},{"$f":"VLOOKUP(A298,Pilot,3,0)","v":"Česká Lípa"},{"$f":"VLOOKUP(A298,Pilot,4,0)","v":"CZ/C2"},"Ranský pohár 2021 - Kombi",{"$f":"VLOOKUP(F298,Soutez!A:B,2,FALSE)","v":"CZ"},{"$f":"VLOOKUP(F298,Soutez!A:C,3,FALSE)","v":2021},5,2377,0.75,8016,6012,"x",null,"ASW 15 B","I",""]
["Pavel Derda",{"$f":"VLOOKUP(A299,Pilot,2,0)","v":1952},{"$f":"VLOOKUP(A299,Pilot,5,0)","v":"M"},{"$f":"VLOOKUP(A299,Pilot,3,0)","v":"Dvůr Králové"},{"$f":"VLOOKUP(A299,Pilot,4,0)","v":"CZ/C2"},"Ranský pohár 2021 - Kombi",{"$f":"VLOOKUP(F299,Soutez!A:B,2,FALSE)","v":"CZ"},{"$f":"VLOOKUP(F299,Soutez!A:C,3,FALSE)","v":2021},6,2357,0.75,7802,5852,"x",null,"Cirrus/Cirrus VTC 17.74","VE",""]
["Jiri Maier 66",1966,"M","Raná","CZ/C2","Ranský pohár 2021 - Kombi",{"$f":"VLOOKUP(F300,Soutez!A:B,2,FALSE)","v":"CZ"},{"$f":"VLOOKUP(F300,Soutez!A:C,3,FALSE)","v":2021},7,2354,0.75,7628,5721,null,null,"ASW 24E WL","JM",""]
["Martin Zvonicek",{"$f":"VLOOKUP(A301,Pilot,2,0)","v":1972},{"$f":"VLOOKUP(A301,Pilot,5,0)","v":"M"},{"$f":"VLOOKUP(A301,Pilot,3,0)","v":"Raná"},{"$f":"VLOOKUP(A301,Pilot,4,0)","v":"CZ/C2"},"Ranský pohár 2021 - Kombi",{"$f":"VLOOKUP(F301,Soutez!A:B,2,FALSE)","v":"CZ"},{"$f":"VLOOKUP(F301,Soutez!A:C,3,FALSE)","v":2021},8,2345,0.75,7440,5580,"x",null,"ASW 15","ET",""]
["Zbynek Bican",1961,"M","Raná","CZ/C2","Ranský pohár 2021 - Kombi",{"$f":"VLOOKUP(F302,Soutez!A:B,2,FALSE)","v":"CZ"},{"$f":"VLOOKUP(F302,Soutez!A:C,3,FALSE)","v":2021},9,2014,0.75,6482,4862,"x",null,"LS 3 WL","H1",""]
["Krystof Mimra",1992,"M","Most","CZ/C2","Ranský pohár 2021 - Kombi",{"$f":"VLOOKUP(F303,Soutez!A:B,2,FALSE)","v":"CZ"},{"$f":"VLOOKUP(F303,Soutez!A:C,3,FALSE)","v":2021},10,1889,0.75,6016,4512,"x",null,"VSO-10",51,""]
["Dalibor Pek",1968,"M","Raná","CZ/C2","Ranský pohár 2021 - Kombi",{"$f":"VLOOKUP(F304,Soutez!A:B,2,FALSE)","v":"CZ"},{"$f":"VLOOKUP(F304,Soutez!A:C,3,FALSE)","v":2021},11,1830,{"$f":"VLOOKUP(F304,Soutez,12,0)","v":0.75},5708,4281,"x",null,"Std. Cirrus","GP",""]
["Jaroslav Vancata",1985,"M","Raná","CZ/C2","Ranský pohár 2021 - Kombi",{"$f":"VLOOKUP(F305,Soutez!A:B,2,FALSE)","v":"CZ"},{"$f":"VLOOKUP(F305,Soutez!A:C,3,FALSE)","v":2021},12,1761,0.75,5377,4033,"x",null,"LS 7 WL","2B",""]
["Michal Hemrle",1974,"M","Česká Lípa","CZ/C2","Ranský pohár 2021 - Kombi",{"$f":"VLOOKUP(F306,Soutez!A:B,2,FALSE)","v":"CZ"},{"$f":"VLOOKUP(F306,Soutez!A:C,3,FALSE)","v":2021},13,1739,0.75,5157,{"$f":"ROUND(K306*L306,0)","v":3868},"x",null,"ASG 29E 18m","EET",""]
["Jana Mezerova",1975,"F","Raná","CZ/C2","Ranský pohár 2021 - Kombi",{"$f":"VLOOKUP(F307,Soutez!A:B,2,FALSE)","v":"CZ"},{"$f":"VLOOKUP(F307,Soutez!A:C,3,FALSE)","v":2021},14,1602,0.75,4663,3497,null,null,"LS 1-0","AL",""]
["Jaromir Hendrych",1954,"M","Raná","CZ/C2","Ranský pohár 2021 - Kombi",{"$f":"VLOOKUP(F308,Soutez!A:B,2,FALSE)","v":"CZ"},{"$f":"VLOOKUP(F308,Soutez!A:C,3,FALSE)","v":2021},15,1495,0.75,4241,3181,null,null,"M-35",36,""]
["Martin Fric",1967,"M","Raná","CZ/C2","Ranský pohár 2021 - Kombi",{"$f":"VLOOKUP(F309,Soutez!A:B,2,FALSE)","v":"CZ"},{"$f":"VLOOKUP(F309,Soutez!A:C,3,FALSE)","v":2021},16,1457,0.75,3983,2987,null,null,"Janus B","RA",""]
["Daniel Devecka",{"$f":"VLOOKUP(A310,Pilot,2,0)","v":1981},{"$f":"VLOOKUP(A310,Pilot,5,0)","v":"M"},{"$f":"VLOOKUP(A310,Pilot,3,0)","v":"Vlašim"},{"$f":"VLOOKUP(A310,Pilot,4,0)","v":"CZ/C1"},"Ranský pohár 2021 - Kombi",{"$f":"VLOOKUP(F310,Soutez!A:B,2,FALSE)","v":"CZ"},{"$f":"VLOOKUP(F310,Soutez!A:C,3,FALSE)","v":2021},17,1237,0.75,3291,2468,"x",null,"VSO-10 C","V3",""]
["Tomas Mezera",1973,"M","Raná","CZ/C2","Ranský pohár 2021 - Kombi",{"$f":"VLOOKUP(F311,Soutez!A:B,2,FALSE)","v":"CZ"},{"$f":"VLOOKUP(F311,Soutez!A:C,3,FALSE)","v":2021},18,1001,0.75,2560,1920,null,null,"VSO-10",59,""]
["Stanislav Vrabec",1975,"M","Česká Lípa","CZ/C2","Ranský pohár 2021 - Kombi",{"$f":"VLOOKUP(F312,Soutez!A:B,2,FALSE)","v":"CZ"},{"$f":"VLOOKUP(F312,Soutez!A:C,3,FALSE)","v":2021},19,699,0.75,{"$f":"ROUND(J312/MAX($J$294:$J$312)*10000*0.7+(MAX($I$294:$I$312)-I312)/(MAX($I$294:$I$312)-1)*10000*0.3,0)","v":1671},{"$f":"ROUND(K312*L312,0)","v":1253},null,null,"Std. Cirrus","CV",""]
["Jakub Hlavacek",{"$f":"VLOOKUP(A313,Pilot,2,0)","v":1991},{"$f":"VLOOKUP(A313,Pilot,5,0)","v":"M"},{"$f":"VLOOKUP(A313,Pilot,3,0)","v":"Letkov"},{"$f":"VLOOKUP(A313,Pilot,4,0)","v":"CZ/C1"},"Cirrus GP 2021 - Std. Cirrus",{"$f":"VLOOKUP(F313,Soutez!A:B,2,FALSE)","v":"CZ"},{"$f":"VLOOKUP(F313,Soutez!A:C,3,FALSE)","v":2021},1,43,0.76,{"$f":"ROUND((MAX($I$313:$I$326)-I313)/(MAX($I$313:$I$326)-1)*10000,0)","v":10000},{"$f":"ROUND(K313*L313,0)","v":7600},null,null,"Std. Cirrus","SB",""]
["Michal Navratil",1985,"M","Křižanov","CZ/M","Cirrus GP 2021 - Std. Cirrus",{"$f":"VLOOKUP(F314,Soutez!A:B,2,FALSE)","v":"CZ"},{"$f":"VLOOKUP(F314,Soutez!A:C,3,FALSE)","v":2021},2,34,0.76,9231,{"$f":"ROUND(K314*L314,0)","v":7016},"x",null,"Std. Cirrus","IJ",""]
["Pavel Jiranek",1993,"M","Toužim","CZ/C1","Cirrus GP 2021 - Std. Cirrus",{"$f":"VLOOKUP(F315,Soutez!A:B,2,FALSE)","v":"CZ"},{"$f":"VLOOKUP(F315,Soutez!A:C,3,FALSE)","v":2021},3,29,0.76,8462,6431,null,null,"Std. Cirrus","IYD",""]
["Jan Zahradka",1981,"M","Hodkovice","CZ/C2","Cirrus GP 2021 - Std. Cirrus",{"$f":"VLOOKUP(F316,Soutez!A:B,2,FALSE)","v":"CZ"},{"$f":"VLOOKUP(F316,Soutez!A:C,3,FALSE)","v":2021},4,28,0.76,7692,5846,"x",null,"Std. Cirrus","AR",""]
["Jan Hruska",1988,"M","Tábor","CZ/C1","Cirrus GP 2021 - Std. Cirrus",{"$f":"VLOOKUP(F317,Soutez!A:B,2,FALSE)","v":"CZ"},{"$f":"VLOOKUP(F317,Soutez!A:C,3,FALSE)","v":2021},5,23,0.76,6923,5261,"x",null,"Std. Cirrus",75,""]
["Fousek & Dvorak",null,null,"Raná",null,"Cirrus GP 2021 - Std. Cirrus",{"$f":"VLOOKUP(F318,Soutez!A:B,2,FALSE)","v":"CZ"},{"$f":"VLOOKUP(F318,Soutez!A:C,3,FALSE)","v":2021},6,19,0.76,6154,{"$f":"ROUND(K318*L318,0)","v":4677},null,null,"Std. Cirrus","LW","Není v databázi"]
["Jan Ratz",{"$f":"VLOOKUP(A319,Pilot,2,0)","v":1987},{"$f":"VLOOKUP(A319,Pilot,5,0)","v":"M"},{"$f":"VLOOKUP(A319,Pilot,3,0)","v":"Zbraslavice"},{"$f":"VLOOKUP(A319,Pilot,4,0)","v":"CZ/C1"},"Cirrus GP 2021 - Std. Cirrus",{"$f":"VLOOKUP(F319,Soutez!A:B,2,FALSE)","v":"CZ"},{"$f":"VLOOKUP(F319,Soutez!A:C,3,FALSE)","v":2021},7,16,0.76,5385,4093,null,null,"Std. Cirrus","REX",""]
["Hana Treslova",1991,"F","Raná","CZ/C2","Cirrus GP 2021 - Std. Cirrus",{"$f":"VLOOKUP(F320,Soutez!A:B,2,FALSE)","v":"CZ"},{"$f":"VLOOKUP(F320,Soutez!A:C,3,FALSE)","v":2021},8,15,0.76,4615,3507,null,null,"Std. Cirrus","CI",""]
["Katerina Vojtova",1983,"F","Slaný","CZ/C1","Cirrus GP 2021 - Std. Cirrus",{"$f":"VLOOKUP(F321,Soutez!A:B,2,FALSE)","v":"CZ"},{"$f":"VLOOKUP(F321,Soutez!A:C,3,FALSE)","v":2021},9,7,0.76,3846,2923,null,null,"Std. Cirrus","KAC",""]
["Matej Krestes",1986,"M","Slaný","CZ/C1","Cirrus GP 2021 - Std. Cirrus",{"$f":"VLOOKUP(F322,Soutez!A:B,2,FALSE)","v":"CZ"},{"$f":"VLOOKUP(F322,Soutez!A:C,3,FALSE)","v":2021},10,6,0.76,3077,2339,null,null,"Std. Cirrus","CON",""]
["Jiri Hula",1973,"M","Slaný","CZ/C1","Cirrus GP 2021 - Std. Cirrus",{"$f":"VLOOKUP(F323,Soutez!A:B,2,FALSE)","v":"CZ"},{"$f":"VLOOKUP(F323,Soutez!A:C,3,FALSE)","v":2021},11,4,0.76,2308,1754,"x",null,"Std.Cirrus","IT",""]
["Michal Fortik",1976,"M","Točná","CZ/C1","Cirrus GP 2021 - Std. Cirrus",{"$f":"VLOOKUP(F324,Soutez!A:B,2,FALSE)","v":"CZ"},{"$f":"VLOOKUP(F324,Soutez!A:C,3,FALSE)","v":2021},11,4,0.76,2308,1754,"x",null,"Std. Cirrus","AC",""]
["Jan Platenik",1981,"M","Krnov","CZ/M","Cirrus GP 2021 - Std. Cirrus",{"$f":"VLOOKUP(F325,Soutez!A:B,2,FALSE)","v":"CZ"},{"$f":"VLOOKUP(F325,Soutez!A:C,3,FALSE)","v":2021},13,3,0.76,{"$f":"ROUND((MAX($I$313:$I$326)-I325)/(MAX($I$313:$I$326)-1)*10000,0)","v":769},584,"x",null,"Std. Cirrus","SX",""]
["Bordovska & Bordovsky",null,null,"Krnov",null,"Cirrus GP 2021 - Std. Cirrus",{"$f":"VLOOKUP(F326,Soutez!A:B,2,FALSE)","v":"CZ"},{"$f":"VLOOKUP(F326,Soutez!A:C,3,FALSE)","v":2021},14,1,0.76,0,0,null,null,"Std. Cirrus","BB",{"$f":"IF(ISERROR(VLOOKUP(A326,Pilot,6,0)),\"Není v databázi\",VLOOKUP(A326,Pilot,6,0))","v":"Není v databázi"}]
["Uwe Wahlig",null,null,"GER",null,"WGC 2021 - Klub",{"$f":"VLOOKUP(F327,Soutez!A:B,2,FALSE)","v":"FR"},{"$f":"VLOOKUP(F327,Soutez!A:C,3,FALSE)","v":2021},1,4614,1.105,{"$f":"ROUND(J327/MAX($J$327:$J$362)*10000*0.7+(MAX($I$327:$I$362)-I327)/(MAX($I$327:$I$362)-1)*10000*0.3,0)","v":10000},{"$f":"ROUND(K327*L327,0)","v":11050},null,null,"LS 3","SN","Není v databázi"]
["Thies Bruins",null,null,"NDL",null,"WGC 2021 - Klub",{"$f":"VLOOKUP(F328,Soutez!A:B,2,FALSE)","v":"FR"},{"$f":"VLOOKUP(F328,Soutez!A:C,3,FALSE)","v":2021},2,4499,1.105,9740,{"$f":"ROUND(K328*L328,0)","v":10763},null,null,"ASW 20","IV","Není v databázi"]
["Stefan Langer",null,null,"GER",null,"WGC 2021 - Klub",{"$f":"VLOOKUP(F329,Soutez!A:B,2,FALSE)","v":"FR"},{"$f":"VLOOKUP(F329,Soutez!A:C,3,FALSE)","v":2021},3,4457,1.105,9590,10597,null,null,"LS 3","SF","Není v databázi"]
["Tom Arscott",null,null,"GBR",null,"WGC 2021 - Klub",{"$f":"VLOOKUP(F330,Soutez!A:B,2,FALSE)","v":"FR"},{"$f":"VLOOKUP(F330,Soutez!A:C,3,FALSE)","v":2021},4,4450,1.105,9494,10491,null,null,"LS 7 WL",768,"Není v databázi"]
["Ferenc Tamas",null,null,"HUN",null,"WGC 2021 - Klub",{"$f":"VLOOKUP(F331,Soutez!A:B,2,FALSE)","v":"FR"},{"$f":"VLOOKUP(F331,Soutez!A:C,3,FALSE)","v":2021},5,4435,1.105,9386,10372,null,null,"LS 3","1A","Není v databázi"]
["Robin Smit",null,null,"NDL",null,"WGC 2021 - Klub",{"$f":"VLOOKUP(F332,Soutez!A:B,2,FALSE)","v":"FR"},{"$f":"VLOOKUP(F332,Soutez!A:C,3,FALSE)","v":2021},6,4388,1.105,9229,10198,null,null,"LS 4","RSM","Není v databázi"]
["Jake Brattle",null,null,"GBR",null,"WGC 2021 - Klub",{"$f":"VLOOKUP(F333,Soutez!A:B,2,FALSE)","v":"FR"},{"$f":"VLOOKUP(F333,Soutez!A:C,3,FALSE)","v":2021},7,4318,1.105,9037,9986,null,null,"LS 7 WL",25,"Není v databázi"]
["Jakub Barszcz",null,null,"POL",null,"WGC 2021 - Klub",{"$f":"VLOOKUP(F334,Soutez!A:B,2,FALSE)","v":"FR"},{"$f":"VLOOKUP(F334,Soutez!A:C,3,FALSE)","v":2021},8,4163,1.105,8716,9631,null,null,"Mini Nimbus","CC","Není v databázi"]
["Mark Travner",null,null,"SLO",null,"WGC 2021 - Klub",{"$f":"VLOOKUP(F335,Soutez!A:B,2,FALSE)","v":"FR"},{"$f":"VLOOKUP(F335,Soutez!A:C,3,FALSE)","v":2021},9,4061,1.105,8475,9365,null,null,"DG 300","CF","Není v databázi"]
["Darius Gudziunas",null,null,"LTU",null,"WGC 2021 - Klub",{"$f":"VLOOKUP(F336,Soutez!A:B,2,FALSE)","v":"FR"},{"$f":"VLOOKUP(F336,Soutez!A:C,3,FALSE)","v":2021},10,4048,1.105,8370,9249,null,null,"ASW 20","FL1","Není v databázi"]
["Lukasz Kornacki",null,null,"POL",null,"WGC 2021 - Klub",{"$f":"VLOOKUP(F337,Soutez!A:B,2,FALSE)","v":"FR"},{"$f":"VLOOKUP(F337,Soutez!A:C,3,FALSE)","v":2021},11,3981,1.105,8183,9042,null,null,"Mini Nimbus","CH","Není v databázi"]
["Simon Gantner",null,null,"CHE",null,"WGC 2021 - Klub",{"$f":"VLOOKUP(F338,Soutez!A:B,2,FALSE)","v":"FR"},{"$f":"VLOOKUP(F338,Soutez!A:C,3,FALSE)","v":2021},12,3964,1.105,8071,8918,null,null,"LS 4","MN","Není v databázi"]
["Rasmus Ørskov",null,null,"DEN",null,"WGC 2021 - Klub",{"$f":"VLOOKUP(F339,Soutez!A:B,2,FALSE)","v":"FR"},{"$f":"VLOOKUP(F339,Soutez!A:C,3,FALSE)","v":2021},13,3957,1.105,7975,8812,null,null,"ASW 20","LH","Není v databázi"]
["Eric Bernard",null,null,"FRA",null,"WGC 2021 - Klub",{"$f":"VLOOKUP(F340,Soutez!A:B,2,FALSE)","v":"FR"},{"$f":"VLOOKUP(F340,Soutez!A:C,3,FALSE)","v":2021},14,3876,1.105,7766,8581,null,null,"LS 7 WL","HG","Není v databázi"]
["Killian Walbrou",null,null,"FRA",null,"WGC 2021 - Klub",{"$f":"VLOOKUP(F341,Soutez!A:B,2,FALSE)","v":"FR"},{"$f":"VLOOKUP(F341,Soutez!A:C,3,FALSE)","v":2021},15,3834,1.105,7617,8417,null,null,"LS 7 WL","AG","Není v databázi"]
["Andrej Lebedev",null,null,"LTU",null,"WGC 2021 - Klub",{"$f":"VLOOKUP(F342,Soutez!A:B,2,FALSE)","v":"FR"},{"$f":"VLOOKUP(F342,Soutez!A:C,3,FALSE)","v":2021},16,3805,1.105,7487,8273,null,null,"ASW 20","WU","Není v databázi"]
["Tomas Suchanek",{"$f":"VLOOKUP(A343,Pilot,2,0)","v":1964},{"$f":"VLOOKUP(A343,Pilot,5,0)","v":"M"},{"$f":"VLOOKUP(A343,Pilot,3,0)","v":"GAC Benešov"},{"$f":"VLOOKUP(A343,Pilot,4,0)","v":"CZ/C1"},"WGC 2021 - Klub",{"$f":"VLOOKUP(F343,Soutez!A:B,2,FALSE)","v":"FR"},{"$f":"VLOOKUP(F343,Soutez!A:C,3,FALSE)","v":2021},17,3755,1.105,7325,8094,null,null,"ASW 20","CP",""]
["Frédéric De Groote",null,null,"BEL",null,"WGC 2021 - Klub",{"$f":"VLOOKUP(F344,Soutez!A:B,2,FALSE)","v":"FR"},{"$f":"VLOOKUP(F344,Soutez!A:C,3,FALSE)","v":2021},18,3735,1.105,7209,7966,null,null,"Std. Libelle","FB","Není v databázi"]
["Giacomo Dall'Olio",null,null,"ITA",null,"WGC 2021 - Klub",{"$f":"VLOOKUP(F345,Soutez!A:B,2,FALSE)","v":"FR"},{"$f":"VLOOKUP(F345,Soutez!A:C,3,FALSE)","v":2021},19,3724,1.105,7107,7853,null,null,"ASW 20","B6","Není v databázi"]
["Anton Minskiy",null,null,"FAS",null,"WGC 2021 - Klub",{"$f":"VLOOKUP(F346,Soutez!A:B,2,FALSE)","v":"FR"},{"$f":"VLOOKUP(F346,Soutez!A:C,3,FALSE)","v":2021},20,3714,1.105,7006,7742,null,null,"ASW 20","RZ","Není v databázi"]
["Paul Altrichter",null,null,"AUT",null,"WGC 2021 - Klub",{"$f":"VLOOKUP(F347,Soutez!A:B,2,FALSE)","v":"FR"},{"$f":"VLOOKUP(F347,Soutez!A:C,3,FALSE)","v":2021},21,3686,1.105,6878,7600,null,null,"LS 4 WL","IAX","Není v databázi"]
["Jan Pavlik",{"$f":"VLOOKUP(A348,Pilot,2,0)","v":1987},{"$f":"VLOOKUP(A348,Pilot,5,0)","v":"M"},{"$f":"VLOOKUP(A348,Pilot,3,0)","v":"Křižanov"},{"$f":"VLOOKUP(A348,Pilot,4,0)","v":"CZ/M"},"WGC 2021 - Klub",{"$f":"VLOOKUP(F348,Soutez!A:B,2,FALSE)","v":"FR"},{"$f":"VLOOKUP(F348,Soutez!A:C,3,FALSE)","v":2021},22,3679,1.105,6781,7493,null,null,"LS 4","6L",""]
["Sven Sprunger",null,null,"CHE",null,"WGC 2021 - Klub",{"$f":"VLOOKUP(F349,Soutez!A:B,2,FALSE)","v":"FR"},{"$f":"VLOOKUP(F349,Soutez!A:C,3,FALSE)","v":2021},23,3631,1.105,6623,7318,null,null,"LS 4","WG","Není v databázi"]
["Miguel Schwan",null,null,"AUT",null,"WGC 2021 - Klub",{"$f":"VLOOKUP(F350,Soutez!A:B,2,FALSE)","v":"FR"},{"$f":"VLOOKUP(F350,Soutez!A:C,3,FALSE)","v":2021},24,3540,1.105,6399,{"$f":"ROUND(K350*L350,0)","v":7071},null,null,"LS 4 WL","T5","Není v databázi"]
["Daniel Sazhin",null,null,"USA",null,"WGC 2021 - Klub",{"$f":"VLOOKUP(F351,Soutez!A:B,2,FALSE)","v":"FR"},{"$f":"VLOOKUP(F351,Soutez!A:C,3,FALSE)","v":2021},25,3529,1.105,6297,6958,null,null,"ASW 20","WA","Není v databázi"]
["Sami Rissanen",null,null,"FIN",null,"WGC 2021 - Klub",{"$f":"VLOOKUP(F352,Soutez!A:B,2,FALSE)","v":"FR"},{"$f":"VLOOKUP(F352,Soutez!A:C,3,FALSE)","v":2021},26,3474,1.105,6128,6771,null,null,"LS 7","GE","Není v databázi"]
["Vojko Starovic",null,null,"SLO",null,"WGC 2021 - Klub",{"$f":"VLOOKUP(F353,Soutez!A:B,2,FALSE)","v":"FR"},{"$f":"VLOOKUP(F353,Soutez!A:C,3,FALSE)","v":2021},27,3418,1.105,5957,6582,null,null,"DG 300","CE","Není v databázi"]
["Geert De Palmenaer",null,null,"BEL",null,"WGC 2021 - Klub",{"$f":"VLOOKUP(F354,Soutez!A:B,2,FALSE)","v":"FR"},{"$f":"VLOOKUP(F354,Soutez!A:C,3,FALSE)","v":2021},28,3400,1.105,5844,6458,null,null,"LS 4","LV","Není v databázi"]
["Frane Franic",null,null,"CRO",null,"WGC 2021 - Klub",{"$f":"VLOOKUP(F355,Soutez!A:B,2,FALSE)","v":"FR"},{"$f":"VLOOKUP(F355,Soutez!A:C,3,FALSE)","v":2021},29,3338,1.105,5664,6259,null,null,"ASW 24","HR3","Není v databázi"]
["James P. Stewart",null,null,"USA",null,"WGC 2021 - Klub",{"$f":"VLOOKUP(F356,Soutez!A:B,2,FALSE)","v":"FR"},{"$f":"VLOOKUP(F356,Soutez!A:C,3,FALSE)","v":2021},30,3293,1.105,5510,6089,null,null,"ASW 20","IRS","Není v databázi"]
["Oleg Rzhondkovskyi",null,null,"UKR",null,"WGC 2021 - Klub",{"$f":"VLOOKUP(F357,Soutez!A:B,2,FALSE)","v":"FR"},{"$f":"VLOOKUP(F357,Soutez!A:C,3,FALSE)","v":2021},31,3213,1.105,5303,5860,null,null,"Discus",762,"Není v databázi"]
["Gerrard G Dale",null,null,"GBR",null,"WGC 2021 - Klub",{"$f":"VLOOKUP(F358,Soutez!A:B,2,FALSE)","v":"FR"},{"$f":"VLOOKUP(F358,Soutez!A:C,3,FALSE)","v":2021},32,3138,1.105,5104,5640,null,null,"ASW 24",247,"Není v databázi"]
["Morten Hoeck Petersen",null,null,"DEN",null,"WGC 2021 - Klub",{"$f":"VLOOKUP(F359,Soutez!A:B,2,FALSE)","v":"FR"},{"$f":"VLOOKUP(F359,Soutez!A:C,3,FALSE)","v":2021},33,3040,1.105,4869,5380,null,null,"Glasflugel 304","G","Není v databázi"]
["Attila Korom",null,null,"HUN",null,"WGC 2021 - Klub",{"$f":"VLOOKUP(F360,Soutez!A:B,2,FALSE)","v":"FR"},{"$f":"VLOOKUP(F360,Soutez!A:C,3,FALSE)","v":2021},34,3003,1.105,4727,5223,null,null,"ASW 20","MC","Není v databázi"]
["Mykhailo Grytsenko",null,null,"UKR",null,"WGC 2021 - Klub",{"$f":"VLOOKUP(F361,Soutez!A:B,2,FALSE)","v":"FR"},{"$f":"VLOOKUP(F361,Soutez!A:C,3,FALSE)","v":2021},35,1390,1.105,2195,2425,null,null,"Jantar Std. 3",89,"Není v databázi"]
["Markku Valkama",null,null,"FIN",null,"WGC 2021 - Klub",{"$f":"VLOOKUP(F362,Soutez!A:B,2,FALSE)","v":"FR"},{"$f":"VLOOKUP(F362,Soutez!A:C,3,FALSE)","v":2021},36,657,1.105,997,1102,null,null,"PIK 20 A","MV","Není v databázi"]
["Simon Schröder",null,null,"GER",null,"WGC 2021 - Std",{"$f":"VLOOKUP(F363,Soutez!A:B,2,FALSE)","v":"FR"},{"$f":"VLOOKUP(F363,Soutez!A:C,3,FALSE)","v":2021},1,4609,1.085,{"$f":"ROUND(J363/MAX($J$363:$J$392)*10000*0.7+(MAX($I$363:$I$392)-I363)/(MAX($I$363:$I$392)-1)*10000*0.3,0)","v":10000},{"$f":"ROUND(K363*L363,0)","v":10850},null,null,"LS 8","S2","Není v databázi"]
["Jan Omsels",null,null,"GER",null,"WGC 2021 - Std",{"$f":"VLOOKUP(F364,Soutez!A:B,2,FALSE)","v":"FR"},{"$f":"VLOOKUP(F364,Soutez!A:C,3,FALSE)","v":2021},2,4504,1.085,9737,{"$f":"ROUND(K364*L364,0)","v":10565},null,null,"Discus 2a","V","Není v databázi"]
["Dennis Huybreckx",null,null,"BEL",null,"WGC 2021 - Std",{"$f":"VLOOKUP(F365,Soutez!A:B,2,FALSE)","v":"FR"},{"$f":"VLOOKUP(F365,Soutez!A:C,3,FALSE)","v":2021},3,4390,{"$f":"VLOOKUP(F365,Soutez,12,0)","v":1.085},9460,10264,null,null,"LS 8","CM","Není v databázi"]
["Jeremy Hood",null,null,"GBR",null,"WGC 2021 - Std",{"$f":"VLOOKUP(F366,Soutez!A:B,2,FALSE)","v":"FR"},{"$f":"VLOOKUP(F366,Soutez!A:C,3,FALSE)","v":2021},4,4229,1.085,9113,9888,null,null,"LS 8",352,"Není v databázi"]
["Norbert Scarlat",null,null,"ROM",null,"WGC 2021 - Std",{"$f":"VLOOKUP(F367,Soutez!A:B,2,FALSE)","v":"FR"},{"$f":"VLOOKUP(F367,Soutez!A:C,3,FALSE)","v":2021},5,4168,1.085,8916,9674,null,null,"Discus 2a","Y1","Není v databázi"]
["Jeroen Jennen",null,null,"BEL",null,"WGC 2021 - Std",{"$f":"VLOOKUP(F368,Soutez!A:B,2,FALSE)","v":"FR"},{"$f":"VLOOKUP(F368,Soutez!A:C,3,FALSE)","v":2021},6,4159,1.085,8799,9547,null,null,"LS 8","LT","Není v databázi"]
["Sjaak Selen",null,null,"NDL",null,"WGC 2021 - Std",{"$f":"VLOOKUP(F369,Soutez!A:B,2,FALSE)","v":"FR"},{"$f":"VLOOKUP(F369,Soutez!A:C,3,FALSE)","v":2021},7,4129,1.085,8650,9385,null,null,"Discus 2a","2SI","Není v databázi"]
["Enrique Levin",null,null,"GER",null,"WGC 2021 - Std",{"$f":"VLOOKUP(F370,Soutez!A:B,2,FALSE)","v":"FR"},{"$f":"VLOOKUP(F370,Soutez!A:C,3,FALSE)","v":2021},8,4105,1.085,8510,9233,null,null,"Discus 2a","FL","Není v databázi"]
["Robbie Seton",null,null,"NDL",null,"WGC 2021 - Std",{"$f":"VLOOKUP(F371,Soutez!A:B,2,FALSE)","v":"FR"},{"$f":"VLOOKUP(F371,Soutez!A:C,3,FALSE)","v":2021},9,3947,1.085,8167,8861,null,null,"LS 8","SR","Není v databázi"]
["David Leemann",null,null,"CHE",null,"WGC 2021 - Std",{"$f":"VLOOKUP(F372,Soutez!A:B,2,FALSE)","v":"FR"},{"$f":"VLOOKUP(F372,Soutez!A:C,3,FALSE)","v":2021},10,3932,1.085,8041,8724,null,null,"LS 8","4B","Není v databázi"]
["Lukasz Blaszczyk",null,null,"POL",null,"WGC 2021 - Std",{"$f":"VLOOKUP(F373,Soutez!A:B,2,FALSE)","v":"FR"},{"$f":"VLOOKUP(F373,Soutez!A:C,3,FALSE)","v":2021},11,3872,1.085,7846,8513,null,null,"Discus 2a","I","Není v databázi"]
["Benjamin Néglais",null,null,"FRA",null,"WGC 2021 - Std",{"$f":"VLOOKUP(F374,Soutez!A:B,2,FALSE)","v":"FR"},{"$f":"VLOOKUP(F374,Soutez!A:C,3,FALSE)","v":2021},12,3827,1.085,7674,8326,null,null,"Discus 2a","ET","Není v databázi"]
["Filip Bojanowski",null,null,"DEN",null,"WGC 2021 - Std",{"$f":"VLOOKUP(F375,Soutez!A:B,2,FALSE)","v":"FR"},{"$f":"VLOOKUP(F375,Soutez!A:C,3,FALSE)","v":2021},13,3764,1.085,7475,8110,null,null,"Discus 2a","LAX","Není v databázi"]
["Howard Jones",null,null,"GBR",null,"WGC 2021 - Std",{"$f":"VLOOKUP(F376,Soutez!A:B,2,FALSE)","v":"FR"},{"$f":"VLOOKUP(F376,Soutez!A:C,3,FALSE)","v":2021},14,3716,1.085,7299,{"$f":"ROUND(K376*L376,0)","v":7919},null,null,"Discus 2a",6,"Není v databázi"]
["Méric Morel",null,null,"FRA",null,"WGC 2021 - Std",{"$f":"VLOOKUP(F377,Soutez!A:B,2,FALSE)","v":"FR"},{"$f":"VLOOKUP(F377,Soutez!A:C,3,FALSE)","v":2021},15,3711,1.085,7188,7799,null,null,"Discus 2a","JPA","Není v databázi"]
["Jacek Flis",null,null,"POL",null,"WGC 2021 - Std",{"$f":"VLOOKUP(F378,Soutez!A:B,2,FALSE)","v":"FR"},{"$f":"VLOOKUP(F378,Soutez!A:C,3,FALSE)","v":2021},16,3705,1.085,7075,7676,null,null,"Discus 2a","Y","Není v databázi"]
["Miloslav Cink",{"$f":"VLOOKUP(A379,Pilot,2,0)","v":1987},{"$f":"VLOOKUP(A379,Pilot,5,0)","v":"M"},{"$f":"VLOOKUP(A379,Pilot,3,0)","v":"Letkov"},{"$f":"VLOOKUP(A379,Pilot,4,0)","v":"CZ/C1"},"WGC 2021 - Std",{"$f":"VLOOKUP(F379,Soutez!A:B,2,FALSE)","v":"FR"},{"$f":"VLOOKUP(F379,Soutez!A:C,3,FALSE)","v":2021},17,3607,1.085,6823,7403,null,null,"LS 8","J3",""]
["Nico Jaegli",null,null,"CHE",null,"WGC 2021 - Std",{"$f":"VLOOKUP(F380,Soutez!A:B,2,FALSE)","v":"FR"},{"$f":"VLOOKUP(F380,Soutez!A:C,3,FALSE)","v":2021},18,3574,1.085,6669,7236,null,null,"Discus 2","2S","Není v databázi"]
["Sarah Arnold",null,null,"USA",null,"WGC 2021 - Std",{"$f":"VLOOKUP(F381,Soutez!A:B,2,FALSE)","v":"FR"},{"$f":"VLOOKUP(F381,Soutez!A:C,3,FALSE)","v":2021},19,3468,1.085,6405,6949,null,null,"Discus 2a","ALB","Není v databázi"]
["Pavel Louzecky",{"$f":"VLOOKUP(A382,Pilot,2,0)","v":1957},{"$f":"VLOOKUP(A382,Pilot,5,0)","v":"M"},{"$f":"VLOOKUP(A382,Pilot,3,0)","v":"Přibyslav"},{"$f":"VLOOKUP(A382,Pilot,4,0)","v":"CZ/C2"},"WGC 2021 - Std",{"$f":"VLOOKUP(F382,Soutez!A:B,2,FALSE)","v":"FR"},{"$f":"VLOOKUP(F382,Soutez!A:C,3,FALSE)","v":2021},20,3403,1.085,6203,6730,null,null,"LS 8","FX",""]
["Jan Brandt Jorgensen",null,null,"DEN",null,"WGC 2021 - Std",{"$f":"VLOOKUP(F383,Soutez!A:B,2,FALSE)","v":"FR"},{"$f":"VLOOKUP(F383,Soutez!A:C,3,FALSE)","v":2021},21,3397,1.085,6090,6608,null,null,"LS 8","JB","Není v databázi"]
["Luca Urbani",null,null,"ITA",null,"WGC 2021 - Std",{"$f":"VLOOKUP(F384,Soutez!A:B,2,FALSE)","v":"FR"},{"$f":"VLOOKUP(F384,Soutez!A:C,3,FALSE)","v":2021},22,3214,1.085,5709,6194,null,null,"Discus 2a","LR","Není v databázi"]
["Tamas Vamosi",null,null,"HUN",null,"WGC 2021 - Std",{"$f":"VLOOKUP(F385,Soutez!A:B,2,FALSE)","v":"FR"},{"$f":"VLOOKUP(F385,Soutez!A:C,3,FALSE)","v":2021},23,3207,1.085,5595,6071,null,null,"Discus 2a","HAL","Není v databázi"]
["Tom Holloran",null,null,"USA",null,"WGC 2021 - Std",{"$f":"VLOOKUP(F386,Soutez!A:B,2,FALSE)","v":"FR"},{"$f":"VLOOKUP(F386,Soutez!A:C,3,FALSE)","v":2021},24,3108,1.085,5341,5795,null,null,"LS 8","MY","Není v databázi"]
["Alex Pop",null,null,"ROM",null,"WGC 2021 - Std",{"$f":"VLOOKUP(F387,Soutez!A:B,2,FALSE)","v":"FR"},{"$f":"VLOOKUP(F387,Soutez!A:C,3,FALSE)","v":2021},25,3107,1.085,5236,5681,null,null,"Discus 2a","YB","Není v databázi"]
["Martin Schwab",null,null,"AUT",null,"WGC 2021 - Std",{"$f":"VLOOKUP(F388,Soutez!A:B,2,FALSE)","v":"FR"},{"$f":"VLOOKUP(F388,Soutez!A:C,3,FALSE)","v":2021},26,3022,1.085,5004,5429,null,null,"Discus 2T","FUN",{"$f":"IF(ISERROR(VLOOKUP(A388,Pilot,6,0)),\"Není v databázi\",VLOOKUP(A388,Pilot,6,0))","v":"Není v databázi"}]
["Péter Banki",null,null,"HUN",null,"WGC 2021 - Std",{"$f":"VLOOKUP(F389,Soutez!A:B,2,FALSE)","v":"FR"},{"$f":"VLOOKUP(F389,Soutez!A:C,3,FALSE)","v":2021},27,2732,1.085,4460,4839,null,null,"Discus 2a","HUN","Není v databázi"]
["Lorenzo Monti",null,null,"ITA",null,"WGC 2021 - Std",{"$f":"VLOOKUP(F390,Soutez!A:B,2,FALSE)","v":"FR"},{"$f":"VLOOKUP(F390,Soutez!A:C,3,FALSE)","v":2021},28,2355,1.085,3784,4106,null,null,"LAK 19/15m","B9","Není v databázi"]
["Serge Leclercq",null,null,"ESP",null,"WGC 2021 - Std",{"$f":"VLOOKUP(F391,Soutez!A:B,2,FALSE)","v":"FR"},{"$f":"VLOOKUP(F391,Soutez!A:C,3,FALSE)","v":2021},29,1933,1.085,3039,3297,null,null,"LS 8",220,"Není v databázi"]
["Arturas Pilvinis",null,null,"LTU",null,"WGC 2021 - Std",{"$f":"VLOOKUP(F392,Soutez!A:B,2,FALSE)","v":"FR"},{"$f":"VLOOKUP(F392,Soutez!A:C,3,FALSE)","v":2021},30,279,1.085,424,460,null,null,"LS 8","H8","Není v databázi"]
["Sebastian Kawa",null,null,"POL",null,"WGC 2021 - 15m",{"$f":"VLOOKUP(F393,Soutez!A:B,2,FALSE)","v":"FR"},{"$f":"VLOOKUP(F393,Soutez!A:C,3,FALSE)","v":2021},1,4470,1.075,{"$f":"ROUND(J393/MAX($J$393:$J$421)*10000*0.7+(MAX($I$393:$I$421)-I393)/(MAX($I$393:$I$421)-1)*10000*0.3,0)","v":10000},{"$f":"ROUND(K393*L393,0)","v":10750},null,null,"Diana 2","RP","Není v databázi"]
["Lukasz Grabowski",null,null,"POL",null,"WGC 2021 - 15m",{"$f":"VLOOKUP(F394,Soutez!A:B,2,FALSE)","v":"FR"},{"$f":"VLOOKUP(F394,Soutez!A:C,3,FALSE)","v":2021},2,4286,1.075,9605,{"$f":"ROUND(K394*L394,0)","v":10325},null,null,"Diana 2","BB","Není v databázi"]
["Matthew Scutter",null,null,"AUS",null,"WGC 2021 - 15m",{"$f":"VLOOKUP(F395,Soutez!A:B,2,FALSE)","v":"FR"},{"$f":"VLOOKUP(F395,Soutez!A:C,3,FALSE)","v":2021},3,4220,1.075,9394,10099,null,null,"Diana 2","D2","Není v databázi"]
["Hadriaan van Nes",null,null,"NDL",null,"WGC 2021 - 15m",{"$f":"VLOOKUP(F396,Soutez!A:B,2,FALSE)","v":"FR"},{"$f":"VLOOKUP(F396,Soutez!A:C,3,FALSE)","v":2021},4,4176,1.075,9218,9909,null,null,"JS 3",3,"Není v databázi"]
["Karel Novak",{"$f":"VLOOKUP(A397,Pilot,2,0)","v":1993},{"$f":"VLOOKUP(A397,Pilot,5,0)","v":"M"},{"$f":"VLOOKUP(A397,Pilot,3,0)","v":"Mladá Boleslav"},{"$f":"VLOOKUP(A397,Pilot,4,0)","v":"CZ/C1"},"WGC 2021 - 15m",{"$f":"VLOOKUP(F397,Soutez!A:B,2,FALSE)","v":"FR"},{"$f":"VLOOKUP(F397,Soutez!A:C,3,FALSE)","v":2021},5,4049,1.075,8912,9580,"x",null,"JS 3","XM",""]
["Riccardo Brigliadori",null,null,"ITA",null,"WGC 2021 - 15m",{"$f":"VLOOKUP(F398,Soutez!A:B,2,FALSE)","v":"FR"},{"$f":"VLOOKUP(F398,Soutez!A:C,3,FALSE)","v":2021},6,4017,1.075,8755,9412,null,null,"JS 3","LEO","Není v databázi"]
["Laurent Aboulin",null,null,"FRA",null,"WGC 2021 - 15m",{"$f":"VLOOKUP(F399,Soutez!A:B,2,FALSE)","v":"FR"},{"$f":"VLOOKUP(F399,Soutez!A:C,3,FALSE)","v":2021},7,3982,1.075,8593,9237,null,null,"JS 3","KW","Není v databázi"]
["David Bauder",null,null,"GER",null,"WGC 2021 - 15m",{"$f":"VLOOKUP(F400,Soutez!A:B,2,FALSE)","v":"FR"},{"$f":"VLOOKUP(F400,Soutez!A:C,3,FALSE)","v":2021},8,3923,1.075,8393,9022,null,null,"Ventus 3","3V","Není v databázi"]
["Steffen Schwarzer",null,null,"GER",null,"WGC 2021 - 15m",{"$f":"VLOOKUP(F401,Soutez!A:B,2,FALSE)","v":"FR"},{"$f":"VLOOKUP(F401,Soutez!A:C,3,FALSE)","v":2021},9,3891,1.075,8236,8854,null,null,"Ventus 3","A7","Není v databázi"]
["Daan Spruyt",null,null,"BEL",null,"WGC 2021 - 15m",{"$f":"VLOOKUP(F402,Soutez!A:B,2,FALSE)","v":"FR"},{"$f":"VLOOKUP(F402,Soutez!A:C,3,FALSE)","v":2021},10,3873,1.075,8101,8709,null,null,"Ventus 2 ax","FS","Není v databázi"]
["Jeroen Verkuijl",null,null,"NDL",null,"WGC 2021 - 15m",{"$f":"VLOOKUP(F403,Soutez!A:B,2,FALSE)","v":"FR"},{"$f":"VLOOKUP(F403,Soutez!A:C,3,FALSE)","v":2021},11,3855,1.075,7965,8562,null,null,"JS 3","JV","Není v databázi"]
["Roman Mracek",{"$f":"VLOOKUP(A404,Pilot,2,0)","v":1980},{"$f":"VLOOKUP(A404,Pilot,5,0)","v":"M"},{"$f":"VLOOKUP(A404,Pilot,3,0)","v":"Letkov"},{"$f":"VLOOKUP(A404,Pilot,4,0)","v":"CZ/C1"},"WGC 2021 - 15m",{"$f":"VLOOKUP(F404,Soutez!A:B,2,FALSE)","v":"FR"},{"$f":"VLOOKUP(F404,Soutez!A:C,3,FALSE)","v":2021},12,3836,1.075,7829,8416,null,null,"JS 3","ZE",""]
["Timothy A. Taylor",null,null,"USA",null,"WGC 2021 - 15m",{"$f":"VLOOKUP(F405,Soutez!A:B,2,FALSE)","v":"FR"},{"$f":"VLOOKUP(F405,Soutez!A:C,3,FALSE)","v":2021},13,3752,1.075,7590,8159,null,null,"Ventus 2 ax","VV","Není v databázi"]
["Maximilian Seis",null,null,"FRA",null,"WGC 2021 - 15m",{"$f":"VLOOKUP(F406,Soutez!A:B,2,FALSE)","v":"FR"},{"$f":"VLOOKUP(F406,Soutez!A:C,3,FALSE)","v":2021},14,3725,1.075,7440,7998,null,null,"JS 3","LB","Není v databázi"]
["Thomas Grove",null,null,"DEN",null,"WGC 2021 - 15m",{"$f":"VLOOKUP(F407,Soutez!A:B,2,FALSE)","v":"FR"},{"$f":"VLOOKUP(F407,Soutez!A:C,3,FALSE)","v":2021},15,3674,1.075,7253,{"$f":"ROUND(K407*L407,0)","v":7797},null,null,"ASG 29",29,"Není v databázi"]
["Zoltan Hamar",null,null,"HUN",null,"WGC 2021 - 15m",{"$f":"VLOOKUP(F408,Soutez!A:B,2,FALSE)","v":"FR"},{"$f":"VLOOKUP(F408,Soutez!A:C,3,FALSE)","v":2021},16,3622,1.075,7065,7595,null,null,"JS 3","7A","Není v databázi"]
["Mark Käppeli",null,null,"CHE",null,"WGC 2021 - 15m",{"$f":"VLOOKUP(F409,Soutez!A:B,2,FALSE)","v":"FR"},{"$f":"VLOOKUP(F409,Soutez!A:C,3,FALSE)","v":2021},17,3479,1.075,6734,7239,null,null,"JS 3","AX","Není v databázi"]
["Sean Murphy",null,null,"USA",null,"WGC 2021 - 15m",{"$f":"VLOOKUP(F410,Soutez!A:B,2,FALSE)","v":"FR"},{"$f":"VLOOKUP(F410,Soutez!A:C,3,FALSE)","v":2021},18,3431,1.075,6552,7043,null,null,"JS 3","XC","Není v databázi"]
["Morten Hugo Bennick",null,null,"DEN",null,"WGC 2021 - 15m",{"$f":"VLOOKUP(F411,Soutez!A:B,2,FALSE)","v":"FR"},{"$f":"VLOOKUP(F411,Soutez!A:C,3,FALSE)","v":2021},19,3360,1.075,6333,6808,null,null,"Ventus 2cT","RJ","Není v databázi"]
["Yves Gerster",null,null,"CHE",null,"WGC 2021 - 15m",{"$f":"VLOOKUP(F412,Soutez!A:B,2,FALSE)","v":"FR"},{"$f":"VLOOKUP(F412,Soutez!A:C,3,FALSE)","v":2021},20,3052,1.075,5744,6175,null,null,"JS 3",73,"Není v databázi"]
["Bruno Herencic",null,null,"CRO",null,"WGC 2021 - 15m",{"$f":"VLOOKUP(F413,Soutez!A:B,2,FALSE)","v":"FR"},{"$f":"VLOOKUP(F413,Soutez!A:C,3,FALSE)","v":2021},21,2902,1.075,5402,5807,null,null,"Diana 2","BH","Není v databázi"]
["Vitaliy Borovik",null,null,"FAS",null,"WGC 2021 - 15m",{"$f":"VLOOKUP(F414,Soutez!A:B,2,FALSE)","v":"FR"},{"$f":"VLOOKUP(F414,Soutez!A:C,3,FALSE)","v":2021},22,2565,1.075,4767,5125,null,null,"JS 3","VB","Není v databázi"]
["Oscar Marqués",null,null,"ESP",null,"WGC 2021 - 15m",{"$f":"VLOOKUP(F415,Soutez!A:B,2,FALSE)","v":"FR"},{"$f":"VLOOKUP(F415,Soutez!A:C,3,FALSE)","v":2021},23,2550,1.075,4636,4984,null,null,"LS 6","CB","Není v databázi"]
["Szabolcs Veigli",null,null,"HUN",null,"WGC 2021 - 15m",{"$f":"VLOOKUP(F416,Soutez!A:B,2,FALSE)","v":"FR"},{"$f":"VLOOKUP(F416,Soutez!A:C,3,FALSE)","v":2021},24,2327,1.075,4180,4494,null,null,"JS 3","HAB","Není v databázi"]
["Nik Salej",null,null,"SLO",null,"WGC 2021 - 15m",{"$f":"VLOOKUP(F417,Soutez!A:B,2,FALSE)","v":"FR"},{"$f":"VLOOKUP(F417,Soutez!A:C,3,FALSE)","v":2021},25,2265,1.075,3976,4274,null,null,"JS 3","XD","Není v databázi"]
["Diana Schuit",null,null,"LUX",null,"WGC 2021 - 15m",{"$f":"VLOOKUP(F418,Soutez!A:B,2,FALSE)","v":"FR"},{"$f":"VLOOKUP(F418,Soutez!A:C,3,FALSE)","v":2021},26,2248,1.075,3842,4130,null,null,"JS 3","MM","Není v databázi"]
["A. M. Litt",null,null,"BEL",null,"WGC 2021 - 15m",{"$f":"VLOOKUP(F419,Soutez!A:B,2,FALSE)","v":"FR"},{"$f":"VLOOKUP(F419,Soutez!A:C,3,FALSE)","v":2021},27,2245,1.075,3730,4010,null,null,"JS 3","MMI","Není v databázi"]
["Mykhaylo Kruglyakov",null,null,"UKR",null,"WGC 2021 - 15m",{"$f":"VLOOKUP(F420,Soutez!A:B,2,FALSE)","v":"FR"},{"$f":"VLOOKUP(F420,Soutez!A:C,3,FALSE)","v":2021},28,1465,1.075,2401,2581,null,null,"DG 400","BU","Není v databázi"]
["Jurado Navas Miguel",null,null,"ESP",null,"WGC 2021 - 15m",{"$f":"VLOOKUP(F421,Soutez!A:B,2,FALSE)","v":"FR"},{"$f":"VLOOKUP(F421,Soutez!A:C,3,FALSE)","v":2021},29,0,1.075,0,0,null,null,"Ventus 1",45,"Není v databázi"]
["Ivan Novak",{"$f":"VLOOKUP(A422,Pilot,2,0)","v":1962},{"$f":"VLOOKUP(A422,Pilot,5,0)","v":"M"},{"$f":"VLOOKUP(A422,Pilot,3,0)","v":"Mladá Boleslav"},{"$f":"VLOOKUP(A422,Pilot,4,0)","v":"CZ/C1"},"FCC 2021 - Klub",{"$f":"VLOOKUP(F422,Soutez!A:B,2,FALSE)","v":"SK"},{"$f":"VLOOKUP(F422,Soutez!A:C,3,FALSE)","v":2021},1,6045,0.93500000000000005,{"$f":"ROUND(J422/MAX($J$422:$J$431)*10000*0.7+(MAX($I$422:$I$431)-I422)/(MAX($I$422:$I$431)-1)*10000*0.3,0)","v":10000},{"$f":"ROUND(K422*L422,0)","v":9350},"x",null,"Std. Cirrus","DI",""]
["Stanislaw Biela",null,null,"Nowy Targ",null,"FCC 2021 - Klub",{"$f":"VLOOKUP(F423,Soutez!A:B,2,FALSE)","v":"SK"},{"$f":"VLOOKUP(F423,Soutez!A:C,3,FALSE)","v":2021},2,5253,0.93500000000000005,8750,{"$f":"ROUND(K423*L423,0)","v":8181},null,null,"SZD-55 Promyk","BS","Není v databázi"]
["Milan Surovcik Jr.",null,null,"Žilina",null,"FCC 2021 - Klub",{"$f":"VLOOKUP(F424,Soutez!A:B,2,FALSE)","v":"SK"},{"$f":"VLOOKUP(F424,Soutez!A:C,3,FALSE)","v":2021},3,5227,0.93500000000000005,8386,7841,null,null,"Centrair C-101A Pegase","EL","Není v databázi"]
["Petra Piskata",{"$f":"VLOOKUP(A425,Pilot,2,0)","v":1989},{"$f":"VLOOKUP(A425,Pilot,5,0)","v":"F"},{"$f":"VLOOKUP(A425,Pilot,3,0)","v":"Luhačovice"},{"$f":"VLOOKUP(A425,Pilot,4,0)","v":"CZ/M"},"FCC 2021 - Klub",{"$f":"VLOOKUP(F425,Soutez!A:B,2,FALSE)","v":"SK"},{"$f":"VLOOKUP(F425,Soutez!A:C,3,FALSE)","v":2021},4,5067,0.93500000000000005,7867,7356,"x",null,"LS-4","FP",""]
["Judit Murati",null,null,"Malev",null,"FCC 2021 - Klub",{"$f":"VLOOKUP(F426,Soutez!A:B,2,FALSE)","v":"SK"},{"$f":"VLOOKUP(F426,Soutez!A:C,3,FALSE)","v":2021},5,5014,0.93500000000000005,7473,6987,null,null,"ASW-20 C /15m","J","Není v databázi"]
["Wojciech Domanski",null,null,"Nowy Targ",null,"FCC 2021 - Klub",{"$f":"VLOOKUP(F427,Soutez!A:B,2,FALSE)","v":"SK"},{"$f":"VLOOKUP(F427,Soutez!A:C,3,FALSE)","v":2021},6,4976,{"$f":"VLOOKUP(F427,Soutez,12,0)","v":0.93500000000000005},7095,6634,null,null,"LS-4","WW","Není v databázi"]
["Peter Gonczi",null,null,"Malév",null,"FCC 2021 - Klub",{"$f":"VLOOKUP(F428,Soutez!A:B,2,FALSE)","v":"SK"},{"$f":"VLOOKUP(F428,Soutez!A:C,3,FALSE)","v":2021},7,4723,0.93500000000000005,6469,6049,null,null,"Janus C (FG)","DD","Není v databázi"]
["Olgierd Urbanczyk",null,null,"AOS Bezmiechowa",null,"FCC 2021 - Klub",{"$f":"VLOOKUP(F429,Soutez!A:B,2,FALSE)","v":"SK"},{"$f":"VLOOKUP(F429,Soutez!A:C,3,FALSE)","v":2021},8,4565,0.93500000000000005,5953,{"$f":"ROUND(K429*L429,0)","v":5566},null,null,"Janus dvojí","KI","Není v databázi"]
["Stas Stankovic",null,null,"Aeroklub Novo mesto",null,"FCC 2021 - Klub",{"$f":"VLOOKUP(F430,Soutez!A:B,2,FALSE)","v":"SK"},{"$f":"VLOOKUP(F430,Soutez!A:C,3,FALSE)","v":2021},9,3492,0.93500000000000005,4377,4092,null,null,"DG-100","GO","Není v databázi"]
["Ryszard Bendkowski",null,null,"Warszawa",null,"FCC 2021 - Klub",{"$f":"VLOOKUP(F431,Soutez!A:B,2,FALSE)","v":"SK"},{"$f":"VLOOKUP(F431,Soutez!A:C,3,FALSE)","v":2021},10,415,0.93500000000000005,481,450,null,null,"SZD-48 Jantar Std. 2","Filip","Není v databázi"]
["Jan Kotan",{"$f":"VLOOKUP(A432,Pilot,2,0)","v":1982},{"$f":"VLOOKUP(A432,Pilot,5,0)","v":"M"},{"$f":"VLOOKUP(A432,Pilot,3,0)","v":"Letňany"},{"$f":"VLOOKUP(A432,Pilot,4,0)","v":"CZ/C1"},"FCC 2021 - Kombi 15m",{"$f":"VLOOKUP(F432,Soutez!A:B,2,FALSE)","v":"SK"},{"$f":"VLOOKUP(F432,Soutez!A:C,3,FALSE)","v":2021},1,5644,0.94500000000000006,{"$f":"ROUND(J432/MAX($J$432:$J$441)*10000*0.7+(MAX($I$432:$I$441)-I432)/(MAX($I$432:$I$441)-1)*10000*0.3,0)","v":10000},{"$f":"ROUND(K432*L432,0)","v":9450},"x",null,"Ventus 2b 15m","YA",""]
["Czeladzki & Czubski",null,null,"Warszawski/KKGT",null,"FCC 2021 - Kombi 15m",{"$f":"VLOOKUP(F433,Soutez!A:B,2,FALSE)","v":"SK"},{"$f":"VLOOKUP(F433,Soutez!A:C,3,FALSE)","v":2021},2,5303,0.94500000000000006,9244,{"$f":"ROUND(K433*L433,0)","v":8736},null,null,"Duo Discus XLT","POL","Není v databázi"]
["Jiri Kusbach",{"$f":"VLOOKUP(A434,Pilot,2,0)","v":1959},{"$f":"VLOOKUP(A434,Pilot,5,0)","v":"M"},{"$f":"VLOOKUP(A434,Pilot,3,0)","v":"Luhačovice"},{"$f":"VLOOKUP(A434,Pilot,4,0)","v":"CZ/M"},"FCC 2021 - Kombi 15m",{"$f":"VLOOKUP(F434,Soutez!A:B,2,FALSE)","v":"SK"},{"$f":"VLOOKUP(F434,Soutez!A:C,3,FALSE)","v":2021},3,5019,0.94500000000000006,8558,8087,null,null,"KKB 15E-FES","B",""]
["Jana Treslova",1963,"F","Raná","CZ/C2","FCC 2021 - Kombi 15m",{"$f":"VLOOKUP(F435,Soutez!A:B,2,FALSE)","v":"SK"},{"$f":"VLOOKUP(F435,Soutez!A:C,3,FALSE)","v":2021},4,4821,0.94500000000000006,7979,7540,"x",null,"Ventus 2ax","AX",""]
["Jana Veprekova",1961,"F","Dvůr Králové","CZ/C2","FCC 2021 - Kombi 15m",{"$f":"VLOOKUP(F436,Soutez!A:B,2,FALSE)","v":"SK"},{"$f":"VLOOKUP(F436,Soutez!A:C,3,FALSE)","v":2021},5,4634,0.94500000000000006,7414,7006,"x","x","LS-8","W8",""]
["Slavomir Valecko",1960,"M","Hranice","CZ/M","FCC 2021 - Kombi 15m",{"$f":"VLOOKUP(F437,Soutez!A:B,2,FALSE)","v":"SK"},{"$f":"VLOOKUP(F437,Soutez!A:C,3,FALSE)","v":2021},6,4066,0.94500000000000006,6376,6025,"x",null,"Discus CS","IYB",""]
["Oldrich Bartonik",1961,"M","Luhačovice","CZ/M","FCC 2021 - Kombi 15m",{"$f":"VLOOKUP(F438,Soutez!A:B,2,FALSE)","v":"SK"},{"$f":"VLOOKUP(F438,Soutez!A:C,3,FALSE)","v":2021},7,3403,0.94500000000000006,5221,4934,"x",null,"KKB 15","N1",""]
["Maciej Walasek",null,null,"Aeroklub Krakowski",null,"FCC 2021 - Kombi 15m",{"$f":"VLOOKUP(F439,Soutez!A:B,2,FALSE)","v":"SK"},{"$f":"VLOOKUP(F439,Soutez!A:C,3,FALSE)","v":2021},8,2680,0.94500000000000006,3991,{"$f":"ROUND(K439*L439,0)","v":3771},null,null,"LS-6","KK","Není v databázi"]
["Jan Keher",null,null,"Prievidza",null,"FCC 2021 - Kombi 15m",{"$f":"VLOOKUP(F440,Soutez!A:B,2,FALSE)","v":"SK"},{"$f":"VLOOKUP(F440,Soutez!A:C,3,FALSE)","v":2021},9,2293,0.94500000000000006,3177,3002,null,null,"Discus CS","DR","Není v databázi"]
["Benedikt Laho",null,null,"Trnava",null,"FCC 2021 - Kombi 15m",{"$f":"VLOOKUP(F441,Soutez!A:B,2,FALSE)","v":"SK"},{"$f":"VLOOKUP(F441,Soutez!A:C,3,FALSE)","v":2021},10,1474,0.94500000000000006,1828,1727,null,null,"Discus 2T /15m","JH","Není v databázi"]
["Michael Streit",null,null,"LSC Burg Feuertein",null,"FCC 2021 - Kombi Open",{"$f":"VLOOKUP(F442,Soutez!A:B,2,FALSE)","v":"SK"},{"$f":"VLOOKUP(F442,Soutez!A:C,3,FALSE)","v":2021},1,5592,0.94500000000000006,{"$f":"ROUND(J442/MAX($J$442:$J$459)*10000*0.7+(MAX($I$442:$I$459)-I442)/(MAX($I$442:$I$459)-1)*10000*0.3,0)","v":10000},{"$f":"ROUND(K442*L442,0)","v":9450},null,null,"AS 33 /18m","M","Není v databázi"]
["Miroslaw Izydorczak",null,null,"Warszawa",null,"FCC 2021 - Kombi Open",{"$f":"VLOOKUP(F443,Soutez!A:B,2,FALSE)","v":"SK"},{"$f":"VLOOKUP(F443,Soutez!A:C,3,FALSE)","v":2021},2,5461,0.94500000000000006,9660,{"$f":"ROUND(K443*L443,0)","v":9129},null,null,"JS-1C 21","P","Není v databázi"]
["Radek Krejcirik",{"$f":"VLOOKUP(A444,Pilot,2,0)","v":1991},{"$f":"VLOOKUP(A444,Pilot,5,0)","v":"M"},{"$f":"VLOOKUP(A444,Pilot,3,0)","v":"Hranice"},{"$f":"VLOOKUP(A444,Pilot,4,0)","v":"CZ/M"},"FCC 2021 - Kombi Open",{"$f":"VLOOKUP(F444,Soutez!A:B,2,FALSE)","v":"SK"},{"$f":"VLOOKUP(F444,Soutez!A:C,3,FALSE)","v":2021},3,5181,0.94500000000000006,9133,8631,null,null,"JS1-C 21","ZF",""]
["Andre Weidlich",null,null,"LSV Ruhr-Lenne Iserlohn",null,"FCC 2021 - Kombi Open",{"$f":"VLOOKUP(F445,Soutez!A:B,2,FALSE)","v":"SK"},{"$f":"VLOOKUP(F445,Soutez!A:C,3,FALSE)","v":2021},4,5084,0.94500000000000006,8835,8349,null,null,"Arcus T","YAI","Není v databázi"]
["Joze Verdev",null,null,"Šaleški Aeroklub",null,"FCC 2021 - Kombi Open",{"$f":"VLOOKUP(F446,Soutez!A:B,2,FALSE)","v":"SK"},{"$f":"VLOOKUP(F446,Soutez!A:C,3,FALSE)","v":2021},5,4746,0.94500000000000006,8235,7782,null,null,"JS1-CTJ 18","DZ","Není v databázi"]
["Jakubcak & Sulirova",null,null,null,null,"FCC 2021 - Kombi Open",{"$f":"VLOOKUP(F447,Soutez!A:B,2,FALSE)","v":"SK"},{"$f":"VLOOKUP(F447,Soutez!A:C,3,FALSE)","v":2021},6,4470,0.94500000000000006,7713,7289,null,null,"Arcus M","CAR","Není v databázi"]
["Gintas Zube",null,null,"LT/LAK",null,"FCC 2021 - Kombi Open",{"$f":"VLOOKUP(F448,Soutez!A:B,2,FALSE)","v":"SK"},{"$f":"VLOOKUP(F448,Soutez!A:C,3,FALSE)","v":2021},7,4411,0.94500000000000006,7463,7053,null,null,"ASG-29E /18m","AR",{"$f":"IF(ISERROR(VLOOKUP(A448,Pilot,6,0)),\"Není v databázi\",VLOOKUP(A448,Pilot,6,0))","v":"Není v databázi"}]
["Kollar & Kromka",null,null,"Poprad",null,"FCC 2021 - Kombi Open",{"$f":"VLOOKUP(F449,Soutez!A:B,2,FALSE)","v":"SK"},{"$f":"VLOOKUP(F449,Soutez!A:C,3,FALSE)","v":2021},8,4249,0.94500000000000006,7084,6694,null,null,"Arcus M","TA3","Není v databázi"]
["Gabriela Belakova",null,null,"Prievidza",null,"FCC 2021 - Kombi Open",{"$f":"VLOOKUP(F450,Soutez!A:B,2,FALSE)","v":"SK"},{"$f":"VLOOKUP(F450,Soutez!A:C,3,FALSE)","v":2021},9,3825,0.94500000000000006,6376,6025,null,null,"Discus 2T /18m","EF","Není v databázi"]
["Zsolt Osi",null,null,"ACFH",null,"FCC 2021 - Kombi Open",{"$f":"VLOOKUP(F451,Soutez!A:B,2,FALSE)","v":"SK"},{"$f":"VLOOKUP(F451,Soutez!A:C,3,FALSE)","v":2021},10,3734,0.94500000000000006,6086,5751,null,null,"ASW-22BLE /26,58m (850 kg)","BY","Není v databázi"]
["Dana Novakova",{"$f":"VLOOKUP(A452,Pilot,2,0)","v":1965},{"$f":"VLOOKUP(A452,Pilot,5,0)","v":"F"},{"$f":"VLOOKUP(A452,Pilot,3,0)","v":"Mladá Boleslav"},{"$f":"VLOOKUP(A452,Pilot,4,0)","v":"CZ/C1"},"FCC 2021 - Kombi Open",{"$f":"VLOOKUP(F452,Soutez!A:B,2,FALSE)","v":"SK"},{"$f":"VLOOKUP(F452,Soutez!A:C,3,FALSE)","v":2021},11,3704,0.94500000000000006,5872,{"$f":"ROUND(K452*L452,0)","v":5549},null,null,"ASG-29E /18m","QZ",""]
["Janos Sindely",null,null,"Alfoldi Repülőklub",null,"FCC 2021 - Kombi Open",{"$f":"VLOOKUP(F453,Soutez!A:B,2,FALSE)","v":"SK"},{"$f":"VLOOKUP(F453,Soutez!A:C,3,FALSE)","v":2021},12,3616,0.94500000000000006,5585,5278,null,null,"JS1-C 18","RZ","Není v databázi"]
["Jan Paepke",null,null,"SFC Riesa-Canitz",null,"FCC 2021 - Kombi Open",{"$f":"VLOOKUP(F454,Soutez!A:B,2,FALSE)","v":"SK"},{"$f":"VLOOKUP(F454,Soutez!A:C,3,FALSE)","v":2021},13,3598,0.94500000000000006,5386,5090,null,null,"LAK 17 AT 18m WL","AK","Není v databázi"]
["Szabadfi & Toth",null,null,"Malev",null,"FCC 2021 - Kombi Open",{"$f":"VLOOKUP(F455,Soutez!A:B,2,FALSE)","v":"SK"},{"$f":"VLOOKUP(F455,Soutez!A:C,3,FALSE)","v":2021},14,3295,0.94500000000000006,4831,4565,null,null,"Arcus T","AB","Není v databázi"]
["Pavel Trojan",{"$f":"VLOOKUP(A456,Pilot,2,0)","v":1960},{"$f":"VLOOKUP(A456,Pilot,5,0)","v":"M"},{"$f":"VLOOKUP(A456,Pilot,3,0)","v":"Chrudim"},{"$f":"VLOOKUP(A456,Pilot,4,0)","v":"CZ/C2"},"FCC 2021 - Kombi Open",{"$f":"VLOOKUP(F456,Soutez!A:B,2,FALSE)","v":"SK"},{"$f":"VLOOKUP(F456,Soutez!A:C,3,FALSE)","v":2021},15,3080,0.94500000000000006,4385,4144,"x",null,"DG 808 C Competition WL","MS",""]
["Kapuy & Reti",null,null,"MSE",null,"FCC 2021 - Kombi Open",{"$f":"VLOOKUP(F457,Soutez!A:B,2,FALSE)","v":"SK"},{"$f":"VLOOKUP(F457,Soutez!A:C,3,FALSE)","v":2021},16,2898,0.94500000000000006,3981,3762,null,null,"EB-29D 28,3m","HB","Není v databázi"]
["Jirka & Doupal",null,null,"Zabreh",null,"FCC 2021 - Kombi Open",{"$f":"VLOOKUP(F458,Soutez!A:B,2,FALSE)","v":"SK"},{"$f":"VLOOKUP(F458,Soutez!A:C,3,FALSE)","v":2021},17,2881,0.94500000000000006,3783,3575,null,null,"HpH 304 TS Twin Shark MS (800 kg)",11,"Není v databázi"]
["Lukas Benedikt",null,null,"AK Trnava",null,"FCC 2021 - Kombi Open",{"$f":"VLOOKUP(F459,Soutez!A:B,2,FALSE)","v":"SK"},{"$f":"VLOOKUP(F459,Soutez!A:C,3,FALSE)","v":2021},18,1852,0.94500000000000006,2318,2191,null,null,"Ventus 3 F /18m","LB","Není v databázi"]
["Norbert Karolyi",null,null,"Bratislava",null,"Oldtimer Pribina Star 2021 - Klub",{"$f":"VLOOKUP(F460,Soutez!A:B,2,FALSE)","v":"SK"},{"$f":"VLOOKUP(F460,Soutez!A:C,3,FALSE)","v":2021},1,356,0.75,{"$f":"ROUND(J460/MAX($J$460:$J$481)*10000*0.7+(MAX($I$460:$I$481)-I460)/(MAX($I$460:$I$481)-1)*10000*0.3,0)","v":10000},{"$f":"ROUND(K460*L460,0)","v":7500},null,null,"SZD-36 Cobra","NK","Není v databázi"]
["Vladimir Abraham",{"$f":"VLOOKUP(A461,Pilot,2,0)","v":1962},{"$f":"VLOOKUP(A461,Pilot,5,0)","v":"M"},{"$f":"VLOOKUP(A461,Pilot,3,0)","v":"Raná"},{"$f":"VLOOKUP(A461,Pilot,4,0)","v":"CZ/C2"},"Oldtimer Pribina Star 2021 - Klub",{"$f":"VLOOKUP(F461,Soutez!A:B,2,FALSE)","v":"SK"},{"$f":"VLOOKUP(F461,Soutez!A:C,3,FALSE)","v":2021},2,325,0.75,9248,{"$f":"ROUND(K461*L461,0)","v":6936},"x",null,"KA6cr","YZ",""]
["Juraj Sidor",null,null,"Holíč",null,"Oldtimer Pribina Star 2021 - Klub",{"$f":"VLOOKUP(F462,Soutez!A:B,2,FALSE)","v":"SK"},{"$f":"VLOOKUP(F462,Soutez!A:C,3,FALSE)","v":2021},3,321,0.75,9026,6770,null,null,"Std Cirrus","LX","Není v databázi"]
["Ivana Jurovicova",null,null,"Bratislava",null,"Oldtimer Pribina Star 2021 - Klub",{"$f":"VLOOKUP(F463,Soutez!A:B,2,FALSE)","v":"SK"},{"$f":"VLOOKUP(F463,Soutez!A:C,3,FALSE)","v":2021},4,285,0.75,8175,6131,null,null,"Std Libelle","J3","Není v databázi"]
["Ludovit Homola",null,null,"Bratislava",null,"Oldtimer Pribina Star 2021 - Klub",{"$f":"VLOOKUP(F464,Soutez!A:B,2,FALSE)","v":"SK"},{"$f":"VLOOKUP(F464,Soutez!A:C,3,FALSE)","v":2021},5,271,0.75,7757,5818,null,null,"VSO-10","I5","Není v databázi"]
["Frantisek Ehn",null,null,"Nitra",null,"Oldtimer Pribina Star 2021 - Klub",{"$f":"VLOOKUP(F465,Soutez!A:B,2,FALSE)","v":"SK"},{"$f":"VLOOKUP(F465,Soutez!A:C,3,FALSE)","v":2021},6,269,0.75,7575,5681,null,null,"VSO-10",80,"Není v databázi"]
["Juraj Vysny",null,null,"Senica",null,"Oldtimer Pribina Star 2021 - Klub",{"$f":"VLOOKUP(F466,Soutez!A:B,2,FALSE)","v":"SK"},{"$f":"VLOOKUP(F466,Soutez!A:C,3,FALSE)","v":2021},7,268,0.75,7413,5560,null,null,"303 Mosquito",13,"Není v databázi"]
["Peter Hornak",null,null,"Senica",null,"Oldtimer Pribina Star 2021 - Klub",{"$f":"VLOOKUP(F467,Soutez!A:B,2,FALSE)","v":"SK"},{"$f":"VLOOKUP(F467,Soutez!A:C,3,FALSE)","v":2021},8,263,0.75,7171,5378,null,null,"VSO-10","K6","Není v databázi"]
["Viktor Romancik",null,null,"Bratislava",null,"Oldtimer Pribina Star 2021 - Klub",{"$f":"VLOOKUP(F468,Soutez!A:B,2,FALSE)","v":"SK"},{"$f":"VLOOKUP(F468,Soutez!A:C,3,FALSE)","v":2021},9,252,0.75,6812,5109,null,null,"STD LIBELLE","RR","Není v databázi"]
["Marian Szabo",null,null,"AirSympatia Trenčín",null,"Oldtimer Pribina Star 2021 - Klub",{"$f":"VLOOKUP(F469,Soutez!A:B,2,FALSE)","v":"SK"},{"$f":"VLOOKUP(F469,Soutez!A:C,3,FALSE)","v":2021},10,243,0.75,6492,4869,null,null,"VT-116",84,"Není v databázi"]
["Vaclav Cerny",{"$f":"VLOOKUP(A470,Pilot,2,0)","v":1949},{"$f":"VLOOKUP(A470,Pilot,5,0)","v":"M"},{"$f":"VLOOKUP(A470,Pilot,3,0)","v":"Slaný"},{"$f":"VLOOKUP(A470,Pilot,4,0)","v":"CZ/C1"},"Oldtimer Pribina Star 2021 - Klub",{"$f":"VLOOKUP(F470,Soutez!A:B,2,FALSE)","v":"SK"},{"$f":"VLOOKUP(F470,Soutez!A:C,3,FALSE)","v":2021},11,209,0.75,5681,{"$f":"ROUND(K470*L470,0)","v":4261},"x",null,"SOHAJ_2",null,""]
["Milan Boros",null,null,"Nitra",null,"Oldtimer Pribina Star 2021 - Klub",{"$f":"VLOOKUP(F471,Soutez!A:B,2,FALSE)","v":"SK"},{"$f":"VLOOKUP(F471,Soutez!A:C,3,FALSE)","v":2021},12,207,0.75,5499,4124,null,null,"VSO-10","D5","Není v databázi"]
["Radovan Uhelsky",null,null,"Nové Zámky",null,"Oldtimer Pribina Star 2021 - Klub",{"$f":"VLOOKUP(F472,Soutez!A:B,2,FALSE)","v":"SK"},{"$f":"VLOOKUP(F472,Soutez!A:C,3,FALSE)","v":2021},13,186,0.75,4943,3707,null,null,"VT-16",null,"Není v databázi"]
["Peter Pätoprsty",null,null,"Nitra-fan",null,"Oldtimer Pribina Star 2021 - Klub",{"$f":"VLOOKUP(F473,Soutez!A:B,2,FALSE)","v":"SK"},{"$f":"VLOOKUP(F473,Soutez!A:C,3,FALSE)","v":2021},13,186,0.75,4943,3707,null,null,"ASW 15B","RM","Není v databázi"]
["Ivana Sidorova",null,null,"Holíč",null,"Oldtimer Pribina Star 2021 - Klub",{"$f":"VLOOKUP(F474,Soutez!A:B,2,FALSE)","v":"SK"},{"$f":"VLOOKUP(F474,Soutez!A:C,3,FALSE)","v":2021},15,165,0.75,4244,3183,null,null,"Std Cirrus","NM","Není v databázi"]
["Jaroslav Kares",{"$f":"VLOOKUP(A475,Pilot,2,0)","v":1962},{"$f":"VLOOKUP(A475,Pilot,5,0)","v":"M"},{"$f":"VLOOKUP(A475,Pilot,3,0)","v":"Olomouc"},{"$f":"VLOOKUP(A475,Pilot,4,0)","v":"CZ/M"},"Oldtimer Pribina Star 2021 - Klub",{"$f":"VLOOKUP(F475,Soutez!A:B,2,FALSE)","v":"SK"},{"$f":"VLOOKUP(F475,Soutez!A:C,3,FALSE)","v":2021},16,139,0.75,3590,2693,"x",null,"SF27A",26,""]
["Lucia Uhelska",null,null,"Nové Zámky",null,"Oldtimer Pribina Star 2021 - Klub",{"$f":"VLOOKUP(F476,Soutez!A:B,2,FALSE)","v":"SK"},{"$f":"VLOOKUP(F476,Soutez!A:C,3,FALSE)","v":2021},17,133,0.75,3329,2497,null,null,"VT-116 Orlík 2",null,"Není v databázi"]
["Michal Baxa",null,null,"Nitra",null,"Oldtimer Pribina Star 2021 - Klub",{"$f":"VLOOKUP(F477,Soutez!A:B,2,FALSE)","v":"SK"},{"$f":"VLOOKUP(F477,Soutez!A:C,3,FALSE)","v":2021},18,132,0.75,3167,2375,null,null,"VSO-10","KO","Není v databázi"]
["Peter Fidler",null,null,"Partizánske",null,"Oldtimer Pribina Star 2021 - Klub",{"$f":"VLOOKUP(F478,Soutez!A:B,2,FALSE)","v":"SK"},{"$f":"VLOOKUP(F478,Soutez!A:C,3,FALSE)","v":2021},19,122,0.75,2827,2120,null,null,"Cirrus/Cirrus VTC 17.74","PF","Není v databázi"]
["Ľubos Benďak",null,null,"Nitra",null,"Oldtimer Pribina Star 2021 - Klub",{"$f":"VLOOKUP(F479,Soutez!A:B,2,FALSE)","v":"SK"},{"$f":"VLOOKUP(F479,Soutez!A:C,3,FALSE)","v":2021},20,58,0.75,1426,1070,null,null,"L 13 Blaník",null,"Není v databázi"]
["Jozef Ott",null,null,"Nitra",null,"Oldtimer Pribina Star 2021 - Klub",{"$f":"VLOOKUP(F480,Soutez!A:B,2,FALSE)","v":"SK"},{"$f":"VLOOKUP(F480,Soutez!A:C,3,FALSE)","v":2021},21,35,0.75,831,623,null,null,"Z-23 Honza",null,"Není v databázi"]
["Igor Ott",null,null,"Nitra",null,"Oldtimer Pribina Star 2021 - Klub",{"$f":"VLOOKUP(F481,Soutez!A:B,2,FALSE)","v":"SK"},{"$f":"VLOOKUP(F481,Soutez!A:C,3,FALSE)","v":2021},22,0,0.75,0,0,null,null,"LG-425 Šohaj","N","Není v databázi"]
["Tibor Fratrik",null,null,"SGC Martin",null,"PMSR 2021 - Klub",{"$f":"VLOOKUP(F482,Soutez!A:B,2,FALSE)","v":"SK"},{"$f":"VLOOKUP(F482,Soutez!A:C,3,FALSE)","v":2021},1,7982,0.94500000000000006,{"$f":"ROUND(J482/MAX($J$482:$J$503)*10000*0.7+(MAX($I$482:$I$503)-I482)/(MAX($I$482:$I$503)-1)*10000*0.3,0)","v":10000},{"$f":"ROUND(K482*L482,0)","v":9450},null,null,"Pegase C-101A","OI","Není v databázi"]
["Josef Kozar",null,null,"Martin",null,"PMSR 2021 - Klub",{"$f":"VLOOKUP(F483,Soutez!A:B,2,FALSE)","v":"SK"},{"$f":"VLOOKUP(F483,Soutez!A:C,3,FALSE)","v":2021},2,7867,0.94500000000000006,9756,{"$f":"ROUND(K483*L483,0)","v":9219},null,null,"LS 1 f","MF","Není v databázi"]
["Milan Surovcik Jr.",null,null,"Žilina",null,"PMSR 2021 - Klub",{"$f":"VLOOKUP(F484,Soutez!A:B,2,FALSE)","v":"SK"},{"$f":"VLOOKUP(F484,Soutez!A:C,3,FALSE)","v":2021},3,7754,0.94500000000000006,9514,8991,null,null,"Pegase C-101A","EL","Není v databázi"]
["Michal Lesinger",{"$f":"VLOOKUP(A485,Pilot,2,0)","v":1966},{"$f":"VLOOKUP(A485,Pilot,5,0)","v":"M"},{"$f":"VLOOKUP(A485,Pilot,3,0)","v":"Moravská Třebová"},{"$f":"VLOOKUP(A485,Pilot,4,0)","v":"CZ/M"},"PMSR 2021 - Klub",{"$f":"VLOOKUP(F485,Soutez!A:B,2,FALSE)","v":"SK"},{"$f":"VLOOKUP(F485,Soutez!A:C,3,FALSE)","v":2021},4,7716,0.94500000000000006,9338,8824,null,null,"ASW 19B","LL",""]
["Samuel Posluch",null,null,"Martin",null,"PMSR 2021 - Klub",{"$f":"VLOOKUP(F486,Soutez!A:B,2,FALSE)","v":"SK"},{"$f":"VLOOKUP(F486,Soutez!A:C,3,FALSE)","v":2021},5,7467,0.94500000000000006,8977,{"$f":"ROUND(K486*L486,0)","v":8483},null,null,"LS 4","MA","Není v databázi"]
["Filip Pechac",null,null,"Nitra",null,"PMSR 2021 - Klub",{"$f":"VLOOKUP(F487,Soutez!A:B,2,FALSE)","v":"SK"},{"$f":"VLOOKUP(F487,Soutez!A:C,3,FALSE)","v":2021},6,7452,{"$f":"VLOOKUP(F487,Soutez,12,0)","v":0.94500000000000006},8821,8336,null,null,"Pegase C-101A","J2","Není v databázi"]
["Martin Snirc",null,null,"Nitra",null,"PMSR 2021 - Klub",{"$f":"VLOOKUP(F488,Soutez!A:B,2,FALSE)","v":"SK"},{"$f":"VLOOKUP(F488,Soutez!A:C,3,FALSE)","v":2021},7,7358,0.94500000000000006,8596,8123,null,null,"DG 400/17m",400,"Není v databázi"]
["Martin Sabla",null,null,"AK Sp. Nova Ves",null,"PMSR 2021 - Klub",{"$f":"VLOOKUP(F489,Soutez!A:B,2,FALSE)","v":"SK"},{"$f":"VLOOKUP(F489,Soutez!A:C,3,FALSE)","v":2021},8,7165,0.94500000000000006,8284,7828,null,null,"Std. Cirrus","SA","Není v databázi"]
["Radoslav cagala",null,null,"Nitra",null,"PMSR 2021 - Klub",{"$f":"VLOOKUP(F490,Soutez!A:B,2,FALSE)","v":"SK"},{"$f":"VLOOKUP(F490,Soutez!A:C,3,FALSE)","v":2021},9,7147,0.94500000000000006,8125,7678,null,null,"DG-400/17m","RD","Není v databázi"]
["Tibor Noga",null,null,"SGC Dražkovce",null,"PMSR 2021 - Klub",{"$f":"VLOOKUP(F491,Soutez!A:B,2,FALSE)","v":"SK"},{"$f":"VLOOKUP(F491,Soutez!A:C,3,FALSE)","v":2021},10,7084,0.94500000000000006,7927,7491,null,null,"ASW 19B","A4","Není v databázi"]
["Daniel Smolka",null,null,"Prievidza",null,"PMSR 2021 - Klub",{"$f":"VLOOKUP(F492,Soutez!A:B,2,FALSE)","v":"SK"},{"$f":"VLOOKUP(F492,Soutez!A:C,3,FALSE)","v":2021},11,7012,0.94500000000000006,7721,7296,null,null,"ASW 20","MP","Není v databázi"]
["Jiri Kusbach",{"$f":"VLOOKUP(A493,Pilot,2,0)","v":1959},{"$f":"VLOOKUP(A493,Pilot,5,0)","v":"M"},{"$f":"VLOOKUP(A493,Pilot,3,0)","v":"Luhačovice"},{"$f":"VLOOKUP(A493,Pilot,4,0)","v":"CZ/M"},"PMSR 2021 - Klub",{"$f":"VLOOKUP(F493,Soutez!A:B,2,FALSE)","v":"SK"},{"$f":"VLOOKUP(F493,Soutez!A:C,3,FALSE)","v":2021},12,6922,0.94500000000000006,7499,7087,null,null,"KKB-15FES","B",""]
["Edmund Schuller",null,null,"Lučenec",null,"PMSR 2021 - Klub",{"$f":"VLOOKUP(F494,Soutez!A:B,2,FALSE)","v":"SK"},{"$f":"VLOOKUP(F494,Soutez!A:C,3,FALSE)","v":2021},13,6474,0.94500000000000006,6963,6580,null,null,"ASW 24WL","ZS","Není v databázi"]
["Roman Petro",null,null,"Nitra",null,"PMSR 2021 - Klub",{"$f":"VLOOKUP(F495,Soutez!A:B,2,FALSE)","v":"SK"},{"$f":"VLOOKUP(F495,Soutez!A:C,3,FALSE)","v":2021},14,6323,0.94500000000000006,6688,6320,null,null,"Pegase C-101A",101,"Není v databázi"]
["Simon Siska",null,null,"Martin",null,"PMSR 2021 - Klub",{"$f":"VLOOKUP(F496,Soutez!A:B,2,FALSE)","v":"SK"},{"$f":"VLOOKUP(F496,Soutez!A:C,3,FALSE)","v":2021},15,6212,0.94500000000000006,6448,6093,null,null,"ASW 24WL","CK","Není v databázi"]
["Marek Straka",null,null,"Trenčín",null,"PMSR 2021 - Klub",{"$f":"VLOOKUP(F497,Soutez!A:B,2,FALSE)","v":"SK"},{"$f":"VLOOKUP(F497,Soutez!A:C,3,FALSE)","v":2021},16,4949,0.94500000000000006,5197,4911,null,null,"G 102 Astir Std III",72,"Není v databázi"]
["Juraj Sidor",null,null,"Holíč",null,"PMSR 2021 - Klub",{"$f":"VLOOKUP(F498,Soutez!A:B,2,FALSE)","v":"SK"},{"$f":"VLOOKUP(F498,Soutez!A:C,3,FALSE)","v":2021},17,4769,0.94500000000000006,4897,4628,null,null,"Std. Cirrus","NM","Není v databázi"]
["Juraj Dudas",{"$f":"VLOOKUP(A499,Pilot,2,0)","v":1990},{"$f":"VLOOKUP(A499,Pilot,5,0)","v":"M"},{"$f":"VLOOKUP(A499,Pilot,3,0)","v":"Křižanov"},{"$f":"VLOOKUP(A499,Pilot,4,0)","v":"CZ/M"},"PMSR 2021 - Klub",{"$f":"VLOOKUP(F499,Soutez!A:B,2,FALSE)","v":"SK"},{"$f":"VLOOKUP(F499,Soutez!A:C,3,FALSE)","v":2021},18,3058,0.94500000000000006,3253,3074,"x",null,"Pegase C-101A","ZD",""]
["Laho & Mikula",null,null,"Trnava",null,"PMSR 2021 - Klub",{"$f":"VLOOKUP(F500,Soutez!A:B,2,FALSE)","v":"SK"},{"$f":"VLOOKUP(F500,Soutez!A:C,3,FALSE)","v":2021},19,2468,0.94500000000000006,2593,2450,null,null,"Janus CM FG","T","Není v databázi"]
["Peter Klepac",null,null,"Nitra",null,"PMSR 2021 - Klub",{"$f":"VLOOKUP(F501,Soutez!A:B,2,FALSE)","v":"SK"},{"$f":"VLOOKUP(F501,Soutez!A:C,3,FALSE)","v":2021},20,2273,0.94500000000000006,2279,2154,null,null,"Grob Astir CS G102",78,"Není v databázi"]
["Jozef Dúc",null,null,"Nitra",null,"PMSR 2021 - Klub",{"$f":"VLOOKUP(F502,Soutez!A:B,2,FALSE)","v":"SK"},{"$f":"VLOOKUP(F502,Soutez!A:C,3,FALSE)","v":2021},21,1185,0.94500000000000006,1182,1117,null,null,"Std. Cirrus",99,"Není v databázi"]
["Zdeno Hrcka",null,null,"Trnava",null,"PMSR 2021 - Klub",{"$f":"VLOOKUP(F503,Soutez!A:B,2,FALSE)","v":"SK"},{"$f":"VLOOKUP(F503,Soutez!A:C,3,FALSE)","v":2021},22,880,0.94500000000000006,772,730,null,null,"Pegase C-101A","H","Není v databázi"]
["Miloslav Cink",{"$f":"VLOOKUP(A504,Pilot,2,0)","v":1987},{"$f":"VLOOKUP(A504,Pilot,5,0)","v":"M"},{"$f":"VLOOKUP(A504,Pilot,3,0)","v":"Letkov"},{"$f":"VLOOKUP(A504,Pilot,4,0)","v":"CZ/C1"},"PMSR 2021 - Kombi 15m",{"$f":"VLOOKUP(F504,Soutez!A:B,2,FALSE)","v":"SK"},{"$f":"VLOOKUP(F504,Soutez!A:C,3,FALSE)","v":2021},1,7976,{"$f":"VLOOKUP(F504,Soutez,12,0)","v":0.96500000000000008},{"$f":"ROUND(J504/MAX($J$504:$J$514)*10000*0.7+(MAX($I$504:$I$514)-I504)/(MAX($I$504:$I$514)-1)*10000*0.3,0)","v":10000},{"$f":"ROUND(K504*L504,0)","v":9650},"x",null,"LS 8b","JB",""]
["Pavel Louzecky",1957,"M","Přibyslav","CZ/C2","PMSR 2021 - Kombi 15m",{"$f":"VLOOKUP(F505,Soutez!A:B,2,FALSE)","v":"SK"},{"$f":"VLOOKUP(F505,Soutez!A:C,3,FALSE)","v":2021},2,7431,0.96500000000000008,9222,{"$f":"ROUND(K505*L505,0)","v":8899},null,null,"LS 8","FX",""]
["Tibor Arpas",null,null,"Nitra",null,"PMSR 2021 - Kombi 15m",{"$f":"VLOOKUP(F506,Soutez!A:B,2,FALSE)","v":"SK"},{"$f":"VLOOKUP(F506,Soutez!A:C,3,FALSE)","v":2021},3,6793,0.96500000000000008,8362,8069,null,null,"LS 8t/15m","HM","Není v databázi"]
["Maros Divok",null,null,"Spišská Nová Ves",null,"PMSR 2021 - Kombi 15m",{"$f":"VLOOKUP(F507,Soutez!A:B,2,FALSE)","v":"SK"},{"$f":"VLOOKUP(F507,Soutez!A:C,3,FALSE)","v":2021},4,6739,0.96500000000000008,8014,7734,null,null,"Discus 2b","DI","Není v databázi"]
["Viktória Divokova",null,null,"Spišská Nová Ves",null,"PMSR 2021 - Kombi 15m",{"$f":"VLOOKUP(F508,Soutez!A:B,2,FALSE)","v":"SK"},{"$f":"VLOOKUP(F508,Soutez!A:C,3,FALSE)","v":2021},5,6667,0.96500000000000008,7651,7383,null,null,"LS 8","SI","Není v databázi"]
["Karel Novak",{"$f":"VLOOKUP(A509,Pilot,2,0)","v":1993},{"$f":"VLOOKUP(A509,Pilot,5,0)","v":"M"},{"$f":"VLOOKUP(A509,Pilot,3,0)","v":"Mladá Boleslav"},{"$f":"VLOOKUP(A509,Pilot,4,0)","v":"CZ/C1"},"PMSR 2021 - Kombi 15m",{"$f":"VLOOKUP(F509,Soutez!A:B,2,FALSE)","v":"SK"},{"$f":"VLOOKUP(F509,Soutez!A:C,3,FALSE)","v":2021},6,6514,0.96500000000000008,7217,6964,null,null,"JS 3/15m","XM",{"$f":"IF(ISERROR(VLOOKUP(A509,Pilot,6,0)),\"Není v databázi\",VLOOKUP(A509,Pilot,6,0))","v":""}]
["Peter Janoska",null,null,"Nitra",null,"PMSR 2021 - Kombi 15m",{"$f":"VLOOKUP(F510,Soutez!A:B,2,FALSE)","v":"SK"},{"$f":"VLOOKUP(F510,Soutez!A:C,3,FALSE)","v":2021},7,6436,0.96500000000000008,6848,6608,null,null,"LS 6c/15m","N6","Není v databázi"]
["Dominik Jancik",null,null,"Nitra",null,"PMSR 2021 - Kombi 15m",{"$f":"VLOOKUP(F511,Soutez!A:B,2,FALSE)","v":"SK"},{"$f":"VLOOKUP(F511,Soutez!A:C,3,FALSE)","v":2021},8,6371,0.96500000000000008,6491,{"$f":"ROUND(K511*L511,0)","v":6264},null,null,"Ventus 2b","VI","Není v databázi"]
["Dana Novakova",{"$f":"VLOOKUP(A512,Pilot,2,0)","v":1965},{"$f":"VLOOKUP(A512,Pilot,5,0)","v":"F"},{"$f":"VLOOKUP(A512,Pilot,3,0)","v":"Mladá Boleslav"},{"$f":"VLOOKUP(A512,Pilot,4,0)","v":"CZ/C1"},"PMSR 2021 - Kombi 15m",{"$f":"VLOOKUP(F512,Soutez!A:B,2,FALSE)","v":"SK"},{"$f":"VLOOKUP(F512,Soutez!A:C,3,FALSE)","v":2021},9,5966,0.96500000000000008,5836,5632,null,null,"LS 8/15m","AU",""]
["Jana Treslova",1963,"F","Raná","CZ/C2","PMSR 2021 - Kombi 15m",{"$f":"VLOOKUP(F513,Soutez!A:B,2,FALSE)","v":"SK"},{"$f":"VLOOKUP(F513,Soutez!A:C,3,FALSE)","v":2021},10,5910,0.96500000000000008,5487,5295,null,null,"Ventus 2ax","AX",""]
["Milos Mach",null,null,"Nové Zámky",null,"PMSR 2021 - Kombi 15m",{"$f":"VLOOKUP(F514,Soutez!A:B,2,FALSE)","v":"SK"},{"$f":"VLOOKUP(F514,Soutez!A:C,3,FALSE)","v":2021},11,2406,0.96500000000000008,2112,2038,null,null,"Discus 2c/15m","JH","Není v databázi"]
["Radek Krejcirik",{"$f":"VLOOKUP(A515,Pilot,2,0)","v":1991},{"$f":"VLOOKUP(A515,Pilot,5,0)","v":"M"},{"$f":"VLOOKUP(A515,Pilot,3,0)","v":"Hranice"},{"$f":"VLOOKUP(A515,Pilot,4,0)","v":"CZ/M"},"PMSR 2021 - Kombi Open",{"$f":"VLOOKUP(F515,Soutez!A:B,2,FALSE)","v":"SK"},{"$f":"VLOOKUP(F515,Soutez!A:C,3,FALSE)","v":2021},1,7507,{"$f":"VLOOKUP(F515,Soutez,12,0)","v":0.95000000000000007},{"$f":"ROUND(J515/MAX($J$515:$J$537)*10000*0.7+(MAX($I$515:$I$537)-I515)/(MAX($I$515:$I$537)-1)*10000*0.3,0)","v":10000},{"$f":"ROUND(K515*L515,0)","v":9500},null,null,"JS1-C 21 EVO","ZF",""]
["Pavol Cerny",null,null,"SGC Martin",null,"PMSR 2021 - Kombi Open",{"$f":"VLOOKUP(F516,Soutez!A:B,2,FALSE)","v":"SK"},{"$f":"VLOOKUP(F516,Soutez!A:C,3,FALSE)","v":2021},2,7138,0.95000000000000007,9520,{"$f":"ROUND(K516*L516,0)","v":9044},null,null,"Shark 304MS","EP","Není v databázi"]
["Branislav Jesensky",null,null,"SGC Dražkovce",null,"PMSR 2021 - Kombi Open",{"$f":"VLOOKUP(F517,Soutez!A:B,2,FALSE)","v":"SK"},{"$f":"VLOOKUP(F517,Soutez!A:C,3,FALSE)","v":2021},3,6828,0.95000000000000007,9094,8639,null,null,"Ventus 2cxt/18m","J","Není v databázi"]
["Viliam Kubovcik",null,null,"AK Poprad",null,"PMSR 2021 - Kombi Open",{"$f":"VLOOKUP(F518,Soutez!A:B,2,FALSE)","v":"SK"},{"$f":"VLOOKUP(F518,Soutez!A:C,3,FALSE)","v":2021},4,6735,0.95000000000000007,8871,8427,null,null,"Ventus 2cxt/18m","W","Není v databázi"]
["Petr Krejcirik",{"$f":"VLOOKUP(A519,Pilot,2,0)","v":1960},{"$f":"VLOOKUP(A519,Pilot,5,0)","v":"M"},{"$f":"VLOOKUP(A519,Pilot,3,0)","v":"Hranice"},{"$f":"VLOOKUP(A519,Pilot,4,0)","v":"CZ/M"},"PMSR 2021 - Kombi Open",{"$f":"VLOOKUP(F519,Soutez!A:B,2,FALSE)","v":"SK"},{"$f":"VLOOKUP(F519,Soutez!A:C,3,FALSE)","v":2021},5,6506,0.95000000000000007,8521,8095,null,null,"JS3/18m","VB",""]
["Ondrej Bordovsky",1983,"M","Krnov","CZ/M","PMSR 2021 - Kombi Open",{"$f":"VLOOKUP(F520,Soutez!A:B,2,FALSE)","v":"SK"},{"$f":"VLOOKUP(F520,Soutez!A:C,3,FALSE)","v":2021},6,6400,0.95000000000000007,8286,7872,null,null,"Ventus c/17,6m","AD",""]
["Vladimir Foltin",null,null,"Nitra",null,"PMSR 2021 - Kombi Open",{"$f":"VLOOKUP(F521,Soutez!A:B,2,FALSE)","v":"SK"},{"$f":"VLOOKUP(F521,Soutez!A:C,3,FALSE)","v":2021},7,6378,0.95000000000000007,8129,7723,null,null,"JS3/18m",3,"Není v databázi"]
["Petr Hotovy",{"$f":"VLOOKUP(A522,Pilot,2,0)","v":1958},{"$f":"VLOOKUP(A522,Pilot,5,0)","v":"M"},{"$f":"VLOOKUP(A522,Pilot,3,0)","v":"Česká Lípa"},{"$f":"VLOOKUP(A522,Pilot,4,0)","v":"CZ/C2"},"PMSR 2021 - Kombi Open",{"$f":"VLOOKUP(F522,Soutez!A:B,2,FALSE)","v":"SK"},{"$f":"VLOOKUP(F522,Soutez!A:C,3,FALSE)","v":2021},8,6368,0.95000000000000007,7983,7584,null,null,"JS1-B 18m","IGC",""]
["Eduard Niko",1988,"M","Zbraslavice","CZ/C1","PMSR 2021 - Kombi Open",{"$f":"VLOOKUP(F523,Soutez!A:B,2,FALSE)","v":"SK"},{"$f":"VLOOKUP(F523,Soutez!A:C,3,FALSE)","v":2021},9,5878,0.95000000000000007,7390,7021,"x",null,"Discus 2cT/18m","AE",""]
["Jan Divok",null,null,"Spišská Nová Ves",null,"PMSR 2021 - Kombi Open",{"$f":"VLOOKUP(F524,Soutez!A:B,2,FALSE)","v":"SK"},{"$f":"VLOOKUP(F524,Soutez!A:C,3,FALSE)","v":2021},10,5410,0.95000000000000007,6817,6476,null,null,"Discus 2cT/18m","DJ","Není v databázi"]
["Ivan Novak",{"$f":"VLOOKUP(A525,Pilot,2,0)","v":1962},{"$f":"VLOOKUP(A525,Pilot,5,0)","v":"M"},{"$f":"VLOOKUP(A525,Pilot,3,0)","v":"Mladá Boleslav"},{"$f":"VLOOKUP(A525,Pilot,4,0)","v":"CZ/C1"},"PMSR 2021 - Kombi Open",{"$f":"VLOOKUP(F525,Soutez!A:B,2,FALSE)","v":"SK"},{"$f":"VLOOKUP(F525,Soutez!A:C,3,FALSE)","v":2021},11,5351,0.95000000000000007,6626,6295,null,null,"ASG-29/18m","QZ",""]
["Jan Kovalcik",null,null,"Bratislava",null,"PMSR 2021 - Kombi Open",{"$f":"VLOOKUP(F526,Soutez!A:B,2,FALSE)","v":"SK"},{"$f":"VLOOKUP(F526,Soutez!A:C,3,FALSE)","v":2021},12,5315,0.95000000000000007,6456,6133,null,null,"Discus 2c FES/18m","ZI","Není v databázi"]
["Peter Pokorny",null,null,"Bratislava",null,"PMSR 2021 - Kombi Open",{"$f":"VLOOKUP(F527,Soutez!A:B,2,FALSE)","v":"SK"},{"$f":"VLOOKUP(F527,Soutez!A:C,3,FALSE)","v":2021},13,5301,0.95000000000000007,6307,5992,null,null,"ASG 29E/18m","9E","Není v databázi"]
["Tomas Bobok",null,null,"Prievidza",null,"PMSR 2021 - Kombi Open",{"$f":"VLOOKUP(F528,Soutez!A:B,2,FALSE)","v":"SK"},{"$f":"VLOOKUP(F528,Soutez!A:C,3,FALSE)","v":2021},14,5143,0.95000000000000007,6023,5722,null,null,"Discus 2cT/18m","AL","Není v databázi"]
["Jakubcak & Kollar",null,null,"SGC Dražkovce",null,"PMSR 2021 - Kombi Open",{"$f":"VLOOKUP(F529,Soutez!A:B,2,FALSE)","v":"SK"},{"$f":"VLOOKUP(F529,Soutez!A:C,3,FALSE)","v":2021},15,4880,0.95000000000000007,5641,5359,null,null,"Arcus M","CAR","Není v databázi"]
["Gabriela Belakova",null,null,"Prievidza",null,"PMSR 2021 - Kombi Open",{"$f":"VLOOKUP(F530,Soutez!A:B,2,FALSE)","v":"SK"},{"$f":"VLOOKUP(F530,Soutez!A:C,3,FALSE)","v":2021},16,4758,0.95000000000000007,5391,{"$f":"ROUND(K530*L530,0)","v":5121},null,null,"Discus 2cT/18m","EF","Není v databázi"]
["Sitar & Hornak",null,null,"Prievidza",null,"PMSR 2021 - Kombi Open",{"$f":"VLOOKUP(F531,Soutez!A:B,2,FALSE)","v":"SK"},{"$f":"VLOOKUP(F531,Soutez!A:C,3,FALSE)","v":2021},17,4417,0.95000000000000007,4937,4690,null,null,"Duo Discus","DUO","Není v databázi"]
["Milan Lojdl",null,null,"Martin",null,"PMSR 2021 - Kombi Open",{"$f":"VLOOKUP(F532,Soutez!A:B,2,FALSE)","v":"SK"},{"$f":"VLOOKUP(F532,Soutez!A:C,3,FALSE)","v":2021},18,3608,0.95000000000000007,4046,3844,null,null,"Ventus 2cx/18m","MJ1","Není v databázi"]
["Jurovic & Manka",null,null,"Bratislava",null,"PMSR 2021 - Kombi Open",{"$f":"VLOOKUP(F533,Soutez!A:B,2,FALSE)","v":"SK"},{"$f":"VLOOKUP(F533,Soutez!A:C,3,FALSE)","v":2021},19,2730,0.95000000000000007,3091,2936,null,null,"Duo Discus","2X","Není v databázi"]
["Hupka & Sadovsky",null,null,"Nitra",null,"PMSR 2021 - Kombi Open",{"$f":"VLOOKUP(F534,Soutez!A:B,2,FALSE)","v":"SK"},{"$f":"VLOOKUP(F534,Soutez!A:C,3,FALSE)","v":2021},20,2670,0.95000000000000007,2899,2754,null,null,"DG 1000T/20m","NIT","Není v databázi"]
["Lubomir Doupal",{"$f":"VLOOKUP(A535,Pilot,2,0)","v":1975},{"$f":"VLOOKUP(A535,Pilot,5,0)","v":"M"},{"$f":"VLOOKUP(A535,Pilot,3,0)","v":"Kroměříž"},{"$f":"VLOOKUP(A535,Pilot,4,0)","v":"CZ/M"},"PMSR 2021 - Kombi Open",{"$f":"VLOOKUP(F535,Soutez!A:B,2,FALSE)","v":"SK"},{"$f":"VLOOKUP(F535,Soutez!A:C,3,FALSE)","v":2021},21,2619,0.95000000000000007,2715,2579,null,null,"Ventus 2cxm/18m","LD",""]
["Peter Abonyi",null,null,"Ružomberok",null,"PMSR 2021 - Kombi Open",{"$f":"VLOOKUP(F536,Soutez!A:B,2,FALSE)","v":"SK"},{"$f":"VLOOKUP(F536,Soutez!A:C,3,FALSE)","v":2021},22,1954,0.95000000000000007,1958,1860,null,null,"Ventus c/17,6m","PA","Není v databázi"]
["Lukas Benedikt",null,null,"AK Trnava",null,"PMSR 2021 - Kombi Open",{"$f":"VLOOKUP(F537,Soutez!A:B,2,FALSE)","v":"SK"},{"$f":"VLOOKUP(F537,Soutez!A:C,3,FALSE)","v":2021},23,1877,0.95000000000000007,1750,1663,null,null,"Ventus 3 FES/18m","LB","Není v databázi"]
["Finn Sleigh",null,null,"United Kingdom",null,"JWGC 2021 - Klub",{"$f":"VLOOKUP(F538,Soutez!A:B,2,FALSE)","v":"LT"},{"$f":"VLOOKUP(F538,Soutez!A:C,3,FALSE)","v":2021},1,5341,{"$f":"VLOOKUP(F538,Soutez,12,0)","v":1.0399999999999998},{"$f":"ROUND(J538/MAX($J$538:$J$564)*10000*0.7+(MAX($I$538:$I$564)-I538)/(MAX($I$538:$I$564)-1)*10000*0.3,0)","v":10000},{"$f":"ROUND(K538*L538,0)","v":10400},null,null,"ASW-20",5,"Není v databázi"]
["Lasse Edslev",null,null,"Denmark",null,"JWGC 2021 - Klub",{"$f":"VLOOKUP(F539,Soutez!A:B,2,FALSE)","v":"LT"},{"$f":"VLOOKUP(F539,Soutez!A:C,3,FALSE)","v":2021},1,5341,1.0399999999999998,10000,{"$f":"ROUND(K539*L539,0)","v":10400},null,null,"LS-4a WL","LE","Není v databázi"]
["Nils Fecker",null,null,"Germany",null,"JWGC 2021 - Klub",{"$f":"VLOOKUP(F540,Soutez!A:B,2,FALSE)","v":"LT"},{"$f":"VLOOKUP(F540,Soutez!A:C,3,FALSE)","v":2021},3,5329,1.0399999999999998,9754,10144,null,null,"LS-4b","2W","Není v databázi"]
["Lars Van Breemen",null,null,"Netherlands",null,"JWGC 2021 - Klub",{"$f":"VLOOKUP(F541,Soutez!A:B,2,FALSE)","v":"LT"},{"$f":"VLOOKUP(F541,Soutez!A:C,3,FALSE)","v":2021},4,5256,1.0399999999999998,9542,9924,null,null,"LS-4 neo","S4","Není v databázi"]
["Simon van den Eijkel",null,null,"Netherlands",null,"JWGC 2021 - Klub",{"$f":"VLOOKUP(F542,Soutez!A:B,2,FALSE)","v":"LT"},{"$f":"VLOOKUP(F542,Soutez!A:C,3,FALSE)","v":2021},5,5200,1.0399999999999998,9354,9728,null,null,"LS-4","AU","Není v databázi"]
["Jelmer Vis",null,null,"Netherlands",null,"JWGC 2021 - Klub",{"$f":"VLOOKUP(F543,Soutez!A:B,2,FALSE)","v":"LT"},{"$f":"VLOOKUP(F543,Soutez!A:C,3,FALSE)","v":2021},6,5139,1.0399999999999998,9158,9524,null,null,"LS-4a","VIS","Není v databázi"]
["Toby Freeland",null,null,"United Kingdom",null,"JWGC 2021 - Klub",{"$f":"VLOOKUP(F544,Soutez!A:B,2,FALSE)","v":"LT"},{"$f":"VLOOKUP(F544,Soutez!A:C,3,FALSE)","v":2021},7,5112,1.0399999999999998,9008,9368,null,null,"ASW-20",212,"Není v databázi"]
["Tobias Pachowsky",null,null,"Germany",null,"JWGC 2021 - Klub",{"$f":"VLOOKUP(F545,Soutez!A:B,2,FALSE)","v":"LT"},{"$f":"VLOOKUP(F545,Soutez!A:C,3,FALSE)","v":2021},8,5089,1.0399999999999998,8862,9216,null,null,"LS-4a","IGP","Není v databázi"]
["Tereza Koubkova",{"$f":"VLOOKUP(A546,Pilot,2,0)","v":1999},{"$f":"VLOOKUP(A546,Pilot,5,0)","v":"F"},{"$f":"VLOOKUP(A546,Pilot,3,0)","v":"Vysoké Mýto"},{"$f":"VLOOKUP(A546,Pilot,4,0)","v":"CZ/C2"},"JWGC 2021 - Klub",{"$f":"VLOOKUP(F546,Soutez!A:B,2,FALSE)","v":"LT"},{"$f":"VLOOKUP(F546,Soutez!A:C,3,FALSE)","v":2021},9,5069,1.0399999999999998,8720,9069,"x","x","LS-4b","IX","Junior v roce 2024"]
["Markus Uhlig",null,null,"Germany",null,"JWGC 2021 - Klub",{"$f":"VLOOKUP(F547,Soutez!A:B,2,FALSE)","v":"LT"},{"$f":"VLOOKUP(F547,Soutez!A:C,3,FALSE)","v":2021},10,4988,1.0399999999999998,8499,8839,null,null,"Jantar Std. 3 WL","M4","Není v databázi"]
["Ivan Tvrdik",{"$f":"VLOOKUP(A548,Pilot,2,0)","v":1997},{"$f":"VLOOKUP(A548,Pilot,5,0)","v":"M"},{"$f":"VLOOKUP(A548,Pilot,3,0)","v":"Letňany"},{"$f":"VLOOKUP(A548,Pilot,4,0)","v":"CZ/C1"},"JWGC 2021 - Klub",{"$f":"VLOOKUP(F548,Soutez!A:B,2,FALSE)","v":"LT"},{"$f":"VLOOKUP(F548,Soutez!A:C,3,FALSE)","v":2021},11,4983,1.0399999999999998,8377,8712,"x",null,"ASW-19b","KZ",""]
["Milan Surovcik",null,null,"Slovakia",null,"JWGC 2021 - Klub",{"$f":"VLOOKUP(F549,Soutez!A:B,2,FALSE)","v":"LT"},{"$f":"VLOOKUP(F549,Soutez!A:C,3,FALSE)","v":2021},12,4918,1.0399999999999998,8176,{"$f":"ROUND(K549*L549,0)","v":8503},null,null,"Pegase 101A","EL","Není v databázi"]
["Wiktor Łaciński",null,null,"Poland",null,"JWGC 2021 - Klub",{"$f":"VLOOKUP(F550,Soutez!A:B,2,FALSE)","v":"LT"},{"$f":"VLOOKUP(F550,Soutez!A:C,3,FALSE)","v":2021},13,4871,1.0399999999999998,7999,8319,null,null,"SZD-48-3M Bravo","BI","Není v databázi"]
["Michaela Krizova",{"$f":"VLOOKUP(A551,Pilot,2,0)","v":2001},{"$f":"VLOOKUP(A551,Pilot,5,0)","v":"F"},{"$f":"VLOOKUP(A551,Pilot,3,0)","v":"Přibyslav"},{"$f":"VLOOKUP(A551,Pilot,4,0)","v":"CZ/C2"},"JWGC 2021 - Klub",{"$f":"VLOOKUP(F551,Soutez!A:B,2,FALSE)","v":"LT"},{"$f":"VLOOKUP(F551,Soutez!A:C,3,FALSE)","v":2021},14,4822,1.0399999999999998,7820,8133,"x","x","LS-4b","6L","Junior v roce 2024"]
["Tudor Ionut",null,null,"Romania",null,"JWGC 2021 - Klub",{"$f":"VLOOKUP(F552,Soutez!A:B,2,FALSE)","v":"LT"},{"$f":"VLOOKUP(F552,Soutez!A:C,3,FALSE)","v":2021},15,4808,1.0399999999999998,7686,7993,null,null,"Jantar Std.","YE","Není v databázi"]
["Samuel Posluch",null,null,"Slovakia",null,"JWGC 2021 - Klub",{"$f":"VLOOKUP(F553,Soutez!A:B,2,FALSE)","v":"LT"},{"$f":"VLOOKUP(F553,Soutez!A:C,3,FALSE)","v":2021},16,4759,1.0399999999999998,7506,7806,null,null,"LS-4","MA","Není v databázi"]
["Jokūbas Motūza",null,null,"Lithuania",null,"JWGC 2021 - Klub",{"$f":"VLOOKUP(F554,Soutez!A:B,2,FALSE)","v":"LT"},{"$f":"VLOOKUP(F554,Soutez!A:C,3,FALSE)","v":2021},17,4676,1.0399999999999998,7282,7573,null,null,"Jantar Std.","JM","Není v databázi"]
["Maciej Kowalski",null,null,"Poland",null,"JWGC 2021 - Klub",{"$f":"VLOOKUP(F555,Soutez!A:B,2,FALSE)","v":"LT"},{"$f":"VLOOKUP(F555,Soutez!A:C,3,FALSE)","v":2021},18,4661,1.0399999999999998,7147,7433,null,null,"Jantar Std. 3","SO","Není v databázi"]
["Simon Siska",null,null,"Slovakia",null,"JWGC 2021 - Klub",{"$f":"VLOOKUP(F556,Soutez!A:B,2,FALSE)","v":"LT"},{"$f":"VLOOKUP(F556,Soutez!A:C,3,FALSE)","v":2021},19,4611,1.0399999999999998,6966,7245,null,null,"ASW-24b","CK","Není v databázi"]
["Karol Snapko",null,null,"Poland",null,"JWGC 2021 - Klub",{"$f":"VLOOKUP(F557,Soutez!A:B,2,FALSE)","v":"LT"},{"$f":"VLOOKUP(F557,Soutez!A:C,3,FALSE)","v":2021},20,4524,1.0399999999999998,6737,7006,null,null,"SZD-48-3M Bravo","BZ","Není v databázi"]
["Kim Toppari",null,null,"Finland",null,"JWGC 2021 - Klub",{"$f":"VLOOKUP(F558,Soutez!A:B,2,FALSE)","v":"LT"},{"$f":"VLOOKUP(F558,Soutez!A:C,3,FALSE)","v":2021},21,4468,1.0399999999999998,6548,6810,null,null,"LS-7","HV","Není v databázi"]
["Emil Dalboe-Pedersen",null,null,"Denmark",null,"JWGC 2021 - Klub",{"$f":"VLOOKUP(F559,Soutez!A:B,2,FALSE)","v":"LT"},{"$f":"VLOOKUP(F559,Soutez!A:C,3,FALSE)","v":2021},22,4447,1.0399999999999998,6405,6661,null,null,"LS-4","NE","Není v databázi"]
["Robert Alin Simion",null,null,"Romania",null,"JWGC 2021 - Klub",{"$f":"VLOOKUP(F560,Soutez!A:B,2,FALSE)","v":"LT"},{"$f":"VLOOKUP(F560,Soutez!A:C,3,FALSE)","v":2021},23,4323,1.0399999999999998,6127,6372,null,null,"Jantar Std. 2","YD","Není v databázi"]
["Titas Jovaisa",null,null,"Lithuania",null,"JWGC 2021 - Klub",{"$f":"VLOOKUP(F561,Soutez!A:B,2,FALSE)","v":"LT"},{"$f":"VLOOKUP(F561,Soutez!A:C,3,FALSE)","v":2021},24,4253,1.0399999999999998,5920,6157,null,null,"Jantar Std. 3","L","Není v databázi"]
["aron Érseki",null,null,"Hungary",null,"JWGC 2021 - Klub",{"$f":"VLOOKUP(F562,Soutez!A:B,2,FALSE)","v":"LT"},{"$f":"VLOOKUP(F562,Soutez!A:C,3,FALSE)","v":2021},25,3909,1.0399999999999998,5354,5568,null,null,"LS-1f","V2","Není v databázi"]
["Jens Andersen",null,null,"Denmark",null,"JWGC 2021 - Klub",{"$f":"VLOOKUP(F563,Soutez!A:B,2,FALSE)","v":"LT"},{"$f":"VLOOKUP(F563,Soutez!A:C,3,FALSE)","v":2021},26,3525,1.0399999999999998,4735,4924,null,null,"LS-4","PLU","Není v databázi"]
["Mikko Ylihärsilä",null,null,"Finland",null,"JWGC 2021 - Klub",{"$f":"VLOOKUP(F564,Soutez!A:B,2,FALSE)","v":"LT"},{"$f":"VLOOKUP(F564,Soutez!A:C,3,FALSE)","v":2021},27,3167,1.0399999999999998,4151,4317,null,null,"LS-7","GE","Není v databázi"]
["Simon Briel",null,null,"Germany",null,"JWGC 2021 - Std",{"$f":"VLOOKUP(F565,Soutez!A:B,2,FALSE)","v":"LT"},{"$f":"VLOOKUP(F565,Soutez!A:C,3,FALSE)","v":2021},1,4893,{"$f":"VLOOKUP(F565,Soutez,12,0)","v":1.03},{"$f":"ROUND(J565/MAX($J$565:$J$581)*10000*0.7+(MAX($I$565:$I$581)-I565)/(MAX($I$565:$I$581)-1)*10000*0.3,0)","v":10000},{"$f":"ROUND(K565*L565,0)","v":10300},null,null,"Discus 2a","SB","Není v databázi"]
["Thomas Pavis",null,null,"United Kingdom",null,"JWGC 2021 - Std",{"$f":"VLOOKUP(F566,Soutez!A:B,2,FALSE)","v":"LT"},{"$f":"VLOOKUP(F566,Soutez!A:C,3,FALSE)","v":2021},2,4792,1.03,{"$f":"ROUND(J566/MAX($J$565:$J$581)*10000*0.7+(MAX($I$565:$I$581)-I566)/(MAX($I$565:$I$581)-1)*10000*0.3,0)","v":9668},{"$f":"ROUND(K566*L566,0)","v":9958},null,null,"Discus 2a",235,"Není v databázi"]
["Henry Inigo-Jones",null,null,"United Kingdom",null,"JWGC 2021 - Std",{"$f":"VLOOKUP(F567,Soutez!A:B,2,FALSE)","v":"LT"},{"$f":"VLOOKUP(F567,Soutez!A:C,3,FALSE)","v":2021},3,4776,1.03,9458,9742,null,null,"LS-8",95,"Není v databázi"]
["Jaromir Macoun",{"$f":"VLOOKUP(A568,Pilot,2,0)","v":1999},{"$f":"VLOOKUP(A568,Pilot,5,0)","v":"M"},{"$f":"VLOOKUP(A568,Pilot,3,0)","v":"Jičín"},{"$f":"VLOOKUP(A568,Pilot,4,0)","v":"CZ/C2"},"JWGC 2021 - Std",{"$f":"VLOOKUP(F568,Soutez!A:B,2,FALSE)","v":"LT"},{"$f":"VLOOKUP(F568,Soutez!A:C,3,FALSE)","v":2021},4,4712,1.03,9179,9454,"x",null,"LS-8","W8","Junior v roce 2024"]
["Jan Zapletal",1997,"M","Břeclav","CZ/M","JWGC 2021 - Std",{"$f":"VLOOKUP(F569,Soutez!A:B,2,FALSE)","v":"LT"},{"$f":"VLOOKUP(F569,Soutez!A:C,3,FALSE)","v":2021},5,4640,1.03,8888,9155,null,null,"LS-8","JS",""]
["Vit Morkovsky",2000,"M","Polička","CZ/C2","JWGC 2021 - Std",{"$f":"VLOOKUP(F570,Soutez!A:B,2,FALSE)","v":"LT"},{"$f":"VLOOKUP(F570,Soutez!A:C,3,FALSE)","v":2021},6,4595,1.03,8636,8895,"x",null,"Discus 2a","GX",{"$f":"IF(ISERROR(VLOOKUP(A570,Pilot,6,0)),\"Není v databázi\",VLOOKUP(A570,Pilot,6,0))","v":"Junior v roce 2024"}]
["Jacob Bøgelund Lassen",null,null,"Denmark",null,"JWGC 2021 - Std",{"$f":"VLOOKUP(F571,Soutez!A:B,2,FALSE)","v":"LT"},{"$f":"VLOOKUP(F571,Soutez!A:C,3,FALSE)","v":2021},7,4564,1.03,8404,8656,null,null,"Discus 2a","MK","Není v databázi"]
["Johannes Dibbern",null,null,"Germany",null,"JWGC 2021 - Std",{"$f":"VLOOKUP(F572,Soutez!A:B,2,FALSE)","v":"LT"},{"$f":"VLOOKUP(F572,Soutez!A:C,3,FALSE)","v":2021},8,4442,1.03,8042,8283,null,null,"LS-8 neo","S1","Není v databázi"]
["Philipp Lauer",null,null,"Germany",null,"JWGC 2021 - Std",{"$f":"VLOOKUP(F573,Soutez!A:B,2,FALSE)","v":"LT"},{"$f":"VLOOKUP(F573,Soutez!A:C,3,FALSE)","v":2021},9,4226,1.03,7546,7772,null,null,"LS-8 neo","GP","Není v databázi"]
["Nuutti Luukkonen",null,null,"Finland",null,"JWGC 2021 - Std",{"$f":"VLOOKUP(F574,Soutez!A:B,2,FALSE)","v":"LT"},{"$f":"VLOOKUP(F574,Soutez!A:C,3,FALSE)","v":2021},10,3940,1.03,6949,7157,null,null,"LS-8","HY","Není v databázi"]
["Mark van den Ham",null,null,"Netherlands",null,"JWGC 2021 - Std",{"$f":"VLOOKUP(F575,Soutez!A:B,2,FALSE)","v":"LT"},{"$f":"VLOOKUP(F575,Soutez!A:C,3,FALSE)","v":2021},11,3803,1.03,6566,6763,null,null,"LS-8","XK","Není v databázi"]
["Mathias Valentin Christiansen",null,null,"Denmark",null,"JWGC 2021 - Std",{"$f":"VLOOKUP(F576,Soutez!A:B,2,FALSE)","v":"LT"},{"$f":"VLOOKUP(F576,Soutez!A:C,3,FALSE)","v":2021},12,3728,1.03,6271,6459,null,null,"LS-8","LS8","Není v databázi"]
["Wiktor Czubski",null,null,"Poland",null,"JWGC 2021 - Std",{"$f":"VLOOKUP(F577,Soutez!A:B,2,FALSE)","v":"LT"},{"$f":"VLOOKUP(F577,Soutez!A:C,3,FALSE)","v":2021},13,3664,1.03,5992,6172,null,null,"LS-8","LOT","Není v databázi"]
["Nick Faber",null,null,"Netherlands",null,"JWGC 2021 - Std",{"$f":"VLOOKUP(F578,Soutez!A:B,2,FALSE)","v":"LT"},{"$f":"VLOOKUP(F578,Soutez!A:C,3,FALSE)","v":2021},14,3297,1.03,5279,5437,null,null,"Discus 2b","D2","Není v databázi"]
["Ignas Bitinaitis",null,null,"Lithuania",null,"JWGC 2021 - Std",{"$f":"VLOOKUP(F579,Soutez!A:B,2,FALSE)","v":"LT"},{"$f":"VLOOKUP(F579,Soutez!A:C,3,FALSE)","v":2021},15,489,1.03,1075,1107,null,null,"Discus 2a","VM","Není v databázi"]
["Miles Chalk Kjaer",null,null,"Denmark",null,"JWGC 2021 - Std",{"$f":"VLOOKUP(F580,Soutez!A:B,2,FALSE)","v":"LT"},{"$f":"VLOOKUP(F580,Soutez!A:C,3,FALSE)","v":2021},16,209,1.03,486,501,null,null,"LS-8","SE","Není v databázi"]
["Laurynas supinys",null,null,"Lithuania",null,"JWGC 2021 - Std",{"$f":"VLOOKUP(F581,Soutez!A:B,2,FALSE)","v":"LT"},{"$f":"VLOOKUP(F581,Soutez!A:C,3,FALSE)","v":2021},17,0,1.03,0,0,null,null,"LS-8","H8","Není v databázi"]
["Sebastian Kawa",null,null,null,null,"WSGP Final 2021 - 18m GP",{"$f":"VLOOKUP(F582,Soutez!A:B,2,FALSE)","v":"FR"},{"$f":"VLOOKUP(F582,Soutez!A:C,3,FALSE)","v":2021},1,39,{"$f":"VLOOKUP(F582,Soutez,12,0)","v":1.07},{"$f":"ROUND((MAX($I$582:$I$601)-I582)/(MAX($I$582:$I$601)-1)*10000,0)","v":10000},{"$f":"ROUND(K582*L582,0)","v":10700},null,null,"AS33","OS","Není v databázi"]
["Mario Kiessling",null,null,null,null,"WSGP Final 2021 - 18m GP",{"$f":"VLOOKUP(F583,Soutez!A:B,2,FALSE)","v":"FR"},{"$f":"VLOOKUP(F583,Soutez!A:C,3,FALSE)","v":2021},2,38,1.07,{"$f":"ROUND((MAX($I$582:$I$601)-I583)/(MAX($I$582:$I$601)-1)*10000,0)","v":9444},{"$f":"ROUND(K583*L583,0)","v":10105},null,null,"Ventus-3TS","I","Není v databázi"]
["Maximilian Seis",null,null,null,null,"WSGP Final 2021 - 18m GP",{"$f":"VLOOKUP(F584,Soutez!A:B,2,FALSE)","v":"FR"},{"$f":"VLOOKUP(F584,Soutez!A:C,3,FALSE)","v":2021},3,30,1.07,8889,9511,null,null,"JS 3","LB","Není v databázi"]
["Katrin Senne",null,null,null,null,"WSGP Final 2021 - 18m GP",{"$f":"VLOOKUP(F585,Soutez!A:B,2,FALSE)","v":"FR"},{"$f":"VLOOKUP(F585,Soutez!A:C,3,FALSE)","v":2021},4,24,1.07,8333,8916,null,null,"JS 3","BK","Není v databázi"]
["Tilo Holighaus",null,null,null,null,"WSGP Final 2021 - 18m GP",{"$f":"VLOOKUP(F586,Soutez!A:B,2,FALSE)","v":"FR"},{"$f":"VLOOKUP(F586,Soutez!A:C,3,FALSE)","v":2021},5,19,1.07,7778,8322,null,null,"Ventus-3TS","3V","Není v databázi"]
["Bostjan Pristavec",null,null,null,null,"WSGP Final 2021 - 18m GP",{"$f":"VLOOKUP(F587,Soutez!A:B,2,FALSE)","v":"FR"},{"$f":"VLOOKUP(F587,Soutez!A:C,3,FALSE)","v":2021},6,16,1.07,7222,7728,null,null,"JS 1 Revelation","DZ","Není v databázi"]
["Louis Bouderlique",null,null,null,null,"WSGP Final 2021 - 18m GP",{"$f":"VLOOKUP(F588,Soutez!A:B,2,FALSE)","v":"FR"},{"$f":"VLOOKUP(F588,Soutez!A:C,3,FALSE)","v":2021},6,16,1.07,7222,7728,null,null,"Ventus-3TS","TL","Není v databázi"]
["Gilles Navas",null,null,null,null,"WSGP Final 2021 - 18m GP",{"$f":"VLOOKUP(F589,Soutez!A:B,2,FALSE)","v":"FR"},{"$f":"VLOOKUP(F589,Soutez!A:C,3,FALSE)","v":2021},8,15,1.07,6111,6539,null,null,"JS 3","KW","Není v databázi"]
["Christophe Abadie",null,null,null,null,"WSGP Final 2021 - 18m GP",{"$f":"VLOOKUP(F590,Soutez!A:B,2,FALSE)","v":"FR"},{"$f":"VLOOKUP(F590,Soutez!A:C,3,FALSE)","v":2021},9,14,1.07,5556,5945,null,null,"JS 3","2L","Není v databázi"]
["Marius Pluscauskas",null,null,null,null,"WSGP Final 2021 - 18m GP",{"$f":"VLOOKUP(F591,Soutez!A:B,2,FALSE)","v":"FR"},{"$f":"VLOOKUP(F591,Soutez!A:C,3,FALSE)","v":2021},10,12,1.07,5000,5350,null,null,"Asg 29","M7","Není v databázi"]
["Thomas Gostner",null,null,null,null,"WSGP Final 2021 - 18m GP",{"$f":"VLOOKUP(F592,Soutez!A:B,2,FALSE)","v":"FR"},{"$f":"VLOOKUP(F592,Soutez!A:C,3,FALSE)","v":2021},11,11,1.07,4444,4755,null,null,"Ventus-3TS","GT","Není v databázi"]
["Philippe de Péchy",null,null,null,null,"WSGP Final 2021 - 18m GP",{"$f":"VLOOKUP(F593,Soutez!A:B,2,FALSE)","v":"FR"},{"$f":"VLOOKUP(F593,Soutez!A:C,3,FALSE)","v":2021},12,9,1.07,3889,4161,null,null,"JS 1 Revelation","EJ","Není v databázi"]
["Sylvain Gerbaud",null,null,null,null,"WSGP Final 2021 - 18m GP",{"$f":"VLOOKUP(F594,Soutez!A:B,2,FALSE)","v":"FR"},{"$f":"VLOOKUP(F594,Soutez!A:C,3,FALSE)","v":2021},13,7,1.07,3333,3566,null,null,"JS 1 Revelation",72,"Není v databázi"]
["Oscar Goudriaan",null,null,null,null,"WSGP Final 2021 - 18m GP",{"$f":"VLOOKUP(F595,Soutez!A:B,2,FALSE)","v":"FR"},{"$f":"VLOOKUP(F595,Soutez!A:C,3,FALSE)","v":2021},13,7,1.07,3333,3566,null,null,"JS3","LG","Není v databázi"]
["Gintas Zube",null,null,null,null,"WSGP Final 2021 - 18m GP",{"$f":"VLOOKUP(F596,Soutez!A:B,2,FALSE)","v":"FR"},{"$f":"VLOOKUP(F596,Soutez!A:C,3,FALSE)","v":2021},15,6,1.07,2222,2378,null,null,"Asg 29","AR","Není v databázi"]
["Uli Schwenk",null,null,null,null,"WSGP Final 2021 - 18m GP",{"$f":"VLOOKUP(F597,Soutez!A:B,2,FALSE)","v":"FR"},{"$f":"VLOOKUP(F597,Soutez!A:C,3,FALSE)","v":2021},15,6,1.07,2222,2378,null,null,"Ventus-3TS",25,"Není v databázi"]
["Werner Amann",null,null,null,null,"WSGP Final 2021 - 18m GP",{"$f":"VLOOKUP(F598,Soutez!A:B,2,FALSE)","v":"FR"},{"$f":"VLOOKUP(F598,Soutez!A:C,3,FALSE)","v":2021},15,6,1.07,2222,2378,null,null,"AS33","WG","Není v databázi"]
["René Vidal",null,null,null,null,"WSGP Final 2021 - 18m GP",{"$f":"VLOOKUP(F599,Soutez!A:B,2,FALSE)","v":"FR"},{"$f":"VLOOKUP(F599,Soutez!A:C,3,FALSE)","v":2021},18,2,1.07,556,595,null,null,"Ventus-3TS",120,"Není v databázi"]
["Petr Panek",{"$f":"VLOOKUP(A600,Pilot,2,0)","v":1975},{"$f":"VLOOKUP(A600,Pilot,5,0)","v":"M"},{"$f":"VLOOKUP(A600,Pilot,3,0)","v":"Dvůr Králové"},{"$f":"VLOOKUP(A600,Pilot,4,0)","v":"CZ/C2"},"WSGP Final 2021 - 18m GP",{"$f":"VLOOKUP(F600,Soutez!A:B,2,FALSE)","v":"FR"},{"$f":"VLOOKUP(F600,Soutez!A:C,3,FALSE)","v":2021},19,0,1.07,0,0,null,null,"JS 1 Revelation","IGC",""]
["Mélanie Gadoulet",null,null,null,null,"WSGP Final 2021 - 18m GP",{"$f":"VLOOKUP(F601,Soutez!A:B,2,FALSE)","v":"FR"},{"$f":"VLOOKUP(F601,Soutez!A:C,3,FALSE)","v":2021},19,0,1.07,0,0,null,null,"JS 1 Revelation","FD","Není v databázi"]
["Tomas Kulhavy",{"$f":"VLOOKUP(A602,Pilot,2,0)","v":2001},{"$f":"VLOOKUP(A602,Pilot,5,0)","v":"M"},{"$f":"VLOOKUP(A602,Pilot,3,0)","v":"Liberec"},{"$f":"VLOOKUP(A602,Pilot,4,0)","v":"CZ/C2"},"Safari 2021 - Klub",{"$f":"VLOOKUP(F602,Soutez!A:B,2,FALSE)","v":"CZ"},{"$f":"VLOOKUP(F602,Soutez!A:C,3,FALSE)","v":2021},1,2391,0.75,{"$f":"ROUND(J602/MAX($J$602:$J$634)*10000*0.7+(MAX($I$602:$I$634)-I602)/(MAX($I$602:$I$634)-1)*10000*0.3,0)","v":10000},{"$f":"ROUND(K602*L602,0)","v":7500},"x",null,"LS-3a /15m","R9",{"$f":"IF(ISERROR(VLOOKUP(A602,Pilot,6,0)),\"Není v databázi\",VLOOKUP(A602,Pilot,6,0))","v":"Junior v roce 2024"}]
["Milan Dvorak",1965,"M","Liberec","CZ/C2","Safari 2021 - Klub",{"$f":"VLOOKUP(F603,Soutez!A:B,2,FALSE)","v":"CZ"},{"$f":"VLOOKUP(F603,Soutez!A:C,3,FALSE)","v":2021},2,2264,0.75,{"$f":"ROUND(J603/MAX($J$602:$J$634)*10000*0.7+(MAX($I$602:$I$634)-I603)/(MAX($I$602:$I$634)-1)*10000*0.3,0)","v":9531},{"$f":"ROUND(K603*L603,0)","v":7148},"x",null,"HpH 304cz /15m","IH",""]
["Jiri Slemr",1979,"M","Vysoké Mýto","CZ/C2","Safari 2021 - Klub",{"$f":"VLOOKUP(F604,Soutez!A:B,2,FALSE)","v":"CZ"},{"$f":"VLOOKUP(F604,Soutez!A:C,3,FALSE)","v":2021},2,2264,0.75,9531,7148,"x",null,"Discus b",65,""]
["David Tejnora",1982,"M","Jaroměř","CZ/C2","Safari 2021 - Klub",{"$f":"VLOOKUP(F605,Soutez!A:B,2,FALSE)","v":"CZ"},{"$f":"VLOOKUP(F605,Soutez!A:C,3,FALSE)","v":2021},4,2165,0.75,9048,6786,"x",null,"Std.Cirrus",17,""]
["Tomas Hynek",{"$f":"VLOOKUP(A606,Pilot,2,0)","v":2002},{"$f":"VLOOKUP(A606,Pilot,5,0)","v":"M"},{"$f":"VLOOKUP(A606,Pilot,3,0)","v":"Dvůr Králové"},{"$f":"VLOOKUP(A606,Pilot,4,0)","v":"CZ/C2"},"Safari 2021 - Klub",{"$f":"VLOOKUP(F606,Soutez!A:B,2,FALSE)","v":"CZ"},{"$f":"VLOOKUP(F606,Soutez!A:C,3,FALSE)","v":2021},5,2134,0.75,8860,6645,null,null,"Std.Cirrus","HT","Junior v roce 2024"]
["Marek Kornec",1957,"M","Dvůr Králové","CZ/C2","Safari 2021 - Klub",{"$f":"VLOOKUP(F607,Soutez!A:B,2,FALSE)","v":"CZ"},{"$f":"VLOOKUP(F607,Soutez!A:C,3,FALSE)","v":2021},6,2121,0.75,8726,6545,"x",null,"Janus C (FG)","KSS",""]
["Vojtech Vach 76",1976,"M","Nové Město nad Metují","CZ/C2","Safari 2021 - Klub",{"$f":"VLOOKUP(F608,Soutez!A:B,2,FALSE)","v":"CZ"},{"$f":"VLOOKUP(F608,Soutez!A:C,3,FALSE)","v":2021},7,2053,0.75,8430,6323,"x",null,"Cirrus VTC","1W",""]
["Wolfgang Sluka",{"$f":"VLOOKUP(A609,Pilot,2,0)","v":1942},{"$f":"VLOOKUP(A609,Pilot,5,0)","v":"M"},{"$f":"VLOOKUP(A609,Pilot,3,0)","v":"Liberec"},{"$f":"VLOOKUP(A609,Pilot,4,0)","v":"CZ/C2"},"Safari 2021 - Klub",{"$f":"VLOOKUP(F609,Soutez!A:B,2,FALSE)","v":"CZ"},{"$f":"VLOOKUP(F609,Soutez!A:C,3,FALSE)","v":2021},8,1846,0.75,7727,5795,"x",null,"VSO-10",78,""]
["Tomas Ditrt",1969,"M","Podhořany","CZ/C2","Safari 2021 - Klub",{"$f":"VLOOKUP(F610,Soutez!A:B,2,FALSE)","v":"CZ"},{"$f":"VLOOKUP(F610,Soutez!A:C,3,FALSE)","v":2021},9,1774,0.75,7419,5564,"x",null,"ASW-20 (A)+L+F /15m","TDi",""]
["Daniel Ryba",1994,"M","Dvůr Králové","CZ/C2","Safari 2021 - Klub",{"$f":"VLOOKUP(F611,Soutez!A:B,2,FALSE)","v":"CZ"},{"$f":"VLOOKUP(F611,Soutez!A:C,3,FALSE)","v":2021},10,1753,0.75,7261,5446,"x",null,"Janus, Janus b dvojí","V1",""]
["Martin Cicvarek",1966,"M","Liberec","CZ/C2","Safari 2021 - Klub",{"$f":"VLOOKUP(F612,Soutez!A:B,2,FALSE)","v":"CZ"},{"$f":"VLOOKUP(F612,Soutez!A:C,3,FALSE)","v":2021},11,1563,0.75,6608,4956,"x",null,"DG-400 15m","AC",""]
["Petr Lonsky",1965,"M","Toužim","CZ/C1","Safari 2021 - Klub",{"$f":"VLOOKUP(F613,Soutez!A:B,2,FALSE)","v":"CZ"},{"$f":"VLOOKUP(F613,Soutez!A:C,3,FALSE)","v":2021},12,1526,0.75,6403,4802,null,null,"Cirrus VTC","PB",""]
["Lukas Volek",2004,"M","Hodkovice","CZ/C2","Safari 2021 - Klub",{"$f":"VLOOKUP(F614,Soutez!A:B,2,FALSE)","v":"CZ"},{"$f":"VLOOKUP(F614,Soutez!A:C,3,FALSE)","v":2021},13,1293,0.75,5624,4218,null,null,"ASW-15B","B","Junior v roce 2024"]
["Vojtech Kostejn",1974,"M","Česká Lípa","CZ/C2","Safari 2021 - Klub",{"$f":"VLOOKUP(F615,Soutez!A:B,2,FALSE)","v":"CZ"},{"$f":"VLOOKUP(F615,Soutez!A:C,3,FALSE)","v":2021},14,1170,0.75,5167,3875,null,null,"ASW-15B","I",""]
["Filip Sirc",1993,"M","Letňany","CZ/C1","Safari 2021 - Klub",{"$f":"VLOOKUP(F616,Soutez!A:B,2,FALSE)","v":"CZ"},{"$f":"VLOOKUP(F616,Soutez!A:C,3,FALSE)","v":2021},15,1124,0.75,4936,3702,null,null,"ASW-19","WT",""]
["Pavel Derda",1952,"M","Dvůr Králové","CZ/C2","Safari 2021 - Klub",{"$f":"VLOOKUP(F617,Soutez!A:B,2,FALSE)","v":"CZ"},{"$f":"VLOOKUP(F617,Soutez!A:C,3,FALSE)","v":2021},16,1087,0.75,4731,3548,null,null,"Cirrus VTC","VE",""]
["Jaroslav Sima",1972,"M","Chomutov","CZ/C2","Safari 2021 - Klub",{"$f":"VLOOKUP(F618,Soutez!A:B,2,FALSE)","v":"CZ"},{"$f":"VLOOKUP(F618,Soutez!A:C,3,FALSE)","v":2021},17,1073,0.75,4593,3445,"x",null,"G-104 Speed Astir II","V2",""]
["Krzysztof Pienkowski",null,null,"Bielsko-Biala",null,"Safari 2021 - Klub",{"$f":"VLOOKUP(F619,Soutez!A:B,2,FALSE)","v":"CZ"},{"$f":"VLOOKUP(F619,Soutez!A:C,3,FALSE)","v":2021},18,1013,0.75,4321,3241,null,null,"LS-4","KP","Není v databázi"]
["Lukas Hykl",{"$f":"VLOOKUP(A620,Pilot,2,0)","v":1985},{"$f":"VLOOKUP(A620,Pilot,5,0)","v":"M"},{"$f":"VLOOKUP(A620,Pilot,3,0)","v":"Kolín"},{"$f":"VLOOKUP(A620,Pilot,4,0)","v":"CZ/C1"},"Safari 2021 - Klub",{"$f":"VLOOKUP(F620,Soutez!A:B,2,FALSE)","v":"CZ"},{"$f":"VLOOKUP(F620,Soutez!A:C,3,FALSE)","v":2021},19,993,0.75,4165,3124,"x",null,"Discus b","J2",""]
["Adam Hepal",{"$f":"VLOOKUP(A621,Pilot,2,0)","v":2004},{"$f":"VLOOKUP(A621,Pilot,5,0)","v":"M"},{"$f":"VLOOKUP(A621,Pilot,3,0)","v":"Moravská Třebová"},{"$f":"VLOOKUP(A621,Pilot,4,0)","v":"CZ/M"},"Safari 2021 - Klub",{"$f":"VLOOKUP(F621,Soutez!A:B,2,FALSE)","v":"CZ"},{"$f":"VLOOKUP(F621,Soutez!A:C,3,FALSE)","v":2021},20,942,0.75,3919,2939,null,null,"G-102 Astir Jeans","VI","Junior v roce 2024"]
["Leos Nosek",1958,"M","Křižanov","CZ/M","Safari 2021 - Klub",{"$f":"VLOOKUP(F622,Soutez!A:B,2,FALSE)","v":"CZ"},{"$f":"VLOOKUP(F622,Soutez!A:C,3,FALSE)","v":2021},21,808,0.75,3430,2573,"x",null,"G-104 Speed Astir II b","LE",""]
["Vojtech Flidr",{"$f":"VLOOKUP(A623,Pilot,2,0)","v":2003},{"$f":"VLOOKUP(A623,Pilot,5,0)","v":"M"},{"$f":"VLOOKUP(A623,Pilot,3,0)","v":"Dvůr Králové"},{"$f":"VLOOKUP(A623,Pilot,4,0)","v":"CZ/C2"},"Safari 2021 - Klub",{"$f":"VLOOKUP(F623,Soutez!A:B,2,FALSE)","v":"CZ"},{"$f":"VLOOKUP(F623,Soutez!A:C,3,FALSE)","v":2021},22,719,0.75,3073,2305,"x",null,"G-102 Astir cs 77",77,"Junior v roce 2024"]
["Vaclav Sehnal",{"$f":"VLOOKUP(A624,Pilot,2,0)","v":1962},{"$f":"VLOOKUP(A624,Pilot,5,0)","v":"M"},{"$f":"VLOOKUP(A624,Pilot,3,0)","v":"Kolín"},{"$f":"VLOOKUP(A624,Pilot,4,0)","v":"CZ/C1"},"Safari 2021 - Klub",{"$f":"VLOOKUP(F624,Soutez!A:B,2,FALSE)","v":"CZ"},{"$f":"VLOOKUP(F624,Soutez!A:C,3,FALSE)","v":2021},23,661,0.75,2806,2105,"x",null,"SZD-48 Jantar std. 2 (3) WL","VS",""]
["Artur Szlachta",null,null,"KSS/LSV Zellhausen",null,"Safari 2021 - Klub",{"$f":"VLOOKUP(F625,Soutez!A:B,2,FALSE)","v":"CZ"},{"$f":"VLOOKUP(F625,Soutez!A:C,3,FALSE)","v":2021},24,538,0.75,2349,1762,null,null,"LS-4","V4","Není v databázi"]
["Vojtech Sehnal",{"$f":"VLOOKUP(A626,Pilot,2,0)","v":1994},{"$f":"VLOOKUP(A626,Pilot,5,0)","v":"M"},{"$f":"VLOOKUP(A626,Pilot,3,0)","v":"Kolín"},{"$f":"VLOOKUP(A626,Pilot,4,0)","v":"CZ/C1"},"Safari 2021 - Klub",{"$f":"VLOOKUP(F626,Soutez!A:B,2,FALSE)","v":"CZ"},{"$f":"VLOOKUP(F626,Soutez!A:C,3,FALSE)","v":2021},25,525,0.75,2214,1661,"x",null,"G-104 Speed Astir II b","M2",""]
["Stanislav Vrabec",1975,"M","Česká Lípa","CZ/C2","Safari 2021 - Klub",{"$f":"VLOOKUP(F627,Soutez!A:B,2,FALSE)","v":"CZ"},{"$f":"VLOOKUP(F627,Soutez!A:C,3,FALSE)","v":2021},26,474,0.75,1968,1476,"x",null,"Std.Cirrus","CV",""]
["Karel Ertl",1939,"M","LK Břeclav","CZ/M","Safari 2021 - Klub",{"$f":"VLOOKUP(F628,Soutez!A:B,2,FALSE)","v":"CZ"},{"$f":"VLOOKUP(F628,Soutez!A:C,3,FALSE)","v":2021},27,439,0.75,1769,1327,null,null,"TST-10M Atlas","KE",""]
["Krzystof Kostka",null,null,"Jelenia Góra",null,"Safari 2021 - Klub",{"$f":"VLOOKUP(F629,Soutez!A:B,2,FALSE)","v":"CZ"},{"$f":"VLOOKUP(F629,Soutez!A:C,3,FALSE)","v":2021},28,414,0.75,1599,1199,null,null,"DG-300 WL","N5","Není v databázi"]
["Martin Benesovsky",{"$f":"VLOOKUP(A630,Pilot,2,0)","v":1975},{"$f":"VLOOKUP(A630,Pilot,5,0)","v":"M"},{"$f":"VLOOKUP(A630,Pilot,3,0)","v":"Kolín"},{"$f":"VLOOKUP(A630,Pilot,4,0)","v":"CZ/C1"},"Safari 2021 - Klub",{"$f":"VLOOKUP(F630,Soutez!A:B,2,FALSE)","v":"CZ"},{"$f":"VLOOKUP(F630,Soutez!A:C,3,FALSE)","v":2021},29,384,0.75,1415,1061,"x",null,"G-104 Speed Astir II b","M2",""]
["Ryszard Bendkowski",null,null,"Warszawa",null,"Safari 2021 - Klub",{"$f":"VLOOKUP(F631,Soutez!A:B,2,FALSE)","v":"CZ"},{"$f":"VLOOKUP(F631,Soutez!A:C,3,FALSE)","v":2021},30,221,0.75,841,631,null,null,"SZD-41A Jantar std.","Fili","Není v databázi"]
["Vladislav Cadsky",{"$f":"VLOOKUP(A632,Pilot,2,0)","v":1975},{"$f":"VLOOKUP(A632,Pilot,5,0)","v":"M"},{"$f":"VLOOKUP(A632,Pilot,3,0)","v":"Kolín"},{"$f":"VLOOKUP(A632,Pilot,4,0)","v":"CZ/C1"},"Safari 2021 - Klub",{"$f":"VLOOKUP(F632,Soutez!A:B,2,FALSE)","v":"CZ"},{"$f":"VLOOKUP(F632,Soutez!A:C,3,FALSE)","v":2021},31,89,0.75,357,268,null,null,"SZS-48 Jantar std.2","VS",""]
["Romuald Dorofieczyk",null,null,"Jelenia Góra",null,"Safari 2021 - Klub",{"$f":"VLOOKUP(F633,Soutez!A:B,2,FALSE)","v":"CZ"},{"$f":"VLOOKUP(F633,Soutez!A:C,3,FALSE)","v":2021},32,0,0.75,0,0,null,null,"DG-300 WL","N5","Není v databázi"]
["Michal Vorlicek",{"$f":"VLOOKUP(A634,Pilot,2,0)","v":1995},{"$f":"VLOOKUP(A634,Pilot,5,0)","v":"M"},{"$f":"VLOOKUP(A634,Pilot,3,0)","v":"Kolín"},{"$f":"VLOOKUP(A634,Pilot,4,0)","v":"CZ/C1"},"Safari 2021 - Klub",{"$f":"VLOOKUP(F634,Soutez!A:B,2,FALSE)","v":"CZ"},{"$f":"VLOOKUP(F634,Soutez!A:C,3,FALSE)","v":2021},32,0,0.75,0,0,null,null,"SZD-48 Jantar std. 2 (3) WL","VS",{"$f":"IF(ISERROR(VLOOKUP(A634,Pilot,6,0)),\"Není v databázi\",VLOOKUP(A634,Pilot,6,0))","v":""}]
["Lukas Hynek",{"$f":"VLOOKUP(A635,Pilot,2,0)","v":1979},{"$f":"VLOOKUP(A635,Pilot,5,0)","v":"M"},{"$f":"VLOOKUP(A635,Pilot,3,0)","v":"Dvůr Králové"},{"$f":"VLOOKUP(A635,Pilot,4,0)","v":"CZ/C2"},"Safari 2021 - Kombi",{"$f":"VLOOKUP(F635,Soutez!A:B,2,FALSE)","v":"CZ"},{"$f":"VLOOKUP(F635,Soutez!A:C,3,FALSE)","v":2021},1,2796,0.755,{"$f":"ROUND(J635/MAX($J$635:$J$647)*10000*0.7+(MAX($I$635:$I$647)-I635)/(MAX($I$635:$I$647)-1)*10000*0.3,0)","v":10000},{"$f":"ROUND(K635*L635,0)","v":7550},"x",null,"DG-200 17m (voda)","HL",""]
["Milan Meisner",1961,"M","Dvůr Králové","CZ/C2","Safari 2021 - Kombi",{"$f":"VLOOKUP(F636,Soutez!A:B,2,FALSE)","v":"CZ"},{"$f":"VLOOKUP(F636,Soutez!A:C,3,FALSE)","v":2021},2,2683,0.755,9467,{"$f":"ROUND(K636*L636,0)","v":7148},"x",null,"Ventus c /17,6m (voda)","VV",""]
["Jan Pazour",1979,"M","Dvůr Králové","CZ/C2","Safari 2021 - Kombi",{"$f":"VLOOKUP(F637,Soutez!A:B,2,FALSE)","v":"CZ"},{"$f":"VLOOKUP(F637,Soutez!A:C,3,FALSE)","v":2021},3,2664,0.755,9170,6923,"x",null,"ASW-20L +FL /16,6m","JP",""]
["Petr Babak",1973,"M","Hořice","CZ/C2","Safari 2021 - Kombi",{"$f":"VLOOKUP(F638,Soutez!A:B,2,FALSE)","v":"CZ"},{"$f":"VLOOKUP(F638,Soutez!A:C,3,FALSE)","v":2021},4,2486,0.755,8474,6398,"x",null,"Ventus c /17,6m (voda)","LS",""]
["Karel Policky",{"$f":"VLOOKUP(A639,Pilot,2,0)","v":1950},{"$f":"VLOOKUP(A639,Pilot,5,0)","v":"M"},{"$f":"VLOOKUP(A639,Pilot,3,0)","v":"Kolín"},{"$f":"VLOOKUP(A639,Pilot,4,0)","v":"CZ/C1"},"Safari 2021 - Kombi",{"$f":"VLOOKUP(F639,Soutez!A:B,2,FALSE)","v":"CZ"},{"$f":"VLOOKUP(F639,Soutez!A:C,3,FALSE)","v":2021},5,2300,0.755,7758,5857,"x",null,"Duo Discus T (700 kg) (voda)",777,""]
["Jaroslav Buryan",1953,"M","Zábřeh","CZ/M","Safari 2021 - Kombi",{"$f":"VLOOKUP(F640,Soutez!A:B,2,FALSE)","v":"CZ"},{"$f":"VLOOKUP(F640,Soutez!A:C,3,FALSE)","v":2021},6,2276,0.755,7448,5623,null,null,"ASW-20 (A)+F /15m WL (voda)","NS",""]
["Ladislav Prokes",1954,"M","Vrchlabí","CZ/C2","Safari 2021 - Kombi",{"$f":"VLOOKUP(F641,Soutez!A:B,2,FALSE)","v":"CZ"},{"$f":"VLOOKUP(F641,Soutez!A:C,3,FALSE)","v":2021},7,2149,0.755,6880,5194,"x",null,"Discus b (voda)","VR",""]
["Zdenek Boruvka 54",1954,"M","Jičín","CZ/C2","Safari 2021 - Kombi",{"$f":"VLOOKUP(F642,Soutez!A:B,2,FALSE)","v":"CZ"},{"$f":"VLOOKUP(F642,Soutez!A:C,3,FALSE)","v":2021},8,2110,0.755,6533,{"$f":"ROUND(K642*L642,0)","v":4932},null,null,"LS 8-18 /15m (voda)","ZB",""]
["Jan Kohout",{"$f":"VLOOKUP(A643,Pilot,2,0)","v":1970},{"$f":"VLOOKUP(A643,Pilot,5,0)","v":"M"},{"$f":"VLOOKUP(A643,Pilot,3,0)","v":"Žamberk"},{"$f":"VLOOKUP(A643,Pilot,4,0)","v":"CZ/C2"},"Safari 2021 - Kombi",{"$f":"VLOOKUP(F643,Soutez!A:B,2,FALSE)","v":"CZ"},{"$f":"VLOOKUP(F643,Soutez!A:C,3,FALSE)","v":2021},9,1944,0.755,5867,4430,null,null,"LS 8 /15m (voda)","SK",""]
["Slavomir Tanglmajer",1966,"M","Chomutov","CZ/C2","Safari 2021 - Kombi",{"$f":"VLOOKUP(F644,Soutez!A:B,2,FALSE)","v":"CZ"},{"$f":"VLOOKUP(F644,Soutez!A:C,3,FALSE)","v":2021},10,1754,{"$f":"VLOOKUP(F644,Soutez,12,0)","v":0.755},5141,3881,"x",null,"DG-400 17m","ST",""]
["Michal Hemrle",1974,"M","Česká Lípa","CZ/C2","Safari 2021 - Kombi",{"$f":"VLOOKUP(F645,Soutez!A:B,2,FALSE)","v":"CZ"},{"$f":"VLOOKUP(F645,Soutez!A:C,3,FALSE)","v":2021},11,1678,0.755,4701,3549,null,null,"ASG-29E /18m 600kg (voda)","ET",""]
["Tomas Novak",1974,"M","Česká Lípa","CZ/C2","Safari 2021 - Kombi",{"$f":"VLOOKUP(F646,Soutez!A:B,2,FALSE)","v":"CZ"},{"$f":"VLOOKUP(F646,Soutez!A:C,3,FALSE)","v":2021},12,1675,0.755,4443,3354,null,null,"Ventus c /17,6m (voda)","XE",""]
["Petr Omelka",1970,"M","Vyškov","CZ/M","Safari 2021 - Kombi",{"$f":"VLOOKUP(F647,Soutez!A:B,2,FALSE)","v":"CZ"},{"$f":"VLOOKUP(F647,Soutez!A:C,3,FALSE)","v":2021},13,856,0.755,2143,1618,"x",null,"DG 400 17m","MR",""]
["Vojtech Pivonka",{"$f":"VLOOKUP(A648,Pilot,2,0)","v":1976},{"$f":"VLOOKUP(A648,Pilot,5,0)","v":"M"},{"$f":"VLOOKUP(A648,Pilot,3,0)","v":"Vrchlabí"},{"$f":"VLOOKUP(A648,Pilot,4,0)","v":"CZ/C2"},"Safari 2021 - Duo Klub",{"$f":"VLOOKUP(F648,Soutez!A:B,2,FALSE)","v":"CZ"},{"$f":"VLOOKUP(F648,Soutez!A:C,3,FALSE)","v":2021},1,1058,0.73,{"$f":"ROUND(J648/MAX($J$648:$J$658)*10000*0.7+(MAX($I$648:$I$658)-I648)/(MAX($I$648:$I$658)-1)*10000*0.3,0)","v":10000},{"$f":"ROUND(K648*L648,0)","v":7300},"x",null,"L-13 Blaník","AY",""]
["Ondrej Teichman",{"$f":"VLOOKUP(A649,Pilot,2,0)","v":1984},{"$f":"VLOOKUP(A649,Pilot,5,0)","v":"M"},{"$f":"VLOOKUP(A649,Pilot,3,0)","v":"Dvůr Králové"},{"$f":"VLOOKUP(A649,Pilot,4,0)","v":"CZ/C2"},"Safari 2021 - Duo Klub",{"$f":"VLOOKUP(F649,Soutez!A:B,2,FALSE)","v":"CZ"},{"$f":"VLOOKUP(F649,Soutez!A:C,3,FALSE)","v":2021},2,894,0.73,8615,{"$f":"ROUND(K649*L649,0)","v":6289},"x",null,"L-23 Super Blaník","KM",""]
["Petr Masik",{"$f":"VLOOKUP(A650,Pilot,2,0)","v":2001},{"$f":"VLOOKUP(A650,Pilot,5,0)","v":"M"},{"$f":"VLOOKUP(A650,Pilot,3,0)","v":"Zábřeh"},{"$f":"VLOOKUP(A650,Pilot,4,0)","v":"CZ/M"},"Safari 2021 - Duo Klub",{"$f":"VLOOKUP(F650,Soutez!A:B,2,FALSE)","v":"CZ"},{"$f":"VLOOKUP(F650,Soutez!A:C,3,FALSE)","v":2021},3,887,0.73,8269,6036,"x",null,"L-23 Super Blaník","T","Junior v roce 2024"]
["Jiri Kratochvil",{"$f":"VLOOKUP(A651,Pilot,2,0)","v":2003},{"$f":"VLOOKUP(A651,Pilot,5,0)","v":"M"},{"$f":"VLOOKUP(A651,Pilot,3,0)","v":"Podhořany"},{"$f":"VLOOKUP(A651,Pilot,4,0)","v":"CZ/C2"},"Safari 2021 - Duo Klub",{"$f":"VLOOKUP(F651,Soutez!A:B,2,FALSE)","v":"CZ"},{"$f":"VLOOKUP(F651,Soutez!A:C,3,FALSE)","v":2021},4,825,0.73,7558,5517,"x",null,"L-23 Super Blaník","Y","Junior v roce 2024"]
["Vladimir Prihoda",{"$f":"VLOOKUP(A652,Pilot,2,0)","v":1953},{"$f":"VLOOKUP(A652,Pilot,5,0)","v":"M"},{"$f":"VLOOKUP(A652,Pilot,3,0)","v":"Kralupy"},{"$f":"VLOOKUP(A652,Pilot,4,0)","v":"CZ/C1"},"Safari 2021 - Duo Klub",{"$f":"VLOOKUP(F652,Soutez!A:B,2,FALSE)","v":"CZ"},{"$f":"VLOOKUP(F652,Soutez!A:C,3,FALSE)","v":2021},5,807,0.73,7139,5211,"x",null,"L-23 Super Blaník","X",""]
["Petr Traeger",{"$f":"VLOOKUP(A653,Pilot,2,0)","v":1983},{"$f":"VLOOKUP(A653,Pilot,5,0)","v":"M"},{"$f":"VLOOKUP(A653,Pilot,3,0)","v":"Vrchlabí"},{"$f":"VLOOKUP(A653,Pilot,4,0)","v":"CZ/C2"},"Safari 2021 - Duo Klub",{"$f":"VLOOKUP(F653,Soutez!A:B,2,FALSE)","v":"CZ"},{"$f":"VLOOKUP(F653,Soutez!A:C,3,FALSE)","v":2021},6,688,0.73,6052,4418,"x",null,"L-13 Blaník","V",""]
["Jan Hybner",1977,"M","Liberec","CZ/C2","Safari 2021 - Duo Klub",{"$f":"VLOOKUP(F654,Soutez!A:B,2,FALSE)","v":"CZ"},{"$f":"VLOOKUP(F654,Soutez!A:C,3,FALSE)","v":2021},7,633,0.73,5388,{"$f":"ROUND(K654*L654,0)","v":3933},"x",null,"L-23 Super Blaník",23,""]
["Jiri Tomicek",{"$f":"VLOOKUP(A655,Pilot,2,0)","v":1947},{"$f":"VLOOKUP(A655,Pilot,5,0)","v":"M"},{"$f":"VLOOKUP(A655,Pilot,3,0)","v":"Dvůr Králové"},{"$f":"VLOOKUP(A655,Pilot,4,0)","v":"CZ/C2"},"Safari 2021 - Duo Klub",{"$f":"VLOOKUP(F655,Soutez!A:B,2,FALSE)","v":"CZ"},{"$f":"VLOOKUP(F655,Soutez!A:C,3,FALSE)","v":2021},8,264,0.73,{"$f":"ROUND(J655/MAX($J$648:$J$658)*10000*0.7+(MAX($I$648:$I$658)-I655)/(MAX($I$648:$I$658)-1)*10000*0.3,0)","v":2647},1932,"x",null,"L-13 Blaník","VF",""]
["Martin Markl",1960,"M","Kolín","CZ/C1","Safari 2021 - Duo Klub",{"$f":"VLOOKUP(F656,Soutez!A:B,2,FALSE)","v":"CZ"},{"$f":"VLOOKUP(F656,Soutez!A:C,3,FALSE)","v":2021},9,242,{"$f":"VLOOKUP(F656,Soutez,12,0)","v":0.73},2201,1607,"x",null,"L-13 Blaník","FI",""]
["Vladislav Cadsky",1975,"M","Kolín","CZ/C1","Safari 2021 - Duo Klub",{"$f":"VLOOKUP(F657,Soutez!A:B,2,FALSE)","v":"CZ"},{"$f":"VLOOKUP(F657,Soutez!A:C,3,FALSE)","v":2021},10,123,{"$f":"VLOOKUP(F657,Soutez,12,0)","v":0.73},{"$f":"ROUND(J657/MAX($J$648:$J$658)*10000*0.7+(MAX($I$648:$I$658)-I657)/(MAX($I$648:$I$658)-1)*10000*0.3,0)","v":1114},{"$f":"ROUND(K657*L657,0)","v":813},"x",null,"L-13 Blaník","FL",""]
["A Hadacek",null,null,"Kolín",null,"Safari 2021 - Duo Klub",{"$f":"VLOOKUP(F658,Soutez!A:B,2,FALSE)","v":"CZ"},{"$f":"VLOOKUP(F658,Soutez!A:C,3,FALSE)","v":2021},11,0,0.73,0,0,null,null,"L-13 Blaník","FL","Není v databázi"]
["Michal Lesinger",{"$f":"VLOOKUP(A659,Pilot,2,0)","v":1966},{"$f":"VLOOKUP(A659,Pilot,5,0)","v":"M"},{"$f":"VLOOKUP(A659,Pilot,3,0)","v":"Moravská Třebová"},{"$f":"VLOOKUP(A659,Pilot,4,0)","v":"CZ/M"},"PMČR 2022 - Klub",{"$f":"VLOOKUP(F659,Soutez!A:B,2,FALSE)","v":"CZ"},{"$f":"VLOOKUP(F659,Soutez!A:C,3,FALSE)","v":2022},1,6305,{"$f":"VLOOKUP(F659,Soutez,12,0)","v":1.0499999999999998},{"$f":"ROUND(J659/MAX($J$659:$J$674)*10000*0.7+(MAX($I$659:$I$674)-I659)/(MAX($I$659:$I$674)-1)*10000*0.3,0)","v":10000},{"$f":"ROUND(K659*L659,0)","v":10500},"x",null,"ASW20","LL",{"$f":"IF(ISERROR(VLOOKUP(A659,Pilot,6,0)),\"Není v databázi\",VLOOKUP(A659,Pilot,6,0))","v":""}]
["Tomas Suchanek",1964,"M","GAC Benešov","CZ/C1","PMČR 2022 - Klub",{"$f":"VLOOKUP(F660,Soutez!A:B,2,FALSE)","v":"CZ"},{"$f":"VLOOKUP(F660,Soutez!A:C,3,FALSE)","v":2022},2,6051,1.0499999999999998,9518,{"$f":"ROUND(K660*L660,0)","v":9994},null,null,"ASW20","CX",""]
["Pavel Trybenekr",1990,"M","Hořice","CZ/C2","PMČR 2022 - Klub",{"$f":"VLOOKUP(F661,Soutez!A:B,2,FALSE)","v":"CZ"},{"$f":"VLOOKUP(F661,Soutez!A:C,3,FALSE)","v":2022},3,5758,1.0499999999999998,8993,9443,"x",null,"LS4","PF",""]
["Jiri Kusbach",1959,"M","Luhačovice","CZ/M","PMČR 2022 - Klub",{"$f":"VLOOKUP(F662,Soutez!A:B,2,FALSE)","v":"CZ"},{"$f":"VLOOKUP(F662,Soutez!A:C,3,FALSE)","v":2022},4,5754,1.0499999999999998,8788,9227,"x",null,"KKB15FES","B",""]
["David Darnady",1987,"M","Zbraslavice","CZ/C1","PMČR 2022 - Klub",{"$f":"VLOOKUP(F663,Soutez!A:B,2,FALSE)","v":"CZ"},{"$f":"VLOOKUP(F663,Soutez!A:C,3,FALSE)","v":2022},5,5734,1.0499999999999998,8566,8994,"x",null,"ASW20","EW",""]
["Ivan Novak",1962,"M","Mladá Boleslav","CZ/C1","PMČR 2022 - Klub",{"$f":"VLOOKUP(F664,Soutez!A:B,2,FALSE)","v":"CZ"},{"$f":"VLOOKUP(F664,Soutez!A:C,3,FALSE)","v":2022},6,5394,1.0499999999999998,7989,8388,null,null,"Std.Cirrus","DI",""]
["Jan Louda",1986,"M","Mladá Boleslav","CZ/C1","PMČR 2022 - Klub",{"$f":"VLOOKUP(F665,Soutez!A:B,2,FALSE)","v":"CZ"},{"$f":"VLOOKUP(F665,Soutez!A:C,3,FALSE)","v":2022},7,5158,1.0499999999999998,7527,{"$f":"ROUND(K665*L665,0)","v":7903},null,null,"ASW19b","XS",""]
["Jan Vavrin",1987,"M","Vysoké Mýto","CZ/C2","PMČR 2022 - Klub",{"$f":"VLOOKUP(F666,Soutez!A:B,2,FALSE)","v":"CZ"},{"$f":"VLOOKUP(F666,Soutez!A:C,3,FALSE)","v":2022},8,5072,1.0499999999999998,7231,7593,"x",null,"ASW19b",56,""]
["Jan Stastny",2003,"M","Medlánky","CZ/M","PMČR 2022 - Klub",{"$f":"VLOOKUP(F667,Soutez!A:B,2,FALSE)","v":"CZ"},{"$f":"VLOOKUP(F667,Soutez!A:C,3,FALSE)","v":2022},9,5049,1.0499999999999998,7006,7356,null,null,"LS4","IX","Junior v roce 2024"]
["Ivan Tvrdik",1997,"M","Letňany","CZ/C1","PMČR 2022 - Klub",{"$f":"VLOOKUP(F668,Soutez!A:B,2,FALSE)","v":"CZ"},{"$f":"VLOOKUP(F668,Soutez!A:C,3,FALSE)","v":2022},10,4729,1.0499999999999998,6450,6773,null,null,"ASW19b","KZ",""]
["Zdenek Balcarek",1967,"M","Kroměříž","CZ/M","PMČR 2022 - Klub",{"$f":"VLOOKUP(F669,Soutez!A:B,2,FALSE)","v":"CZ"},{"$f":"VLOOKUP(F669,Soutez!A:C,3,FALSE)","v":2022},11,4685,1.0499999999999998,6201,6511,null,null,"Discus b","OS",""]
["Slavomir Piskaty 84",1984,"M","Kunovice","CZ/M","PMČR 2022 - Klub",{"$f":"VLOOKUP(F670,Soutez!A:B,2,FALSE)","v":"CZ"},{"$f":"VLOOKUP(F670,Soutez!A:C,3,FALSE)","v":2022},12,4047,1.0499999999999998,5293,5558,"x",null,"Discus cs","KAL",""]
["Zdenek Boruvka 86",1986,"M","Jičín","CZ/C2","PMČR 2022 - Klub",{"$f":"VLOOKUP(F671,Soutez!A:B,2,FALSE)","v":"CZ"},{"$f":"VLOOKUP(F671,Soutez!A:C,3,FALSE)","v":2022},13,3810,1.0499999999999998,4830,5072,null,null,"Std.Cirrus","BJ",""]
["Martin Kriz",1968,"M","Přibyslav","CZ/C2","PMČR 2022 - Klub",{"$f":"VLOOKUP(F672,Soutez!A:B,2,FALSE)","v":"CZ"},{"$f":"VLOOKUP(F672,Soutez!A:C,3,FALSE)","v":2022},14,3583,1.0499999999999998,4378,{"$f":"ROUND(K672*L672,0)","v":4597},null,null,"ASW20",67,""]
["Pavlina Horackova",1965,"F","Šumperk","CZ/M","PMČR 2022 - Klub",{"$f":"VLOOKUP(F673,Soutez!A:B,2,FALSE)","v":"CZ"},{"$f":"VLOOKUP(F673,Soutez!A:C,3,FALSE)","v":2022},15,3271,1.0499999999999998,3832,4024,null,null,"SZD48 Jantar Std2","SU",""]
["Daniel Ryba",1994,"M","Dvůr Králové","CZ/C2","PMČR 2022 - Klub",{"$f":"VLOOKUP(F674,Soutez!A:B,2,FALSE)","v":"CZ"},{"$f":"VLOOKUP(F674,Soutez!A:C,3,FALSE)","v":2022},16,2661,1.0499999999999998,2954,3102,"x",null,"ASW19b","L7",""]
["Miloslav Cink",1987,"M",{"$f":"VLOOKUP(A675,Pilot,3,0)","v":"Letkov"},{"$f":"VLOOKUP(A675,Pilot,4,0)","v":"CZ/C1"},"PMČR 2022 - Kombi 15m",{"$f":"VLOOKUP(F675,Soutez!A:B,2,FALSE)","v":"CZ"},{"$f":"VLOOKUP(F675,Soutez!A:C,3,FALSE)","v":2022},1,5461,1.06,{"$f":"ROUND(J675/MAX($J$675:$J$687)*10000*0.7+(MAX($I$675:$I$687)-I675)/(MAX($I$675:$I$687)-1)*10000*0.3,0)","v":10000},{"$f":"ROUND(K675*L675,0)","v":10600},"x",null,"LS8","JB",""]
["Pavel Louzecky",1957,"M","Přibyslav","CZ/C2","PMČR 2022 - Kombi 15m",{"$f":"VLOOKUP(F676,Soutez!A:B,2,FALSE)","v":"CZ"},{"$f":"VLOOKUP(F676,Soutez!A:C,3,FALSE)","v":2022},2,5261,1.06,9494,{"$f":"ROUND(K676*L676,0)","v":10064},"x",null,"LS8","FX",""]
["Jan Pavlik",1987,"M","Křižanov","CZ/M","PMČR 2022 - Kombi 15m",{"$f":"VLOOKUP(F677,Soutez!A:B,2,FALSE)","v":"CZ"},{"$f":"VLOOKUP(F677,Soutez!A:C,3,FALSE)","v":2022},3,5096,1.06,9032,9574,null,null,"LS8","JW",""]
["Barbora Moravcova",1994,"F","Zbraslavice","CZ/C1","PMČR 2022 - Kombi 15m",{"$f":"VLOOKUP(F678,Soutez!A:B,2,FALSE)","v":"CZ"},{"$f":"VLOOKUP(F678,Soutez!A:C,3,FALSE)","v":2022},4,5028,1.06,8695,9217,"x",null,"LS8","EU",""]
["Jana Veprekova",1961,"F","Dvůr Králové","CZ/C2","PMČR 2022 - Kombi 15m",{"$f":"VLOOKUP(F679,Soutez!A:B,2,FALSE)","v":"CZ"},{"$f":"VLOOKUP(F679,Soutez!A:C,3,FALSE)","v":2022},5,4754,1.06,8094,8580,"x","x","LS8","W8",""]
["Lukas Kriz",2003,"M","Křižanov","CZ/M","PMČR 2022 - Kombi 15m",{"$f":"VLOOKUP(F680,Soutez!A:B,2,FALSE)","v":"CZ"},{"$f":"VLOOKUP(F680,Soutez!A:C,3,FALSE)","v":2022},6,4634,1.06,7690,8151,null,null,"LS8","SK","Junior v roce 2024"]
["Dana Novakova",1965,"F","Mladá Boleslav","CZ/C1","PMČR 2022 - Kombi 15m",{"$f":"VLOOKUP(F681,Soutez!A:B,2,FALSE)","v":"CZ"},{"$f":"VLOOKUP(F681,Soutez!A:C,3,FALSE)","v":2022},7,4525,1.06,7300,{"$f":"ROUND(K681*L681,0)","v":7738},null,null,"LS8","AU",""]
["Eduard Niko",1988,"M","Zbraslavice","CZ/C1","PMČR 2022 - Kombi 15m",{"$f":"VLOOKUP(F682,Soutez!A:B,2,FALSE)","v":"CZ"},{"$f":"VLOOKUP(F682,Soutez!A:C,3,FALSE)","v":2022},8,4496,1.06,7013,7434,"x",null,"DuoDiscus XLT","DUO",""]
["Jan Kotan",1982,"M","Letňany","CZ/C1","PMČR 2022 - Kombi 15m",{"$f":"VLOOKUP(F683,Soutez!A:B,2,FALSE)","v":"CZ"},{"$f":"VLOOKUP(F683,Soutez!A:C,3,FALSE)","v":2022},9,4230,1.06,6422,6807,null,null,"Ventus 2bx","YA",""]
["Hana Treslova",1991,"F","Raná","CZ/C2","PMČR 2022 - Kombi 15m",{"$f":"VLOOKUP(F684,Soutez!A:B,2,FALSE)","v":"CZ"},{"$f":"VLOOKUP(F684,Soutez!A:C,3,FALSE)","v":2022},10,4015,1.06,5896,6250,null,null,"Ventus 2ax","AX",""]
["Jan Zapletal",1997,"M","Břeclav","CZ/M","PMČR 2022 - Kombi 15m",{"$f":"VLOOKUP(F685,Soutez!A:B,2,FALSE)","v":"CZ"},{"$f":"VLOOKUP(F685,Soutez!A:C,3,FALSE)","v":2022},11,3833,1.06,5413,5738,"x",null,"LS8","JS",""]
["Karel Novak",1993,"M","Mladá Boleslav","CZ/C1","PMČR 2022 - Kombi 15m",{"$f":"VLOOKUP(F686,Soutez!A:B,2,FALSE)","v":"CZ"},{"$f":"VLOOKUP(F686,Soutez!A:C,3,FALSE)","v":2022},12,3768,1.06,5080,5385,null,null,"JS3","ZE",""]
["Jana Treslova",1963,"F","Raná","CZ/C2","PMČR 2022 - Kombi 15m",{"$f":"VLOOKUP(F687,Soutez!A:B,2,FALSE)","v":"CZ"},{"$f":"VLOOKUP(F687,Soutez!A:C,3,FALSE)","v":2022},13,3421,1.06,4385,4648,null,null,"Discus 2a","GX",""]
["Radek Kucirek",1973,"M",{"$f":"VLOOKUP(A688,Pilot,3,0)","v":"Havlíčkův Brod"},{"$f":"VLOOKUP(A688,Pilot,4,0)","v":"CZ/C2"},"PMČR 2022 - Kombi Open",{"$f":"VLOOKUP(F688,Soutez!A:B,2,FALSE)","v":"CZ"},{"$f":"VLOOKUP(F688,Soutez!A:C,3,FALSE)","v":2022},1,5360,1.075,{"$f":"ROUND(J688/MAX($J$688:$J$706)*10000*0.7+(MAX($I$688:$I$706)-I688)/(MAX($I$688:$I$706)-1)*10000*0.3,0)","v":10000},{"$f":"ROUND(K688*L688,0)","v":10750},"x",null,"EB28 Edition","NA",""]
["Tomas Rendla",1973,"M","Zbraslavice","CZ/C1","PMČR 2022 - Kombi Open",{"$f":"VLOOKUP(F689,Soutez!A:B,2,FALSE)","v":"CZ"},{"$f":"VLOOKUP(F689,Soutez!A:C,3,FALSE)","v":2022},2,5341,1.075,9809,{"$f":"ROUND(K689*L689,0)","v":10545},"x",null,"EB29R","EX",""]
["Petr Hotovy",1958,"M","Česká Lípa","CZ/C2","PMČR 2022 - Kombi Open",{"$f":"VLOOKUP(F690,Soutez!A:B,2,FALSE)","v":"CZ"},{"$f":"VLOOKUP(F690,Soutez!A:C,3,FALSE)","v":2022},3,5163,1.075,9409,10115,"x",null,"JS1B","IGC",""]
["Alena Netusilova",1970,"F","Zbraslavice","CZ/C1","PMČR 2022 - Kombi Open",{"$f":"VLOOKUP(F691,Soutez!A:B,2,FALSE)","v":"CZ"},{"$f":"VLOOKUP(F691,Soutez!A:C,3,FALSE)","v":2022},4,5123,{"$f":"VLOOKUP(F691,Soutez,12,0)","v":1.075},9190,9879,"x","x","JS1C 21m","JX",""]
["Radek Krejcirik",1991,"M","Hranice","CZ/M","PMČR 2022 - Kombi Open",{"$f":"VLOOKUP(F692,Soutez!A:B,2,FALSE)","v":"CZ"},{"$f":"VLOOKUP(F692,Soutez!A:C,3,FALSE)","v":2022},5,5093,1.075,8985,9659,null,null,"JS1C EVO","ZF",""]
["Petr Tichy",1973,"M","Zbraslavice","CZ/C1","PMČR 2022 - Kombi Open",{"$f":"VLOOKUP(F693,Soutez!A:B,2,FALSE)","v":"CZ"},{"$f":"VLOOKUP(F693,Soutez!A:C,3,FALSE)","v":2022},6,5083,1.075,8805,9465,"x",null,"ASG29E","AJ",""]
["Pavel Jiranek",1993,"M","Toužim","CZ/C1","PMČR 2022 - Kombi Open",{"$f":"VLOOKUP(F694,Soutez!A:B,2,FALSE)","v":"CZ"},{"$f":"VLOOKUP(F694,Soutez!A:C,3,FALSE)","v":2022},7,4963,1.075,8482,9118,"x",null,"Ventus c","CS",""]
["Vladimir Foltin",null,"M","Nitra","SK","PMČR 2022 - Kombi Open",{"$f":"VLOOKUP(F695,Soutez!A:B,2,FALSE)","v":"CZ"},{"$f":"VLOOKUP(F695,Soutez!A:C,3,FALSE)","v":2022},8,4841,1.075,8156,8768,null,null,"JS3",3,"Není v databázi"]
["Ondrej Bordovsky",1983,"M",{"$f":"VLOOKUP(A696,Pilot,3,0)","v":"Krnov"},{"$f":"VLOOKUP(A696,Pilot,4,0)","v":"CZ/M"},"PMČR 2022 - Kombi Open",{"$f":"VLOOKUP(F696,Soutez!A:B,2,FALSE)","v":"CZ"},{"$f":"VLOOKUP(F696,Soutez!A:C,3,FALSE)","v":2022},9,4650,1.075,7739,8319,"x",null,"Ventus c","AD",""]
["Marek Pechanec",1970,"M","Luhačovice","CZ/M","PMČR 2022 - Kombi Open",{"$f":"VLOOKUP(F697,Soutez!A:B,2,FALSE)","v":"CZ"},{"$f":"VLOOKUP(F697,Soutez!A:C,3,FALSE)","v":2022},10,4619,1.075,7532,8097,"x",null,"JS3","Q1",""]
["Jan Boruvka",1984,"M","Jičín","CZ/C2","PMČR 2022 - Kombi Open",{"$f":"VLOOKUP(F698,Soutez!A:B,2,FALSE)","v":"CZ"},{"$f":"VLOOKUP(F698,Soutez!A:C,3,FALSE)","v":2022},11,4567,1.075,7298,7845,null,null,"Ventus c","EG",""]
["Radek Zima 78",1978,"M","Hodkovice","CZ/C2","PMČR 2022 - Kombi Open",{"$f":"VLOOKUP(F699,Soutez!A:B,2,FALSE)","v":"CZ"},{"$f":"VLOOKUP(F699,Soutez!A:C,3,FALSE)","v":2022},12,4556,1.075,7117,7651,"x",null,"ASG29E","XZ",""]
["David Mach",1994,"M","Hronov","CZ/C2","PMČR 2022 - Kombi Open",{"$f":"VLOOKUP(F700,Soutez!A:B,2,FALSE)","v":"CZ"},{"$f":"VLOOKUP(F700,Soutez!A:C,3,FALSE)","v":2022},13,4188,1.075,6469,6954,null,null,"ASG29E","QZ",""]
["Ondrej Dupal",1966,"M","GAC Benešov","CZ/C1","PMČR 2022 - Kombi Open",{"$f":"VLOOKUP(F701,Soutez!A:B,2,FALSE)","v":"CZ"},{"$f":"VLOOKUP(F701,Soutez!A:C,3,FALSE)","v":2022},14,4080,1.075,6162,{"$f":"ROUND(K701*L701,0)","v":6624},null,null,"ASG29E","GO",""]
["Michaela Rendlova",2004,"F","Toužim","CZ/C1","PMČR 2022 - Kombi Open",{"$f":"VLOOKUP(F702,Soutez!A:B,2,FALSE)","v":"CZ"},{"$f":"VLOOKUP(F702,Soutez!A:C,3,FALSE)","v":2022},15,4050,1.075,5956,6403,null,null,"AS33ES","EA","Junior v roce 2024"]
["Petr Koutny",1971,"M","Křižanov","CZ/M","PMČR 2022 - Kombi Open",{"$f":"VLOOKUP(F703,Soutez!A:B,2,FALSE)","v":"CZ"},{"$f":"VLOOKUP(F703,Soutez!A:C,3,FALSE)","v":2022},16,3940,1.075,5646,6069,null,null,"JS3","XM",""]
["Martin Hrivna",1978,"M","Zbraslavice","CZ/C1","PMČR 2022 - Kombi Open",{"$f":"VLOOKUP(F704,Soutez!A:B,2,FALSE)","v":"CZ"},{"$f":"VLOOKUP(F704,Soutez!A:C,3,FALSE)","v":2022},17,3276,1.075,4612,4958,null,null,"ASG29E","NX",""]
["Petr Krejcirik",{"$f":"VLOOKUP(A705,Pilot,2,0)","v":1960},{"$f":"VLOOKUP(A705,Pilot,5,0)","v":"M"},"Hranice","CZ/M","PMČR 2022 - Kombi Open",{"$f":"VLOOKUP(F705,Soutez!A:B,2,FALSE)","v":"CZ"},{"$f":"VLOOKUP(F705,Soutez!A:C,3,FALSE)","v":2022},18,3100,1.075,4215,4531,null,null,"AS33ES",12,""]
["Takeshi Maruyama",null,"M","Japan Soaring Club","JP","PMČR 2022 - Kombi Open",{"$f":"VLOOKUP(F706,Soutez!A:B,2,FALSE)","v":"CZ"},{"$f":"VLOOKUP(F706,Soutez!A:C,3,FALSE)","v":2022},19,1373,1.075,1793,1927,null,null,"JS3","AXI","Není v databázi"]
["Josef Novotny",1983,"M",{"$f":"VLOOKUP(A707,Pilot,3,0)","v":"Přibyslav"},{"$f":"VLOOKUP(A707,Pilot,4,0)","v":"CZ/C2"},"JPJ 2022 - Klub",{"$f":"VLOOKUP(F707,Soutez!A:B,2,FALSE)","v":"CZ"},{"$f":"VLOOKUP(F707,Soutez!A:C,3,FALSE)","v":2022},1,3897,0.90500000000000003,{"$f":"ROUND(J707/MAX($J$707:$J$745)*10000*0.7+(MAX($I$707:$I$745)-I707)/(MAX($I$707:$I$745)-1)*10000*0.3,0)","v":10000},{"$f":"ROUND(K707*L707,0)","v":9050},"x",null,"Std. Cirrus","AW",""]
["Martin Ficnar",1971,"M","Šumperk","CZ/M","JPJ 2022 - Klub",{"$f":"VLOOKUP(F708,Soutez!A:B,2,FALSE)","v":"CZ"},{"$f":"VLOOKUP(F708,Soutez!A:C,3,FALSE)","v":2022},2,3838,0.90500000000000003,9815,{"$f":"ROUND(K708*L708,0)","v":8883},"x",null,"LS-3a","S20",{"$f":"IF(ISERROR(VLOOKUP(A708,Pilot,6,0)),\"Není v databázi\",VLOOKUP(A708,Pilot,6,0))","v":""}]
["Josef Novak",1981,"M","Kunovice","CZ/M","JPJ 2022 - Klub",{"$f":"VLOOKUP(F709,Soutez!A:B,2,FALSE)","v":"CZ"},{"$f":"VLOOKUP(F709,Soutez!A:C,3,FALSE)","v":2022},3,3745,0.90500000000000003,9569,8660,"x",null,"LS-1f","JT",""]
["Jan Podhrazsky",1976,"M","Šumperk","CZ/M","JPJ 2022 - Klub",{"$f":"VLOOKUP(F710,Soutez!A:B,2,FALSE)","v":"CZ"},{"$f":"VLOOKUP(F710,Soutez!A:C,3,FALSE)","v":2022},4,3657,0.90500000000000003,9332,8445,"x",null,"Discus b","SJ",""]
["Rene Hudak",1972,"M","Kunovice","CZ/M","JPJ 2022 - Klub",{"$f":"VLOOKUP(F711,Soutez!A:B,2,FALSE)","v":"CZ"},{"$f":"VLOOKUP(F711,Soutez!A:C,3,FALSE)","v":2022},5,3627,0.90500000000000003,9199,8325,"x",null,"Std. Cirrus WL","NK",""]
["Radim Sobek",1977,"M","Hranice","CZ/M","JPJ 2022 - Klub",{"$f":"VLOOKUP(F712,Soutez!A:B,2,FALSE)","v":"CZ"},{"$f":"VLOOKUP(F712,Soutez!A:C,3,FALSE)","v":2022},6,3620,0.90500000000000003,9108,8243,"x",null,"TST-10M Atlas",7,""]
["Jaroslav Buryan",1953,"M","Zábřeh","CZ/M","JPJ 2022 - Klub",{"$f":"VLOOKUP(F713,Soutez!A:B,2,FALSE)","v":"CZ"},{"$f":"VLOOKUP(F713,Soutez!A:C,3,FALSE)","v":2022},7,3579,0.90500000000000003,8955,8104,"x",null,"ASW-20 (A) WL","NS",""]
["Martin Urner",1974,"M","Letňany","CZ/C1","JPJ 2022 - Klub",{"$f":"VLOOKUP(F714,Soutez!A:B,2,FALSE)","v":"CZ"},{"$f":"VLOOKUP(F714,Soutez!A:C,3,FALSE)","v":2022},8,3575,0.90500000000000003,8869,8026,"x",null,"ASW-15B","JJ",""]
["Rostislav Stryk",1972,"M","Frýdlant","CZ/M","JPJ 2022 - Klub",{"$f":"VLOOKUP(F715,Soutez!A:B,2,FALSE)","v":"CZ"},{"$f":"VLOOKUP(F715,Soutez!A:C,3,FALSE)","v":2022},9,3412,0.90500000000000003,8497,7690,"x",null,"Std. Cirrus",22,""]
["Martin Kriz",1968,"M","Přibyslav","CZ/C2","JPJ 2022 - Klub",{"$f":"VLOOKUP(F716,Soutez!A:B,2,FALSE)","v":"CZ"},{"$f":"VLOOKUP(F716,Soutez!A:C,3,FALSE)","v":2022},10,3342,0.90500000000000003,8293,7505,"x",null,"ASW-20 (A) WL",67,""]
["Stepan Obrovsky",1990,"M","Frýdlant","CZ/M","JPJ 2022 - Klub",{"$f":"VLOOKUP(F717,Soutez!A:B,2,FALSE)","v":"CZ"},{"$f":"VLOOKUP(F717,Soutez!A:C,3,FALSE)","v":2022},11,3306,0.90500000000000003,8149,{"$f":"ROUND(K717*L717,0)","v":7375},"x",null,"LS-1f","EM",""]
["Martin Svarc",1981,"M","Olomouc","CZ/M","JPJ 2022 - Klub",{"$f":"VLOOKUP(F718,Soutez!A:B,2,FALSE)","v":"CZ"},{"$f":"VLOOKUP(F718,Soutez!A:C,3,FALSE)","v":2022},12,3089,0.90500000000000003,7680,6950,"x",null,"DG-101 G","IL",""]
["Petr Kolomaznik",1981,"M","Šumperk","CZ/M","JPJ 2022 - Klub",{"$f":"VLOOKUP(F719,Soutez!A:B,2,FALSE)","v":"CZ"},{"$f":"VLOOKUP(F719,Soutez!A:C,3,FALSE)","v":2022},13,3014,0.90500000000000003,7467,6758,"x",null,"Discus b","VE",""]
["Vojtech Novotny",1992,"M","Kralupy","CZ/C1","JPJ 2022 - Klub",{"$f":"VLOOKUP(F720,Soutez!A:B,2,FALSE)","v":"CZ"},{"$f":"VLOOKUP(F720,Soutez!A:C,3,FALSE)","v":2022},14,2991,0.90500000000000003,7346,6648,"x",null,"LS-1f","EF",""]
["Petr Havrlant",1965,"M","Šumperk","CZ/M","JPJ 2022 - Klub",{"$f":"VLOOKUP(F721,Soutez!A:B,2,FALSE)","v":"CZ"},{"$f":"VLOOKUP(F721,Soutez!A:C,3,FALSE)","v":2022},15,2942,0.90500000000000003,7179,6497,"x",null,"ASW-15B","Q1",""]
["David Vrchota",1976,"M","Jaroměř","CZ/C2","JPJ 2022 - Klub",{"$f":"VLOOKUP(F722,Soutez!A:B,2,FALSE)","v":"CZ"},{"$f":"VLOOKUP(F722,Soutez!A:C,3,FALSE)","v":2022},16,2904,0.90500000000000003,7032,6364,null,null,"Janus b","BV",""]
["Jiri Koudela",1974,"M","Vyškov","CZ/M","JPJ 2022 - Klub",{"$f":"VLOOKUP(F723,Soutez!A:B,2,FALSE)","v":"CZ"},{"$f":"VLOOKUP(F723,Soutez!A:C,3,FALSE)","v":2022},17,2799,{"$f":"VLOOKUP(F723,Soutez,12,0)","v":0.90500000000000003},6765,6122,"x",null,"ASW-19B","JK",""]
["Petr Lonsky",1965,"M","Toužim","CZ/C1","JPJ 2022 - Klub",{"$f":"VLOOKUP(F724,Soutez!A:B,2,FALSE)","v":"CZ"},{"$f":"VLOOKUP(F724,Soutez!A:C,3,FALSE)","v":2022},18,2778,0.90500000000000003,6648,6016,"x",null,"Cirrus","JP",""]
["Karel Horalek",1976,"M","Olomouc","CZ/M","JPJ 2022 - Klub",{"$f":"VLOOKUP(F725,Soutez!A:B,2,FALSE)","v":"CZ"},{"$f":"VLOOKUP(F725,Soutez!A:C,3,FALSE)","v":2022},19,2758,0.90500000000000003,6533,5912,"x",null,"LS-3","Y1",""]
["Jiri Prochazka",1971,"M","Toužim","CZ/C1","JPJ 2022 - Klub",{"$f":"VLOOKUP(F726,Soutez!A:B,2,FALSE)","v":"CZ"},{"$f":"VLOOKUP(F726,Soutez!A:C,3,FALSE)","v":2022},20,2727,0.90500000000000003,6398,5790,"x",null,"Janus CM","J59",""]
["Jan Vozeh",1995,"M","Rakovník","CZ/C1","JPJ 2022 - Klub",{"$f":"VLOOKUP(F727,Soutez!A:B,2,FALSE)","v":"CZ"},{"$f":"VLOOKUP(F727,Soutez!A:C,3,FALSE)","v":2022},21,2714,0.90500000000000003,6296,5698,"x",null,"Std. Cirrus","OG",""]
["Roman Schotli",1970,"M","Hranice","CZ/M","JPJ 2022 - Klub",{"$f":"VLOOKUP(F728,Soutez!A:B,2,FALSE)","v":"CZ"},{"$f":"VLOOKUP(F728,Soutez!A:C,3,FALSE)","v":2022},22,2573,0.90500000000000003,5964,5397,"x",null,"ASW-19B",19,""]
["Jakub Kohn",1992,"M","Prostějov","CZ/M","JPJ 2022 - Klub",{"$f":"VLOOKUP(F729,Soutez!A:B,2,FALSE)","v":"CZ"},{"$f":"VLOOKUP(F729,Soutez!A:C,3,FALSE)","v":2022},23,2410,0.90500000000000003,5592,5061,"x",null,"ASW-15B","FK",""]
["Jan Zezula",1979,"M","Letňany","CZ/C1","JPJ 2022 - Klub",{"$f":"VLOOKUP(F730,Soutez!A:B,2,FALSE)","v":"CZ"},{"$f":"VLOOKUP(F730,Soutez!A:C,3,FALSE)","v":2022},24,2384,0.90500000000000003,5466,4947,"x",null,"ASW-19B","HD",""]
["Boris Bachraty",1974,"M",{"$f":"VLOOKUP(A731,Pilot,3,0)","v":"Kyjov"},{"$f":"VLOOKUP(A731,Pilot,4,0)","v":"CZ/M"},"JPJ 2022 - Klub",{"$f":"VLOOKUP(F731,Soutez!A:B,2,FALSE)","v":"CZ"},{"$f":"VLOOKUP(F731,Soutez!A:C,3,FALSE)","v":2022},25,2256,0.90500000000000003,5158,4668,"x",null,"Std. Cirrus",90,""]
["Radim Tomala",1972,"M","Prostějov","CZ/M","JPJ 2022 - Klub",{"$f":"VLOOKUP(F732,Soutez!A:B,2,FALSE)","v":"CZ"},{"$f":"VLOOKUP(F732,Soutez!A:C,3,FALSE)","v":2022},26,2106,0.90500000000000003,4809,4352,"x",null,"Std. Cirrus","RT",""]
["Peter Kaspar",1980,"M","Vyškov","CZ/M","JPJ 2022 - Klub",{"$f":"VLOOKUP(F733,Soutez!A:B,2,FALSE)","v":"CZ"},{"$f":"VLOOKUP(F733,Soutez!A:C,3,FALSE)","v":2022},27,2003,0.90500000000000003,4545,4113,"x",null,"G-102 Astir 77","AP",""]
["Lukas Petrzela",1987,"M","Olomouc","CZ/M","JPJ 2022 - Klub",{"$f":"VLOOKUP(F734,Soutez!A:B,2,FALSE)","v":"CZ"},{"$f":"VLOOKUP(F734,Soutez!A:C,3,FALSE)","v":2022},28,1740,0.90500000000000003,3994,3615,"x",null,"G-102 Astir CS","AL",""]
["Adam Sugl",1987,"M","Vyškov","CZ/M","JPJ 2022 - Klub",{"$f":"VLOOKUP(F735,Soutez!A:B,2,FALSE)","v":"CZ"},{"$f":"VLOOKUP(F735,Soutez!A:C,3,FALSE)","v":2022},29,1649,0.90500000000000003,3751,3395,"x",null,"Std. Cirrus","GT",""]
["Yvona Vyhnankova",1963,"F","Olomouc","CZ/M","JPJ 2022 - Klub",{"$f":"VLOOKUP(F736,Soutez!A:B,2,FALSE)","v":"CZ"},{"$f":"VLOOKUP(F736,Soutez!A:C,3,FALSE)","v":2022},30,1480,0.90500000000000003,3369,3049,"x","x","ASW-15","YZ",""]
["Michal Linhart",1982,"M","Vyškov","CZ/M","JPJ 2022 - Klub",{"$f":"VLOOKUP(F737,Soutez!A:B,2,FALSE)","v":"CZ"},{"$f":"VLOOKUP(F737,Soutez!A:C,3,FALSE)","v":2022},31,1429,0.90500000000000003,3198,2894,"x",null,"DG-1000S 18m",66,""]
["Jan Blaha",1983,"M","Kyjov","CZ/M","JPJ 2022 - Klub",{"$f":"VLOOKUP(F738,Soutez!A:B,2,FALSE)","v":"CZ"},{"$f":"VLOOKUP(F738,Soutez!A:C,3,FALSE)","v":2022},32,1384,0.90500000000000003,3039,2750,"x",null,"ASW-15B","E",""]
["Jiri Vavrina",1958,"M","Kyjov","CZ/M","JPJ 2022 - Klub",{"$f":"VLOOKUP(F739,Soutez!A:B,2,FALSE)","v":"CZ"},{"$f":"VLOOKUP(F739,Soutez!A:C,3,FALSE)","v":2022},33,1322,0.90500000000000003,2848,2577,"x",null,"LS-1f","BS",""]
["Ludek Mikl",1963,"M",{"$f":"VLOOKUP(A740,Pilot,3,0)","v":"Šumperk"},{"$f":"VLOOKUP(A740,Pilot,4,0)","v":"CZ/M"},"JPJ 2022 - Klub",{"$f":"VLOOKUP(F740,Soutez!A:B,2,FALSE)","v":"CZ"},{"$f":"VLOOKUP(F740,Soutez!A:C,3,FALSE)","v":2022},34,1292,0.90500000000000003,2715,2457,"x",null,"Std. Cirrus",16,""]
["Karel Ertl",1939,"M","LK Břeclav","CZ/M","JPJ 2022 - Klub",{"$f":"VLOOKUP(F741,Soutez!A:B,2,FALSE)","v":"CZ"},{"$f":"VLOOKUP(F741,Soutez!A:C,3,FALSE)","v":2022},35,1228,0.90500000000000003,2522,2282,"x",null,"TST-10M Atlas","KE",""]
["Miroslav Mancik",1976,"M","Kyjov","CZ/M","JPJ 2022 - Klub",{"$f":"VLOOKUP(F742,Soutez!A:B,2,FALSE)","v":"CZ"},{"$f":"VLOOKUP(F742,Soutez!A:C,3,FALSE)","v":2022},36,1014,0.90500000000000003,2058,1862,"x",null,"G-103 Twin Astir","KW",""]
["Lukas Zach",1987,"M","Vyškov","CZ/M","JPJ 2022 - Klub",{"$f":"VLOOKUP(F743,Soutez!A:B,2,FALSE)","v":"CZ"},{"$f":"VLOOKUP(F743,Soutez!A:C,3,FALSE)","v":2022},37,937,0.90500000000000003,1841,{"$f":"ROUND(K743*L743,0)","v":1666},"x",null,"G-102 Astir 77","AS",""]
["Josef Hlusek",1993,"M","Kunovice","CZ/M","JPJ 2022 - Klub",{"$f":"VLOOKUP(F744,Soutez!A:B,2,FALSE)","v":"CZ"},{"$f":"VLOOKUP(F744,Soutez!A:C,3,FALSE)","v":2022},38,806,0.90500000000000003,1527,1382,"x",null,"Std. Cirrus","WO",""]
["Jan Florian",1992,"M","Zbraslavice","CZ/C1","JPJ 2022 - Klub",{"$f":"VLOOKUP(F745,Soutez!A:B,2,FALSE)","v":"CZ"},{"$f":"VLOOKUP(F745,Soutez!A:C,3,FALSE)","v":2022},39,667,0.90500000000000003,1198,1084,null,null,"Std. Cirrus","C1",""]
["Radek Hybl",1980,"M",{"$f":"VLOOKUP(A746,Pilot,3,0)","v":"Šumperk"},{"$f":"VLOOKUP(A746,Pilot,4,0)","v":"CZ/M"},"JPJ 2022 - Kombi",{"$f":"VLOOKUP(F746,Soutez!A:B,2,FALSE)","v":"CZ"},{"$f":"VLOOKUP(F746,Soutez!A:C,3,FALSE)","v":2022},1,4147,0.91,{"$f":"ROUND(J746/MAX($J$746:$J$765)*10000*0.7+(MAX($I$746:$I$765)-I746)/(MAX($I$746:$I$765)-1)*10000*0.3,0)","v":10000},{"$f":"ROUND(K746*L746,0)","v":9100},"x",null,"Ventus cm 17,6m","IHH",""]
["Frantisek Vancura",1966,"M","Hranice","CZ/M","JPJ 2022 - Kombi",{"$f":"VLOOKUP(F747,Soutez!A:B,2,FALSE)","v":"CZ"},{"$f":"VLOOKUP(F747,Soutez!A:C,3,FALSE)","v":2022},2,4071,0.91,9714,{"$f":"ROUND(K747*L747,0)","v":8840},"x",null,"Nimbus 3T 24,5m WL 750kg","A1",""]
["Michal Cechmanek",1978,"M","Kroměříž","CZ/M","JPJ 2022 - Kombi",{"$f":"VLOOKUP(F748,Soutez!A:B,2,FALSE)","v":"CZ"},{"$f":"VLOOKUP(F748,Soutez!A:C,3,FALSE)","v":2022},3,4020,0.91,9470,8618,"x",null,"ASW-20 L+F 16,6m","MK",""]
["Jan Dersak 69",1969,"M","Kralupy","CZ/C1","JPJ 2022 - Kombi",{"$f":"VLOOKUP(F749,Soutez!A:B,2,FALSE)","v":"CZ"},{"$f":"VLOOKUP(F749,Soutez!A:C,3,FALSE)","v":2022},4,3962,0.91,9214,8385,"x",null,"HpH 304JS 18m 573kg","DJ",""]
["Marek Blatak",1969,"M","Šumperk","CZ/M","JPJ 2022 - Kombi",{"$f":"VLOOKUP(F750,Soutez!A:B,2,FALSE)","v":"CZ"},{"$f":"VLOOKUP(F750,Soutez!A:C,3,FALSE)","v":2022},5,3911,0.91,8970,8163,"x",null,"DG-808 S 18m WL","W",""]
["Jiri Steiger",1969,"M","Olomouc","CZ/M","JPJ 2022 - Kombi",{"$f":"VLOOKUP(F751,Soutez!A:B,2,FALSE)","v":"CZ"},{"$f":"VLOOKUP(F751,Soutez!A:C,3,FALSE)","v":2022},6,3887,0.91,8772,7983,"x",null,"Ventus 3M 18m","JS",""]
["Jan Simon",1970,"M","Kralupy","CZ/C1","JPJ 2022 - Kombi",{"$f":"VLOOKUP(F752,Soutez!A:B,2,FALSE)","v":"CZ"},{"$f":"VLOOKUP(F752,Soutez!A:C,3,FALSE)","v":2022},7,3440,0.91,7859,7152,"x",null,"Duo Discus T 700kg","ZS",""]
["Ladislav Jozsa",1981,"M","Medlánky","CZ/M","JPJ 2022 - Kombi",{"$f":"VLOOKUP(F753,Soutez!A:B,2,FALSE)","v":"CZ"},{"$f":"VLOOKUP(F753,Soutez!A:C,3,FALSE)","v":2022},8,3359,0.91,7565,6884,"x",null,"Ventus c 17,6m","WW",""]
["Zdenek Schenk",1972,"M","Hranice","CZ/M","JPJ 2022 - Kombi",{"$f":"VLOOKUP(F754,Soutez!A:B,2,FALSE)","v":"CZ"},{"$f":"VLOOKUP(F754,Soutez!A:C,3,FALSE)","v":2022},9,3304,0.91,7314,6656,"x",null,"Ventus cm 17,6m","ŠNeK",""]
["Miroslav Koci",1961,"M","Žamberk","CZ/C2","JPJ 2022 - Kombi",{"$f":"VLOOKUP(F755,Soutez!A:B,2,FALSE)","v":"CZ"},{"$f":"VLOOKUP(F755,Soutez!A:C,3,FALSE)","v":2022},10,3089,{"$f":"VLOOKUP(F755,Soutez,12,0)","v":0.91},6793,6182,"x",null,"Ventus 2cxm 18m 565kg","E8",""]
["Tomas Prikryl",1973,"M","Vyškov","CZ/M","JPJ 2022 - Kombi",{"$f":"VLOOKUP(F756,Soutez!A:B,2,FALSE)","v":"CZ"},{"$f":"VLOOKUP(F756,Soutez!A:C,3,FALSE)","v":2022},11,2976,0.91,6444,5864,"x",null,"Ventus 2cm 18m 525kg","FN",""]
["Petr Babak",1973,"M","Hořice","CZ/C2","JPJ 2022 - Kombi",{"$f":"VLOOKUP(F757,Soutez!A:B,2,FALSE)","v":"CZ"},{"$f":"VLOOKUP(F757,Soutez!A:C,3,FALSE)","v":2022},12,2747,0.91,5900,5369,null,null,"Ventus c 17,6m","LS",""]
["Antonin Kutalek",1943,"M","Zábřeh","CZ/M","JPJ 2022 - Kombi",{"$f":"VLOOKUP(F758,Soutez!A:B,2,FALSE)","v":"CZ"},{"$f":"VLOOKUP(F758,Soutez!A:C,3,FALSE)","v":2022},13,2675,0.91,5621,{"$f":"ROUND(K758*L758,0)","v":5115},"x",null,"LAK-17AT 18m","GLK",""]
["Albrecht Beat",{"$f":"VLOOKUP(A759,Pilot,2,0)","v":1953},{"$f":"VLOOKUP(A759,Pilot,5,0)","v":"M"},"Šumperk","CZ/M","JPJ 2022 - Kombi",{"$f":"VLOOKUP(F759,Soutez!A:B,2,FALSE)","v":"CZ"},{"$f":"VLOOKUP(F759,Soutez!A:C,3,FALSE)","v":2022},14,2550,0.91,5252,4779,"x",null,"LS-8-18 18m","GL",""]
["Miroslav Sklenar",1964,"M","Žamberk","CZ/C2","JPJ 2022 - Kombi",{"$f":"VLOOKUP(F760,Soutez!A:B,2,FALSE)","v":"CZ"},{"$f":"VLOOKUP(F760,Soutez!A:C,3,FALSE)","v":2022},15,2475,0.91,4967,4520,"x",null,"Duo Discus 700kg","VP",""]
["Pavel Haluza",1966,"M","Prostějov","CZ/M","JPJ 2022 - Kombi",{"$f":"VLOOKUP(F761,Soutez!A:B,2,FALSE)","v":"CZ"},{"$f":"VLOOKUP(F761,Soutez!A:C,3,FALSE)","v":2022},16,2223,0.91,4384,3989,"x",null,"Nimbus 2b","HT",""]
["Vit Grossmann",1977,"M","Hranice","CZ/M","JPJ 2022 - Kombi",{"$f":"VLOOKUP(F762,Soutez!A:B,2,FALSE)","v":"CZ"},{"$f":"VLOOKUP(F762,Soutez!A:C,3,FALSE)","v":2022},17,2096,0.91,4012,3651,"x",null,"Duo Discus 700kg","OK",""]
["Michal Hemrle",1974,"M","Česká Lípa","CZ/C2","JPJ 2022 - Kombi",{"$f":"VLOOKUP(F763,Soutez!A:B,2,FALSE)","v":"CZ"},{"$f":"VLOOKUP(F763,Soutez!A:C,3,FALSE)","v":2022},18,1826,0.91,3398,3092,null,null,"ASG-29E 18m","ET",""]
["Olga Mokosova",1970,"F","Jihlava","CZ/M","JPJ 2022 - Kombi",{"$f":"VLOOKUP(F764,Soutez!A:B,2,FALSE)","v":"CZ"},{"$f":"VLOOKUP(F764,Soutez!A:C,3,FALSE)","v":2022},19,1736,0.91,3088,2810,"x","x","LS-6c 18m WL","MM",""]
["Pavel Handl",1971,"M","Kroměříž","CZ/M","JPJ 2022 - Kombi",{"$f":"VLOOKUP(F765,Soutez!A:B,2,FALSE)","v":"CZ"},{"$f":"VLOOKUP(F765,Soutez!A:C,3,FALSE)","v":2022},20,641,0.91,1082,985,"x",null,"Ventus 2cm 18m 525kg","VJ",""]
["Michal Lesinger",1966,"M",{"$f":"VLOOKUP(A766,Pilot,3,0)","v":"Moravská Třebová"},{"$f":"VLOOKUP(A766,Pilot,4,0)","v":"CZ/M"},"PMRg 2022 - Klub",{"$f":"VLOOKUP(F766,Soutez!A:B,2,FALSE)","v":"CZ"},{"$f":"VLOOKUP(F766,Soutez!A:C,3,FALSE)","v":2022},1,3948,0.91500000000000004,{"$f":"ROUND(J766/MAX($J$766:$J$778)*10000*0.7+(MAX($I$766:$I$778)-I766)/(MAX($I$766:$I$778)-1)*10000*0.3,0)","v":10000},{"$f":"ROUND(K766*L766,0)","v":9150},null,null,"ASW 20","LL",{"$f":"IF(ISERROR(VLOOKUP(A766,Pilot,6,0)),\"Není v databázi\",VLOOKUP(A766,Pilot,6,0))","v":""}]
["Jiri Kusbach",1959,"M","Luhačovice","CZ/M","PMRg 2022 - Klub",{"$f":"VLOOKUP(F767,Soutez!A:B,2,FALSE)","v":"CZ"},{"$f":"VLOOKUP(F767,Soutez!A:C,3,FALSE)","v":2022},2,3831,0.91500000000000004,9543,{"$f":"ROUND(K767*L767,0)","v":8732},null,null,"KKB-15E FES","B",""]
["Jan Smaha",1958,"M","Česká Lípa","CZ/C2","PMRg 2022 - Klub",{"$f":"VLOOKUP(F768,Soutez!A:B,2,FALSE)","v":"CZ"},{"$f":"VLOOKUP(F768,Soutez!A:C,3,FALSE)","v":2022},3,3458,0.91500000000000004,8631,7897,"x",null,"ASW 15 B","CW",""]
["Lukas Maly",1998,"M","Vysoké Mýto","CZ/C2","PMRg 2022 - Klub",{"$f":"VLOOKUP(F769,Soutez!A:B,2,FALSE)","v":"CZ"},{"$f":"VLOOKUP(F769,Soutez!A:C,3,FALSE)","v":2022},4,3447,0.91500000000000004,8362,7651,"x",null,"Discus b",65,""]
["Jiri Stepanek",1956,"M","Moravská Třebová","CZ/M","PMRg 2022 - Klub",{"$f":"VLOOKUP(F770,Soutez!A:B,2,FALSE)","v":"CZ"},{"$f":"VLOOKUP(F770,Soutez!A:C,3,FALSE)","v":2022},5,3387,0.91500000000000004,8005,7325,"x",null,"ASW 15 B","LE",""]
["Martin Stepanek",1987,"M","Moravská Třebová","CZ/M","PMRg 2022 - Klub",{"$f":"VLOOKUP(F771,Soutez!A:B,2,FALSE)","v":"CZ"},{"$f":"VLOOKUP(F771,Soutez!A:C,3,FALSE)","v":2022},6,3361,0.91500000000000004,7709,{"$f":"ROUND(K771*L771,0)","v":7054},"x",null,"ASW 19 B","AE",""]
["Tomas Hynek",2002,"M","Dvůr Králové","CZ/C2","PMRg 2022 - Klub",{"$f":"VLOOKUP(F772,Soutez!A:B,2,FALSE)","v":"CZ"},{"$f":"VLOOKUP(F772,Soutez!A:C,3,FALSE)","v":2022},7,3190,0.91500000000000004,7156,6548,null,null,"DG 200","HL","Junior v roce 2024"]
["Pavel Koudelka",1973,"M","Křižanov","CZ/M","PMRg 2022 - Klub",{"$f":"VLOOKUP(F773,Soutez!A:B,2,FALSE)","v":"CZ"},{"$f":"VLOOKUP(F773,Soutez!A:C,3,FALSE)","v":2022},8,3156,0.91500000000000004,6846,6264,"x",null,"Std. Cirrus","ZL",""]
["Michaela Krizova",2001,"F","Přibyslav","CZ/C2","PMRg 2022 - Klub",{"$f":"VLOOKUP(F774,Soutez!A:B,2,FALSE)","v":"CZ"},{"$f":"VLOOKUP(F774,Soutez!A:C,3,FALSE)","v":2022},9,2951,0.91500000000000004,6232,5702,"x",null,"ASW 15 B","BE","Junior v roce 2024"]
["Pavlina Horackova",1965,"F","Šumperk","CZ/M","PMRg 2022 - Klub",{"$f":"VLOOKUP(F775,Soutez!A:B,2,FALSE)","v":"CZ"},{"$f":"VLOOKUP(F775,Soutez!A:C,3,FALSE)","v":2022},10,2618,0.91500000000000004,5392,4934,"x","x","SZD-48 Jantar Std. 2","SU",""]
["Katerina Vancurova",2002,"F","Hranice","CZ/M","PMRg 2022 - Klub",{"$f":"VLOOKUP(F776,Soutez!A:B,2,FALSE)","v":"CZ"},{"$f":"VLOOKUP(F776,Soutez!A:C,3,FALSE)","v":2022},11,2331,0.91500000000000004,4633,4239,"x","x","Discus b","HD","Junior v roce 2024"]
["Jan Florian",1992,"M","Zbraslavice","CZ/C1","PMRg 2022 - Klub",{"$f":"VLOOKUP(F777,Soutez!A:B,2,FALSE)","v":"CZ"},{"$f":"VLOOKUP(F777,Soutez!A:C,3,FALSE)","v":2022},12,2188,0.91500000000000004,4129,3778,null,null,"Std. Cirrus","C1",""]
["Jiri Krofta",1988,"M","Hosín","CZ/C1","PMRg 2022 - Klub",{"$f":"VLOOKUP(F778,Soutez!A:B,2,FALSE)","v":"CZ"},{"$f":"VLOOKUP(F778,Soutez!A:C,3,FALSE)","v":2022},13,1904,0.91500000000000004,3376,3089,"x",null,"Std. Cirrus","YU",""]
["Lukas Capek",1992,"M",{"$f":"VLOOKUP(A779,Pilot,3,0)","v":"Letňany"},{"$f":"VLOOKUP(A779,Pilot,4,0)","v":"CZ/C1"},"PMRg 2022 - Kombi",{"$f":"VLOOKUP(F779,Soutez!A:B,2,FALSE)","v":"CZ"},{"$f":"VLOOKUP(F779,Soutez!A:C,3,FALSE)","v":2022},1,3354,0.91,{"$f":"ROUND(J779/MAX($J$779:$J$789)*10000*0.7+(MAX($I$779:$I$789)-I779)/(MAX($I$779:$I$789)-1)*10000*0.3,0)","v":10000},{"$f":"ROUND(K779*L779,0)","v":9100},"x",null,"Mosquito","LC",""]
["Jaroslav Potmesil",1964,"M","Zbraslavice","CZ/C1","PMRg 2022 - Kombi",{"$f":"VLOOKUP(F780,Soutez!A:B,2,FALSE)","v":"CZ"},{"$f":"VLOOKUP(F780,Soutez!A:C,3,FALSE)","v":2022},2,2942,0.91,8807,{"$f":"ROUND(K780*L780,0)","v":8014},"x",null,"HpH 304 TS Twin Shark","TS",""]
["Petr Hora",1948,"M","Hodkovice","CZ/C2","PMRg 2022 - Kombi",{"$f":"VLOOKUP(F781,Soutez!A:B,2,FALSE)","v":"CZ"},{"$f":"VLOOKUP(F781,Soutez!A:C,3,FALSE)","v":2022},3,2515,0.91,7582,6900,"x",null,"HpH 304 MS Shark","B1",""]
["Tomas Kulhavy",2001,"M","Liberec","CZ/C2","PMRg 2022 - Kombi",{"$f":"VLOOKUP(F782,Soutez!A:B,2,FALSE)","v":"CZ"},{"$f":"VLOOKUP(F782,Soutez!A:C,3,FALSE)","v":2022},4,2500,0.91,7218,6568,"x",null,"HpH 304 CZ 17.4m","IH","Junior v roce 2024"]
["Antonin Kutalek",1943,"M","Zábřeh","CZ/M","PMRg 2022 - Kombi",{"$f":"VLOOKUP(F783,Soutez!A:B,2,FALSE)","v":"CZ"},{"$f":"VLOOKUP(F783,Soutez!A:C,3,FALSE)","v":2022},5,2340,0.91,6550,5961,"x",null,"LAK-17A T 18m","GL",""]
["Radek Zima 78",1978,"M","Hodkovice","CZ/C2","PMRg 2022 - Kombi",{"$f":"VLOOKUP(F784,Soutez!A:B,2,FALSE)","v":"CZ"},{"$f":"VLOOKUP(F784,Soutez!A:C,3,FALSE)","v":2022},6,1372,0.91,4197,3819,null,null,"ASG 29 E 18m","XZ",""]
["Jaromir Macoun",1999,"M","Jičín","CZ/C2","PMRg 2022 - Kombi",{"$f":"VLOOKUP(F785,Soutez!A:B,2,FALSE)","v":"CZ"},{"$f":"VLOOKUP(F785,Soutez!A:C,3,FALSE)","v":2022},7,225,0.91,1470,1338,null,null,"LS 8","EU","Junior v roce 2024"]
["Ivan Tvrdik",1997,"M","Letňany","CZ/C1","PMRg 2022 - Kombi",{"$f":"VLOOKUP(F786,Soutez!A:B,2,FALSE)","v":"CZ"},{"$f":"VLOOKUP(F786,Soutez!A:C,3,FALSE)","v":2022},8,221,0.91,1128,{"$f":"ROUND(K786*L786,0)","v":1026},null,null,"ASW 20 16.6m","NW",""]
["Jan Drbohlav",1999,"M","Hodkovice","CZ/C2","PMRg 2022 - Kombi",{"$f":"VLOOKUP(F787,Soutez!A:B,2,FALSE)","v":"CZ"},{"$f":"VLOOKUP(F787,Soutez!A:C,3,FALSE)","v":2022},9,1,{"$f":"VLOOKUP(F787,Soutez,12,0)","v":0.91},335,305,"x",null,"G 103 Twin Astir","BL","Junior v roce 2024"]
["Vojtech Hajek",1987,"M","Mladá Boleslav","CZ/C1","PMRg 2022 - Kombi",{"$f":"VLOOKUP(F788,Soutez!A:B,2,FALSE)","v":"CZ"},{"$f":"VLOOKUP(F788,Soutez!A:C,3,FALSE)","v":2022},10,0,0.91,0,0,null,null,"Duo Discus",777,""]
["Karel Novak",1993,"M","Mladá Boleslav","CZ/C1","PMRg 2022 - Kombi",{"$f":"VLOOKUP(F789,Soutez!A:B,2,FALSE)","v":"CZ"},{"$f":"VLOOKUP(F789,Soutez!A:C,3,FALSE)","v":2022},10,0,0.91,0,0,null,null,"LS 8","ID",""]
["Lukas Kriz",2003,"M",{"$f":"VLOOKUP(A790,Pilot,3,0)","v":"Křižanov"},{"$f":"VLOOKUP(A790,Pilot,4,0)","v":"CZ/M"},"PMČRj 2022 - Klub",{"$f":"VLOOKUP(F790,Soutez!A:B,2,FALSE)","v":"CZ"},{"$f":"VLOOKUP(F790,Soutez!A:C,3,FALSE)","v":2022},1,4452,0.91500000000000004,{"$f":"ROUND(J790/MAX($J$790:$J$818)*10000*0.7+(MAX($I$790:$I$818)-I790)/(MAX($I$790:$I$818)-1)*10000*0.3,0)","v":10000},{"$f":"ROUND(K790*L790,0)","v":9150},null,null,"LS 8a 15m","AU","Junior v roce 2024"]
["Vladimir Hammer",2000,"M","Letkov","CZ/C1","PMČRj 2022 - Klub",{"$f":"VLOOKUP(F791,Soutez!A:B,2,FALSE)","v":"CZ"},{"$f":"VLOOKUP(F791,Soutez!A:C,3,FALSE)","v":2022},2,4170,0.91500000000000004,9449,{"$f":"ROUND(K791*L791,0)","v":8646},"x",null,"Std. Cirrus","SB","Junior v roce 2024"]
["Jan Stastny",2003,"M","Medlánky","CZ/M","PMČRj 2022 - Klub",{"$f":"VLOOKUP(F792,Soutez!A:B,2,FALSE)","v":"CZ"},{"$f":"VLOOKUP(F792,Soutez!A:C,3,FALSE)","v":2022},3,4073,0.91500000000000004,9190,8409,null,null,"Std. Cirrus","CX","Junior v roce 2024"]
["Vit Morkovsky",2000,"M","Polička","CZ/C2","PMČRj 2022 - Klub",{"$f":"VLOOKUP(F793,Soutez!A:B,2,FALSE)","v":"CZ"},{"$f":"VLOOKUP(F793,Soutez!A:C,3,FALSE)","v":2022},4,4051,0.91500000000000004,9048,8279,null,null,"ASW 24 A WL","SM","Junior v roce 2024"]
["Lukas Volek",2004,"M","Hodkovice","CZ/C2","PMČRj 2022 - Klub",{"$f":"VLOOKUP(F794,Soutez!A:B,2,FALSE)","v":"CZ"},{"$f":"VLOOKUP(F794,Soutez!A:C,3,FALSE)","v":2022},5,3982,0.91500000000000004,8832,8081,"x",null,"Std. Cirrus","UB","Junior v roce 2024"]
["Tomas Hynek",2002,"M","Dvůr Králové","CZ/C2","PMČRj 2022 - Klub",{"$f":"VLOOKUP(F795,Soutez!A:B,2,FALSE)","v":"CZ"},{"$f":"VLOOKUP(F795,Soutez!A:C,3,FALSE)","v":2022},6,3980,0.91500000000000004,8722,7981,"x",null,"Std. Cirrus","HT","Junior v roce 2024"]
["Ivan Tvrdik",1997,"M","Letňany","CZ/C1","PMČRj 2022 - Klub",{"$f":"VLOOKUP(F796,Soutez!A:B,2,FALSE)","v":"CZ"},{"$f":"VLOOKUP(F796,Soutez!A:C,3,FALSE)","v":2022},7,3976,0.91500000000000004,8609,7877,"x",null,"ASW 19B","KZ",""]
["Michaela Krizova",2001,"F","Přibyslav","CZ/C2","PMČRj 2022 - Klub",{"$f":"VLOOKUP(F797,Soutez!A:B,2,FALSE)","v":"CZ"},{"$f":"VLOOKUP(F797,Soutez!A:C,3,FALSE)","v":2022},8,3975,0.91500000000000004,8500,7778,"x","x","ASW 15B","BE","Junior v roce 2024"]
["Jan Beran",1999,"M","Kladno","CZ/C1","PMČRj 2022 - Klub",{"$f":"VLOOKUP(F798,Soutez!A:B,2,FALSE)","v":"CZ"},{"$f":"VLOOKUP(F798,Soutez!A:C,3,FALSE)","v":2022},9,3935,0.91500000000000004,8330,7622,"x",null,"ASW 19B","HB","Junior v roce 2024"]
["Petr Havelka",1997,"M","Zbraslavice","CZ/C1","PMČRj 2022 - Klub",{"$f":"VLOOKUP(F799,Soutez!A:B,2,FALSE)","v":"CZ"},{"$f":"VLOOKUP(F799,Soutez!A:C,3,FALSE)","v":2022},10,3908,0.91500000000000004,8180,7485,"x",null,"ASW 19B","PH",""]
["Jaromir Macoun",1999,"M","Jičín","CZ/C2","PMČRj 2022 - Klub",{"$f":"VLOOKUP(F800,Soutez!A:B,2,FALSE)","v":"CZ"},{"$f":"VLOOKUP(F800,Soutez!A:C,3,FALSE)","v":2022},11,3856,0.91500000000000004,7991,7312,null,null,"LS 8a 15m","EU","Junior v roce 2024"]
["Tereza Koubkova",1999,"F","Vysoké Mýto","CZ/C2","PMČRj 2022 - Klub",{"$f":"VLOOKUP(F801,Soutez!A:B,2,FALSE)","v":"CZ"},{"$f":"VLOOKUP(F801,Soutez!A:C,3,FALSE)","v":2022},12,3814,0.91500000000000004,7818,7153,"x",null,"ASW 19 B","XP","Junior v roce 2024"]
["Tomas Kulhavy",2001,"M","Liberec","CZ/C2","PMČRj 2022 - Klub",{"$f":"VLOOKUP(F802,Soutez!A:B,2,FALSE)","v":"CZ"},{"$f":"VLOOKUP(F802,Soutez!A:C,3,FALSE)","v":2022},13,3053,0.91500000000000004,6515,{"$f":"ROUND(K802*L802,0)","v":5961},null,null,"LS 3 15m","R9","Junior v roce 2024"]
["Stepan Filakovsky",2005,"M","Medlánky","CZ/M","PMČRj 2022 - Klub",{"$f":"VLOOKUP(F803,Soutez!A:B,2,FALSE)","v":"CZ"},{"$f":"VLOOKUP(F803,Soutez!A:C,3,FALSE)","v":2022},14,2964,0.91500000000000004,6268,5735,"x",null,"LS 1 f","FD","Junior v roce 2024"]
["Jakub Malik",1999,"M","Letňany","CZ/C1","PMČRj 2022 - Klub",{"$f":"VLOOKUP(F804,Soutez!A:B,2,FALSE)","v":"CZ"},{"$f":"VLOOKUP(F804,Soutez!A:C,3,FALSE)","v":2022},15,2905,0.91500000000000004,6068,5552,null,null,"Discus b WL","DP","Junior v roce 2024"]
["Jiri Maier 99",1999,"M","Raná","CZ/C2","PMČRj 2022 - Klub",{"$f":"VLOOKUP(F805,Soutez!A:B,2,FALSE)","v":"CZ"},{"$f":"VLOOKUP(F805,Soutez!A:C,3,FALSE)","v":2022},16,2746,0.91500000000000004,5710,5225,"x",null,"Discus bt WL","TAL","Junior v roce 2024"]
["Lukas Maly",1998,"M","Vysoké Mýto","CZ/C2","PMČRj 2022 - Klub",{"$f":"VLOOKUP(F806,Soutez!A:B,2,FALSE)","v":"CZ"},{"$f":"VLOOKUP(F806,Soutez!A:C,3,FALSE)","v":2022},17,2601,0.91500000000000004,5375,4918,null,null,"Discus b",65,""]
["Adam Hepal",2004,"M","Moravská Třebová","CZ/M","PMČRj 2022 - Klub",{"$f":"VLOOKUP(F807,Soutez!A:B,2,FALSE)","v":"CZ"},{"$f":"VLOOKUP(F807,Soutez!A:C,3,FALSE)","v":2022},18,2570,0.91500000000000004,5219,4775,"x",null,"ASW 19B","AE","Junior v roce 2024"]
["Fabian Curda",{"$f":"VLOOKUP(A808,Pilot,2,0)","v":2004},{"$f":"VLOOKUP(A808,Pilot,5,0)","v":"M"},"Zábřeh","CZ/M","PMČRj 2022 - Klub",{"$f":"VLOOKUP(F808,Soutez!A:B,2,FALSE)","v":"CZ"},{"$f":"VLOOKUP(F808,Soutez!A:C,3,FALSE)","v":2022},19,2461,0.91500000000000004,4941,4521,"x",null,"DG 300","U7","Junior v roce 2024"]
["Martin Stastny",2005,"M","Medlánky","CZ/M","PMČRj 2022 - Klub",{"$f":"VLOOKUP(F809,Soutez!A:B,2,FALSE)","v":"CZ"},{"$f":"VLOOKUP(F809,Soutez!A:C,3,FALSE)","v":2022},20,2330,0.91500000000000004,4628,4235,"x",null,"ASW 15B","TW","Junior v roce 2024"]
["Katerina Vancurova",2002,"F","Hranice","CZ/M","PMČRj 2022 - Klub",{"$f":"VLOOKUP(F810,Soutez!A:B,2,FALSE)","v":"CZ"},{"$f":"VLOOKUP(F810,Soutez!A:C,3,FALSE)","v":2022},21,2190,0.91500000000000004,4301,3935,"x","x","Discus cs","HD","Junior v roce 2024"]
["Tibor Hezina",2002,"M","Křižanov","CZ/M","PMČRj 2022 - Klub",{"$f":"VLOOKUP(F811,Soutez!A:B,2,FALSE)","v":"CZ"},{"$f":"VLOOKUP(F811,Soutez!A:C,3,FALSE)","v":2022},22,2174,0.91500000000000004,4168,3814,"x",null,"Std. Cirrus","IJ","Junior v roce 2024"]
["Vojtech Vach 03",2003,"M","Nové Město nad Metují","CZ/C2","PMČRj 2022 - Klub",{"$f":"VLOOKUP(F812,Soutez!A:B,2,FALSE)","v":"CZ"},{"$f":"VLOOKUP(F812,Soutez!A:C,3,FALSE)","v":2022},23,2077,0.91500000000000004,3909,3577,"x",null,"Cirrus VTC","1W","Junior v roce 2024"]
["Petr Hosek",2001,"M","Beroun","CZ/C1","PMČRj 2022 - Klub",{"$f":"VLOOKUP(F813,Soutez!A:B,2,FALSE)","v":"CZ"},{"$f":"VLOOKUP(F813,Soutez!A:C,3,FALSE)","v":2022},24,2010,0.91500000000000004,3696,3382,"x",null,"VSO-10","B1","Junior v roce 2024"]
["Vit Pavelka",2004,"M","Moravská Třebová","CZ/M","PMČRj 2022 - Klub",{"$f":"VLOOKUP(F814,Soutez!A:B,2,FALSE)","v":"CZ"},{"$f":"VLOOKUP(F814,Soutez!A:C,3,FALSE)","v":2022},25,1924,0.91500000000000004,3454,3160,"x",null,"ASW 15B","LE","Junior v roce 2024"]
["Jan Svestka",2005,"M","Křižanov","CZ/M","PMČRj 2022 - Klub",{"$f":"VLOOKUP(F815,Soutez!A:B,2,FALSE)","v":"CZ"},{"$f":"VLOOKUP(F815,Soutez!A:C,3,FALSE)","v":2022},26,1811,0.91500000000000004,3169,2900,"x",null,"Std. Cirrus","EJ","Junior v roce 2024"]
["Petr Masik",2001,"M","Zábřeh","CZ/M","PMČRj 2022 - Klub",{"$f":"VLOOKUP(F816,Soutez!A:B,2,FALSE)","v":"CZ"},{"$f":"VLOOKUP(F816,Soutez!A:C,3,FALSE)","v":2022},27,1769,0.91500000000000004,2996,2741,null,null,"ASW 15","ET",{"$f":"IF(ISERROR(VLOOKUP(A816,Pilot,6,0)),\"Není v databázi\",VLOOKUP(A816,Pilot,6,0))","v":"Junior v roce 2024"}]
["Vojtech Pavek",2000,"M","Medlánky","CZ/M","PMČRj 2022 - Klub",{"$f":"VLOOKUP(F817,Soutez!A:B,2,FALSE)","v":"CZ"},{"$f":"VLOOKUP(F817,Soutez!A:C,3,FALSE)","v":2022},28,1619,0.91500000000000004,2653,2427,"x",null,"Std. Cirrus","MP","Junior v roce 2024"]
["David Nenicka",2005,"M","Hranice","CZ/M","PMČRj 2022 - Klub",{"$f":"VLOOKUP(F818,Soutez!A:B,2,FALSE)","v":"CZ"},{"$f":"VLOOKUP(F818,Soutez!A:C,3,FALSE)","v":2022},29,919,0.91500000000000004,1445,1322,"x",null,"Std. Cirrus","HC","Junior v roce 2024"]
["Jaroslav Tomana",{"$f":"VLOOKUP(A819,Pilot,2,0)","v":1975},{"$f":"VLOOKUP(A819,Pilot,5,0)","v":"M"},{"$f":"VLOOKUP(A819,Pilot,3,0)","v":"Zbraslavice"},{"$f":"VLOOKUP(A819,Pilot,4,0)","v":"CZ/C1"},"GGP MB 2022 - Klub GP",{"$f":"VLOOKUP(F819,Soutez!A:B,2,FALSE)","v":"CZ"},{"$f":"VLOOKUP(F819,Soutez!A:C,3,FALSE)","v":2022},1,41,{"$f":"VLOOKUP(F819,Soutez,12,0)","v":0.90500000000000003},{"$f":"ROUND((MAX($I$819:$I$833)-I819)/(MAX($I$819:$I$833)-1)*10000,0)","v":10000},{"$f":"ROUND(K819*L819,0)","v":9050},null,null,"Pegase Centair C-101BC+WL","RT",{"$f":"IF(ISERROR(VLOOKUP(A819,Pilot,6,0)),\"Není v databázi\",VLOOKUP(A819,Pilot,6,0))","v":""}]
["Jan Louda",1986,"M","Mladá Boleslav","CZ/C1","GGP MB 2022 - Klub GP",{"$f":"VLOOKUP(F820,Soutez!A:B,2,FALSE)","v":"CZ"},{"$f":"VLOOKUP(F820,Soutez!A:C,3,FALSE)","v":2022},2,30,0.90500000000000003,9231,{"$f":"ROUND(K820*L820,0)","v":8354},"x",null,"ASW15b","MB",""]
["David Vrchota",1976,"M","Jaroměř","CZ/C2","GGP MB 2022 - Klub GP",{"$f":"VLOOKUP(F821,Soutez!A:B,2,FALSE)","v":"CZ"},{"$f":"VLOOKUP(F821,Soutez!A:C,3,FALSE)","v":2022},3,29,0.90500000000000003,8462,7658,"x",null,"Std.Cirrus 16m","GO",""]
["David Sachl",1978,"M","Kralupy","CZ/C1","GGP MB 2022 - Klub GP",{"$f":"VLOOKUP(F822,Soutez!A:B,2,FALSE)","v":"CZ"},{"$f":"VLOOKUP(F822,Soutez!A:C,3,FALSE)","v":2022},4,24,0.90500000000000003,7692,6961,null,null,"DG 300 Klub Elan WL","BK",""]
["Michal Coufal",1999,"M","Jičín","CZ/C2","GGP MB 2022 - Klub GP",{"$f":"VLOOKUP(F823,Soutez!A:B,2,FALSE)","v":"CZ"},{"$f":"VLOOKUP(F823,Soutez!A:C,3,FALSE)","v":2022},5,23,0.90500000000000003,6923,6265,"x",null,"Janus B 18,2m","JC","Junior v roce 2024"]
["Jiri Hula",1973,"M","Slaný","CZ/C1","GGP MB 2022 - Klub GP",{"$f":"VLOOKUP(F824,Soutez!A:B,2,FALSE)","v":"CZ"},{"$f":"VLOOKUP(F824,Soutez!A:C,3,FALSE)","v":2022},6,20,0.90500000000000003,6154,5569,"x",null,"Std.Cirrus","IT",""]
["Matej Krestes",1986,"M","Slaný","CZ/C1","GGP MB 2022 - Klub GP",{"$f":"VLOOKUP(F825,Soutez!A:B,2,FALSE)","v":"CZ"},{"$f":"VLOOKUP(F825,Soutez!A:C,3,FALSE)","v":2022},7,18,0.90500000000000003,5385,4873,"x",null,"Std.Cirrus","CON",""]
["Lukas Plocek",1990,"M","Mladá Boleslav","CZ/C1","GGP MB 2022 - Klub GP",{"$f":"VLOOKUP(F826,Soutez!A:B,2,FALSE)","v":"CZ"},{"$f":"VLOOKUP(F826,Soutez!A:C,3,FALSE)","v":2022},8,12,0.90500000000000003,4615,{"$f":"ROUND(K826*L826,0)","v":4177},"x",null,"ASW19b","AH",""]
["Linda Vasatova",1990,"F","Mladá Boleslav","CZ/C1","GGP MB 2022 - Klub GP",{"$f":"VLOOKUP(F827,Soutez!A:B,2,FALSE)","v":"CZ"},{"$f":"VLOOKUP(F827,Soutez!A:C,3,FALSE)","v":2022},9,10,0.90500000000000003,3846,3481,"x","x","ASW19b","XS",""]
["Katerina Vojtova",1983,"F","Slaný","CZ/C1","GGP MB 2022 - Klub GP",{"$f":"VLOOKUP(F828,Soutez!A:B,2,FALSE)","v":"CZ"},{"$f":"VLOOKUP(F828,Soutez!A:C,3,FALSE)","v":2022},9,10,0.90500000000000003,3846,3481,"x","x","Std.Cirrus","KAC",""]
["Jan Hejret",1976,"M","Jaroměř","CZ/C2","GGP MB 2022 - Klub GP",{"$f":"VLOOKUP(F829,Soutez!A:B,2,FALSE)","v":"CZ"},{"$f":"VLOOKUP(F829,Soutez!A:C,3,FALSE)","v":2022},11,6,0.90500000000000003,2308,2089,"x",null,"Std.Cirrus","LW",""]
["Vojtech Vach 76",1976,"M","Nové Město nad Metují","CZ/C2","GGP MB 2022 - Klub GP",{"$f":"VLOOKUP(F830,Soutez!A:B,2,FALSE)","v":"CZ"},{"$f":"VLOOKUP(F830,Soutez!A:C,3,FALSE)","v":2022},11,6,0.90500000000000003,2308,2089,"x",null,"VSO10","I8",""]
["Martin Marek",1967,"M","Roudnice","CZ/C2","GGP MB 2022 - Klub GP",{"$f":"VLOOKUP(F831,Soutez!A:B,2,FALSE)","v":"CZ"},{"$f":"VLOOKUP(F831,Soutez!A:C,3,FALSE)","v":2022},13,1,0.90500000000000003,769,696,"x",null,"Std.Cirrus","2X",""]
["Libor Kovarik",1966,"M","Mladá Boleslav","CZ/C1","GGP MB 2022 - Klub GP",{"$f":"VLOOKUP(F832,Soutez!A:B,2,FALSE)","v":"CZ"},{"$f":"VLOOKUP(F832,Soutez!A:C,3,FALSE)","v":2022},14,0,0.90500000000000003,0,0,null,null,"VSO10","C3",""]
["Karel Policky",1950,"M","Kolín","CZ/C1","GGP MB 2022 - Klub GP",{"$f":"VLOOKUP(F833,Soutez!A:B,2,FALSE)","v":"CZ"},{"$f":"VLOOKUP(F833,Soutez!A:C,3,FALSE)","v":2022},14,0,0.90500000000000003,0,0,null,null,"VSO10",93,""]
["Jan Kotan",1982,"M",{"$f":"VLOOKUP(A834,Pilot,3,0)","v":"Letňany"},{"$f":"VLOOKUP(A834,Pilot,4,0)","v":"CZ/C1"},"GGP MB 2022 - Pohár MV - Kombi",{"$f":"VLOOKUP(F834,Soutez!A:B,2,FALSE)","v":"CZ"},{"$f":"VLOOKUP(F834,Soutez!A:C,3,FALSE)","v":2022},1,2886,0.91500000000000004,{"$f":"ROUND(J834/MAX($J$834:$J$844)*10000*0.7+(MAX($I$834:$I$844)-I834)/(MAX($I$834:$I$844)-1)*10000*0.3,0)","v":10000},{"$f":"ROUND(K834*L834,0)","v":9150},"x",null,"Ventus 2bx","YA",""]
["Dana Novakova",1965,"F","Mladá Boleslav","CZ/C1","GGP MB 2022 - Pohár MV - Kombi",{"$f":"VLOOKUP(F835,Soutez!A:B,2,FALSE)","v":"CZ"},{"$f":"VLOOKUP(F835,Soutez!A:C,3,FALSE)","v":2022},2,2878,0.91500000000000004,9681,{"$f":"ROUND(K835*L835,0)","v":8858},"x","x","LS8 /18m","FX",""]
["Michal Kratochvil",1984,"M","Slaný","CZ/C1","GGP MB 2022 - Pohár MV - Kombi",{"$f":"VLOOKUP(F836,Soutez!A:B,2,FALSE)","v":"CZ"},{"$f":"VLOOKUP(F836,Soutez!A:C,3,FALSE)","v":2022},3,2845,0.91500000000000004,9301,8510,"x",null,"Ventus b/16,6m","MK",""]
["Jan Dersak 69",1969,"M","Kralupy","CZ/C1","GGP MB 2022 - Pohár MV - Kombi",{"$f":"VLOOKUP(F837,Soutez!A:B,2,FALSE)","v":"CZ"},{"$f":"VLOOKUP(F837,Soutez!A:C,3,FALSE)","v":2022},4,2656,0.91500000000000004,8542,7816,"x",null,"HpH 304 Shark/18m","DJ",""]
["Karel Novak",1993,"M","Mladá Boleslav","CZ/C1","GGP MB 2022 - Pohár MV - Kombi",{"$f":"VLOOKUP(F838,Soutez!A:B,2,FALSE)","v":"CZ"},{"$f":"VLOOKUP(F838,Soutez!A:C,3,FALSE)","v":2022},5,2651,0.91500000000000004,8230,{"$f":"ROUND(K838*L838,0)","v":7530},null,null,"LS8 /18m","ID",""]
["Martin Soucek",1975,"M","Mladá Boleslav","CZ/C1","GGP MB 2022 - Pohár MV - Kombi",{"$f":"VLOOKUP(F839,Soutez!A:B,2,FALSE)","v":"CZ"},{"$f":"VLOOKUP(F839,Soutez!A:C,3,FALSE)","v":2022},6,2490,0.91500000000000004,7540,6899,"x",null,"DG-200/17m","MS",""]
["Radek Zima 78",1978,"M","Hodkovice","CZ/C2","GGP MB 2022 - Pohár MV - Kombi",{"$f":"VLOOKUP(F840,Soutez!A:B,2,FALSE)","v":"CZ"},{"$f":"VLOOKUP(F840,Soutez!A:C,3,FALSE)","v":2022},7,1897,0.91500000000000004,5801,5308,null,null,"ASG 29 E /18m","XZ",""]
["Antonin Bordovsky",1951,"M","Krnov","CZ/M","GGP MB 2022 - Pohár MV - Kombi",{"$f":"VLOOKUP(F841,Soutez!A:B,2,FALSE)","v":"CZ"},{"$f":"VLOOKUP(F841,Soutez!A:C,3,FALSE)","v":2022},8,1810,0.91500000000000004,5290,4840,"x",null,"Ventus c /17,6m","AD",""]
["Jan Horak",1971,"M","Zbraslavice","CZ/C1","GGP MB 2022 - Pohár MV - Kombi",{"$f":"VLOOKUP(F842,Soutez!A:B,2,FALSE)","v":"CZ"},{"$f":"VLOOKUP(F842,Soutez!A:C,3,FALSE)","v":2022},9,1463,0.91500000000000004,4149,3796,null,null,"ASW20a /15m","WX",""]
["Jan Smekal",1976,"M","Zbraslavice","CZ/C1","GGP MB 2022 - Pohár MV - Kombi",{"$f":"VLOOKUP(F843,Soutez!A:B,2,FALSE)","v":"CZ"},{"$f":"VLOOKUP(F843,Soutez!A:C,3,FALSE)","v":2022},10,1217,0.91500000000000004,3252,2976,"x",null,"Ventus 2a","AX",""]
["Zdenek Boruvka 86",1986,"M","Jičín","CZ/C2","GGP MB 2022 - Pohár MV - Kombi",{"$f":"VLOOKUP(F844,Soutez!A:B,2,FALSE)","v":"CZ"},{"$f":"VLOOKUP(F844,Soutez!A:C,3,FALSE)","v":2022},11,0,0.91500000000000004,0,0,null,null,"Ventus c /17,6m","VV",""]
["Viktor Tvrdik",1977,"M",{"$f":"VLOOKUP(A845,Pilot,3,0)","v":"Rakovník"},{"$f":"VLOOKUP(A845,Pilot,4,0)","v":"CZ/C1"},"Rakovnická Dlaždice 2022 - Klub",{"$f":"VLOOKUP(F845,Soutez!A:B,2,FALSE)","v":"CZ"},{"$f":"VLOOKUP(F845,Soutez!A:C,3,FALSE)","v":2022},1,4392,0,{"$f":"ROUND(J845/MAX($J$845:$J$858)*10000*0.7+(MAX($I$845:$I$858)-I845)/(MAX($I$845:$I$858)-1)*10000*0.3,0)","v":10000},{"$f":"ROUND(K845*L845,0)","v":0},null,null,"DG 800SW/18m","HF",""]
["Jaromir Simunek",1975,"M","Rakovník","CZ/C1","Rakovnická Dlaždice 2022 - Klub",{"$f":"VLOOKUP(F846,Soutez!A:B,2,FALSE)","v":"CZ"},{"$f":"VLOOKUP(F846,Soutez!A:C,3,FALSE)","v":2022},2,4049,0,9223,{"$f":"ROUND(K846*L846,0)","v":0},null,null,"DG 800SW/18m","HC",""]
["Jan Heroudek",1970,"M","Rakovník","CZ/C1","Rakovnická Dlaždice 2022 - Klub",{"$f":"VLOOKUP(F847,Soutez!A:B,2,FALSE)","v":"CZ"},{"$f":"VLOOKUP(F847,Soutez!A:C,3,FALSE)","v":2022},3,3780,0,8563,0,null,null,"dg 100",75,""]
["Jiri Vondracek",1989,"M","Kladno","CZ/C1","Rakovnická Dlaždice 2022 - Klub",{"$f":"VLOOKUP(F848,Soutez!A:B,2,FALSE)","v":"CZ"},{"$f":"VLOOKUP(F848,Soutez!A:C,3,FALSE)","v":2022},4,3575,0,8006,0,null,null,"ASW-15b","2P",""]
["Jan Konecny",1972,"M","Rakovník","CZ/C1","Rakovnická Dlaždice 2022 - Klub",{"$f":"VLOOKUP(F849,Soutez!A:B,2,FALSE)","v":"CZ"},{"$f":"VLOOKUP(F849,Soutez!A:C,3,FALSE)","v":2022},5,3550,0,7735,0,null,null,"LS 7",72,""]
["Jakub Kmosek",1978,"M","Zbraslavice","CZ/C1","Rakovnická Dlaždice 2022 - Klub",{"$f":"VLOOKUP(F850,Soutez!A:B,2,FALSE)","v":"CZ"},{"$f":"VLOOKUP(F850,Soutez!A:C,3,FALSE)","v":2022},6,3508,0,7437,0,null,null,"std. cirrus","ST",""]
["Jan Hlavacek",1965,"M","Rakovník","CZ/C1","Rakovnická Dlaždice 2022 - Klub",{"$f":"VLOOKUP(F851,Soutez!A:B,2,FALSE)","v":"CZ"},{"$f":"VLOOKUP(F851,Soutez!A:C,3,FALSE)","v":2022},7,3498,{"$f":"VLOOKUP(F851,Soutez,12,0)","v":0},7191,0,null,null,"Discus","SJ",""]
["Jan Vozeh",1995,"M","Rakovník","CZ/C1","Rakovnická Dlaždice 2022 - Klub",{"$f":"VLOOKUP(F852,Soutez!A:B,2,FALSE)","v":"CZ"},{"$f":"VLOOKUP(F852,Soutez!A:C,3,FALSE)","v":2022},8,3495,0,6955,0,null,null,"Std. Cirrus","OG",""]
["Josef Hlusek",1993,"M","Kunovice","CZ/M","Rakovnická Dlaždice 2022 - Klub",{"$f":"VLOOKUP(F853,Soutez!A:B,2,FALSE)","v":"CZ"},{"$f":"VLOOKUP(F853,Soutez!A:C,3,FALSE)","v":2022},9,3010,0,5951,0,null,null,"std. cirrus","WO",""]
["Jiri Bulanek",1983,"M","Rakovník","CZ/C1","Rakovnická Dlaždice 2022 - Klub",{"$f":"VLOOKUP(F854,Soutez!A:B,2,FALSE)","v":"CZ"},{"$f":"VLOOKUP(F854,Soutez!A:C,3,FALSE)","v":2022},10,2899,0,5544,{"$f":"ROUND(K854*L854,0)","v":0},null,null,"DG-101 G","MK",""]
["Pavel Kuriscak",{"$f":"VLOOKUP(A855,Pilot,2,0)","v":1987},{"$f":"VLOOKUP(A855,Pilot,5,0)","v":"M"},"Beroun","CZ/C1","Rakovnická Dlaždice 2022 - Klub",{"$f":"VLOOKUP(F855,Soutez!A:B,2,FALSE)","v":"CZ"},{"$f":"VLOOKUP(F855,Soutez!A:C,3,FALSE)","v":2022},11,2584,0,4811,0,null,null,"Std. Cirrus 16m","BU",""]
["Petr Hosek",2001,"M","Beroun","CZ/C1","Rakovnická Dlaždice 2022 - Klub",{"$f":"VLOOKUP(F856,Soutez!A:B,2,FALSE)","v":"CZ"},{"$f":"VLOOKUP(F856,Soutez!A:C,3,FALSE)","v":2022},12,2359,0,4221,0,null,null,"VSO-10","B1","Junior v roce 2024"]
["Rostislav Konderla",1972,"M","Rakovník","CZ/C1","Rakovnická Dlaždice 2022 - Klub",{"$f":"VLOOKUP(F857,Soutez!A:B,2,FALSE)","v":"CZ"},{"$f":"VLOOKUP(F857,Soutez!A:C,3,FALSE)","v":2022},13,1997,0,3414,0,null,null,"LS 1-d","HV",""]
["Matej Dolejs",2004,"M","Beroun","CZ/C1","Rakovnická Dlaždice 2022 - Klub",{"$f":"VLOOKUP(F858,Soutez!A:B,2,FALSE)","v":"CZ"},{"$f":"VLOOKUP(F858,Soutez!A:C,3,FALSE)","v":2022},14,0,0,0,0,null,null,"solo L 33",11,"Junior v roce 2024"]
["Oldrich Slavicek",1959,"M",{"$f":"VLOOKUP(A859,Pilot,3,0)","v":"Hronov"},{"$f":"VLOOKUP(A859,Pilot,4,0)","v":"CZ/C2"},"HOP 2022 - Klub",{"$f":"VLOOKUP(F859,Soutez!A:B,2,FALSE)","v":"CZ"},{"$f":"VLOOKUP(F859,Soutez!A:C,3,FALSE)","v":2022},1,2256,{"$f":"VLOOKUP(F859,Soutez,12,0)","v":0.755},{"$f":"ROUND(J859/MAX($J$859:$J$881)*10000*0.7+(MAX($I$859:$I$881)-I859)/(MAX($I$859:$I$881)-1)*10000*0.3,0)","v":10000},{"$f":"ROUND(K859*L859,0)","v":7550},"x",null,"VT-116 Orlik 2",4310,{"$f":"IF(ISERROR(VLOOKUP(A859,Pilot,6,0)),\"Není v databázi\",VLOOKUP(A859,Pilot,6,0))","v":""}]
["Ondrej Teichman",1984,"M","Dvůr Králové","CZ/C2","HOP 2022 - Klub",{"$f":"VLOOKUP(F860,Soutez!A:B,2,FALSE)","v":"CZ"},{"$f":"VLOOKUP(F860,Soutez!A:C,3,FALSE)","v":2022},2,2030,0.755,{"$f":"ROUND(J860/MAX($J$859:$J$881)*10000*0.7+(MAX($I$859:$I$881)-I860)/(MAX($I$859:$I$881)-1)*10000*0.3,0)","v":9162},{"$f":"ROUND(K860*L860,0)","v":6917},"x",null,"VT-116 Orlik 2",6445,""]
["Milan Svoboda 80",1980,"M","Havlíčkův Brod","CZ/C2","HOP 2022 - Klub",{"$f":"VLOOKUP(F861,Soutez!A:B,2,FALSE)","v":"CZ"},{"$f":"VLOOKUP(F861,Soutez!A:C,3,FALSE)","v":2022},3,2003,0.755,8942,6751,null,null,"VT-116 Orlik 2",6446,""]
["Miroslav Stepan",1955,"M","Žamberk","CZ/C2","HOP 2022 - Klub",{"$f":"VLOOKUP(F862,Soutez!A:B,2,FALSE)","v":"CZ"},{"$f":"VLOOKUP(F862,Soutez!A:C,3,FALSE)","v":2022},4,1871,0.755,8396,6339,"x",null,"VT-116 Orlik 2",8412,""]
["Ondrej Blaha",1976,"M","Letňany","CZ/C1","HOP 2022 - Klub",{"$f":"VLOOKUP(F863,Soutez!A:B,2,FALSE)","v":"CZ"},{"$f":"VLOOKUP(F863,Soutez!A:C,3,FALSE)","v":2022},5,1831,0.755,8136,6143,"x",null,"VT-116 Orlik 2",6444,""]
["Petr Seibrt",1974,"M","Náchod","CZ/C2","HOP 2022 - Klub",{"$f":"VLOOKUP(F864,Soutez!A:B,2,FALSE)","v":"CZ"},{"$f":"VLOOKUP(F864,Soutez!A:C,3,FALSE)","v":2022},6,1789,0.755,7869,5941,"x",null,"VT-16 Orlik",2412,""]
["Tomas Mezera",1973,"M","Raná","CZ/C2","HOP 2022 - Klub",{"$f":"VLOOKUP(F865,Soutez!A:B,2,FALSE)","v":"CZ"},{"$f":"VLOOKUP(F865,Soutez!A:C,3,FALSE)","v":2022},7,1736,0.755,7568,5714,"x",null,"VT-116 Orlik 2",8401,""]
["Oldrich Hlavacek",1973,"M","Medlánky","CZ/M","HOP 2022 - Klub",{"$f":"VLOOKUP(F866,Soutez!A:B,2,FALSE)","v":"CZ"},{"$f":"VLOOKUP(F866,Soutez!A:C,3,FALSE)","v":2022},8,1704,0.755,7333,5536,"x",null,"VT-116 Orlik 2",4307,""]
["Wolfgang Sluka",1942,"M","Liberec","CZ/C2","HOP 2022 - Klub",{"$f":"VLOOKUP(F867,Soutez!A:B,2,FALSE)","v":"CZ"},{"$f":"VLOOKUP(F867,Soutez!A:C,3,FALSE)","v":2022},9,1682,0.755,7128,5382,"x",null,"VT-116 Orlik 2",8425,""]
["Matej Jelinek",1999,"M","Hronov","CZ/C2","HOP 2022 - Klub",{"$f":"VLOOKUP(F868,Soutez!A:B,2,FALSE)","v":"CZ"},{"$f":"VLOOKUP(F868,Soutez!A:C,3,FALSE)","v":2022},10,1651,0.755,6896,5206,"x",null,"VT-116 Orlik 2",6922,"Junior v roce 2024"]
["Ivan Kuzelka",1945,"M","Havlíčkův Brod","CZ/C2","HOP 2022 - Klub",{"$f":"VLOOKUP(F869,Soutez!A:B,2,FALSE)","v":"CZ"},{"$f":"VLOOKUP(F869,Soutez!A:C,3,FALSE)","v":2022},11,1550,0.755,6446,4867,"x",null,"VT-116 Orlik 2",4314,""]
["Petr Vezda",1974,"M","Medlánky","CZ/M","HOP 2022 - Klub",{"$f":"VLOOKUP(F870,Soutez!A:B,2,FALSE)","v":"CZ"},{"$f":"VLOOKUP(F870,Soutez!A:C,3,FALSE)","v":2022},12,1521,0.755,6219,4695,"x",null,"VT-116 Orlik 2",4321,""]
["Jaromir Vlk",1959,"M","Šumperk","CZ/M","HOP 2022 - Klub",{"$f":"VLOOKUP(F871,Soutez!A:B,2,FALSE)","v":"CZ"},{"$f":"VLOOKUP(F871,Soutez!A:C,3,FALSE)","v":2022},13,1503,0.755,6027,4550,"x",null,"VT-116 Orlik 2",8436,""]
["L.Vyhlid / J.Vojta",null,null,null,null,"HOP 2022 - Klub",{"$f":"VLOOKUP(F872,Soutez!A:B,2,FALSE)","v":"CZ"},{"$f":"VLOOKUP(F872,Soutez!A:C,3,FALSE)","v":2022},14,1432,0.755,5671,4282,null,null,"VT-116 Orlik 2",8431,"Není v databázi"]
["Jaromir Hendrych",1954,"M","Raná","CZ/C2","HOP 2022 - Klub",{"$f":"VLOOKUP(F873,Soutez!A:B,2,FALSE)","v":"CZ"},{"$f":"VLOOKUP(F873,Soutez!A:C,3,FALSE)","v":2022},15,1294,0.755,5106,3855,"x",null,"M-35",2403,""]
["Sarka Lochova",1966,"F","Šumperk","CZ/M","HOP 2022 - Klub",{"$f":"VLOOKUP(F874,Soutez!A:B,2,FALSE)","v":"CZ"},{"$f":"VLOOKUP(F874,Soutez!A:C,3,FALSE)","v":2022},16,1267,0.755,4886,3689,"x","x","VT-116 Orlik 2",7445,""]
["Jana Mezerova",1975,"F","Raná","CZ/C2","HOP 2022 - Klub",{"$f":"VLOOKUP(F875,Soutez!A:B,2,FALSE)","v":"CZ"},{"$f":"VLOOKUP(F875,Soutez!A:C,3,FALSE)","v":2022},17,1203,0.755,4551,3436,"x","x","VT-116 Orlik 2",7425,""]
["Michal Ondracek",1966,"M","Medlánky","CZ/M","HOP 2022 - Klub",{"$f":"VLOOKUP(F876,Soutez!A:B,2,FALSE)","v":"CZ"},{"$f":"VLOOKUP(F876,Soutez!A:C,3,FALSE)","v":2022},18,1069,0.755,3999,3019,"x",null,"Ka 6 E",9781,""]
["Tomas Holenda",1956,"M","Havlíčkův Brod","CZ/C2","HOP 2022 - Klub",{"$f":"VLOOKUP(F877,Soutez!A:B,2,FALSE)","v":"CZ"},{"$f":"VLOOKUP(F877,Soutez!A:C,3,FALSE)","v":2022},19,1063,0.755,3844,2902,"x",null,"VT-116 Orlik 2",7403,""]
["Michal Janda",1972,"M","Broumov","CZ/C2","HOP 2022 - Klub",{"$f":"VLOOKUP(F878,Soutez!A:B,2,FALSE)","v":"CZ"},{"$f":"VLOOKUP(F878,Soutez!A:C,3,FALSE)","v":2022},20,1029,0.755,3602,2720,"x",null,"VT-116 Orlik 2",7402,""]
["Miroslav Major",1968,"M","Kralupy","CZ/C1","HOP 2022 - Klub",{"$f":"VLOOKUP(F879,Soutez!A:B,2,FALSE)","v":"CZ"},{"$f":"VLOOKUP(F879,Soutez!A:C,3,FALSE)","v":2022},21,959,0.755,3248,2452,"x",null,"VT-116 Orlik 2",8430,""]
["Michal Nutil",1966,"M","Náchod","CZ/C2","HOP 2022 - Klub",{"$f":"VLOOKUP(F880,Soutez!A:B,2,FALSE)","v":"CZ"},{"$f":"VLOOKUP(F880,Soutez!A:C,3,FALSE)","v":2022},22,920,0.755,2991,2258,"x",null,"M-35",2901,""]
["Petr Vlasak",1974,"M","Medlánky","CZ/M","HOP 2022 - Klub",{"$f":"VLOOKUP(F881,Soutez!A:B,2,FALSE)","v":"CZ"},{"$f":"VLOOKUP(F881,Soutez!A:C,3,FALSE)","v":2022},23,570,0.755,1769,1336,"x",null,"VT-16 Orlik",2909,""]
["Zdenek Boruvka 54",1954,"M",{"$f":"VLOOKUP(A882,Pilot,3,0)","v":"Jičín"},{"$f":"VLOOKUP(A882,Pilot,4,0)","v":"CZ/C2"},"HOP 2022 - Kombi",{"$f":"VLOOKUP(F882,Soutez!A:B,2,FALSE)","v":"CZ"},{"$f":"VLOOKUP(F882,Soutez!A:C,3,FALSE)","v":2022},1,2638,0.75,{"$f":"ROUND(J882/MAX($J$882:$J$900)*10000*0.7+(MAX($I$882:$I$900)-I882)/(MAX($I$882:$I$900)-1)*10000*0.3,0)","v":10000},{"$f":"ROUND(K882*L882,0)","v":7500},"x",null,"LS 8 15 m (voda)","ZB",""]
["Vratislav Sram",1966,"M","Broumov","CZ/C2","HOP 2022 - Kombi",{"$f":"VLOOKUP(F883,Soutez!A:B,2,FALSE)","v":"CZ"},{"$f":"VLOOKUP(F883,Soutez!A:C,3,FALSE)","v":2022},2,2621,0.75,9788,{"$f":"ROUND(K883*L883,0)","v":7341},null,null,"Nimbus 4DM",7,""]
["Michal Maly",1982,"M","Broumov","CZ/C2","HOP 2022 - Kombi",{"$f":"VLOOKUP(F884,Soutez!A:B,2,FALSE)","v":"CZ"},{"$f":"VLOOKUP(F884,Soutez!A:C,3,FALSE)","v":2022},3,2489,0.75,9271,6953,"x",null,"Ventus c 17,6 (voda)","JN",""]
["Jan Kohout",1970,"M","Žamberk","CZ/C2","HOP 2022 - Kombi",{"$f":"VLOOKUP(F885,Soutez!A:B,2,FALSE)","v":"CZ"},{"$f":"VLOOKUP(F885,Soutez!A:C,3,FALSE)","v":2022},4,2486,0.75,9097,6823,"x",null,"JS1C EVO 18m (voda)","SK",""]
["Vaclav Kult",1973,"M","Broumov","CZ/C2","HOP 2022 - Kombi",{"$f":"VLOOKUP(F886,Soutez!A:B,2,FALSE)","v":"CZ"},{"$f":"VLOOKUP(F886,Soutez!A:C,3,FALSE)","v":2022},5,2454,0.75,8845,6634,"x",null,"Nimbus 2 b WL (voda)","VK",""]
["Zdenek Schenk",1972,"M","Hranice","CZ/M","HOP 2022 - Kombi",{"$f":"VLOOKUP(F887,Soutez!A:B,2,FALSE)","v":"CZ"},{"$f":"VLOOKUP(F887,Soutez!A:C,3,FALSE)","v":2022},6,2364,0.75,8440,6330,null,null,"Ventus cm 17,6m (bez vody)","SNeK",""]
["Petr Babak",1973,"M","Hořice","CZ/C2","HOP 2022 - Kombi",{"$f":"VLOOKUP(F888,Soutez!A:B,2,FALSE)","v":"CZ"},{"$f":"VLOOKUP(F888,Soutez!A:C,3,FALSE)","v":2022},7,2363,0.75,8270,6203,"x",null,"Ventus c 17,6 (voda)","LS",""]
["Jan Cerveny",1984,"M","Jaroměř","CZ/C2","HOP 2022 - Kombi",{"$f":"VLOOKUP(F889,Soutez!A:B,2,FALSE)","v":"CZ"},{"$f":"VLOOKUP(F889,Soutez!A:C,3,FALSE)","v":2022},8,2315,0.75,7976,5982,"x",null,"LS 3a (bez vody)","EI",""]
["Jan Rott",1962,"M","Hronov","CZ/C2","HOP 2022 - Kombi",{"$f":"VLOOKUP(F890,Soutez!A:B,2,FALSE)","v":"CZ"},{"$f":"VLOOKUP(F890,Soutez!A:C,3,FALSE)","v":2022},9,2244,0.75,7621,5716,"x",null,"HPH 304 cz 17,4 (bez vody)","Jou",""]
["Petr Fisar",1974,"M","Ústí nad Orlicí","CZ/C2","HOP 2022 - Kombi",{"$f":"VLOOKUP(F891,Soutez!A:B,2,FALSE)","v":"CZ"},{"$f":"VLOOKUP(F891,Soutez!A:C,3,FALSE)","v":2022},10,2178,0.75,7279,5459,"x",null,"Mosquito b (bez vody)","PF",""]
["David Mach",1994,"M","Hronov","CZ/C2","HOP 2022 - Kombi",{"$f":"VLOOKUP(F892,Soutez!A:B,2,FALSE)","v":"CZ"},{"$f":"VLOOKUP(F892,Soutez!A:C,3,FALSE)","v":2022},11,2064,0.75,6810,5108,null,null,"ASG 29 E 18m (bez vody)","QZ",""]
["M.Plechac / J.Plechac",null,null,null,null,"HOP 2022 - Kombi",{"$f":"VLOOKUP(F893,Soutez!A:B,2,FALSE)","v":"CZ"},{"$f":"VLOOKUP(F893,Soutez!A:C,3,FALSE)","v":2022},12,1961,0.75,6370,4778,null,null,"Nimbus 2 WL ( voda )","PM","Není v databázi"]
["Zdenek Mach",1976,"M","Broumov","CZ/C2","HOP 2022 - Kombi",{"$f":"VLOOKUP(F894,Soutez!A:B,2,FALSE)","v":"CZ"},{"$f":"VLOOKUP(F894,Soutez!A:C,3,FALSE)","v":2022},13,1876,0.75,5978,4484,"x",null,"LS 1-d (bez vody)","MZ",""]
["Tomas Talanda",1988,"M","Křižanov","CZ/M","HOP 2022 - Kombi",{"$f":"VLOOKUP(F895,Soutez!A:B,2,FALSE)","v":"CZ"},{"$f":"VLOOKUP(F895,Soutez!A:C,3,FALSE)","v":2022},14,1736,0.75,5440,4080,"x",null,"ASW 19 B (voda)","DS",""]
["Milos Nyvlt",{"$f":"VLOOKUP(A896,Pilot,2,0)","v":1963},{"$f":"VLOOKUP(A896,Pilot,5,0)","v":"M"},"Hronov","CZ/C2","HOP 2022 - Kombi",{"$f":"VLOOKUP(F896,Soutez!A:B,2,FALSE)","v":"CZ"},{"$f":"VLOOKUP(F896,Soutez!A:C,3,FALSE)","v":2022},15,1575,0.75,4846,3635,"x",null,"Arcus M","AR",""]
["Jiri Suchomel",{"$f":"VLOOKUP(A897,Pilot,2,0)","v":1950},{"$f":"VLOOKUP(A897,Pilot,5,0)","v":"M"},"Broumov","CZ/C2","HOP 2022 - Kombi",{"$f":"VLOOKUP(F897,Soutez!A:B,2,FALSE)","v":"CZ"},{"$f":"VLOOKUP(F897,Soutez!A:C,3,FALSE)","v":2022},16,1338,0.75,4050,3038,"x",null,"Janus 18.2m (bez vody)","V1",""]
["Milos Eichler",1964,"M","Dvůr Králové","CZ/C2","HOP 2022 - Kombi",{"$f":"VLOOKUP(F898,Soutez!A:B,2,FALSE)","v":"CZ"},{"$f":"VLOOKUP(F898,Soutez!A:C,3,FALSE)","v":2022},17,693,0.75,2172,1629,"x",null,"Cirrus VTC 17.74 m (bez vody)","G7",""]
["Pilotky UO / G.Jakl",null,null,null,null,"HOP 2022 - Kombi",{"$f":"VLOOKUP(F899,Soutez!A:B,2,FALSE)","v":"CZ"},{"$f":"VLOOKUP(F899,Soutez!A:C,3,FALSE)","v":2022},18,581,0.75,1708,{"$f":"ROUND(K899*L899,0)","v":1281},null,null,"Janus 18.2m ( bez vody)","GJ","Není v databázi"]
["Martin Koci",1975,"M","Ústí nad Orlicí","CZ/C2","HOP 2022 - Kombi",{"$f":"VLOOKUP(F900,Soutez!A:B,2,FALSE)","v":"CZ"},{"$f":"VLOOKUP(F900,Soutez!A:C,3,FALSE)","v":2022},19,283,0.75,751,563,"x",null,"Discus b (bez vody)","XE",""]
["Michal Coufal",1999,"M",{"$f":"VLOOKUP(A901,Pilot,3,0)","v":"Jičín"},{"$f":"VLOOKUP(A901,Pilot,4,0)","v":"CZ/C2"},"Pohár Českého Ráje 2022 - Klub",{"$f":"VLOOKUP(F901,Soutez!A:B,2,FALSE)","v":"CZ"},{"$f":"VLOOKUP(F901,Soutez!A:C,3,FALSE)","v":2022},1,1855,0,{"$f":"ROUND(J901/MAX($J$901:$J$917)*10000*0.7+(MAX($I$901:$I$917)-I901)/(MAX($I$901:$I$917)-1)*10000*0.3,0)","v":10000},{"$f":"ROUND(K901*L901,0)","v":0},null,null,"Janus","JC","Junior v roce 2024"]
["Petr Kyzivat",1970,"M","Jičín","CZ/C2","Pohár Českého Ráje 2022 - Klub",{"$f":"VLOOKUP(F902,Soutez!A:B,2,FALSE)","v":"CZ"},{"$f":"VLOOKUP(F902,Soutez!A:C,3,FALSE)","v":2022},2,1586,0,8785,{"$f":"ROUND(K902*L902,0)","v":0},null,null,"Ventus c 17,6 m","GE",""]
["Ales Holoubek",1966,"M","Jičín","CZ/C2","Pohár Českého Ráje 2022 - Klub",{"$f":"VLOOKUP(F903,Soutez!A:B,2,FALSE)","v":"CZ"},{"$f":"VLOOKUP(F903,Soutez!A:C,3,FALSE)","v":2022},3,1506,0,8283,0,null,null,"ASW-15b NG","T",""]
["Ilja Kopacek",1943,"M","Jičín","CZ/C2","Pohár Českého Ráje 2022 - Klub",{"$f":"VLOOKUP(F904,Soutez!A:B,2,FALSE)","v":"CZ"},{"$f":"VLOOKUP(F904,Soutez!A:C,3,FALSE)","v":2022},4,1478,0,7977,0,null,null,"Std. Cirrus","SC",""]
["Petr Rygl",{"$f":"VLOOKUP(A905,Pilot,2,0)","v":1966},{"$f":"VLOOKUP(A905,Pilot,5,0)","v":"M"},"Jičín","CZ/C2","Pohár Českého Ráje 2022 - Klub",{"$f":"VLOOKUP(F905,Soutez!A:B,2,FALSE)","v":"CZ"},{"$f":"VLOOKUP(F905,Soutez!A:C,3,FALSE)","v":2022},5,1401,0,7487,0,null,null,"ASW-15","A18",""]
["Kamil Hejda",1973,"M","Jičín","CZ/C2","Pohár Českého Ráje 2022 - Klub",{"$f":"VLOOKUP(F906,Soutez!A:B,2,FALSE)","v":"CZ"},{"$f":"VLOOKUP(F906,Soutez!A:C,3,FALSE)","v":2022},6,1293,0,6879,0,null,null,"Std. Cirrus","FS",""]
["Miroslav Trybucek",1965,"M","Jičín","CZ/C2","Pohár Českého Ráje 2022 - Klub",{"$f":"VLOOKUP(F907,Soutez!A:B,2,FALSE)","v":"CZ"},{"$f":"VLOOKUP(F907,Soutez!A:C,3,FALSE)","v":2022},7,1213,0,6377,0,null,null,"Ventus 2 cm /18 m (600kg)","OZ",""]
["Zbynek Fuksa",1956,"M","Jičín","CZ/C2","Pohár Českého Ráje 2022 - Klub",{"$f":"VLOOKUP(F908,Soutez!A:B,2,FALSE)","v":"CZ"},{"$f":"VLOOKUP(F908,Soutez!A:C,3,FALSE)","v":2022},8,1086,0,5698,0,null,null,"Duo Discus XLT",88,""]
["Jan Plechac",1966,"M","Slaný","CZ/C1","Pohár Českého Ráje 2022 - Klub",{"$f":"VLOOKUP(F909,Soutez!A:B,2,FALSE)","v":"CZ"},{"$f":"VLOOKUP(F909,Soutez!A:C,3,FALSE)","v":2022},9,1067,0,5426,0,null,null,"Std. Cirrus","TI",""]
["Stepan Capek",1960,"M","Jičín","CZ/C2","Pohár Českého Ráje 2022 - Klub",{"$f":"VLOOKUP(F910,Soutez!A:B,2,FALSE)","v":"CZ"},{"$f":"VLOOKUP(F910,Soutez!A:C,3,FALSE)","v":2022},10,951,0,4789,0,null,null,"Banjo","ZF",""]
["Lukas Jezek",1975,"M","Jičín","CZ/C2","Pohár Českého Ráje 2022 - Klub",{"$f":"VLOOKUP(F911,Soutez!A:B,2,FALSE)","v":"CZ"},{"$f":"VLOOKUP(F911,Soutez!A:C,3,FALSE)","v":2022},11,901,0,4400,0,null,null,"L-13 Blanik",13,""]
["Radek Tobolka",1977,"M","Jičín","CZ/C2","Pohár Českého Ráje 2022 - Klub",{"$f":"VLOOKUP(F912,Soutez!A:B,2,FALSE)","v":"CZ"},{"$f":"VLOOKUP(F912,Soutez!A:C,3,FALSE)","v":2022},12,691,0,3408,{"$f":"ROUND(K912*L912,0)","v":0},null,null,"TST-10 Atlas M",10,""]
["Petr Tax",1968,"M","Jičín","CZ/C2","Pohár Českého Ráje 2022 - Klub",{"$f":"VLOOKUP(F913,Soutez!A:B,2,FALSE)","v":"CZ"},{"$f":"VLOOKUP(F913,Soutez!A:C,3,FALSE)","v":2022},13,596,0,2849,0,null,null,"Terej","TB",{"$f":"IF(ISERROR(VLOOKUP(A913,Pilot,6,0)),\"Není v databázi\",VLOOKUP(A913,Pilot,6,0))","v":""}]
["Dusan Patocka",1972,"M","Vrchlabí","CZ/C2","Pohár Českého Ráje 2022 - Klub",{"$f":"VLOOKUP(F914,Soutez!A:B,2,FALSE)","v":"CZ"},{"$f":"VLOOKUP(F914,Soutez!A:C,3,FALSE)","v":2022},14,118,0,845,0,null,null,"VT-116 Orlik 2",116,""]
["Jiri Pixa",1968,"M","Slaný","CZ/C1","Pohár Českého Ráje 2022 - Klub",{"$f":"VLOOKUP(F915,Soutez!A:B,2,FALSE)","v":"CZ"},{"$f":"VLOOKUP(F915,Soutez!A:C,3,FALSE)","v":2022},15,45,0,370,0,null,null,"VSO-10","G9",""]
["Pavel Kyzivat",1973,"M","Zbraslavice","CZ/C1","Pohár Českého Ráje 2022 - Klub",{"$f":"VLOOKUP(F916,Soutez!A:B,2,FALSE)","v":"CZ"},{"$f":"VLOOKUP(F916,Soutez!A:C,3,FALSE)","v":2022},16,0,0,0,0,null,null,"ASW-19","PM",""]
["Radek Bartos",1971,"M","Kolín","CZ/C1","Pohár Českého Ráje 2022 - Klub",{"$f":"VLOOKUP(F917,Soutez!A:B,2,FALSE)","v":"CZ"},{"$f":"VLOOKUP(F917,Soutez!A:C,3,FALSE)","v":2022},16,0,0,0,0,null,null,"DG-300 -525 kg","DG",""]
["David Riha",1983,"M",{"$f":"VLOOKUP(A918,Pilot,3,0)","v":"Vlašim"},{"$f":"VLOOKUP(A918,Pilot,4,0)","v":"CZ/C1"},"Ranský pohár 2022 - Klub",{"$f":"VLOOKUP(F918,Soutez!A:B,2,FALSE)","v":"CZ"},{"$f":"VLOOKUP(F918,Soutez!A:C,3,FALSE)","v":2022},1,3996,0,{"$f":"ROUND(J918/MAX($J$918:$J$938)*10000*0.7+(MAX($I$918:$I$938)-I918)/(MAX($I$918:$I$938)-1)*10000*0.3,0)","v":10000},{"$f":"ROUND(K918*L918,0)","v":0},null,null,"ASW 15 B","XE",""]
["Petr Benes",1980,"M","Raná","CZ/C2","Ranský pohár 2022 - Klub",{"$f":"VLOOKUP(F919,Soutez!A:B,2,FALSE)","v":"CZ"},{"$f":"VLOOKUP(F919,Soutez!A:C,3,FALSE)","v":2022},2,3882,0,9650,{"$f":"ROUND(K919*L919,0)","v":0},null,null,"Std. Cirrus","EX",""]
["David Sachl",1978,"M","Kralupy","CZ/C1","Ranský pohár 2022 - Klub",{"$f":"VLOOKUP(F920,Soutez!A:B,2,FALSE)","v":"CZ"},{"$f":"VLOOKUP(F920,Soutez!A:C,3,FALSE)","v":2022},3,3838,0,9423,0,null,null,"DG 300 WL","BK",""]
["Marek Svancara",1976,"M","GAC Benešov","CZ/C1","Ranský pohár 2022 - Klub",{"$f":"VLOOKUP(F921,Soutez!A:B,2,FALSE)","v":"CZ"},{"$f":"VLOOKUP(F921,Soutez!A:C,3,FALSE)","v":2022},4,3493,0,8669,0,null,null,"Std. Cirrus","GT",""]
["Daniel Devecka",1981,"M","Vlašim","CZ/C1","Ranský pohár 2022 - Klub",{"$f":"VLOOKUP(F922,Soutez!A:B,2,FALSE)","v":"CZ"},{"$f":"VLOOKUP(F922,Soutez!A:C,3,FALSE)","v":2022},5,3446,0,8437,0,null,null,"LS 3a","2G",""]
["Jan Sustr 76",1976,"M","Raná","CZ/C2","Ranský pohár 2022 - Klub",{"$f":"VLOOKUP(F923,Soutez!A:B,2,FALSE)","v":"CZ"},{"$f":"VLOOKUP(F923,Soutez!A:C,3,FALSE)","v":2022},6,3343,{"$f":"VLOOKUP(F923,Soutez,12,0)","v":0},8106,0,null,null,"DG 300","WL",""]
["Jan Smaha",1958,"M","Česká Lípa","CZ/C2","Ranský pohár 2022 - Klub",{"$f":"VLOOKUP(F924,Soutez!A:B,2,FALSE)","v":"CZ"},{"$f":"VLOOKUP(F924,Soutez!A:C,3,FALSE)","v":2022},7,3302,0,7884,0,null,null,"ASW 15 B","CW",""]
["Pavel Derda",1952,"M","Dvůr Králové","CZ/C2","Ranský pohár 2022 - Klub",{"$f":"VLOOKUP(F925,Soutez!A:B,2,FALSE)","v":"CZ"},{"$f":"VLOOKUP(F925,Soutez!A:C,3,FALSE)","v":2022},8,2994,0,7195,0,null,null,"Cirrus/Cirrus VTC 17.74","VE",""]
["Dalibor Pek",1968,"M","Raná","CZ/C2","Ranský pohár 2022 - Klub",{"$f":"VLOOKUP(F926,Soutez!A:B,2,FALSE)","v":"CZ"},{"$f":"VLOOKUP(F926,Soutez!A:C,3,FALSE)","v":2022},9,2890,0,6863,0,null,null,"Std. Cirrus","GP",""]
["Krystof Mimra",1992,"M","Most","CZ/C2","Ranský pohár 2022 - Klub",{"$f":"VLOOKUP(F927,Soutez!A:B,2,FALSE)","v":"CZ"},{"$f":"VLOOKUP(F927,Soutez!A:C,3,FALSE)","v":2022},10,2879,0,6693,0,null,null,"VSO-10",51,""]
["Martin Fric",1967,"M","Raná","CZ/C2","Ranský pohár 2022 - Klub",{"$f":"VLOOKUP(F928,Soutez!A:B,2,FALSE)","v":"CZ"},{"$f":"VLOOKUP(F928,Soutez!A:C,3,FALSE)","v":2022},11,2763,0,6340,0,null,null,"DG 100","E2",""]
["Jaromir Hendrych",1954,"M","Raná","CZ/C2","Ranský pohár 2022 - Klub",{"$f":"VLOOKUP(F929,Soutez!A:B,2,FALSE)","v":"CZ"},{"$f":"VLOOKUP(F929,Soutez!A:C,3,FALSE)","v":2022},12,2714,0,6104,0,null,null,"M-35",36,""]
["Tomas Mezera",1973,"M","Raná","CZ/C2","Ranský pohár 2022 - Klub",{"$f":"VLOOKUP(F930,Soutez!A:B,2,FALSE)","v":"CZ"},{"$f":"VLOOKUP(F930,Soutez!A:C,3,FALSE)","v":2022},13,2558,0,5681,{"$f":"ROUND(K930*L930,0)","v":0},null,null,"VSO-10",59,""]
["Jaromir Vlk",1959,"M","Šumperk","CZ/M","Ranský pohár 2022 - Klub",{"$f":"VLOOKUP(F931,Soutez!A:B,2,FALSE)","v":"CZ"},{"$f":"VLOOKUP(F931,Soutez!A:C,3,FALSE)","v":2022},14,2451,0,5344,0,null,null,"ASW 15 B","R5",""]
["Vojtech Kostejn",1974,"M","Česká Lípa","CZ/C2","Ranský pohár 2022 - Klub",{"$f":"VLOOKUP(F932,Soutez!A:B,2,FALSE)","v":"CZ"},{"$f":"VLOOKUP(F932,Soutez!A:C,3,FALSE)","v":2022},15,2353,0,5022,0,null,null,"ASW 15 B","I",""]
["Petr Herold",1970,"M","Vlašim","CZ/C1","Ranský pohár 2022 - Klub",{"$f":"VLOOKUP(F933,Soutez!A:B,2,FALSE)","v":"CZ"},{"$f":"VLOOKUP(F933,Soutez!A:C,3,FALSE)","v":2022},16,2294,0,4769,0,null,null,"VSO-10",77,""]
["Sarka Lochova",1966,"F","Šumperk","CZ/M","Ranský pohár 2022 - Klub",{"$f":"VLOOKUP(F934,Soutez!A:B,2,FALSE)","v":"CZ"},{"$f":"VLOOKUP(F934,Soutez!A:C,3,FALSE)","v":2022},17,2085,0,4252,0,null,null,"M-35",35,""]
["Eva Klapkova",1993,"F","Raná","CZ/C2","Ranský pohár 2022 - Klub",{"$f":"VLOOKUP(F935,Soutez!A:B,2,FALSE)","v":"CZ"},{"$f":"VLOOKUP(F935,Soutez!A:C,3,FALSE)","v":2022},18,1801,0,3605,0,null,null,"ASW 15","TZ",""]
["Jana Mezerova",1975,"F","Raná","CZ/C2","Ranský pohár 2022 - Klub",{"$f":"VLOOKUP(F936,Soutez!A:B,2,FALSE)","v":"CZ"},{"$f":"VLOOKUP(F936,Soutez!A:C,3,FALSE)","v":2022},19,1555,0,3024,0,null,null,"LS 1-0","AL",""]
["Stanislav Vrabec",1975,"M","Česká Lípa","CZ/C2","Ranský pohár 2022 - Klub",{"$f":"VLOOKUP(F937,Soutez!A:B,2,FALSE)","v":"CZ"},{"$f":"VLOOKUP(F937,Soutez!A:C,3,FALSE)","v":2022},20,1204,0,2259,0,null,null,"Std. Cirrus","CV",""]
["Petr Gryc",1949,"M","Medlánky","CZ/M","Ranský pohár 2022 - Klub",{"$f":"VLOOKUP(F938,Soutez!A:B,2,FALSE)","v":"CZ"},{"$f":"VLOOKUP(F938,Soutez!A:C,3,FALSE)","v":2022},21,74,0,130,0,null,null,"Std. Cirrus",11,""]
["Jiri Maier 99",1999,"M",{"$f":"VLOOKUP(A939,Pilot,3,0)","v":"Raná"},{"$f":"VLOOKUP(A939,Pilot,4,0)","v":"CZ/C2"},"Ranský pohár 2022 - Kombi",{"$f":"VLOOKUP(F939,Soutez!A:B,2,FALSE)","v":"CZ"},{"$f":"VLOOKUP(F939,Soutez!A:C,3,FALSE)","v":2022},1,4558,0,{"$f":"ROUND(J939/MAX($J$939:$J$945)*10000*0.7+(MAX($I$939:$I$945)-I939)/(MAX($I$939:$I$945)-1)*10000*0.3,0)","v":10000},{"$f":"ROUND(K939*L939,0)","v":0},null,null,"Discus bT WL","TAL","Junior v roce 2024"]
["Jiri Maier 66",1966,"M","Raná","CZ/C2","Ranský pohár 2022 - Kombi",{"$f":"VLOOKUP(F940,Soutez!A:B,2,FALSE)","v":"CZ"},{"$f":"VLOOKUP(F940,Soutez!A:C,3,FALSE)","v":2022},2,4487,0,9391,{"$f":"ROUND(K940*L940,0)","v":0},null,null,"ASW 24E WL","JM",""]
["Jaroslav Vancata",1985,"M","Raná","CZ/C2","Ranský pohár 2022 - Kombi",{"$f":"VLOOKUP(F941,Soutez!A:B,2,FALSE)","v":"CZ"},{"$f":"VLOOKUP(F941,Soutez!A:C,3,FALSE)","v":2022},3,3870,0,7943,0,null,null,"LS 7 WL","2B",""]
["Radovan Otto",1968,"M","Ústí nad Labem","CZ/C2","Ranský pohár 2022 - Kombi",{"$f":"VLOOKUP(F942,Soutez!A:B,2,FALSE)","v":"CZ"},{"$f":"VLOOKUP(F942,Soutez!A:C,3,FALSE)","v":2022},4,3635,0,7082,0,null,null,"HPH 304MS Shark 18m","XX",""]
["Petr Lonsky",1965,"M","Toužim","CZ/C1","Ranský pohár 2022 - Kombi",{"$f":"VLOOKUP(F943,Soutez!A:B,2,FALSE)","v":"CZ"},{"$f":"VLOOKUP(F943,Soutez!A:C,3,FALSE)","v":2022},5,3344,0,6136,{"$f":"ROUND(K943*L943,0)","v":0},null,null,"Cirrus/Cirrus VTC 17.74","JP",""]
["Michal Hemrle",1974,"M","Česká Lípa","CZ/C2","Ranský pohár 2022 - Kombi",{"$f":"VLOOKUP(F944,Soutez!A:B,2,FALSE)","v":"CZ"},{"$f":"VLOOKUP(F944,Soutez!A:C,3,FALSE)","v":2022},6,2953,0,5035,0,null,null,"ASG 29Es 18m","ET",""]
["Tomas Novak",1974,"M","Česká Lípa","CZ/C2","Ranský pohár 2022 - Kombi",{"$f":"VLOOKUP(F945,Soutez!A:B,2,FALSE)","v":"CZ"},{"$f":"VLOOKUP(F945,Soutez!A:C,3,FALSE)","v":2022},7,360,0,553,0,null,null,"Ventus c 17.6m","XF",""]
["Wolfgang Sluka",1942,"M",{"$f":"VLOOKUP(A946,Pilot,3,0)","v":"Liberec"},{"$f":"VLOOKUP(A946,Pilot,4,0)","v":"CZ/C2"},"Safari 2022 - Duo",{"$f":"VLOOKUP(F946,Soutez!A:B,2,FALSE)","v":"CZ"},{"$f":"VLOOKUP(F946,Soutez!A:C,3,FALSE)","v":2022},1,1460,0,{"$f":"ROUND(J946/MAX($J$946:$J$954)*10000*0.7+(MAX($I$946:$I$954)-I946)/(MAX($I$946:$I$954)-1)*10000*0.3,0)","v":10000},{"$f":"ROUND(K946*L946,0)","v":0},null,null,"L-13 Blanik dvoji",13,""]
["Jan Sindelar",1946,"M","Kunovice","CZ/M","Safari 2022 - Duo",{"$f":"VLOOKUP(F947,Soutez!A:B,2,FALSE)","v":"CZ"},{"$f":"VLOOKUP(F947,Soutez!A:C,3,FALSE)","v":2022},2,1271,0,8719,{"$f":"ROUND(K947*L947,0)","v":0},null,null,"L-13 Blanik dvoji",4,""]
["Jiri Obst",1964,"M","Vrchlabí","CZ/C2","Safari 2022 - Duo",{"$f":"VLOOKUP(F948,Soutez!A:B,2,FALSE)","v":"CZ"},{"$f":"VLOOKUP(F948,Soutez!A:C,3,FALSE)","v":2022},3,1171,0,7864,0,null,null,"L-13 Blanik dvoji","AY",""]
["Vladimir Prihoda",1953,"M","Kralupy","CZ/C1","Safari 2022 - Duo",{"$f":"VLOOKUP(F949,Soutez!A:B,2,FALSE)","v":"CZ"},{"$f":"VLOOKUP(F949,Soutez!A:C,3,FALSE)","v":2022},4,1034,0,6833,0,null,null,"L-23 Super Blanik dvoji","I",""]
["Petr Hybner",1951,"M","Liberec","CZ/C2","Safari 2022 - Duo",{"$f":"VLOOKUP(F950,Soutez!A:B,2,FALSE)","v":"CZ"},{"$f":"VLOOKUP(F950,Soutez!A:C,3,FALSE)","v":2022},5,822,0,5441,0,null,null,"L-23 Super Blanik dvoji",23,""]
["Michal Richter",1983,"M","Kolín","CZ/C1","Safari 2022 - Duo",{"$f":"VLOOKUP(F951,Soutez!A:B,2,FALSE)","v":"CZ"},{"$f":"VLOOKUP(F951,Soutez!A:C,3,FALSE)","v":2022},6,569,0,3853,0,null,null,"L-13 Blaník dvoji","FI",""]
["Martin Sehnoutka",1970,"M","Dvůr Králové","CZ/C2","Safari 2022 - Duo",{"$f":"VLOOKUP(F952,Soutez!A:B,2,FALSE)","v":"CZ"},{"$f":"VLOOKUP(F952,Soutez!A:C,3,FALSE)","v":2022},7,563,0,3449,0,null,null,"L-13 Blanik dvoji","ET",""]
["Jiri Tomicek",1947,"M","Dvůr Králové","CZ/C2","Safari 2022 - Duo",{"$f":"VLOOKUP(F953,Soutez!A:B,2,FALSE)","v":"CZ"},{"$f":"VLOOKUP(F953,Soutez!A:C,3,FALSE)","v":2022},8,545,0,2988,{"$f":"ROUND(K953*L953,0)","v":0},null,null,"L-23 Super Blanik dvoji","T",""]
["Josef Andrasovsky",{"$f":"VLOOKUP(A954,Pilot,2,0)","v":1954},{"$f":"VLOOKUP(A954,Pilot,5,0)","v":"M"},"Jaroměř","CZ/C2","Safari 2022 - Duo",{"$f":"VLOOKUP(F954,Soutez!A:B,2,FALSE)","v":"CZ"},{"$f":"VLOOKUP(F954,Soutez!A:C,3,FALSE)","v":2022},9,73,0,350,0,null,null,"L-13 Blanik dvoji","SG1",""]
["Milan Dvorak",1965,"M",{"$f":"VLOOKUP(A955,Pilot,3,0)","v":"Liberec"},{"$f":"VLOOKUP(A955,Pilot,4,0)","v":"CZ/C2"},"Safari 2022 - Klub",{"$f":"VLOOKUP(F955,Soutez!A:B,2,FALSE)","v":"CZ"},{"$f":"VLOOKUP(F955,Soutez!A:C,3,FALSE)","v":2022},1,2996,0.755,{"$f":"ROUND(J955/MAX($J$955:$J$980)*10000*0.7+(MAX($I$955:$I$980)-I955)/(MAX($I$955:$I$980)-1)*10000*0.3,0)","v":10000},{"$f":"ROUND(K955*L955,0)","v":7550},"x",null,"HpH 304cz 15m","IH",""]
["Ondrej Teichman",1984,"M","Dvůr Králové","CZ/C2","Safari 2022 - Klub",{"$f":"VLOOKUP(F956,Soutez!A:B,2,FALSE)","v":"CZ"},{"$f":"VLOOKUP(F956,Soutez!A:C,3,FALSE)","v":2022},2,2837,0.755,9509,{"$f":"ROUND(K956*L956,0)","v":7179},"x",null,"Cirrus VTC","VTC",""]
["Jaroslav Sima",1972,"M","Chomutov","CZ/C2","Safari 2022 - Klub",{"$f":"VLOOKUP(F957,Soutez!A:B,2,FALSE)","v":"CZ"},{"$f":"VLOOKUP(F957,Soutez!A:C,3,FALSE)","v":2022},3,2665,0.755,8987,6785,"x",null,"G-104 Speed Astir II","V2",""]
["Martin Cicvarek",1966,"M","Liberec","CZ/C2","Safari 2022 - Klub",{"$f":"VLOOKUP(F958,Soutez!A:B,2,FALSE)","v":"CZ"},{"$f":"VLOOKUP(F958,Soutez!A:C,3,FALSE)","v":2022},4,2589,0.755,8689,6560,"x",null,"DG-400 15m","AC",{"$f":"IF(ISERROR(VLOOKUP(A958,Pilot,6,0)),\"Není v databázi\",VLOOKUP(A958,Pilot,6,0))","v":""}]
["Marek Kornec",1957,"M","Dvůr Králové","CZ/C2","Safari 2022 - Klub",{"$f":"VLOOKUP(F959,Soutez!A:B,2,FALSE)","v":"CZ"},{"$f":"VLOOKUP(F959,Soutez!A:C,3,FALSE)","v":2022},5,2537,0.755,8448,6378,"x",null,"Janus C (FG)","KSS",""]
["Petr Lonsky",1965,"M","Toužim","CZ/C1","Safari 2022 - Klub",{"$f":"VLOOKUP(F960,Soutez!A:B,2,FALSE)","v":"CZ"},{"$f":"VLOOKUP(F960,Soutez!A:C,3,FALSE)","v":2022},6,2432,0.755,8082,6102,"x",null,"Cirrus VTC","JP2",""]
["Jan Hybner",1977,"M","Liberec","CZ/C2","Safari 2022 - Klub",{"$f":"VLOOKUP(F961,Soutez!A:B,2,FALSE)","v":"CZ"},{"$f":"VLOOKUP(F961,Soutez!A:C,3,FALSE)","v":2022},7,2418,0.755,7930,5987,"x",null,"HpH 304cz 15m","LB",""]
["Pavel Derda",1952,"M","Dvůr Králové","CZ/C2","Safari 2022 - Klub",{"$f":"VLOOKUP(F962,Soutez!A:B,2,FALSE)","v":"CZ"},{"$f":"VLOOKUP(F962,Soutez!A:C,3,FALSE)","v":2022},8,2203,0.755,7307,5517,"x",null,"Cirrus VTC","VE",""]
["Renata Dabrowska",null,null,"Czestochowa / KSS",null,"Safari 2022 - Klub",{"$f":"VLOOKUP(F963,Soutez!A:B,2,FALSE)","v":"CZ"},{"$f":"VLOOKUP(F963,Soutez!A:C,3,FALSE)","v":2022},9,2191,0.755,7159,5405,null,null,"LS-4","V4","Není v databázi"]
["Szlachta & kopiloti",null,null,"KSS",null,"Safari 2022 - Klub",{"$f":"VLOOKUP(F964,Soutez!A:B,2,FALSE)","v":"CZ"},{"$f":"VLOOKUP(F964,Soutez!A:C,3,FALSE)","v":2022},10,1595,0.755,5647,4263,null,null,"SZD-54-2 Perkoz 20m dvojí","SZD","Není v databázi"]
["Lukas Hykl",1985,"M",{"$f":"VLOOKUP(A965,Pilot,3,0)","v":"Kolín"},{"$f":"VLOOKUP(A965,Pilot,4,0)","v":"CZ/C1"},"Safari 2022 - Klub",{"$f":"VLOOKUP(F965,Soutez!A:B,2,FALSE)","v":"CZ"},{"$f":"VLOOKUP(F965,Soutez!A:C,3,FALSE)","v":2022},11,1510,0.755,5328,4023,"x",null,"Discus b","LD",""]
["Karel Policky",1950,"M","Kolín","CZ/C1","Safari 2022 - Klub",{"$f":"VLOOKUP(F966,Soutez!A:B,2,FALSE)","v":"CZ"},{"$f":"VLOOKUP(F966,Soutez!A:C,3,FALSE)","v":2022},12,1437,0.755,5037,3803,"x",null,"VSO-10",3,""]
["Franciszek Mazur",null,null,"AZL",null,"Safari 2022 - Klub",{"$f":"VLOOKUP(F967,Soutez!A:B,2,FALSE)","v":"CZ"},{"$f":"VLOOKUP(F967,Soutez!A:C,3,FALSE)","v":2022},13,1432,0.755,4906,3704,null,null,"Pik-20B","TT","Není v databázi"]
["Martin Markl",1960,"M",{"$f":"VLOOKUP(A968,Pilot,3,0)","v":"Kolín"},{"$f":"VLOOKUP(A968,Pilot,4,0)","v":"CZ/C1"},"Safari 2022 - Klub",{"$f":"VLOOKUP(F968,Soutez!A:B,2,FALSE)","v":"CZ"},{"$f":"VLOOKUP(F968,Soutez!A:C,3,FALSE)","v":2022},14,1370,0.755,4641,3504,"x",null,"ASK-21 dvoji","AK",""]
["Vojtech Sehnal",1994,"M","Kolín","CZ/C1","Safari 2022 - Klub",{"$f":"VLOOKUP(F969,Soutez!A:B,2,FALSE)","v":"CZ"},{"$f":"VLOOKUP(F969,Soutez!A:C,3,FALSE)","v":2022},15,1363,0.755,4505,{"$f":"ROUND(K969*L969,0)","v":3401},"x",null,"DG-300","DG",""]
["Krzysztof Pienkowski",null,null,null,null,"Safari 2022 - Klub",{"$f":"VLOOKUP(F970,Soutez!A:B,2,FALSE)","v":"CZ"},{"$f":"VLOOKUP(F970,Soutez!A:C,3,FALSE)","v":2022},16,1120,0.755,3817,2882,null,null,"LS-4","KP","Není v databázi"]
["Karel Ertl",1939,"M",{"$f":"VLOOKUP(A971,Pilot,3,0)","v":"LK Břeclav"},{"$f":"VLOOKUP(A971,Pilot,4,0)","v":"CZ/M"},"Safari 2022 - Klub",{"$f":"VLOOKUP(F971,Soutez!A:B,2,FALSE)","v":"CZ"},{"$f":"VLOOKUP(F971,Soutez!A:C,3,FALSE)","v":2022},17,1074,0.755,3589,2710,"x",null,"TST-10M Atlas","KE",""]
["Martin Benesovsky",1975,"M","Kolín","CZ/C1","Safari 2022 - Klub",{"$f":"VLOOKUP(F972,Soutez!A:B,2,FALSE)","v":"CZ"},{"$f":"VLOOKUP(F972,Soutez!A:C,3,FALSE)","v":2022},18,786,0.755,2796,2111,"x",null,"G-104 Speed Astir IIb","M2",""]
["Leos Nosek",1958,"M","Křižanov","CZ/M","Safari 2022 - Klub",{"$f":"VLOOKUP(F973,Soutez!A:B,2,FALSE)","v":"CZ"},{"$f":"VLOOKUP(F973,Soutez!A:C,3,FALSE)","v":2022},19,778,0.755,2658,2007,"x",null,"G-104 Speed Astir IIb","LE",""]
["Jerzy Mikolajczyk",null,null,"AZM / KSS",null,"Safari 2022 - Klub",{"$f":"VLOOKUP(F974,Soutez!A:B,2,FALSE)","v":"CZ"},{"$f":"VLOOKUP(F974,Soutez!A:C,3,FALSE)","v":2022},20,493,0.755,1872,1413,null,null,"LS-4","YL","Není v databázi"]
["Ryszard Bendkowski",null,null,"Warszava",null,"Safari 2022 - Klub",{"$f":"VLOOKUP(F975,Soutez!A:B,2,FALSE)","v":"CZ"},{"$f":"VLOOKUP(F975,Soutez!A:C,3,FALSE)","v":2022},21,485,0.755,1733,1308,null,null,"SZD-41A Jantar Std.","Fili","Není v databázi"]
["Romuald Dorofiejczyk",null,null,"AJ / KSS",null,"Safari 2022 - Klub",{"$f":"VLOOKUP(F976,Soutez!A:B,2,FALSE)","v":"CZ"},{"$f":"VLOOKUP(F976,Soutez!A:C,3,FALSE)","v":2022},22,368,0.755,1340,1012,null,null,"DG-300","N5","Není v databázi"]
["Radek Bartos",1971,"M",{"$f":"VLOOKUP(A977,Pilot,3,0)","v":"Kolín"},{"$f":"VLOOKUP(A977,Pilot,4,0)","v":"CZ/C1"},"Safari 2022 - Klub",{"$f":"VLOOKUP(F977,Soutez!A:B,2,FALSE)","v":"CZ"},{"$f":"VLOOKUP(F977,Soutez!A:C,3,FALSE)","v":2022},23,218,0.755,869,656,"x",null,"DG-300","DG",""]
["Vaclav Sehnal",1962,"M","Kolín","CZ/C1","Safari 2022 - Klub",{"$f":"VLOOKUP(F978,Soutez!A:B,2,FALSE)","v":"CZ"},{"$f":"VLOOKUP(F978,Soutez!A:C,3,FALSE)","v":2022},24,72,0.755,408,308,null,null,"ASK-21 dvoji","AK",""]
["Milan Bado",1975,"M","Kolín","CZ/C1","Safari 2022 - Klub",{"$f":"VLOOKUP(F979,Soutez!A:B,2,FALSE)","v":"CZ"},{"$f":"VLOOKUP(F979,Soutez!A:C,3,FALSE)","v":2022},25,57,0.755,253,191,"x",null,"SZD-48 Jantar std. 2 WL","VS",""]
["Vladislav Cadsky",1975,"M","Kolín","CZ/C1","Safari 2022 - Klub",{"$f":"VLOOKUP(F980,Soutez!A:B,2,FALSE)","v":"CZ"},{"$f":"VLOOKUP(F980,Soutez!A:C,3,FALSE)","v":2022},26,0,0.755,0,0,null,null,"G-102 Astir Jeans","VI",""]
["Jan Pazour",1979,"M",{"$f":"VLOOKUP(A981,Pilot,3,0)","v":"Dvůr Králové"},{"$f":"VLOOKUP(A981,Pilot,4,0)","v":"CZ/C2"},"Safari 2022 - Kombi",{"$f":"VLOOKUP(F981,Soutez!A:B,2,FALSE)","v":"CZ"},{"$f":"VLOOKUP(F981,Soutez!A:C,3,FALSE)","v":2022},1,3414,0.755,{"$f":"ROUND(J981/MAX($J$981:$J$990)*10000*0.7+(MAX($I$981:$I$990)-I981)/(MAX($I$981:$I$990)-1)*10000*0.3,0)","v":10000},{"$f":"ROUND(K981*L981,0)","v":7550},"x",null,"ASW-20 L +FL 16,6m","JP",""]
["Tomas Ditrt",1969,"M","Podhořany","CZ/C2","Safari 2022 - Kombi",{"$f":"VLOOKUP(F982,Soutez!A:B,2,FALSE)","v":"CZ"},{"$f":"VLOOKUP(F982,Soutez!A:C,3,FALSE)","v":2022},2,3310,0.755,9453,{"$f":"ROUND(K982*L982,0)","v":7137},"x",null,"HpH 304MS SHARK 18m","TDi",""]
["Ladislav Prokes",1954,"M","Vrchlabí","CZ/C2","Safari 2022 - Kombi",{"$f":"VLOOKUP(F983,Soutez!A:B,2,FALSE)","v":"CZ"},{"$f":"VLOOKUP(F983,Soutez!A:C,3,FALSE)","v":2022},3,3245,0.755,8987,6785,"x",null,"Discus b (voda)","VR",""]
["Jana Veprekova",1961,"F","Dvůr Králové","CZ/C2","Safari 2022 - Kombi",{"$f":"VLOOKUP(F984,Soutez!A:B,2,FALSE)","v":"CZ"},{"$f":"VLOOKUP(F984,Soutez!A:C,3,FALSE)","v":2022},4,3117,0.755,8391,6335,"x",null,"LS-8-18 15m (voda)","W8",""]
["Zdenek Boruvka 54",1954,"M","Jičín","CZ/C2","Safari 2022 - Kombi",{"$f":"VLOOKUP(F985,Soutez!A:B,2,FALSE)","v":"CZ"},{"$f":"VLOOKUP(F985,Soutez!A:C,3,FALSE)","v":2022},5,2876,0.755,7564,{"$f":"ROUND(K985*L985,0)","v":5711},null,null,"LS 8-18 15m (voda)","ZB",""]
["Peter Janoska",null,null,null,null,"Safari 2022 - Kombi",{"$f":"VLOOKUP(F986,Soutez!A:B,2,FALSE)","v":"CZ"},{"$f":"VLOOKUP(F986,Soutez!A:C,3,FALSE)","v":2022},6,2769,0.755,7011,5293,null,null,"LS-6c 17,5m (voda)","N6","Není v databázi"]
["Milan Meisner",1961,"M",{"$f":"VLOOKUP(A987,Pilot,3,0)","v":"Dvůr Králové"},{"$f":"VLOOKUP(A987,Pilot,4,0)","v":"CZ/C2"},"Safari 2022 - Kombi",{"$f":"VLOOKUP(F987,Soutez!A:B,2,FALSE)","v":"CZ"},{"$f":"VLOOKUP(F987,Soutez!A:C,3,FALSE)","v":2022},7,2293,{"$f":"VLOOKUP(F987,Soutez,12,0)","v":0.755},5702,4305,"x",null,"Ventus c 17,6m (voda)","VV",""]
["Slavomir Tanglmajer",1966,"M","Chomutov","CZ/C2","Safari 2022 - Kombi",{"$f":"VLOOKUP(F988,Soutez!A:B,2,FALSE)","v":"CZ"},{"$f":"VLOOKUP(F988,Soutez!A:C,3,FALSE)","v":2022},8,2292,0.755,5366,4051,"x",null,"DG 400 17m","ST",""]
["Petr Omelka",1970,"M","Vyškov","CZ/M","Safari 2022 - Kombi",{"$f":"VLOOKUP(F989,Soutez!A:B,2,FALSE)","v":"CZ"},{"$f":"VLOOKUP(F989,Soutez!A:C,3,FALSE)","v":2022},9,906,0.755,2191,1654,"x",null,"DG-400 17m","MR",""]
["Jiri Veprek",1959,"M","Dvůr Králové","CZ/C2","Safari 2022 - Kombi",{"$f":"VLOOKUP(F990,Soutez!A:B,2,FALSE)","v":"CZ"},{"$f":"VLOOKUP(F990,Soutez!A:C,3,FALSE)","v":2022},10,860,0.755,1763,1331,"x",null,"HpH 304cz 17,4m (voda)","KN",""]
["Jaroslav Tomana",1975,"M",{"$f":"VLOOKUP(A991,Pilot,3,0)","v":"Zbraslavice"},{"$f":"VLOOKUP(A991,Pilot,4,0)","v":"CZ/C1"},"Toužim Cup 2022 - Klub",{"$f":"VLOOKUP(F991,Soutez!A:B,2,FALSE)","v":"CZ"},{"$f":"VLOOKUP(F991,Soutez!A:C,3,FALSE)","v":2022},1,3652,0.91500000000000004,{"$f":"ROUND(J991/MAX($J$991:$J$1016)*10000*0.7+(MAX($I$991:$I$1016)-I991)/(MAX($I$991:$I$1016)-1)*10000*0.3,0)","v":10000},{"$f":"ROUND(K991*L991,0)","v":9150},"x",null,"Centrair C-101BC Pegase","RT",""]
["Jan Viskot",1995,"M",{"$f":"VLOOKUP(A992,Pilot,3,0)","v":"Břeclav"},{"$f":"VLOOKUP(A992,Pilot,4,0)","v":"CZ/M"},"Toužim Cup 2022 - Klub",{"$f":"VLOOKUP(F992,Soutez!A:B,2,FALSE)","v":"CZ"},{"$f":"VLOOKUP(F992,Soutez!A:C,3,FALSE)","v":2022},2,3315,0.91500000000000004,9234,{"$f":"ROUND(K992*L992,0)","v":8449},"x",null,"Std. Cirrus","W",""]
["Roman Jokl",1979,"M","Letkov","CZ/C1","Toužim Cup 2022 - Klub",{"$f":"VLOOKUP(F993,Soutez!A:B,2,FALSE)","v":"CZ"},{"$f":"VLOOKUP(F993,Soutez!A:C,3,FALSE)","v":2022},3,3254,0.91500000000000004,8997,8232,"x",null,"ASW-19","JL",""]
["Hana Treslova",1991,"F","Raná","CZ/C2","Toužim Cup 2022 - Klub",{"$f":"VLOOKUP(F994,Soutez!A:B,2,FALSE)","v":"CZ"},{"$f":"VLOOKUP(F994,Soutez!A:C,3,FALSE)","v":2022},4,3251,0.91500000000000004,8871,8117,null,null,"Std. Cirrus","WY",""]
["Martin Zahalka",1987,"M","Staňkov","CZ/C1","Toužim Cup 2022 - Klub",{"$f":"VLOOKUP(F995,Soutez!A:B,2,FALSE)","v":"CZ"},{"$f":"VLOOKUP(F995,Soutez!A:C,3,FALSE)","v":2022},5,3147,0.91500000000000004,8552,7825,"x",null,"DG-100","8B",""]
["Vit Prokop",1987,"M","Medlánky","CZ/M","Toužim Cup 2022 - Klub",{"$f":"VLOOKUP(F996,Soutez!A:B,2,FALSE)","v":"CZ"},{"$f":"VLOOKUP(F996,Soutez!A:C,3,FALSE)","v":2022},6,3104,0.91500000000000004,8350,7640,"x",null,"Std. Cirrus","MF",""]
["Tomas Talanda",1988,"M","Křižanov","CZ/M","Toužim Cup 2022 - Klub",{"$f":"VLOOKUP(F997,Soutez!A:B,2,FALSE)","v":"CZ"},{"$f":"VLOOKUP(F997,Soutez!A:C,3,FALSE)","v":2022},7,3078,0.91500000000000004,8180,7485,"x",null,"ASW-19B","DS",""]
["Jiri Vondracek",1989,"M","Kladno","CZ/C1","Toužim Cup 2022 - Klub",{"$f":"VLOOKUP(F998,Soutez!A:B,2,FALSE)","v":"CZ"},{"$f":"VLOOKUP(F998,Soutez!A:C,3,FALSE)","v":2022},8,3000,0.91500000000000004,7910,7238,"x",null,"ASW-15B","2P",""]
["Daniel Dvorak",1980,"M","Letkov","CZ/C1","Toužim Cup 2022 - Klub",{"$f":"VLOOKUP(F999,Soutez!A:B,2,FALSE)","v":"CZ"},{"$f":"VLOOKUP(F999,Soutez!A:C,3,FALSE)","v":2022},9,2933,0.91500000000000004,7662,7011,"x",null,"Std. Cirrus","LD",""]
["Jiri Prochazka",1971,"M","Toužim","CZ/C1","Toužim Cup 2022 - Klub",{"$f":"VLOOKUP(F1000,Soutez!A:B,2,FALSE)","v":"CZ"},{"$f":"VLOOKUP(F1000,Soutez!A:C,3,FALSE)","v":2022},10,2903,0.91500000000000004,7484,{"$f":"ROUND(K1000*L1000,0)","v":6848},"x",null,"Janus CM","J59",""]
["Ivan Harasta 65",1965,"M","Toužim","CZ/C1","Toužim Cup 2022 - Klub",{"$f":"VLOOKUP(F1001,Soutez!A:B,2,FALSE)","v":"CZ"},{"$f":"VLOOKUP(F1001,Soutez!A:C,3,FALSE)","v":2022},11,2801,0.91500000000000004,7169,6560,null,null,"LS-1d","CL",""]
["Martin Fric",1967,"M","Raná","CZ/C2","Toužim Cup 2022 - Klub",{"$f":"VLOOKUP(F1002,Soutez!A:B,2,FALSE)","v":"CZ"},{"$f":"VLOOKUP(F1002,Soutez!A:C,3,FALSE)","v":2022},12,2694,0.91500000000000004,6844,6262,"x",null,"DG-100","E2",""]
["Jiri Fousek",1990,"M","Raná","CZ/C2","Toužim Cup 2022 - Klub",{"$f":"VLOOKUP(F1003,Soutez!A:B,2,FALSE)","v":"CZ"},{"$f":"VLOOKUP(F1003,Soutez!A:C,3,FALSE)","v":2022},13,2651,0.91500000000000004,6641,6077,"x",null,"Std. Cirrus","LW",""]
["Michal Drab",1969,"M","Letkov","CZ/C1","Toužim Cup 2022 - Klub",{"$f":"VLOOKUP(F1004,Soutez!A:B,2,FALSE)","v":"CZ"},{"$f":"VLOOKUP(F1004,Soutez!A:C,3,FALSE)","v":2022},14,2387,0.91500000000000004,6015,5504,"x",null,"LS-1c","S3",""]
["Michal Cupak",{"$f":"VLOOKUP(A1005,Pilot,2,0)","v":1991},{"$f":"VLOOKUP(A1005,Pilot,5,0)","v":"M"},"Medlánky","CZ/M","Toužim Cup 2022 - Klub",{"$f":"VLOOKUP(F1005,Soutez!A:B,2,FALSE)","v":"CZ"},{"$f":"VLOOKUP(F1005,Soutez!A:C,3,FALSE)","v":2022},15,2229,0.91500000000000004,5592,5117,null,null,"Std. Cirrus","A7",""]
["Josef Kreutzer",1992,"M","Letkov","CZ/C1","Toužim Cup 2022 - Klub",{"$f":"VLOOKUP(F1006,Soutez!A:B,2,FALSE)","v":"CZ"},{"$f":"VLOOKUP(F1006,Soutez!A:C,3,FALSE)","v":2022},16,2044,0.91500000000000004,5118,4683,"x",null,"Std. Cirrus","AL",""]
["Jan Sustr 76",1976,"M","Raná","CZ/C2","Toužim Cup 2022 - Klub",{"$f":"VLOOKUP(F1007,Soutez!A:B,2,FALSE)","v":"CZ"},{"$f":"VLOOKUP(F1007,Soutez!A:C,3,FALSE)","v":2022},17,1937,0.91500000000000004,4793,4386,"x",null,"DG-300 WL","WL",""]
["Jiri Cincera",1966,"M","Toužim","CZ/C1","Toužim Cup 2022 - Klub",{"$f":"VLOOKUP(F1008,Soutez!A:B,2,FALSE)","v":"CZ"},{"$f":"VLOOKUP(F1008,Soutez!A:C,3,FALSE)","v":2022},18,1780,0.91500000000000004,4372,4000,"x",null,"ASW-15B","TT",""]
["Tomas Seifert",1972,"M","Raná","CZ/C2","Toužim Cup 2022 - Klub",{"$f":"VLOOKUP(F1009,Soutez!A:B,2,FALSE)","v":"CZ"},{"$f":"VLOOKUP(F1009,Soutez!A:C,3,FALSE)","v":2022},19,1749,0.91500000000000004,4192,3836,"x",null,"ASW-15B","MC",""]
["Martin Valenta",1969,"M","Toužim","CZ/C1","Toužim Cup 2022 - Klub",{"$f":"VLOOKUP(F1010,Soutez!A:B,2,FALSE)","v":"CZ"},{"$f":"VLOOKUP(F1010,Soutez!A:C,3,FALSE)","v":2022},20,1405,0.91500000000000004,3413,3123,"x",null,"LS-1c","P2",""]
["Tomas Jung",1950,"M","Zbraslavice","CZ/C1","Toužim Cup 2022 - Klub",{"$f":"VLOOKUP(F1011,Soutez!A:B,2,FALSE)","v":"CZ"},{"$f":"VLOOKUP(F1011,Soutez!A:C,3,FALSE)","v":2022},21,1064,0.91500000000000004,2639,2415,"x",null,"ASW-19B","O2",""]
["Jaroslav Hot",1965,"M","Toužim","CZ/C1","Toužim Cup 2022 - Klub",{"$f":"VLOOKUP(F1012,Soutez!A:B,2,FALSE)","v":"CZ"},{"$f":"VLOOKUP(F1012,Soutez!A:C,3,FALSE)","v":2022},22,1009,0.91500000000000004,2414,2209,"x",null,"Pik-20D","HJ",""]
["Petr Cernicky",1974,"M","Toužim","CZ/C1","Toužim Cup 2022 - Klub",{"$f":"VLOOKUP(F1013,Soutez!A:B,2,FALSE)","v":"CZ"},{"$f":"VLOOKUP(F1013,Soutez!A:C,3,FALSE)","v":2022},23,760,0.91500000000000004,1817,1663,"x",null,"G-102 Astir cs","LS",{"$f":"IF(ISERROR(VLOOKUP(A1013,Pilot,6,0)),\"Není v databázi\",VLOOKUP(A1013,Pilot,6,0))","v":""}]
["Rudolf Jung",1954,"M","Zbraslavice","CZ/C1","Toužim Cup 2022 - Klub",{"$f":"VLOOKUP(F1014,Soutez!A:B,2,FALSE)","v":"CZ"},{"$f":"VLOOKUP(F1014,Soutez!A:C,3,FALSE)","v":2022},24,480,0.91500000000000004,1160,1061,"x",null,"G-103 Twin III dvojí (pevný podvozek)","TO",""]
["Frantisek Brozman",1960,"M","Tachov","CZ/C1","Toužim Cup 2022 - Klub",{"$f":"VLOOKUP(F1015,Soutez!A:B,2,FALSE)","v":"CZ"},{"$f":"VLOOKUP(F1015,Soutez!A:C,3,FALSE)","v":2022},25,402,0.91500000000000004,891,815,"x",null,"L-13 Blaník","L13",""]
["Vaclav Halek",1966,"M","Toužim","CZ/C1","Toužim Cup 2022 - Klub",{"$f":"VLOOKUP(F1016,Soutez!A:B,2,FALSE)","v":"CZ"},{"$f":"VLOOKUP(F1016,Soutez!A:C,3,FALSE)","v":2022},26,170,0.91500000000000004,326,298,"x",null,"Std. Cirrus","IYD",""]
["Michaela Rendlova",2004,"F",{"$f":"VLOOKUP(A1017,Pilot,3,0)","v":"Toužim"},{"$f":"VLOOKUP(A1017,Pilot,4,0)","v":"CZ/C1"},"Toužim Cup 2022 - Kombi",{"$f":"VLOOKUP(F1017,Soutez!A:B,2,FALSE)","v":"CZ"},{"$f":"VLOOKUP(F1017,Soutez!A:C,3,FALSE)","v":2022},1,3194,0.91,{"$f":"ROUND(J1017/MAX($J$1017:$J$1042)*10000*0.7+(MAX($I$1017:$I$1042)-I1017)/(MAX($I$1017:$I$1042)-1)*10000*0.3,0)","v":10000},{"$f":"ROUND(K1017*L1017,0)","v":9100},"x","x","AS 33 Es /18m","EA","Junior v roce 2024"]
["Pavel Jiranek",1993,"M","Toužim","CZ/C1","Toužim Cup 2022 - Kombi",{"$f":"VLOOKUP(F1018,Soutez!A:B,2,FALSE)","v":"CZ"},{"$f":"VLOOKUP(F1018,Soutez!A:C,3,FALSE)","v":2022},2,3126,0.91,9731,{"$f":"ROUND(K1018*L1018,0)","v":8855},null,null,"Ventus c /17,6m","CS",""]
["Petr Tichy",1973,"M","Zbraslavice","CZ/C1","Toužim Cup 2022 - Kombi",{"$f":"VLOOKUP(F1019,Soutez!A:B,2,FALSE)","v":"CZ"},{"$f":"VLOOKUP(F1019,Soutez!A:C,3,FALSE)","v":2022},3,3012,0.91,9361,8519,null,null,"ASG-29E /18m","AJ",""]
["Karel Benisek 76",1976,"M","Toužim","CZ/C1","Toužim Cup 2022 - Kombi",{"$f":"VLOOKUP(F1020,Soutez!A:B,2,FALSE)","v":"CZ"},{"$f":"VLOOKUP(F1020,Soutez!A:C,3,FALSE)","v":2022},3,3012,0.91,9361,8519,"x",null,"Ventus ct /17,6m","KB",""]
["Petr Hotovy",1958,"M","Česká Lípa","CZ/C2","Toužim Cup 2022 - Kombi",{"$f":"VLOOKUP(F1021,Soutez!A:B,2,FALSE)","v":"CZ"},{"$f":"VLOOKUP(F1021,Soutez!A:C,3,FALSE)","v":2022},5,2931,0.91,8944,8139,null,null,"JS1-BTJ 18","IGC",""]
["Vratislav Sram",1966,"M","Broumov","CZ/C2","Toužim Cup 2022 - Kombi",{"$f":"VLOOKUP(F1022,Soutez!A:B,2,FALSE)","v":"CZ"},{"$f":"VLOOKUP(F1022,Soutez!A:C,3,FALSE)","v":2022},6,2806,0.91,8550,7781,"x",null,"Nimbus 2M WL","NB",""]
["Tomas Rendla",1973,"M","Zbraslavice","CZ/C1","Toužim Cup 2022 - Kombi",{"$f":"VLOOKUP(F1023,Soutez!A:B,2,FALSE)","v":"CZ"},{"$f":"VLOOKUP(F1023,Soutez!A:C,3,FALSE)","v":2022},7,2600,0.91,7978,7260,null,null,"Arcus M","EY",""]
["Roman Lanzendorf",1964,"M","Letkov","CZ/C1","Toužim Cup 2022 - Kombi",{"$f":"VLOOKUP(F1024,Soutez!A:B,2,FALSE)","v":"CZ"},{"$f":"VLOOKUP(F1024,Soutez!A:C,3,FALSE)","v":2022},8,2555,0.91,7760,7062,"x",null,"Duo Discus T (700kg)","ZS",""]
["Lubomir Motl",1959,"M","Kyjov","CZ/M","Toužim Cup 2022 - Kombi",{"$f":"VLOOKUP(F1025,Soutez!A:B,2,FALSE)","v":"CZ"},{"$f":"VLOOKUP(F1025,Soutez!A:C,3,FALSE)","v":2022},9,2523,0.91,7569,6888,"x",null,"Nimbus 4DM","AM",""]
["Michal Cechmanek",1978,"M","Kroměříž","CZ/M","Toužim Cup 2022 - Kombi",{"$f":"VLOOKUP(F1026,Soutez!A:B,2,FALSE)","v":"CZ"},{"$f":"VLOOKUP(F1026,Soutez!A:C,3,FALSE)","v":2022},10,2492,0.91,7381,6717,null,null,"ASW-20 L +FL /16,6m","MK",""]
["Frantisek Myska",1968,"M","Most","CZ/C2","Toužim Cup 2022 - Kombi",{"$f":"VLOOKUP(F1027,Soutez!A:B,2,FALSE)","v":"CZ"},{"$f":"VLOOKUP(F1027,Soutez!A:C,3,FALSE)","v":2022},11,2475,0.91,7224,6574,"x",null,"Ventus bt /16,6m","SK",""]
["Radim Hahn",1972,"M","Zábřeh","CZ/M","Toužim Cup 2022 - Kombi",{"$f":"VLOOKUP(F1028,Soutez!A:B,2,FALSE)","v":"CZ"},{"$f":"VLOOKUP(F1028,Soutez!A:C,3,FALSE)","v":2022},12,2224,0.91,6554,5964,"x",null,"Ventus 3M - 18m","I3",""]
["Tomas Profeld",1964,"M","Jičín","CZ/C2","Toužim Cup 2022 - Kombi",{"$f":"VLOOKUP(F1029,Soutez!A:B,2,FALSE)","v":"CZ"},{"$f":"VLOOKUP(F1029,Soutez!A:C,3,FALSE)","v":2022},13,2220,0.91,6425,5847,"x",null,"Ventus 2cm /18m 525 kg","OZ",""]
["Ondrej Dupal",1966,"M","GAC Benešov","CZ/C1","Toužim Cup 2022 - Kombi",{"$f":"VLOOKUP(F1030,Soutez!A:B,2,FALSE)","v":"CZ"},{"$f":"VLOOKUP(F1030,Soutez!A:C,3,FALSE)","v":2022},14,2217,0.91,6299,5732,null,null,"ASG-29E /18m","GO",""]
["Zdenek Schenk",1972,"M","Hranice","CZ/M","Toužim Cup 2022 - Kombi",{"$f":"VLOOKUP(F1031,Soutez!A:B,2,FALSE)","v":"CZ"},{"$f":"VLOOKUP(F1031,Soutez!A:C,3,FALSE)","v":2022},15,2171,0.91,6078,{"$f":"ROUND(K1031*L1031,0)","v":5531},null,null,"Ventus cm /17,6m","SNK",""]
["Karl Schiffleithner",null,null,"SFC Tulln","AT","Toužim Cup 2022 - Kombi",{"$f":"VLOOKUP(F1032,Soutez!A:B,2,FALSE)","v":"CZ"},{"$f":"VLOOKUP(F1032,Soutez!A:C,3,FALSE)","v":2022},16,2102,0.91,5807,5284,null,null,"Ventus 2cxt /18m -600 kg","IX","Není v databázi"]
["Jana Treslova",1963,"F",{"$f":"VLOOKUP(A1033,Pilot,3,0)","v":"Raná"},{"$f":"VLOOKUP(A1033,Pilot,4,0)","v":"CZ/C2"},"Toužim Cup 2022 - Kombi",{"$f":"VLOOKUP(F1033,Soutez!A:B,2,FALSE)","v":"CZ"},{"$f":"VLOOKUP(F1033,Soutez!A:C,3,FALSE)","v":2022},17,2031,0.91,5531,5033,null,null,"Discus 2a /15m","GX",""]
["Petr Jiranek 63",1962,"M","Toužim","CZ/C1","Toužim Cup 2022 - Kombi",{"$f":"VLOOKUP(F1034,Soutez!A:B,2,FALSE)","v":"CZ"},{"$f":"VLOOKUP(F1034,Soutez!A:C,3,FALSE)","v":2022},18,1928,0.91,5185,4718,"x",null,"Ventus ct /17,6m","EB",""]
["Olga Mokosova",1970,"F","Jihlava","CZ/M","Toužim Cup 2022 - Kombi",{"$f":"VLOOKUP(F1035,Soutez!A:B,2,FALSE)","v":"CZ"},{"$f":"VLOOKUP(F1035,Soutez!A:C,3,FALSE)","v":2022},19,1879,0.91,4958,4512,"x","x","LS-6c /18m WL","MM",""]
["David Zapletal",1970,"M","Mladá Boleslav","CZ/C1","Toužim Cup 2022 - Kombi",{"$f":"VLOOKUP(F1036,Soutez!A:B,2,FALSE)","v":"CZ"},{"$f":"VLOOKUP(F1036,Soutez!A:C,3,FALSE)","v":2022},20,1842,0.91,4757,4329,"x",null,"Ventus c /17,6m","PUP",""]
["Vaclav Svoboda",1970,"M","Letkov","CZ/C1","Toužim Cup 2022 - Kombi",{"$f":"VLOOKUP(F1037,Soutez!A:B,2,FALSE)","v":"CZ"},{"$f":"VLOOKUP(F1037,Soutez!A:C,3,FALSE)","v":2022},21,1587,0.91,4078,3711,"x",null,"LS-8-18 /18m",301,""]
["Jan Zanda",1983,"M","Letkov","CZ/C1","Toužim Cup 2022 - Kombi",{"$f":"VLOOKUP(F1038,Soutez!A:B,2,FALSE)","v":"CZ"},{"$f":"VLOOKUP(F1038,Soutez!A:C,3,FALSE)","v":2022},22,1527,0.91,3827,3483,"x",null,"Duo Discus (700 kg)","DL",""]
["Karel Krobath",null,null,"FRA","AT","Toužim Cup 2022 - Kombi",{"$f":"VLOOKUP(F1039,Soutez!A:B,2,FALSE)","v":"CZ"},{"$f":"VLOOKUP(F1039,Soutez!A:C,3,FALSE)","v":2022},23,1494,0.91,3634,3307,null,null,"HpH 304 TS Twin Shark S","Q","Není v databázi"]
["Roman Michalek",1974,"M",{"$f":"VLOOKUP(A1040,Pilot,3,0)","v":"Toužim"},{"$f":"VLOOKUP(A1040,Pilot,4,0)","v":"CZ/C1"},"Toužim Cup 2022 - Kombi",{"$f":"VLOOKUP(F1040,Soutez!A:B,2,FALSE)","v":"CZ"},{"$f":"VLOOKUP(F1040,Soutez!A:C,3,FALSE)","v":2022},24,1395,0.91,3297,3000,"x",null,"DG-400 17m","TK",""]
["Ludek Kluger",1963,"M","Tábor","CZ/C1","Toužim Cup 2022 - Kombi",{"$f":"VLOOKUP(F1041,Soutez!A:B,2,FALSE)","v":"CZ"},{"$f":"VLOOKUP(F1041,Soutez!A:C,3,FALSE)","v":2022},25,630,0.91,1501,1366,"x",null,"HpH 304 TS Twin Shark S","LK",""]
["Frantisek Kriz",1961,"M","Toužim","CZ/C1","Toužim Cup 2022 - Kombi",{"$f":"VLOOKUP(F1042,Soutez!A:B,2,FALSE)","v":"CZ"},{"$f":"VLOOKUP(F1042,Soutez!A:C,3,FALSE)","v":2022},26,590,0.91,1293,1177,"x",null,"DG-400 17m","FK",""]
["Frantisek Vancura",1966,"M",{"$f":"VLOOKUP(A1043,Pilot,3,0)","v":"Hranice"},{"$f":"VLOOKUP(A1043,Pilot,4,0)","v":"CZ/M"},"FL 2022 - Kombi",{"$f":"VLOOKUP(F1043,Soutez!A:B,2,FALSE)","v":"CZ"},{"$f":"VLOOKUP(F1043,Soutez!A:C,3,FALSE)","v":2022},1,1283,0.73499999999999999,{"$f":"ROUND(J1043/MAX($J$1043:$J$1057)*10000*0.7+(MAX($I$1043:$I$1057)-I1043)/(MAX($I$1043:$I$1057)-1)*10000*0.3,0)","v":10000},{"$f":"ROUND(K1043*L1043,0)","v":7350},null,null,"Nimbus 3T 24.5m","A1",""]
["Martin Suchy",1969,"M","Hranice","CZ/M","FL 2022 - Kombi",{"$f":"VLOOKUP(F1044,Soutez!A:B,2,FALSE)","v":"CZ"},{"$f":"VLOOKUP(F1044,Soutez!A:C,3,FALSE)","v":2022},2,1232,0.73499999999999999,9507,{"$f":"ROUND(K1044*L1044,0)","v":6988},"x",null,"DG 500M 22m","T1",""]
["Michal Buryan",1977,"M","Vysoké Mýto","CZ/C2","FL 2022 - Kombi",{"$f":"VLOOKUP(F1045,Soutez!A:B,2,FALSE)","v":"CZ"},{"$f":"VLOOKUP(F1045,Soutez!A:C,3,FALSE)","v":2022},3,1098,0.73499999999999999,8562,6293,"x",null,"duo discus",777,""]
["Milos Matejka",1956,"M","Beroun","CZ/C1","FL 2022 - Kombi",{"$f":"VLOOKUP(F1046,Soutez!A:B,2,FALSE)","v":"CZ"},{"$f":"VLOOKUP(F1046,Soutez!A:C,3,FALSE)","v":2022},4,1095,0.73499999999999999,8331,6123,"x",null,"Discus b WL","SH",""]
["Lumir Motyka",1955,"M","Frýdlant","CZ/M","FL 2022 - Kombi",{"$f":"VLOOKUP(F1047,Soutez!A:B,2,FALSE)","v":"CZ"},{"$f":"VLOOKUP(F1047,Soutez!A:C,3,FALSE)","v":2022},5,1068,0.73499999999999999,7970,5858,"x",null,"LAK-12","DE",""]
["Lukas Benedikt",null,null,"AK Trnava","SK","FL 2022 - Kombi",{"$f":"VLOOKUP(F1048,Soutez!A:B,2,FALSE)","v":"CZ"},{"$f":"VLOOKUP(F1048,Soutez!A:C,3,FALSE)","v":2022},6,863,0.73499999999999999,6637,4878,null,null,"Ventus 3F 18m","LB","Není v databázi"]
["Jaroslav Buryan",1953,"M",{"$f":"VLOOKUP(A1049,Pilot,3,0)","v":"Zábřeh"},{"$f":"VLOOKUP(A1049,Pilot,4,0)","v":"CZ/M"},"FL 2022 - Kombi",{"$f":"VLOOKUP(F1049,Soutez!A:B,2,FALSE)","v":"CZ"},{"$f":"VLOOKUP(F1049,Soutez!A:C,3,FALSE)","v":2022},7,800,0.73499999999999999,6079,4468,null,null,"ASW 20 WL","NS",""]
["Vladimir Jirka",1965,"M","Zábřeh","CZ/M","FL 2022 - Kombi",{"$f":"VLOOKUP(F1050,Soutez!A:B,2,FALSE)","v":"CZ"},{"$f":"VLOOKUP(F1050,Soutez!A:C,3,FALSE)","v":2022},8,715,0.73499999999999999,5401,3970,"x",null,"HpH 304 TS Twin Shark",11,""]
["Antonin Kutalek",1943,"M","Zábřeh","CZ/M","FL 2022 - Kombi",{"$f":"VLOOKUP(F1051,Soutez!A:B,2,FALSE)","v":"CZ"},{"$f":"VLOOKUP(F1051,Soutez!A:C,3,FALSE)","v":2022},9,689,{"$f":"VLOOKUP(F1051,Soutez,12,0)","v":0.73499999999999999},5045,{"$f":"ROUND(K1051*L1051,0)","v":3708},null,null,"LAK-17A T 18m","GL",""]
["Roman Cerny",1971,"M","Hranice","CZ/M","FL 2022 - Kombi",{"$f":"VLOOKUP(F1052,Soutez!A:B,2,FALSE)","v":"CZ"},{"$f":"VLOOKUP(F1052,Soutez!A:C,3,FALSE)","v":2022},9,689,0.73499999999999999,5045,3708,"x",null,"Nimbus 3 25.5m","RF",""]
["Martin Urban",1971,"M","Frýdlant","CZ/M","FL 2022 - Kombi",{"$f":"VLOOKUP(F1053,Soutez!A:B,2,FALSE)","v":"CZ"},{"$f":"VLOOKUP(F1053,Soutez!A:C,3,FALSE)","v":2022},11,687,0.73499999999999999,4605,3385,"x",null,"LS 3a","SJ",""]
["Jan Kristof",1962,"M","Frýdlant","CZ/M","FL 2022 - Kombi",{"$f":"VLOOKUP(F1054,Soutez!A:B,2,FALSE)","v":"CZ"},{"$f":"VLOOKUP(F1054,Soutez!A:C,3,FALSE)","v":2022},12,617,0.73499999999999999,4009,2947,"x",null,"LS 3","TX",""]
["Petr Brezina",1963,"M","Frýdlant","CZ/M","FL 2022 - Kombi",{"$f":"VLOOKUP(F1055,Soutez!A:B,2,FALSE)","v":"CZ"},{"$f":"VLOOKUP(F1055,Soutez!A:C,3,FALSE)","v":2022},13,553,0.73499999999999999,3446,2533,"x",null,"DG 200","AK",""]
["Radim Hahn",1972,"M","Zábřeh","CZ/M","FL 2022 - Kombi",{"$f":"VLOOKUP(F1056,Soutez!A:B,2,FALSE)","v":"CZ"},{"$f":"VLOOKUP(F1056,Soutez!A:C,3,FALSE)","v":2022},14,519,0.73499999999999999,3046,2239,"x",null,"Ventus 3M 18m","I3",""]
["Zdenek Schenk",1972,"M","Hranice","CZ/M","FL 2022 - Kombi",{"$f":"VLOOKUP(F1057,Soutez!A:B,2,FALSE)","v":"CZ"},{"$f":"VLOOKUP(F1057,Soutez!A:C,3,FALSE)","v":2022},15,424,0.73499999999999999,2313,1700,null,null,"Ventus cM 17.6m","ŠNeK",""]
["David Sachl",{"$f":"VLOOKUP(A1058,Pilot,2,0)","v":1978},{"$f":"VLOOKUP(A1058,Pilot,5,0)","v":"M"},{"$f":"VLOOKUP(A1058,Pilot,3,0)","v":"Kralupy"},{"$f":"VLOOKUP(A1058,Pilot,4,0)","v":"CZ/C1"},"Adrenalin GP 2022 - Klub GP",{"$f":"VLOOKUP(F1058,Soutez!A:B,2,FALSE)","v":"CZ"},{"$f":"VLOOKUP(F1058,Soutez!A:C,3,FALSE)","v":2022},1,26,0.9,{"$f":"ROUND((MAX($I$1058:$I$1069)-I1058)/(MAX($I$1058:$I$1069)-1)*10000,0)","v":10000},{"$f":"ROUND(K1058*L1058,0)","v":9000},"x",null,"DG-300 Club ELAN WL (450kg)","BK",""]
["Jan Mareth",1979,"M","Frýdlant","CZ/M","Adrenalin GP 2022 - Klub GP",{"$f":"VLOOKUP(F1059,Soutez!A:B,2,FALSE)","v":"CZ"},{"$f":"VLOOKUP(F1059,Soutez!A:C,3,FALSE)","v":2022},2,25,0.9,9091,{"$f":"ROUND(K1059*L1059,0)","v":8182},"x",null,"ASW 15 B","PA",""]
["Jan Sponer",1988,"M","Medlánky","CZ/M","Adrenalin GP 2022 - Klub GP",{"$f":"VLOOKUP(F1060,Soutez!A:B,2,FALSE)","v":"CZ"},{"$f":"VLOOKUP(F1060,Soutez!A:C,3,FALSE)","v":2022},3,13,0.9,8182,7364,"x",null,"Std. Cirrus","EX",""]
["Stepan Obrovsky",1990,"M","Frýdlant","CZ/M","Adrenalin GP 2022 - Klub GP",{"$f":"VLOOKUP(F1061,Soutez!A:B,2,FALSE)","v":"CZ"},{"$f":"VLOOKUP(F1061,Soutez!A:C,3,FALSE)","v":2022},4,11,0.9,7273,6546,"x",null,"LS 1-f","JT",""]
["Pavel Foldyna",1976,"M","Frýdlant","CZ/M","Adrenalin GP 2022 - Klub GP",{"$f":"VLOOKUP(F1062,Soutez!A:B,2,FALSE)","v":"CZ"},{"$f":"VLOOKUP(F1062,Soutez!A:C,3,FALSE)","v":2022},5,8,0.9,6364,{"$f":"ROUND(K1062*L1062,0)","v":5728},"x",null,"g 102 Astir CS","BH",""]
["Rostislav Stryk",1972,"M","Frýdlant","CZ/M","Adrenalin GP 2022 - Klub GP",{"$f":"VLOOKUP(F1063,Soutez!A:B,2,FALSE)","v":"CZ"},{"$f":"VLOOKUP(F1063,Soutez!A:C,3,FALSE)","v":2022},6,7,0.9,5455,4910,"x",null,"Std. Cirrus",22,""]
["Daniel Suchy",1995,"M","Hranice","CZ/M","Adrenalin GP 2022 - Klub GP",{"$f":"VLOOKUP(F1064,Soutez!A:B,2,FALSE)","v":"CZ"},{"$f":"VLOOKUP(F1064,Soutez!A:C,3,FALSE)","v":2022},7,6,0.9,4545,4091,"x",null,"g 102 Astir CS","W7",{"$f":"IF(ISERROR(VLOOKUP(A1064,Pilot,6,0)),\"Není v databázi\",VLOOKUP(A1064,Pilot,6,0))","v":""}]
["Radim Zielinski",1969,"M","Frýdlant","CZ/M","Adrenalin GP 2022 - Klub GP",{"$f":"VLOOKUP(F1065,Soutez!A:B,2,FALSE)","v":"CZ"},{"$f":"VLOOKUP(F1065,Soutez!A:C,3,FALSE)","v":2022},8,5,0.9,3636,3272,"x",null,"LS 1-f","EM",""]
["Jan Matejovsky",1972,"M","Hranice","CZ/M","Adrenalin GP 2022 - Klub GP",{"$f":"VLOOKUP(F1066,Soutez!A:B,2,FALSE)","v":"CZ"},{"$f":"VLOOKUP(F1066,Soutez!A:C,3,FALSE)","v":2022},9,4,0.9,2727,2454,"x",null,"Std. Cirrus","BY",""]
["Martin Svacina",1965,"M","Frýdlant","CZ/M","Adrenalin GP 2022 - Klub GP",{"$f":"VLOOKUP(F1067,Soutez!A:B,2,FALSE)","v":"CZ"},{"$f":"VLOOKUP(F1067,Soutez!A:C,3,FALSE)","v":2022},10,3,0.9,1818,1636,"x",null,"Std. Cirrus","E",""]
["Stanislav Doskocil",1978,"M","Medlánky","CZ/M","Adrenalin GP 2022 - Klub GP",{"$f":"VLOOKUP(F1068,Soutez!A:B,2,FALSE)","v":"CZ"},{"$f":"VLOOKUP(F1068,Soutez!A:C,3,FALSE)","v":2022},11,2,0.9,909,818,"x",null,"Std. Cirrus","SD",""]
["Lukas Kotek",1994,"M","Frýdlant","CZ/M","Adrenalin GP 2022 - Klub GP",{"$f":"VLOOKUP(F1069,Soutez!A:B,2,FALSE)","v":"CZ"},{"$f":"VLOOKUP(F1069,Soutez!A:C,3,FALSE)","v":2022},12,0,0.9,0,0,null,null,"vso-10","B6",""]
["Miroslav Mitrus",1972,"M",{"$f":"VLOOKUP(A1070,Pilot,3,0)","v":"GAC Benešov"},{"$f":"VLOOKUP(A1070,Pilot,4,0)","v":"CZ/C1"},"Ulfův memoriál",{"$f":"VLOOKUP(F1070,Soutez!A:B,2,FALSE)","v":"CZ"},{"$f":"VLOOKUP(F1070,Soutez!A:C,3,FALSE)","v":2022},1,436,0,{"$f":"ROUND(J1070/MAX($J$1070:$J$1079)*10000*0.7+(MAX($I$1070:$I$1079)-I1070)/(MAX($I$1070:$I$1079)-1)*10000*0.3,0)","v":10000},{"$f":"ROUND(K1070*L1070,0)","v":0},null,null,"VT-125 Sohaj",68,""]
["Michal Ondracek",1966,"M","Medlánky","CZ/M","Ulfův memoriál",{"$f":"VLOOKUP(F1071,Soutez!A:B,2,FALSE)","v":"CZ"},{"$f":"VLOOKUP(F1071,Soutez!A:C,3,FALSE)","v":2022},2,360,0,8446,{"$f":"ROUND(K1071*L1071,0)","v":0},null,null,"Ka 6 E","2W",""]
["piloti AK Nachod",null,null,null,null,"Ulfův memoriál",{"$f":"VLOOKUP(F1072,Soutez!A:B,2,FALSE)","v":"CZ"},{"$f":"VLOOKUP(F1072,Soutez!A:C,3,FALSE)","v":2022},3,343,0,7840,0,null,null,"Bergfalke IV","RZ2","Není v databázi"]
["Tomas Mezera",1973,"M","Raná","CZ/C2","Ulfův memoriál",{"$f":"VLOOKUP(F1073,Soutez!A:B,2,FALSE)","v":"CZ"},{"$f":"VLOOKUP(F1073,Soutez!A:C,3,FALSE)","v":2022},4,256,0,6110,0,null,null,"VT-425 Sohaj","T",""]
["Jiri Lenik",1947,"M","Raná","CZ/C2","Ulfův memoriál",{"$f":"VLOOKUP(F1074,Soutez!A:B,2,FALSE)","v":"CZ"},{"$f":"VLOOKUP(F1074,Soutez!A:C,3,FALSE)","v":2022},5,243,0,5568,0,null,null,"Skylark 2b","CRX",""]
["Jaromir Hendrych",1954,"M","Raná","CZ/C2","Ulfův memoriál",{"$f":"VLOOKUP(F1075,Soutez!A:B,2,FALSE)","v":"CZ"},{"$f":"VLOOKUP(F1075,Soutez!A:C,3,FALSE)","v":2022},6,235,0,5106,{"$f":"ROUND(K1075*L1075,0)","v":0},null,null,"VT-125 Sohaj",37,""]
["Vladimir Abraham",1962,"M","Raná","CZ/C2","Ulfův memoriál",{"$f":"VLOOKUP(F1076,Soutez!A:B,2,FALSE)","v":"CZ"},{"$f":"VLOOKUP(F1076,Soutez!A:C,3,FALSE)","v":2022},7,234,0,4757,0,null,null,"Ka 6","Y7",""]
["Sarka Lochova",1966,"F","Šumperk","CZ/M","Ulfův memoriál",{"$f":"VLOOKUP(F1077,Soutez!A:B,2,FALSE)","v":"CZ"},{"$f":"VLOOKUP(F1077,Soutez!A:C,3,FALSE)","v":2022},8,217,0,4151,0,null,null,"Ka 6",22,""]
["Zbynek Bican",1961,"M","Raná","CZ/C2","Ulfův memoriál",{"$f":"VLOOKUP(F1078,Soutez!A:B,2,FALSE)","v":"CZ"},{"$f":"VLOOKUP(F1078,Soutez!A:C,3,FALSE)","v":2022},9,157,0,2854,0,null,null,"LG-130","K",""]
["piloti AK Rana",null,null,null,null,"Ulfův memoriál",{"$f":"VLOOKUP(F1079,Soutez!A:B,2,FALSE)","v":"CZ"},{"$f":"VLOOKUP(F1079,Soutez!A:C,3,FALSE)","v":2022},10,104,0,1670,0,null,null,"Ka 8",78,"Není v databázi"]
["Michal Drab",1969,"M",{"$f":"VLOOKUP(A1080,Pilot,3,0)","v":"Letkov"},{"$f":"VLOOKUP(A1080,Pilot,4,0)","v":"CZ/C1"},"Podbrdský pohár",{"$f":"VLOOKUP(F1080,Soutez!A:B,2,FALSE)","v":"CZ"},{"$f":"VLOOKUP(F1080,Soutez!A:C,3,FALSE)","v":2022},1,2517,0,{"$f":"ROUND(J1080/MAX($J$1080:$J$1099)*10000*0.7+(MAX($I$1080:$I$1099)-I1080)/(MAX($I$1080:$I$1099)-1)*10000*0.3,0)","v":10000},{"$f":"ROUND(K1080*L1080,0)","v":0},null,null,"LS 1c","S3",""]
["Lubomir Svoboda",1959,"M","Letkov","CZ/C1","Podbrdský pohár",{"$f":"VLOOKUP(F1081,Soutez!A:B,2,FALSE)","v":"CZ"},{"$f":"VLOOKUP(F1081,Soutez!A:C,3,FALSE)","v":2022},2,1811,0,7860,{"$f":"ROUND(K1081*L1081,0)","v":0},null,null,"LAK 19,T 18m WL (voda)","LT",""]
["Vratislav Sram",1966,"M","Broumov","CZ/C2","Podbrdský pohár",{"$f":"VLOOKUP(F1082,Soutez!A:B,2,FALSE)","v":"CZ"},{"$f":"VLOOKUP(F1082,Soutez!A:C,3,FALSE)","v":2022},3,1778,0,7592,0,null,null,"Nimbus 4DM (voda)",7,""]
["Robin Stichenwirth",1984,"M","Letkov","CZ/C1","Podbrdský pohár",{"$f":"VLOOKUP(F1083,Soutez!A:B,2,FALSE)","v":"CZ"},{"$f":"VLOOKUP(F1083,Soutez!A:C,3,FALSE)","v":2022},4,1744,0,7321,0,null,null,"LS 1c","VY",""]
["Vaclav Svoboda",1970,"M","Letkov","CZ/C1","Podbrdský pohár",{"$f":"VLOOKUP(F1084,Soutez!A:B,2,FALSE)","v":"CZ"},{"$f":"VLOOKUP(F1084,Soutez!A:C,3,FALSE)","v":2022},5,1664,0,6922,0,null,null,"LS 8b,18 18m (voda)",301,""]
["Miroslav Koci",1961,"M","Žamberk","CZ/C2","Podbrdský pohár",{"$f":"VLOOKUP(F1085,Soutez!A:B,2,FALSE)","v":"CZ"},{"$f":"VLOOKUP(F1085,Soutez!A:C,3,FALSE)","v":2022},6,1525,0,6359,0,null,null,"Ventus 2cxm 18m 565kg (voda)","E8",""]
["Jan Muknsnabl",1992,"M","Letkov","CZ/C1","Podbrdský pohár",{"$f":"VLOOKUP(F1086,Soutez!A:B,2,FALSE)","v":"CZ"},{"$f":"VLOOKUP(F1086,Soutez!A:C,3,FALSE)","v":2022},7,1474,0,6041,0,null,null,"Std. Cirrus","SB",""]
["Roman Jokl",1979,"M","Letkov","CZ/C1","Podbrdský pohár",{"$f":"VLOOKUP(F1087,Soutez!A:B,2,FALSE)","v":"CZ"},{"$f":"VLOOKUP(F1087,Soutez!A:C,3,FALSE)","v":2022},8,1344,0,5502,0,null,null,"ASW-19B (voda)","JL",""]
["Milos Matejka",1956,"M","Beroun","CZ/C1","Podbrdský pohár",{"$f":"VLOOKUP(F1088,Soutez!A:B,2,FALSE)","v":"CZ"},{"$f":"VLOOKUP(F1088,Soutez!A:C,3,FALSE)","v":2022},9,1335,0,5301,0,null,null,"Discus b +W(voda)","SH",""]
["Daniel Dvorak",1980,"M","Letkov","CZ/C1","Podbrdský pohár",{"$f":"VLOOKUP(F1089,Soutez!A:B,2,FALSE)","v":"CZ"},{"$f":"VLOOKUP(F1089,Soutez!A:C,3,FALSE)","v":2022},10,1277,0,4963,0,null,null,"Std. Cirrus","LD",""]
["Petr Setka",1971,"M","Letkov","CZ/C1","Podbrdský pohár",{"$f":"VLOOKUP(F1090,Soutez!A:B,2,FALSE)","v":"CZ"},{"$f":"VLOOKUP(F1090,Soutez!A:C,3,FALSE)","v":2022},11,717,0,3229,{"$f":"ROUND(K1090*L1090,0)","v":0},null,null,"Ventus 2cxm 18m 565kg (voda)","RS",""]
["Marek Blatak",1969,"M","Šumperk","CZ/M","Podbrdský pohár",{"$f":"VLOOKUP(F1091,Soutez!A:B,2,FALSE)","v":"CZ"},{"$f":"VLOOKUP(F1091,Soutez!A:C,3,FALSE)","v":2022},12,378,0,2110,0,null,null,"DG-808 S Competition 18m+W (voda)","MS",""]
["Vaclav Hrdina",1984,"M","Letkov","CZ/C1","Podbrdský pohár",{"$f":"VLOOKUP(F1092,Soutez!A:B,2,FALSE)","v":"CZ"},{"$f":"VLOOKUP(F1092,Soutez!A:C,3,FALSE)","v":2022},13,309,0,1742,0,null,null,"LS 1c","AN",""]
["Lukas Nalos",1976,"M","Letkov","CZ/C1","Podbrdský pohár",{"$f":"VLOOKUP(F1093,Soutez!A:B,2,FALSE)","v":"CZ"},{"$f":"VLOOKUP(F1093,Soutez!A:C,3,FALSE)","v":2022},14,253,0,1409,0,null,null,"DG-300 (450 kg) (voda)","LN",""]
["Jan Zanda",1983,"M","Letkov","CZ/C1","Podbrdský pohár",{"$f":"VLOOKUP(F1094,Soutez!A:B,2,FALSE)","v":"CZ"},{"$f":"VLOOKUP(F1094,Soutez!A:C,3,FALSE)","v":2022},15,250,0,1225,0,null,null,"Std. Cirrus","AL",""]
["Petr Kolomaznik",1981,"M","Šumperk","CZ/M","Podbrdský pohár",{"$f":"VLOOKUP(F1095,Soutez!A:B,2,FALSE)","v":"CZ"},{"$f":"VLOOKUP(F1095,Soutez!A:C,3,FALSE)","v":2022},16,226,0,981,0,null,null,"Discus b +W(voda)","VE",""]
["Jiri Bartak",1978,"M","Letkov","CZ/C1","Podbrdský pohár",{"$f":"VLOOKUP(F1096,Soutez!A:B,2,FALSE)","v":"CZ"},{"$f":"VLOOKUP(F1096,Soutez!A:C,3,FALSE)","v":2022},17,19,0,229,0,null,null,"Std. Cirrus","SR",""]
["Lukas Koukal",1991,"M","Letkov","CZ/C1","Podbrdský pohár",{"$f":"VLOOKUP(F1097,Soutez!A:B,2,FALSE)","v":"CZ"},{"$f":"VLOOKUP(F1097,Soutez!A:C,3,FALSE)","v":2022},18,0,0,0,0,null,null,"ASW-15B","T1",""]
["Petr Bartak",1984,"M","Letkov","CZ/C1","Podbrdský pohár",{"$f":"VLOOKUP(F1098,Soutez!A:B,2,FALSE)","v":"CZ"},{"$f":"VLOOKUP(F1098,Soutez!A:C,3,FALSE)","v":2022},18,0,0,0,0,null,null,"LS 6c 18m+W (voda)","BL",""]
["Roman Lanzendorf",1964,"M","Letkov","CZ/C1","Podbrdský pohár",{"$f":"VLOOKUP(F1099,Soutez!A:B,2,FALSE)","v":"CZ"},{"$f":"VLOOKUP(F1099,Soutez!A:C,3,FALSE)","v":2022},18,0,0,0,0,null,null,"Ventus ct 17,6m (voda)","AW",""]
["Zdenek Boruvka 86",1986,"M",{"$f":"VLOOKUP(A1100,Pilot,3,0)","v":"Jičín"},{"$f":"VLOOKUP(A1100,Pilot,4,0)","v":"CZ/C2"},"AZ Cup 2022 - Klub",{"$f":"VLOOKUP(F1100,Soutez!A:B,2,FALSE)","v":"CZ"},{"$f":"VLOOKUP(F1100,Soutez!A:C,3,FALSE)","v":2022},1,4700,0.91500000000000004,{"$f":"ROUND(J1100/MAX($J$1100:$J$1121)*10000*0.7+(MAX($I$1100:$I$1121)-I1100)/(MAX($I$1100:$I$1121)-1)*10000*0.3,0)","v":10000},{"$f":"ROUND(K1100*L1100,0)","v":9150},"x",null,"STD. Cirrus","BJ",""]
["Eduard Niko",1988,"M","Zbraslavice","CZ/C1","AZ Cup 2022 - Klub",{"$f":"VLOOKUP(F1101,Soutez!A:B,2,FALSE)","v":"CZ"},{"$f":"VLOOKUP(F1101,Soutez!A:C,3,FALSE)","v":2022},2,4631,0.91500000000000004,9754,{"$f":"ROUND(K1101*L1101,0)","v":8925},"x",null,"ASW 20","EW",""]
["David Popovsky",1976,"M","Rakovník","CZ/C1","AZ Cup 2022 - Klub",{"$f":"VLOOKUP(F1102,Soutez!A:B,2,FALSE)","v":"CZ"},{"$f":"VLOOKUP(F1102,Soutez!A:C,3,FALSE)","v":2022},3,4440,0.91500000000000004,9327,8534,"x",null,"ASW 24",76,""]
["Jan Horak",1971,"M","Zbraslavice","CZ/C1","AZ Cup 2022 - Klub",{"$f":"VLOOKUP(F1103,Soutez!A:B,2,FALSE)","v":"CZ"},{"$f":"VLOOKUP(F1103,Soutez!A:C,3,FALSE)","v":2022},4,4374,0.91500000000000004,9086,8314,"x",null,"ASW 20 W","WX",""]
["Martin Urban",1971,"M","Frýdlant","CZ/M","AZ Cup 2022 - Klub",{"$f":"VLOOKUP(F1104,Soutez!A:B,2,FALSE)","v":"CZ"},{"$f":"VLOOKUP(F1104,Soutez!A:C,3,FALSE)","v":2022},5,4369,0.91500000000000004,8936,8176,"x",null,"LS-3a","SJ",""]
["Jakub Kmosek",{"$f":"VLOOKUP(A1105,Pilot,2,0)","v":1978},{"$f":"VLOOKUP(A1105,Pilot,5,0)","v":"M"},"Zbraslavice","CZ/C1","AZ Cup 2022 - Klub",{"$f":"VLOOKUP(F1105,Soutez!A:B,2,FALSE)","v":"CZ"},{"$f":"VLOOKUP(F1105,Soutez!A:C,3,FALSE)","v":2022},6,4029,0.91500000000000004,8286,7582,"x",null,"STD. Cirrus","ST",""]
["Petr Havelka",1997,"M","Zbraslavice","CZ/C1","AZ Cup 2022 - Klub",{"$f":"VLOOKUP(F1106,Soutez!A:B,2,FALSE)","v":"CZ"},{"$f":"VLOOKUP(F1106,Soutez!A:C,3,FALSE)","v":2022},7,3895,0.91500000000000004,7944,7269,"x",null,"ASW 19","PH",""]
["Jakub Malik",1999,"M","Letňany","CZ/C1","AZ Cup 2022 - Klub",{"$f":"VLOOKUP(F1107,Soutez!A:B,2,FALSE)","v":"CZ"},{"$f":"VLOOKUP(F1107,Soutez!A:C,3,FALSE)","v":2022},8,3648,0.91500000000000004,7433,6801,"x",null,"Discus BW","DP","Junior v roce 2024"]
["Tomas Malik",1972,"M","Letňany","CZ/C1","AZ Cup 2022 - Klub",{"$f":"VLOOKUP(F1108,Soutez!A:B,2,FALSE)","v":"CZ"},{"$f":"VLOOKUP(F1108,Soutez!A:C,3,FALSE)","v":2022},9,3570,0.91500000000000004,7174,6564,"x",null,"Discus B","LH",""]
["Jan Smekal",1976,"M","Zbraslavice","CZ/C1","AZ Cup 2022 - Klub",{"$f":"VLOOKUP(F1109,Soutez!A:B,2,FALSE)","v":"CZ"},{"$f":"VLOOKUP(F1109,Soutez!A:C,3,FALSE)","v":2022},10,3434,0.91500000000000004,6829,6249,"x",null,"ASW 20","NW",""]
["Jan Florian",1992,"M","Zbraslavice","CZ/C1","AZ Cup 2022 - Klub",{"$f":"VLOOKUP(F1110,Soutez!A:B,2,FALSE)","v":"CZ"},{"$f":"VLOOKUP(F1110,Soutez!A:C,3,FALSE)","v":2022},11,3413,0.91500000000000004,6655,6089,"x",null,"Std. cirrus","C1",""]
["Vaclav Sehnal",1962,"M","Kolín","CZ/C1","AZ Cup 2022 - Klub",{"$f":"VLOOKUP(F1111,Soutez!A:B,2,FALSE)","v":"CZ"},{"$f":"VLOOKUP(F1111,Soutez!A:C,3,FALSE)","v":2022},12,2942,0.91500000000000004,5810,5316,"x",null,"Jantar STD 2","VS",""]
["Jan Zahradka",1981,"M","Hodkovice","CZ/C2","AZ Cup 2022 - Klub",{"$f":"VLOOKUP(F1112,Soutez!A:B,2,FALSE)","v":"CZ"},{"$f":"VLOOKUP(F1112,Soutez!A:C,3,FALSE)","v":2022},13,2900,0.91500000000000004,5605,{"$f":"ROUND(K1112*L1112,0)","v":5129},"x",null,"STD. Cirrus","AR",""]
["Linda Vasatova",1990,"F","Mladá Boleslav","CZ/C1","AZ Cup 2022 - Klub",{"$f":"VLOOKUP(F1113,Soutez!A:B,2,FALSE)","v":"CZ"},{"$f":"VLOOKUP(F1113,Soutez!A:C,3,FALSE)","v":2022},14,2866,0.91500000000000004,5411,4951,"x","x","ASW 19","XS",{"$f":"IF(ISERROR(VLOOKUP(A1113,Pilot,6,0)),\"Není v databázi\",VLOOKUP(A1113,Pilot,6,0))","v":""}]
["David Sachl",1978,"M","Kralupy","CZ/C1","AZ Cup 2022 - Klub",{"$f":"VLOOKUP(F1114,Soutez!A:B,2,FALSE)","v":"CZ"},{"$f":"VLOOKUP(F1114,Soutez!A:C,3,FALSE)","v":2022},15,2627,0.91500000000000004,4913,4495,null,null,"DG-300 WL","BK",""]
["Ales Holoubek",1966,"M","Jičín","CZ/C2","AZ Cup 2022 - Klub",{"$f":"VLOOKUP(F1115,Soutez!A:B,2,FALSE)","v":"CZ"},{"$f":"VLOOKUP(F1115,Soutez!A:C,3,FALSE)","v":2022},16,2609,{"$f":"VLOOKUP(F1115,Soutez,12,0)","v":0.91500000000000004},4743,4340,"x",null,"ASW 15B NG","T",""]
["Frantisek Pycha",1972,"M","Chrudim","CZ/C2","AZ Cup 2022 - Klub",{"$f":"VLOOKUP(F1116,Soutez!A:B,2,FALSE)","v":"CZ"},{"$f":"VLOOKUP(F1116,Soutez!A:C,3,FALSE)","v":2022},17,2331,0.91500000000000004,4186,3830,"x",null,"STD.Cirrus","JE",""]
["Frantisek Komarek",1985,"M","Zbraslavice","CZ/C1","AZ Cup 2022 - Klub",{"$f":"VLOOKUP(F1117,Soutez!A:B,2,FALSE)","v":"CZ"},{"$f":"VLOOKUP(F1117,Soutez!A:C,3,FALSE)","v":2022},18,2308,0.91500000000000004,4009,3668,"x",null,"ASW 19 B","PM",""]
["Petr Brezina",1963,"M","Frýdlant","CZ/M","AZ Cup 2022 - Klub",{"$f":"VLOOKUP(F1118,Soutez!A:B,2,FALSE)","v":"CZ"},{"$f":"VLOOKUP(F1118,Soutez!A:C,3,FALSE)","v":2022},19,2113,0.91500000000000004,3576,3272,"x",null,"DG 200","AK",""]
["Matous Schmidt",1981,"M","Letňany","CZ/C1","AZ Cup 2022 - Klub",{"$f":"VLOOKUP(F1119,Soutez!A:B,2,FALSE)","v":"CZ"},{"$f":"VLOOKUP(F1119,Soutez!A:C,3,FALSE)","v":2022},20,1927,0.91500000000000004,3156,2888,"x",null,"STD. Cirrus","IMI",""]
["Jiri Hodan",1959,"M","Zbraslavice","CZ/C1","AZ Cup 2022 - Klub",{"$f":"VLOOKUP(F1120,Soutez!A:B,2,FALSE)","v":"CZ"},{"$f":"VLOOKUP(F1120,Soutez!A:C,3,FALSE)","v":2022},21,1897,0.91500000000000004,2968,2716,"x",null,"G 103 dvojí","RB",""]
["Tomas Jung",1950,"M","Zbraslavice","CZ/C1","AZ Cup 2022 - Klub",{"$f":"VLOOKUP(F1121,Soutez!A:B,2,FALSE)","v":"CZ"},{"$f":"VLOOKUP(F1121,Soutez!A:C,3,FALSE)","v":2022},22,1299,0.91500000000000004,1935,1771,"x",null,"ASW 19","O2",""]
["Martin Hrivna",1978,"M",{"$f":"VLOOKUP(A1122,Pilot,3,0)","v":"Zbraslavice"},{"$f":"VLOOKUP(A1122,Pilot,4,0)","v":"CZ/C1"},"AZ Cup 2022 - Kombi ",{"$f":"VLOOKUP(F1122,Soutez!A:B,2,FALSE)","v":"CZ"},{"$f":"VLOOKUP(F1122,Soutez!A:C,3,FALSE)","v":2022},1,4537,0.95500000000000007,{"$f":"ROUND(J1122/MAX($J$1122:$J$1145)*10000*0.7+(MAX($I$1122:$I$1145)-I1122)/(MAX($I$1122:$I$1145)-1)*10000*0.3,0)","v":10000},{"$f":"ROUND(K1122*L1122,0)","v":9550},"x",null,"ASG 29E-18M","NX",""]
["Petr Tichy",1973,"M","Zbraslavice","CZ/C1","AZ Cup 2022 - Kombi ",{"$f":"VLOOKUP(F1123,Soutez!A:B,2,FALSE)","v":"CZ"},{"$f":"VLOOKUP(F1123,Soutez!A:C,3,FALSE)","v":2022},2,4530,0.95500000000000007,9859,{"$f":"ROUND(K1123*L1123,0)","v":9415},"x",null,"ASG 29 E 18m","AJ",""]
["Tomas Suchanek",1964,"M","GAC Benešov","CZ/C1","AZ Cup 2022 - Kombi ",{"$f":"VLOOKUP(F1124,Soutez!A:B,2,FALSE)","v":"CZ"},{"$f":"VLOOKUP(F1124,Soutez!A:C,3,FALSE)","v":2022},3,4493,0.95500000000000007,9671,9236,null,null,"Ventus C 17,6m","UP",""]
["Jan Kotan",1982,"M","Letňany","CZ/C1","AZ Cup 2022 - Kombi ",{"$f":"VLOOKUP(F1125,Soutez!A:B,2,FALSE)","v":"CZ"},{"$f":"VLOOKUP(F1125,Soutez!A:C,3,FALSE)","v":2022},4,4423,0.95500000000000007,9433,9009,"x",null,"Ventus 2bx 15m","YA",""]
["Tomas Rendla",1973,"M","Zbraslavice","CZ/C1","AZ Cup 2022 - Kombi ",{"$f":"VLOOKUP(F1126,Soutez!A:B,2,FALSE)","v":"CZ"},{"$f":"VLOOKUP(F1126,Soutez!A:C,3,FALSE)","v":2022},5,4416,0.95500000000000007,9292,8874,"x",null,"EB29R","EX",""]
["Radek Kucirek",1973,"M","Havlíčkův Brod","CZ/C2","AZ Cup 2022 - Kombi ",{"$f":"VLOOKUP(F1127,Soutez!A:B,2,FALSE)","v":"CZ"},{"$f":"VLOOKUP(F1127,Soutez!A:C,3,FALSE)","v":2022},6,4408,0.95500000000000007,9149,8737,null,null,"EB 28 Edition 28m","NA",""]
["Alena Netusilova",1970,"F","Zbraslavice","CZ/C1","AZ Cup 2022 - Kombi ",{"$f":"VLOOKUP(F1128,Soutez!A:B,2,FALSE)","v":"CZ"},{"$f":"VLOOKUP(F1128,Soutez!A:C,3,FALSE)","v":2022},7,4374,0.95500000000000007,8966,8563,"x",null,"JS1 18","JX",""]
["Michaela Rendlova",2004,"F","Toužim","CZ/C1","AZ Cup 2022 - Kombi ",{"$f":"VLOOKUP(F1129,Soutez!A:B,2,FALSE)","v":"CZ"},{"$f":"VLOOKUP(F1129,Soutez!A:C,3,FALSE)","v":2022},8,4367,0.95500000000000007,8825,8428,"x",null,"AS33 18m","EA","Junior v roce 2024"]
["Jan Dersak 69",1969,"M","Kralupy","CZ/C1","AZ Cup 2022 - Kombi ",{"$f":"VLOOKUP(F1130,Soutez!A:B,2,FALSE)","v":"CZ"},{"$f":"VLOOKUP(F1130,Soutez!A:C,3,FALSE)","v":2022},9,4014,0.95500000000000007,8150,7783,null,null,"HPH 304SJ","DJ",""]
["Karel Krobath",null,null,"FRA","AT","AZ Cup 2022 - Kombi ",{"$f":"VLOOKUP(F1131,Soutez!A:B,2,FALSE)","v":"CZ"},{"$f":"VLOOKUP(F1131,Soutez!A:C,3,FALSE)","v":2022},10,3893,0.95500000000000007,7832,7480,null,null,"HPH TWINSHARK","Q","Není v databázi"]
["Vratislav Sram",1966,"M",{"$f":"VLOOKUP(A1132,Pilot,3,0)","v":"Broumov"},{"$f":"VLOOKUP(A1132,Pilot,4,0)","v":"CZ/C2"},"AZ Cup 2022 - Kombi ",{"$f":"VLOOKUP(F1132,Soutez!A:B,2,FALSE)","v":"CZ"},{"$f":"VLOOKUP(F1132,Soutez!A:C,3,FALSE)","v":2022},11,3842,0.95500000000000007,7623,7280,null,null,"Nimbus 4DM",7,""]
["Ondrej Dupal",1966,"M","GAC Benešov","CZ/C1","AZ Cup 2022 - Kombi ",{"$f":"VLOOKUP(F1133,Soutez!A:B,2,FALSE)","v":"CZ"},{"$f":"VLOOKUP(F1133,Soutez!A:C,3,FALSE)","v":2022},12,3790,0.95500000000000007,7413,7079,null,null,"ASG 29 E 18m","GO",""]
["Karel Benisek 76",1976,"M","Toužim","CZ/C1","AZ Cup 2022 - Kombi ",{"$f":"VLOOKUP(F1134,Soutez!A:B,2,FALSE)","v":"CZ"},{"$f":"VLOOKUP(F1134,Soutez!A:C,3,FALSE)","v":2022},13,3683,0.95500000000000007,7117,6797,"x",null,"VENTUS CT 17,6","KB",""]
["Pavel Jiranek",1993,"M","Toužim","CZ/C1","AZ Cup 2022 - Kombi ",{"$f":"VLOOKUP(F1135,Soutez!A:B,2,FALSE)","v":"CZ"},{"$f":"VLOOKUP(F1135,Soutez!A:C,3,FALSE)","v":2022},14,3566,0.95500000000000007,6806,6500,null,null,"VENTUS C 17,6m","CS",""]
["Petr Starek",1974,"M","Zbraslavice","CZ/C1","AZ Cup 2022 - Kombi ",{"$f":"VLOOKUP(F1136,Soutez!A:B,2,FALSE)","v":"CZ"},{"$f":"VLOOKUP(F1136,Soutez!A:C,3,FALSE)","v":2022},15,3495,0.95500000000000007,6566,6271,"x",null,"HPH 304 JS 18m",66,""]
["Danes Grula",1961,"M","Medlánky","CZ/M","AZ Cup 2022 - Kombi ",{"$f":"VLOOKUP(F1137,Soutez!A:B,2,FALSE)","v":"CZ"},{"$f":"VLOOKUP(F1137,Soutez!A:C,3,FALSE)","v":2022},16,3021,0.95500000000000007,5704,5447,"x",null,"ASG32MI","DX",""]
["Dusan Bernat",null,null,"Martin","SK","AZ Cup 2022 - Kombi ",{"$f":"VLOOKUP(F1138,Soutez!A:B,2,FALSE)","v":"CZ"},{"$f":"VLOOKUP(F1138,Soutez!A:C,3,FALSE)","v":2022},17,2987,0.95500000000000007,5522,{"$f":"ROUND(K1138*L1138,0)","v":5274},null,null,"DG-808B","JD","Není v databázi"]
["Petr Malcek",1965,"M",{"$f":"VLOOKUP(A1139,Pilot,3,0)","v":"Letňany"},{"$f":"VLOOKUP(A1139,Pilot,4,0)","v":"CZ/C1"},"AZ Cup 2022 - Kombi ",{"$f":"VLOOKUP(F1139,Soutez!A:B,2,FALSE)","v":"CZ"},{"$f":"VLOOKUP(F1139,Soutez!A:C,3,FALSE)","v":2022},18,2984,0.95500000000000007,5387,5145,"x",null,"LS6C 18m","F5",""]
["Petr Jiranek 63",1962,"M","Toužim","CZ/C1","AZ Cup 2022 - Kombi ",{"$f":"VLOOKUP(F1140,Soutez!A:B,2,FALSE)","v":"CZ"},{"$f":"VLOOKUP(F1140,Soutez!A:C,3,FALSE)","v":2022},19,2902,0.95500000000000007,5130,4899,"x",null,"VENTUS CT 17.6m","EB",""]
["Zdenek Schenk",1972,"M","Hranice","CZ/M","AZ Cup 2022 - Kombi ",{"$f":"VLOOKUP(F1141,Soutez!A:B,2,FALSE)","v":"CZ"},{"$f":"VLOOKUP(F1141,Soutez!A:C,3,FALSE)","v":2022},20,2694,0.95500000000000007,4678,4467,null,null,"Ventus CM 17,6m","ŠNEK",""]
["Jaromir Jedlicka",1972,"M","Letňany","CZ/C1","AZ Cup 2022 - Kombi ",{"$f":"VLOOKUP(F1142,Soutez!A:B,2,FALSE)","v":"CZ"},{"$f":"VLOOKUP(F1142,Soutez!A:C,3,FALSE)","v":2022},21,2634,0.95500000000000007,4455,4255,"x",null,"SHARK 304MS","TJ",""]
["Ivo Burda",1962,"M","Zbraslavice","CZ/C1","AZ Cup 2022 - Kombi ",{"$f":"VLOOKUP(F1143,Soutez!A:B,2,FALSE)","v":"CZ"},{"$f":"VLOOKUP(F1143,Soutez!A:C,3,FALSE)","v":2022},22,2316,0.95500000000000007,3834,3661,"x",null,"VENTUS 2CXM","IB",""]
["Karl Schiffleithner",null,null,"SFC Tulin","AT","AZ Cup 2022 - Kombi ",{"$f":"VLOOKUP(F1144,Soutez!A:B,2,FALSE)","v":"CZ"},{"$f":"VLOOKUP(F1144,Soutez!A:C,3,FALSE)","v":2022},23,2002,0.95500000000000007,3219,3074,null,null,"Ventus 2CXT 18m","IX","Není v databázi"]
["Ivan Harasta 65",1965,"M",{"$f":"VLOOKUP(A1145,Pilot,3,0)","v":"Toužim"},{"$f":"VLOOKUP(A1145,Pilot,4,0)","v":"CZ/C1"},"AZ Cup 2022 - Kombi ",{"$f":"VLOOKUP(F1145,Soutez!A:B,2,FALSE)","v":"CZ"},{"$f":"VLOOKUP(F1145,Soutez!A:C,3,FALSE)","v":2022},24,1311,0.95500000000000007,2023,1932,null,null,"NIMBUS 2M","NB",""]
["Jindrich Svorc",1978,"M",{"$f":"VLOOKUP(A1146,Pilot,3,0)","v":"Letňany"},{"$f":"VLOOKUP(A1146,Pilot,4,0)","v":"CZ/C1"},"PPV 2022 - Klub",{"$f":"VLOOKUP(F1146,Soutez!A:B,2,FALSE)","v":"CZ"},{"$f":"VLOOKUP(F1146,Soutez!A:C,3,FALSE)","v":2022},1,2210,0.88500000000000001,{"$f":"ROUND(J1146/MAX($J$1146:$J$1182)*10000*0.7+(MAX($I$1146:$I$1182)-I1146)/(MAX($I$1146:$I$1182)-1)*10000*0.3,0)","v":10000},{"$f":"ROUND(K1146*L1146,0)","v":8850},"x",null,"std. cirrus","IMI",""]
["Petr Hofman",1984,"M","Letňany","CZ/C1","PPV 2022 - Klub",{"$f":"VLOOKUP(F1147,Soutez!A:B,2,FALSE)","v":"CZ"},{"$f":"VLOOKUP(F1147,Soutez!A:C,3,FALSE)","v":2022},2,2129,0.88500000000000001,9660,{"$f":"ROUND(K1147*L1147,0)","v":8549},"x",null,"asw 15 B","MA",""]
["Vaclav Marel",1974,"M","Jaroměř","CZ/C2","PPV 2022 - Klub",{"$f":"VLOOKUP(F1148,Soutez!A:B,2,FALSE)","v":"CZ"},{"$f":"VLOOKUP(F1148,Soutez!A:C,3,FALSE)","v":2022},3,1984,0.88500000000000001,9117,8069,"x",null,"Std. Cirrus","IF",""]
["Vojtech Hajek",1987,"M","Mladá Boleslav","CZ/C1","PPV 2022 - Klub",{"$f":"VLOOKUP(F1149,Soutez!A:B,2,FALSE)","v":"CZ"},{"$f":"VLOOKUP(F1149,Soutez!A:C,3,FALSE)","v":2022},4,1931,0.88500000000000001,8866,7846,"x",null,"Std. Cirrus","BB",""]
["Josef Kolman",1983,"M","Letňany","CZ/C1","PPV 2022 - Klub",{"$f":"VLOOKUP(F1150,Soutez!A:B,2,FALSE)","v":"CZ"},{"$f":"VLOOKUP(F1150,Soutez!A:C,3,FALSE)","v":2022},5,1930,0.88500000000000001,8780,7770,"x",null,"ASW 15 B","BA4",""]
["Radek Zima 75",1975,"M","Břeclav","CZ/M","PPV 2022 - Klub",{"$f":"VLOOKUP(F1151,Soutez!A:B,2,FALSE)","v":"CZ"},{"$f":"VLOOKUP(F1151,Soutez!A:C,3,FALSE)","v":2022},6,1922,0.88500000000000001,8671,7674,"x",null,"DG 100","M",""]
["Milan Svoboda 80",1980,"M","Havlíčkův Brod","CZ/C2","PPV 2022 - Klub",{"$f":"VLOOKUP(F1152,Soutez!A:B,2,FALSE)","v":"CZ"},{"$f":"VLOOKUP(F1152,Soutez!A:C,3,FALSE)","v":2022},7,1880,0.88500000000000001,8455,7483,"x",null,"VT-116 Orlik 2",46,""]
["Tomas Ptacovsky",1981,"M","Letňany","CZ/C1","PPV 2022 - Klub",{"$f":"VLOOKUP(F1153,Soutez!A:B,2,FALSE)","v":"CZ"},{"$f":"VLOOKUP(F1153,Soutez!A:C,3,FALSE)","v":2022},7,1880,0.88500000000000001,8455,7483,"x",null,"ASW 19 B","BU",""]
["Jiri Koudela",1974,"M","Vyškov","CZ/M","PPV 2022 - Klub",{"$f":"VLOOKUP(F1154,Soutez!A:B,2,FALSE)","v":"CZ"},{"$f":"VLOOKUP(F1154,Soutez!A:C,3,FALSE)","v":2022},9,1849,0.88500000000000001,8190,7248,"x",null,"ASW 19 B","JK",""]
["Martin Urner",1974,"M","Letňany","CZ/C1","PPV 2022 - Klub",{"$f":"VLOOKUP(F1155,Soutez!A:B,2,FALSE)","v":"CZ"},{"$f":"VLOOKUP(F1155,Soutez!A:C,3,FALSE)","v":2022},10,1840,0.88500000000000001,8078,7149,null,null,"ASW 15 B","JJ",""]
["David Vrchota",1976,"M","Jaroměř","CZ/C2","PPV 2022 - Klub",{"$f":"VLOOKUP(F1156,Soutez!A:B,2,FALSE)","v":"CZ"},{"$f":"VLOOKUP(F1156,Soutez!A:C,3,FALSE)","v":2022},11,1828,0.88500000000000001,7957,7042,"x",null,"Std. Cirrus","GO",""]
["Miloslav Hulmak",1963,"M","Hosín","CZ/C1","PPV 2022 - Klub",{"$f":"VLOOKUP(F1157,Soutez!A:B,2,FALSE)","v":"CZ"},{"$f":"VLOOKUP(F1157,Soutez!A:C,3,FALSE)","v":2022},12,1792,0.88500000000000001,7759,6867,"x",null,"ASW 15 B","HH",""]
["Petr Rozhon",1972,"M","Hosín","CZ/C1","PPV 2022 - Klub",{"$f":"VLOOKUP(F1158,Soutez!A:B,2,FALSE)","v":"CZ"},{"$f":"VLOOKUP(F1158,Soutez!A:C,3,FALSE)","v":2022},13,1770,0.88500000000000001,7606,6731,"x",null,"VSO-10",9,""]
["Jakub Malik",1999,"M","Letňany","CZ/C1","PPV 2022 - Klub",{"$f":"VLOOKUP(F1159,Soutez!A:B,2,FALSE)","v":"CZ"},{"$f":"VLOOKUP(F1159,Soutez!A:C,3,FALSE)","v":2022},14,1673,0.88500000000000001,7216,6386,"x",null,"Discus b WL","DP","Junior v roce 2024"]
["David Tejnora",{"$f":"VLOOKUP(A1160,Pilot,2,0)","v":1982},{"$f":"VLOOKUP(A1160,Pilot,5,0)","v":"M"},"Jaroměř","CZ/C2","PPV 2022 - Klub",{"$f":"VLOOKUP(F1160,Soutez!A:B,2,FALSE)","v":"CZ"},{"$f":"VLOOKUP(F1160,Soutez!A:C,3,FALSE)","v":2022},15,1614,0.88500000000000001,6946,6147,"x",null,"Std. Cirrus",17,""]
["Frantisek Suna",1983,"M","Hosín","CZ/C1","PPV 2022 - Klub",{"$f":"VLOOKUP(F1161,Soutez!A:B,2,FALSE)","v":"CZ"},{"$f":"VLOOKUP(F1161,Soutez!A:C,3,FALSE)","v":2022},16,1608,0.88500000000000001,6843,6056,"x",null,"DG 100",78,""]
["Tomas Hulmak",1999,"M","Hosín","CZ/C1","PPV 2022 - Klub",{"$f":"VLOOKUP(F1162,Soutez!A:B,2,FALSE)","v":"CZ"},{"$f":"VLOOKUP(F1162,Soutez!A:C,3,FALSE)","v":2022},17,1560,0.88500000000000001,6608,5848,"x",null,"ASW 15 B","XI","Junior v roce 2024"]
["Zdenek Boruvka 86",1986,"M","Jičín","CZ/C2","PPV 2022 - Klub",{"$f":"VLOOKUP(F1163,Soutez!A:B,2,FALSE)","v":"CZ"},{"$f":"VLOOKUP(F1163,Soutez!A:C,3,FALSE)","v":2022},18,1490,0.88500000000000001,6303,5578,null,null,"Std. Cirrus","BJ",""]
["Radoslav Pur",1973,"M","Hosín","CZ/C1","PPV 2022 - Klub",{"$f":"VLOOKUP(F1164,Soutez!A:B,2,FALSE)","v":"CZ"},{"$f":"VLOOKUP(F1164,Soutez!A:C,3,FALSE)","v":2022},19,1489,0.88500000000000001,6216,5501,"x",null,"DG 200","EK",""]
["Petr Malcek",1965,"M","Letňany","CZ/C1","PPV 2022 - Klub",{"$f":"VLOOKUP(F1165,Soutez!A:B,2,FALSE)","v":"CZ"},{"$f":"VLOOKUP(F1165,Soutez!A:C,3,FALSE)","v":2022},20,1468,0.88500000000000001,6066,5368,"x",null,"Discus b","LH",""]
["Michal Vranek",1993,"M","Hosín","CZ/C1","PPV 2022 - Klub",{"$f":"VLOOKUP(F1166,Soutez!A:B,2,FALSE)","v":"CZ"},{"$f":"VLOOKUP(F1166,Soutez!A:C,3,FALSE)","v":2022},21,1461,0.88500000000000001,5961,5275,"x",null,"DG 100","8W",""]
["Martin Piskacek",1991,"M","Křižanov","CZ/M","PPV 2022 - Klub",{"$f":"VLOOKUP(F1167,Soutez!A:B,2,FALSE)","v":"CZ"},{"$f":"VLOOKUP(F1167,Soutez!A:C,3,FALSE)","v":2022},22,1380,0.88500000000000001,5621,4975,"x",null,"Std. Cirrus",75,""]
["Pavel Liska",1965,"M","Roudnice","CZ/C2","PPV 2022 - Klub",{"$f":"VLOOKUP(F1168,Soutez!A:B,2,FALSE)","v":"CZ"},{"$f":"VLOOKUP(F1168,Soutez!A:C,3,FALSE)","v":2022},23,1360,0.88500000000000001,5474,{"$f":"ROUND(K1168*L1168,0)","v":4844},"x",null,"ASW 19 B","RCE",{"$f":"IF(ISERROR(VLOOKUP(A1168,Pilot,6,0)),\"Není v databázi\",VLOOKUP(A1168,Pilot,6,0))","v":""}]
["Filip Malik",2001,"M","Letňany","CZ/C1","PPV 2022 - Klub",{"$f":"VLOOKUP(F1169,Soutez!A:B,2,FALSE)","v":"CZ"},{"$f":"VLOOKUP(F1169,Soutez!A:C,3,FALSE)","v":2022},24,1268,0.88500000000000001,5100,4514,"x",null,"vso-10","L5","Junior v roce 2024"]
["Jan Zezula",1979,"M","Letňany","CZ/C1","PPV 2022 - Klub",{"$f":"VLOOKUP(F1170,Soutez!A:B,2,FALSE)","v":"CZ"},{"$f":"VLOOKUP(F1170,Soutez!A:C,3,FALSE)","v":2022},25,1234,0.88500000000000001,4909,4344,null,null,"ASW 19 B","HD",""]
["Petr Valenta 76",1976,"M","Jaroměř","CZ/C2","PPV 2022 - Klub",{"$f":"VLOOKUP(F1171,Soutez!A:B,2,FALSE)","v":"CZ"},{"$f":"VLOOKUP(F1171,Soutez!A:C,3,FALSE)","v":2022},26,1134,0.88500000000000001,4509,3990,"x",null,"Discus b","JA",""]
["Jiri Donat",1983,"M","Letňany","CZ/C1","PPV 2022 - Klub",{"$f":"VLOOKUP(F1172,Soutez!A:B,2,FALSE)","v":"CZ"},{"$f":"VLOOKUP(F1172,Soutez!A:C,3,FALSE)","v":2022},27,1028,0.88500000000000001,4089,3619,"x",null,"Std. Cirrus WL","JE",""]
["Jiri Janda",1966,"M","Letňany","CZ/C1","PPV 2022 - Klub",{"$f":"VLOOKUP(F1173,Soutez!A:B,2,FALSE)","v":"CZ"},{"$f":"VLOOKUP(F1173,Soutez!A:C,3,FALSE)","v":2022},28,925,0.88500000000000001,3680,3257,"x",null,"Std. Cirrus","ZT",""]
["Petr Sochor",1986,"M","Hosín","CZ/C1","PPV 2022 - Klub",{"$f":"VLOOKUP(F1174,Soutez!A:B,2,FALSE)","v":"CZ"},{"$f":"VLOOKUP(F1174,Soutez!A:C,3,FALSE)","v":2022},29,901,0.88500000000000001,3521,3116,"x",null,"ASW 15 B","6Y",""]
["Ivan Kuzelka",1945,"M","Havlíčkův Brod","CZ/C2","PPV 2022 - Klub",{"$f":"VLOOKUP(F1175,Soutez!A:B,2,FALSE)","v":"CZ"},{"$f":"VLOOKUP(F1175,Soutez!A:C,3,FALSE)","v":2022},30,899,0.88500000000000001,3431,3036,"x",null,"VT-116 Orlik 2",43,""]
["Ondrej Hart",1990,"M","Letňany","CZ/C1","PPV 2022 - Klub",{"$f":"VLOOKUP(F1176,Soutez!A:B,2,FALSE)","v":"CZ"},{"$f":"VLOOKUP(F1176,Soutez!A:C,3,FALSE)","v":2022},31,896,0.88500000000000001,3338,2954,"x",null,"G 102 Astir CS","PJ",""]
["Tereza Novakova",1993,"F","Chrudim","CZ/C2","PPV 2022 - Klub",{"$f":"VLOOKUP(F1177,Soutez!A:B,2,FALSE)","v":"CZ"},{"$f":"VLOOKUP(F1177,Soutez!A:C,3,FALSE)","v":2022},32,870,0.88500000000000001,3172,2807,"x","x","Std. Cirrus","FF",""]
["Tomas Holenda",1956,"M","Havlíčkův Brod","CZ/C2","PPV 2022 - Klub",{"$f":"VLOOKUP(F1178,Soutez!A:B,2,FALSE)","v":"CZ"},{"$f":"VLOOKUP(F1178,Soutez!A:C,3,FALSE)","v":2022},33,757,0.88500000000000001,2731,2417,"x",null,"VT-116 Orlik 2","I",""]
["Jiri Dockal",1982,"M","Letňany","CZ/C1","PPV 2022 - Klub",{"$f":"VLOOKUP(F1179,Soutez!A:B,2,FALSE)","v":"CZ"},{"$f":"VLOOKUP(F1179,Soutez!A:C,3,FALSE)","v":2022},34,706,{"$f":"VLOOKUP(F1179,Soutez,12,0)","v":0.88500000000000001},2486,2200,"x",null,"vso-10","L9",""]
["Vaclav Petru",1974,"M","Letňany","CZ/C1","PPV 2022 - Klub",{"$f":"VLOOKUP(F1180,Soutez!A:B,2,FALSE)","v":"CZ"},{"$f":"VLOOKUP(F1180,Soutez!A:C,3,FALSE)","v":2022},35,699,0.88500000000000001,2381,2107,"x",null,"Alpin T","AI",""]
["Milos Hrabe",1979,"M","Letňany","CZ/C1","PPV 2022 - Klub",{"$f":"VLOOKUP(F1181,Soutez!A:B,2,FALSE)","v":"CZ"},{"$f":"VLOOKUP(F1181,Soutez!A:C,3,FALSE)","v":2022},36,265,0.88500000000000001,923,817,"x",null,"VT-116 Orlik 2",44,""]
["Petr Lonsky",1965,"M","Toužim","CZ/C1","PPV 2022 - Klub",{"$f":"VLOOKUP(F1182,Soutez!A:B,2,FALSE)","v":"CZ"},{"$f":"VLOOKUP(F1182,Soutez!A:C,3,FALSE)","v":2022},37,0,0.88500000000000001,0,0,null,null,"Std. Cirrus","JP",""]
["Ondrej Bordovsky",1983,"M",{"$f":"VLOOKUP(A1183,Pilot,3,0)","v":"Krnov"},{"$f":"VLOOKUP(A1183,Pilot,4,0)","v":"CZ/M"},"PPV 2022 - Kombi",{"$f":"VLOOKUP(F1183,Soutez!A:B,2,FALSE)","v":"CZ"},{"$f":"VLOOKUP(F1183,Soutez!A:C,3,FALSE)","v":2022},1,2993,0.92,{"$f":"ROUND(J1183/MAX($J$1183:$J$1207)*10000*0.7+(MAX($I$1183:$I$1207)-I1183)/(MAX($I$1183:$I$1207)-1)*10000*0.3,0)","v":10000},{"$f":"ROUND(K1183*L1183,0)","v":9200},"x",null,"Ventus c 17.6m","SeX",""]
["Jan Boruvka",1984,"M","Jičín","CZ/C2","PPV 2022 - Kombi",{"$f":"VLOOKUP(F1184,Soutez!A:B,2,FALSE)","v":"CZ"},{"$f":"VLOOKUP(F1184,Soutez!A:C,3,FALSE)","v":2022},2,2938,0.92,9746,{"$f":"ROUND(K1184*L1184,0)","v":8966},"x",null,"Ventus C 17.6m","EG",""]
["Pavel Zima",1979,"M","Břeclav","CZ/M","PPV 2022 - Kombi",{"$f":"VLOOKUP(F1185,Soutez!A:B,2,FALSE)","v":"CZ"},{"$f":"VLOOKUP(F1185,Soutez!A:C,3,FALSE)","v":2022},3,2906,0.92,9547,8783,"x",null,"Ventus cM 17.6m","RK",""]
["Jan Kotan",1982,"M","Letňany","CZ/C1","PPV 2022 - Kombi",{"$f":"VLOOKUP(F1186,Soutez!A:B,2,FALSE)","v":"CZ"},{"$f":"VLOOKUP(F1186,Soutez!A:C,3,FALSE)","v":2022},4,2862,0.92,9319,8573,null,null,"Ventus 2bx","YA",""]
["Hana Treslova",1991,"F","Raná","CZ/C2","PPV 2022 - Kombi",{"$f":"VLOOKUP(F1187,Soutez!A:B,2,FALSE)","v":"CZ"},{"$f":"VLOOKUP(F1187,Soutez!A:C,3,FALSE)","v":2022},5,2774,0.92,8988,8269,null,null,"Ventus 2ax","AX",""]
["David Zapletal",1970,"M","Mladá Boleslav","CZ/C1","PPV 2022 - Kombi",{"$f":"VLOOKUP(F1188,Soutez!A:B,2,FALSE)","v":"CZ"},{"$f":"VLOOKUP(F1188,Soutez!A:C,3,FALSE)","v":2022},6,2665,0.92,8608,7919,"x",null,"Ventus C 17.6m","PUP",""]
["Marek Blatak",1969,"M","Šumperk","CZ/M","PPV 2022 - Kombi",{"$f":"VLOOKUP(F1189,Soutez!A:B,2,FALSE)","v":"CZ"},{"$f":"VLOOKUP(F1189,Soutez!A:C,3,FALSE)","v":2022},7,2628,0.92,8396,7724,"x",null,"DG 808C Competition 18m WL","W",""]
["Josef Busek",1967,"M","Hosín","CZ/C1","PPV 2022 - Kombi",{"$f":"VLOOKUP(F1190,Soutez!A:B,2,FALSE)","v":"CZ"},{"$f":"VLOOKUP(F1190,Soutez!A:C,3,FALSE)","v":2022},8,2624,0.92,8262,7601,"x",null,"Duo Discus X","BB",""]
["Antonin Konicek",1973,"M","Kunovice","CZ/M","PPV 2022 - Kombi",{"$f":"VLOOKUP(F1191,Soutez!A:B,2,FALSE)","v":"CZ"},{"$f":"VLOOKUP(F1191,Soutez!A:C,3,FALSE)","v":2022},9,2619,0.92,8125,7475,"x",null,"HpH 304 MS Shark","KK",""]
["Anna Bordovska",1989,"F","Mladá Boleslav","CZ/C1","PPV 2022 - Kombi",{"$f":"VLOOKUP(F1192,Soutez!A:B,2,FALSE)","v":"CZ"},{"$f":"VLOOKUP(F1192,Soutez!A:C,3,FALSE)","v":2022},10,2602,0.92,7961,7324,"x","x","Ventus c 17.6m","AD",""]
["Radek Kucirek",1973,"M","Havlíčkův Brod","CZ/C2","PPV 2022 - Kombi",{"$f":"VLOOKUP(F1193,Soutez!A:B,2,FALSE)","v":"CZ"},{"$f":"VLOOKUP(F1193,Soutez!A:C,3,FALSE)","v":2022},11,2565,0.92,7749,7129,null,null,"EB 28 edition","NA",""]
["Jan Dersak 69",1969,"M","Kralupy","CZ/C1","PPV 2022 - Kombi",{"$f":"VLOOKUP(F1194,Soutez!A:B,2,FALSE)","v":"CZ"},{"$f":"VLOOKUP(F1194,Soutez!A:C,3,FALSE)","v":2022},12,2490,0.92,7449,6853,null,null,"HpH 304 SJ Shark","DJ",""]
["Vaclav Hruza",1965,"M","Břeclav","CZ/M","PPV 2022 - Kombi",{"$f":"VLOOKUP(F1195,Soutez!A:B,2,FALSE)","v":"CZ"},{"$f":"VLOOKUP(F1195,Soutez!A:C,3,FALSE)","v":2022},13,2469,0.92,7274,6692,"x",null,"HpH 304 MS Shark","TH",""]
["Martin Jurovic",null,null,"Bratislava","SK","PPV 2022 - Kombi",{"$f":"VLOOKUP(F1196,Soutez!A:B,2,FALSE)","v":"CZ"},{"$f":"VLOOKUP(F1196,Soutez!A:C,3,FALSE)","v":2022},14,2350,0.92,6871,6321,null,null,"Ventus c 17.6m","JQ","Není v databázi"]
["Zdenek Boruvka 54",1954,"M",{"$f":"VLOOKUP(A1197,Pilot,3,0)","v":"Jičín"},{"$f":"VLOOKUP(A1197,Pilot,4,0)","v":"CZ/C2"},"PPV 2022 - Kombi",{"$f":"VLOOKUP(F1197,Soutez!A:B,2,FALSE)","v":"CZ"},{"$f":"VLOOKUP(F1197,Soutez!A:C,3,FALSE)","v":2022},15,2309,0.92,6650,{"$f":"ROUND(K1197*L1197,0)","v":6118},"x",null,"LS 8","ZB",""]
["Jan Simon",1970,"M","Kralupy","CZ/C1","PPV 2022 - Kombi",{"$f":"VLOOKUP(F1198,Soutez!A:B,2,FALSE)","v":"CZ"},{"$f":"VLOOKUP(F1198,Soutez!A:C,3,FALSE)","v":2022},16,2306,0.92,6518,5997,null,null,"Ventus cT 17.6m","KR",""]
["Ladislav Jozsa",1981,"M","Medlánky","CZ/M","PPV 2022 - Kombi",{"$f":"VLOOKUP(F1199,Soutez!A:B,2,FALSE)","v":"CZ"},{"$f":"VLOOKUP(F1199,Soutez!A:C,3,FALSE)","v":2022},17,2300,0.92,6379,5869,"x",null,"Ventus c 17.6m","WW",""]
["Petr Babak",1973,"M","Hořice","CZ/C2","PPV 2022 - Kombi",{"$f":"VLOOKUP(F1200,Soutez!A:B,2,FALSE)","v":"CZ"},{"$f":"VLOOKUP(F1200,Soutez!A:C,3,FALSE)","v":2022},18,2296,0.92,6245,5745,null,null,"Ventus c 17.6m","LS",""]
["Lukas Capek",1992,"M","Letňany","CZ/C1","PPV 2022 - Kombi",{"$f":"VLOOKUP(F1201,Soutez!A:B,2,FALSE)","v":"CZ"},{"$f":"VLOOKUP(F1201,Soutez!A:C,3,FALSE)","v":2022},19,2263,0.92,6043,5560,null,null,"Mosquito","LC",""]
["Jaromir Pauer",1974,"M","Hosín","CZ/C1","PPV 2022 - Kombi",{"$f":"VLOOKUP(F1202,Soutez!A:B,2,FALSE)","v":"CZ"},{"$f":"VLOOKUP(F1202,Soutez!A:C,3,FALSE)","v":2022},20,2260,0.92,5911,5438,"x",null,"Ventus b 16.6m WL","7F",""]
["Martin Vnoucek",1972,"M","Vlašim","CZ/C1","PPV 2022 - Kombi",{"$f":"VLOOKUP(F1203,Soutez!A:B,2,FALSE)","v":"CZ"},{"$f":"VLOOKUP(F1203,Soutez!A:C,3,FALSE)","v":2022},21,2204,0.92,5655,5203,"x",null,"ASG 29 E 18m","QX",""]
["Ales Vyhnal",1989,"M","Kralupy","CZ/C1","PPV 2022 - Kombi",{"$f":"VLOOKUP(F1204,Soutez!A:B,2,FALSE)","v":"CZ"},{"$f":"VLOOKUP(F1204,Soutez!A:C,3,FALSE)","v":2022},22,1983,0.92,5013,4612,"x",null,"Nimbus 3 22.9m","HS",""]
["Zdenek Schenk",1972,"M","Hranice","CZ/M","PPV 2022 - Kombi",{"$f":"VLOOKUP(F1205,Soutez!A:B,2,FALSE)","v":"CZ"},{"$f":"VLOOKUP(F1205,Soutez!A:C,3,FALSE)","v":2022},23,1967,0.92,4850,4462,null,null,"Ventus cM 17.6m","ŠNeK",""]
["Martin Holik",1959,"M","Letňany","CZ/C1","PPV 2022 - Kombi",{"$f":"VLOOKUP(F1206,Soutez!A:B,2,FALSE)","v":"CZ"},{"$f":"VLOOKUP(F1206,Soutez!A:C,3,FALSE)","v":2022},24,1719,0.92,4145,3813,"x",null,"LS 6 18m","F5",""]
["Michal Hemrle",1974,"M","Česká Lípa","CZ/C2","PPV 2022 - Kombi",{"$f":"VLOOKUP(F1207,Soutez!A:B,2,FALSE)","v":"CZ"},{"$f":"VLOOKUP(F1207,Soutez!A:C,3,FALSE)","v":2022},25,1378,0.92,3223,2965,null,null,"ASG 29 Es 18m","ET",""]
["Christophe Abadie",null,null,null,null,"WGC 2022 - 18m",{"$f":"VLOOKUP(F1208,Soutez!A:B,2,FALSE)","v":"HU"},{"$f":"VLOOKUP(F1208,Soutez!A:C,3,FALSE)","v":2022},1,8957,1.0900000000000001,{"$f":"ROUND(J1208/MAX($J$1208:$J$1249)*10000*0.7+(MAX($I$1208:$I$1249)-I1208)/(MAX($I$1208:$I$1249)-1)*10000*0.3,0)","v":10000},{"$f":"ROUND(K1208*L1208,0)","v":10900},null,null,"Jonker JS3","2L","Není v databázi"]
["Riccardo Brigliadori",null,null,null,null,"WGC 2022 - 18m",{"$f":"VLOOKUP(F1209,Soutez!A:B,2,FALSE)","v":"HU"},{"$f":"VLOOKUP(F1209,Soutez!A:C,3,FALSE)","v":2022},2,8865,1.0900000000000001,9855,{"$f":"ROUND(K1209*L1209,0)","v":10742},null,null,"Jonker JS3","LEO","Není v databázi"]
["Davide Schiavotto",null,null,null,null,"WGC 2022 - 18m",{"$f":"VLOOKUP(F1210,Soutez!A:B,2,FALSE)","v":"HU"},{"$f":"VLOOKUP(F1210,Soutez!A:C,3,FALSE)","v":2022},3,8843,1.0900000000000001,9765,10644,null,null,"Jonker JS3","8D","Není v databázi"]
["Jeroen Verkuijl",null,null,null,null,"WGC 2022 - 18m",{"$f":"VLOOKUP(F1211,Soutez!A:B,2,FALSE)","v":"HU"},{"$f":"VLOOKUP(F1211,Soutez!A:C,3,FALSE)","v":2022},4,8788,1.0900000000000001,9648,10516,null,null,"MD JS3 RES","JV","Není v databázi"]
["Uys Jonker",null,null,null,null,"WGC 2022 - 18m",{"$f":"VLOOKUP(F1212,Soutez!A:B,2,FALSE)","v":"HU"},{"$f":"VLOOKUP(F1212,Soutez!A:C,3,FALSE)","v":2022},5,8784,1.0900000000000001,9572,10433,null,null,"Jonker JS3","BK","Není v databázi"]
["Adrien Henry",null,null,null,null,"WGC 2022 - 18m",{"$f":"VLOOKUP(F1213,Soutez!A:B,2,FALSE)","v":"HU"},{"$f":"VLOOKUP(F1213,Soutez!A:C,3,FALSE)","v":2022},6,8775,1.0900000000000001,9492,10346,null,null,"Jonker JS3","LB","Není v databázi"]
["Wolfgang Janowitsch",null,null,null,null,"WGC 2022 - 18m",{"$f":"VLOOKUP(F1214,Soutez!A:B,2,FALSE)","v":"HU"},{"$f":"VLOOKUP(F1214,Soutez!A:C,3,FALSE)","v":2022},7,8718,1.0900000000000001,9374,10218,null,null,"Ventus 3TS","WO","Není v databázi"]
["Arne J. Boye-Møller",null,null,null,null,"WGC 2022 - 18m",{"$f":"VLOOKUP(F1215,Soutez!A:B,2,FALSE)","v":"HU"},{"$f":"VLOOKUP(F1215,Soutez!A:C,3,FALSE)","v":2022},8,8711,1.0900000000000001,9296,10133,null,null,"Jonker JS3 Jet","AB","Není v databázi"]
["Tomasz Rubaj",null,null,null,null,"WGC 2022 - 18m",{"$f":"VLOOKUP(F1216,Soutez!A:B,2,FALSE)","v":"HU"},{"$f":"VLOOKUP(F1216,Soutez!A:C,3,FALSE)","v":2022},9,8600,1.0900000000000001,9136,9958,null,null,"Schleicher AS 33 ES",12,"Není v databázi"]
["Bert Schmelzer",null,null,null,null,"WGC 2022 - 18m",{"$f":"VLOOKUP(F1217,Soutez!A:B,2,FALSE)","v":"HU"},{"$f":"VLOOKUP(F1217,Soutez!A:C,3,FALSE)","v":2022},10,8595,1.0900000000000001,9059,9874,null,null,"Ventus 3T",21,"Není v databázi"]
["Roman Mracek",{"$f":"VLOOKUP(A1218,Pilot,2,0)","v":1980},{"$f":"VLOOKUP(A1218,Pilot,5,0)","v":"M"},{"$f":"VLOOKUP(A1218,Pilot,3,0)","v":"Letkov"},{"$f":"VLOOKUP(A1218,Pilot,4,0)","v":"CZ/C1"},"WGC 2022 - 18m",{"$f":"VLOOKUP(F1218,Soutez!A:B,2,FALSE)","v":"HU"},{"$f":"VLOOKUP(F1218,Soutez!A:C,3,FALSE)","v":2022},11,8575,1.0900000000000001,8970,9777,"x",null,"Jonker JS3","ZE",""]
["Attie Jonker",null,null,null,null,"WGC 2022 - 18m",{"$f":"VLOOKUP(F1219,Soutez!A:B,2,FALSE)","v":"HU"},{"$f":"VLOOKUP(F1219,Soutez!A:C,3,FALSE)","v":2022},12,8537,1.0900000000000001,8867,9665,null,null,"Jonker JS3","FA","Není v databázi"]
["Holger Karow",null,null,null,null,"WGC 2022 - 18m",{"$f":"VLOOKUP(F1220,Soutez!A:B,2,FALSE)","v":"HU"},{"$f":"VLOOKUP(F1220,Soutez!A:C,3,FALSE)","v":2022},13,8465,1.0900000000000001,8737,9523,null,null,"Jonker JS3","JS3","Není v databázi"]
["Mélanie Gadoulet",null,null,null,null,"WGC 2022 - 18m",{"$f":"VLOOKUP(F1221,Soutez!A:B,2,FALSE)","v":"HU"},{"$f":"VLOOKUP(F1221,Soutez!A:C,3,FALSE)","v":2022},14,8460,1.0900000000000001,8660,9439,null,null,"Jonker JS3","KW","Není v databázi"]
["György Gulyas",null,null,null,null,"WGC 2022 - 18m",{"$f":"VLOOKUP(F1222,Soutez!A:B,2,FALSE)","v":"HU"},{"$f":"VLOOKUP(F1222,Soutez!A:C,3,FALSE)","v":2022},15,8445,1.0900000000000001,8575,9347,null,null,"Jonker JS3","7A","Není v databázi"]
["Rasmus Ørskov",null,null,null,null,"WGC 2022 - 18m",{"$f":"VLOOKUP(F1223,Soutez!A:B,2,FALSE)","v":"HU"},{"$f":"VLOOKUP(F1223,Soutez!A:C,3,FALSE)","v":2022},16,8413,1.0900000000000001,8477,9240,null,null,"Ventus 3T","EK",{"$f":"IF(ISERROR(VLOOKUP(A1223,Pilot,6,0)),\"Není v databázi\",VLOOKUP(A1223,Pilot,6,0))","v":"Není v databázi"}]
["Michael Rass",null,null,null,null,"WGC 2022 - 18m",{"$f":"VLOOKUP(F1224,Soutez!A:B,2,FALSE)","v":"HU"},{"$f":"VLOOKUP(F1224,Soutez!A:C,3,FALSE)","v":2022},17,8365,1.0900000000000001,8367,9120,null,null,"Schleicher AS 33 ES","MR","Není v databázi"]
["Thomas Melde",null,null,null,null,"WGC 2022 - 18m",{"$f":"VLOOKUP(F1225,Soutez!A:B,2,FALSE)","v":"HU"},{"$f":"VLOOKUP(F1225,Soutez!A:C,3,FALSE)","v":2022},18,8217,1.0900000000000001,8178,8914,null,null,"Jonker JS1 BTJ","ZP","Není v databázi"]
["Péter Szabó",null,null,null,null,"WGC 2022 - 18m",{"$f":"VLOOKUP(F1226,Soutez!A:B,2,FALSE)","v":"HU"},{"$f":"VLOOKUP(F1226,Soutez!A:C,3,FALSE)","v":2022},19,8027,1.0900000000000001,7956,8672,null,null,"Jonker JS3","BX","Není v databázi"]
["Petri Sucksdorff",null,null,null,null,"WGC 2022 - 18m",{"$f":"VLOOKUP(F1227,Soutez!A:B,2,FALSE)","v":"HU"},{"$f":"VLOOKUP(F1227,Soutez!A:C,3,FALSE)","v":2022},20,7979,1.0900000000000001,7845,8551,null,null,"Schleicher AS 33 ES","WS","Není v databázi"]
["Zoran Frenc",null,null,null,null,"WGC 2022 - 18m",{"$f":"VLOOKUP(F1228,Soutez!A:B,2,FALSE)","v":"HU"},{"$f":"VLOOKUP(F1228,Soutez!A:C,3,FALSE)","v":2022},21,7929,1.0900000000000001,7733,8429,null,null,"Jonker JS3","ZF","Není v databázi"]
["Hadriaan van Nes",null,null,null,null,"WGC 2022 - 18m",{"$f":"VLOOKUP(F1229,Soutez!A:B,2,FALSE)","v":"HU"},{"$f":"VLOOKUP(F1229,Soutez!A:C,3,FALSE)","v":2022},22,7905,1.0900000000000001,7641,8329,null,null,"Jonker JS1 BTJ","JS","Není v databázi"]
["Teet Jagomägi",null,null,null,null,"WGC 2022 - 18m",{"$f":"VLOOKUP(F1230,Soutez!A:B,2,FALSE)","v":"HU"},{"$f":"VLOOKUP(F1230,Soutez!A:C,3,FALSE)","v":2022},23,7904,1.0900000000000001,7567,8248,null,null,"Jonker JS1 C",56,"Není v databázi"]
["Markus Ganev",null,null,null,null,"WGC 2022 - 18m",{"$f":"VLOOKUP(F1231,Soutez!A:B,2,FALSE)","v":"HU"},{"$f":"VLOOKUP(F1231,Soutez!A:C,3,FALSE)","v":2022},24,7840,1.0900000000000001,7444,8114,null,null,"Ventus 3T","7X","Není v databázi"]
["Joris Vainius",null,null,null,null,"WGC 2022 - 18m",{"$f":"VLOOKUP(F1232,Soutez!A:B,2,FALSE)","v":"HU"},{"$f":"VLOOKUP(F1232,Soutez!A:C,3,FALSE)","v":2022},25,7770,1.0900000000000001,7316,7974,null,null,"ASG-29","M7","Není v databázi"]
["Vladimir Foltin",null,null,null,null,"WGC 2022 - 18m",{"$f":"VLOOKUP(F1233,Soutez!A:B,2,FALSE)","v":"HU"},{"$f":"VLOOKUP(F1233,Soutez!A:C,3,FALSE)","v":2022},26,7726,1.0900000000000001,7209,7858,null,null,"Jonker JS3",3,"Není v databázi"]
["Tijl Schmelzer",null,null,null,null,"WGC 2022 - 18m",{"$f":"VLOOKUP(F1234,Soutez!A:B,2,FALSE)","v":"HU"},{"$f":"VLOOKUP(F1234,Soutez!A:C,3,FALSE)","v":2022},27,7676,1.0900000000000001,7096,7735,null,null,"Ventus 3T","2X","Není v databázi"]
["Luka Znidarsic",null,null,null,null,"WGC 2022 - 18m",{"$f":"VLOOKUP(F1235,Soutez!A:B,2,FALSE)","v":"HU"},{"$f":"VLOOKUP(F1235,Soutez!A:C,3,FALSE)","v":2022},28,7599,1.0900000000000001,6963,7590,null,null,"Ventus 3 FES","LZ","Není v databázi"]
["Zdzislaw Bednarczuk",null,null,null,null,"WGC 2022 - 18m",{"$f":"VLOOKUP(F1236,Soutez!A:B,2,FALSE)","v":"HU"},{"$f":"VLOOKUP(F1236,Soutez!A:C,3,FALSE)","v":2022},29,7570,1.0900000000000001,6867,7485,null,null,"Jonker JS3","ZB","Není v databázi"]
["Derren Francis",null,null,null,null,"WGC 2022 - 18m",{"$f":"VLOOKUP(F1237,Soutez!A:B,2,FALSE)","v":"HU"},{"$f":"VLOOKUP(F1237,Soutez!A:C,3,FALSE)","v":2022},30,7531,1.0900000000000001,6764,7373,null,null,"Ventus 3TS","F2","Není v databázi"]
["Hannu Halonen",null,null,null,null,"WGC 2022 - 18m",{"$f":"VLOOKUP(F1238,Soutez!A:B,2,FALSE)","v":"HU"},{"$f":"VLOOKUP(F1238,Soutez!A:C,3,FALSE)","v":2022},31,7477,1.0900000000000001,6648,7246,null,null,"Ventus 3TS","W","Není v databázi"]
["Takeshi Maruyama",null,null,null,null,"WGC 2022 - 18m",{"$f":"VLOOKUP(F1239,Soutez!A:B,2,FALSE)","v":"HU"},{"$f":"VLOOKUP(F1239,Soutez!A:C,3,FALSE)","v":2022},32,7366,1.0900000000000001,6488,{"$f":"ROUND(K1239*L1239,0)","v":7072},null,null,"Jonker JS3","AX","Není v databázi"]
["Andreas Spielmann",null,null,null,null,"WGC 2022 - 18m",{"$f":"VLOOKUP(F1240,Soutez!A:B,2,FALSE)","v":"HU"},{"$f":"VLOOKUP(F1240,Soutez!A:C,3,FALSE)","v":2022},33,7301,1.0900000000000001,6364,6937,null,null,"Jonker JS3","AS","Není v databázi"]
["Petr Koutny",{"$f":"VLOOKUP(A1241,Pilot,2,0)","v":1971},{"$f":"VLOOKUP(A1241,Pilot,5,0)","v":"M"},{"$f":"VLOOKUP(A1241,Pilot,3,0)","v":"Křižanov"},{"$f":"VLOOKUP(A1241,Pilot,4,0)","v":"CZ/M"},"WGC 2022 - 18m",{"$f":"VLOOKUP(F1241,Soutez!A:B,2,FALSE)","v":"HU"},{"$f":"VLOOKUP(F1241,Soutez!A:C,3,FALSE)","v":2022},34,7211,1.0900000000000001,6221,6781,"x",null,"Jonker JS3","XM",""]
["Philip Jones",null,null,null,null,"WGC 2022 - 18m",{"$f":"VLOOKUP(F1242,Soutez!A:B,2,FALSE)","v":"HU"},{"$f":"VLOOKUP(F1242,Soutez!A:C,3,FALSE)","v":2022},35,7110,1.0900000000000001,6069,6615,null,null,"Ventus 3TS",210,"Není v databázi"]
["Peter Johansson",null,null,null,null,"WGC 2022 - 18m",{"$f":"VLOOKUP(F1243,Soutez!A:B,2,FALSE)","v":"HU"},{"$f":"VLOOKUP(F1243,Soutez!A:C,3,FALSE)","v":2022},36,7101,{"$f":"VLOOKUP(F1243,Soutez,12,0)","v":1.0900000000000001},5989,6528,null,null,"ASG-29","2T","Není v databázi"]
["Makoto Ichikawa",null,null,null,null,"WGC 2022 - 18m",{"$f":"VLOOKUP(F1244,Soutez!A:B,2,FALSE)","v":"HU"},{"$f":"VLOOKUP(F1244,Soutez!A:C,3,FALSE)","v":2022},37,6673,1.0900000000000001,5581,6083,null,null,"Schleicher AS 33 ES","JL","Není v databázi"]
["Branko Blagojevic",null,null,null,null,"WGC 2022 - 18m",{"$f":"VLOOKUP(F1245,Soutez!A:B,2,FALSE)","v":"HU"},{"$f":"VLOOKUP(F1245,Soutez!A:C,3,FALSE)","v":2022},38,6415,1.0900000000000001,5306,5784,null,null,"Jonker JS3","AI","Není v databázi"]
["Viktoras Kukcikaitis",null,null,null,null,"WGC 2022 - 18m",{"$f":"VLOOKUP(F1246,Soutez!A:B,2,FALSE)","v":"HU"},{"$f":"VLOOKUP(F1246,Soutez!A:C,3,FALSE)","v":2022},39,6282,1.0900000000000001,5129,5591,null,null,"Jonker JS1 B","LR","Není v databázi"]
["Bruno Herencic",null,null,null,null,"WGC 2022 - 18m",{"$f":"VLOOKUP(F1247,Soutez!A:B,2,FALSE)","v":"HU"},{"$f":"VLOOKUP(F1247,Soutez!A:C,3,FALSE)","v":2022},40,6261,1.0900000000000001,5039,5493,null,null,"Ventus 3M","EM","Není v databázi"]
["Mark Käppeli",null,null,null,null,"WGC 2022 - 18m",{"$f":"VLOOKUP(F1248,Soutez!A:B,2,FALSE)","v":"HU"},{"$f":"VLOOKUP(F1248,Soutez!A:C,3,FALSE)","v":2022},41,5656,1.0900000000000001,4493,4897,null,null,"Jonker JS3","MK","Není v databázi"]
["Rune Hovda",null,null,null,null,"WGC 2022 - 18m",{"$f":"VLOOKUP(F1249,Soutez!A:B,2,FALSE)","v":"HU"},{"$f":"VLOOKUP(F1249,Soutez!A:C,3,FALSE)","v":2022},42,4817,1.0900000000000001,3765,4104,null,null,"Ventus 3M","RH","Není v databázi"]
["Felipe Levin",null,null,null,null,"WGC 2022 - Open",{"$f":"VLOOKUP(F1250,Soutez!A:B,2,FALSE)","v":"HU"},{"$f":"VLOOKUP(F1250,Soutez!A:C,3,FALSE)","v":2022},1,9088,1.1000000000000001,{"$f":"ROUND(J1250/MAX($J$1250:$J$1271)*10000*0.7+(MAX($I$1250:$I$1271)-I1250)/(MAX($I$1250:$I$1271)-1)*10000*0.3,0)","v":10000},{"$f":"ROUND(K1250*L1250,0)","v":11000},null,null,"EB-29 R","FL","Není v databázi"]
["Oscar Goudriaan",null,null,null,null,"WGC 2022 - Open",{"$f":"VLOOKUP(F1251,Soutez!A:B,2,FALSE)","v":"HU"},{"$f":"VLOOKUP(F1251,Soutez!A:C,3,FALSE)","v":2022},2,9016,1.1000000000000001,9802,{"$f":"ROUND(K1251*L1251,0)","v":10782},null,null,"EB-29 DR","AC","Není v databázi"]
["Radek Krejcirik",{"$f":"VLOOKUP(A1252,Pilot,2,0)","v":1991},{"$f":"VLOOKUP(A1252,Pilot,5,0)","v":"M"},{"$f":"VLOOKUP(A1252,Pilot,3,0)","v":"Hranice"},{"$f":"VLOOKUP(A1252,Pilot,4,0)","v":"CZ/M"},"WGC 2022 - Open",{"$f":"VLOOKUP(F1252,Soutez!A:B,2,FALSE)","v":"HU"},{"$f":"VLOOKUP(F1252,Soutez!A:C,3,FALSE)","v":2022},3,8646,1.1000000000000001,9374,10311,"x",null,"Jonker JS1 C 21m","Z",""]
["Sylvain Gerbaud",null,null,null,null,"WGC 2022 - Open",{"$f":"VLOOKUP(F1253,Soutez!A:B,2,FALSE)","v":"HU"},{"$f":"VLOOKUP(F1253,Soutez!A:C,3,FALSE)","v":2022},4,8626,1.1000000000000001,9216,10138,null,null,"EB-29 R",72,"Není v databázi"]
["Andrew John Davis",null,null,null,null,"WGC 2022 - Open",{"$f":"VLOOKUP(F1254,Soutez!A:B,2,FALSE)","v":"HU"},{"$f":"VLOOKUP(F1254,Soutez!A:C,3,FALSE)","v":2022},5,8600,1.1000000000000001,9053,9958,null,null,"MD JS1 C 21m",80,"Není v databázi"]
["Alberto Sironi",null,null,null,null,"WGC 2022 - Open",{"$f":"VLOOKUP(F1255,Soutez!A:B,2,FALSE)","v":"HU"},{"$f":"VLOOKUP(F1255,Soutez!A:C,3,FALSE)","v":2022},6,8521,1.1000000000000001,8849,9734,null,null,"EB-29 R","FJ","Není v databázi"]
["Yves Gerster",null,null,null,null,"WGC 2022 - Open",{"$f":"VLOOKUP(F1256,Soutez!A:B,2,FALSE)","v":"HU"},{"$f":"VLOOKUP(F1256,Soutez!A:C,3,FALSE)","v":2022},7,8478,1.1000000000000001,8673,9540,null,null,"Jonker JS1 C 21m","EVO","Není v databázi"]
["Daan Spruyt",null,null,null,null,"WGC 2022 - Open",{"$f":"VLOOKUP(F1257,Soutez!A:B,2,FALSE)","v":"HU"},{"$f":"VLOOKUP(F1257,Soutez!A:C,3,FALSE)","v":2022},8,8456,1.1000000000000001,8513,9364,null,null,"EB-29 DR","IP","Není v databázi"]
["Russell Cheetham",null,null,null,null,"WGC 2022 - Open",{"$f":"VLOOKUP(F1258,Soutez!A:B,2,FALSE)","v":"HU"},{"$f":"VLOOKUP(F1258,Soutez!A:C,3,FALSE)","v":2022},9,8328,1.1000000000000001,8272,{"$f":"ROUND(K1258*L1258,0)","v":9099},null,null,"Jonker JS1 C 21m","XS","Není v databázi"]
["Łukasz Wójcik",null,null,null,null,"WGC 2022 - Open",{"$f":"VLOOKUP(F1259,Soutez!A:B,2,FALSE)","v":"HU"},{"$f":"VLOOKUP(F1259,Soutez!A:C,3,FALSE)","v":2022},10,8288,1.1000000000000001,8098,8908,null,null,"EB-29 R","XR","Není v databázi"]
["Michael Sommer",null,null,null,null,"WGC 2022 - Open",{"$f":"VLOOKUP(F1260,Soutez!A:B,2,FALSE)","v":"HU"},{"$f":"VLOOKUP(F1260,Soutez!A:C,3,FALSE)","v":2022},11,8270,1.1000000000000001,7941,8735,null,null,"EB-29 R","FE","Není v databázi"]
["Bas Seijffert",null,null,null,null,"WGC 2022 - Open",{"$f":"VLOOKUP(F1261,Soutez!A:B,2,FALSE)","v":"HU"},{"$f":"VLOOKUP(F1261,Soutez!A:C,3,FALSE)","v":2022},12,8201,1.1000000000000001,7745,8520,null,null,"Jonker JS1 C 21m","BJ","Není v databázi"]
["Philippe de Péchy",null,null,null,null,"WGC 2022 - Open",{"$f":"VLOOKUP(F1262,Soutez!A:B,2,FALSE)","v":"HU"},{"$f":"VLOOKUP(F1262,Soutez!A:C,3,FALSE)","v":2022},13,8035,1.1000000000000001,7475,8223,null,null,"Jonker JS1 C 21m","EJ","Není v databázi"]
["Alena Netusilova",{"$f":"VLOOKUP(A1263,Pilot,2,0)","v":1970},{"$f":"VLOOKUP(A1263,Pilot,5,0)","v":"F"},{"$f":"VLOOKUP(A1263,Pilot,3,0)","v":"Zbraslavice"},{"$f":"VLOOKUP(A1263,Pilot,4,0)","v":"CZ/C1"},"WGC 2022 - Open",{"$f":"VLOOKUP(F1263,Soutez!A:B,2,FALSE)","v":"HU"},{"$f":"VLOOKUP(F1263,Soutez!A:C,3,FALSE)","v":2022},14,7952,1.1000000000000001,7268,7995,null,null,"Jonker JS1 C 21m","JX",""]
["Harri Hirvola",null,null,null,null,"WGC 2022 - Open",{"$f":"VLOOKUP(F1264,Soutez!A:B,2,FALSE)","v":"HU"},{"$f":"VLOOKUP(F1264,Soutez!A:C,3,FALSE)","v":2022},15,7657,1.1000000000000001,6898,7588,null,null,"EB-28 Evolution","EX","Není v databázi"]
["Alberto Pozzi",null,null,null,null,"WGC 2022 - Open",{"$f":"VLOOKUP(F1265,Soutez!A:B,2,FALSE)","v":"HU"},{"$f":"VLOOKUP(F1265,Soutez!A:C,3,FALSE)","v":2022},16,7487,1.1000000000000001,6624,7286,null,null,"Jonker JS1 21mT","IEO","Není v databázi"]
["Christian Hynek",null,null,null,null,"WGC 2022 - Open",{"$f":"VLOOKUP(F1266,Soutez!A:B,2,FALSE)","v":"HU"},{"$f":"VLOOKUP(F1266,Soutez!A:C,3,FALSE)","v":2022},17,7323,1.1000000000000001,6355,6991,null,null,"EB-29 DR","DD","Není v databázi"]
["Peter Eriksen",null,null,null,null,"WGC 2022 - Open",{"$f":"VLOOKUP(F1267,Soutez!A:B,2,FALSE)","v":"HU"},{"$f":"VLOOKUP(F1267,Soutez!A:C,3,FALSE)","v":2022},18,7029,1.1000000000000001,5985,6584,null,null,"EB-29 R","A","Není v databázi"]
["Zoltan Kóré",null,null,null,null,"WGC 2022 - Open",{"$f":"VLOOKUP(F1268,Soutez!A:B,2,FALSE)","v":"HU"},{"$f":"VLOOKUP(F1268,Soutez!A:C,3,FALSE)","v":2022},19,6955,1.1000000000000001,5786,6365,null,null,"Jonker JS1 21m","JB","Není v databázi"]
["Poul Kim Larsen",null,null,null,null,"WGC 2022 - Open",{"$f":"VLOOKUP(F1269,Soutez!A:B,2,FALSE)","v":"HU"},{"$f":"VLOOKUP(F1269,Soutez!A:C,3,FALSE)","v":2022},20,6879,1.1000000000000001,5584,6142,null,null,"ASH 31MI","CE","Není v databázi"]
["René Schönmann",null,null,null,null,"WGC 2022 - Open",{"$f":"VLOOKUP(F1270,Soutez!A:B,2,FALSE)","v":"HU"},{"$f":"VLOOKUP(F1270,Soutez!A:C,3,FALSE)","v":2022},21,6506,1.1000000000000001,5154,5669,null,null,"Jonker JS1 C 21m","LI","Není v databázi"]
["Zoltan Hamar",null,null,null,null,"WGC 2022 - Open",{"$f":"VLOOKUP(F1271,Soutez!A:B,2,FALSE)","v":"HU"},{"$f":"VLOOKUP(F1271,Soutez!A:C,3,FALSE)","v":2022},22,6472,1.1000000000000001,4985,5484,null,null,"Jonker JS1 21m","AAD","Není v databázi"]
["Ivan Novak",{"$f":"VLOOKUP(A1272,Pilot,2,0)","v":1962},{"$f":"VLOOKUP(A1272,Pilot,5,0)","v":"M"},{"$f":"VLOOKUP(A1272,Pilot,3,0)","v":"Mladá Boleslav"},{"$f":"VLOOKUP(A1272,Pilot,4,0)","v":"CZ/C1"},"WGC 2022 - Duo 20m",{"$f":"VLOOKUP(F1272,Soutez!A:B,2,FALSE)","v":"HU"},{"$f":"VLOOKUP(F1272,Soutez!A:C,3,FALSE)","v":2022},1,8898,1.0900000000000001,{"$f":"ROUND(J1272/MAX($J$1272:$J$1290)*10000*0.7+(MAX($I$1272:$I$1290)-I1272)/(MAX($I$1272:$I$1290)-1)*10000*0.3,0)","v":10000},{"$f":"ROUND(K1272*L1272,0)","v":10900},"x",null,"Arcus M","CAR",""]
["Jakub Barszcz / Lukasz Kornacki",null,null,null,null,"WGC 2022 - Duo 20m",{"$f":"VLOOKUP(F1273,Soutez!A:B,2,FALSE)","v":"HU"},{"$f":"VLOOKUP(F1273,Soutez!A:C,3,FALSE)","v":2022},2,8783,1.0900000000000001,9743,{"$f":"ROUND(K1273*L1273,0)","v":10620},null,null,"HpH 304 TS Twin Shark","FNC","Není v databázi"]
["Steve Jones / Garry Coppin",null,null,null,null,"WGC 2022 - Duo 20m",{"$f":"VLOOKUP(F1274,Soutez!A:B,2,FALSE)","v":"HU"},{"$f":"VLOOKUP(F1274,Soutez!A:C,3,FALSE)","v":2022},3,8666,1.0900000000000001,9484,10338,null,null,"Arcus 20T",66,"Není v databázi"]
["Erik Borgmann / Joost Wolff",null,null,null,null,"WGC 2022 - Duo 20m",{"$f":"VLOOKUP(F1275,Soutez!A:B,2,FALSE)","v":"HU"},{"$f":"VLOOKUP(F1275,Soutez!A:C,3,FALSE)","v":2022},4,8663,1.0900000000000001,9315,10153,null,null,"Arcus T","DX","Není v databázi"]
["Louis Bouderlique / Ulysse Merlin",null,null,null,null,"WGC 2022 - Duo 20m",{"$f":"VLOOKUP(F1276,Soutez!A:B,2,FALSE)","v":"HU"},{"$f":"VLOOKUP(F1276,Soutez!A:C,3,FALSE)","v":2022},5,8630,1.0900000000000001,9122,9943,null,null,"Arcus 20T","MG","Není v databázi"]
["Aku Jaakkola / Juha Sorri",null,null,null,null,"WGC 2022 - Duo 20m",{"$f":"VLOOKUP(F1277,Soutez!A:B,2,FALSE)","v":"HU"},{"$f":"VLOOKUP(F1277,Soutez!A:C,3,FALSE)","v":2022},6,8613,1.0900000000000001,8942,9747,null,null,"Arcus M","AM",{"$f":"IF(ISERROR(VLOOKUP(A1277,Pilot,6,0)),\"Není v databázi\",VLOOKUP(A1277,Pilot,6,0))","v":"Není v databázi"}]
["Stefano Ghiorzo / Federico Mangano",null,null,null,null,"WGC 2022 - Duo 20m",{"$f":"VLOOKUP(F1278,Soutez!A:B,2,FALSE)","v":"HU"},{"$f":"VLOOKUP(F1278,Soutez!A:C,3,FALSE)","v":2022},7,8472,1.0900000000000001,8665,9445,null,null,"Arcus T","BRA","Není v databázi"]
["Peter Hartmann / Karel Krobath",null,null,null,null,"WGC 2022 - Duo 20m",{"$f":"VLOOKUP(F1279,Soutez!A:B,2,FALSE)","v":"HU"},{"$f":"VLOOKUP(F1279,Soutez!A:C,3,FALSE)","v":2022},8,8316,1.0900000000000001,8375,9129,null,null,"HpH 304 TS Twin Shark","Q","Není v databázi"]
["Sarah Arnold / Karl Striedieck",null,null,null,null,"WGC 2022 - Duo 20m",{"$f":"VLOOKUP(F1280,Soutez!A:B,2,FALSE)","v":"HU"},{"$f":"VLOOKUP(F1280,Soutez!A:C,3,FALSE)","v":2022},9,8300,1.0900000000000001,8196,8934,null,null,"Arcus T","N1","Není v databázi"]
["Ferenc Tamas / Attila Korom",null,null,null,null,"WGC 2022 - Duo 20m",{"$f":"VLOOKUP(F1281,Soutez!A:B,2,FALSE)","v":"HU"},{"$f":"VLOOKUP(F1281,Soutez!A:C,3,FALSE)","v":2022},10,8157,1.0900000000000001,7917,8630,null,null,"Arcus T","HUX","Není v databázi"]
["Anton Šibanc / Sandi Kavalič",null,null,null,null,"WGC 2022 - Duo 20m",{"$f":"VLOOKUP(F1282,Soutez!A:B,2,FALSE)","v":"HU"},{"$f":"VLOOKUP(F1282,Soutez!A:C,3,FALSE)","v":2022},11,7993,1.0900000000000001,7621,{"$f":"ROUND(K1282*L1282,0)","v":8307},null,null,"Arcus M","ET","Není v databázi"]
["Tom Jorgensen / Henning K. Nielsen",null,null,null,null,"WGC 2022 - Duo 20m",{"$f":"VLOOKUP(F1283,Soutez!A:B,2,FALSE)","v":"HU"},{"$f":"VLOOKUP(F1283,Soutez!A:C,3,FALSE)","v":2022},12,7851,1.0900000000000001,7343,8004,null,null,"Arcus T","JT","Není v databázi"]
["Rainer Cronjäger / Guido Halter",null,null,null,null,"WGC 2022 - Duo 20m",{"$f":"VLOOKUP(F1284,Soutez!A:B,2,FALSE)","v":"HU"},{"$f":"VLOOKUP(F1284,Soutez!A:C,3,FALSE)","v":2022},13,7823,1.0900000000000001,7154,7798,null,null,"Arcus T","KA","Není v databázi"]
["Dawid Pretorius / Nico le Roux",null,null,null,null,"WGC 2022 - Duo 20m",{"$f":"VLOOKUP(F1285,Soutez!A:B,2,FALSE)","v":"HU"},{"$f":"VLOOKUP(F1285,Soutez!A:C,3,FALSE)","v":2022},14,7607,1.0900000000000001,6818,7432,null,null,"Arcus M","4Y","Není v databázi"]
["Markus Geisen / Michael Pfennig",null,null,null,null,"WGC 2022 - Duo 20m",{"$f":"VLOOKUP(F1286,Soutez!A:B,2,FALSE)","v":"HU"},{"$f":"VLOOKUP(F1286,Soutez!A:C,3,FALSE)","v":2022},15,7534,1.0900000000000001,6594,7187,null,null,"Arcus M","WK","Není v databázi"]
["Igor Volkov / Vladas Motuza",null,null,null,null,"WGC 2022 - Duo 20m",{"$f":"VLOOKUP(F1287,Soutez!A:B,2,FALSE)","v":"HU"},{"$f":"VLOOKUP(F1287,Soutez!A:C,3,FALSE)","v":2022},16,7430,1.0900000000000001,6345,6916,null,null,"ASG 32 MI","IV","Není v databázi"]
["Jan Kovalcik / Miroslav Beliansky",null,null,null,null,"WGC 2022 - Duo 20m",{"$f":"VLOOKUP(F1288,Soutez!A:B,2,FALSE)","v":"HU"},{"$f":"VLOOKUP(F1288,Soutez!A:C,3,FALSE)","v":2022},17,6953,1.0900000000000001,5803,6325,null,null,"HpH 304 TS Twin Shark","TS","Není v databázi"]
["Allan Barnes / Harry Medlicott",null,null,null,null,"WGC 2022 - Duo 20m",{"$f":"VLOOKUP(F1289,Soutez!A:B,2,FALSE)","v":"HU"},{"$f":"VLOOKUP(F1289,Soutez!A:C,3,FALSE)","v":2022},18,6508,1.0900000000000001,5286,5762,null,null,"Arcus M",13,"Není v databázi"]
["Pierre de Broqueville / Arnaud de Broqueville",null,null,null,null,"WGC 2022 - Duo 20m",{"$f":"VLOOKUP(F1290,Soutez!A:B,2,FALSE)","v":"HU"},{"$f":"VLOOKUP(F1290,Soutez!A:C,3,FALSE)","v":2022},19,5241,1.0900000000000001,4123,4494,null,null,"Arcus 2T","2AS","Není v databázi"]
["Tomas Suchanek",{"$f":"VLOOKUP(A1291,Pilot,2,0)","v":1964},{"$f":"VLOOKUP(A1291,Pilot,5,0)","v":"M"},{"$f":"VLOOKUP(A1291,Pilot,3,0)","v":"GAC Benešov"},{"$f":"VLOOKUP(A1291,Pilot,4,0)","v":"CZ/C1"},"EGC 2022 - Klub",{"$f":"VLOOKUP(F1291,Soutez!A:B,2,FALSE)","v":"LT"},{"$f":"VLOOKUP(F1291,Soutez!A:C,3,FALSE)","v":2022},1,3816,{"$f":"VLOOKUP(F1291,Soutez,12,0)","v":1.075},{"$f":"ROUND(J1291/MAX($J$1291:$J$1318)*10000*0.7+(MAX($I$1291:$I$1318)-I1291)/(MAX($I$1291:$I$1318)-1)*10000*0.3,0)","v":10000},{"$f":"ROUND(K1291*L1291,0)","v":10750},"x",null,"ASW 20","CX",""]
["Thies Bruins",null,null,"Netherlands",null,"EGC 2022 - Klub",{"$f":"VLOOKUP(F1292,Soutez!A:B,2,FALSE)","v":"LT"},{"$f":"VLOOKUP(F1292,Soutez!A:C,3,FALSE)","v":2022},2,3508,{"$f":"VLOOKUP(F1292,Soutez,12,0)","v":1.075},9324,{"$f":"ROUND(K1292*L1292,0)","v":10023},null,null,"ASW 20","IV","Není v databázi"]
["Tom Arscott",null,null,"United Kingdom",null,"EGC 2022 - Klub",{"$f":"VLOOKUP(F1293,Soutez!A:B,2,FALSE)","v":"LT"},{"$f":"VLOOKUP(F1293,Soutez!A:C,3,FALSE)","v":2022},3,3434,1.075,9077,9758,null,null,"LS 7",768,"Není v databázi"]
["Tapio Tourula",null,null,"Finland",null,"EGC 2022 - Klub",{"$f":"VLOOKUP(F1294,Soutez!A:B,2,FALSE)","v":"LT"},{"$f":"VLOOKUP(F1294,Soutez!A:C,3,FALSE)","v":2022},4,3380,1.075,8867,9532,null,null,"LS 7 WL",70,"Není v databázi"]
["Michael Mix",null,null,"Denmark",null,"EGC 2022 - Klub",{"$f":"VLOOKUP(F1295,Soutez!A:B,2,FALSE)","v":"LT"},{"$f":"VLOOKUP(F1295,Soutez!A:C,3,FALSE)","v":2022},5,3347,1.075,8695,9347,null,null,"LS 3 a","TM","Není v databázi"]
["Lukas Blattmann",null,null,"Germany",null,"EGC 2022 - Klub",{"$f":"VLOOKUP(F1296,Soutez!A:B,2,FALSE)","v":"LT"},{"$f":"VLOOKUP(F1296,Soutez!A:C,3,FALSE)","v":2022},6,3272,1.075,8447,9081,null,null,"LS 4 b","ED","Není v databázi"]
["Jake Brattle",null,null,"United Kingdom",null,"EGC 2022 - Klub",{"$f":"VLOOKUP(F1297,Soutez!A:B,2,FALSE)","v":"LT"},{"$f":"VLOOKUP(F1297,Soutez!A:C,3,FALSE)","v":2022},7,3242,1.075,8280,8901,null,null,"LS 7",25,"Není v databázi"]
["Hugo Corbille",null,null,"France",null,"EGC 2022 - Klub",{"$f":"VLOOKUP(F1298,Soutez!A:B,2,FALSE)","v":"LT"},{"$f":"VLOOKUP(F1298,Soutez!A:C,3,FALSE)","v":2022},8,3181,1.075,8057,8661,null,null,"LS 4",79,"Není v databázi"]
["Andrej Lebedev",null,null,"Lithuania",null,"EGC 2022 - Klub",{"$f":"VLOOKUP(F1299,Soutez!A:B,2,FALSE)","v":"LT"},{"$f":"VLOOKUP(F1299,Soutez!A:C,3,FALSE)","v":2022},9,3164,1.075,7915,8509,null,null,"ASW 20","WU","Není v databázi"]
["Uwe Melzer",null,null,"Germany",null,"EGC 2022 - Klub",{"$f":"VLOOKUP(F1300,Soutez!A:B,2,FALSE)","v":"LT"},{"$f":"VLOOKUP(F1300,Soutez!A:C,3,FALSE)","v":2022},10,3149,1.075,7776,8359,null,null,"LS 4","UWE","Není v databázi"]
["Jan Ratz",{"$f":"VLOOKUP(A1301,Pilot,2,0)","v":1987},{"$f":"VLOOKUP(A1301,Pilot,5,0)","v":"M"},{"$f":"VLOOKUP(A1301,Pilot,3,0)","v":"Zbraslavice"},{"$f":"VLOOKUP(A1301,Pilot,4,0)","v":"CZ/C1"},"EGC 2022 - Klub",{"$f":"VLOOKUP(F1301,Soutez!A:B,2,FALSE)","v":"LT"},{"$f":"VLOOKUP(F1301,Soutez!A:C,3,FALSE)","v":2022},11,3148,1.075,7664,8239,"x",null,"ASW 20","NW",""]
["Arturas Pilvinis",null,null,"Lithuania",null,"EGC 2022 - Klub",{"$f":"VLOOKUP(F1302,Soutez!A:B,2,FALSE)","v":"LT"},{"$f":"VLOOKUP(F1302,Soutez!A:C,3,FALSE)","v":2022},12,3129,1.075,7518,8082,null,null,"ASW 20 F","VJ","Není v databázi"]
["Roelof Corporaal",null,null,"Netherlands",null,"EGC 2022 - Klub",{"$f":"VLOOKUP(F1303,Soutez!A:B,2,FALSE)","v":"LT"},{"$f":"VLOOKUP(F1303,Soutez!A:C,3,FALSE)","v":2022},13,3127,1.075,7403,7958,null,null,"LS 7 neo","LK","Není v databázi"]
["Lasse Edslev",null,null,"Denmark",null,"EGC 2022 - Klub",{"$f":"VLOOKUP(F1304,Soutez!A:B,2,FALSE)","v":"LT"},{"$f":"VLOOKUP(F1304,Soutez!A:C,3,FALSE)","v":2022},14,3107,{"$f":"VLOOKUP(F1304,Soutez,12,0)","v":1.075},7255,7799,null,null,"LS 4 a","LE","Není v databázi"]
["Miroslaw Izydorczak",null,null,"Poland",null,"EGC 2022 - Klub",{"$f":"VLOOKUP(F1305,Soutez!A:B,2,FALSE)","v":"LT"},{"$f":"VLOOKUP(F1305,Soutez!A:C,3,FALSE)","v":2022},15,3068,1.075,7072,7602,null,null,"ASW 20 F","SB","Není v databázi"]
["Zbigniew Górecki",null,null,"Poland",null,"EGC 2022 - Klub",{"$f":"VLOOKUP(F1306,Soutez!A:B,2,FALSE)","v":"LT"},{"$f":"VLOOKUP(F1306,Soutez!A:C,3,FALSE)","v":2022},16,3008,1.075,6851,{"$f":"ROUND(K1306*L1306,0)","v":7365},null,null,"Mini Nimbus B","CHI","Není v databázi"]
["Ionut Tudor",null,null,"Romania",null,"EGC 2022 - Klub",{"$f":"VLOOKUP(F1307,Soutez!A:B,2,FALSE)","v":"LT"},{"$f":"VLOOKUP(F1307,Soutez!A:C,3,FALSE)","v":2022},17,2894,1.075,6531,7021,null,null,"LS 4 WL","8M","Není v databázi"]
["Robert Alin Simion",null,null,"Romania",null,"EGC 2022 - Klub",{"$f":"VLOOKUP(F1308,Soutez!A:B,2,FALSE)","v":"LT"},{"$f":"VLOOKUP(F1308,Soutez!A:C,3,FALSE)","v":2022},18,2837,1.075,6315,6789,null,null,"LS 4 a","Y2","Není v databázi"]
["Sakari Pyorre",null,null,"Finland",null,"EGC 2022 - Klub",{"$f":"VLOOKUP(F1309,Soutez!A:B,2,FALSE)","v":"LT"},{"$f":"VLOOKUP(F1309,Soutez!A:C,3,FALSE)","v":2022},19,2836,1.075,6202,6667,null,null,"LS 7","PF","Není v databázi"]
["Zoltan Meszaros",null,null,"Hungary",null,"EGC 2022 - Klub",{"$f":"VLOOKUP(F1310,Soutez!A:B,2,FALSE)","v":"LT"},{"$f":"VLOOKUP(F1310,Soutez!A:C,3,FALSE)","v":2022},20,2778,1.075,5985,6434,null,null,"ASW 20","BA","Není v databázi"]
["Szabolcs Veigli",null,null,"Hungary",null,"EGC 2022 - Klub",{"$f":"VLOOKUP(F1311,Soutez!A:B,2,FALSE)","v":"LT"},{"$f":"VLOOKUP(F1311,Soutez!A:C,3,FALSE)","v":2022},21,2776,1.075,5870,6310,null,null,"ASW 20 L","AC","Není v databázi"]
["Claudia Hill",null,null,"United Kingdom",null,"EGC 2022 - Klub",{"$f":"VLOOKUP(F1312,Soutez!A:B,2,FALSE)","v":"LT"},{"$f":"VLOOKUP(F1312,Soutez!A:C,3,FALSE)","v":2022},22,2752,1.075,5715,6144,null,null,"LS 1-f neo","CH","Není v databázi"]
["Martin Sabla",null,null,"Slovakia",null,"EGC 2022 - Klub",{"$f":"VLOOKUP(F1313,Soutez!A:B,2,FALSE)","v":"LT"},{"$f":"VLOOKUP(F1313,Soutez!A:C,3,FALSE)","v":2022},23,2669,1.075,5452,5861,null,null,"Discus b","70I","Není v databázi"]
["Oleg Bondarchuk",null,null,"Ukraine",null,"EGC 2022 - Klub",{"$f":"VLOOKUP(F1314,Soutez!A:B,2,FALSE)","v":"LT"},{"$f":"VLOOKUP(F1314,Soutez!A:C,3,FALSE)","v":2022},24,2477,1.075,4988,5362,null,null,"Pegase 101A","PL","Není v databázi"]
["Maxence Stawski",null,null,"France",null,"EGC 2022 - Klub",{"$f":"VLOOKUP(F1315,Soutez!A:B,2,FALSE)","v":"LT"},{"$f":"VLOOKUP(F1315,Soutez!A:C,3,FALSE)","v":2022},25,2457,1.075,4840,5203,null,null,"LS 4","V78","Není v databázi"]
["Robin Selfslagh",null,null,"Belgium",null,"EGC 2022 - Klub",{"$f":"VLOOKUP(F1316,Soutez!A:B,2,FALSE)","v":"LT"},{"$f":"VLOOKUP(F1316,Soutez!A:C,3,FALSE)","v":2022},26,2372,1.075,4573,4916,null,null,"LS 1-f","1T","Není v databázi"]
["Frane Franic",null,null,"Croatia",null,"EGC 2022 - Klub",{"$f":"VLOOKUP(F1317,Soutez!A:B,2,FALSE)","v":"LT"},{"$f":"VLOOKUP(F1317,Soutez!A:C,3,FALSE)","v":2022},27,1846,1.075,3497,3759,null,null,"ASW 24","HR3","Není v databázi"]
["Luca Urbani",null,null,"Italy",null,"EGC 2022 - Klub",{"$f":"VLOOKUP(F1318,Soutez!A:B,2,FALSE)","v":"LT"},{"$f":"VLOOKUP(F1318,Soutez!A:C,3,FALSE)","v":2022},28,1404,1.075,2575,2768,null,null,"LS 3 a","CE","Není v databázi"]
["Jan-Ola Nordh",null,null,"Sweden",null,"EGC 2022 - Std",{"$f":"VLOOKUP(F1319,Soutez!A:B,2,FALSE)","v":"LT"},{"$f":"VLOOKUP(F1319,Soutez!A:C,3,FALSE)","v":2022},1,3611,{"$f":"VLOOKUP(F1319,Soutez,12,0)","v":1.0899999999999999},{"$f":"ROUND(J1319/MAX($J$1319:$J$1346)*10000*0.7+(MAX($I$1319:$I$1346)-I1319)/(MAX($I$1319:$I$1346)-1)*10000*0.3,0)","v":10000},{"$f":"ROUND(K1319*L1319,0)","v":10900},null,null,"Discus 2 T","TA","Není v databázi"]
["Lukasz Blaszczyk",null,null,"Poland",null,"EGC 2022 - Std",{"$f":"VLOOKUP(F1320,Soutez!A:B,2,FALSE)","v":"LT"},{"$f":"VLOOKUP(F1320,Soutez!A:C,3,FALSE)","v":2022},2,3578,{"$f":"VLOOKUP(F1320,Soutez,12,0)","v":1.0899999999999999},9825,{"$f":"ROUND(K1320*L1320,0)","v":10709},null,null,"Discus 2a","I","Není v databázi"]
["Dennis Huybreckx",null,null,"Belgium",null,"EGC 2022 - Std",{"$f":"VLOOKUP(F1321,Soutez!A:B,2,FALSE)","v":"LT"},{"$f":"VLOOKUP(F1321,Soutez!A:C,3,FALSE)","v":2022},3,3575,1.0899999999999999,9708,10582,null,null,"LS 8","CM","Není v databázi"]
["Sami Rissanen",null,null,"Finland",null,"EGC 2022 - Std",{"$f":"VLOOKUP(F1322,Soutez!A:B,2,FALSE)","v":"LT"},{"$f":"VLOOKUP(F1322,Soutez!A:C,3,FALSE)","v":2022},4,3491,1.0899999999999999,9434,10283,null,null,"LS 8","ES","Není v databázi"]
["Jeroen Jennen",null,null,"Belgium",null,"EGC 2022 - Std",{"$f":"VLOOKUP(F1323,Soutez!A:B,2,FALSE)","v":"LT"},{"$f":"VLOOKUP(F1323,Soutez!A:C,3,FALSE)","v":2022},5,3483,1.0899999999999999,9307,10145,null,null,"LS 8","LT","Není v databázi"]
["Gvidas Sabeckis",null,null,"Lithuania",null,"EGC 2022 - Std",{"$f":"VLOOKUP(F1324,Soutez!A:B,2,FALSE)","v":"LT"},{"$f":"VLOOKUP(F1324,Soutez!A:C,3,FALSE)","v":2022},5,3483,1.0899999999999999,9307,10145,null,null,"LS 8","H8","Není v databázi"]
["Miloslav Cink",{"$f":"VLOOKUP(A1325,Pilot,2,0)","v":1987},{"$f":"VLOOKUP(A1325,Pilot,5,0)","v":"M"},{"$f":"VLOOKUP(A1325,Pilot,3,0)","v":"Letkov"},{"$f":"VLOOKUP(A1325,Pilot,4,0)","v":"CZ/C1"},"EGC 2022 - Std",{"$f":"VLOOKUP(F1325,Soutez!A:B,2,FALSE)","v":"LT"},{"$f":"VLOOKUP(F1325,Soutez!A:C,3,FALSE)","v":2022},7,3433,1.0899999999999999,8988,9797,"x",null,"LS 8 b","J3",""]
["Jan Pavlik",1987,"M","Křižanov","CZ/M","EGC 2022 - Std",{"$f":"VLOOKUP(F1326,Soutez!A:B,2,FALSE)","v":"LT"},{"$f":"VLOOKUP(F1326,Soutez!A:C,3,FALSE)","v":2022},8,3420,1.0899999999999999,8852,9649,"x",null,"LS 8","JW",""]
["Enrique Levin",null,null,"Germany",null,"EGC 2022 - Std",{"$f":"VLOOKUP(F1327,Soutez!A:B,2,FALSE)","v":"LT"},{"$f":"VLOOKUP(F1327,Soutez!A:C,3,FALSE)","v":2022},9,3360,1.0899999999999999,8625,9401,null,null,"Discus 2a","FL","Není v databázi"]
["Norbert-Alin Scarlat",null,null,"Romania",null,"EGC 2022 - Std",{"$f":"VLOOKUP(F1328,Soutez!A:B,2,FALSE)","v":"LT"},{"$f":"VLOOKUP(F1328,Soutez!A:C,3,FALSE)","v":2022},10,3305,1.0899999999999999,8407,9164,null,null,"Discus 2a","Y1","Není v databázi"]
["Mario Kiessling",null,null,"Germany",null,"EGC 2022 - Std",{"$f":"VLOOKUP(F1329,Soutez!A:B,2,FALSE)","v":"LT"},{"$f":"VLOOKUP(F1329,Soutez!A:C,3,FALSE)","v":2022},11,3286,1.0899999999999999,8259,9002,null,null,"Discus 2a","XN","Není v databázi"]
["Valentin Leleu-Lambour",null,null,"France",null,"EGC 2022 - Std",{"$f":"VLOOKUP(F1330,Soutez!A:B,2,FALSE)","v":"LT"},{"$f":"VLOOKUP(F1330,Soutez!A:C,3,FALSE)","v":2022},12,3281,{"$f":"VLOOKUP(F1330,Soutez,12,0)","v":1.0899999999999999},8138,8870,null,null,"LS 8","ZT","Není v databázi"]
["Pavel Louzecky",{"$f":"VLOOKUP(A1331,Pilot,2,0)","v":1957},{"$f":"VLOOKUP(A1331,Pilot,5,0)","v":"M"},{"$f":"VLOOKUP(A1331,Pilot,3,0)","v":"Přibyslav"},{"$f":"VLOOKUP(A1331,Pilot,4,0)","v":"CZ/C2"},"EGC 2022 - Std",{"$f":"VLOOKUP(F1331,Soutez!A:B,2,FALSE)","v":"LT"},{"$f":"VLOOKUP(F1331,Soutez!A:C,3,FALSE)","v":2022},13,3271,1.0899999999999999,8008,8729,null,null,"LS 8 b","FX",{"$f":"IF(ISERROR(VLOOKUP(A1331,Pilot,6,0)),\"Není v databázi\",VLOOKUP(A1331,Pilot,6,0))","v":""}]
["Davide Giovanelli",null,null,"Switzerland",null,"EGC 2022 - Std",{"$f":"VLOOKUP(F1332,Soutez!A:B,2,FALSE)","v":"LT"},{"$f":"VLOOKUP(F1332,Soutez!A:C,3,FALSE)","v":2022},14,3220,1.0899999999999999,7798,{"$f":"ROUND(K1332*L1332,0)","v":8500},null,null,"Discus 2b","TS","Není v databázi"]
["Wiktor Lacinski",null,null,"Poland",null,"EGC 2022 - Std",{"$f":"VLOOKUP(F1333,Soutez!A:B,2,FALSE)","v":"LT"},{"$f":"VLOOKUP(F1333,Soutez!A:C,3,FALSE)","v":2022},15,3161,1.0899999999999999,7572,8253,null,null,"Discus 2a","Y","Není v databázi"]
["Victor-Alex Pop",null,null,"Romania",null,"EGC 2022 - Std",{"$f":"VLOOKUP(F1334,Soutez!A:B,2,FALSE)","v":"LT"},{"$f":"VLOOKUP(F1334,Soutez!A:C,3,FALSE)","v":2022},16,3147,1.0899999999999999,7434,8103,null,null,"Discus 2a","YB","Není v databázi"]
["Stephan Grunder",null,null,"Netherlands",null,"EGC 2022 - Std",{"$f":"VLOOKUP(F1335,Soutez!A:B,2,FALSE)","v":"LT"},{"$f":"VLOOKUP(F1335,Soutez!A:C,3,FALSE)","v":2022},17,3079,1.0899999999999999,7191,7838,null,null,"LS 8 a","XK","Není v databázi"]
["Paul Fritche",null,null,"United Kingdom",null,"EGC 2022 - Std",{"$f":"VLOOKUP(F1336,Soutez!A:B,2,FALSE)","v":"LT"},{"$f":"VLOOKUP(F1336,Soutez!A:C,3,FALSE)","v":2022},18,3004,1.0899999999999999,6934,7558,null,null,"LS 8","L4","Není v databázi"]
["Tamas Vamosi",null,null,"Hungary",null,"EGC 2022 - Std",{"$f":"VLOOKUP(F1337,Soutez!A:B,2,FALSE)","v":"LT"},{"$f":"VLOOKUP(F1337,Soutez!A:C,3,FALSE)","v":2022},19,2845,1.0899999999999999,6515,7101,null,null,"Discus 2a","HAL","Není v databázi"]
["Jan Brandt Jorgensen",null,null,"Denmark",null,"EGC 2022 - Std",{"$f":"VLOOKUP(F1338,Soutez!A:B,2,FALSE)","v":"LT"},{"$f":"VLOOKUP(F1338,Soutez!A:C,3,FALSE)","v":2022},20,2825,1.0899999999999999,6365,6938,null,null,"LS 8 neo","JB","Není v databázi"]
["Ringaudas Kikalas",null,null,"Lithuania",null,"EGC 2022 - Std",{"$f":"VLOOKUP(F1339,Soutez!A:B,2,FALSE)","v":"LT"},{"$f":"VLOOKUP(F1339,Soutez!A:C,3,FALSE)","v":2022},21,2719,1.0899999999999999,6049,6593,null,null,"LS 8","SI","Není v databázi"]
["Péter Banki",null,null,"Hungary",null,"EGC 2022 - Std",{"$f":"VLOOKUP(F1340,Soutez!A:B,2,FALSE)","v":"LT"},{"$f":"VLOOKUP(F1340,Soutez!A:C,3,FALSE)","v":2022},22,2683,1.0899999999999999,5868,6396,null,null,"Discus 2a","HUN","Není v databázi"]
["Remy Hirt",null,null,"Switzerland",null,"EGC 2022 - Std",{"$f":"VLOOKUP(F1341,Soutez!A:B,2,FALSE)","v":"LT"},{"$f":"VLOOKUP(F1341,Soutez!A:C,3,FALSE)","v":2022},23,2579,1.0899999999999999,5555,6055,null,null,"LS 8","AB","Není v databázi"]
["Peter Marius Jensen",null,null,"Denmark",null,"EGC 2022 - Std",{"$f":"VLOOKUP(F1342,Soutez!A:B,2,FALSE)","v":"LT"},{"$f":"VLOOKUP(F1342,Soutez!A:C,3,FALSE)","v":2022},24,2578,1.0899999999999999,5442,5932,null,null,"Discus 2c","PU","Není v databázi"]
["Aude Untersee",null,null,"France",null,"EGC 2022 - Std",{"$f":"VLOOKUP(F1343,Soutez!A:B,2,FALSE)","v":"LT"},{"$f":"VLOOKUP(F1343,Soutez!A:C,3,FALSE)","v":2022},25,2498,1.0899999999999999,5176,5642,null,null,"Discus 2a","JPA","Není v databázi"]
["Nigel Mallender",null,null,"United Kingdom",null,"EGC 2022 - Std",{"$f":"VLOOKUP(F1344,Soutez!A:B,2,FALSE)","v":"LT"},{"$f":"VLOOKUP(F1344,Soutez!A:C,3,FALSE)","v":2022},26,2430,1.0899999999999999,4933,5377,null,null,"LS 8",946,"Není v databázi"]
["Antti Koskiniemi",null,null,"Finland",null,"EGC 2022 - Std",{"$f":"VLOOKUP(F1345,Soutez!A:B,2,FALSE)","v":"LT"},{"$f":"VLOOKUP(F1345,Soutez!A:C,3,FALSE)","v":2022},27,2159,1.0899999999999999,4296,4683,null,null,"Discus 2b","JS","Není v databázi"]
["Anna Piotrowska",null,null,"Croatia",null,"EGC 2022 - Std",{"$f":"VLOOKUP(F1346,Soutez!A:B,2,FALSE)","v":"LT"},{"$f":"VLOOKUP(F1346,Soutez!A:C,3,FALSE)","v":2022},28,1809,1.0899999999999999,3507,3823,null,null,"LS 8","GM","Není v databázi"]
["Sebastian Kawa",null,null,"Poland",null,"EGC 2022 - 15m",{"$f":"VLOOKUP(F1347,Soutez!A:B,2,FALSE)","v":"LT"},{"$f":"VLOOKUP(F1347,Soutez!A:C,3,FALSE)","v":2022},1,4452,{"$f":"VLOOKUP(F1347,Soutez,12,0)","v":1.06},{"$f":"ROUND(J1347/MAX($J$1347:$J$1372)*10000*0.7+(MAX($I$1347:$I$1372)-I1347)/(MAX($I$1347:$I$1372)-1)*10000*0.3,0)","v":10000},{"$f":"ROUND(K1347*L1347,0)","v":10600},null,null,"Diana 2 FES V","ZJ","Není v databázi"]
["Lukasz Grabowski",null,null,"Poland",null,"EGC 2022 - 15m",{"$f":"VLOOKUP(F1348,Soutez!A:B,2,FALSE)","v":"LT"},{"$f":"VLOOKUP(F1348,Soutez!A:C,3,FALSE)","v":2022},2,4328,{"$f":"VLOOKUP(F1348,Soutez,12,0)","v":1.06},9685,{"$f":"ROUND(K1348*L1348,0)","v":10266},null,null,"Diana 2","RP","Není v databázi"]
["Oliver Springer",null,null,"Germany",null,"EGC 2022 - 15m",{"$f":"VLOOKUP(F1349,Soutez!A:B,2,FALSE)","v":"LT"},{"$f":"VLOOKUP(F1349,Soutez!A:C,3,FALSE)","v":2022},3,4027,1.06,9092,9638,null,null,"AS 33 Es","OS","Není v databázi"]
["Karel Novak",{"$f":"VLOOKUP(A1350,Pilot,2,0)","v":1993},{"$f":"VLOOKUP(A1350,Pilot,5,0)","v":"M"},{"$f":"VLOOKUP(A1350,Pilot,3,0)","v":"Mladá Boleslav"},{"$f":"VLOOKUP(A1350,Pilot,4,0)","v":"CZ/C1"},"EGC 2022 - 15m",{"$f":"VLOOKUP(F1350,Soutez!A:B,2,FALSE)","v":"LT"},{"$f":"VLOOKUP(F1350,Soutez!A:C,3,FALSE)","v":2022},4,4001,{"$f":"VLOOKUP(F1350,Soutez,12,0)","v":1.06},8931,9467,"x",null,"JS3 15m","ZE",""]
["Harri Hirvola",null,null,"Finland",null,"EGC 2022 - 15m",{"$f":"VLOOKUP(F1351,Soutez!A:B,2,FALSE)","v":"LT"},{"$f":"VLOOKUP(F1351,Soutez!A:C,3,FALSE)","v":2022},5,3972,1.06,8765,9291,null,null,"Ventus 2a","EH","Není v databázi"]
["Yves Gerster",null,null,"Switzerland",null,"EGC 2022 - 15m",{"$f":"VLOOKUP(F1352,Soutez!A:B,2,FALSE)","v":"LT"},{"$f":"VLOOKUP(F1352,Soutez!A:C,3,FALSE)","v":2022},6,3851,1.06,8455,{"$f":"ROUND(K1352*L1352,0)","v":8962},null,null,"JS3",73,"Není v databázi"]
["Julien Duboc",null,null,"France",null,"EGC 2022 - 15m",{"$f":"VLOOKUP(F1353,Soutez!A:B,2,FALSE)","v":"LT"},{"$f":"VLOOKUP(F1353,Soutez!A:C,3,FALSE)","v":2022},7,3830,1.06,8302,8800,null,null,"Ventus 2ax","EQ","Není v databázi"]
["Werner Amann",null,null,"Austria",null,"EGC 2022 - 15m",{"$f":"VLOOKUP(F1354,Soutez!A:B,2,FALSE)","v":"LT"},{"$f":"VLOOKUP(F1354,Soutez!A:C,3,FALSE)","v":2022},8,3825,1.06,8174,8664,null,null,"AS 33","WG","Není v databázi"]
["Kévin Faur",null,null,"France",null,"EGC 2022 - 15m",{"$f":"VLOOKUP(F1355,Soutez!A:B,2,FALSE)","v":"LT"},{"$f":"VLOOKUP(F1355,Soutez!A:C,3,FALSE)","v":2022},9,3808,1.06,8027,8509,null,null,"Ventus 2a","IR","Není v databázi"]
["Tim Scott",null,null,"United Kingdom",null,"EGC 2022 - 15m",{"$f":"VLOOKUP(F1356,Soutez!A:B,2,FALSE)","v":"LT"},{"$f":"VLOOKUP(F1356,Soutez!A:C,3,FALSE)","v":2022},10,3743,1.06,7805,8273,null,null,"ASG 29","Z3","Není v databázi"]
["Andreas Lutz",null,null,"Austria",null,"EGC 2022 - 15m",{"$f":"VLOOKUP(F1357,Soutez!A:B,2,FALSE)","v":"LT"},{"$f":"VLOOKUP(F1357,Soutez!A:C,3,FALSE)","v":2022},11,3712,1.06,7636,8094,null,null,"Ventus 3 T","A","Není v databázi"]
["Marius Pluscauskas",null,null,"Lithuania",null,"EGC 2022 - 15m",{"$f":"VLOOKUP(F1358,Soutez!A:B,2,FALSE)","v":"LT"},{"$f":"VLOOKUP(F1358,Soutez!A:C,3,FALSE)","v":2022},12,3542,1.06,7249,7684,null,null,"Ventus 2ax","XY","Není v databázi"]
["David Mach",1994,"M",{"$f":"VLOOKUP(A1359,Pilot,3,0)","v":"Hronov"},{"$f":"VLOOKUP(A1359,Pilot,4,0)","v":"CZ/C2"},"EGC 2022 - 15m",{"$f":"VLOOKUP(F1359,Soutez!A:B,2,FALSE)","v":"LT"},{"$f":"VLOOKUP(F1359,Soutez!A:C,3,FALSE)","v":2022},13,3533,1.06,7115,7542,null,null,"JS3 15m","XM",""]
["Henrik A. Breidahl",null,null,"Denmark",null,"EGC 2022 - 15m",{"$f":"VLOOKUP(F1360,Soutez!A:B,2,FALSE)","v":"LT"},{"$f":"VLOOKUP(F1360,Soutez!A:C,3,FALSE)","v":2022},14,3518,1.06,6971,7389,null,null,"JS MD 3",14,"Není v databázi"]
["Nick Tillett",null,null,"United Kingdom",null,"EGC 2022 - 15m",{"$f":"VLOOKUP(F1361,Soutez!A:B,2,FALSE)","v":"LT"},{"$f":"VLOOKUP(F1361,Soutez!A:C,3,FALSE)","v":2022},15,3391,1.06,6652,7051,null,null,"ASG 29 Es","NT","Není v databázi"]
["Gintaras Drevinskas",null,null,"Lithuania",null,"EGC 2022 - 15m",{"$f":"VLOOKUP(F1362,Soutez!A:B,2,FALSE)","v":"LT"},{"$f":"VLOOKUP(F1362,Soutez!A:C,3,FALSE)","v":2022},16,3350,1.06,6467,6855,null,null,"ASG 29","M7","Není v databázi"]
["Thomas Wettemann",null,null,"Germany",null,"EGC 2022 - 15m",{"$f":"VLOOKUP(F1363,Soutez!A:B,2,FALSE)","v":"LT"},{"$f":"VLOOKUP(F1363,Soutez!A:C,3,FALSE)","v":2022},17,3136,1.06,6011,6372,null,null,"JS MD 3","EA","Není v databázi"]
["Gabor Gangl",null,null,"Hungary",null,"EGC 2022 - 15m",{"$f":"VLOOKUP(F1364,Soutez!A:B,2,FALSE)","v":"LT"},{"$f":"VLOOKUP(F1364,Soutez!A:C,3,FALSE)","v":2022},18,3061,1.06,5773,6119,null,null,"Ventus 2a","V8","Není v databázi"]
["Lars Groot",null,null,"Netherlands",null,"EGC 2022 - 15m",{"$f":"VLOOKUP(F1365,Soutez!A:B,2,FALSE)","v":"LT"},{"$f":"VLOOKUP(F1365,Soutez!A:C,3,FALSE)","v":2022},19,2977,1.06,5521,5852,null,null,"ASG 29 E","GR","Není v databázi"]
["Mark Käppeli",null,null,"Switzerland",null,"EGC 2022 - 15m",{"$f":"VLOOKUP(F1366,Soutez!A:B,2,FALSE)","v":"LT"},{"$f":"VLOOKUP(F1366,Soutez!A:C,3,FALSE)","v":2022},20,2738,1.06,5025,5327,null,null,"JS3","MK","Není v databázi"]
["Felipe Cvitanich",null,null,"Denmark",null,"EGC 2022 - 15m",{"$f":"VLOOKUP(F1367,Soutez!A:B,2,FALSE)","v":"LT"},{"$f":"VLOOKUP(F1367,Soutez!A:C,3,FALSE)","v":2022},21,2629,1.06,4734,5018,null,null,"Ventus 2 ct","RJ","Není v databázi"]
["Nuutti Kankare",null,null,"Finland",null,"EGC 2022 - 15m",{"$f":"VLOOKUP(F1368,Soutez!A:B,2,FALSE)","v":"LT"},{"$f":"VLOOKUP(F1368,Soutez!A:C,3,FALSE)","v":2022},22,2586,1.06,4546,4819,null,null,"Ventus 2bx","KX","Není v databázi"]
["Thomas De Bruyn",null,null,"Belgium",null,"EGC 2022 - 15m",{"$f":"VLOOKUP(F1369,Soutez!A:B,2,FALSE)","v":"LT"},{"$f":"VLOOKUP(F1369,Soutez!A:C,3,FALSE)","v":2022},23,2293,1.06,3965,4203,null,null,"Ventus 2ax","FS","Není v databázi"]
["Bruno Herencic",null,null,"Croatia",null,"EGC 2022 - 15m",{"$f":"VLOOKUP(F1370,Soutez!A:B,2,FALSE)","v":"LT"},{"$f":"VLOOKUP(F1370,Soutez!A:C,3,FALSE)","v":2022},24,2123,1.06,3578,3793,null,null,"Diana 2 FES","BH","Není v databázi"]
["Laszlo Bano",null,null,"Hungary",null,"EGC 2022 - 15m",{"$f":"VLOOKUP(F1371,Soutez!A:B,2,FALSE)","v":"LT"},{"$f":"VLOOKUP(F1371,Soutez!A:C,3,FALSE)","v":2022},25,1318,1.06,2192,2324,null,null,"JS MD 3","AX","Není v databázi"]
["Lorenzo Fornari",null,null,"Italy",null,"EGC 2022 - 15m",{"$f":"VLOOKUP(F1372,Soutez!A:B,2,FALSE)","v":"LT"},{"$f":"VLOOKUP(F1372,Soutez!A:C,3,FALSE)","v":2022},26,104,1.06,164,174,null,null,"Ventus 2ax","LD","Není v databázi"]
["Finn Sleigh",null,null,null,null,"JWGC 2022 - Klub",{"$f":"VLOOKUP(F1373,Soutez!A:B,2,FALSE)","v":"CZ"},{"$f":"VLOOKUP(F1373,Soutez!A:C,3,FALSE)","v":2022},1,8132,{"$f":"VLOOKUP(F1373,Soutez,12,0)","v":1.075},{"$f":"ROUND(J1373/MAX($J$1373:$J$1417)*10000*0.7+(MAX($I$1373:$I$1417)-I1373)/(MAX($I$1373:$I$1417)-1)*10000*0.3,0)","v":10000},{"$f":"ROUND(K1373*L1373,0)","v":10750},null,null,"ASW 20",5,"Není v databázi"]
["Toby Freeland",null,null,null,null,"JWGC 2022 - Klub",{"$f":"VLOOKUP(F1374,Soutez!A:B,2,FALSE)","v":"CZ"},{"$f":"VLOOKUP(F1374,Soutez!A:C,3,FALSE)","v":2022},2,7874,{"$f":"VLOOKUP(F1374,Soutez,12,0)","v":1.075},9710,{"$f":"ROUND(K1374*L1374,0)","v":10438},null,null,"ASW 20 l",212,"Není v databázi"]
["Nils Fecker",null,null,null,null,"JWGC 2022 - Klub",{"$f":"VLOOKUP(F1375,Soutez!A:B,2,FALSE)","v":"CZ"},{"$f":"VLOOKUP(F1375,Soutez!A:C,3,FALSE)","v":2022},3,7852,1.075,9623,10345,null,null,"LS4 a","FT","Není v databázi"]
["Lars Van Breemen",null,null,null,null,"JWGC 2022 - Klub",{"$f":"VLOOKUP(F1376,Soutez!A:B,2,FALSE)","v":"CZ"},{"$f":"VLOOKUP(F1376,Soutez!A:C,3,FALSE)","v":2022},4,7781,1.075,9493,10205,null,null,"LS4 b Neo","S4","Není v databázi"]
["Alexandre Fierain",null,null,null,null,"JWGC 2022 - Klub",{"$f":"VLOOKUP(F1377,Soutez!A:B,2,FALSE)","v":"CZ"},{"$f":"VLOOKUP(F1377,Soutez!A:C,3,FALSE)","v":2022},5,7738,1.075,9388,10092,null,null,"ASW 20","WE","Není v databázi"]
["Toni Kittler",null,null,null,null,"JWGC 2022 - Klub",{"$f":"VLOOKUP(F1378,Soutez!A:B,2,FALSE)","v":"CZ"},{"$f":"VLOOKUP(F1378,Soutez!A:C,3,FALSE)","v":2022},6,7641,1.075,9236,9929,null,null,"LS4 a","BV","Není v databázi"]
["Miles Kjær",null,null,null,null,"JWGC 2022 - Klub",{"$f":"VLOOKUP(F1379,Soutez!A:B,2,FALSE)","v":"CZ"},{"$f":"VLOOKUP(F1379,Soutez!A:C,3,FALSE)","v":2022},7,7592,1.075,9126,9810,null,null,"ASW 20","CB","Není v databázi"]
["Kim Toppari",null,null,null,null,"JWGC 2022 - Klub",{"$f":"VLOOKUP(F1380,Soutez!A:B,2,FALSE)","v":"CZ"},{"$f":"VLOOKUP(F1380,Soutez!A:C,3,FALSE)","v":2022},8,7558,1.075,9029,9706,null,null,"LS7 wl","FK","Není v databázi"]
["Jelmer Vis",null,null,null,null,"JWGC 2022 - Klub",{"$f":"VLOOKUP(F1381,Soutez!A:B,2,FALSE)","v":"CZ"},{"$f":"VLOOKUP(F1381,Soutez!A:C,3,FALSE)","v":2022},9,7553,1.075,8956,9628,null,null,"LS4 a","VIS","Není v databázi"]
["Philip Jonker",null,null,null,null,"JWGC 2022 - Klub",{"$f":"VLOOKUP(F1382,Soutez!A:B,2,FALSE)","v":"CZ"},{"$f":"VLOOKUP(F1382,Soutez!A:C,3,FALSE)","v":2022},10,7544,1.075,8880,9546,null,null,"LS3","SF","Není v databázi"]
["Eric Schneider",null,null,null,null,"JWGC 2022 - Klub",{"$f":"VLOOKUP(F1383,Soutez!A:B,2,FALSE)","v":"CZ"},{"$f":"VLOOKUP(F1383,Soutez!A:C,3,FALSE)","v":2022},11,7530,1.075,8800,9460,null,null,"LS4 b","MH","Není v databázi"]
["Mark Travner",null,null,null,null,"JWGC 2022 - Klub",{"$f":"VLOOKUP(F1384,Soutez!A:B,2,FALSE)","v":"CZ"},{"$f":"VLOOKUP(F1384,Soutez!A:C,3,FALSE)","v":2022},12,7519,1.075,8722,9376,null,null,"ASW 20","SH","Není v databázi"]
["Simon van den Eijkel",null,null,null,null,"JWGC 2022 - Klub",{"$f":"VLOOKUP(F1385,Soutez!A:B,2,FALSE)","v":"CZ"},{"$f":"VLOOKUP(F1385,Soutez!A:C,3,FALSE)","v":2022},13,7503,1.075,8640,9288,null,null,"LS4","Aa",{"$f":"IF(ISERROR(VLOOKUP(A1385,Pilot,6,0)),\"Není v databázi\",VLOOKUP(A1385,Pilot,6,0))","v":"Není v databázi"}]
["Jens Andersen",null,null,null,null,"JWGC 2022 - Klub",{"$f":"VLOOKUP(F1386,Soutez!A:B,2,FALSE)","v":"CZ"},{"$f":"VLOOKUP(F1386,Soutez!A:C,3,FALSE)","v":2022},14,7398,1.075,8482,9118,null,null,"Mosquito","N8","Není v databázi"]
["Vit Morkovsky",{"$f":"VLOOKUP(A1387,Pilot,2,0)","v":2000},{"$f":"VLOOKUP(A1387,Pilot,5,0)","v":"M"},{"$f":"VLOOKUP(A1387,Pilot,3,0)","v":"Polička"},{"$f":"VLOOKUP(A1387,Pilot,4,0)","v":"CZ/C2"},"JWGC 2022 - Klub",{"$f":"VLOOKUP(F1387,Soutez!A:B,2,FALSE)","v":"CZ"},{"$f":"VLOOKUP(F1387,Soutez!A:C,3,FALSE)","v":2022},15,7348,1.075,8371,8999,"x",null,"ASW 20","CX","Junior v roce 2024"]
["Zsombor Wéber",null,null,null,null,"JWGC 2022 - Klub",{"$f":"VLOOKUP(F1388,Soutez!A:B,2,FALSE)","v":"CZ"},{"$f":"VLOOKUP(F1388,Soutez!A:C,3,FALSE)","v":2022},16,7310,1.075,8270,8890,null,null,"ASW 20 c",18,"Není v databázi"]
["Théo Manfredi",null,null,null,null,"JWGC 2022 - Klub",{"$f":"VLOOKUP(F1389,Soutez!A:B,2,FALSE)","v":"CZ"},{"$f":"VLOOKUP(F1389,Soutez!A:C,3,FALSE)","v":2022},17,7241,1.075,8142,8753,null,null,"LS7","VX","Není v databázi"]
["Tereza Koubkova",1999,"F",{"$f":"VLOOKUP(A1390,Pilot,3,0)","v":"Vysoké Mýto"},{"$f":"VLOOKUP(A1390,Pilot,4,0)","v":"CZ/C2"},"JWGC 2022 - Klub",{"$f":"VLOOKUP(F1390,Soutez!A:B,2,FALSE)","v":"CZ"},{"$f":"VLOOKUP(F1390,Soutez!A:C,3,FALSE)","v":2022},18,7217,{"$f":"VLOOKUP(F1390,Soutez,12,0)","v":1.075},8053,8657,"x","x","ASW 20","MP","Junior v roce 2024"]
["Lasse Edslev",null,null,null,null,"JWGC 2022 - Klub",{"$f":"VLOOKUP(F1391,Soutez!A:B,2,FALSE)","v":"CZ"},{"$f":"VLOOKUP(F1391,Soutez!A:C,3,FALSE)","v":2022},19,7201,1.075,7971,8569,null,null,"LS4","LE","Není v databázi"]
["Milan Surovcik Jr.",null,null,null,null,"JWGC 2022 - Klub",{"$f":"VLOOKUP(F1392,Soutez!A:B,2,FALSE)","v":"CZ"},{"$f":"VLOOKUP(F1392,Soutez!A:C,3,FALSE)","v":2022},20,7148,1.075,7858,{"$f":"ROUND(K1392*L1392,0)","v":8447},null,null,"ASW 20","S","Není v databázi"]
["Barnabas Tóth",null,null,null,null,"JWGC 2022 - Klub",{"$f":"VLOOKUP(F1393,Soutez!A:B,2,FALSE)","v":"CZ"},{"$f":"VLOOKUP(F1393,Soutez!A:C,3,FALSE)","v":2022},21,7138,1.075,7781,8365,null,null,"ASW 20","IF","Není v databázi"]
["Edgar Lagorio",null,null,null,null,"JWGC 2022 - Klub",{"$f":"VLOOKUP(F1394,Soutez!A:B,2,FALSE)","v":"CZ"},{"$f":"VLOOKUP(F1394,Soutez!A:C,3,FALSE)","v":2022},22,7039,1.075,7627,8199,null,null,"Discus b","3G","Není v databázi"]
["Maciej Kowalski",null,null,null,null,"JWGC 2022 - Klub",{"$f":"VLOOKUP(F1395,Soutez!A:B,2,FALSE)","v":"CZ"},{"$f":"VLOOKUP(F1395,Soutez!A:C,3,FALSE)","v":2022},23,6978,1.075,7507,8070,null,null,"Jantar std. 3","SO","Není v databázi"]
["Samuel Posluch",null,null,null,null,"JWGC 2022 - Klub",{"$f":"VLOOKUP(F1396,Soutez!A:B,2,FALSE)","v":"CZ"},{"$f":"VLOOKUP(F1396,Soutez!A:C,3,FALSE)","v":2022},24,6975,1.075,7436,7994,null,null,"ASW 20 cj","VG","Není v databázi"]
["Robert Alin Simion",null,null,null,null,"JWGC 2022 - Klub",{"$f":"VLOOKUP(F1397,Soutez!A:B,2,FALSE)","v":"CZ"},{"$f":"VLOOKUP(F1397,Soutez!A:C,3,FALSE)","v":2022},25,6781,1.075,7201,7741,null,null,"LS4 a","Y2","Není v databázi"]
["David McMaster",null,null,null,null,"JWGC 2022 - Klub",{"$f":"VLOOKUP(F1398,Soutez!A:B,2,FALSE)","v":"CZ"},{"$f":"VLOOKUP(F1398,Soutez!A:C,3,FALSE)","v":2022},26,6645,1.075,7015,7541,null,null,"ASW 20",11,"Není v databázi"]
["Simon Siska",null,null,null,null,"JWGC 2022 - Klub",{"$f":"VLOOKUP(F1399,Soutez!A:B,2,FALSE)","v":"CZ"},{"$f":"VLOOKUP(F1399,Soutez!A:C,3,FALSE)","v":2022},27,6605,1.075,6913,7431,null,null,"ASW 24 wl","CK","Není v databázi"]
["Pascal Zollikofer",null,null,null,null,"JWGC 2022 - Klub",{"$f":"VLOOKUP(F1400,Soutez!A:B,2,FALSE)","v":"CZ"},{"$f":"VLOOKUP(F1400,Soutez!A:C,3,FALSE)","v":2022},28,6593,1.075,6834,7347,null,null,"LS4","FC","Není v databázi"]
["Ionut Tudor",null,null,null,null,"JWGC 2022 - Klub",{"$f":"VLOOKUP(F1401,Soutez!A:B,2,FALSE)","v":"CZ"},{"$f":"VLOOKUP(F1401,Soutez!A:C,3,FALSE)","v":2022},29,6568,1.075,6745,7251,null,null,"LS4 wl","8M","Není v databázi"]
["Ivan Tvrdik",1997,"M",{"$f":"VLOOKUP(A1402,Pilot,3,0)","v":"Letňany"},{"$f":"VLOOKUP(A1402,Pilot,4,0)","v":"CZ/C1"},"JWGC 2022 - Klub",{"$f":"VLOOKUP(F1402,Soutez!A:B,2,FALSE)","v":"CZ"},{"$f":"VLOOKUP(F1402,Soutez!A:C,3,FALSE)","v":2022},30,6407,1.075,6538,7028,"x",null,"ASW 20","NW",""]
["Henry Richard Daly",null,null,null,null,"JWGC 2022 - Klub",{"$f":"VLOOKUP(F1403,Soutez!A:B,2,FALSE)","v":"CZ"},{"$f":"VLOOKUP(F1403,Soutez!A:C,3,FALSE)","v":2022},31,6390,1.075,6455,6939,null,null,"ASW 20 l","DK","Není v databázi"]
["Alessandro Bassalti",null,null,null,null,"JWGC 2022 - Klub",{"$f":"VLOOKUP(F1404,Soutez!A:B,2,FALSE)","v":"CZ"},{"$f":"VLOOKUP(F1404,Soutez!A:C,3,FALSE)","v":2022},32,6387,1.075,6384,6863,null,null,"Discus b","5I","Není v databázi"]
["Tomasz Kurowski",null,null,null,null,"JWGC 2022 - Klub",{"$f":"VLOOKUP(F1405,Soutez!A:B,2,FALSE)","v":"CZ"},{"$f":"VLOOKUP(F1405,Soutez!A:C,3,FALSE)","v":2022},33,6371,1.075,6302,6775,null,null,"SZD-48-3M Brawo","BZ","Není v databázi"]
["Dylan Osolian",null,null,null,null,"JWGC 2022 - Klub",{"$f":"VLOOKUP(F1406,Soutez!A:B,2,FALSE)","v":"CZ"},{"$f":"VLOOKUP(F1406,Soutez!A:C,3,FALSE)","v":2022},34,6273,1.075,6150,6611,null,null,"LS3","CP","Není v databázi"]
["Mikko Ylihärsilä",null,null,null,null,"JWGC 2022 - Klub",{"$f":"VLOOKUP(F1407,Soutez!A:B,2,FALSE)","v":"CZ"},{"$f":"VLOOKUP(F1407,Soutez!A:C,3,FALSE)","v":2022},35,6265,1.075,6075,6531,null,null,"LS7","GE","Není v databázi"]
["Michael Tiffin",null,null,null,null,"JWGC 2022 - Klub",{"$f":"VLOOKUP(F1408,Soutez!A:B,2,FALSE)","v":"CZ"},{"$f":"VLOOKUP(F1408,Soutez!A:C,3,FALSE)","v":2022},36,6243,1.075,5988,6437,null,null,"ASW 20","WX","Není v databázi"]
["Samuel Richardson",null,null,null,null,"JWGC 2022 - Klub",{"$f":"VLOOKUP(F1409,Soutez!A:B,2,FALSE)","v":"CZ"},{"$f":"VLOOKUP(F1409,Soutez!A:C,3,FALSE)","v":2022},37,6189,1.075,5873,6313,null,null,"Mosquito","TI","Není v databázi"]
["Emilien Montulet",null,null,null,null,"JWGC 2022 - Klub",{"$f":"VLOOKUP(F1410,Soutez!A:B,2,FALSE)","v":"CZ"},{"$f":"VLOOKUP(F1410,Soutez!A:C,3,FALSE)","v":2022},38,6188,1.075,5804,6239,null,null,"LS4","BZI","Není v databázi"]
["Sondre Bjørø",null,null,null,null,"JWGC 2022 - Klub",{"$f":"VLOOKUP(F1411,Soutez!A:B,2,FALSE)","v":"CZ"},{"$f":"VLOOKUP(F1411,Soutez!A:C,3,FALSE)","v":2022},39,6132,1.075,5687,6114,null,null,"ASW 20","TE","Není v databázi"]
["Jakub Kaczorowski",null,null,null,null,"JWGC 2022 - Klub",{"$f":"VLOOKUP(F1412,Soutez!A:B,2,FALSE)","v":"CZ"},{"$f":"VLOOKUP(F1412,Soutez!A:C,3,FALSE)","v":2022},40,6053,1.075,5551,5967,null,null,"SZD-48-3 Jantar Std. 3","BI","Není v databázi"]
["Sarunas Stanevicius",null,null,null,null,"JWGC 2022 - Klub",{"$f":"VLOOKUP(F1413,Soutez!A:B,2,FALSE)","v":"CZ"},{"$f":"VLOOKUP(F1413,Soutez!A:C,3,FALSE)","v":2022},41,5518,1.075,5023,5400,null,null,"ASW 20","BA","Není v databázi"]
["Sara Salonen",null,null,null,null,"JWGC 2022 - Klub",{"$f":"VLOOKUP(F1414,Soutez!A:B,2,FALSE)","v":"CZ"},{"$f":"VLOOKUP(F1414,Soutez!A:C,3,FALSE)","v":2022},42,5455,1.075,4900,5268,null,null,"Discus a","AT","Není v databázi"]
["Jokubas Motuza",null,null,null,null,"JWGC 2022 - Klub",{"$f":"VLOOKUP(F1415,Soutez!A:B,2,FALSE)","v":"CZ"},{"$f":"VLOOKUP(F1415,Soutez!A:C,3,FALSE)","v":2022},43,5316,1.075,4712,5065,null,null,"ASW 20","VJ","Není v databázi"]
["Lilla Szamosujvari",null,null,null,null,"JWGC 2022 - Klub",{"$f":"VLOOKUP(F1416,Soutez!A:B,2,FALSE)","v":"CZ"},{"$f":"VLOOKUP(F1416,Soutez!A:C,3,FALSE)","v":2022},44,5176,1.075,4524,4863,null,null,"Glasflügel 304","JM","Není v databázi"]
["David Roth",null,null,null,null,"JWGC 2022 - Klub",{"$f":"VLOOKUP(F1417,Soutez!A:B,2,FALSE)","v":"CZ"},{"$f":"VLOOKUP(F1417,Soutez!A:C,3,FALSE)","v":2022},45,3738,1.075,3218,3459,null,null,"LS4","CR","Není v databázi"]
["Simon Briel",null,null,null,null,"JWGC 2022 - Std",{"$f":"VLOOKUP(F1418,Soutez!A:B,2,FALSE)","v":"CZ"},{"$f":"VLOOKUP(F1418,Soutez!A:C,3,FALSE)","v":2022},1,8068,{"$f":"VLOOKUP(F1418,Soutez,12,0)","v":1.075},{"$f":"ROUND(J1418/MAX($J$1418:$J$1446)*10000*0.7+(MAX($I$1418:$I$1446)-I1418)/(MAX($I$1418:$I$1446)-1)*10000*0.3,0)","v":10000},{"$f":"ROUND(K1418*L1418,0)","v":10750},null,null,"Discus 2a","SB","Není v databázi"]
["Lukas Kriz",{"$f":"VLOOKUP(A1419,Pilot,2,0)","v":2003},{"$f":"VLOOKUP(A1419,Pilot,5,0)","v":"M"},{"$f":"VLOOKUP(A1419,Pilot,3,0)","v":"Křižanov"},{"$f":"VLOOKUP(A1419,Pilot,4,0)","v":"CZ/M"},"JWGC 2022 - Std",{"$f":"VLOOKUP(F1419,Soutez!A:B,2,FALSE)","v":"CZ"},{"$f":"VLOOKUP(F1419,Soutez!A:C,3,FALSE)","v":2022},2,7660,{"$f":"VLOOKUP(F1419,Soutez,12,0)","v":1.075},9539,{"$f":"ROUND(K1419*L1419,0)","v":10254},"x",null,"LS8","AU","Junior v roce 2024"]
["Jaromir Macoun",1999,"M","Jičín","CZ/C2","JWGC 2022 - Std",{"$f":"VLOOKUP(F1420,Soutez!A:B,2,FALSE)","v":"CZ"},{"$f":"VLOOKUP(F1420,Soutez!A:C,3,FALSE)","v":2022},3,7633,1.075,9408,10114,"x",null,"LS8","EU","Junior v roce 2024"]
["Ignas Bitinaitis",null,null,null,null,"JWGC 2022 - Std",{"$f":"VLOOKUP(F1421,Soutez!A:B,2,FALSE)","v":"CZ"},{"$f":"VLOOKUP(F1421,Soutez!A:C,3,FALSE)","v":2022},4,7586,1.075,9260,9955,null,null,"LS8","H8","Není v databázi"]
["Enguerrand Virol",null,null,null,null,"JWGC 2022 - Std",{"$f":"VLOOKUP(F1422,Soutez!A:B,2,FALSE)","v":"CZ"},{"$f":"VLOOKUP(F1422,Soutez!A:C,3,FALSE)","v":2022},5,7577,1.075,9145,9831,null,null,"LS8","V92","Není v databázi"]
["Florian Labatut",null,null,null,null,"JWGC 2022 - Std",{"$f":"VLOOKUP(F1423,Soutez!A:B,2,FALSE)","v":"CZ"},{"$f":"VLOOKUP(F1423,Soutez!A:C,3,FALSE)","v":2022},6,7539,1.075,9005,9680,null,null,"LS8","X15","Není v databázi"]
["Wiktor Lacinski",null,null,null,null,"JWGC 2022 - Std",{"$f":"VLOOKUP(F1424,Soutez!A:B,2,FALSE)","v":"CZ"},{"$f":"VLOOKUP(F1424,Soutez!A:C,3,FALSE)","v":2022},7,7514,1.075,8876,9542,null,null,"Discus 2a","I","Není v databázi"]
["Kévin Faur",null,null,null,null,"JWGC 2022 - Std",{"$f":"VLOOKUP(F1425,Soutez!A:B,2,FALSE)","v":"CZ"},{"$f":"VLOOKUP(F1425,Soutez!A:C,3,FALSE)","v":2022},8,7509,1.075,8765,9422,null,null,"Discus 2a",21,"Není v databázi"]
["Maurits Hebels",null,null,null,null,"JWGC 2022 - Std",{"$f":"VLOOKUP(F1426,Soutez!A:B,2,FALSE)","v":"CZ"},{"$f":"VLOOKUP(F1426,Soutez!A:C,3,FALSE)","v":2022},9,7489,1.075,8641,9289,null,null,"LS8 Neo FES",71,"Není v databázi"]
["Nico Jaegli",null,null,null,null,"JWGC 2022 - Std",{"$f":"VLOOKUP(F1427,Soutez!A:B,2,FALSE)","v":"CZ"},{"$f":"VLOOKUP(F1427,Soutez!A:C,3,FALSE)","v":2022},10,7280,1.075,8352,8978,null,null,"Discus 2b","2S","Není v databázi"]
["Nick Faber",null,null,null,null,"JWGC 2022 - Std",{"$f":"VLOOKUP(F1428,Soutez!A:B,2,FALSE)","v":"CZ"},{"$f":"VLOOKUP(F1428,Soutez!A:C,3,FALSE)","v":2022},11,7270,{"$f":"VLOOKUP(F1428,Soutez,12,0)","v":1.075},8236,8854,null,null,"Discus 2b","D2","Není v databázi"]
["Jacob Bøgelund Lassen",null,null,null,null,"JWGC 2022 - Std",{"$f":"VLOOKUP(F1429,Soutez!A:B,2,FALSE)","v":"CZ"},{"$f":"VLOOKUP(F1429,Soutez!A:C,3,FALSE)","v":2022},12,7180,1.075,8051,8655,null,null,"Discus 2a","MK","Není v databázi"]
["Jan Knischewski",null,null,null,null,"JWGC 2022 - Std",{"$f":"VLOOKUP(F1430,Soutez!A:B,2,FALSE)","v":"CZ"},{"$f":"VLOOKUP(F1430,Soutez!A:C,3,FALSE)","v":2022},13,7151,1.075,7919,{"$f":"ROUND(K1430*L1430,0)","v":8513},null,null,"LS8 Neo","OK","Není v databázi"]
["Johannes Dibbern",null,null,null,null,"JWGC 2022 - Std",{"$f":"VLOOKUP(F1431,Soutez!A:B,2,FALSE)","v":"CZ"},{"$f":"VLOOKUP(F1431,Soutez!A:C,3,FALSE)","v":2022},14,7129,1.075,7792,8376,null,null,"LS8 neo","S1","Není v databázi"]
["James Nugent",null,null,null,null,"JWGC 2022 - Std",{"$f":"VLOOKUP(F1432,Soutez!A:B,2,FALSE)","v":"CZ"},{"$f":"VLOOKUP(F1432,Soutez!A:C,3,FALSE)","v":2022},15,7102,1.075,7662,8237,null,null,"LS8","JW","Není v databázi"]
["Emil Dalboe-Pedersen",null,null,null,null,"JWGC 2022 - Std",{"$f":"VLOOKUP(F1433,Soutez!A:B,2,FALSE)","v":"CZ"},{"$f":"VLOOKUP(F1433,Soutez!A:C,3,FALSE)","v":2022},16,6904,1.075,7383,7937,null,null,"LS8","SE","Není v databázi"]
["Jonas Pitschen",null,null,null,null,"JWGC 2022 - Std",{"$f":"VLOOKUP(F1434,Soutez!A:B,2,FALSE)","v":"CZ"},{"$f":"VLOOKUP(F1434,Soutez!A:C,3,FALSE)","v":2022},17,6826,1.075,7208,7749,null,null,"Discus 2b","UB","Není v databázi"]
["Áron Érseki",null,null,null,null,"JWGC 2022 - Std",{"$f":"VLOOKUP(F1435,Soutez!A:B,2,FALSE)","v":"CZ"},{"$f":"VLOOKUP(F1435,Soutez!A:C,3,FALSE)","v":2022},18,6583,1.075,6890,7407,null,null,"Discus 2a","HAL","Není v databázi"]
["Mathias Valentin",null,null,null,null,"JWGC 2022 - Std",{"$f":"VLOOKUP(F1436,Soutez!A:B,2,FALSE)","v":"CZ"},{"$f":"VLOOKUP(F1436,Soutez!A:C,3,FALSE)","v":2022},19,6534,1.075,6740,7246,null,null,"LS8","KE","Není v databázi"]
["Henry Inigo-Jones",null,null,null,null,"JWGC 2022 - Std",{"$f":"VLOOKUP(F1437,Soutez!A:B,2,FALSE)","v":"CZ"},{"$f":"VLOOKUP(F1437,Soutez!A:C,3,FALSE)","v":2022},20,6336,1.075,6462,6947,null,null,"LS8",95,"Není v databázi"]
["Karol Snapko",null,null,null,null,"JWGC 2022 - Std",{"$f":"VLOOKUP(F1438,Soutez!A:B,2,FALSE)","v":"CZ"},{"$f":"VLOOKUP(F1438,Soutez!A:C,3,FALSE)","v":2022},21,6049,1.075,6105,6563,null,null,"Discus 2a","Y","Není v databázi"]
["Henri Philippe",null,null,null,null,"JWGC 2022 - Std",{"$f":"VLOOKUP(F1439,Soutez!A:B,2,FALSE)","v":"CZ"},{"$f":"VLOOKUP(F1439,Soutez!A:C,3,FALSE)","v":2022},22,5756,1.075,5744,6175,null,null,"LS8","5F","Není v databázi"]
["Mark van den Ham",null,null,null,null,"JWGC 2022 - Std",{"$f":"VLOOKUP(F1440,Soutez!A:B,2,FALSE)","v":"CZ"},{"$f":"VLOOKUP(F1440,Soutez!A:C,3,FALSE)","v":2022},23,5731,1.075,5615,6036,null,null,"ASW 24",44,"Není v databázi"]
["Claudio Etterli",null,null,null,null,"JWGC 2022 - Std",{"$f":"VLOOKUP(F1441,Soutez!A:B,2,FALSE)","v":"CZ"},{"$f":"VLOOKUP(F1441,Soutez!A:C,3,FALSE)","v":2022},24,5681,1.075,5465,5875,null,null,"Discus 2b","Z1","Není v databázi"]
["Ivan Bajana",null,null,null,null,"JWGC 2022 - Std",{"$f":"VLOOKUP(F1442,Soutez!A:B,2,FALSE)","v":"CZ"},{"$f":"VLOOKUP(F1442,Soutez!A:C,3,FALSE)","v":2022},25,5550,1.075,5244,5637,null,null,"Discus 2b","DI","Není v databázi"]
["Viktoria Divokova",null,null,null,null,"JWGC 2022 - Std",{"$f":"VLOOKUP(F1443,Soutez!A:B,2,FALSE)","v":"CZ"},{"$f":"VLOOKUP(F1443,Soutez!A:C,3,FALSE)","v":2022},26,5171,1.075,4808,5169,null,null,"LS8","SI","Není v databázi"]
["Thomas Pavis",null,null,null,null,"JWGC 2022 - Std",{"$f":"VLOOKUP(F1444,Soutez!A:B,2,FALSE)","v":"CZ"},{"$f":"VLOOKUP(F1444,Soutez!A:C,3,FALSE)","v":2022},27,4542,1.075,4155,4467,null,null,"Discus 2a",235,{"$f":"IF(ISERROR(VLOOKUP(A1444,Pilot,6,0)),\"Není v databázi\",VLOOKUP(A1444,Pilot,6,0))","v":"Není v databázi"}]
["Jan Zapletal",{"$f":"VLOOKUP(A1445,Pilot,2,0)","v":1997},{"$f":"VLOOKUP(A1445,Pilot,5,0)","v":"M"},{"$f":"VLOOKUP(A1445,Pilot,3,0)","v":"Břeclav"},{"$f":"VLOOKUP(A1445,Pilot,4,0)","v":"CZ/M"},"JWGC 2022 - Std",{"$f":"VLOOKUP(F1445,Soutez!A:B,2,FALSE)","v":"CZ"},{"$f":"VLOOKUP(F1445,Soutez!A:C,3,FALSE)","v":2022},28,4313,1.075,3849,4138,"x",null,"LS8 18","JS",""]
["Ryan Driscoll",null,null,null,null,"JWGC 2022 - Std",{"$f":"VLOOKUP(F1446,Soutez!A:B,2,FALSE)","v":"CZ"},{"$f":"VLOOKUP(F1446,Soutez!A:C,3,FALSE)","v":2022},29,4020,1.075,3488,3750,null,null,"LS8","1X","Není v databázi"]
["Petra Piskata",{"$f":"VLOOKUP(A1447,Pilot,2,0)","v":1989},{"$f":"VLOOKUP(A1447,Pilot,5,0)","v":"F"},{"$f":"VLOOKUP(A1447,Pilot,3,0)","v":"Luhačovice"},{"$f":"VLOOKUP(A1447,Pilot,4,0)","v":"CZ/M"},"WWGC 2022 - Klub",{"$f":"VLOOKUP(F1447,Soutez!A:B,2,FALSE)","v":"UK"},{"$f":"VLOOKUP(F1447,Soutez!A:C,3,FALSE)","v":2022},1,4282,{"$f":"VLOOKUP(F1447,Soutez,12,0)","v":1.04},{"$f":"ROUND(J1447/MAX($J$1447:$J$1464)*10000*0.7+(MAX($I$1447:$I$1464)-I1447)/(MAX($I$1447:$I$1464)-1)*10000*0.3,0)","v":10000},{"$f":"ROUND(K1447*L1447,0)","v":10400},null,"x","LS 4","6L",""]
["Claudia Hill",null,null,"Great Britain",null,"WWGC 2022 - Klub",{"$f":"VLOOKUP(F1448,Soutez!A:B,2,FALSE)","v":"UK"},{"$f":"VLOOKUP(F1448,Soutez!A:C,3,FALSE)","v":2022},2,4182,{"$f":"VLOOKUP(F1448,Soutez,12,0)","v":1.04},9660,{"$f":"ROUND(K1448*L1448,0)","v":10046},null,null,"LS 1 f neo","CH","Není v databázi"]
["Ines Engelhardt",null,null,"Germany",null,"WWGC 2022 - Klub",{"$f":"VLOOKUP(F1449,Soutez!A:B,2,FALSE)","v":"UK"},{"$f":"VLOOKUP(F1449,Soutez!A:C,3,FALSE)","v":2022},3,4181,1.04,9482,9861,null,null,"LS 1 f","EF","Není v databázi"]
["Elena Fergnani",null,null,"Italy",null,"WWGC 2022 - Klub",{"$f":"VLOOKUP(F1450,Soutez!A:B,2,FALSE)","v":"UK"},{"$f":"VLOOKUP(F1450,Soutez!A:C,3,FALSE)","v":2022},4,4104,1.04,9180,9547,null,null,"Discus",40,"Není v databázi"]
["Aude Grangeray",null,null,"France",null,"WWGC 2022 - Klub",{"$f":"VLOOKUP(F1451,Soutez!A:B,2,FALSE)","v":"UK"},{"$f":"VLOOKUP(F1451,Soutez!A:C,3,FALSE)","v":2022},5,4061,1.04,8933,9290,null,null,"LS 7","AG","Není v databázi"]
["Louise Rodriguez",null,null,"France",null,"WWGC 2022 - Klub",{"$f":"VLOOKUP(F1452,Soutez!A:B,2,FALSE)","v":"UK"},{"$f":"VLOOKUP(F1452,Soutez!A:C,3,FALSE)","v":2022},6,3893,1.04,8482,8821,null,null,"LS 7","HG","Není v databázi"]
["Ulrike Teichmann",null,null,"Germany",null,"WWGC 2022 - Klub",{"$f":"VLOOKUP(F1453,Soutez!A:B,2,FALSE)","v":"UK"},{"$f":"VLOOKUP(F1453,Soutez!A:C,3,FALSE)","v":2022},7,3862,1.04,8255,8585,null,null,"LS 4",99,"Není v databázi"]
["Alizée Petit",null,null,"France",null,"WWGC 2022 - Klub",{"$f":"VLOOKUP(F1454,Soutez!A:B,2,FALSE)","v":"UK"},{"$f":"VLOOKUP(F1454,Soutez!A:C,3,FALSE)","v":2022},8,3711,1.04,7831,8144,null,null,"LS 4","YG","Není v databázi"]
["Klara Teichmannova",{"$f":"VLOOKUP(A1455,Pilot,2,0)","v":1993},{"$f":"VLOOKUP(A1455,Pilot,5,0)","v":"F"},{"$f":"VLOOKUP(A1455,Pilot,3,0)","v":"Hronov"},{"$f":"VLOOKUP(A1455,Pilot,4,0)","v":"CZ/C2"},"WWGC 2022 - Klub",{"$f":"VLOOKUP(F1455,Soutez!A:B,2,FALSE)","v":"UK"},{"$f":"VLOOKUP(F1455,Soutez!A:C,3,FALSE)","v":2022},9,3646,{"$f":"VLOOKUP(F1455,Soutez,12,0)","v":1.04},7549,7851,null,"x","LS 4","IX",""]
["Alison Mulder",null,null,"Great Britain",null,"WWGC 2022 - Klub",{"$f":"VLOOKUP(F1456,Soutez!A:B,2,FALSE)","v":"UK"},{"$f":"VLOOKUP(F1456,Soutez!A:C,3,FALSE)","v":2022},10,3466,1.04,7078,7361,null,null,"LS 4a","LS4","Není v databázi"]
["Edita Skalskiene",null,null,"Lithuania",null,"WWGC 2022 - Klub",{"$f":"VLOOKUP(F1457,Soutez!A:B,2,FALSE)","v":"UK"},{"$f":"VLOOKUP(F1457,Soutez!A:C,3,FALSE)","v":2022},11,3284,1.04,6604,{"$f":"ROUND(K1457*L1457,0)","v":6868},null,null,"ASW 20","FL","Není v databázi"]
["Paula Drazul",null,null,"Argentina",null,"WWGC 2022 - Klub",{"$f":"VLOOKUP(F1458,Soutez!A:B,2,FALSE)","v":"UK"},{"$f":"VLOOKUP(F1458,Soutez!A:C,3,FALSE)","v":2022},12,3232,1.04,6342,6596,null,null,"ASW19","J34","Není v databázi"]
["Lilian de Bruijn",null,null,"Netherlands",null,"WWGC 2022 - Klub",{"$f":"VLOOKUP(F1459,Soutez!A:B,2,FALSE)","v":"UK"},{"$f":"VLOOKUP(F1459,Soutez!A:C,3,FALSE)","v":2022},13,3167,1.04,6060,6302,null,null,"DG 300","YY","Není v databázi"]
["Valentina Toporova",null,null,"Ukraine",null,"WWGC 2022 - Klub",{"$f":"VLOOKUP(F1460,Soutez!A:B,2,FALSE)","v":"UK"},{"$f":"VLOOKUP(F1460,Soutez!A:C,3,FALSE)","v":2022},14,3018,1.04,5640,5866,null,null,"ASW 20","PM","Není v databázi"]
["Christina Solberg Hansen",null,null,"Denmark",null,"WWGC 2022 - Klub",{"$f":"VLOOKUP(F1461,Soutez!A:B,2,FALSE)","v":"UK"},{"$f":"VLOOKUP(F1461,Soutez!A:C,3,FALSE)","v":2022},15,2947,1.04,5347,5561,null,null,"LS 1 f","SH","Není v databázi"]
["Olena Yakymchuk",null,null,"Ukraine",null,"WWGC 2022 - Klub",{"$f":"VLOOKUP(F1462,Soutez!A:B,2,FALSE)","v":"UK"},{"$f":"VLOOKUP(F1462,Soutez!A:C,3,FALSE)","v":2022},16,2457,1.04,4370,4545,null,null,"ASW 20","LD","Není v databázi"]
["Julia Dresler Nørtoft",null,null,"Denmark",null,"WWGC 2022 - Klub",{"$f":"VLOOKUP(F1463,Soutez!A:B,2,FALSE)","v":"UK"},{"$f":"VLOOKUP(F1463,Soutez!A:C,3,FALSE)","v":2022},17,1979,1.04,3412,3548,null,null,"Std. Cirrus","YM","Není v databázi"]
["Carol Marshall",null,null,"Great Britain",null,"WWGC 2022 - Klub",{"$f":"VLOOKUP(F1464,Soutez!A:B,2,FALSE)","v":"UK"},{"$f":"VLOOKUP(F1464,Soutez!A:C,3,FALSE)","v":2022},18,1870,1.04,3057,3179,null,null,"LS 7",246,"Není v databázi"]
["Cornelia Schaich",null,null,"Germany",null,"WWGC 2022 - Std",{"$f":"VLOOKUP(F1465,Soutez!A:B,2,FALSE)","v":"UK"},{"$f":"VLOOKUP(F1465,Soutez!A:C,3,FALSE)","v":2022},1,4692,{"$f":"VLOOKUP(F1465,Soutez,12,0)","v":1.0349999999999999},{"$f":"ROUND(J1465/MAX($J$1465:$J$1477)*10000*0.7+(MAX($I$1465:$I$1477)-I1465)/(MAX($I$1465:$I$1477)-1)*10000*0.3,0)","v":10000},{"$f":"ROUND(K1465*L1465,0)","v":10350},null,null,"LS 8","3S","Není v databázi"]
["Sabrina Vogt",null,null,"Germany",null,"WWGC 2022 - Std",{"$f":"VLOOKUP(F1466,Soutez!A:B,2,FALSE)","v":"UK"},{"$f":"VLOOKUP(F1466,Soutez!A:C,3,FALSE)","v":2022},2,4509,1.0349999999999999,9477,{"$f":"ROUND(K1466*L1466,0)","v":9809},null,null,"Discus 2a","HZ","Není v databázi"]
["Jana Veprekova",{"$f":"VLOOKUP(A1467,Pilot,2,0)","v":1961},{"$f":"VLOOKUP(A1467,Pilot,5,0)","v":"F"},{"$f":"VLOOKUP(A1467,Pilot,3,0)","v":"Dvůr Králové"},{"$f":"VLOOKUP(A1467,Pilot,4,0)","v":"CZ/C2"},"WWGC 2022 - Std",{"$f":"VLOOKUP(F1467,Soutez!A:B,2,FALSE)","v":"UK"},{"$f":"VLOOKUP(F1467,Soutez!A:C,3,FALSE)","v":2022},3,4356,1.0349999999999999,8999,9314,null,"x","LS 8","W8",""]
["Barbora Moravcova",1994,"F","Zbraslavice","CZ/C1","WWGC 2022 - Std",{"$f":"VLOOKUP(F1468,Soutez!A:B,2,FALSE)","v":"UK"},{"$f":"VLOOKUP(F1468,Soutez!A:C,3,FALSE)","v":2022},4,4355,1.0349999999999999,8747,9053,null,null,"LS 8b","JB",""]
["Aude Untersee",null,null,"France",null,"WWGC 2022 - Std",{"$f":"VLOOKUP(F1469,Soutez!A:B,2,FALSE)","v":"UK"},{"$f":"VLOOKUP(F1469,Soutez!A:C,3,FALSE)","v":2022},5,4351,1.0349999999999999,8491,8788,null,null,"Discus 2a","JPA","Není v databázi"]
["Anaïs Gaubert",null,null,"France",null,"WWGC 2022 - Std",{"$f":"VLOOKUP(F1470,Soutez!A:B,2,FALSE)","v":"UK"},{"$f":"VLOOKUP(F1470,Soutez!A:C,3,FALSE)","v":2022},6,4214,1.0349999999999999,8037,8318,null,null,"Discus 2a","ET","Není v databázi"]
["Christine Grote",null,null,"Germany",null,"WWGC 2022 - Std",{"$f":"VLOOKUP(F1471,Soutez!A:B,2,FALSE)","v":"UK"},{"$f":"VLOOKUP(F1471,Soutez!A:C,3,FALSE)","v":2022},7,4158,1.0349999999999999,7703,7973,null,null,"Discus 2a","V7","Není v databázi"]
["Francesca Roberts",null,null,"Great Britain",null,"WWGC 2022 - Std",{"$f":"VLOOKUP(F1472,Soutez!A:B,2,FALSE)","v":"UK"},{"$f":"VLOOKUP(F1472,Soutez!A:C,3,FALSE)","v":2022},8,4033,1.0349999999999999,7267,{"$f":"ROUND(K1472*L1472,0)","v":7521},null,null,"LS 8","IT","Není v databázi"]
["Dana Novakova",{"$f":"VLOOKUP(A1473,Pilot,2,0)","v":1965},{"$f":"VLOOKUP(A1473,Pilot,5,0)","v":"F"},{"$f":"VLOOKUP(A1473,Pilot,3,0)","v":"Mladá Boleslav"},{"$f":"VLOOKUP(A1473,Pilot,4,0)","v":"CZ/C1"},"WWGC 2022 - Std",{"$f":"VLOOKUP(F1473,Soutez!A:B,2,FALSE)","v":"UK"},{"$f":"VLOOKUP(F1473,Soutez!A:C,3,FALSE)","v":2022},9,4014,1.0349999999999999,6988,7233,null,null,"LS 8","FX",""]
["Kinga Tchorz",null,null,"Poland",null,"WWGC 2022 - Std",{"$f":"VLOOKUP(F1474,Soutez!A:B,2,FALSE)","v":"UK"},{"$f":"VLOOKUP(F1474,Soutez!A:C,3,FALSE)","v":2022},10,3675,1.0349999999999999,6233,6451,null,null,"LS 8","LOT","Není v databázi"]
["Judyta Czyz",null,null,"Poland",null,"WWGC 2022 - Std",{"$f":"VLOOKUP(F1475,Soutez!A:B,2,FALSE)","v":"UK"},{"$f":"VLOOKUP(F1475,Soutez!A:C,3,FALSE)","v":2022},11,3621,1.0349999999999999,5902,6109,null,null,"LS 8","MP","Není v databázi"]
["Ayala Truelove",null,null,"Great Britain",null,"WWGC 2022 - Std",{"$f":"VLOOKUP(F1476,Soutez!A:B,2,FALSE)","v":"UK"},{"$f":"VLOOKUP(F1476,Soutez!A:C,3,FALSE)","v":2022},12,3254,1.0349999999999999,5105,5284,null,null,"LS 8","L7","Není v databázi"]
["Sally Walker",null,null,"Great Britain",null,"WWGC 2022 - Std",{"$f":"VLOOKUP(F1477,Soutez!A:B,2,FALSE)","v":"UK"},{"$f":"VLOOKUP(F1477,Soutez!A:C,3,FALSE)","v":2022},13,2101,1.0349999999999999,3134,3244,null,null,"LS 8","D7","Není v databázi"]
["Anne Ducarouge",null,null,"France",null,"WWGC 2022 - 18m",{"$f":"VLOOKUP(F1478,Soutez!A:B,2,FALSE)","v":"UK"},{"$f":"VLOOKUP(F1478,Soutez!A:C,3,FALSE)","v":2022},1,4411,1.0549999999999999,{"$f":"ROUND(J1478/MAX($J$1478:$J$1489)*10000*0.7+(MAX($I$1478:$I$1489)-I1478)/(MAX($I$1478:$I$1489)-1)*10000*0.3,0)","v":10000},{"$f":"ROUND(K1478*L1478,0)","v":10550},null,null,"JS 3","AY","Není v databázi"]
["Mélanie Gadoulet",null,null,"France",null,"WWGC 2022 - 18m",{"$f":"VLOOKUP(F1479,Soutez!A:B,2,FALSE)","v":"UK"},{"$f":"VLOOKUP(F1479,Soutez!A:C,3,FALSE)","v":2022},2,4400,1.0549999999999999,9710,{"$f":"ROUND(K1479*L1479,0)","v":10244},null,null,"JS 3","KW","Není v databázi"]
["Alena Netusilova",{"$f":"VLOOKUP(A1480,Pilot,2,0)","v":1970},{"$f":"VLOOKUP(A1480,Pilot,5,0)","v":"F"},{"$f":"VLOOKUP(A1480,Pilot,3,0)","v":"Zbraslavice"},{"$f":"VLOOKUP(A1480,Pilot,4,0)","v":"CZ/C1"},"WWGC 2022 - 18m",{"$f":"VLOOKUP(F1480,Soutez!A:B,2,FALSE)","v":"UK"},{"$f":"VLOOKUP(F1480,Soutez!A:C,3,FALSE)","v":2022},3,4369,1.0549999999999999,9388,9904,null,"x","ASG 33 Es",12,""]
["Stefanie Mühl",null,null,"Germany",null,"WWGC 2022 - 18m",{"$f":"VLOOKUP(F1481,Soutez!A:B,2,FALSE)","v":"UK"},{"$f":"VLOOKUP(F1481,Soutez!A:C,3,FALSE)","v":2022},4,4129,1.0549999999999999,8734,9214,null,null,"Ventus 3T 18m","Y4","Není v databázi"]
["Katrin Senne",null,null,"Germany",null,"WWGC 2022 - 18m",{"$f":"VLOOKUP(F1482,Soutez!A:B,2,FALSE)","v":"UK"},{"$f":"VLOOKUP(F1482,Soutez!A:C,3,FALSE)","v":2022},5,3993,1.0549999999999999,8246,8700,null,null,"JS 3","BK","Není v databázi"]
["Hana Treslova",{"$f":"VLOOKUP(A1483,Pilot,2,0)","v":1991},{"$f":"VLOOKUP(A1483,Pilot,5,0)","v":"F"},{"$f":"VLOOKUP(A1483,Pilot,3,0)","v":"Raná"},{"$f":"VLOOKUP(A1483,Pilot,4,0)","v":"CZ/C2"},"WWGC 2022 - 18m",{"$f":"VLOOKUP(F1483,Soutez!A:B,2,FALSE)","v":"UK"},{"$f":"VLOOKUP(F1483,Soutez!A:C,3,FALSE)","v":2022},6,3927,1.0549999999999999,7868,8301,null,null,"JS-MD 3","XM",""]
["Jana Treslova",1963,"F","Raná","CZ/C2","WWGC 2022 - 18m",{"$f":"VLOOKUP(F1484,Soutez!A:B,2,FALSE)","v":"UK"},{"$f":"VLOOKUP(F1484,Soutez!A:C,3,FALSE)","v":2022},7,3802,1.0549999999999999,7397,7804,null,"x","JS 3","ZE",""]
["Astrid Galaret",null,null,"France",null,"WWGC 2022 - 18m",{"$f":"VLOOKUP(F1485,Soutez!A:B,2,FALSE)","v":"UK"},{"$f":"VLOOKUP(F1485,Soutez!A:C,3,FALSE)","v":2022},8,3682,1.0549999999999999,6934,{"$f":"ROUND(K1485*L1485,0)","v":7315},null,null,"JS 3","FM","Není v databázi"]
["Sandra Malzacher",null,null,"Germany",null,"WWGC 2022 - 18m",{"$f":"VLOOKUP(F1486,Soutez!A:B,2,FALSE)","v":"UK"},{"$f":"VLOOKUP(F1486,Soutez!A:C,3,FALSE)","v":2022},9,3340,1.0549999999999999,6119,6456,null,null,"ASG 29","LEO","Není v databázi"]
["Jane Nash",null,null,"Great Britain",null,"WWGC 2022 - 18m",{"$f":"VLOOKUP(F1487,Soutez!A:B,2,FALSE)","v":"UK"},{"$f":"VLOOKUP(F1487,Soutez!A:C,3,FALSE)","v":2022},10,2605,1.0549999999999999,4679,4936,null,null,"JS-MD 3",802,"Není v databázi"]
["Patrizia Roilo",null,null,"Italy",null,"WWGC 2022 - 18m",{"$f":"VLOOKUP(F1488,Soutez!A:B,2,FALSE)","v":"UK"},{"$f":"VLOOKUP(F1488,Soutez!A:C,3,FALSE)","v":2022},11,1823,1.0549999999999999,3166,3340,null,null,"ASG 29 E","K","Není v databázi"]
["Diana Schuit",null,null,"Luxembourg",null,"WWGC 2022 - 18m",{"$f":"VLOOKUP(F1489,Soutez!A:B,2,FALSE)","v":"UK"},{"$f":"VLOOKUP(F1489,Soutez!A:C,3,FALSE)","v":2022},12,1789,1.0549999999999999,2839,2995,null,null,"JS 3","MM","Není v databázi"]
["Maros Divok",null,null,"AK Spišská Nová Ves",null,"PMSR 2022 - Klub",{"$f":"VLOOKUP(F1490,Soutez!A:B,2,FALSE)","v":"SK"},{"$f":"VLOOKUP(F1490,Soutez!A:C,3,FALSE)","v":2022},1,8577,0.93500000000000005,{"$f":"ROUND(J1490/MAX($J$1490:$J$1505)*10000*0.7+(MAX($I$1490:$I$1505)-I1490)/(MAX($I$1490:$I$1505)-1)*10000*0.3,0)","v":10000},{"$f":"ROUND(K1490*L1490,0)","v":9350},null,null,"Discus b","D3",{"$f":"IF(ISERROR(VLOOKUP(A1490,Pilot,6,0)),\"Není v databázi\",VLOOKUP(A1490,Pilot,6,0))","v":"Není v databázi"}]
["Josef Kozar",null,null,"AK Martin",null,"PMSR 2022 - Klub",{"$f":"VLOOKUP(F1491,Soutez!A:B,2,FALSE)","v":"SK"},{"$f":"VLOOKUP(F1491,Soutez!A:C,3,FALSE)","v":2022},2,8418,0.93500000000000005,{"$f":"ROUND(J1491/MAX($J$1490:$J$1505)*10000*0.7+(MAX($I$1490:$I$1505)-I1491)/(MAX($I$1490:$I$1505)-1)*10000*0.3,0)","v":9670},{"$f":"ROUND(K1491*L1491,0)","v":9041},null,null,"LS 1 f","MF","Není v databázi"]
["Milan Surovcik Jr.",null,null,"Žilina",null,"PMSR 2022 - Klub",{"$f":"VLOOKUP(F1492,Soutez!A:B,2,FALSE)","v":"SK"},{"$f":"VLOOKUP(F1492,Soutez!A:C,3,FALSE)","v":2022},3,8233,0.93500000000000005,9319,8713,null,null,"ASW 20","S","Není v databázi"]
["Samuel Posluch",null,null,"AK Martin",null,"PMSR 2022 - Klub",{"$f":"VLOOKUP(F1493,Soutez!A:B,2,FALSE)","v":"SK"},{"$f":"VLOOKUP(F1493,Soutez!A:C,3,FALSE)","v":2022},4,8054,0.93500000000000005,8973,8390,null,null,"ASW 20","II","Není v databázi"]
["Marek Straka",null,null,"AK Dubnica",null,"PMSR 2022 - Klub",{"$f":"VLOOKUP(F1494,Soutez!A:B,2,FALSE)","v":"SK"},{"$f":"VLOOKUP(F1494,Soutez!A:C,3,FALSE)","v":2022},5,7636,0.93500000000000005,8432,7884,null,null,"LS 3","AI","Není v databázi"]
["Tibor Noga",null,null,"SGC Martin",null,"PMSR 2022 - Klub",{"$f":"VLOOKUP(F1495,Soutez!A:B,2,FALSE)","v":"SK"},{"$f":"VLOOKUP(F1495,Soutez!A:C,3,FALSE)","v":2022},6,7601,0.93500000000000005,8203,7670,null,null,"ASW 19B","A4","Není v databázi"]
["Miroslav Beliansky",null,null,"AK Bratislava",null,"PMSR 2022 - Klub",{"$f":"VLOOKUP(F1496,Soutez!A:B,2,FALSE)","v":"SK"},{"$f":"VLOOKUP(F1496,Soutez!A:C,3,FALSE)","v":2022},7,7482,0.93500000000000005,7906,7392,null,null,"Pegase","OT","Není v databázi"]
["Edmund Schuller",null,null,"AK Lučenec",null,"PMSR 2022 - Klub",{"$f":"VLOOKUP(F1497,Soutez!A:B,2,FALSE)","v":"SK"},{"$f":"VLOOKUP(F1497,Soutez!A:C,3,FALSE)","v":2022},8,7072,{"$f":"VLOOKUP(F1497,Soutez,12,0)","v":0.93500000000000005},7372,6893,null,null,"ASW 24 W","ZS","Není v databázi"]
["Simon Siska",null,null,"SGC Martin",null,"PMSR 2022 - Klub",{"$f":"VLOOKUP(F1498,Soutez!A:B,2,FALSE)","v":"SK"},{"$f":"VLOOKUP(F1498,Soutez!A:C,3,FALSE)","v":2022},9,6911,0.93500000000000005,7040,6582,null,null,"ASW 24","CK","Není v databázi"]
["Martin Sabla",null,null,"AK Sp. Nova Ves",null,"PMSR 2022 - Klub",{"$f":"VLOOKUP(F1499,Soutez!A:B,2,FALSE)","v":"SK"},{"$f":"VLOOKUP(F1499,Soutez!A:C,3,FALSE)","v":2022},10,6479,0.93500000000000005,6488,6066,null,null,"Discus B",70,"Není v databázi"]
["Daniel Smolka",null,null,"AK Prievidza",null,"PMSR 2022 - Klub",{"$f":"VLOOKUP(F1500,Soutez!A:B,2,FALSE)","v":"SK"},{"$f":"VLOOKUP(F1500,Soutez!A:C,3,FALSE)","v":2022},11,6369,0.93500000000000005,6198,5795,null,null,"ASW20","MP","Není v databázi"]
["Tibor Fratrik",null,null,"SGC Martin",null,"PMSR 2022 - Klub",{"$f":"VLOOKUP(F1501,Soutez!A:B,2,FALSE)","v":"SK"},{"$f":"VLOOKUP(F1501,Soutez!A:C,3,FALSE)","v":2022},12,5993,0.93500000000000005,5691,5321,null,null,"ASW 20 CJ","VG","Není v databázi"]
["Jan Florian",{"$f":"VLOOKUP(A1502,Pilot,2,0)","v":1992},{"$f":"VLOOKUP(A1502,Pilot,5,0)","v":"M"},{"$f":"VLOOKUP(A1502,Pilot,3,0)","v":"Zbraslavice"},{"$f":"VLOOKUP(A1502,Pilot,4,0)","v":"CZ/C1"},"PMSR 2022 - Klub",{"$f":"VLOOKUP(F1502,Soutez!A:B,2,FALSE)","v":"SK"},{"$f":"VLOOKUP(F1502,Soutez!A:C,3,FALSE)","v":2022},13,5847,0.93500000000000005,5372,5023,null,null,"Std. Cirrus","C1",""]
["Juraj Sidor",null,null,"AK Holic",null,"PMSR 2022 - Klub",{"$f":"VLOOKUP(F1503,Soutez!A:B,2,FALSE)","v":"SK"},{"$f":"VLOOKUP(F1503,Soutez!A:C,3,FALSE)","v":2022},14,5831,0.93500000000000005,5159,4824,null,null,"Std. Cirrus","NM","Není v databázi"]
["Jan Hlinka",null,null,"AK Martin",null,"PMSR 2022 - Klub",{"$f":"VLOOKUP(F1504,Soutez!A:B,2,FALSE)","v":"SK"},{"$f":"VLOOKUP(F1504,Soutez!A:C,3,FALSE)","v":2022},15,5692,0.93500000000000005,4845,4530,null,null,"LS 4","MA","Není v databázi"]
["Igor Berko",null,null,"AK SNV",null,"PMSR 2022 - Klub",{"$f":"VLOOKUP(F1505,Soutez!A:B,2,FALSE)","v":"SK"},{"$f":"VLOOKUP(F1505,Soutez!A:C,3,FALSE)","v":2022},16,1422,0.93500000000000005,1161,1086,null,null,"Std. Cirrus","SA","Není v databázi"]
["Barbora Moravcova",{"$f":"VLOOKUP(A1506,Pilot,2,0)","v":1994},{"$f":"VLOOKUP(A1506,Pilot,5,0)","v":"F"},{"$f":"VLOOKUP(A1506,Pilot,3,0)","v":"Zbraslavice"},{"$f":"VLOOKUP(A1506,Pilot,4,0)","v":"CZ/C1"},"PMSR 2022 - Kombi A+B",{"$f":"VLOOKUP(F1506,Soutez!A:B,2,FALSE)","v":"SK"},{"$f":"VLOOKUP(F1506,Soutez!A:C,3,FALSE)","v":2022},1,7535,0.93500000000000005,{"$f":"ROUND(J1506/MAX($J$1506:$J$1529)*10000*0.7+(MAX($I$1506:$I$1529)-I1506)/(MAX($I$1506:$I$1529)-1)*10000*0.3,0)","v":10000},{"$f":"ROUND(K1506*L1506,0)","v":9350},"x","x","Ls 8a-15m","EU",""]
["Viliam Kubovcik",null,null,"AK Poprad",null,"PMSR 2022 - Kombi A+B",{"$f":"VLOOKUP(F1507,Soutez!A:B,2,FALSE)","v":"SK"},{"$f":"VLOOKUP(F1507,Soutez!A:C,3,FALSE)","v":2022},2,7262,0.93500000000000005,9616,{"$f":"ROUND(K1507*L1507,0)","v":8991},null,null,"Ventus 2cxt","VV","Není v databázi"]
["Martin Fürjes",null,null,"SGC Martin",null,"PMSR 2022 - Kombi A+B",{"$f":"VLOOKUP(F1508,Soutez!A:B,2,FALSE)","v":"SK"},{"$f":"VLOOKUP(F1508,Soutez!A:C,3,FALSE)","v":2022},3,7156,0.93500000000000005,9387,8777,null,null,"JS 3/ 18",3,"Není v databázi"]
["Dana Novakova",{"$f":"VLOOKUP(A1509,Pilot,2,0)","v":1965},{"$f":"VLOOKUP(A1509,Pilot,5,0)","v":"F"},{"$f":"VLOOKUP(A1509,Pilot,3,0)","v":"Mladá Boleslav"},{"$f":"VLOOKUP(A1509,Pilot,4,0)","v":"CZ/C1"},"PMSR 2022 - Kombi A+B",{"$f":"VLOOKUP(F1509,Soutez!A:B,2,FALSE)","v":"SK"},{"$f":"VLOOKUP(F1509,Soutez!A:C,3,FALSE)","v":2022},4,7009,0.93500000000000005,9120,8527,"x",null,"LS 8a-15m","AU",""]
["Dominik Jancik",null,null,"AK Nitra",null,"PMSR 2022 - Kombi A+B",{"$f":"VLOOKUP(F1510,Soutez!A:B,2,FALSE)","v":"SK"},{"$f":"VLOOKUP(F1510,Soutez!A:C,3,FALSE)","v":2022},5,6946,0.93500000000000005,8931,8350,null,null,"LS6a","GI","Není v databázi"]
["Petro & Snirc",null,null,"AK Nitra",null,"PMSR 2022 - Kombi A+B",{"$f":"VLOOKUP(F1511,Soutez!A:B,2,FALSE)","v":"SK"},{"$f":"VLOOKUP(F1511,Soutez!A:C,3,FALSE)","v":2022},6,6916,0.93500000000000005,8773,8203,null,null,"DG 1000T","NIT","Není v databázi"]
["Marek Pechanec",{"$f":"VLOOKUP(A1512,Pilot,2,0)","v":1970},{"$f":"VLOOKUP(A1512,Pilot,5,0)","v":"M"},{"$f":"VLOOKUP(A1512,Pilot,3,0)","v":"Luhačovice"},{"$f":"VLOOKUP(A1512,Pilot,4,0)","v":"CZ/M"},"PMSR 2022 - Kombi A+B",{"$f":"VLOOKUP(F1512,Soutez!A:B,2,FALSE)","v":"SK"},{"$f":"VLOOKUP(F1512,Soutez!A:C,3,FALSE)","v":2022},7,6850,0.93500000000000005,8581,8023,"x",null,"JS 3","Q1",""]
["Peter Pokorny",null,null,"AK Bratislava",null,"PMSR 2022 - Kombi A+B",{"$f":"VLOOKUP(F1513,Soutez!A:B,2,FALSE)","v":"SK"},{"$f":"VLOOKUP(F1513,Soutez!A:C,3,FALSE)","v":2022},8,6726,0.93500000000000005,8335,7793,null,null,"AG 39E","9E","Není v databázi"]
["Tomas Bobok",null,null,"AK Prievidza",null,"PMSR 2022 - Kombi A+B",{"$f":"VLOOKUP(F1514,Soutez!A:B,2,FALSE)","v":"SK"},{"$f":"VLOOKUP(F1514,Soutez!A:C,3,FALSE)","v":2022},9,6708,0.93500000000000005,8188,7656,null,null,"Discus 2ct","AL","Není v databázi"]
["Jan Kovalcik",null,null,"AK Bratislava",null,"PMSR 2022 - Kombi A+B",{"$f":"VLOOKUP(F1515,Soutez!A:B,2,FALSE)","v":"SK"},{"$f":"VLOOKUP(F1515,Soutez!A:C,3,FALSE)","v":2022},10,6645,0.93500000000000005,7999,7479,null,null,"Discus 2C FES","ZI","Není v databázi"]
["Petr Krejcirik",{"$f":"VLOOKUP(A1516,Pilot,2,0)","v":1960},{"$f":"VLOOKUP(A1516,Pilot,5,0)","v":"M"},{"$f":"VLOOKUP(A1516,Pilot,3,0)","v":"Hranice"},{"$f":"VLOOKUP(A1516,Pilot,4,0)","v":"CZ/M"},"PMSR 2022 - Kombi A+B",{"$f":"VLOOKUP(F1516,Soutez!A:B,2,FALSE)","v":"SK"},{"$f":"VLOOKUP(F1516,Soutez!A:C,3,FALSE)","v":2022},11,6550,0.93500000000000005,7781,{"$f":"ROUND(K1516*L1516,0)","v":7275},null,null,"JS MD-3","VB",""]
["Eduard Niko",1988,"M","Zbraslavice","CZ/C1","PMSR 2022 - Kombi A+B",{"$f":"VLOOKUP(F1517,Soutez!A:B,2,FALSE)","v":"SK"},{"$f":"VLOOKUP(F1517,Soutez!A:C,3,FALSE)","v":2022},12,6298,0.93500000000000005,7416,6934,null,null,"Duo Discus","DP",""]
["Ivan Novak",1962,"M","Mladá Boleslav","CZ/C1","PMSR 2022 - Kombi A+B",{"$f":"VLOOKUP(F1518,Soutez!A:B,2,FALSE)","v":"SK"},{"$f":"VLOOKUP(F1518,Soutez!A:C,3,FALSE)","v":2022},13,6189,0.93500000000000005,7184,6717,null,null,"ASG-29 18m","QZ",""]
["Martin Jurovic",null,null,"AK Bratislava",null,"PMSR 2022 - Kombi A+B",{"$f":"VLOOKUP(F1519,Soutez!A:B,2,FALSE)","v":"SK"},{"$f":"VLOOKUP(F1519,Soutez!A:C,3,FALSE)","v":2022},14,5970,0.93500000000000005,6850,6405,null,null,"Ventus cT 17.6m","JQ","Není v databázi"]
["Ivan Bajana",null,null,"SGC Martin",null,"PMSR 2022 - Kombi A+B",{"$f":"VLOOKUP(F1520,Soutez!A:B,2,FALSE)","v":"SK"},{"$f":"VLOOKUP(F1520,Soutez!A:C,3,FALSE)","v":2022},15,5556,0.93500000000000005,6335,5923,null,null,"Discus 2","DI","Není v databázi"]
["Jan Divok",null,null,"AK Spišská Nová Ves",null,"PMSR 2022 - Kombi A+B",{"$f":"VLOOKUP(F1521,Soutez!A:B,2,FALSE)","v":"SK"},{"$f":"VLOOKUP(F1521,Soutez!A:C,3,FALSE)","v":2022},16,5228,0.93500000000000005,5900,5517,null,null,"Discus 2cT","DJ","Není v databázi"]
["Milos Srank",null,null,"AK Nové Zámky",null,"PMSR 2022 - Kombi A+B",{"$f":"VLOOKUP(F1522,Soutez!A:B,2,FALSE)","v":"SK"},{"$f":"VLOOKUP(F1522,Soutez!A:C,3,FALSE)","v":2022},17,5224,0.93500000000000005,5766,5391,null,null,"ASG 29E","LK","Není v databázi"]
["Gabriela Belakova",null,null,"AK Prievidza",null,"PMSR 2022 - Kombi A+B",{"$f":"VLOOKUP(F1523,Soutez!A:B,2,FALSE)","v":"SK"},{"$f":"VLOOKUP(F1523,Soutez!A:C,3,FALSE)","v":2022},18,5168,0.93500000000000005,5584,5221,null,null,"Ventus 3M","CAT","Není v databázi"]
["Milan Lojdl",null,null,"AK Martin",null,"PMSR 2022 - Kombi A+B",{"$f":"VLOOKUP(F1524,Soutez!A:B,2,FALSE)","v":"SK"},{"$f":"VLOOKUP(F1524,Soutez!A:C,3,FALSE)","v":2022},19,5116,0.93500000000000005,5405,5054,null,null,"Ventus 2cxt","MJ1","Není v databázi"]
["Kollar & Kromka",null,null,"AK Poprad",null,"PMSR 2022 - Kombi A+B",{"$f":"VLOOKUP(F1525,Soutez!A:B,2,FALSE)","v":"SK"},{"$f":"VLOOKUP(F1525,Soutez!A:C,3,FALSE)","v":2022},20,5075,0.93500000000000005,5236,4896,null,null,"Arcus M","TA3","Není v databázi"]
["Peter Abonyi",null,null,"AK Ružomberok",null,"PMSR 2022 - Kombi A+B",{"$f":"VLOOKUP(F1526,Soutez!A:B,2,FALSE)","v":"SK"},{"$f":"VLOOKUP(F1526,Soutez!A:C,3,FALSE)","v":2022},21,4874,0.93500000000000005,4919,4599,null,null,"Ventus C","PA","Není v databázi"]
["Lubomir Doupal",{"$f":"VLOOKUP(A1527,Pilot,2,0)","v":1975},{"$f":"VLOOKUP(A1527,Pilot,5,0)","v":"M"},{"$f":"VLOOKUP(A1527,Pilot,3,0)","v":"Kroměříž"},{"$f":"VLOOKUP(A1527,Pilot,4,0)","v":"CZ/M"},"PMSR 2022 - Kombi A+B",{"$f":"VLOOKUP(F1527,Soutez!A:B,2,FALSE)","v":"SK"},{"$f":"VLOOKUP(F1527,Soutez!A:C,3,FALSE)","v":2022},22,4531,0.93500000000000005,4470,4179,"x",null,"Ventus 2cxM","LD",""]
["Viktoria Divokova",null,null,"Spišska Nová Ves",null,"PMSR 2022 - Kombi A+B",{"$f":"VLOOKUP(F1528,Soutez!A:B,2,FALSE)","v":"SK"},{"$f":"VLOOKUP(F1528,Soutez!A:C,3,FALSE)","v":2022},23,2226,0.93500000000000005,2198,2055,null,null,"LS 8 neo","SI","Není v databázi"]
["Lukas Benedikt",null,null,"AK Trnava",null,"PMSR 2022 - Kombi A+B",{"$f":"VLOOKUP(F1529,Soutez!A:B,2,FALSE)","v":"SK"},{"$f":"VLOOKUP(F1529,Soutez!A:C,3,FALSE)","v":2022},24,710,0.93500000000000005,660,617,null,null,"Ventus 3f","LB","Není v databázi"]
["Viktor Romancik",null,null,"AK Bratislava",null,"Oldtimer Pribina Star 2022 - Klub",{"$f":"VLOOKUP(F1530,Soutez!A:B,2,FALSE)","v":"SK"},{"$f":"VLOOKUP(F1530,Soutez!A:C,3,FALSE)","v":2022},1,1944,{"$f":"VLOOKUP(F1530,Soutez,12,0)","v":0.75},{"$f":"ROUND(J1530/MAX($J$1530:$J$1545)*10000*0.7+(MAX($I$1530:$I$1545)-I1530)/(MAX($I$1530:$I$1545)-1)*10000*0.3,0)","v":10000},{"$f":"ROUND(K1530*L1530,0)","v":7500},null,null,"H-201b Std. Libelle","RR",{"$f":"IF(ISERROR(VLOOKUP(A1530,Pilot,6,0)),\"Není v databázi\",VLOOKUP(A1530,Pilot,6,0))","v":"Není v databázi"}]
["Sadovsky & Cmar",null,null,"AK Nitra",null,"Oldtimer Pribina Star 2022 - Klub",{"$f":"VLOOKUP(F1531,Soutez!A:B,2,FALSE)","v":"SK"},{"$f":"VLOOKUP(F1531,Soutez!A:C,3,FALSE)","v":2022},2,1933,{"$f":"VLOOKUP(F1531,Soutez,12,0)","v":0.75},9746,{"$f":"ROUND(K1531*L1531,0)","v":7310},null,null,"L-13 Blaník",13,"Není v databázi"]
["Marian Szabó",null,null,"Air Sympatia Trenčín",null,"Oldtimer Pribina Star 2022 - Klub",{"$f":"VLOOKUP(F1532,Soutez!A:B,2,FALSE)","v":"SK"},{"$f":"VLOOKUP(F1532,Soutez!A:C,3,FALSE)","v":2022},3,1789,0.75,9013,6760,null,null,"VT-116 Orlík II",84,"Není v databázi"]
["Vladimir Abraham",{"$f":"VLOOKUP(A1533,Pilot,2,0)","v":1962},{"$f":"VLOOKUP(A1533,Pilot,5,0)","v":"M"},{"$f":"VLOOKUP(A1533,Pilot,3,0)","v":"Raná"},{"$f":"VLOOKUP(A1533,Pilot,4,0)","v":"CZ/C2"},"Oldtimer Pribina Star 2022 - Klub",{"$f":"VLOOKUP(F1533,Soutez!A:B,2,FALSE)","v":"SK"},{"$f":"VLOOKUP(F1533,Soutez!A:C,3,FALSE)","v":2022},4,1757,0.75,8684,6513,"x",null,"KA-6CR","Y7",""]
["Peter Ille",null,null,"AK Žilina",null,"Oldtimer Pribina Star 2022 - Klub",{"$f":"VLOOKUP(F1534,Soutez!A:B,2,FALSE)","v":"SK"},{"$f":"VLOOKUP(F1534,Soutez!A:C,3,FALSE)","v":2022},5,1647,0.75,8073,6055,null,null,"VSO-10","D5","Není v databázi"]
["Norbert Karolyi",null,null,"AK Bratislava",null,"Oldtimer Pribina Star 2022 - Klub",{"$f":"VLOOKUP(F1535,Soutez!A:B,2,FALSE)","v":"SK"},{"$f":"VLOOKUP(F1535,Soutez!A:C,3,FALSE)","v":2022},6,1573,0.75,7593,5695,null,null,"SZD-36 Cobra 15","NK","Není v databázi"]
["Ille & Homola",null,null,"AK Senica",null,"Oldtimer Pribina Star 2022 - Klub",{"$f":"VLOOKUP(F1536,Soutez!A:B,2,FALSE)","v":"SK"},{"$f":"VLOOKUP(F1536,Soutez!A:C,3,FALSE)","v":2022},7,1537,0.75,7249,5437,null,null,"G-103 Twin Astir",13,"Není v databázi"]
["Radovan Uhelsky",null,null,"AK Nové Zámky",null,"Oldtimer Pribina Star 2022 - Klub",{"$f":"VLOOKUP(F1537,Soutez!A:B,2,FALSE)","v":"SK"},{"$f":"VLOOKUP(F1537,Soutez!A:C,3,FALSE)","v":2022},8,1485,0.75,6847,5135,null,null,"H-201b Std. Libelle","SB","Není v databázi"]
["Holak & Lajda",null,null,"AK Nitra",null,"Oldtimer Pribina Star 2022 - Klub",{"$f":"VLOOKUP(F1538,Soutez!A:B,2,FALSE)","v":"SK"},{"$f":"VLOOKUP(F1538,Soutez!A:C,3,FALSE)","v":2022},9,1455,{"$f":"VLOOKUP(F1538,Soutez,12,0)","v":0.75},6525,4894,null,null,"L-23 Super Blaník",23,"Není v databázi"]
["Ivana Jurovicova",null,null,"AK Bratislava",null,"Oldtimer Pribina Star 2022 - Klub",{"$f":"VLOOKUP(F1539,Soutez!A:B,2,FALSE)","v":"SK"},{"$f":"VLOOKUP(F1539,Soutez!A:C,3,FALSE)","v":2022},10,1333,0.75,5871,4403,null,null,"H-201 Std. Libelle","J2","Není v databázi"]
["Lucia Uhelska",null,null,"AK Nové Zámky",null,"Oldtimer Pribina Star 2022 - Klub",{"$f":"VLOOKUP(F1540,Soutez!A:B,2,FALSE)","v":"SK"},{"$f":"VLOOKUP(F1540,Soutez!A:C,3,FALSE)","v":2022},11,950,0.75,4278,{"$f":"ROUND(K1540*L1540,0)","v":3209},null,null,"VT-116 Orlík II","LU","Není v databázi"]
["Jaroslav Kares",1962,"M",{"$f":"VLOOKUP(A1541,Pilot,3,0)","v":"Olomouc"},{"$f":"VLOOKUP(A1541,Pilot,4,0)","v":"CZ/M"},"Oldtimer Pribina Star 2022 - Klub",{"$f":"VLOOKUP(F1541,Soutez!A:B,2,FALSE)","v":"SK"},{"$f":"VLOOKUP(F1541,Soutez!A:C,3,FALSE)","v":2022},12,628,0.75,2904,2178,"x",null,"SF 27A",26,""]
["Peter Pätoprsty",null,null,null,null,"Oldtimer Pribina Star 2022 - Klub",{"$f":"VLOOKUP(F1542,Soutez!A:B,2,FALSE)","v":"SK"},{"$f":"VLOOKUP(F1542,Soutez!A:C,3,FALSE)","v":2022},13,434,0.75,1991,1493,null,null,"ASW-15B","RM","Není v databázi"]
["Frantisek Ehn",null,null,"AK Nitra",null,"Oldtimer Pribina Star 2022 - Klub",{"$f":"VLOOKUP(F1543,Soutez!A:B,2,FALSE)","v":"SK"},{"$f":"VLOOKUP(F1543,Soutez!A:C,3,FALSE)","v":2022},14,129,0.75,679,509,null,null,"Pegase",101,"Není v databázi"]
["Igor Ott",null,null,"AK Nitra",null,"Oldtimer Pribina Star 2022 - Klub",{"$f":"VLOOKUP(F1544,Soutez!A:B,2,FALSE)","v":"SK"},{"$f":"VLOOKUP(F1544,Soutez!A:C,3,FALSE)","v":2022},15,0,0.75,0,0,null,null,"LG-425 Šohaj","N","Není v databázi"]
["Jozef Ott",null,null,"AK Nitra",null,"Oldtimer Pribina Star 2022 - Klub",{"$f":"VLOOKUP(F1545,Soutez!A:B,2,FALSE)","v":"SK"},{"$f":"VLOOKUP(F1545,Soutez!A:C,3,FALSE)","v":2022},15,0,0.75,0,0,null,null,"Z-23 Honza",null,"Není v databázi"]
["Kollar & Kromka",null,null,"Poprad",null,"Top Gun 2022 - Kombi",{"$f":"VLOOKUP(F1546,Soutez!A:B,2,FALSE)","v":"SK"},{"$f":"VLOOKUP(F1546,Soutez!A:C,3,FALSE)","v":2022},1,3549,{"$f":"VLOOKUP(F1546,Soutez,12,0)","v":0},{"$f":"ROUND(J1546/MAX($J$1546:$J$1553)*10000*0.7+(MAX($I$1546:$I$1553)-I1546)/(MAX($I$1546:$I$1553)-1)*10000*0.3,0)","v":10000},{"$f":"ROUND(K1546*L1546,0)","v":0},null,null,"Arcus M","TA3","Není v databázi"]
["Drahos Sitar",null,null,"Aeroklub Prievidza",null,"Top Gun 2022 - Kombi",{"$f":"VLOOKUP(F1547,Soutez!A:B,2,FALSE)","v":"SK"},{"$f":"VLOOKUP(F1547,Soutez!A:C,3,FALSE)","v":2022},2,3282,{"$f":"VLOOKUP(F1547,Soutez,12,0)","v":0},9045,{"$f":"ROUND(K1547*L1547,0)","v":0},null,null,"Duo Discus - 700 kg","DP","Není v databázi"]
["Jakubcak & Sulirova",null,null,null,null,"Top Gun 2022 - Kombi",{"$f":"VLOOKUP(F1548,Soutez!A:B,2,FALSE)","v":"SK"},{"$f":"VLOOKUP(F1548,Soutez!A:C,3,FALSE)","v":2022},3,3054,0,8167,0,null,null,"Arcus M","CAR","Není v databázi"]
["Pavel Trojan",1960,"M",{"$f":"VLOOKUP(A1549,Pilot,3,0)","v":"Chrudim"},{"$f":"VLOOKUP(A1549,Pilot,4,0)","v":"CZ/C2"},"Top Gun 2022 - Kombi",{"$f":"VLOOKUP(F1549,Soutez!A:B,2,FALSE)","v":"SK"},{"$f":"VLOOKUP(F1549,Soutez!A:C,3,FALSE)","v":2022},4,2841,{"$f":"VLOOKUP(F1549,Soutez,12,0)","v":0},7318,0,null,null,"DG-808 C Competition 18m WL","W",""]
["Lubomir Doupal",1975,"M","Kroměříž","CZ/M","Top Gun 2022 - Kombi",{"$f":"VLOOKUP(F1550,Soutez!A:B,2,FALSE)","v":"SK"},{"$f":"VLOOKUP(F1550,Soutez!A:C,3,FALSE)","v":2022},5,2578,0,6371,0,null,null,"Ventus 2cxm 18m-565 kg","LD",""]
["Lukas Benedikt",null,null,"Trnava",null,"Top Gun 2022 - Kombi",{"$f":"VLOOKUP(F1551,Soutez!A:B,2,FALSE)","v":"SK"},{"$f":"VLOOKUP(F1551,Soutez!A:C,3,FALSE)","v":2022},6,2424,0,5638,{"$f":"ROUND(K1551*L1551,0)","v":0},null,null,"Ventus 3F - 18m","LB","Není v databázi"]
["Jan Keher",null,null,"Prievidza",null,"Top Gun 2022 - Kombi",{"$f":"VLOOKUP(F1552,Soutez!A:B,2,FALSE)","v":"SK"},{"$f":"VLOOKUP(F1552,Soutez!A:C,3,FALSE)","v":2022},7,2302,0,4969,0,null,null,"Discus 2cT /18m","EF","Není v databázi"]
["Jirka & Hornak",null,null,null,null,"Top Gun 2022 - Kombi",{"$f":"VLOOKUP(F1553,Soutez!A:B,2,FALSE)","v":"SK"},{"$f":"VLOOKUP(F1553,Soutez!A:C,3,FALSE)","v":2022},8,2038,0,4020,0,null,null,"HPH 304 TS Twin Shark S",11,"Není v databázi"]
["Milan SUROVCIK Jr.",null,null,"Žilina",null,"Fatraglide 2022 - Klub",{"$f":"VLOOKUP(F1554,Soutez!A:B,2,FALSE)","v":"SK"},{"$f":"VLOOKUP(F1554,Soutez!A:C,3,FALSE)","v":2022},1,3905,{"$f":"VLOOKUP(F1554,Soutez,12,0)","v":0.76},{"$f":"ROUND(J1554/MAX($J$1554:$J$1569)*10000*0.7+(MAX($I$1554:$I$1569)-I1554)/(MAX($I$1554:$I$1569)-1)*10000*0.3,0)","v":10000},{"$f":"ROUND(K1554*L1554,0)","v":7600},null,null,"ASW 20","S","Není v databázi"]
["Simon SISKA",null,null,"AK MARTIN",null,"Fatraglide 2022 - Klub",{"$f":"VLOOKUP(F1555,Soutez!A:B,2,FALSE)","v":"SK"},{"$f":"VLOOKUP(F1555,Soutez!A:C,3,FALSE)","v":2022},2,3731,{"$f":"VLOOKUP(F1555,Soutez,12,0)","v":0.76},9488,{"$f":"ROUND(K1555*L1555,0)","v":7211},null,null,"ASW 24 WL","CK","Není v databázi"]
["Samuel POSLUCH",null,null,"AK MARTIN",null,"Fatraglide 2022 - Klub",{"$f":"VLOOKUP(F1556,Soutez!A:B,2,FALSE)","v":"SK"},{"$f":"VLOOKUP(F1556,Soutez!A:C,3,FALSE)","v":2022},3,3678,0.76,9193,6987,null,null,"ASW 20","II","Není v databázi"]
["Tibor NOGA",null,null,"SGC Martin",null,"Fatraglide 2022 - Klub",{"$f":"VLOOKUP(F1557,Soutez!A:B,2,FALSE)","v":"SK"},{"$f":"VLOOKUP(F1557,Soutez!A:C,3,FALSE)","v":2022},4,3358,{"$f":"VLOOKUP(F1557,Soutez,12,0)","v":0.76},8419,6398,null,null,"ASW 19 B","A4","Není v databázi"]
["Michal Cupak",{"$f":"VLOOKUP(A1558,Pilot,2,0)","v":1991},{"$f":"VLOOKUP(A1558,Pilot,5,0)","v":"M"},{"$f":"VLOOKUP(A1558,Pilot,3,0)","v":"Medlánky"},{"$f":"VLOOKUP(A1558,Pilot,4,0)","v":"CZ/M"},"Fatraglide 2022 - Klub",{"$f":"VLOOKUP(F1558,Soutez!A:B,2,FALSE)","v":"SK"},{"$f":"VLOOKUP(F1558,Soutez!A:C,3,FALSE)","v":2022},5,2915,0.76,7425,5643,"x",null,"Std. Cirrus","A7",""]
["Marek STRAKA",null,null,"AK DUBNICA N.VAHOM",null,"Fatraglide 2022 - Klub",{"$f":"VLOOKUP(F1559,Soutez!A:B,2,FALSE)","v":"SK"},{"$f":"VLOOKUP(F1559,Soutez!A:C,3,FALSE)","v":2022},6,2856,0.76,7120,{"$f":"ROUND(K1559*L1559,0)","v":5411},null,null,"LS 3","AI","Není v databázi"]
["Jan Sponer",{"$f":"VLOOKUP(A1560,Pilot,2,0)","v":1988},{"$f":"VLOOKUP(A1560,Pilot,5,0)","v":"M"},{"$f":"VLOOKUP(A1560,Pilot,3,0)","v":"Medlánky"},{"$f":"VLOOKUP(A1560,Pilot,4,0)","v":"CZ/M"},"Fatraglide 2022 - Klub",{"$f":"VLOOKUP(F1560,Soutez!A:B,2,FALSE)","v":"SK"},{"$f":"VLOOKUP(F1560,Soutez!A:C,3,FALSE)","v":2022},7,2757,0.76,6742,5124,"x",null,"Std. Cirrus","EX",""]
["Peter SEDMAK",null,null,"AK MARTIN",null,"Fatraglide 2022 - Klub",{"$f":"VLOOKUP(F1561,Soutez!A:B,2,FALSE)","v":"SK"},{"$f":"VLOOKUP(F1561,Soutez!A:C,3,FALSE)","v":2022},8,2129,0.76,5416,4116,null,null,"LS 4","MA","Není v databázi"]
["Lubomir Belusko",null,null,"AK PRESOV",null,"Fatraglide 2022 - Klub",{"$f":"VLOOKUP(F1562,Soutez!A:B,2,FALSE)","v":"SK"},{"$f":"VLOOKUP(F1562,Soutez!A:C,3,FALSE)","v":2022},9,2083,0.76,5134,3902,null,null,"Pegase 101D","HS","Není v databázi"]
["Peter GOSSANYI",null,null,"AK NOVE ZAMKY",null,"Fatraglide 2022 - Klub",{"$f":"VLOOKUP(F1563,Soutez!A:B,2,FALSE)","v":"SK"},{"$f":"VLOOKUP(F1563,Soutez!A:C,3,FALSE)","v":2022},10,2047,0.76,4869,3700,null,null,"Discus CS","VP","Není v databázi"]
["Peter GASPAROVIC",null,null,"SGC MARTIN",null,"Fatraglide 2022 - Klub",{"$f":"VLOOKUP(F1564,Soutez!A:B,2,FALSE)","v":"SK"},{"$f":"VLOOKUP(F1564,Soutez!A:C,3,FALSE)","v":2022},11,1844,0.76,4306,3273,null,null,"Std. Cirrus WL","LX","Není v databázi"]
["Martin MARINCAK",null,null,"AK PRESOV",null,"Fatraglide 2022 - Klub",{"$f":"VLOOKUP(F1565,Soutez!A:B,2,FALSE)","v":"SK"},{"$f":"VLOOKUP(F1565,Soutez!A:C,3,FALSE)","v":2022},12,1829,0.76,4079,3100,null,null,"Std. Cirrus","CV","Není v databázi"]
["Miroslav BELIANSKY",null,null,"AK BRATISLAVA",null,"Fatraglide 2022 - Klub",{"$f":"VLOOKUP(F1566,Soutez!A:B,2,FALSE)","v":"SK"},{"$f":"VLOOKUP(F1566,Soutez!A:C,3,FALSE)","v":2022},13,1428,0.76,3160,2402,null,null,"Pegase 101A","OT","Není v databázi"]
["Peter USIAK",null,null,"AK BANSKA BYSTRICA",null,"Fatraglide 2022 - Klub",{"$f":"VLOOKUP(F1567,Soutez!A:B,2,FALSE)","v":"SK"},{"$f":"VLOOKUP(F1567,Soutez!A:C,3,FALSE)","v":2022},14,1249,0.76,2639,2006,null,null,"Astir CS 77","WW","Není v databázi"]
["GABOR BORS",null,null,"OPITZ",null,"Fatraglide 2022 - Klub",{"$f":"VLOOKUP(F1568,Soutez!A:B,2,FALSE)","v":"SK"},{"$f":"VLOOKUP(F1568,Soutez!A:C,3,FALSE)","v":2022},15,675,0.76,1410,1072,null,null,"Mini Nimbus","SU","Není v databázi"]
["ALBERT HACKL",null,null,"OPITZ",null,"Fatraglide 2022 - Klub",{"$f":"VLOOKUP(F1569,Soutez!A:B,2,FALSE)","v":"SK"},{"$f":"VLOOKUP(F1569,Soutez!A:C,3,FALSE)","v":2022},16,367,0.76,658,500,null,null,"Astir CS Top","PC","Není v databázi"]
["Viliam KUBOVCIK",null,null,"AK POPRAD",null,"Fatraglide 2022 - Kombi",{"$f":"VLOOKUP(F1570,Soutez!A:B,2,FALSE)","v":"SK"},{"$f":"VLOOKUP(F1570,Soutez!A:C,3,FALSE)","v":2022},1,3375,{"$f":"VLOOKUP(F1570,Soutez,12,0)","v":0.76500000000000001},{"$f":"ROUND(J1570/MAX($J$1570:$J$1579)*10000*0.7+(MAX($I$1570:$I$1579)-I1570)/(MAX($I$1570:$I$1579)-1)*10000*0.3,0)","v":10000},{"$f":"ROUND(K1570*L1570,0)","v":7650},null,null,"Ventus 2 cxT","VV","Není v databázi"]
["Ivan BAJANA",null,null,"SGC MARTIN",null,"Fatraglide 2022 - Kombi",{"$f":"VLOOKUP(F1571,Soutez!A:B,2,FALSE)","v":"SK"},{"$f":"VLOOKUP(F1571,Soutez!A:C,3,FALSE)","v":2022},2,2560,{"$f":"VLOOKUP(F1571,Soutez,12,0)","v":0.76500000000000001},7976,{"$f":"ROUND(K1571*L1571,0)","v":6102},null,null,"Discus 2","DI","Není v databázi"]
["Peter ABONYI",null,null,"AK RUZOMBEROK",null,"Fatraglide 2022 - Kombi",{"$f":"VLOOKUP(F1572,Soutez!A:B,2,FALSE)","v":"SK"},{"$f":"VLOOKUP(F1572,Soutez!A:C,3,FALSE)","v":2022},3,2050,{"$f":"VLOOKUP(F1572,Soutez,12,0)","v":0.76500000000000001},6585,5038,null,null,"Ventus C","PA","Není v databázi"]
["Milos SRANK",null,null,"AK NOVE ZAMKY",null,"Fatraglide 2022 - Kombi",{"$f":"VLOOKUP(F1573,Soutez!A:B,2,FALSE)","v":"SK"},{"$f":"VLOOKUP(F1573,Soutez!A:C,3,FALSE)","v":2022},4,1821,0.76500000000000001,5777,4419,null,null,"ASG 29","LK","Není v databázi"]
["Milan LOJDL",null,null,"AK MARTIN",null,"Fatraglide 2022 - Kombi",{"$f":"VLOOKUP(F1574,Soutez!A:B,2,FALSE)","v":"SK"},{"$f":"VLOOKUP(F1574,Soutez!A:C,3,FALSE)","v":2022},5,1712,0.76500000000000001,5217,{"$f":"ROUND(K1574*L1574,0)","v":3991},null,null,"Ventus 2cxT/18m","MJ1","Není v databázi"]
["Martin JUROVIC",null,null,"AK BRATISLAVA",null,"Fatraglide 2022 - Kombi",{"$f":"VLOOKUP(F1575,Soutez!A:B,2,FALSE)","v":"SK"},{"$f":"VLOOKUP(F1575,Soutez!A:C,3,FALSE)","v":2022},6,1554,0.76500000000000001,4556,3485,null,null,"Ventus cT 17.6m","JQ","Není v databázi"]
["Lukas BENEDIKT",null,null,"AK Trnava",null,"Fatraglide 2022 - Kombi",{"$f":"VLOOKUP(F1576,Soutez!A:B,2,FALSE)","v":"SK"},{"$f":"VLOOKUP(F1576,Soutez!A:C,3,FALSE)","v":2022},7,1226,0.76500000000000001,3543,2710,null,null,"Ventus 3 F","LB","Není v databázi"]
["Vaclav Hruza",{"$f":"VLOOKUP(A1577,Pilot,2,0)","v":1965},{"$f":"VLOOKUP(A1577,Pilot,5,0)","v":"M"},{"$f":"VLOOKUP(A1577,Pilot,3,0)","v":"Břeclav"},{"$f":"VLOOKUP(A1577,Pilot,4,0)","v":"CZ/M"},"Fatraglide 2022 - Kombi",{"$f":"VLOOKUP(F1577,Soutez!A:B,2,FALSE)","v":"SK"},{"$f":"VLOOKUP(F1577,Soutez!A:C,3,FALSE)","v":2022},8,1082,0.76500000000000001,2911,2227,"x",null,"HPH 304 Shark","TH",""]
["Daniel KRONEK",null,null,"SGC MARTIN",null,"Fatraglide 2022 - Kombi",{"$f":"VLOOKUP(F1578,Soutez!A:B,2,FALSE)","v":"SK"},{"$f":"VLOOKUP(F1578,Soutez!A:C,3,FALSE)","v":2022},9,1054,0.76500000000000001,2519,1927,null,null,"Ventus bT/15m","DK",{"$f":"IF(ISERROR(VLOOKUP(A1578,Pilot,6,0)),\"Není v databázi\",VLOOKUP(A1578,Pilot,6,0))","v":"Není v databázi"}]
["Ivan CHABADA",null,null,"AK BANSKA BYSTRICA",null,"Fatraglide 2022 - Kombi",{"$f":"VLOOKUP(F1579,Soutez!A:B,2,FALSE)","v":"SK"},{"$f":"VLOOKUP(F1579,Soutez!A:C,3,FALSE)","v":2022},10,268,0.76500000000000001,556,425,null,null,"NIMBUS 2B","VY","Není v databázi"]
["Uwe Wahlig",null,null,"Segelfluggruppe Bensheim e.V.",null,"FCC 2022 - Klub",{"$f":"VLOOKUP(F1580,Soutez!A:B,2,FALSE)","v":"SK"},{"$f":"VLOOKUP(F1580,Soutez!A:C,3,FALSE)","v":2022},1,5543,{"$f":"VLOOKUP(F1580,Soutez,12,0)","v":0.94000000000000006},{"$f":"ROUND(J1580/MAX($J$1580:$J$1622)*10000*0.7+(MAX($I$1580:$I$1622)-I1580)/(MAX($I$1580:$I$1622)-1)*10000*0.3,0)","v":10000},{"$f":"ROUND(K1580*L1580,0)","v":9400},null,null,"LS-3 /15m WL","SN","Není v databázi"]
["Jacek Flis",null,null,"Ziemi Zamojskiej / KKGT",null,"FCC 2022 - Klub",{"$f":"VLOOKUP(F1581,Soutez!A:B,2,FALSE)","v":"SK"},{"$f":"VLOOKUP(F1581,Soutez!A:C,3,FALSE)","v":2022},2,5437,{"$f":"VLOOKUP(F1581,Soutez,12,0)","v":0.94000000000000006},9789,{"$f":"ROUND(K1581*L1581,0)","v":9202},null,null,"LS-3 /15m","FLS","Není v databázi"]
["Mikolaj Zdun",null,null,"Aeroklub Leszno",null,"FCC 2022 - Klub",{"$f":"VLOOKUP(F1582,Soutez!A:B,2,FALSE)","v":"SK"},{"$f":"VLOOKUP(F1582,Soutez!A:C,3,FALSE)","v":2022},3,5409,0.94000000000000006,9677,9096,null,null,"LS 3 15m","PP","Není v databázi"]
["Tim Milner",null,null,"Wolds gliding Club",null,"FCC 2022 - Klub",{"$f":"VLOOKUP(F1583,Soutez!A:B,2,FALSE)","v":"SK"},{"$f":"VLOOKUP(F1583,Soutez!A:C,3,FALSE)","v":2022},4,5261,0.94000000000000006,9413,8848,null,null,"LS-3 /15m","LS5","Není v databázi"]
["Jiri Kusbach",{"$f":"VLOOKUP(A1584,Pilot,2,0)","v":1959},{"$f":"VLOOKUP(A1584,Pilot,5,0)","v":"M"},{"$f":"VLOOKUP(A1584,Pilot,3,0)","v":"Luhačovice"},{"$f":"VLOOKUP(A1584,Pilot,4,0)","v":"CZ/M"},"FCC 2022 - Klub",{"$f":"VLOOKUP(F1584,Soutez!A:B,2,FALSE)","v":"SK"},{"$f":"VLOOKUP(F1584,Soutez!A:C,3,FALSE)","v":2022},5,5006,0.94000000000000006,9014,8473,null,null,"KKB-15 E-FES","B",""]
["Kamil Wojcik",null,null,"Wroclawek",null,"FCC 2022 - Klub",{"$f":"VLOOKUP(F1585,Soutez!A:B,2,FALSE)","v":"SK"},{"$f":"VLOOKUP(F1585,Soutez!A:C,3,FALSE)","v":2022},6,4933,0.94000000000000006,8845,8314,null,null,"LS-4","WWI","Není v databázi"]
["Robert Alin Simion",null,null,"Romania Romania",null,"FCC 2022 - Klub",{"$f":"VLOOKUP(F1586,Soutez!A:B,2,FALSE)","v":"SK"},{"$f":"VLOOKUP(F1586,Soutez!A:C,3,FALSE)","v":2022},7,4918,0.94000000000000006,8749,8224,null,null,"LS 4A WL","Y2","Není v databázi"]
["Bernard Dobre",null,null,"Postojna",null,"FCC 2022 - Klub",{"$f":"VLOOKUP(F1587,Soutez!A:B,2,FALSE)","v":"SK"},{"$f":"VLOOKUP(F1587,Soutez!A:C,3,FALSE)","v":2022},8,4746,0.94000000000000006,8455,7948,null,null,"DG 300 ELAN","PJ","Není v databázi"]
["Peter Kassai",null,null,"MALEV",null,"FCC 2022 - Klub",{"$f":"VLOOKUP(F1588,Soutez!A:B,2,FALSE)","v":"SK"},{"$f":"VLOOKUP(F1588,Soutez!A:C,3,FALSE)","v":2022},9,4732,0.94000000000000006,8360,7858,null,null,"Discus b wl","7W","Není v databázi"]
["Zdenek Balcarek",{"$f":"VLOOKUP(A1589,Pilot,2,0)","v":1967},{"$f":"VLOOKUP(A1589,Pilot,5,0)","v":"M"},{"$f":"VLOOKUP(A1589,Pilot,3,0)","v":"Kroměříž"},{"$f":"VLOOKUP(A1589,Pilot,4,0)","v":"CZ/M"},"FCC 2022 - Klub",{"$f":"VLOOKUP(F1589,Soutez!A:B,2,FALSE)","v":"SK"},{"$f":"VLOOKUP(F1589,Soutez!A:C,3,FALSE)","v":2022},10,4552,0.94000000000000006,8056,7573,"x",null,"Discus b","OS",""]
["Ionut Tudor",null,null,"Romanian Airclub",null,"FCC 2022 - Klub",{"$f":"VLOOKUP(F1590,Soutez!A:B,2,FALSE)","v":"SK"},{"$f":"VLOOKUP(F1590,Soutez!A:C,3,FALSE)","v":2022},11,4526,0.94000000000000006,7946,7469,null,null,"LS 4A WL","8M","Není v databázi"]
["Wojciech Kubiak",null,null,"Aeroklub Krakowski",null,"FCC 2022 - Klub",{"$f":"VLOOKUP(F1591,Soutez!A:B,2,FALSE)","v":"SK"},{"$f":"VLOOKUP(F1591,Soutez!A:C,3,FALSE)","v":2022},12,4450,0.94000000000000006,7774,7308,null,null,"SZD-55","W07","Není v databázi"]
["Joanna Biedermann",null,null,"Aeroclub Nadwislanski",null,"FCC 2022 - Klub",{"$f":"VLOOKUP(F1592,Soutez!A:B,2,FALSE)","v":"SK"},{"$f":"VLOOKUP(F1592,Soutez!A:C,3,FALSE)","v":2022},13,4339,0.94000000000000006,7556,7103,null,null,"LS 4","OG","Není v databázi"]
["Lukasz Florkowski",null,null,"Ostrowski",null,"FCC 2022 - Klub",{"$f":"VLOOKUP(F1593,Soutez!A:B,2,FALSE)","v":"SK"},{"$f":"VLOOKUP(F1593,Soutez!A:C,3,FALSE)","v":2022},14,4271,0.94000000000000006,7394,6950,null,null,"SZD-41A Jantar std.","ZSI","Není v databázi"]
["Stanislaw Wujczak",null,null,"Leszczyński",null,"FCC 2022 - Klub",{"$f":"VLOOKUP(F1594,Soutez!A:B,2,FALSE)","v":"SK"},{"$f":"VLOOKUP(F1594,Soutez!A:C,3,FALSE)","v":2022},15,4228,0.94000000000000006,7262,6826,null,null,"Mini-Nimbus b","KP","Není v databázi"]
["Rafal Siankowski",null,null,"Radomski",null,"FCC 2022 - Klub",{"$f":"VLOOKUP(F1595,Soutez!A:B,2,FALSE)","v":"SK"},{"$f":"VLOOKUP(F1595,Soutez!A:C,3,FALSE)","v":2022},16,4189,{"$f":"VLOOKUP(F1595,Soutez,12,0)","v":0.94000000000000006},7136,6708,null,null,"SZD-48 Jantar std. 3","AA","Není v databázi"]
["Marek Herbreder",null,null,"Warszawa",null,"FCC 2022 - Klub",{"$f":"VLOOKUP(F1596,Soutez!A:B,2,FALSE)","v":"SK"},{"$f":"VLOOKUP(F1596,Soutez!A:C,3,FALSE)","v":2022},17,4185,0.94000000000000006,7054,6631,null,null,"SZD-55 Promyk","TK","Není v databázi"]
["Daniel Arday",null,null,"Malév",null,"FCC 2022 - Klub",{"$f":"VLOOKUP(F1597,Soutez!A:B,2,FALSE)","v":"SK"},{"$f":"VLOOKUP(F1597,Soutez!A:C,3,FALSE)","v":2022},17,4185,0.94000000000000006,7054,{"$f":"ROUND(K1597*L1597,0)","v":6631},null,null,"ASW 20 C 15m WL","RZI","Není v databázi"]
["Karol Pawlicki",null,null,"Stalowowolski",null,"FCC 2022 - Klub",{"$f":"VLOOKUP(F1598,Soutez!A:B,2,FALSE)","v":"SK"},{"$f":"VLOOKUP(F1598,Soutez!A:C,3,FALSE)","v":2022},19,3999,0.94000000000000006,6666,6266,null,null,"SZD-48 Jantar std. 3","BK","Není v databázi"]
["Lumir Motyka",{"$f":"VLOOKUP(A1599,Pilot,2,0)","v":1955},{"$f":"VLOOKUP(A1599,Pilot,5,0)","v":"M"},{"$f":"VLOOKUP(A1599,Pilot,3,0)","v":"Frýdlant"},{"$f":"VLOOKUP(A1599,Pilot,4,0)","v":"CZ/M"},"FCC 2022 - Klub",{"$f":"VLOOKUP(F1599,Soutez!A:B,2,FALSE)","v":"SK"},{"$f":"VLOOKUP(F1599,Soutez!A:C,3,FALSE)","v":2022},20,3869,0.94000000000000006,6424,6039,"x",null,"LS-1f","EM",""]
["Benedikt Sindermann",null,null,"Stőelln-Rhinow",null,"FCC 2022 - Klub",{"$f":"VLOOKUP(F1600,Soutez!A:B,2,FALSE)","v":"SK"},{"$f":"VLOOKUP(F1600,Soutez!A:C,3,FALSE)","v":2022},21,3809,0.94000000000000006,6272,5896,null,null,"LS-1f","1F","Není v databázi"]
["Arkadiusz Bajura",null,null,"Aeroklub Opole",null,"FCC 2022 - Klub",{"$f":"VLOOKUP(F1601,Soutez!A:B,2,FALSE)","v":"SK"},{"$f":"VLOOKUP(F1601,Soutez!A:C,3,FALSE)","v":2022},22,3791,0.94000000000000006,6172,5802,null,null,"Mini-Nimbus c","CC","Není v databázi"]
["Oliver Sven",null,null,"Cape Gliding Club",null,"FCC 2022 - Klub",{"$f":"VLOOKUP(F1602,Soutez!A:B,2,FALSE)","v":"SK"},{"$f":"VLOOKUP(F1602,Soutez!A:C,3,FALSE)","v":2022},23,3778,0.94000000000000006,6079,5714,null,null,"Std. Cirrus","UY","Není v databázi"]
["Wojciech Domanski",null,null,"Nowy Targ",null,"FCC 2022 - Klub",{"$f":"VLOOKUP(F1603,Soutez!A:B,2,FALSE)","v":"SK"},{"$f":"VLOOKUP(F1603,Soutez!A:C,3,FALSE)","v":2022},24,3743,0.94000000000000006,5958,5601,null,null,"LS-4","WW","Není v databázi"]
["Jozsef Tornyai",null,null,"Malev",null,"FCC 2022 - Klub",{"$f":"VLOOKUP(F1604,Soutez!A:B,2,FALSE)","v":"SK"},{"$f":"VLOOKUP(F1604,Soutez!A:C,3,FALSE)","v":2022},25,3719,0.94000000000000006,5850,5499,null,null,"LS-3 /15m","BYI","Není v databázi"]
["Wojciech Izdebski",null,null,"Gdansk",null,"FCC 2022 - Klub",{"$f":"VLOOKUP(F1605,Soutez!A:B,2,FALSE)","v":"SK"},{"$f":"VLOOKUP(F1605,Soutez!A:C,3,FALSE)","v":2022},26,3664,0.94000000000000006,5704,5362,null,null,"DG 101G","G1","Není v databázi"]
["Ryszard Pachla",null,null,"Czestochowski",null,"FCC 2022 - Klub",{"$f":"VLOOKUP(F1606,Soutez!A:B,2,FALSE)","v":"SK"},{"$f":"VLOOKUP(F1606,Soutez!A:C,3,FALSE)","v":2022},27,3542,0.94000000000000006,5473,5145,null,null,"SZD-48 Jantar std. 2","L","Není v databázi"]
["Krzysztof Kotarski",null,null,"Aeroklub Nadwiślańsk",null,"FCC 2022 - Klub",{"$f":"VLOOKUP(F1607,Soutez!A:B,2,FALSE)","v":"SK"},{"$f":"VLOOKUP(F1607,Soutez!A:C,3,FALSE)","v":2022},28,3467,0.94000000000000006,5301,4983,null,null,"ASW-19B","J1","Není v databázi"]
["Peter Gonczi",null,null,"Malév",null,"FCC 2022 - Klub",{"$f":"VLOOKUP(F1608,Soutez!A:B,2,FALSE)","v":"SK"},{"$f":"VLOOKUP(F1608,Soutez!A:C,3,FALSE)","v":2022},29,3095,0.94000000000000006,4755,4470,null,null,"Janus C (FG)","DD","Není v databázi"]
["Juraj Sidor",null,null,"AK Holic",null,"FCC 2022 - Klub",{"$f":"VLOOKUP(F1609,Soutez!A:B,2,FALSE)","v":"SK"},{"$f":"VLOOKUP(F1609,Soutez!A:C,3,FALSE)","v":2022},29,3095,0.94000000000000006,4755,4470,null,null,"Std. Cirrus","NM","Není v databázi"]
["Martin Sabla",null,null,"SNV",null,"FCC 2022 - Klub",{"$f":"VLOOKUP(F1610,Soutez!A:B,2,FALSE)","v":"SK"},{"$f":"VLOOKUP(F1610,Soutez!A:C,3,FALSE)","v":2022},31,2972,0.94000000000000006,4446,4179,null,null,"Discus 2b",70,"Není v databázi"]
["Aleksandar Diklic",null,null,"Zrenjanin",null,"FCC 2022 - Klub",{"$f":"VLOOKUP(F1611,Soutez!A:B,2,FALSE)","v":"SK"},{"$f":"VLOOKUP(F1611,Soutez!A:C,3,FALSE)","v":2022},32,2430,0.94000000000000006,3684,3463,null,null,"DG 100",30,"Není v databázi"]
["Jerzy Mikolajczyk",null,null,"AZM Plock",null,"FCC 2022 - Klub",{"$f":"VLOOKUP(F1612,Soutez!A:B,2,FALSE)","v":"SK"},{"$f":"VLOOKUP(F1612,Soutez!A:C,3,FALSE)","v":2022},33,2388,0.94000000000000006,3554,3341,null,null,"LS-4","YL","Není v databázi"]
["Stefan Schneider",null,null,"Bensheim",null,"FCC 2022 - Klub",{"$f":"VLOOKUP(F1613,Soutez!A:B,2,FALSE)","v":"SK"},{"$f":"VLOOKUP(F1613,Soutez!A:C,3,FALSE)","v":2022},34,2298,0.94000000000000006,3364,3162,null,null,"Std. Cirrus","KT","Není v databázi"]
["Piotr Ligwinski",null,null,"Lodz",null,"FCC 2022 - Klub",{"$f":"VLOOKUP(F1614,Soutez!A:B,2,FALSE)","v":"SK"},{"$f":"VLOOKUP(F1614,Soutez!A:C,3,FALSE)","v":2022},35,2061,0.94000000000000006,2987,2808,null,null,"ASW 24 WL","PL","Není v databázi"]
["Dariusz Pietraszkiewicz",null,null,"Szczecin",null,"FCC 2022 - Klub",{"$f":"VLOOKUP(F1615,Soutez!A:B,2,FALSE)","v":"SK"},{"$f":"VLOOKUP(F1615,Soutez!A:C,3,FALSE)","v":2022},36,1643,0.94000000000000006,2383,2240,null,null,"SZD-55 Promyk","SD","Není v databázi"]
["Agata Kaszczuk",null,null,"Wroc3aw",null,"FCC 2022 - Klub",{"$f":"VLOOKUP(F1616,Soutez!A:B,2,FALSE)","v":"SK"},{"$f":"VLOOKUP(F1616,Soutez!A:C,3,FALSE)","v":2022},37,876,0.94000000000000006,1337,1257,null,null,"LS-1f","MR","Není v databázi"]
["Krzysztof Owsiany",null,null,"AZM Lubin",null,"FCC 2022 - Klub",{"$f":"VLOOKUP(F1617,Soutez!A:B,2,FALSE)","v":"SK"},{"$f":"VLOOKUP(F1617,Soutez!A:C,3,FALSE)","v":2022},38,358,0.94000000000000006,606,570,null,null,"SZD-48 Jantar std. 3","CU","Není v databázi"]
["Ryszard Bendkowski",null,null,"Warszawa",null,"FCC 2022 - Klub",{"$f":"VLOOKUP(F1618,Soutez!A:B,2,FALSE)","v":"SK"},{"$f":"VLOOKUP(F1618,Soutez!A:C,3,FALSE)","v":2022},39,322,0.94000000000000006,484,455,null,null,"SZD-48 Jantar Std. 2","Filip","Není v databázi"]
["Pawel Wojciechowski",null,null,"Leszno",null,"FCC 2022 - Klub",{"$f":"VLOOKUP(F1619,Soutez!A:B,2,FALSE)","v":"SK"},{"$f":"VLOOKUP(F1619,Soutez!A:C,3,FALSE)","v":2022},40,0,0.94000000000000006,0,0,null,null,"SZD-55","RAW","Není v databázi"]
["Domas Zostautas",null,null,"Vilniaus",null,"FCC 2022 - Klub",{"$f":"VLOOKUP(F1620,Soutez!A:B,2,FALSE)","v":"SK"},{"$f":"VLOOKUP(F1620,Soutez!A:C,3,FALSE)","v":2022},40,0,0.94000000000000006,0,0,null,null,"SZD-48 Jantar std. 3","B","Není v databázi"]
["Stas Stankovic",null,null,"Aeroklub Novo mesto",null,"FCC 2022 - Klub",{"$f":"VLOOKUP(F1621,Soutez!A:B,2,FALSE)","v":"SK"},{"$f":"VLOOKUP(F1621,Soutez!A:C,3,FALSE)","v":2022},40,0,0.94000000000000006,0,0,null,null,"DG-100","GO","Není v databázi"]
["Jaroslaw Michaluk",null,null,"KSS",null,"FCC 2022 - Klub",{"$f":"VLOOKUP(F1622,Soutez!A:B,2,FALSE)","v":"SK"},{"$f":"VLOOKUP(F1622,Soutez!A:C,3,FALSE)","v":2022},40,0,0.94000000000000006,0,0,null,null,"SZD-48 Jantar std. 2","LK","Není v databázi"]
["Miloslav Cink",{"$f":"VLOOKUP(A1623,Pilot,2,0)","v":1987},{"$f":"VLOOKUP(A1623,Pilot,5,0)","v":"M"},{"$f":"VLOOKUP(A1623,Pilot,3,0)","v":"Letkov"},{"$f":"VLOOKUP(A1623,Pilot,4,0)","v":"CZ/C1"},"FCC 2022 - Kombi 15m",{"$f":"VLOOKUP(F1623,Soutez!A:B,2,FALSE)","v":"SK"},{"$f":"VLOOKUP(F1623,Soutez!A:C,3,FALSE)","v":2022},1,5374,{"$f":"VLOOKUP(F1623,Soutez,12,0)","v":0.96000000000000008},{"$f":"ROUND(J1623/MAX($J$1623:$J$1650)*10000*0.7+(MAX($I$1623:$I$1650)-I1623)/(MAX($I$1623:$I$1650)-1)*10000*0.3,0)","v":10000},{"$f":"ROUND(K1623*L1623,0)","v":9600},null,null,"LS-8b /15 m","JB",""]
["Pavel Louzecky",1957,"M","Přibyslav","CZ/C2","FCC 2022 - Kombi 15m",{"$f":"VLOOKUP(F1624,Soutez!A:B,2,FALSE)","v":"SK"},{"$f":"VLOOKUP(F1624,Soutez!A:C,3,FALSE)","v":2022},2,5354,{"$f":"VLOOKUP(F1624,Soutez,12,0)","v":0.96000000000000008},9863,{"$f":"ROUND(K1624*L1624,0)","v":9468},null,null,"LS-8 /15 m","FX",""]
["Jan Pavlik",1987,"M","Křižanov","CZ/M","FCC 2022 - Kombi 15m",{"$f":"VLOOKUP(F1625,Soutez!A:B,2,FALSE)","v":"SK"},{"$f":"VLOOKUP(F1625,Soutez!A:C,3,FALSE)","v":2022},3,5313,0.96000000000000008,9698,9310,null,null,"LS-8 /15 m","JW",""]
["Lukasz Blaszczyk",null,null,"Ostrow",null,"FCC 2022 - Kombi 15m",{"$f":"VLOOKUP(F1626,Soutez!A:B,2,FALSE)","v":"SK"},{"$f":"VLOOKUP(F1626,Soutez!A:C,3,FALSE)","v":2022},4,5146,0.96000000000000008,9370,8995,null,null,"Diana 2","RP","Není v databázi"]
["Norbert Scarlat",null,null,"Romanian Airclub",null,"FCC 2022 - Kombi 15m",{"$f":"VLOOKUP(F1627,Soutez!A:B,2,FALSE)","v":"SK"},{"$f":"VLOOKUP(F1627,Soutez!A:C,3,FALSE)","v":2022},5,5133,0.96000000000000008,9242,8872,null,null,"Discus 2a /15m","Y1","Není v databázi"]
["David Mach",{"$f":"VLOOKUP(A1628,Pilot,2,0)","v":1994},{"$f":"VLOOKUP(A1628,Pilot,5,0)","v":"M"},{"$f":"VLOOKUP(A1628,Pilot,3,0)","v":"Hronov"},{"$f":"VLOOKUP(A1628,Pilot,4,0)","v":"CZ/C2"},"FCC 2022 - Kombi 15m",{"$f":"VLOOKUP(F1628,Soutez!A:B,2,FALSE)","v":"SK"},{"$f":"VLOOKUP(F1628,Soutez!A:C,3,FALSE)","v":2022},6,5121,0.96000000000000008,9115,8750,null,null,"JS3 15m","ZE",""]
["Lukasz Grabowski",null,null,"Aeroklub Wloclawski",null,"FCC 2022 - Kombi 15m",{"$f":"VLOOKUP(F1629,Soutez!A:B,2,FALSE)","v":"SK"},{"$f":"VLOOKUP(F1629,Soutez!A:C,3,FALSE)","v":2022},7,4913,0.96000000000000008,8733,8384,null,null,"Discus 2A","I","Není v databázi"]
["Stanislaw Biela",null,null,"Nowy Targ",null,"FCC 2022 - Kombi 15m",{"$f":"VLOOKUP(F1630,Soutez!A:B,2,FALSE)","v":"SK"},{"$f":"VLOOKUP(F1630,Soutez!A:C,3,FALSE)","v":2022},8,4772,0.96000000000000008,8438,8100,null,null,"SZD 56-2 DIANA FES","AV","Není v databázi"]
["Czeladzki & Marchelewski",null,null,"KKGT",null,"FCC 2022 - Kombi 15m",{"$f":"VLOOKUP(F1631,Soutez!A:B,2,FALSE)","v":"SK"},{"$f":"VLOOKUP(F1631,Soutez!A:C,3,FALSE)","v":2022},9,4660,0.96000000000000008,8181,7854,null,null,"Duo Discus XLT","POL","Není v databázi"]
["Judyta Czyż",null,null,"Bielsko Bialski",null,"FCC 2022 - Kombi 15m",{"$f":"VLOOKUP(F1632,Soutez!A:B,2,FALSE)","v":"SK"},{"$f":"VLOOKUP(F1632,Soutez!A:C,3,FALSE)","v":2022},10,4623,0.96000000000000008,8022,7701,null,null,"LS-8 /15 m","LOT",{"$f":"IF(ISERROR(VLOOKUP(A1632,Pilot,6,0)),\"Není v databázi\",VLOOKUP(A1632,Pilot,6,0))","v":"Není v databázi"}]
["Alex Pop",null,null,"Romanian Airclub",null,"FCC 2022 - Kombi 15m",{"$f":"VLOOKUP(F1633,Soutez!A:B,2,FALSE)","v":"SK"},{"$f":"VLOOKUP(F1633,Soutez!A:C,3,FALSE)","v":2022},11,4615,0.96000000000000008,7900,7584,null,null,"Discus 2a /15m","YB","Není v databázi"]
["Trojan & Blatak",null,null,"Chrudim",null,"FCC 2022 - Kombi 15m",{"$f":"VLOOKUP(F1634,Soutez!A:B,2,FALSE)","v":"SK"},{"$f":"VLOOKUP(F1634,Soutez!A:C,3,FALSE)","v":2022},12,4466,0.96000000000000008,7595,7291,null,null,"Duo Discus T (700kg)","ZS","Není v databázi"]
["Arturas Klimasauskas",null,null,"Pociunai (Kaunas Gliding Club)",null,"FCC 2022 - Kombi 15m",{"$f":"VLOOKUP(F1635,Soutez!A:B,2,FALSE)","v":"SK"},{"$f":"VLOOKUP(F1635,Soutez!A:C,3,FALSE)","v":2022},13,4423,0.96000000000000008,7428,7131,null,null,"Ventus 2b/15m","BX","Není v databázi"]
["Dawid Pretorius",null,null,"Cape Gliding Club",null,"FCC 2022 - Kombi 15m",{"$f":"VLOOKUP(F1636,Soutez!A:B,2,FALSE)","v":"SK"},{"$f":"VLOOKUP(F1636,Soutez!A:C,3,FALSE)","v":2022},14,4191,{"$f":"VLOOKUP(F1636,Soutez,12,0)","v":0.96000000000000008},7015,6734,null,null,"LS-8 /15 m","1Z","Není v databázi"]
["Jana Treslova",1963,"F",{"$f":"VLOOKUP(A1637,Pilot,3,0)","v":"Raná"},{"$f":"VLOOKUP(A1637,Pilot,4,0)","v":"CZ/C2"},"FCC 2022 - Kombi 15m",{"$f":"VLOOKUP(F1637,Soutez!A:B,2,FALSE)","v":"SK"},{"$f":"VLOOKUP(F1637,Soutez!A:C,3,FALSE)","v":2022},15,4188,0.96000000000000008,6900,6624,"x",null,"Discus 2a /15m","GX",""]
["Dana Novakova",1965,"F","Mladá Boleslav","CZ/C1","FCC 2022 - Kombi 15m",{"$f":"VLOOKUP(F1638,Soutez!A:B,2,FALSE)","v":"SK"},{"$f":"VLOOKUP(F1638,Soutez!A:C,3,FALSE)","v":2022},16,4186,0.96000000000000008,6786,{"$f":"ROUND(K1638*L1638,0)","v":6515},null,null,"LS-8 /15 m","AU",""]
["Barbora Moravcova",1994,"F","Zbraslavice","CZ/C1","FCC 2022 - Kombi 15m",{"$f":"VLOOKUP(F1639,Soutez!A:B,2,FALSE)","v":"SK"},{"$f":"VLOOKUP(F1639,Soutez!A:C,3,FALSE)","v":2022},17,4175,0.96000000000000008,6660,6394,null,null,"LS-8 /15 m","EU",""]
["Pawel Frackowiak",null,null,"Aeroklub Poznanski",null,"FCC 2022 - Kombi 15m",{"$f":"VLOOKUP(F1640,Soutez!A:B,2,FALSE)","v":"SK"},{"$f":"VLOOKUP(F1640,Soutez!A:C,3,FALSE)","v":2022},18,4149,0.96000000000000008,6515,6254,null,null,"LAK 17B FES /15m 525kg",77,"Není v databázi"]
["Karol Snapko",null,null,"Nadwislanski",null,"FCC 2022 - Kombi 15m",{"$f":"VLOOKUP(F1641,Soutez!A:B,2,FALSE)","v":"SK"},{"$f":"VLOOKUP(F1641,Soutez!A:C,3,FALSE)","v":2022},19,3866,0.96000000000000008,6036,5795,null,null,"Discus 2a /15m","Y","Není v databázi"]
["Robert Toth",null,null,"Pelikan RE",null,"FCC 2022 - Kombi 15m",{"$f":"VLOOKUP(F1642,Soutez!A:B,2,FALSE)","v":"SK"},{"$f":"VLOOKUP(F1642,Soutez!A:C,3,FALSE)","v":2022},20,3635,0.96000000000000008,5624,5399,null,null,"LS-6 b","4L","Není v databázi"]
["Maciej Walasek",null,null,"Aeroklub Krakowski",null,"FCC 2022 - Kombi 15m",{"$f":"VLOOKUP(F1643,Soutez!A:B,2,FALSE)","v":"SK"},{"$f":"VLOOKUP(F1643,Soutez!A:C,3,FALSE)","v":2022},21,3598,0.96000000000000008,5464,5245,null,null,"LS-6","KK","Není v databázi"]
["Dariusz Czech",null,null,"Stalowowolski",null,"FCC 2022 - Kombi 15m",{"$f":"VLOOKUP(F1644,Soutez!A:B,2,FALSE)","v":"SK"},{"$f":"VLOOKUP(F1644,Soutez!A:C,3,FALSE)","v":2022},22,2915,0.96000000000000008,4464,4285,null,null,"LAK 19 15m WL","DC","Není v databázi"]
["Slavomir Valecko",1960,"M",{"$f":"VLOOKUP(A1645,Pilot,3,0)","v":"Hranice"},{"$f":"VLOOKUP(A1645,Pilot,4,0)","v":"CZ/M"},"FCC 2022 - Kombi 15m",{"$f":"VLOOKUP(F1645,Soutez!A:B,2,FALSE)","v":"SK"},{"$f":"VLOOKUP(F1645,Soutez!A:C,3,FALSE)","v":2022},23,2887,0.96000000000000008,4316,4143,"x",null,"Discus b WL","IYB",""]
["Andrzej Szczerba",null,null,"Warszawa",null,"FCC 2022 - Kombi 15m",{"$f":"VLOOKUP(F1646,Soutez!A:B,2,FALSE)","v":"SK"},{"$f":"VLOOKUP(F1646,Soutez!A:C,3,FALSE)","v":2022},24,2171,0.96000000000000008,3272,3141,null,null,"SZD-56-2 Diana-2 FES","AI","Není v databázi"]
["Konrad Jaczkowski",null,null,"Czźstochowski",null,"FCC 2022 - Kombi 15m",{"$f":"VLOOKUP(F1647,Soutez!A:B,2,FALSE)","v":"SK"},{"$f":"VLOOKUP(F1647,Soutez!A:C,3,FALSE)","v":2022},25,1397,0.96000000000000008,2153,2067,null,null,"Ventus 2B","V2","Není v databázi"]
["Benedikt Laho",null,null,"Trnava",null,"FCC 2022 - Kombi 15m",{"$f":"VLOOKUP(F1648,Soutez!A:B,2,FALSE)","v":"SK"},{"$f":"VLOOKUP(F1648,Soutez!A:C,3,FALSE)","v":2022},26,763,0.96000000000000008,1216,1167,null,null,"Discus 2T /15m","JH","Není v databázi"]
["Istvan Reti",null,null,"Alfoldi Repülőklub",null,"FCC 2022 - Kombi 15m",{"$f":"VLOOKUP(F1649,Soutez!A:B,2,FALSE)","v":"SK"},{"$f":"VLOOKUP(F1649,Soutez!A:C,3,FALSE)","v":2022},27,454,0.96000000000000008,702,674,null,null,"Ventus 2b 15m","G6","Není v databázi"]
["Jana Veprekova",1961,"F",{"$f":"VLOOKUP(A1650,Pilot,3,0)","v":"Dvůr Králové"},{"$f":"VLOOKUP(A1650,Pilot,4,0)","v":"CZ/C2"},"FCC 2022 - Kombi 15m",{"$f":"VLOOKUP(F1650,Soutez!A:B,2,FALSE)","v":"SK"},{"$f":"VLOOKUP(F1650,Soutez!A:C,3,FALSE)","v":2022},28,0,0.96000000000000008,0,0,null,null,"LS-8 /15 m","W8",""]
["Gintas Zube",null,null,"Kartena gliding club",null,"FCC 2022 - Kombi Open",{"$f":"VLOOKUP(F1651,Soutez!A:B,2,FALSE)","v":"SK"},{"$f":"VLOOKUP(F1651,Soutez!A:C,3,FALSE)","v":2022},1,5418,{"$f":"VLOOKUP(F1651,Soutez,12,0)","v":0.96500000000000008},{"$f":"ROUND(J1651/MAX($J$1651:$J$1695)*10000*0.7+(MAX($I$1651:$I$1695)-I1651)/(MAX($I$1651:$I$1695)-1)*10000*0.3,0)","v":10000},{"$f":"ROUND(K1651*L1651,0)","v":9650},null,null,"ASG-29E /18m","AR","Není v databázi"]
["Wolfgang Janowitsch",null,null,"FRA Wr. Neustadt",null,"FCC 2022 - Kombi Open",{"$f":"VLOOKUP(F1652,Soutez!A:B,2,FALSE)","v":"SK"},{"$f":"VLOOKUP(F1652,Soutez!A:C,3,FALSE)","v":2022},2,5415,{"$f":"VLOOKUP(F1652,Soutez,12,0)","v":0.96500000000000008},9921,{"$f":"ROUND(K1652*L1652,0)","v":9574},null,null,"Ventus 3T - 18m","WO","Není v databázi"]
["Radek Krejcirik",{"$f":"VLOOKUP(A1653,Pilot,2,0)","v":1991},{"$f":"VLOOKUP(A1653,Pilot,5,0)","v":"M"},{"$f":"VLOOKUP(A1653,Pilot,3,0)","v":"Hranice"},{"$f":"VLOOKUP(A1653,Pilot,4,0)","v":"CZ/M"},"FCC 2022 - Kombi Open",{"$f":"VLOOKUP(F1653,Soutez!A:B,2,FALSE)","v":"SK"},{"$f":"VLOOKUP(F1653,Soutez!A:C,3,FALSE)","v":2022},3,5383,0.96500000000000008,9805,9462,null,null,"JS-1C EVO 18m","ZF",""]
["Karol Staryszak",null,null,"Nadwislamski",null,"FCC 2022 - Kombi Open",{"$f":"VLOOKUP(F1654,Soutez!A:B,2,FALSE)","v":"SK"},{"$f":"VLOOKUP(F1654,Soutez!A:C,3,FALSE)","v":2022},4,5336,0.96500000000000008,9669,9331,null,null,"ASG-29E /18m","PES","Není v databázi"]
["Zoltan Hamar",null,null,"Vario SE",null,"FCC 2022 - Kombi Open",{"$f":"VLOOKUP(F1655,Soutez!A:B,2,FALSE)","v":"SK"},{"$f":"VLOOKUP(F1655,Soutez!A:C,3,FALSE)","v":2022},5,5201,0.96500000000000008,9420,9090,null,null,"JS3 /18m","7A","Není v databázi"]
["Sebastian Kawa",null,null,"Aeroclub Bielsko Biala",null,"FCC 2022 - Kombi Open",{"$f":"VLOOKUP(F1656,Soutez!A:B,2,FALSE)","v":"SK"},{"$f":"VLOOKUP(F1656,Soutez!A:C,3,FALSE)","v":2022},6,5112,0.96500000000000008,9230,8907,null,null,"Diana 3 FES","GSS","Není v databázi"]
["Andrzej Smielkiewicz",null,null,"Leszno",null,"FCC 2022 - Kombi Open",{"$f":"VLOOKUP(F1657,Soutez!A:B,2,FALSE)","v":"SK"},{"$f":"VLOOKUP(F1657,Soutez!A:C,3,FALSE)","v":2022},7,5048,0.96500000000000008,9072,8754,null,null,"ASG-29E /18m","A2","Není v databázi"]
["Zdislaw Bednarczuk",null,null,"Bielsko-Biala",null,"FCC 2022 - Kombi Open",{"$f":"VLOOKUP(F1658,Soutez!A:B,2,FALSE)","v":"SK"},{"$f":"VLOOKUP(F1658,Soutez!A:C,3,FALSE)","v":2022},8,5003,0.96500000000000008,8939,8626,null,null,"Js3 MD","ZB","Není v databázi"]
["Leszek Staryszak",null,null,"Warsawski",null,"FCC 2022 - Kombi Open",{"$f":"VLOOKUP(F1659,Soutez!A:B,2,FALSE)","v":"SK"},{"$f":"VLOOKUP(F1659,Soutez!A:C,3,FALSE)","v":2022},9,5000,0.96500000000000008,8860,8550,null,null,"ASG-29E /18m","BG","Není v databázi"]
["Bernd Goretzki",null,null,"LSV Rinteln",null,"FCC 2022 - Kombi Open",{"$f":"VLOOKUP(F1660,Soutez!A:B,2,FALSE)","v":"SK"},{"$f":"VLOOKUP(F1660,Soutez!A:C,3,FALSE)","v":2022},10,4914,0.96500000000000008,8674,8370,null,null,"Ventus 3M","C8","Není v databázi"]
["Andre Weidlich",null,null,"LSV Ruhr-Lenne Iserlohn",null,"FCC 2022 - Kombi Open",{"$f":"VLOOKUP(F1661,Soutez!A:B,2,FALSE)","v":"SK"},{"$f":"VLOOKUP(F1661,Soutez!A:C,3,FALSE)","v":2022},11,4897,0.96500000000000008,8577,8277,null,null,"Ventus 3M - 18m","TE","Není v databázi"]
["Arkadiusz Downar",null,null,"Warmińsko-Mazurski",null,"FCC 2022 - Kombi Open",{"$f":"VLOOKUP(F1662,Soutez!A:B,2,FALSE)","v":"SK"},{"$f":"VLOOKUP(F1662,Soutez!A:C,3,FALSE)","v":2022},12,4889,0.96500000000000008,8492,8195,null,null,"ASG-29E /18m","29L","Není v databázi"]
["Kessler & Chisu-Muresan",null,null,"Romanian Airclub",null,"FCC 2022 - Kombi Open",{"$f":"VLOOKUP(F1663,Soutez!A:B,2,FALSE)","v":"SK"},{"$f":"VLOOKUP(F1663,Soutez!A:C,3,FALSE)","v":2022},13,4868,0.96500000000000008,8389,8095,null,null,"ASG-32 Mi-850 kg","AK","Není v databázi"]
["Tomasz Dul",null,null,"LSV Dinslaken",null,"FCC 2022 - Kombi Open",{"$f":"VLOOKUP(F1664,Soutez!A:B,2,FALSE)","v":"SK"},{"$f":"VLOOKUP(F1664,Soutez!A:C,3,FALSE)","v":2022},14,4847,0.96500000000000008,8287,7997,null,null,"JS3 MD","TO","Není v databázi"]
["Martin Fürjes",null,null,"SGC Martin",null,"FCC 2022 - Kombi Open",{"$f":"VLOOKUP(F1665,Soutez!A:B,2,FALSE)","v":"SK"},{"$f":"VLOOKUP(F1665,Soutez!A:C,3,FALSE)","v":2022},15,4745,0.96500000000000008,8080,7797,null,null,"JS3 /18m",3,"Není v databázi"]
["Joze Verdev",null,null,"Šaleški Aeroklub",null,"FCC 2022 - Kombi Open",{"$f":"VLOOKUP(F1666,Soutez!A:B,2,FALSE)","v":"SK"},{"$f":"VLOOKUP(F1666,Soutez!A:C,3,FALSE)","v":2022},16,4609,0.96500000000000008,7830,7556,null,null,"JS1-CTJ 18 EVO","DZ","Není v databázi"]
["Lukasz Kornacki",null,null,"Aeroklub Ziemi Mazowieckiej",null,"FCC 2022 - Kombi Open",{"$f":"VLOOKUP(F1667,Soutez!A:B,2,FALSE)","v":"SK"},{"$f":"VLOOKUP(F1667,Soutez!A:C,3,FALSE)","v":2022},17,4591,0.96500000000000008,7732,7461,null,null,"ASG-29E /18m","PLI","Není v databázi"]
["Petr Krejcirik",{"$f":"VLOOKUP(A1668,Pilot,2,0)","v":1960},{"$f":"VLOOKUP(A1668,Pilot,5,0)","v":"M"},{"$f":"VLOOKUP(A1668,Pilot,3,0)","v":"Hranice"},{"$f":"VLOOKUP(A1668,Pilot,4,0)","v":"CZ/M"},"FCC 2022 - Kombi Open",{"$f":"VLOOKUP(F1668,Soutez!A:B,2,FALSE)","v":"SK"},{"$f":"VLOOKUP(F1668,Soutez!A:C,3,FALSE)","v":2022},18,4547,0.96500000000000008,7600,7334,null,null,"AS 33 Es",12,""]
["Lubomir Motl",1959,"M","Kyjov","CZ/M","FCC 2022 - Kombi Open",{"$f":"VLOOKUP(F1669,Soutez!A:B,2,FALSE)","v":"SK"},{"$f":"VLOOKUP(F1669,Soutez!A:C,3,FALSE)","v":2022},19,4497,0.96500000000000008,7460,7199,"x",null,"Nimbus 4DM","AM",""]
["Arkadiusz Stefańczyk",null,null,null,null,"FCC 2022 - Kombi Open",{"$f":"VLOOKUP(F1670,Soutez!A:B,2,FALSE)","v":"SK"},{"$f":"VLOOKUP(F1670,Soutez!A:C,3,FALSE)","v":2022},20,4472,{"$f":"VLOOKUP(F1670,Soutez,12,0)","v":0.96500000000000008},7353,7096,null,null,"ASG 32 Mi","MD","Není v databázi"]
["Janos Sindely",null,null,"Alfoldi Repülőklub",null,"FCC 2022 - Kombi Open",{"$f":"VLOOKUP(F1671,Soutez!A:B,2,FALSE)","v":"SK"},{"$f":"VLOOKUP(F1671,Soutez!A:C,3,FALSE)","v":2022},21,4448,0.96500000000000008,7247,6993,null,null,"JS1-1C 21","RZ","Není v databázi"]
["Jerzey Kolasinski",null,null,"Aeroklub Poznanski/KKGT",null,"FCC 2022 - Kombi Open",{"$f":"VLOOKUP(F1672,Soutez!A:B,2,FALSE)","v":"SK"},{"$f":"VLOOKUP(F1672,Soutez!A:C,3,FALSE)","v":2022},22,4443,0.96500000000000008,7165,6914,null,null,"ASG 29 18m","EMI","Není v databázi"]
["Paul Altrichter",null,null,"Fliegergrrupe waldviertel",null,"FCC 2022 - Kombi Open",{"$f":"VLOOKUP(F1673,Soutez!A:B,2,FALSE)","v":"SK"},{"$f":"VLOOKUP(F1673,Soutez!A:C,3,FALSE)","v":2022},23,4442,0.96500000000000008,7089,{"$f":"ROUND(K1673*L1673,0)","v":6841},null,null,"Ventus 2 cxa 18m-600 kg","AX","Není v databázi"]
["Kapuy & Reti",null,null,null,null,"FCC 2022 - Kombi Open",{"$f":"VLOOKUP(F1674,Soutez!A:B,2,FALSE)","v":"SK"},{"$f":"VLOOKUP(F1674,Soutez!A:C,3,FALSE)","v":2022},24,4437,0.96500000000000008,7008,6763,null,null,"-29,3m","HB","Není v databázi"]
["Teet Jagomagi",null,null,"Ridali",null,"FCC 2022 - Kombi Open",{"$f":"VLOOKUP(F1675,Soutez!A:B,2,FALSE)","v":"SK"},{"$f":"VLOOKUP(F1675,Soutez!A:C,3,FALSE)","v":2022},25,4409,0.96500000000000008,6896,6655,null,null,"JS1-1C 18 EVO",56,"Není v databázi"]
["Petr Panek",{"$f":"VLOOKUP(A1676,Pilot,2,0)","v":1975},{"$f":"VLOOKUP(A1676,Pilot,5,0)","v":"M"},{"$f":"VLOOKUP(A1676,Pilot,3,0)","v":"Dvůr Králové"},{"$f":"VLOOKUP(A1676,Pilot,4,0)","v":"CZ/C2"},"FCC 2022 - Kombi Open",{"$f":"VLOOKUP(F1676,Soutez!A:B,2,FALSE)","v":"SK"},{"$f":"VLOOKUP(F1676,Soutez!A:C,3,FALSE)","v":2022},26,4402,0.96500000000000008,6812,6574,"x",null,"JS-1b JET","IGC",""]
["Ivan Novak",1962,"M","Mladá Boleslav","CZ/C1","FCC 2022 - Kombi Open",{"$f":"VLOOKUP(F1677,Soutez!A:B,2,FALSE)","v":"SK"},{"$f":"VLOOKUP(F1677,Soutez!A:C,3,FALSE)","v":2022},27,4388,0.96500000000000008,6719,6484,null,null,"ASG 29 /18m","QZ",""]
["Hana Treslova",1991,"F","Raná","CZ/C2","FCC 2022 - Kombi Open",{"$f":"VLOOKUP(F1678,Soutez!A:B,2,FALSE)","v":"SK"},{"$f":"VLOOKUP(F1678,Soutez!A:C,3,FALSE)","v":2022},28,4329,0.96500000000000008,6568,6338,null,null,"JS3 /18m","XM",""]
["Pirker & Pirker",null,null,"FAS-Wien (Vienna)",null,"FCC 2022 - Kombi Open",{"$f":"VLOOKUP(F1679,Soutez!A:B,2,FALSE)","v":"SK"},{"$f":"VLOOKUP(F1679,Soutez!A:C,3,FALSE)","v":2022},29,4140,0.96500000000000008,6249,6030,null,null,"Arcus M","PV","Není v databázi"]
["Tamas & Korom",null,null,"HUN Team",null,"FCC 2022 - Kombi Open",{"$f":"VLOOKUP(F1680,Soutez!A:B,2,FALSE)","v":"SK"},{"$f":"VLOOKUP(F1680,Soutez!A:C,3,FALSE)","v":2022},30,4066,0.96500000000000008,6078,5865,null,null,"Arcus T","HUX","Není v databázi"]
["Oldrich Bartonik",{"$f":"VLOOKUP(A1681,Pilot,2,0)","v":1961},{"$f":"VLOOKUP(A1681,Pilot,5,0)","v":"M"},{"$f":"VLOOKUP(A1681,Pilot,3,0)","v":"Luhačovice"},{"$f":"VLOOKUP(A1681,Pilot,4,0)","v":"CZ/M"},"FCC 2022 - Kombi Open",{"$f":"VLOOKUP(F1681,Soutez!A:B,2,FALSE)","v":"SK"},{"$f":"VLOOKUP(F1681,Soutez!A:C,3,FALSE)","v":2022},31,3918,0.96500000000000008,5812,5609,"x",null,"Diana 3 FES","D3",""]
["Jakubcak & Sulirova",null,null,null,null,"FCC 2022 - Kombi Open",{"$f":"VLOOKUP(F1682,Soutez!A:B,2,FALSE)","v":"SK"},{"$f":"VLOOKUP(F1682,Soutez!A:C,3,FALSE)","v":2022},32,3838,0.96500000000000008,5634,5437,null,null,"Arcus M","CAR","Není v databázi"]
["Jan Divok",null,null,"Aeroklub SNV",null,"FCC 2022 - Kombi Open",{"$f":"VLOOKUP(F1683,Soutez!A:B,2,FALSE)","v":"SK"},{"$f":"VLOOKUP(F1683,Soutez!A:C,3,FALSE)","v":2022},33,3718,0.96500000000000008,5404,5215,null,null,"Discus 2cT /18m","DJ","Není v databázi"]
["Miguel Schwan",null,null,"SFC Tulin",null,"FCC 2022 - Kombi Open",{"$f":"VLOOKUP(F1684,Soutez!A:B,2,FALSE)","v":"SK"},{"$f":"VLOOKUP(F1684,Soutez!A:C,3,FALSE)","v":2022},34,3695,0.96500000000000008,5299,5114,null,null,"ASG-29Es /18m","AY","Není v databázi"]
["Lukas Benedikt",null,null,"Trnava",null,"FCC 2022 - Kombi Open",{"$f":"VLOOKUP(F1685,Soutez!A:B,2,FALSE)","v":"SK"},{"$f":"VLOOKUP(F1685,Soutez!A:C,3,FALSE)","v":2022},35,3310,0.96500000000000008,4726,4561,null,null,"Ventus 3F - 18m","LB","Není v databázi"]
["Lubomir Doupal",{"$f":"VLOOKUP(A1686,Pilot,2,0)","v":1975},{"$f":"VLOOKUP(A1686,Pilot,5,0)","v":"M"},{"$f":"VLOOKUP(A1686,Pilot,3,0)","v":"Kroměříž"},{"$f":"VLOOKUP(A1686,Pilot,4,0)","v":"CZ/M"},"FCC 2022 - Kombi Open",{"$f":"VLOOKUP(F1686,Soutez!A:B,2,FALSE)","v":"SK"},{"$f":"VLOOKUP(F1686,Soutez!A:C,3,FALSE)","v":2022},36,3234,0.96500000000000008,4553,4394,"x",null,"Ventus 2cxm 18m-565 kg","LD",""]
["Kollar & Kromka",null,null,"Poprad",null,"FCC 2022 - Kombi Open",{"$f":"VLOOKUP(F1687,Soutez!A:B,2,FALSE)","v":"SK"},{"$f":"VLOOKUP(F1687,Soutez!A:C,3,FALSE)","v":2022},37,2837,0.96500000000000008,3965,3826,null,null,"Arcus M","TA3","Není v databázi"]
["Gabriela Belakova",null,null,"Prievidza",null,"FCC 2022 - Kombi Open",{"$f":"VLOOKUP(F1688,Soutez!A:B,2,FALSE)","v":"SK"},{"$f":"VLOOKUP(F1688,Soutez!A:C,3,FALSE)","v":2022},38,2813,0.96500000000000008,3859,3724,null,null,"Ventus 3M 18m","CAT","Není v databázi"]
["Aldo Cernezzi",null,null,"Acao Varese",null,"FCC 2022 - Kombi Open",{"$f":"VLOOKUP(F1689,Soutez!A:B,2,FALSE)","v":"SK"},{"$f":"VLOOKUP(F1689,Soutez!A:C,3,FALSE)","v":2022},39,2782,0.96500000000000008,3744,3613,null,null,"DG 800b/18m","TI","Není v databázi"]
["Jan Keher",null,null,"Prievidza",null,"FCC 2022 - Kombi Open",{"$f":"VLOOKUP(F1690,Soutez!A:B,2,FALSE)","v":"SK"},{"$f":"VLOOKUP(F1690,Soutez!A:C,3,FALSE)","v":2022},40,2074,0.96500000000000008,2755,2659,null,null,"Discus 2cT /18m","EF","Není v databázi"]
["Wolfgang Zimmermann",null,null,"FRA Wr. Neustadt",null,"FCC 2022 - Kombi Open",{"$f":"VLOOKUP(F1691,Soutez!A:B,2,FALSE)","v":"SK"},{"$f":"VLOOKUP(F1691,Soutez!A:C,3,FALSE)","v":2022},41,0,0.96500000000000008,0,0,null,null,"Ventus 3M - 18m","WZ",{"$f":"IF(ISERROR(VLOOKUP(A1691,Pilot,6,0)),\"Není v databázi\",VLOOKUP(A1691,Pilot,6,0))","v":"Není v databázi"}]
["Andrej Majewski",null,null,"Warminsko-Mazurski",null,"FCC 2022 - Kombi Open",{"$f":"VLOOKUP(F1692,Soutez!A:B,2,FALSE)","v":"SK"},{"$f":"VLOOKUP(F1692,Soutez!A:C,3,FALSE)","v":2022},41,0,0.96500000000000008,0,0,null,null,"ASG-29E /18m",29,"Není v databázi"]
["Zsolt Osi",null,null,"G6AX,ACFH",null,"FCC 2022 - Kombi Open",{"$f":"VLOOKUP(F1693,Soutez!A:B,2,FALSE)","v":"SK"},{"$f":"VLOOKUP(F1693,Soutez!A:C,3,FALSE)","v":2022},41,0,0.96500000000000008,0,0,null,null,"ASW-22BLE /26,58m (850 kg)","BY","Není v databázi"]
["Heimo Demmerer",null,null,"SFC Mariazell",null,"FCC 2022 - Kombi Open",{"$f":"VLOOKUP(F1694,Soutez!A:B,2,FALSE)","v":"SK"},{"$f":"VLOOKUP(F1694,Soutez!A:C,3,FALSE)","v":2022},41,0,0.96500000000000008,0,0,null,null,"Ventus 3M - 18m","OD","Není v databázi"]
["Botond Szabadfi",null,null,"Alfoldi AK",null,"FCC 2022 - Kombi Open",{"$f":"VLOOKUP(F1695,Soutez!A:B,2,FALSE)","v":"SK"},{"$f":"VLOOKUP(F1695,Soutez!A:C,3,FALSE)","v":2022},41,0,0.96500000000000008,0,0,null,null,"Nimbus 4DM","XXL","Není v databázi"]
["Michal Lesinger",{"$f":"VLOOKUP(A1696,Pilot,2,0)","v":1966},{"$f":"VLOOKUP(A1696,Pilot,5,0)","v":"M"},{"$f":"VLOOKUP(A1696,Pilot,3,0)","v":"Moravská Třebová"},{"$f":"VLOOKUP(A1696,Pilot,4,0)","v":"CZ/M"},"Pribina Cup 2022 - Klub",{"$f":"VLOOKUP(F1696,Soutez!A:B,2,FALSE)","v":"SK"},{"$f":"VLOOKUP(F1696,Soutez!A:C,3,FALSE)","v":2022},1,3186,{"$f":"VLOOKUP(F1696,Soutez,12,0)","v":0.94000000000000006},{"$f":"ROUND(J1696/MAX($J$1696:$J$1723)*10000*0.7+(MAX($I$1696:$I$1723)-I1696)/(MAX($I$1696:$I$1723)-1)*10000*0.3,0)","v":10000},{"$f":"ROUND(K1696*L1696,0)","v":9400},"x",null,"ASW 20","LL",""]
["Roelof Corporaal",null,null,"Gelderse Zweefvliegclub",null,"Pribina Cup 2022 - Klub",{"$f":"VLOOKUP(F1697,Soutez!A:B,2,FALSE)","v":"SK"},{"$f":"VLOOKUP(F1697,Soutez!A:C,3,FALSE)","v":2022},2,3179,{"$f":"VLOOKUP(F1697,Soutez,12,0)","v":0.94000000000000006},9874,{"$f":"ROUND(K1697*L1697,0)","v":9282},null,null,"LS 7 WL","LK","Není v databázi"]
["Mark Travner",null,null,"Aeroklub Celje",null,"Pribina Cup 2022 - Klub",{"$f":"VLOOKUP(F1698,Soutez!A:B,2,FALSE)","v":"SK"},{"$f":"VLOOKUP(F1698,Soutez!A:C,3,FALSE)","v":2022},3,3169,0.94000000000000006,9740,9156,null,null,"ASW 20 W","SH","Není v databázi"]
["Jiri Kusbach",{"$f":"VLOOKUP(A1699,Pilot,2,0)","v":1959},{"$f":"VLOOKUP(A1699,Pilot,5,0)","v":"M"},{"$f":"VLOOKUP(A1699,Pilot,3,0)","v":"Luhačovice"},{"$f":"VLOOKUP(A1699,Pilot,4,0)","v":"CZ/M"},"Pribina Cup 2022 - Klub",{"$f":"VLOOKUP(F1699,Soutez!A:B,2,FALSE)","v":"SK"},{"$f":"VLOOKUP(F1699,Soutez!A:C,3,FALSE)","v":2022},4,3164,0.94000000000000006,9618,9041,"x",null,"KKB-15E FES","B",""]
["Edmund Schuller",null,null,null,null,"Pribina Cup 2022 - Klub",{"$f":"VLOOKUP(F1700,Soutez!A:B,2,FALSE)","v":"SK"},{"$f":"VLOOKUP(F1700,Soutez!A:C,3,FALSE)","v":2022},5,3114,0.94000000000000006,9397,8833,null,null,"ASW 24 WL","ZS","Není v databázi"]
["Tibor Fratrik",null,null,"SGC Martin",null,"Pribina Cup 2022 - Klub",{"$f":"VLOOKUP(F1701,Soutez!A:B,2,FALSE)","v":"SK"},{"$f":"VLOOKUP(F1701,Soutez!A:C,3,FALSE)","v":2022},6,3037,0.94000000000000006,9117,8570,null,null,"ASW 20 C","VG","Není v databázi"]
["Uwe Wahlig",null,null,"Segelfluggruppe Bensheim e.V.",null,"Pribina Cup 2022 - Klub",{"$f":"VLOOKUP(F1702,Soutez!A:B,2,FALSE)","v":"SK"},{"$f":"VLOOKUP(F1702,Soutez!A:C,3,FALSE)","v":2022},7,3011,0.94000000000000006,8949,8412,null,null,"LS 3 WL","SN","Není v databázi"]
["Juliusz Pieniazek",null,null,"Aeroklub Podhalanski",null,"Pribina Cup 2022 - Klub",{"$f":"VLOOKUP(F1703,Soutez!A:B,2,FALSE)","v":"SK"},{"$f":"VLOOKUP(F1703,Soutez!A:C,3,FALSE)","v":2022},8,2878,0.94000000000000006,8546,8033,null,null,"ASW 19B",11,"Není v databázi"]
["Boris Zorz",null,null,null,null,"Pribina Cup 2022 - Klub",{"$f":"VLOOKUP(F1704,Soutez!A:B,2,FALSE)","v":"SK"},{"$f":"VLOOKUP(F1704,Soutez!A:C,3,FALSE)","v":2022},9,2863,0.94000000000000006,8401,7897,null,null,"Std. Cirrus WL","IPF","Není v databázi"]
["Artur Lonczuk",null,null,null,null,"Pribina Cup 2022 - Klub",{"$f":"VLOOKUP(F1705,Soutez!A:B,2,FALSE)","v":"SK"},{"$f":"VLOOKUP(F1705,Soutez!A:C,3,FALSE)","v":2022},10,2810,0.94000000000000006,8174,7684,null,null,"Jantar 2","KM","Není v databázi"]
["Zbigniew Górecki",null,null,"Lódz",null,"Pribina Cup 2022 - Klub",{"$f":"VLOOKUP(F1706,Soutez!A:B,2,FALSE)","v":"SK"},{"$f":"VLOOKUP(F1706,Soutez!A:C,3,FALSE)","v":2022},11,2755,0.94000000000000006,7942,7465,null,null,"Mini Nimbus","CH","Není v databázi"]
["Wojciech Domanski",null,null,null,null,"Pribina Cup 2022 - Klub",{"$f":"VLOOKUP(F1707,Soutez!A:B,2,FALSE)","v":"SK"},{"$f":"VLOOKUP(F1707,Soutez!A:C,3,FALSE)","v":2022},12,2742,0.94000000000000006,7802,7334,null,null,"LS 4","WW","Není v databázi"]
["Jakub Kaczorowski",null,null,"Wloclawek",null,"Pribina Cup 2022 - Klub",{"$f":"VLOOKUP(F1708,Soutez!A:B,2,FALSE)","v":"SK"},{"$f":"VLOOKUP(F1708,Soutez!A:C,3,FALSE)","v":2022},13,2716,{"$f":"VLOOKUP(F1708,Soutez,12,0)","v":0.94000000000000006},7634,7176,null,null,"Jantar 2","BI","Není v databázi"]
["Tomasz Kurowski",null,null,"Aeroklub Krakowski",null,"Pribina Cup 2022 - Klub",{"$f":"VLOOKUP(F1709,Soutez!A:B,2,FALSE)","v":"SK"},{"$f":"VLOOKUP(F1709,Soutez!A:C,3,FALSE)","v":2022},14,2703,0.94000000000000006,7494,7044,null,null,"SZD-48-3M","BZ","Není v databázi"]
["Maciej Kowalski",null,null,"Aeroklub Kielecki",null,"Pribina Cup 2022 - Klub",{"$f":"VLOOKUP(F1710,Soutez!A:B,2,FALSE)","v":"SK"},{"$f":"VLOOKUP(F1710,Soutez!A:C,3,FALSE)","v":2022},15,2698,0.94000000000000006,7372,{"$f":"ROUND(K1710*L1710,0)","v":6930},null,null,"Jantar 2","SO","Není v databázi"]
["Pawel Glowacki",null,null,null,null,"Pribina Cup 2022 - Klub",{"$f":"VLOOKUP(F1711,Soutez!A:B,2,FALSE)","v":"SK"},{"$f":"VLOOKUP(F1711,Soutez!A:C,3,FALSE)","v":2022},16,2627,0.94000000000000006,7105,6679,null,null,"Pegase C-101A","J7","Není v databázi"]
["Benjamin Josuttis",null,null,"LSV Kreis Osterode e.V.",null,"Pribina Cup 2022 - Klub",{"$f":"VLOOKUP(F1712,Soutez!A:B,2,FALSE)","v":"SK"},{"$f":"VLOOKUP(F1712,Soutez!A:C,3,FALSE)","v":2022},17,2624,0.94000000000000006,6987,6568,null,null,"LS 4","RF","Není v databázi"]
["Filip Durda",null,null,"Aeroklub Kielecki",null,"Pribina Cup 2022 - Klub",{"$f":"VLOOKUP(F1713,Soutez!A:B,2,FALSE)","v":"SK"},{"$f":"VLOOKUP(F1713,Soutez!A:C,3,FALSE)","v":2022},18,2568,0.94000000000000006,6753,6348,null,null,"Jantar 2","Y3","Není v databázi"]
["Jakub Kos",null,null,null,null,"Pribina Cup 2022 - Klub",{"$f":"VLOOKUP(F1714,Soutez!A:B,2,FALSE)","v":"SK"},{"$f":"VLOOKUP(F1714,Soutez!A:C,3,FALSE)","v":2022},19,2370,0.94000000000000006,6207,5835,null,null,"Jantar 2","Z4R","Není v databázi"]
["Stas Stankovic",null,null,"Aeroklub Novo mesto",null,"Pribina Cup 2022 - Klub",{"$f":"VLOOKUP(F1715,Soutez!A:B,2,FALSE)","v":"SK"},{"$f":"VLOOKUP(F1715,Soutez!A:C,3,FALSE)","v":2022},20,2352,0.94000000000000006,6056,5693,null,null,"DG 101 G","GO","Není v databázi"]
["Markus Uhlig",null,null,"FC Grossrückerswalde",null,"Pribina Cup 2022 - Klub",{"$f":"VLOOKUP(F1716,Soutez!A:B,2,FALSE)","v":"SK"},{"$f":"VLOOKUP(F1716,Soutez!A:C,3,FALSE)","v":2022},21,2294,0.94000000000000006,5818,5469,null,null,"Jantar 2 WL","M4","Není v databázi"]
["Ulrich Luta",null,null,"Luftsportverein Aachen e.V.",null,"Pribina Cup 2022 - Klub",{"$f":"VLOOKUP(F1717,Soutez!A:B,2,FALSE)","v":"SK"},{"$f":"VLOOKUP(F1717,Soutez!A:C,3,FALSE)","v":2022},22,2247,0.94000000000000006,5604,5268,null,null,"LS 7 WL","PR","Není v databázi"]
["Richard Vajda",null,null,null,null,"Pribina Cup 2022 - Klub",{"$f":"VLOOKUP(F1718,Soutez!A:B,2,FALSE)","v":"SK"},{"$f":"VLOOKUP(F1718,Soutez!A:C,3,FALSE)","v":2022},23,1820,0.94000000000000006,4554,4281,null,null,"ASW 20 W","BAS","Není v databázi"]
["Michael Wilden",null,null,"Luftsportverein Aachen e.V.",null,"Pribina Cup 2022 - Klub",{"$f":"VLOOKUP(F1719,Soutez!A:B,2,FALSE)","v":"SK"},{"$f":"VLOOKUP(F1719,Soutez!A:C,3,FALSE)","v":2022},24,1585,0.94000000000000006,3927,3691,null,null,"LS 7 WL","FOX","Není v databázi"]
["Kornel Negro",null,null,null,null,"Pribina Cup 2022 - Klub",{"$f":"VLOOKUP(F1720,Soutez!A:B,2,FALSE)","v":"SK"},{"$f":"VLOOKUP(F1720,Soutez!A:C,3,FALSE)","v":2022},25,1468,0.94000000000000006,3559,3345,null,null,"DG 202/15m","DK","Není v databázi"]
["Benedikt Sindermann",null,null,"Stölln/Rhinow e.V.",null,"Pribina Cup 2022 - Klub",{"$f":"VLOOKUP(F1721,Soutez!A:B,2,FALSE)","v":"SK"},{"$f":"VLOOKUP(F1721,Soutez!A:C,3,FALSE)","v":2022},26,1265,0.94000000000000006,3002,2822,null,null,"LS 1 f","1F","Není v databázi"]
["Stefan Schneider",null,null,"SFG Bensheim",null,"Pribina Cup 2022 - Klub",{"$f":"VLOOKUP(F1722,Soutez!A:B,2,FALSE)","v":"SK"},{"$f":"VLOOKUP(F1722,Soutez!A:C,3,FALSE)","v":2022},27,1199,0.94000000000000006,2745,2580,null,null,"Std. Cirrus","KT","Není v databázi"]
["Milos Horvat",null,null,null,null,"Pribina Cup 2022 - Klub",{"$f":"VLOOKUP(F1723,Soutez!A:B,2,FALSE)","v":"SK"},{"$f":"VLOOKUP(F1723,Soutez!A:C,3,FALSE)","v":2022},28,724,0.94000000000000006,1591,1496,null,null,"ASW 20 B","II","Není v databázi"]
["David Mach",{"$f":"VLOOKUP(A1724,Pilot,2,0)","v":1994},{"$f":"VLOOKUP(A1724,Pilot,5,0)","v":"M"},{"$f":"VLOOKUP(A1724,Pilot,3,0)","v":"Hronov"},{"$f":"VLOOKUP(A1724,Pilot,4,0)","v":"CZ/C2"},"Pribina Cup 2022 - Kombi 15m",{"$f":"VLOOKUP(F1724,Soutez!A:B,2,FALSE)","v":"SK"},{"$f":"VLOOKUP(F1724,Soutez!A:C,3,FALSE)","v":2022},1,3942,{"$f":"VLOOKUP(F1724,Soutez,12,0)","v":0.93},{"$f":"ROUND(J1724/MAX($J$1724:$J$1749)*10000*0.7+(MAX($I$1724:$I$1749)-I1724)/(MAX($I$1724:$I$1749)-1)*10000*0.3,0)","v":10000},{"$f":"ROUND(K1724*L1724,0)","v":9300},"x",null,"Ventus 2a/15m","AX",""]
["Max Maslak",null,null,null,null,"Pribina Cup 2022 - Kombi 15m",{"$f":"VLOOKUP(F1725,Soutez!A:B,2,FALSE)","v":"SK"},{"$f":"VLOOKUP(F1725,Soutez!A:C,3,FALSE)","v":2022},2,3866,{"$f":"VLOOKUP(F1725,Soutez,12,0)","v":0.93},9745,{"$f":"ROUND(K1725*L1725,0)","v":9063},null,null,"Discus 2T","OLC","Není v databázi"]
["Jan Schulz",null,null,null,null,"Pribina Cup 2022 - Kombi 15m",{"$f":"VLOOKUP(F1726,Soutez!A:B,2,FALSE)","v":"SK"},{"$f":"VLOOKUP(F1726,Soutez!A:C,3,FALSE)","v":2022},3,3623,0.93,9194,8550,null,null,"Discus 2T","BW3","Není v databázi"]
["Sebastian Nagel",null,null,null,null,"Pribina Cup 2022 - Kombi 15m",{"$f":"VLOOKUP(F1727,Soutez!A:B,2,FALSE)","v":"SK"},{"$f":"VLOOKUP(F1727,Soutez!A:C,3,FALSE)","v":2022},4,3564,0.93,8969,8341,null,null,"Discus 2a","XN","Není v databázi"]
["Tomasz Hornik",null,null,"Aeroklub Nadwislanski",null,"Pribina Cup 2022 - Kombi 15m",{"$f":"VLOOKUP(F1728,Soutez!A:B,2,FALSE)","v":"SK"},{"$f":"VLOOKUP(F1728,Soutez!A:C,3,FALSE)","v":2022},5,3530,0.93,8788,8173,null,null,"ASG 29/15m","PL","Není v databázi"]
["Lukasz Grabowski",null,null,null,null,"Pribina Cup 2022 - Kombi 15m",{"$f":"VLOOKUP(F1729,Soutez!A:B,2,FALSE)","v":"SK"},{"$f":"VLOOKUP(F1729,Soutez!A:C,3,FALSE)","v":2022},6,3526,0.93,8661,8055,null,null,"SZD 56 Diana2","RP","Není v databázi"]
["Patrick Benoist",null,null,null,null,"Pribina Cup 2022 - Kombi 15m",{"$f":"VLOOKUP(F1730,Soutez!A:B,2,FALSE)","v":"SK"},{"$f":"VLOOKUP(F1730,Soutez!A:C,3,FALSE)","v":2022},7,3478,0.93,8456,7864,null,null,"LS 8s","PB","Není v databázi"]
["Jan Kretzschmar",null,null,"Aero Club Lichtenfels",null,"Pribina Cup 2022 - Kombi 15m",{"$f":"VLOOKUP(F1731,Soutez!A:B,2,FALSE)","v":"SK"},{"$f":"VLOOKUP(F1731,Soutez!A:C,3,FALSE)","v":2022},8,3338,{"$f":"VLOOKUP(F1731,Soutez,12,0)","v":0.93},8087,7521,null,null,"LS 8a","JK","Není v databázi"]
["Daniel Bernhardt",null,null,null,null,"Pribina Cup 2022 - Kombi 15m",{"$f":"VLOOKUP(F1732,Soutez!A:B,2,FALSE)","v":"SK"},{"$f":"VLOOKUP(F1732,Soutez!A:C,3,FALSE)","v":2022},9,3278,0.93,7861,7311,null,null,"Discus 2T","BW2","Není v databázi"]
["Hannes Friederritzi",null,null,null,null,"Pribina Cup 2022 - Kombi 15m",{"$f":"VLOOKUP(F1733,Soutez!A:B,2,FALSE)","v":"SK"},{"$f":"VLOOKUP(F1733,Soutez!A:C,3,FALSE)","v":2022},10,3267,0.93,7721,{"$f":"ROUND(K1733*L1733,0)","v":7181},null,null,"Discus 2T","NW2","Není v databázi"]
["Ambrus Vancso",null,null,"Dunaferr",null,"Pribina Cup 2022 - Kombi 15m",{"$f":"VLOOKUP(F1734,Soutez!A:B,2,FALSE)","v":"SK"},{"$f":"VLOOKUP(F1734,Soutez!A:C,3,FALSE)","v":2022},11,3242,0.93,7557,7028,null,null,"Ventus bT/15m","RB","Není v databázi"]
["Clemens Berger",null,null,null,null,"Pribina Cup 2022 - Kombi 15m",{"$f":"VLOOKUP(F1735,Soutez!A:B,2,FALSE)","v":"SK"},{"$f":"VLOOKUP(F1735,Soutez!A:C,3,FALSE)","v":2022},12,3240,0.93,7433,6913,null,null,"LS 6a","8A","Není v databázi"]
["Wiktor Lacinski",null,null,"Aeroklub Ostrowski",null,"Pribina Cup 2022 - Kombi 15m",{"$f":"VLOOKUP(F1736,Soutez!A:B,2,FALSE)","v":"SK"},{"$f":"VLOOKUP(F1736,Soutez!A:C,3,FALSE)","v":2022},13,3196,0.93,7235,6729,null,null,"Discus 2a","L","Není v databázi"]
["Karol Snapko",null,null,"Aeroklub Nadwislanski",null,"Pribina Cup 2022 - Kombi 15m",{"$f":"VLOOKUP(F1737,Soutez!A:B,2,FALSE)","v":"SK"},{"$f":"VLOOKUP(F1737,Soutez!A:C,3,FALSE)","v":2022},14,3193,0.93,7110,6612,null,null,"Discus 2a","Y","Není v databázi"]
["Henrik Bieler",null,null,"Aeroclub Landau",null,"Pribina Cup 2022 - Kombi 15m",{"$f":"VLOOKUP(F1738,Soutez!A:B,2,FALSE)","v":"SK"},{"$f":"VLOOKUP(F1738,Soutez!A:C,3,FALSE)","v":2022},15,3173,0.93,6954,6467,null,null,"Ventus 2b","1G","Není v databázi"]
["Judyta Czyz",null,null,null,null,"Pribina Cup 2022 - Kombi 15m",{"$f":"VLOOKUP(F1739,Soutez!A:B,2,FALSE)","v":"SK"},{"$f":"VLOOKUP(F1739,Soutez!A:C,3,FALSE)","v":2022},16,2937,0.93,6415,5966,null,null,"LS 8a","MP","Není v databázi"]
["Kinga Tchorz",null,null,null,null,"Pribina Cup 2022 - Kombi 15m",{"$f":"VLOOKUP(F1740,Soutez!A:B,2,FALSE)","v":"SK"},{"$f":"VLOOKUP(F1740,Soutez!A:C,3,FALSE)","v":2022},17,2915,0.93,6256,5818,null,null,"LS 8","LOT","Není v databázi"]
["Dana Novakova",{"$f":"VLOOKUP(A1741,Pilot,2,0)","v":1965},{"$f":"VLOOKUP(A1741,Pilot,5,0)","v":"F"},{"$f":"VLOOKUP(A1741,Pilot,3,0)","v":"Mladá Boleslav"},{"$f":"VLOOKUP(A1741,Pilot,4,0)","v":"CZ/C1"},"Pribina Cup 2022 - Kombi 15m",{"$f":"VLOOKUP(F1741,Soutez!A:B,2,FALSE)","v":"SK"},{"$f":"VLOOKUP(F1741,Soutez!A:C,3,FALSE)","v":2022},18,2907,0.93,6122,5693,null,null,"LS 8a","AU",""]
["Jana Treslova",1963,"F","Raná","CZ/C2","Pribina Cup 2022 - Kombi 15m",{"$f":"VLOOKUP(F1742,Soutez!A:B,2,FALSE)","v":"SK"},{"$f":"VLOOKUP(F1742,Soutez!A:C,3,FALSE)","v":2022},19,2855,0.93,5910,5496,null,null,"Discus 2a","GX",""]
["Karel Novak",1993,"M","Mladá Boleslav","CZ/C1","Pribina Cup 2022 - Kombi 15m",{"$f":"VLOOKUP(F1743,Soutez!A:B,2,FALSE)","v":"SK"},{"$f":"VLOOKUP(F1743,Soutez!A:C,3,FALSE)","v":2022},20,2721,0.93,5552,5163,null,null,"JS 3/15m","ZE",""]
["Piotr Jarysz",null,null,"Aeroklub Leszczynski",null,"Pribina Cup 2022 - Kombi 15m",{"$f":"VLOOKUP(F1744,Soutez!A:B,2,FALSE)","v":"SK"},{"$f":"VLOOKUP(F1744,Soutez!A:C,3,FALSE)","v":2022},21,2325,0.93,4729,4398,null,null,"LS 6","BB","Není v databázi"]
["Aurélien Doriat",null,null,"ACP Poitiers",null,"Pribina Cup 2022 - Kombi 15m",{"$f":"VLOOKUP(F1745,Soutez!A:B,2,FALSE)","v":"SK"},{"$f":"VLOOKUP(F1745,Soutez!A:C,3,FALSE)","v":2022},22,2307,0.93,4577,4257,null,null,"LS 8","P1",{"$f":"IF(ISERROR(VLOOKUP(A1745,Pilot,6,0)),\"Není v databázi\",VLOOKUP(A1745,Pilot,6,0))","v":"Není v databázi"}]
["Maciej Walasek",null,null,"Aeroklub Krakowski",null,"Pribina Cup 2022 - Kombi 15m",{"$f":"VLOOKUP(F1746,Soutez!A:B,2,FALSE)","v":"SK"},{"$f":"VLOOKUP(F1746,Soutez!A:C,3,FALSE)","v":2022},23,2085,0.93,4062,3778,null,null,"LS 6c/15m","KK","Není v databázi"]
["Tomasz Królik",null,null,null,null,"Pribina Cup 2022 - Kombi 15m",{"$f":"VLOOKUP(F1747,Soutez!A:B,2,FALSE)","v":"SK"},{"$f":"VLOOKUP(F1747,Soutez!A:C,3,FALSE)","v":2022},24,1811,0.93,3456,3214,null,null,"Ventus a WL","TT","Není v databázi"]
["Philip Joens",null,null,null,null,"Pribina Cup 2022 - Kombi 15m",{"$f":"VLOOKUP(F1748,Soutez!A:B,2,FALSE)","v":"SK"},{"$f":"VLOOKUP(F1748,Soutez!A:C,3,FALSE)","v":2022},25,1777,0.93,3276,3047,null,null,"LS 7 WL","AP","Není v databázi"]
["Istvan Reti",null,null,null,null,"Pribina Cup 2022 - Kombi 15m",{"$f":"VLOOKUP(F1749,Soutez!A:B,2,FALSE)","v":"SK"},{"$f":"VLOOKUP(F1749,Soutez!A:C,3,FALSE)","v":2022},26,1687,0.93,2996,2786,null,null,"Ventus b/15m","G6","Není v databázi"]
["Wim Akkermans",null,null,null,null,"Pribina Cup 2022 - Kombi Open",{"$f":"VLOOKUP(F1750,Soutez!A:B,2,FALSE)","v":"SK"},{"$f":"VLOOKUP(F1750,Soutez!A:C,3,FALSE)","v":2022},1,3844,{"$f":"VLOOKUP(F1750,Soutez,12,0)","v":0.95000000000000007},{"$f":"ROUND(J1750/MAX($J$1750:$J$1795)*10000*0.7+(MAX($I$1750:$I$1795)-I1750)/(MAX($I$1750:$I$1795)-1)*10000*0.3,0)","v":10000},{"$f":"ROUND(K1750*L1750,0)","v":9500},null,null,"Ventus 3F/18m","LC","Není v databázi"]
["Radek Krejcirik",{"$f":"VLOOKUP(A1751,Pilot,2,0)","v":1991},{"$f":"VLOOKUP(A1751,Pilot,5,0)","v":"M"},{"$f":"VLOOKUP(A1751,Pilot,3,0)","v":"Hranice"},{"$f":"VLOOKUP(A1751,Pilot,4,0)","v":"CZ/M"},"Pribina Cup 2022 - Kombi Open",{"$f":"VLOOKUP(F1751,Soutez!A:B,2,FALSE)","v":"SK"},{"$f":"VLOOKUP(F1751,Soutez!A:C,3,FALSE)","v":2022},2,3844,{"$f":"VLOOKUP(F1751,Soutez,12,0)","v":0.95000000000000007},9933,{"$f":"ROUND(K1751*L1751,0)","v":9436},null,null,"JS 1-C 21","ZF",""]
["Matthias Sturm",null,null,"LSV Schwarzwald",null,"Pribina Cup 2022 - Kombi Open",{"$f":"VLOOKUP(F1752,Soutez!A:B,2,FALSE)","v":"SK"},{"$f":"VLOOKUP(F1752,Soutez!A:C,3,FALSE)","v":2022},3,3753,0.95000000000000007,9701,9216,null,null,"JS 3/18m","M9","Není v databázi"]
["Leszek Staryszak",null,null,"Warsaw",null,"Pribina Cup 2022 - Kombi Open",{"$f":"VLOOKUP(F1753,Soutez!A:B,2,FALSE)","v":"SK"},{"$f":"VLOOKUP(F1753,Soutez!A:C,3,FALSE)","v":2022},4,3673,0.95000000000000007,9489,9015,null,null,"ASG 29/18m","BGI","Není v databázi"]
["Enrique Levin",null,null,"LSV Homberg/Ohm",null,"Pribina Cup 2022 - Kombi Open",{"$f":"VLOOKUP(F1754,Soutez!A:B,2,FALSE)","v":"SK"},{"$f":"VLOOKUP(F1754,Soutez!A:C,3,FALSE)","v":2022},5,3636,0.95000000000000007,9355,8887,null,null,"EB 29R","EL","Není v databázi"]
["Zdislaw Bednarczuk",null,null,null,null,"Pribina Cup 2022 - Kombi Open",{"$f":"VLOOKUP(F1755,Soutez!A:B,2,FALSE)","v":"SK"},{"$f":"VLOOKUP(F1755,Soutez!A:C,3,FALSE)","v":2022},6,3600,0.95000000000000007,9222,8761,null,null,"JS 3/18m","ZB","Není v databázi"]
["Zoltan Hamar",null,null,null,null,"Pribina Cup 2022 - Kombi Open",{"$f":"VLOOKUP(F1756,Soutez!A:B,2,FALSE)","v":"SK"},{"$f":"VLOOKUP(F1756,Soutez!A:C,3,FALSE)","v":2022},7,3580,0.95000000000000007,9119,8663,null,null,"JS 3/18m","7A","Není v databázi"]
["Toni Kittler",null,null,"FSV Mössingen",null,"Pribina Cup 2022 - Kombi Open",{"$f":"VLOOKUP(F1757,Soutez!A:B,2,FALSE)","v":"SK"},{"$f":"VLOOKUP(F1757,Soutez!A:C,3,FALSE)","v":2022},8,3562,0.95000000000000007,9020,8569,null,null,"Ventus 3/18m","IYB","Není v databázi"]
["Thomas Wettemann",null,null,"Fliegergruppe Neckartal-Koengen e.V.",null,"Pribina Cup 2022 - Kombi Open",{"$f":"VLOOKUP(F1758,Soutez!A:B,2,FALSE)","v":"SK"},{"$f":"VLOOKUP(F1758,Soutez!A:C,3,FALSE)","v":2022},9,3530,0.95000000000000007,8895,8450,null,null,"JS 3/18m","EA","Není v databázi"]
["Simon Briel",null,null,null,null,"Pribina Cup 2022 - Kombi Open",{"$f":"VLOOKUP(F1759,Soutez!A:B,2,FALSE)","v":"SK"},{"$f":"VLOOKUP(F1759,Soutez!A:C,3,FALSE)","v":2022},10,3504,0.95000000000000007,8781,8342,null,null,"EB 28/28,3m","IGO","Není v databázi"]
["Jernej Lokovsek",null,null,"Aeroklub ALC Lesce",null,"Pribina Cup 2022 - Kombi Open",{"$f":"VLOOKUP(F1760,Soutez!A:B,2,FALSE)","v":"SK"},{"$f":"VLOOKUP(F1760,Soutez!A:C,3,FALSE)","v":2022},11,3491,0.95000000000000007,8691,8256,null,null,"JS 3/18m","NL","Není v databázi"]
["Andreas Lutz",null,null,"SFC-Ried; Akaflieg Muenchen; FG Wolf Hirth",null,"Pribina Cup 2022 - Kombi Open",{"$f":"VLOOKUP(F1761,Soutez!A:B,2,FALSE)","v":"SK"},{"$f":"VLOOKUP(F1761,Soutez!A:C,3,FALSE)","v":2022},11,3491,0.95000000000000007,8691,8256,null,null,"Ventus 3/18m","A","Není v databázi"]
["Petr Krejcirik",{"$f":"VLOOKUP(A1762,Pilot,2,0)","v":1960},{"$f":"VLOOKUP(A1762,Pilot,5,0)","v":"M"},{"$f":"VLOOKUP(A1762,Pilot,3,0)","v":"Hranice"},{"$f":"VLOOKUP(A1762,Pilot,4,0)","v":"CZ/M"},"Pribina Cup 2022 - Kombi Open",{"$f":"VLOOKUP(F1762,Soutez!A:B,2,FALSE)","v":"SK"},{"$f":"VLOOKUP(F1762,Soutez!A:C,3,FALSE)","v":2022},13,3473,{"$f":"VLOOKUP(F1762,Soutez,12,0)","v":0.95000000000000007},8524,8098,null,null,"AS 33 Es/18m",12,""]
["Luka Znidarsic",null,null,"Ak Postojna",null,"Pribina Cup 2022 - Kombi Open",{"$f":"VLOOKUP(F1763,Soutez!A:B,2,FALSE)","v":"SK"},{"$f":"VLOOKUP(F1763,Soutez!A:C,3,FALSE)","v":2022},13,3473,0.95000000000000007,8524,8098,null,null,"Ventus 3F/18m","LZ","Není v databázi"]
["Nils Fecker",null,null,"Luftsportgruppe Erbslöh Langenfeld e.V.",null,"Pribina Cup 2022 - Kombi Open",{"$f":"VLOOKUP(F1764,Soutez!A:B,2,FALSE)","v":"SK"},{"$f":"VLOOKUP(F1764,Soutez!A:C,3,FALSE)","v":2022},15,3471,0.95000000000000007,8387,{"$f":"ROUND(K1764*L1764,0)","v":7968},null,null,"Ventus 3/18m","3V","Není v databázi"]
["Ivan Novak",{"$f":"VLOOKUP(A1765,Pilot,2,0)","v":1962},{"$f":"VLOOKUP(A1765,Pilot,5,0)","v":"M"},{"$f":"VLOOKUP(A1765,Pilot,3,0)","v":"Mladá Boleslav"},{"$f":"VLOOKUP(A1765,Pilot,4,0)","v":"CZ/C1"},"Pribina Cup 2022 - Kombi Open",{"$f":"VLOOKUP(F1765,Soutez!A:B,2,FALSE)","v":"SK"},{"$f":"VLOOKUP(F1765,Soutez!A:C,3,FALSE)","v":2022},16,3433,0.95000000000000007,8252,7839,null,null,"ASG 29/18m","QZ",""]
["Marius Stelzer",null,null,null,null,"Pribina Cup 2022 - Kombi Open",{"$f":"VLOOKUP(F1766,Soutez!A:B,2,FALSE)","v":"SK"},{"$f":"VLOOKUP(F1766,Soutez!A:C,3,FALSE)","v":2022},17,3316,0.95000000000000007,7972,7573,null,null,"Discus 2c FES/18m","FES","Není v databázi"]
["Marek Sawczuk",null,null,"Aeroklub Warszawski",null,"Pribina Cup 2022 - Kombi Open",{"$f":"VLOOKUP(F1767,Soutez!A:B,2,FALSE)","v":"SK"},{"$f":"VLOOKUP(F1767,Soutez!A:C,3,FALSE)","v":2022},18,3295,0.95000000000000007,7867,7474,null,null,"ASG 29/18m","MS","Není v databázi"]
["Nik Salej",null,null,"Aeroklub Celje",null,"Pribina Cup 2022 - Kombi Open",{"$f":"VLOOKUP(F1768,Soutez!A:B,2,FALSE)","v":"SK"},{"$f":"VLOOKUP(F1768,Soutez!A:C,3,FALSE)","v":2022},19,3170,0.95000000000000007,7573,7194,null,null,"JS 3/18m","XD","Není v databázi"]
["Ondrej Dupal",{"$f":"VLOOKUP(A1769,Pilot,2,0)","v":1966},{"$f":"VLOOKUP(A1769,Pilot,5,0)","v":"M"},{"$f":"VLOOKUP(A1769,Pilot,3,0)","v":"GAC Benešov"},{"$f":"VLOOKUP(A1769,Pilot,4,0)","v":"CZ/C1"},"Pribina Cup 2022 - Kombi Open",{"$f":"VLOOKUP(F1769,Soutez!A:B,2,FALSE)","v":"SK"},{"$f":"VLOOKUP(F1769,Soutez!A:C,3,FALSE)","v":2022},20,3162,0.95000000000000007,7491,7116,null,null,"ASG 29/18m","GOL",""]
["Andreas Sandhöfner",null,null,"FSK Sturmvogel",null,"Pribina Cup 2022 - Kombi Open",{"$f":"VLOOKUP(F1770,Soutez!A:B,2,FALSE)","v":"SK"},{"$f":"VLOOKUP(F1770,Soutez!A:C,3,FALSE)","v":2022},21,3133,0.95000000000000007,7372,7003,null,null,"ASG 29/18m","AY","Není v databázi"]
["Erazem Polutnik",null,null,"Aeroclub Celje",null,"Pribina Cup 2022 - Kombi Open",{"$f":"VLOOKUP(F1771,Soutez!A:B,2,FALSE)","v":"SK"},{"$f":"VLOOKUP(F1771,Soutez!A:C,3,FALSE)","v":2022},22,3123,0.95000000000000007,7287,6923,null,null,"Ventus 3/18m","EM","Není v databázi"]
["Viliam Kubovcik",null,null,"AK Poprad",null,"Pribina Cup 2022 - Kombi Open",{"$f":"VLOOKUP(F1772,Soutez!A:B,2,FALSE)","v":"SK"},{"$f":"VLOOKUP(F1772,Soutez!A:C,3,FALSE)","v":2022},22,3123,0.95000000000000007,7287,6923,null,null,"Ventus 2cx/18m","VV","Není v databázi"]
["Christian Hynek",null,null,"ASKÖ Flugsport Wien",null,"Pribina Cup 2022 - Kombi Open",{"$f":"VLOOKUP(F1773,Soutez!A:B,2,FALSE)","v":"SK"},{"$f":"VLOOKUP(F1773,Soutez!A:C,3,FALSE)","v":2022},24,3106,0.95000000000000007,7123,6767,null,null,"EB 29DR-28m","DD","Není v databázi"]
["Jan Kovalcik",null,null,null,null,"Pribina Cup 2022 - Kombi Open",{"$f":"VLOOKUP(F1774,Soutez!A:B,2,FALSE)","v":"SK"},{"$f":"VLOOKUP(F1774,Soutez!A:C,3,FALSE)","v":2022},25,3088,0.95000000000000007,7023,6672,null,null,"Discus 2c FES/18m","ZI","Není v databázi"]
["Jan Umlauf",null,null,"HAC Boberg",null,"Pribina Cup 2022 - Kombi Open",{"$f":"VLOOKUP(F1775,Soutez!A:B,2,FALSE)","v":"SK"},{"$f":"VLOOKUP(F1775,Soutez!A:C,3,FALSE)","v":2022},26,3078,0.95000000000000007,6938,6591,null,null,"JS 3/18m","XC","Není v databázi"]
["Sebastian Huhmann",null,null,"HAC Boberg",null,"Pribina Cup 2022 - Kombi Open",{"$f":"VLOOKUP(F1776,Soutez!A:B,2,FALSE)","v":"SK"},{"$f":"VLOOKUP(F1776,Soutez!A:C,3,FALSE)","v":2022},27,3067,0.95000000000000007,6852,6509,null,null,"AS 33 Es/18m","2U","Není v databázi"]
["Miha Berginc",null,null,"Aeroklub Celje",null,"Pribina Cup 2022 - Kombi Open",{"$f":"VLOOKUP(F1777,Soutez!A:B,2,FALSE)","v":"SK"},{"$f":"VLOOKUP(F1777,Soutez!A:C,3,FALSE)","v":2022},28,3045,0.95000000000000007,6745,6408,null,null,"ASG 29/18m","BER","Není v databázi"]
["Werner Danz",null,null,null,null,"Pribina Cup 2022 - Kombi Open",{"$f":"VLOOKUP(F1778,Soutez!A:B,2,FALSE)","v":"SK"},{"$f":"VLOOKUP(F1778,Soutez!A:C,3,FALSE)","v":2022},29,2988,0.95000000000000007,6575,6246,null,null,"Antares 18T","BT","Není v databázi"]
["Renè Schënmann",null,null,null,null,"Pribina Cup 2022 - Kombi Open",{"$f":"VLOOKUP(F1779,Soutez!A:B,2,FALSE)","v":"SK"},{"$f":"VLOOKUP(F1779,Soutez!A:C,3,FALSE)","v":2022},30,2971,0.95000000000000007,6477,6153,null,null,"JS 1-C 21","LI","Není v databázi"]
["Svend Andersen",null,null,null,null,"Pribina Cup 2022 - Kombi Open",{"$f":"VLOOKUP(F1780,Soutez!A:B,2,FALSE)","v":"SK"},{"$f":"VLOOKUP(F1780,Soutez!A:C,3,FALSE)","v":2022},31,2967,0.95000000000000007,6403,6083,null,null,"AS 33 Es/18m","2C","Není v databázi"]
["Hana Treslova",{"$f":"VLOOKUP(A1781,Pilot,2,0)","v":1991},{"$f":"VLOOKUP(A1781,Pilot,5,0)","v":"F"},{"$f":"VLOOKUP(A1781,Pilot,3,0)","v":"Raná"},{"$f":"VLOOKUP(A1781,Pilot,4,0)","v":"CZ/C2"},"Pribina Cup 2022 - Kombi Open",{"$f":"VLOOKUP(F1781,Soutez!A:B,2,FALSE)","v":"SK"},{"$f":"VLOOKUP(F1781,Soutez!A:C,3,FALSE)","v":2022},32,2859,0.95000000000000007,6140,5833,null,null,"JS 3/18m","XM",""]
["Nils Heck",null,null,null,null,"Pribina Cup 2022 - Kombi Open",{"$f":"VLOOKUP(F1782,Soutez!A:B,2,FALSE)","v":"SK"},{"$f":"VLOOKUP(F1782,Soutez!A:C,3,FALSE)","v":2022},33,2815,0.95000000000000007,5993,5693,null,null,"Nimbus 4","EP","Není v databázi"]
["Miguel Schwan",null,null,null,null,"Pribina Cup 2022 - Kombi Open",{"$f":"VLOOKUP(F1783,Soutez!A:B,2,FALSE)","v":"SK"},{"$f":"VLOOKUP(F1783,Soutez!A:C,3,FALSE)","v":2022},34,2788,{"$f":"VLOOKUP(F1783,Soutez,12,0)","v":0.95000000000000007},5877,5583,null,null,"Ventus 2cx/18m","CX","Není v databázi"]
["Petr Setka",{"$f":"VLOOKUP(A1784,Pilot,2,0)","v":1971},{"$f":"VLOOKUP(A1784,Pilot,5,0)","v":"M"},{"$f":"VLOOKUP(A1784,Pilot,3,0)","v":"Letkov"},{"$f":"VLOOKUP(A1784,Pilot,4,0)","v":"CZ/C1"},"Pribina Cup 2022 - Kombi Open",{"$f":"VLOOKUP(F1784,Soutez!A:B,2,FALSE)","v":"SK"},{"$f":"VLOOKUP(F1784,Soutez!A:C,3,FALSE)","v":2022},35,2776,0.95000000000000007,5788,5499,"x",null,"Ventus 2cx/18m","RS",""]
["Henning Kjersgaard Nielsen",null,null,"Midtsjaellands Svaeveflyveklub",null,"Pribina Cup 2022 - Kombi Open",{"$f":"VLOOKUP(F1785,Soutez!A:B,2,FALSE)","v":"SK"},{"$f":"VLOOKUP(F1785,Soutez!A:C,3,FALSE)","v":2022},36,2591,{"$f":"VLOOKUP(F1785,Soutez,12,0)","v":0.95000000000000007},5385,5116,null,null,"Ventus 3/18m","I","Není v databázi"]
["Marek Pechanec",{"$f":"VLOOKUP(A1786,Pilot,2,0)","v":1970},{"$f":"VLOOKUP(A1786,Pilot,5,0)","v":"M"},{"$f":"VLOOKUP(A1786,Pilot,3,0)","v":"Luhačovice"},{"$f":"VLOOKUP(A1786,Pilot,4,0)","v":"CZ/M"},"Pribina Cup 2022 - Kombi Open",{"$f":"VLOOKUP(F1786,Soutez!A:B,2,FALSE)","v":"SK"},{"$f":"VLOOKUP(F1786,Soutez!A:C,3,FALSE)","v":2022},37,2495,0.95000000000000007,5143,4886,null,null,"JS 3/18m","Q1",""]
["Peter Pokorny",null,null,"Bratislava",null,"Pribina Cup 2022 - Kombi Open",{"$f":"VLOOKUP(F1787,Soutez!A:B,2,FALSE)","v":"SK"},{"$f":"VLOOKUP(F1787,Soutez!A:C,3,FALSE)","v":2022},38,2400,0.95000000000000007,4904,{"$f":"ROUND(K1787*L1787,0)","v":4659},null,null,"ASG 29/18m","9E","Není v databázi"]
["Thomas Hynek",null,null,"Flugschule ASKÖ Wien",null,"Pribina Cup 2022 - Kombi Open",{"$f":"VLOOKUP(F1788,Soutez!A:B,2,FALSE)","v":"SK"},{"$f":"VLOOKUP(F1788,Soutez!A:C,3,FALSE)","v":2022},39,2327,0.95000000000000007,4704,4469,null,null,"Ventus 2cM/18m","CC","Není v databázi"]
["Sorin Lingureanu",null,null,"Tampereen Ilmailuyhdistys",null,"Pribina Cup 2022 - Kombi Open",{"$f":"VLOOKUP(F1789,Soutez!A:B,2,FALSE)","v":"SK"},{"$f":"VLOOKUP(F1789,Soutez!A:C,3,FALSE)","v":2022},40,2293,0.95000000000000007,4576,4347,null,null,"Ventus 2c/18m","TD","Není v databázi"]
["Nicolas Bernhard",null,null,"AAPCA Fayence",null,"Pribina Cup 2022 - Kombi Open",{"$f":"VLOOKUP(F1790,Soutez!A:B,2,FALSE)","v":"SK"},{"$f":"VLOOKUP(F1790,Soutez!A:C,3,FALSE)","v":2022},41,2254,0.95000000000000007,4438,4216,null,null,"JS 1 18m","JD","Není v databázi"]
["Mathias Muench",null,null,"Alpenflugzentrum Unterwossen",null,"Pribina Cup 2022 - Kombi Open",{"$f":"VLOOKUP(F1791,Soutez!A:B,2,FALSE)","v":"SK"},{"$f":"VLOOKUP(F1791,Soutez!A:C,3,FALSE)","v":2022},42,2113,0.95000000000000007,4114,3908,null,null,"DG 800/18m","MU","Není v databázi"]
["Lukas Benedikt",null,null,"AK Trnava",null,"Pribina Cup 2022 - Kombi Open",{"$f":"VLOOKUP(F1792,Soutez!A:B,2,FALSE)","v":"SK"},{"$f":"VLOOKUP(F1792,Soutez!A:C,3,FALSE)","v":2022},43,1867,0.95000000000000007,3600,3420,null,null,"Ventus 3F/18m","LB","Není v databázi"]
["Hansen & Gevad",null,null,null,null,"Pribina Cup 2022 - Kombi Open",{"$f":"VLOOKUP(F1793,Soutez!A:B,2,FALSE)","v":"SK"},{"$f":"VLOOKUP(F1793,Soutez!A:C,3,FALSE)","v":2022},44,844,0.95000000000000007,1670,1587,null,null,"Nimbus 4DM","UFO","Není v databázi"]
["Martin Picka",{"$f":"VLOOKUP(A1794,Pilot,2,0)","v":1974},{"$f":"VLOOKUP(A1794,Pilot,5,0)","v":"M"},{"$f":"VLOOKUP(A1794,Pilot,3,0)","v":"Tábor"},{"$f":"VLOOKUP(A1794,Pilot,4,0)","v":"CZ/C1"},"Pribina Cup 2022 - Kombi Open",{"$f":"VLOOKUP(F1794,Soutez!A:B,2,FALSE)","v":"SK"},{"$f":"VLOOKUP(F1794,Soutez!A:C,3,FALSE)","v":2022},45,508,0.95000000000000007,992,942,"x",null,"Ventus 2c/18m","CXI",""]
["Botond Szabadfi",null,null,"Malev Aeroclub LHDK",null,"Pribina Cup 2022 - Kombi Open",{"$f":"VLOOKUP(F1795,Soutez!A:B,2,FALSE)","v":"SK"},{"$f":"VLOOKUP(F1795,Soutez!A:C,3,FALSE)","v":2022},46,84,0.95000000000000007,153,145,null,null,"Nimbus 4DM","XXL","Není v databázi"]
["Istvan Balog",null,null,"HOSESZ",null,"Flatland Cup 2022 - Klub",{"$f":"VLOOKUP(F1796,Soutez!A:B,2,FALSE)","v":"SK"},{"$f":"VLOOKUP(F1796,Soutez!A:C,3,FALSE)","v":2022},1,5129,{"$f":"VLOOKUP(F1796,Soutez,12,0)","v":0.94000000000000006},{"$f":"ROUND(J1796/MAX($J$1796:$J$1828)*10000*0.7+(MAX($I$1796:$I$1828)-I1796)/(MAX($I$1796:$I$1828)-1)*10000*0.3,0)","v":10000},{"$f":"ROUND(K1796*L1796,0)","v":9400},null,null,"LS 3a","TP",{"$f":"IF(ISERROR(VLOOKUP(A1796,Pilot,6,0)),\"Není v databázi\",VLOOKUP(A1796,Pilot,6,0))","v":"Není v databázi"}]
["Krisztian Kovacs",null,null,"HOSESZ",null,"Flatland Cup 2022 - Klub",{"$f":"VLOOKUP(F1797,Soutez!A:B,2,FALSE)","v":"SK"},{"$f":"VLOOKUP(F1797,Soutez!A:C,3,FALSE)","v":2022},2,5117,{"$f":"VLOOKUP(F1797,Soutez,12,0)","v":0.94000000000000006},9890,{"$f":"ROUND(K1797*L1797,0)","v":9297},null,null,"LS 3a","EC","Není v databázi"]
["Peter Kassai",null,null,"MALÉV RK",null,"Flatland Cup 2022 - Klub",{"$f":"VLOOKUP(F1798,Soutez!A:B,2,FALSE)","v":"SK"},{"$f":"VLOOKUP(F1798,Soutez!A:C,3,FALSE)","v":2022},3,4857,0.94000000000000006,9441,8875,null,null,"Discus","7W","Není v databázi"]
["Tamas Mayer",null,null,"MALÉV RK",null,"Flatland Cup 2022 - Klub",{"$f":"VLOOKUP(F1799,Soutez!A:B,2,FALSE)","v":"SK"},{"$f":"VLOOKUP(F1799,Soutez!A:C,3,FALSE)","v":2022},4,4739,0.94000000000000006,9186,8635,null,null,"ASW 20","RZi","Není v databázi"]
["Balazs Endrodi",null,null,"MÁV SE",null,"Flatland Cup 2022 - Klub",{"$f":"VLOOKUP(F1800,Soutez!A:B,2,FALSE)","v":"SK"},{"$f":"VLOOKUP(F1800,Soutez!A:C,3,FALSE)","v":2022},5,4707,0.94000000000000006,9049,8506,null,null,"ASW 20","M6","Není v databázi"]
["Attila Keczan",null,null,"Aero Klub Debrecen",null,"Flatland Cup 2022 - Klub",{"$f":"VLOOKUP(F1801,Soutez!A:B,2,FALSE)","v":"SK"},{"$f":"VLOOKUP(F1801,Soutez!A:C,3,FALSE)","v":2022},6,4691,0.94000000000000006,8933,8397,null,null,"Mini Nimbus, C","MI","Není v databázi"]
["Zoltan Foldi",null,null,"ARK",null,"Flatland Cup 2022 - Klub",{"$f":"VLOOKUP(F1802,Soutez!A:B,2,FALSE)","v":"SK"},{"$f":"VLOOKUP(F1802,Soutez!A:C,3,FALSE)","v":2022},7,4685,0.94000000000000006,8832,8302,null,null,"Jantar Std. 2","ZP","Není v databázi"]
["Michal Lesinger",{"$f":"VLOOKUP(A1803,Pilot,2,0)","v":1966},{"$f":"VLOOKUP(A1803,Pilot,5,0)","v":"M"},{"$f":"VLOOKUP(A1803,Pilot,3,0)","v":"Moravská Třebová"},{"$f":"VLOOKUP(A1803,Pilot,4,0)","v":"CZ/M"},"Flatland Cup 2022 - Klub",{"$f":"VLOOKUP(F1803,Soutez!A:B,2,FALSE)","v":"SK"},{"$f":"VLOOKUP(F1803,Soutez!A:C,3,FALSE)","v":2022},8,4675,0.94000000000000006,8724,8201,null,null,"ASW 20","LL",""]
["Jeno Vörös",null,null,"Délvidéki Aero Club 1930.",null,"Flatland Cup 2022 - Klub",{"$f":"VLOOKUP(F1804,Soutez!A:B,2,FALSE)","v":"SK"},{"$f":"VLOOKUP(F1804,Soutez!A:C,3,FALSE)","v":2022},9,4673,0.94000000000000006,8628,8110,null,null,"LS 1-f","VR","Není v databázi"]
["Barnabas Tóth",null,null,"SZRK",null,"Flatland Cup 2022 - Klub",{"$f":"VLOOKUP(F1805,Soutez!A:B,2,FALSE)","v":"SK"},{"$f":"VLOOKUP(F1805,Soutez!A:C,3,FALSE)","v":2022},10,4660,0.94000000000000006,8516,8005,null,null,"ASW 20","NY","Není v databázi"]
["Balazs Laktis",null,null,"MÁV SE",null,"Flatland Cup 2022 - Klub",{"$f":"VLOOKUP(F1806,Soutez!A:B,2,FALSE)","v":"SK"},{"$f":"VLOOKUP(F1806,Soutez!A:C,3,FALSE)","v":2022},11,4656,0.94000000000000006,8417,7912,null,null,"Discus","M5","Není v databázi"]
["Sandor Laurinyecz",null,null,"Kvasz András RE",null,"Flatland Cup 2022 - Klub",{"$f":"VLOOKUP(F1807,Soutez!A:B,2,FALSE)","v":"SK"},{"$f":"VLOOKUP(F1807,Soutez!A:C,3,FALSE)","v":2022},12,4651,0.94000000000000006,8316,7817,null,null,"Jantar Std. 2",91,"Není v databázi"]
["Zsombor Wéber",null,null,"ARK",null,"Flatland Cup 2022 - Klub",{"$f":"VLOOKUP(F1808,Soutez!A:B,2,FALSE)","v":"SK"},{"$f":"VLOOKUP(F1808,Soutez!A:C,3,FALSE)","v":2022},13,4648,0.94000000000000006,8219,7726,null,null,"ASW 20",18,"Není v databázi"]
["Adam Kapuy",null,null,"MSE",null,"Flatland Cup 2022 - Klub",{"$f":"VLOOKUP(F1809,Soutez!A:B,2,FALSE)","v":"SK"},{"$f":"VLOOKUP(F1809,Soutez!A:C,3,FALSE)","v":2022},14,4632,0.94000000000000006,8103,7617,null,null,"LS 4","GJ","Není v databázi"]
["Tibor Fratrik",null,null,"SGC Martin",null,"Flatland Cup 2022 - Klub",{"$f":"VLOOKUP(F1810,Soutez!A:B,2,FALSE)","v":"SK"},{"$f":"VLOOKUP(F1810,Soutez!A:C,3,FALSE)","v":2022},15,4577,0.94000000000000006,7934,7458,null,null,"ASW 20","VG","Není v databázi"]
["Dylan Osolian",null,null,"Skövde Flygklubb",null,"Flatland Cup 2022 - Klub",{"$f":"VLOOKUP(F1811,Soutez!A:B,2,FALSE)","v":"SK"},{"$f":"VLOOKUP(F1811,Soutez!A:C,3,FALSE)","v":2022},16,4421,{"$f":"VLOOKUP(F1811,Soutez,12,0)","v":0.94000000000000006},7627,7169,null,null,"LS 3a","CP","Není v databázi"]
["Andras Schieber",null,null,"Aeroklub Farkashegy",null,"Flatland Cup 2022 - Klub",{"$f":"VLOOKUP(F1812,Soutez!A:B,2,FALSE)","v":"SK"},{"$f":"VLOOKUP(F1812,Soutez!A:C,3,FALSE)","v":2022},17,4412,0.94000000000000006,7521,7070,null,null,"ASW 20","BAS","Není v databázi"]
["Edmund Schuller",null,null,null,null,"Flatland Cup 2022 - Klub",{"$f":"VLOOKUP(F1813,Soutez!A:B,2,FALSE)","v":"SK"},{"$f":"VLOOKUP(F1813,Soutez!A:C,3,FALSE)","v":2022},18,4339,0.94000000000000006,7328,{"$f":"ROUND(K1813*L1813,0)","v":6888},null,null,"ASW 24","ZS","Není v databázi"]
["Géza Molnar",null,null,"ARK",null,"Flatland Cup 2022 - Klub",{"$f":"VLOOKUP(F1814,Soutez!A:B,2,FALSE)","v":"SK"},{"$f":"VLOOKUP(F1814,Soutez!A:C,3,FALSE)","v":2022},19,4305,0.94000000000000006,7188,6757,null,null,"LS 3a","7T","Není v databázi"]
["Zoltan Suranyi",null,null,"HOSESZ",null,"Flatland Cup 2022 - Klub",{"$f":"VLOOKUP(F1815,Soutez!A:B,2,FALSE)","v":"SK"},{"$f":"VLOOKUP(F1815,Soutez!A:C,3,FALSE)","v":2022},20,4251,0.94000000000000006,7020,6599,null,null,"ASW 20","X34","Není v databázi"]
["Karoly Borosnyay",null,null,"MALÉV RK",null,"Flatland Cup 2022 - Klub",{"$f":"VLOOKUP(F1816,Soutez!A:B,2,FALSE)","v":"SK"},{"$f":"VLOOKUP(F1816,Soutez!A:C,3,FALSE)","v":2022},21,4095,0.94000000000000006,6714,6311,null,null,"Janus C FG","DDi","Není v databázi"]
["Maté Mészaros",null,null,"Dunaferr RK",null,"Flatland Cup 2022 - Klub",{"$f":"VLOOKUP(F1817,Soutez!A:B,2,FALSE)","v":"SK"},{"$f":"VLOOKUP(F1817,Soutez!A:C,3,FALSE)","v":2022},22,4066,0.94000000000000006,6580,6185,null,null,"ASW 19","DB","Není v databázi"]
["Zsolt Balogh",null,null,"Albatrosz VE",null,"Flatland Cup 2022 - Klub",{"$f":"VLOOKUP(F1818,Soutez!A:B,2,FALSE)","v":"SK"},{"$f":"VLOOKUP(F1818,Soutez!A:C,3,FALSE)","v":2022},23,4062,0.94000000000000006,6481,6092,null,null,"ASW 20","NB","Není v databázi"]
["Istvan Vig",null,null,"Aeroclub Hajdúszoboszló",null,"Flatland Cup 2022 - Klub",{"$f":"VLOOKUP(F1819,Soutez!A:B,2,FALSE)","v":"SK"},{"$f":"VLOOKUP(F1819,Soutez!A:C,3,FALSE)","v":2022},24,4054,0.94000000000000006,6377,5994,null,null,"ASW 20","AD","Není v databázi"]
["Csaba Oltvai",null,null,"Délvidéki Aero Club 1930.",null,"Flatland Cup 2022 - Klub",{"$f":"VLOOKUP(F1820,Soutez!A:B,2,FALSE)","v":"SK"},{"$f":"VLOOKUP(F1820,Soutez!A:C,3,FALSE)","v":2022},25,3786,0.94000000000000006,5917,5562,null,null,"Std. Cirrus",52,"Není v databázi"]
["Andras Oswald",null,null,"Szentesi Repülőklub",null,"Flatland Cup 2022 - Klub",{"$f":"VLOOKUP(F1821,Soutez!A:B,2,FALSE)","v":"SK"},{"$f":"VLOOKUP(F1821,Soutez!A:C,3,FALSE)","v":2022},26,3579,0.94000000000000006,5541,5209,null,null,"LS 3a","CH","Není v databázi"]
["Jozsef Tornyai",null,null,"MALÉV RK",null,"Flatland Cup 2022 - Klub",{"$f":"VLOOKUP(F1822,Soutez!A:B,2,FALSE)","v":"SK"},{"$f":"VLOOKUP(F1822,Soutez!A:C,3,FALSE)","v":2022},27,3527,0.94000000000000006,5376,5053,null,null,"LS 3a","BY","Není v databázi"]
["Lilla Szamosujvari",null,null,"Aeroclub Hajdúszoboszló",null,"Flatland Cup 2022 - Klub",{"$f":"VLOOKUP(F1823,Soutez!A:B,2,FALSE)","v":"SK"},{"$f":"VLOOKUP(F1823,Soutez!A:C,3,FALSE)","v":2022},28,3479,0.94000000000000006,5217,4904,null,null,"ASW 15","FA","Není v databázi"]
["Tibor Nagy",null,null,"MALÉV RK",null,"Flatland Cup 2022 - Klub",{"$f":"VLOOKUP(F1824,Soutez!A:B,2,FALSE)","v":"SK"},{"$f":"VLOOKUP(F1824,Soutez!A:C,3,FALSE)","v":2022},29,3443,0.94000000000000006,5074,4770,null,null,"Jantar Std. 3",33,"Není v databázi"]
["Farkas & Mazan",null,null,"Délvidéki Aero Club 1930.",null,"Flatland Cup 2022 - Klub",{"$f":"VLOOKUP(F1825,Soutez!A:B,2,FALSE)","v":"SK"},{"$f":"VLOOKUP(F1825,Soutez!A:C,3,FALSE)","v":2022},30,3347,0.94000000000000006,4849,4558,null,null,"Janus C FG","GR","Není v databázi"]
["Peter Ronai",null,null,"Opitz RK",null,"Flatland Cup 2022 - Klub",{"$f":"VLOOKUP(F1826,Soutez!A:B,2,FALSE)","v":"SK"},{"$f":"VLOOKUP(F1826,Soutez!A:C,3,FALSE)","v":2022},31,3198,0.94000000000000006,4552,4279,null,null,"ASW 20","TE","Není v databázi"]
["Jozsef Szabo",null,null,"ARK",null,"Flatland Cup 2022 - Klub",{"$f":"VLOOKUP(F1827,Soutez!A:B,2,FALSE)","v":"SK"},{"$f":"VLOOKUP(F1827,Soutez!A:C,3,FALSE)","v":2022},32,2472,0.94000000000000006,3468,3260,null,null,"ASW 20","FS","Není v databázi"]
["Gabor Érseki",null,null,"Opitz RK",null,"Flatland Cup 2022 - Klub",{"$f":"VLOOKUP(F1828,Soutez!A:B,2,FALSE)","v":"SK"},{"$f":"VLOOKUP(F1828,Soutez!A:C,3,FALSE)","v":2022},33,2446,0.94000000000000006,3338,3138,null,null,"ASW 15","NK","Není v databázi"]
["Peter Szabo",null,null,"ARK",null,"Flatland Cup 2022 - Kombi Open",{"$f":"VLOOKUP(F1829,Soutez!A:B,2,FALSE)","v":"SK"},{"$f":"VLOOKUP(F1829,Soutez!A:C,3,FALSE)","v":2022},1,5778,{"$f":"VLOOKUP(F1829,Soutez,12,0)","v":0.94500000000000006},{"$f":"ROUND(J1829/MAX($J$1829:$J$1850)*10000*0.7+(MAX($I$1829:$I$1850)-I1829)/(MAX($I$1829:$I$1850)-1)*10000*0.3,0)","v":10000},{"$f":"ROUND(K1829*L1829,0)","v":9450},null,null,"JS3","BX","Není v databázi"]
["Zoltan Verebelyi",null,null,"ARK",null,"Flatland Cup 2022 - Kombi Open",{"$f":"VLOOKUP(F1830,Soutez!A:B,2,FALSE)","v":"SK"},{"$f":"VLOOKUP(F1830,Soutez!A:C,3,FALSE)","v":2022},2,5744,{"$f":"VLOOKUP(F1830,Soutez,12,0)","v":0.94500000000000006},9816,{"$f":"ROUND(K1830*L1830,0)","v":9276},null,null,"JS3","HI","Není v databázi"]
["Petr Krejcirik",{"$f":"VLOOKUP(A1831,Pilot,2,0)","v":1960},{"$f":"VLOOKUP(A1831,Pilot,5,0)","v":"M"},{"$f":"VLOOKUP(A1831,Pilot,3,0)","v":"Hranice"},{"$f":"VLOOKUP(A1831,Pilot,4,0)","v":"CZ/M"},"Flatland Cup 2022 - Kombi Open",{"$f":"VLOOKUP(F1831,Soutez!A:B,2,FALSE)","v":"SK"},{"$f":"VLOOKUP(F1831,Soutez!A:C,3,FALSE)","v":2022},3,5741,0.94500000000000006,9669,9137,"x",null,"JS3 18m","VB",""]
["Richard Bartolf",null,null,"ARK",null,"Flatland Cup 2022 - Kombi Open",{"$f":"VLOOKUP(F1832,Soutez!A:B,2,FALSE)","v":"SK"},{"$f":"VLOOKUP(F1832,Soutez!A:C,3,FALSE)","v":2022},4,5707,0.94500000000000006,9485,8963,null,null,"JS3","HAB",{"$f":"IF(ISERROR(VLOOKUP(A1832,Pilot,6,0)),\"Není v databázi\",VLOOKUP(A1832,Pilot,6,0))","v":"Není v databázi"}]
["Radek Krejcirik",1991,"M",{"$f":"VLOOKUP(A1833,Pilot,3,0)","v":"Hranice"},{"$f":"VLOOKUP(A1833,Pilot,4,0)","v":"CZ/M"},"Flatland Cup 2022 - Kombi Open",{"$f":"VLOOKUP(F1833,Soutez!A:B,2,FALSE)","v":"SK"},{"$f":"VLOOKUP(F1833,Soutez!A:C,3,FALSE)","v":2022},5,5698,0.94500000000000006,9332,8819,null,null,"JS1C 21m","ZF",""]
["Zoltan Hamar",null,null,"VARIO SE",null,"Flatland Cup 2022 - Kombi Open",{"$f":"VLOOKUP(F1834,Soutez!A:B,2,FALSE)","v":"SK"},{"$f":"VLOOKUP(F1834,Soutez!A:C,3,FALSE)","v":2022},6,5645,0.94500000000000006,9125,8623,null,null,"JS3","7A","Není v databázi"]
["Kiss & Buki",null,null,"Aeroklub Farkashegy",null,"Flatland Cup 2022 - Kombi Open",{"$f":"VLOOKUP(F1835,Soutez!A:B,2,FALSE)","v":"SK"},{"$f":"VLOOKUP(F1835,Soutez!A:C,3,FALSE)","v":2022},7,5609,{"$f":"VLOOKUP(F1835,Soutez,12,0)","v":0.94500000000000006},8938,8446,null,null,"Arcus T","SQ","Není v databázi"]
["Tamas & Korom",null,null,"Délvidéki Aero Club 1930",null,"Flatland Cup 2022 - Kombi Open",{"$f":"VLOOKUP(F1836,Soutez!A:B,2,FALSE)","v":"SK"},{"$f":"VLOOKUP(F1836,Soutez!A:C,3,FALSE)","v":2022},8,5606,0.94500000000000006,8792,8308,null,null,"Arcus T","HUX","Není v databázi"]
["Richard Basa",null,null,"ARK",null,"Flatland Cup 2022 - Kombi Open",{"$f":"VLOOKUP(F1837,Soutez!A:B,2,FALSE)","v":"SK"},{"$f":"VLOOKUP(F1837,Soutez!A:C,3,FALSE)","v":2022},9,5552,0.94500000000000006,8583,{"$f":"ROUND(K1837*L1837,0)","v":8111},null,null,"JS3","RI","Není v databázi"]
["Halasz & Kerekréti",null,null,"ARK",null,"Flatland Cup 2022 - Kombi Open",{"$f":"VLOOKUP(F1838,Soutez!A:B,2,FALSE)","v":"SK"},{"$f":"VLOOKUP(F1838,Soutez!A:C,3,FALSE)","v":2022},10,5232,0.94500000000000006,8053,7610,null,null,"Twin shark","HPX","Není v databázi"]
["Janos Sindely",null,null,"ARK",null,"Flatland Cup 2022 - Kombi Open",{"$f":"VLOOKUP(F1839,Soutez!A:B,2,FALSE)","v":"SK"},{"$f":"VLOOKUP(F1839,Soutez!A:C,3,FALSE)","v":2022},11,5170,0.94500000000000006,7835,7404,null,null,"JS1","RZ","Není v databázi"]
["Laszlo Kapuy",null,null,"MSE",null,"Flatland Cup 2022 - Kombi Open",{"$f":"VLOOKUP(F1840,Soutez!A:B,2,FALSE)","v":"SK"},{"$f":"VLOOKUP(F1840,Soutez!A:C,3,FALSE)","v":2022},12,5145,0.94500000000000006,7662,7241,null,null,"EB 29D","HB","Není v databázi"]
["Zoltan Kore",null,null,"ARK",null,"Flatland Cup 2022 - Kombi Open",{"$f":"VLOOKUP(F1841,Soutez!A:B,2,FALSE)","v":"SK"},{"$f":"VLOOKUP(F1841,Soutez!A:C,3,FALSE)","v":2022},13,4990,0.94500000000000006,7331,6928,null,null,"JS3","AI","Není v databázi"]
["Christian Hynek",null,null,"ASKÖ Flugsport Wien",null,"Flatland Cup 2022 - Kombi Open",{"$f":"VLOOKUP(F1842,Soutez!A:B,2,FALSE)","v":"SK"},{"$f":"VLOOKUP(F1842,Soutez!A:C,3,FALSE)","v":2022},14,4920,0.94500000000000006,7103,6712,null,null,"EB 29D","DD","Není v databázi"]
["Ivan Novak",1962,"M",{"$f":"VLOOKUP(A1843,Pilot,3,0)","v":"Mladá Boleslav"},{"$f":"VLOOKUP(A1843,Pilot,4,0)","v":"CZ/C1"},"Flatland Cup 2022 - Kombi Open",{"$f":"VLOOKUP(F1843,Soutez!A:B,2,FALSE)","v":"SK"},{"$f":"VLOOKUP(F1843,Soutez!A:C,3,FALSE)","v":2022},15,4767,0.94500000000000006,6775,6402,null,null,"ASG 29 18m","QZ",""]
["Robert Toth",null,null,"HOSESZ",null,"Flatland Cup 2022 - Kombi Open",{"$f":"VLOOKUP(F1844,Soutez!A:B,2,FALSE)","v":"SK"},{"$f":"VLOOKUP(F1844,Soutez!A:C,3,FALSE)","v":2022},16,4238,0.94500000000000006,5991,5661,null,null,"LS 6","4L","Není v databázi"]
["Kornel Negro",null,null,"ARK",null,"Flatland Cup 2022 - Kombi Open",{"$f":"VLOOKUP(F1845,Soutez!A:B,2,FALSE)","v":"SK"},{"$f":"VLOOKUP(F1845,Soutez!A:C,3,FALSE)","v":2022},17,4004,0.94500000000000006,5565,5259,null,null,"Arcus T",13,"Není v databázi"]
["Csaba Tóth",null,null,"Dunaferr RK",null,"Flatland Cup 2022 - Kombi Open",{"$f":"VLOOKUP(F1846,Soutez!A:B,2,FALSE)","v":"SK"},{"$f":"VLOOKUP(F1846,Soutez!A:C,3,FALSE)","v":2022},18,4002,0.94500000000000006,5420,5122,null,null,"Ventus 2b","V7","Není v databázi"]
["Peter Harsfalvi",null,null,"Albatrosz VE",null,"Flatland Cup 2022 - Kombi Open",{"$f":"VLOOKUP(F1847,Soutez!A:B,2,FALSE)","v":"SK"},{"$f":"VLOOKUP(F1847,Soutez!A:C,3,FALSE)","v":2022},19,3943,0.94500000000000006,5205,4919,null,null,"JS1","AAD","Není v databázi"]
["Jan Kovalcik",null,null,"AK Bratislava",null,"Flatland Cup 2022 - Kombi Open",{"$f":"VLOOKUP(F1848,Soutez!A:B,2,FALSE)","v":"SK"},{"$f":"VLOOKUP(F1848,Soutez!A:C,3,FALSE)","v":2022},20,3850,0.94500000000000006,4950,4678,null,null,"Twin Shark","TS","Není v databázi"]
["Laszlo Loskay",null,null,"Dunaferr RK",null,"Flatland Cup 2022 - Kombi Open",{"$f":"VLOOKUP(F1849,Soutez!A:B,2,FALSE)","v":"SK"},{"$f":"VLOOKUP(F1849,Soutez!A:C,3,FALSE)","v":2022},21,3767,0.94500000000000006,4707,4448,null,null,"Ventus","LY","Není v databázi"]
["Miklos Taglieber",null,null,"ARK",null,"Flatland Cup 2022 - Kombi Open",{"$f":"VLOOKUP(F1850,Soutez!A:B,2,FALSE)","v":"SK"},{"$f":"VLOOKUP(F1850,Soutez!A:C,3,FALSE)","v":2022},22,2547,0.94500000000000006,3086,2916,null,null,"Ventus 2","GE","Není v databázi"]
["Stefan Langer",null,null,null,null,"SGP Sweden 2022 - 18m GP",{"$f":"VLOOKUP(F1851,Soutez!A:B,2,FALSE)","v":"SE"},{"$f":"VLOOKUP(F1851,Soutez!A:C,3,FALSE)","v":2022},1,21,{"$f":"VLOOKUP(F1851,Soutez,12,0)","v":0.88500000000000001},{"$f":"ROUND((MAX($I$1851:$I$1865)-I1851)/(MAX($I$1851:$I$1865)-1)*10000,0)","v":10000},{"$f":"ROUND(K1851*L1851,0)","v":8850},null,null,"ASG29","SL","Není v databázi"]
["Klaus Kalmbach",null,null,null,null,"SGP Sweden 2022 - 18m GP",{"$f":"VLOOKUP(F1852,Soutez!A:B,2,FALSE)","v":"SE"},{"$f":"VLOOKUP(F1852,Soutez!A:C,3,FALSE)","v":2022},2,18,{"$f":"VLOOKUP(F1852,Soutez,12,0)","v":0.88500000000000001},9286,{"$f":"ROUND(K1852*L1852,0)","v":8218},null,null,"JS3-18m Jet","CT","Není v databázi"]
["Hermann Leucker",null,null,null,null,"SGP Sweden 2022 - 18m GP",{"$f":"VLOOKUP(F1853,Soutez!A:B,2,FALSE)","v":"SE"},{"$f":"VLOOKUP(F1853,Soutez!A:C,3,FALSE)","v":2022},3,18,0.88500000000000001,8571,7585,null,null,"JS 3 TJ 18m","HL","Není v databázi"]
["Michael Pfennig",null,null,null,null,"SGP Sweden 2022 - 18m GP",{"$f":"VLOOKUP(F1854,Soutez!A:B,2,FALSE)","v":"SE"},{"$f":"VLOOKUP(F1854,Soutez!A:C,3,FALSE)","v":2022},4,16,0.88500000000000001,7857,6953,null,null,"JS3 TJ","S","Není v databázi"]
["Jochen Schulte",null,null,null,null,"SGP Sweden 2022 - 18m GP",{"$f":"VLOOKUP(F1855,Soutez!A:B,2,FALSE)","v":"SE"},{"$f":"VLOOKUP(F1855,Soutez!A:C,3,FALSE)","v":2022},5,15,0.88500000000000001,7143,6322,null,null,"JS-MD3","KS",{"$f":"IF(ISERROR(VLOOKUP(A1855,Pilot,6,0)),\"Není v databázi\",VLOOKUP(A1855,Pilot,6,0))","v":"Není v databázi"}]
["Patrick Benoist",null,null,null,null,"SGP Sweden 2022 - 18m GP",{"$f":"VLOOKUP(F1856,Soutez!A:B,2,FALSE)","v":"SE"},{"$f":"VLOOKUP(F1856,Soutez!A:C,3,FALSE)","v":2022},6,10,0.88500000000000001,6429,5690,null,null,"AS33 Es",33,"Není v databázi"]
["Börje Eriksson",null,null,null,null,"SGP Sweden 2022 - 18m GP",{"$f":"VLOOKUP(F1857,Soutez!A:B,2,FALSE)","v":"SE"},{"$f":"VLOOKUP(F1857,Soutez!A:C,3,FALSE)","v":2022},7,10,{"$f":"VLOOKUP(F1857,Soutez,12,0)","v":0.88500000000000001},5714,5057,null,null,"Ventus 3","7X","Není v databázi"]
["Clemens Berger",null,null,null,null,"SGP Sweden 2022 - 18m GP",{"$f":"VLOOKUP(F1858,Soutez!A:B,2,FALSE)","v":"SE"},{"$f":"VLOOKUP(F1858,Soutez!A:C,3,FALSE)","v":2022},8,9,0.88500000000000001,5000,4425,null,null,"Ventus 3T","IYB","Není v databázi"]
["Björn Regnström",null,null,null,null,"SGP Sweden 2022 - 18m GP",{"$f":"VLOOKUP(F1859,Soutez!A:B,2,FALSE)","v":"SE"},{"$f":"VLOOKUP(F1859,Soutez!A:C,3,FALSE)","v":2022},9,9,0.88500000000000001,4286,{"$f":"ROUND(K1859*L1859,0)","v":3793},null,null,"JS3","BR","Není v databázi"]
["Jon Gatfield",null,null,null,null,"SGP Sweden 2022 - 18m GP",{"$f":"VLOOKUP(F1860,Soutez!A:B,2,FALSE)","v":"SE"},{"$f":"VLOOKUP(F1860,Soutez!A:C,3,FALSE)","v":2022},10,6,0.88500000000000001,3571,3160,null,null,"AS33","YO","Není v databázi"]
["Petr Krejcirik",{"$f":"VLOOKUP(A1861,Pilot,2,0)","v":1960},{"$f":"VLOOKUP(A1861,Pilot,5,0)","v":"M"},{"$f":"VLOOKUP(A1861,Pilot,3,0)","v":"Hranice"},{"$f":"VLOOKUP(A1861,Pilot,4,0)","v":"CZ/M"},"SGP Sweden 2022 - 18m GP",{"$f":"VLOOKUP(F1861,Soutez!A:B,2,FALSE)","v":"SE"},{"$f":"VLOOKUP(F1861,Soutez!A:C,3,FALSE)","v":2022},11,3,0.88500000000000001,{"$f":"ROUND((MAX($I$1851:$I$1865)-I1861)/(MAX($I$1851:$I$1865)-1)*10000,0)","v":2857},2528,null,null,"AS-33 Es",12,""]
["Max Maslak",null,null,null,null,"SGP Sweden 2022 - 18m GP",{"$f":"VLOOKUP(F1862,Soutez!A:B,2,FALSE)","v":"SE"},{"$f":"VLOOKUP(F1862,Soutez!A:C,3,FALSE)","v":2022},12,3,0.88500000000000001,2143,1897,null,null,"Discus 2cT","OLC","Není v databázi"]
["Erik Rudsmark",null,null,null,null,"SGP Sweden 2022 - 18m GP",{"$f":"VLOOKUP(F1863,Soutez!A:B,2,FALSE)","v":"SE"},{"$f":"VLOOKUP(F1863,Soutez!A:C,3,FALSE)","v":2022},13,1,0.88500000000000001,1429,1265,null,null,"DG 808 S","VG","Není v databázi"]
["Wolfgang Zeyen",null,null,null,null,"SGP Sweden 2022 - 18m GP",{"$f":"VLOOKUP(F1864,Soutez!A:B,2,FALSE)","v":"SE"},{"$f":"VLOOKUP(F1864,Soutez!A:C,3,FALSE)","v":2022},14,0,0.88500000000000001,714,632,null,null,"Discus 2c FES","FES","Není v databázi"]
["Mikael Widén",null,null,null,null,"SGP Sweden 2022 - 18m GP",{"$f":"VLOOKUP(F1865,Soutez!A:B,2,FALSE)","v":"SE"},{"$f":"VLOOKUP(F1865,Soutez!A:C,3,FALSE)","v":2022},15,0,0.88500000000000001,0,0,null,null,"DG808C","2Y","Není v databázi"]
["Jaroslav Tomana",{"$f":"VLOOKUP(A1866,Pilot,2,0)","v":1975},{"$f":"VLOOKUP(A1866,Pilot,5,0)","v":"M"},{"$f":"VLOOKUP(A1866,Pilot,3,0)","v":"Zbraslavice"},{"$f":"VLOOKUP(A1866,Pilot,4,0)","v":"CZ/C1"},"AZ Cup 2023 - Klub",{"$f":"VLOOKUP(F1866,Soutez!A:B,2,FALSE)","v":"CZ"},{"$f":"VLOOKUP(F1866,Soutez!A:C,3,FALSE)","v":2023},1,8564,{"$f":"VLOOKUP(F1866,Soutez,12,0)","v":0.95500000000000007},{"$f":"ROUND(J1866/MAX($J$1866:$J$1892)*10000*0.7+(MAX($I$1866:$I$1892)-I1866)/(MAX($I$1866:$I$1892)-1)*10000*0.3,0)","v":10000},{"$f":"ROUND(K1866*L1866,0)","v":9550},"x",null,"Pegase-101 BC","RT",""]
["Pavel Trybenekr",1990,"M","Hořice","CZ/C2","AZ Cup 2023 - Klub",{"$f":"VLOOKUP(F1867,Soutez!A:B,2,FALSE)","v":"CZ"},{"$f":"VLOOKUP(F1867,Soutez!A:C,3,FALSE)","v":2023},2,8430,0.95500000000000007,9775,{"$f":"ROUND(K1867*L1867,0)","v":9335},"x",null,"LS-4","PF",""]
["Ivan Harasta 65",1965,"M","Toužim","CZ/C1","AZ Cup 2023 - Klub",{"$f":"VLOOKUP(F1868,Soutez!A:B,2,FALSE)","v":"CZ"},{"$f":"VLOOKUP(F1868,Soutez!A:C,3,FALSE)","v":2023},3,8364,0.95500000000000007,9606,9174,"x",null,"LS-4B","IX",""]
["Lukas Kriz",2003,"M","Křižanov","CZ/M","AZ Cup 2023 - Klub",{"$f":"VLOOKUP(F1869,Soutez!A:B,2,FALSE)","v":"CZ"},{"$f":"VLOOKUP(F1869,Soutez!A:C,3,FALSE)","v":2023},4,8061,0.95500000000000007,9243,8827,null,null,"LS-4B","6L","Junior v roce 2024"]
["Mark Travner",null,null,"Aeroklub Celje",null,"AZ Cup 2023 - Klub",{"$f":"VLOOKUP(F1870,Soutez!A:B,2,FALSE)","v":"CZ"},{"$f":"VLOOKUP(F1870,Soutez!A:C,3,FALSE)","v":2023},5,7999,0.95500000000000007,9077,8669,null,null,"SZD-55","NX","Není v databázi"]
["David Darnady",{"$f":"VLOOKUP(A1871,Pilot,2,0)","v":1987},{"$f":"VLOOKUP(A1871,Pilot,5,0)","v":"M"},{"$f":"VLOOKUP(A1871,Pilot,3,0)","v":"Zbraslavice"},{"$f":"VLOOKUP(A1871,Pilot,4,0)","v":"CZ/C1"},"AZ Cup 2023 - Klub",{"$f":"VLOOKUP(F1871,Soutez!A:B,2,FALSE)","v":"CZ"},{"$f":"VLOOKUP(F1871,Soutez!A:C,3,FALSE)","v":2023},6,7968,0.95500000000000007,8936,8534,"x",null,"ASW-20",311,""]
["Martin Urban",1971,"M","Frýdlant","CZ/M","AZ Cup 2023 - Klub",{"$f":"VLOOKUP(F1872,Soutez!A:B,2,FALSE)","v":"CZ"},{"$f":"VLOOKUP(F1872,Soutez!A:C,3,FALSE)","v":2023},7,7764,0.95500000000000007,8654,8265,"x",null,"LS-3A","SJ",""]
["Michal Lesinger",1966,"M","Moravská Třebová","CZ/M","AZ Cup 2023 - Klub",{"$f":"VLOOKUP(F1873,Soutez!A:B,2,FALSE)","v":"CZ"},{"$f":"VLOOKUP(F1873,Soutez!A:C,3,FALSE)","v":2023},8,7615,0.95500000000000007,8417,8038,null,null,"ASW-20A","LL",""]
["Jan Stastny",2003,"M","Medlánky","CZ/M","AZ Cup 2023 - Klub",{"$f":"VLOOKUP(F1874,Soutez!A:B,2,FALSE)","v":"CZ"},{"$f":"VLOOKUP(F1874,Soutez!A:C,3,FALSE)","v":2023},9,7586,0.95500000000000007,8278,7905,null,null,"ASW-20A","CX","Junior v roce 2024"]
["Tomas Hynek",2002,"M","Dvůr Králové","CZ/C2","AZ Cup 2023 - Klub",{"$f":"VLOOKUP(F1875,Soutez!A:B,2,FALSE)","v":"CZ"},{"$f":"VLOOKUP(F1875,Soutez!A:C,3,FALSE)","v":2023},10,7489,0.95500000000000007,8083,7719,null,null,"ASW-20C","VW","Junior v roce 2024"]
["David Sachl",1978,"M","Kralupy","CZ/C1","AZ Cup 2023 - Klub",{"$f":"VLOOKUP(F1876,Soutez!A:B,2,FALSE)","v":"CZ"},{"$f":"VLOOKUP(F1876,Soutez!A:C,3,FALSE)","v":2023},11,6944,0.95500000000000007,7522,7184,"x",null,"DG-300 Elan","BK",""]
["Jan Smekal",1976,"M","Zbraslavice","CZ/C1","AZ Cup 2023 - Klub",{"$f":"VLOOKUP(F1877,Soutez!A:B,2,FALSE)","v":"CZ"},{"$f":"VLOOKUP(F1877,Soutez!A:C,3,FALSE)","v":2023},12,6703,0.95500000000000007,7210,6886,"x",null,"AWS-20","NW",""]
["Petr Havelka",1997,"M","Zbraslavice","CZ/C1","AZ Cup 2023 - Klub",{"$f":"VLOOKUP(F1878,Soutez!A:B,2,FALSE)","v":"CZ"},{"$f":"VLOOKUP(F1878,Soutez!A:C,3,FALSE)","v":2023},13,6583,0.95500000000000007,6996,6681,null,null,"ASW-19B","PH",""]
["Viktor Becan",1979,"M","Vlašim","CZ/C1","AZ Cup 2023 - Klub",{"$f":"VLOOKUP(F1879,Soutez!A:B,2,FALSE)","v":"CZ"},{"$f":"VLOOKUP(F1879,Soutez!A:C,3,FALSE)","v":2023},14,6233,0.95500000000000007,6595,6298,"x",null,"ASW-20 L WL","CP",""]
["Lukas Hynek",{"$f":"VLOOKUP(A1880,Pilot,2,0)","v":1979},{"$f":"VLOOKUP(A1880,Pilot,5,0)","v":"M"},{"$f":"VLOOKUP(A1880,Pilot,3,0)","v":"Dvůr Králové"},{"$f":"VLOOKUP(A1880,Pilot,4,0)","v":"CZ/C2"},"AZ Cup 2023 - Klub",{"$f":"VLOOKUP(F1880,Soutez!A:B,2,FALSE)","v":"CZ"},{"$f":"VLOOKUP(F1880,Soutez!A:C,3,FALSE)","v":2023},15,6125,0.95500000000000007,6391,6103,"x",null,"DG-200","HL",""]
["Frantisek Komarek",1985,"M","Zbraslavice","CZ/C1","AZ Cup 2023 - Klub",{"$f":"VLOOKUP(F1881,Soutez!A:B,2,FALSE)","v":"CZ"},{"$f":"VLOOKUP(F1881,Soutez!A:C,3,FALSE)","v":2023},16,5966,0.95500000000000007,6146,{"$f":"ROUND(K1881*L1881,0)","v":5869},"x",null,"ASW-19B","PM",""]
["Martin Kriz",1968,"M","Přibyslav","CZ/C2","AZ Cup 2023 - Klub",{"$f":"VLOOKUP(F1882,Soutez!A:B,2,FALSE)","v":"CZ"},{"$f":"VLOOKUP(F1882,Soutez!A:C,3,FALSE)","v":2023},17,5839,0.95500000000000007,5926,5659,null,null,"ASW-20",67,""]
["David Vrchota",1976,"M","Jaroměř","CZ/C2","AZ Cup 2023 - Klub",{"$f":"VLOOKUP(F1883,Soutez!A:B,2,FALSE)","v":"CZ"},{"$f":"VLOOKUP(F1883,Soutez!A:C,3,FALSE)","v":2023},18,5791,0.95500000000000007,5772,5512,null,null,"Std.Cirrus 16m","CO",""]
["Vaclav Sehnal",1962,"M","Kolín","CZ/C1","AZ Cup 2023 - Klub",{"$f":"VLOOKUP(F1884,Soutez!A:B,2,FALSE)","v":"CZ"},{"$f":"VLOOKUP(F1884,Soutez!A:C,3,FALSE)","v":2023},19,5493,0.95500000000000007,5413,5169,"x",null,"JANTAR STD2","VS",""]
["Petr Vodicka",1965,"M","Jaroměř","CZ/C2","AZ Cup 2023 - Klub",{"$f":"VLOOKUP(F1885,Soutez!A:B,2,FALSE)","v":"CZ"},{"$f":"VLOOKUP(F1885,Soutez!A:C,3,FALSE)","v":2023},20,5043,0.95500000000000007,4930,4708,"x",null,"JANUS B","BV",""]
["Tomas Zamecnik",1988,"M","Zbraslavice","CZ/C1","AZ Cup 2023 - Klub",{"$f":"VLOOKUP(F1886,Soutez!A:B,2,FALSE)","v":"CZ"},{"$f":"VLOOKUP(F1886,Soutez!A:C,3,FALSE)","v":2023},21,4797,0.95500000000000007,4613,4405,"x",null,"ASW-19B","O2",""]
["Ales Holoubek",1966,"M","Jičín","CZ/C2","AZ Cup 2023 - Klub",{"$f":"VLOOKUP(F1887,Soutez!A:B,2,FALSE)","v":"CZ"},{"$f":"VLOOKUP(F1887,Soutez!A:C,3,FALSE)","v":2023},22,4506,0.95500000000000007,4260,4068,"x",null,"ASW-15B","T",""]
["Jan Kristof",1962,"M","Frýdlant","CZ/M","AZ Cup 2023 - Klub",{"$f":"VLOOKUP(F1888,Soutez!A:B,2,FALSE)","v":"CZ"},{"$f":"VLOOKUP(F1888,Soutez!A:C,3,FALSE)","v":2023},23,3381,0.95500000000000007,3225,3080,"x",null,"LS-3","TX",""]
["Petr Brezina",1963,"M","Frýdlant","CZ/M","AZ Cup 2023 - Klub",{"$f":"VLOOKUP(F1889,Soutez!A:B,2,FALSE)","v":"CZ"},{"$f":"VLOOKUP(F1889,Soutez!A:C,3,FALSE)","v":2023},24,3327,0.95500000000000007,3066,2928,"x",null,"DG-200","AK",""]
["David Popovsky",1976,"M","Rakovník","CZ/C1","AZ Cup 2023 - Klub",{"$f":"VLOOKUP(F1890,Soutez!A:B,2,FALSE)","v":"CZ"},{"$f":"VLOOKUP(F1890,Soutez!A:C,3,FALSE)","v":2023},25,2248,0.95500000000000007,2068,1975,"x",null,"ASW-24",76,""]
["Vladimir Hammer",2000,"M","Letkov","CZ/C1","AZ Cup 2023 - Klub",{"$f":"VLOOKUP(F1891,Soutez!A:B,2,FALSE)","v":"CZ"},{"$f":"VLOOKUP(F1891,Soutez!A:C,3,FALSE)","v":2023},26,1910,0.95500000000000007,1677,1602,null,null,"DISCUS B","SJI","Junior v roce 2024"]
["Jiri Hodan",1959,"M","Zbraslavice","CZ/C1","AZ Cup 2023 - Klub",{"$f":"VLOOKUP(F1892,Soutez!A:B,2,FALSE)","v":"CZ"},{"$f":"VLOOKUP(F1892,Soutez!A:C,3,FALSE)","v":2023},27,1627,0.95500000000000007,1330,1270,"x",null,"ASTIR G103 III","RB",""]
["Radek Krejcirik",{"$f":"VLOOKUP(A1893,Pilot,2,0)","v":1991},{"$f":"VLOOKUP(A1893,Pilot,5,0)","v":"M"},{"$f":"VLOOKUP(A1893,Pilot,3,0)","v":"Hranice"},{"$f":"VLOOKUP(A1893,Pilot,4,0)","v":"CZ/M"},"AZ Cup 2023 - Kombi ",{"$f":"VLOOKUP(F1893,Soutez!A:B,2,FALSE)","v":"CZ"},{"$f":"VLOOKUP(F1893,Soutez!A:C,3,FALSE)","v":2023},1,8289,1,{"$f":"ROUND(J1893/MAX($J$1893:$J$1924)*10000*0.7+(MAX($I$1893:$I$1924)-I1893)/(MAX($I$1893:$I$1924)-1)*10000*0.3,0)","v":10000},{"$f":"ROUND(K1893*L1893,0)","v":10000},null,null,"AS-33 ES",12,""]
["Petr Krejcirik",1960,"M","Hranice","CZ/M","AZ Cup 2023 - Kombi ",{"$f":"VLOOKUP(F1894,Soutez!A:B,2,FALSE)","v":"CZ"},{"$f":"VLOOKUP(F1894,Soutez!A:C,3,FALSE)","v":2023},2,7812,1,9500,{"$f":"ROUND(K1894*L1894,0)","v":9500},"x",null,"JS3 18m","VB",""]
["Radek Kucirek",1973,"M","Havlíčkův Brod","CZ/C2","AZ Cup 2023 - Kombi ",{"$f":"VLOOKUP(F1895,Soutez!A:B,2,FALSE)","v":"CZ"},{"$f":"VLOOKUP(F1895,Soutez!A:C,3,FALSE)","v":2023},3,7722,1,9328,9328,"x",null,"EB-28 Edition","NA",""]
["Petr Tichy",1973,"M","Zbraslavice","CZ/C1","AZ Cup 2023 - Kombi ",{"$f":"VLOOKUP(F1896,Soutez!A:B,2,FALSE)","v":"CZ"},{"$f":"VLOOKUP(F1896,Soutez!A:C,3,FALSE)","v":2023},4,7613,1,9139,9139,"x",null,"JS1-C 21m","JX",""]
["Vladimir Foltin",null,null,"Nitra SK",null,"AZ Cup 2023 - Kombi ",{"$f":"VLOOKUP(F1897,Soutez!A:B,2,FALSE)","v":"CZ"},{"$f":"VLOOKUP(F1897,Soutez!A:C,3,FALSE)","v":2023},5,7551,1,8990,8990,null,null,"JS3 18m",3,"Není v databázi"]
["Ivan Novak",{"$f":"VLOOKUP(A1898,Pilot,2,0)","v":1962},{"$f":"VLOOKUP(A1898,Pilot,5,0)","v":"M"},{"$f":"VLOOKUP(A1898,Pilot,3,0)","v":"Mladá Boleslav"},{"$f":"VLOOKUP(A1898,Pilot,4,0)","v":"CZ/C1"},"AZ Cup 2023 - Kombi ",{"$f":"VLOOKUP(F1898,Soutez!A:B,2,FALSE)","v":"CZ"},{"$f":"VLOOKUP(F1898,Soutez!A:C,3,FALSE)","v":2023},6,7383,1,8751,8751,"x",null,"ASG-29E","QZ",""]
["Ondrej Dupal",1966,"M","GAC Benešov","CZ/C1","AZ Cup 2023 - Kombi ",{"$f":"VLOOKUP(F1899,Soutez!A:B,2,FALSE)","v":"CZ"},{"$f":"VLOOKUP(F1899,Soutez!A:C,3,FALSE)","v":2023},7,7369,1,8642,8642,"x",null,"ASG-29E","GO",""]
["Danes Grula",1961,"M","Medlánky","CZ/M","AZ Cup 2023 - Kombi ",{"$f":"VLOOKUP(F1900,Soutez!A:B,2,FALSE)","v":"CZ"},{"$f":"VLOOKUP(F1900,Soutez!A:C,3,FALSE)","v":2023},8,7240,1,8437,8437,"x",null,"ASG-32 MI","DX",""]
["Jan Boruvka",1984,"M","Jičín","CZ/C2","AZ Cup 2023 - Kombi ",{"$f":"VLOOKUP(F1901,Soutez!A:B,2,FALSE)","v":"CZ"},{"$f":"VLOOKUP(F1901,Soutez!A:C,3,FALSE)","v":2023},9,7221,1,8324,8324,"x",null,"VENTUS C 17.6m","EG",""]
["Jan Kantor",1983,"M","Letňany","CZ/C1","AZ Cup 2023 - Kombi ",{"$f":"VLOOKUP(F1902,Soutez!A:B,2,FALSE)","v":"CZ"},{"$f":"VLOOKUP(F1902,Soutez!A:C,3,FALSE)","v":2023},10,7032,1,8068,8068,"x",null,"ASG-29E","QX",""]
["Alena Netusilova",1970,"F","Zbraslavice","CZ/C1","AZ Cup 2023 - Kombi ",{"$f":"VLOOKUP(F1903,Soutez!A:B,2,FALSE)","v":"CZ"},{"$f":"VLOOKUP(F1903,Soutez!A:C,3,FALSE)","v":2023},11,6631,1,7632,7632,"x",null,"JS3 18m","ZE",""]
["Karel Novak",1993,"M","Mladá Boleslav","CZ/C1","AZ Cup 2023 - Kombi ",{"$f":"VLOOKUP(F1904,Soutez!A:B,2,FALSE)","v":"CZ"},{"$f":"VLOOKUP(F1904,Soutez!A:C,3,FALSE)","v":2023},12,6481,1,7409,7409,null,null,"VENTUS 2A 15m","AX",""]
["Petr Starek",1974,"M","Zbraslavice","CZ/C1","AZ Cup 2023 - Kombi ",{"$f":"VLOOKUP(F1905,Soutez!A:B,2,FALSE)","v":"CZ"},{"$f":"VLOOKUP(F1905,Soutez!A:C,3,FALSE)","v":2023},13,6292,1,7152,7152,"x",null,"HPH 304 JS",66,""]
["Michal Posluzny",1968,"M","Medlánky","CZ/M","AZ Cup 2023 - Kombi ",{"$f":"VLOOKUP(F1906,Soutez!A:B,2,FALSE)","v":"CZ"},{"$f":"VLOOKUP(F1906,Soutez!A:C,3,FALSE)","v":2023},14,6275,1,7041,7041,"x",null,"JS3 18m","QX1",""]
["Jan Kotan",1982,"M","Letňany","CZ/C1","AZ Cup 2023 - Kombi ",{"$f":"VLOOKUP(F1907,Soutez!A:B,2,FALSE)","v":"CZ"},{"$f":"VLOOKUP(F1907,Soutez!A:C,3,FALSE)","v":2023},15,6231,1,6907,6907,null,null,"VENTUS 2BX 15m","YA",""]
["Hana Treslova",1991,"F","Raná","CZ/C2","AZ Cup 2023 - Kombi ",{"$f":"VLOOKUP(F1908,Soutez!A:B,2,FALSE)","v":"CZ"},{"$f":"VLOOKUP(F1908,Soutez!A:C,3,FALSE)","v":2023},16,6193,1,6778,6778,null,null,"JS3 18m","XM",""]
["Radek Zima 78",1978,"M","Hodkovice","CZ/C2","AZ Cup 2023 - Kombi ",{"$f":"VLOOKUP(F1909,Soutez!A:B,2,FALSE)","v":"CZ"},{"$f":"VLOOKUP(F1909,Soutez!A:C,3,FALSE)","v":2023},17,6150,1,6645,6645,"x",null,"ASG-29E","XZ",""]
["Jan Dersak 69",1969,"M","Kralupy","CZ/C1","AZ Cup 2023 - Kombi ",{"$f":"VLOOKUP(F1910,Soutez!A:B,2,FALSE)","v":"CZ"},{"$f":"VLOOKUP(F1910,Soutez!A:C,3,FALSE)","v":2023},18,6043,1,6458,6458,null,null,"HPH 304 MS","DJ",""]
["Zdenek Boruvka 86",1986,"M","Jičín","CZ/C2","AZ Cup 2023 - Kombi ",{"$f":"VLOOKUP(F1911,Soutez!A:B,2,FALSE)","v":"CZ"},{"$f":"VLOOKUP(F1911,Soutez!A:C,3,FALSE)","v":2023},19,5812,1,6166,6166,null,null,"VENTUS C 17.6m","VV",""]
["Jan Ratz",1987,"M","Zbraslavice","CZ/C1","AZ Cup 2023 - Kombi ",{"$f":"VLOOKUP(F1912,Soutez!A:B,2,FALSE)","v":"CZ"},{"$f":"VLOOKUP(F1912,Soutez!A:C,3,FALSE)","v":2023},20,5793,1,6053,6053,null,null,"LS-8 18m","FX",""]
["Jaroslav Potmesil",1964,"M","Zbraslavice","CZ/C1","AZ Cup 2023 - Kombi ",{"$f":"VLOOKUP(F1913,Soutez!A:B,2,FALSE)","v":"CZ"},{"$f":"VLOOKUP(F1913,Soutez!A:C,3,FALSE)","v":2023},21,5522,1,5728,5728,"x",null,"HpH 304 JS","JT",""]
["Richard Jensen",1965,"M","Zbraslavice","CZ/C1","AZ Cup 2023 - Kombi ",{"$f":"VLOOKUP(F1914,Soutez!A:B,2,FALSE)","v":"CZ"},{"$f":"VLOOKUP(F1914,Soutez!A:C,3,FALSE)","v":2023},22,5494,1,5607,{"$f":"ROUND(K1914*L1914,0)","v":5607},"x",null,"ASG-29E","AJ",""]
["Ivo Burda",1962,"M","Zbraslavice","CZ/C1","AZ Cup 2023 - Kombi ",{"$f":"VLOOKUP(F1915,Soutez!A:B,2,FALSE)","v":"CZ"},{"$f":"VLOOKUP(F1915,Soutez!A:C,3,FALSE)","v":2023},23,5179,1,5245,5245,"x",null,"VENTUS 2CXM 18m","IB",""]
["Karel Krobath",null,null,"FRA",null,"AZ Cup 2023 - Kombi ",{"$f":"VLOOKUP(F1916,Soutez!A:B,2,FALSE)","v":"CZ"},{"$f":"VLOOKUP(F1916,Soutez!A:C,3,FALSE)","v":2023},24,5077,1,5062,5062,null,null,"HPH TWINSHARK","Q","Není v databázi"]
["Jana Treslova",{"$f":"VLOOKUP(A1917,Pilot,2,0)","v":1963},{"$f":"VLOOKUP(A1917,Pilot,5,0)","v":"F"},{"$f":"VLOOKUP(A1917,Pilot,3,0)","v":"Raná"},{"$f":"VLOOKUP(A1917,Pilot,4,0)","v":"CZ/C2"},"AZ Cup 2023 - Kombi ",{"$f":"VLOOKUP(F1917,Soutez!A:B,2,FALSE)","v":"CZ"},{"$f":"VLOOKUP(F1917,Soutez!A:C,3,FALSE)","v":2023},25,4996,1,4897,4897,null,null,"LS-8 15m","W8",{"$f":"IF(ISERROR(VLOOKUP(A1917,Pilot,6,0)),\"Není v databázi\",VLOOKUP(A1917,Pilot,6,0))","v":""}]
["Zdenek Boruvka 54",1954,"M","Jičín","CZ/C2","AZ Cup 2023 - Kombi ",{"$f":"VLOOKUP(F1918,Soutez!A:B,2,FALSE)","v":"CZ"},{"$f":"VLOOKUP(F1918,Soutez!A:C,3,FALSE)","v":2023},26,4591,1,4458,4458,null,null,"LS-8 15m","ZB",""]
["Michaela Rendlova",2004,"F","Toužim","CZ/C1","AZ Cup 2023 - Kombi ",{"$f":"VLOOKUP(F1919,Soutez!A:B,2,FALSE)","v":"CZ"},{"$f":"VLOOKUP(F1919,Soutez!A:C,3,FALSE)","v":2023},27,4175,1,4010,4010,null,null,"AS-33 ES","EA","Junior v roce 2024"]
["Dana Novakova",1965,"F","Mladá Boleslav","CZ/C1","AZ Cup 2023 - Kombi ",{"$f":"VLOOKUP(F1920,Soutez!A:B,2,FALSE)","v":"CZ"},{"$f":"VLOOKUP(F1920,Soutez!A:C,3,FALSE)","v":2023},28,3989,1,3756,3756,null,null,"LS-8 15m","ID",""]
["Tomas Suchanek",1964,"M","GAC Benešov","CZ/C1","AZ Cup 2023 - Kombi ",{"$f":"VLOOKUP(F1921,Soutez!A:B,2,FALSE)","v":"CZ"},{"$f":"VLOOKUP(F1921,Soutez!A:C,3,FALSE)","v":2023},29,3678,1,3396,3396,null,null,"LS-8 18m","JB",""]
["Matous Schmidt",1981,"M","Letňany","CZ/C1","AZ Cup 2023 - Kombi ",{"$f":"VLOOKUP(F1922,Soutez!A:B,2,FALSE)","v":"CZ"},{"$f":"VLOOKUP(F1922,Soutez!A:C,3,FALSE)","v":2023},30,2152,1,2011,2011,"x",null,"VENTUS C 17.6m","UC",""]
["Pavel Svrcek",1972,"M","Frýdlant","CZ/M","AZ Cup 2023 - Kombi ",{"$f":"VLOOKUP(F1923,Soutez!A:B,2,FALSE)","v":"CZ"},{"$f":"VLOOKUP(F1923,Soutez!A:C,3,FALSE)","v":2023},31,1862,1,1669,1669,"x",null,"DG-400","PS",""]
["Tomas Rendla",1973,"M","Zbraslavice","CZ/C1","AZ Cup 2023 - Kombi ",{"$f":"VLOOKUP(F1924,Soutez!A:B,2,FALSE)","v":"CZ"},{"$f":"VLOOKUP(F1924,Soutez!A:C,3,FALSE)","v":2023},32,498,1,421,421,null,null,"HPH TWINSHARK","LK",""]
["Rostislav Stryk",{"$f":"VLOOKUP(A1925,Pilot,2,0)","v":1972},{"$f":"VLOOKUP(A1925,Pilot,5,0)","v":"M"},{"$f":"VLOOKUP(A1925,Pilot,3,0)","v":"Frýdlant"},{"$f":"VLOOKUP(A1925,Pilot,4,0)","v":"CZ/M"},"FL 2023 - Klub",{"$f":"VLOOKUP(F1925,Soutez!A:B,2,FALSE)","v":"CZ"},{"$f":"VLOOKUP(F1925,Soutez!A:C,3,FALSE)","v":2023},1,4451,0,{"$f":"ROUND(J1925/MAX($J$1925:$J$1935)*10000*0.7+(MAX($I$1925:$I$1935)-I1925)/(MAX($I$1925:$I$1935)-1)*10000*0.3,0)","v":10000},{"$f":"ROUND(K1925*L1925,0)","v":0},null,null,"Std. Cirrus",22,""]
["David Sachl",1978,"M","Kralupy","CZ/C1","FL 2023 - Klub",{"$f":"VLOOKUP(F1926,Soutez!A:B,2,FALSE)","v":"CZ"},{"$f":"VLOOKUP(F1926,Soutez!A:C,3,FALSE)","v":2023},2,4106,0,9124,{"$f":"ROUND(K1926*L1926,0)","v":0},null,null,"DG 300 WL","BK",""]
["Jan Kristof",{"$f":"VLOOKUP(A1927,Pilot,2,0)","v":1962},{"$f":"VLOOKUP(A1927,Pilot,5,0)","v":"M"},{"$f":"VLOOKUP(A1927,Pilot,3,0)","v":"Frýdlant"},{"$f":"VLOOKUP(A1927,Pilot,4,0)","v":"CZ/M"},"FL 2023 - Klub",{"$f":"VLOOKUP(F1927,Soutez!A:B,2,FALSE)","v":"CZ"},{"$f":"VLOOKUP(F1927,Soutez!A:C,3,FALSE)","v":2023},3,3573,0,7953,0,null,null,"LS 3","TX",""]
["Petr Brezina",{"$f":"VLOOKUP(A1928,Pilot,2,0)","v":1963},{"$f":"VLOOKUP(A1928,Pilot,5,0)","v":"M"},{"$f":"VLOOKUP(A1928,Pilot,3,0)","v":"Frýdlant"},{"$f":"VLOOKUP(A1928,Pilot,4,0)","v":"CZ/M"},"FL 2023 - Klub",{"$f":"VLOOKUP(F1928,Soutez!A:B,2,FALSE)","v":"CZ"},{"$f":"VLOOKUP(F1928,Soutez!A:C,3,FALSE)","v":2023},4,2743,0,6314,0,null,null,"DG 200","AK",""]
["Jan Mareth",1979,"M","Frýdlant","CZ/M","FL 2023 - Klub",{"$f":"VLOOKUP(F1929,Soutez!A:B,2,FALSE)","v":"CZ"},{"$f":"VLOOKUP(F1929,Soutez!A:C,3,FALSE)","v":2023},5,2191,0,5112,0,null,null,"ASW 15 B","PA",""]
["Adam Sugl",1987,"M","Vyškov","CZ/M","FL 2023 - Klub",{"$f":"VLOOKUP(F1930,Soutez!A:B,2,FALSE)","v":"CZ"},{"$f":"VLOOKUP(F1930,Soutez!A:C,3,FALSE)","v":2023},6,1920,{"$f":"VLOOKUP(F1930,Soutez,12,0)","v":0},4353,0,null,null,"Std. Cirrus","GT",""]
["Jan Sustr 76",{"$f":"VLOOKUP(A1931,Pilot,2,0)","v":1976},{"$f":"VLOOKUP(A1931,Pilot,5,0)","v":"M"},{"$f":"VLOOKUP(A1931,Pilot,3,0)","v":"Raná"},{"$f":"VLOOKUP(A1931,Pilot,4,0)","v":"CZ/C2"},"FL 2023 - Klub",{"$f":"VLOOKUP(F1931,Soutez!A:B,2,FALSE)","v":"CZ"},{"$f":"VLOOKUP(F1931,Soutez!A:C,3,FALSE)","v":2023},7,501,0,1788,0,null,null,"DG 300","WL",""]
["Stepan Obrovsky",1990,"M","Frýdlant","CZ/M","FL 2023 - Klub",{"$f":"VLOOKUP(F1932,Soutez!A:B,2,FALSE)","v":"CZ"},{"$f":"VLOOKUP(F1932,Soutez!A:C,3,FALSE)","v":2023},8,419,0,1326,0,null,null,"LS 1-f","EM",""]
["Jan Mrozek",{"$f":"VLOOKUP(A1933,Pilot,2,0)","v":1982},{"$f":"VLOOKUP(A1933,Pilot,5,0)","v":"M"},{"$f":"VLOOKUP(A1933,Pilot,3,0)","v":"Frýdlant"},{"$f":"VLOOKUP(A1933,Pilot,4,0)","v":"CZ/M"},"FL 2023 - Klub",{"$f":"VLOOKUP(F1933,Soutez!A:B,2,FALSE)","v":"CZ"},{"$f":"VLOOKUP(F1933,Soutez!A:C,3,FALSE)","v":2023},9,285,0,782,{"$f":"ROUND(K1933*L1933,0)","v":0},null,null,"Std. Cirrus","E",""]
["Ludek Mikl",1963,"M","Šumperk","CZ/M","FL 2023 - Klub",{"$f":"VLOOKUP(F1934,Soutez!A:B,2,FALSE)","v":"CZ"},{"$f":"VLOOKUP(F1934,Soutez!A:C,3,FALSE)","v":2023},10,0,0,0,0,null,null,"Std. Cirrus",16,""]
["Jiri Koudela",1974,"M","Vyškov","CZ/M","FL 2023 - Klub",{"$f":"VLOOKUP(F1935,Soutez!A:B,2,FALSE)","v":"CZ"},{"$f":"VLOOKUP(F1935,Soutez!A:C,3,FALSE)","v":2023},10,0,0,0,0,null,null,"ASW 19 B","JK",""]
["Frantisek Vancura",{"$f":"VLOOKUP(A1936,Pilot,2,0)","v":1966},{"$f":"VLOOKUP(A1936,Pilot,5,0)","v":"M"},{"$f":"VLOOKUP(A1936,Pilot,3,0)","v":"Hranice"},{"$f":"VLOOKUP(A1936,Pilot,4,0)","v":"CZ/M"},"FL 2023 - Kombi",{"$f":"VLOOKUP(F1936,Soutez!A:B,2,FALSE)","v":"CZ"},{"$f":"VLOOKUP(F1936,Soutez!A:C,3,FALSE)","v":2023},1,4392,0.91500000000000004,{"$f":"ROUND(J1936/MAX($J$1936:$J$1948)*10000*0.7+(MAX($I$1936:$I$1948)-I1936)/(MAX($I$1936:$I$1948)-1)*10000*0.3,0)","v":10000},{"$f":"ROUND(K1936*L1936,0)","v":9150},"x",null,"Nimbus 3T 24.5m","A1",""]
["Pavel Foldyna",1976,"M","Frýdlant","CZ/M","FL 2023 - Kombi",{"$f":"VLOOKUP(F1937,Soutez!A:B,2,FALSE)","v":"CZ"},{"$f":"VLOOKUP(F1937,Soutez!A:C,3,FALSE)","v":2023},2,4239,0.91500000000000004,9483,{"$f":"ROUND(K1937*L1937,0)","v":8677},"x",null,"Arcus M","FJ",""]
["Martin Suchy",1969,"M","Hranice","CZ/M","FL 2023 - Kombi",{"$f":"VLOOKUP(F1938,Soutez!A:B,2,FALSE)","v":"CZ"},{"$f":"VLOOKUP(F1938,Soutez!A:C,3,FALSE)","v":2023},3,3820,0.91500000000000004,8543,7817,"x",null,"DG 500M 22m","T1",""]
["Zdenek Balcarek",1967,"M","Kroměříž","CZ/M","FL 2023 - Kombi",{"$f":"VLOOKUP(F1939,Soutez!A:B,2,FALSE)","v":"CZ"},{"$f":"VLOOKUP(F1939,Soutez!A:C,3,FALSE)","v":2023},4,3689,0.91500000000000004,8061,7376,"x",null,"Discus b","AI",""]
["Michal Cechmanek",1978,"M","Kroměříž","CZ/M","FL 2023 - Kombi",{"$f":"VLOOKUP(F1940,Soutez!A:B,2,FALSE)","v":"CZ"},{"$f":"VLOOKUP(F1940,Soutez!A:C,3,FALSE)","v":2023},5,3365,0.91500000000000004,7272,6654,null,null,"ASW 20","MK",""]
["Vladimir Jirka",{"$f":"VLOOKUP(A1941,Pilot,2,0)","v":1965},{"$f":"VLOOKUP(A1941,Pilot,5,0)","v":"M"},{"$f":"VLOOKUP(A1941,Pilot,3,0)","v":"Zábřeh"},{"$f":"VLOOKUP(A1941,Pilot,4,0)","v":"CZ/M"},"FL 2023 - Kombi",{"$f":"VLOOKUP(F1941,Soutez!A:B,2,FALSE)","v":"CZ"},{"$f":"VLOOKUP(F1941,Soutez!A:C,3,FALSE)","v":2023},6,3074,0.91500000000000004,6536,5980,"x",null,"HpH 304 TS Twin Shark",11,""]
["Lumir Motyka",{"$f":"VLOOKUP(A1942,Pilot,2,0)","v":1955},{"$f":"VLOOKUP(A1942,Pilot,5,0)","v":"M"},{"$f":"VLOOKUP(A1942,Pilot,3,0)","v":"Frýdlant"},{"$f":"VLOOKUP(A1942,Pilot,4,0)","v":"CZ/M"},"FL 2023 - Kombi",{"$f":"VLOOKUP(F1942,Soutez!A:B,2,FALSE)","v":"CZ"},{"$f":"VLOOKUP(F1942,Soutez!A:C,3,FALSE)","v":2023},7,2960,0.91500000000000004,6081,5564,"x",null,"LAK-12","DE",""]
["Zdenek Schenk",1972,"M","Hranice","CZ/M","FL 2023 - Kombi",{"$f":"VLOOKUP(F1943,Soutez!A:B,2,FALSE)","v":"CZ"},{"$f":"VLOOKUP(F1943,Soutez!A:C,3,FALSE)","v":2023},8,2053,0.91500000000000004,4363,3992,null,null,"duo discus","OK",""]
["Milos Matejka",1956,"M","Beroun","CZ/C1","FL 2023 - Kombi",{"$f":"VLOOKUP(F1944,Soutez!A:B,2,FALSE)","v":"CZ"},{"$f":"VLOOKUP(F1944,Soutez!A:C,3,FALSE)","v":2023},9,1890,0.91500000000000004,3830,{"$f":"ROUND(K1944*L1944,0)","v":3504},"x",null,"Discus b WL","SH",""]
["Antonin Kutalek",1943,"M","Zábřeh","CZ/M","FL 2023 - Kombi",{"$f":"VLOOKUP(F1945,Soutez!A:B,2,FALSE)","v":"CZ"},{"$f":"VLOOKUP(F1945,Soutez!A:C,3,FALSE)","v":2023},10,1368,0.91500000000000004,2726,2494,null,null,"LAK 17A","GL",""]
["Jaroslav Buryan",1953,"M","Zábřeh","CZ/M","FL 2023 - Kombi",{"$f":"VLOOKUP(F1946,Soutez!A:B,2,FALSE)","v":"CZ"},{"$f":"VLOOKUP(F1946,Soutez!A:C,3,FALSE)","v":2023},11,1278,0.91500000000000004,2310,2114,null,null,"ASW 20 WL","NS",""]
["Pavel Handl",1971,"M","Kroměříž","CZ/M","FL 2023 - Kombi",{"$f":"VLOOKUP(F1947,Soutez!A:B,2,FALSE)","v":"CZ"},{"$f":"VLOOKUP(F1947,Soutez!A:C,3,FALSE)","v":2023},12,0,0.91500000000000004,0,0,null,null,"Ventus 2c 18m","VJ",""]
["Roman Cerny",1971,"M","Hranice","CZ/M","FL 2023 - Kombi",{"$f":"VLOOKUP(F1948,Soutez!A:B,2,FALSE)","v":"CZ"},{"$f":"VLOOKUP(F1948,Soutez!A:C,3,FALSE)","v":2023},12,0,0.91500000000000004,0,0,null,null,"Nimbus 3 25.5m","RF",""]
["Josef Novotny",{"$f":"VLOOKUP(A1949,Pilot,2,0)","v":1983},{"$f":"VLOOKUP(A1949,Pilot,5,0)","v":"M"},{"$f":"VLOOKUP(A1949,Pilot,3,0)","v":"Přibyslav"},{"$f":"VLOOKUP(A1949,Pilot,4,0)","v":"CZ/C2"},"JPJ 2023 - Klub",{"$f":"VLOOKUP(F1949,Soutez!A:B,2,FALSE)","v":"CZ"},{"$f":"VLOOKUP(F1949,Soutez!A:C,3,FALSE)","v":2023},1,2829,0.90500000000000003,{"$f":"ROUND(J1949/MAX($J$1949:$J$1988)*10000*0.7+(MAX($I$1949:$I$1988)-I1949)/(MAX($I$1949:$I$1988)-1)*10000*0.3,0)","v":10000},{"$f":"ROUND(K1949*L1949,0)","v":9050},"x",null,"Std. Cirrus","AW",""]
["Lukas Kriz",2003,"M","Křižanov","CZ/M","JPJ 2023 - Klub",{"$f":"VLOOKUP(F1950,Soutez!A:B,2,FALSE)","v":"CZ"},{"$f":"VLOOKUP(F1950,Soutez!A:C,3,FALSE)","v":2023},2,2819,0.90500000000000003,9898,{"$f":"ROUND(K1950*L1950,0)","v":8958},null,null,"LS-4","6L","Junior v roce 2024"]
["Jindrich Svorc",1978,"M","Letňany","CZ/C1","JPJ 2023 - Klub",{"$f":"VLOOKUP(F1951,Soutez!A:B,2,FALSE)","v":"CZ"},{"$f":"VLOOKUP(F1951,Soutez!A:C,3,FALSE)","v":2023},3,2794,0.90500000000000003,9760,8833,"x",null,"Std. Cirrus","IMI",""]
["Rene Hudak",1972,"M","Kunovice","CZ/M","JPJ 2023 - Klub",{"$f":"VLOOKUP(F1952,Soutez!A:B,2,FALSE)","v":"CZ"},{"$f":"VLOOKUP(F1952,Soutez!A:C,3,FALSE)","v":2023},4,2696,0.90500000000000003,9440,8543,"x",null,"Std. Cirrus WL","NK",""]
["Michal Cechmanek",1978,"M","Kroměříž","CZ/M","JPJ 2023 - Klub",{"$f":"VLOOKUP(F1953,Soutez!A:B,2,FALSE)","v":"CZ"},{"$f":"VLOOKUP(F1953,Soutez!A:C,3,FALSE)","v":2023},5,2643,0.90500000000000003,9232,8355,"x",null,"ASW-20 (A)+L+F 15m","MK",""]
["Jiri Prochazka",1971,"M","Toužim","CZ/C1","JPJ 2023 - Klub",{"$f":"VLOOKUP(F1954,Soutez!A:B,2,FALSE)","v":"CZ"},{"$f":"VLOOKUP(F1954,Soutez!A:C,3,FALSE)","v":2023},6,2624,0.90500000000000003,9108,8243,"x",null,"Janus CM pevný podv.","J59",""]
["Zdenek Balcarek",1967,"M","Kroměříž","CZ/M","JPJ 2023 - Klub",{"$f":"VLOOKUP(F1955,Soutez!A:B,2,FALSE)","v":"CZ"},{"$f":"VLOOKUP(F1955,Soutez!A:C,3,FALSE)","v":2023},7,2581,0.90500000000000003,8925,8077,"x",null,"Discus b","AI",""]
["Josef Novak",1981,"M","Kunovice","CZ/M","JPJ 2023 - Klub",{"$f":"VLOOKUP(F1956,Soutez!A:B,2,FALSE)","v":"CZ"},{"$f":"VLOOKUP(F1956,Soutez!A:C,3,FALSE)","v":2023},8,2576,0.90500000000000003,8836,7997,"x",null,"Discus CS","CS",""]
["Antonin Novotny",1972,"M","Luhačovice","CZ/M","JPJ 2023 - Klub",{"$f":"VLOOKUP(F1957,Soutez!A:B,2,FALSE)","v":"CZ"},{"$f":"VLOOKUP(F1957,Soutez!A:C,3,FALSE)","v":2023},9,2558,0.90500000000000003,8714,7886,"x",null,"Std. Cirrus","SJ",""]
["Jaroslav Buryan",1953,"M","Zábřeh","CZ/M","JPJ 2023 - Klub",{"$f":"VLOOKUP(F1958,Soutez!A:B,2,FALSE)","v":"CZ"},{"$f":"VLOOKUP(F1958,Soutez!A:C,3,FALSE)","v":2023},10,2553,0.90500000000000003,8625,7806,"x",null,"ASW-20 (A)+L+F 15m","NS",""]
["Rostislav Stryk",1972,"M","Frýdlant","CZ/M","JPJ 2023 - Klub",{"$f":"VLOOKUP(F1959,Soutez!A:B,2,FALSE)","v":"CZ"},{"$f":"VLOOKUP(F1959,Soutez!A:C,3,FALSE)","v":2023},11,2483,0.90500000000000003,8375,7579,"x",null,"Std. Cirrus",22,""]
["Martin Urner",1974,"M","Letňany","CZ/C1","JPJ 2023 - Klub",{"$f":"VLOOKUP(F1960,Soutez!A:B,2,FALSE)","v":"CZ"},{"$f":"VLOOKUP(F1960,Soutez!A:C,3,FALSE)","v":2023},12,2428,0.90500000000000003,8162,7387,"x",null,"ASW-15B","JJ",""]
["Martin Kriz",1968,"M","Přibyslav","CZ/C2","JPJ 2023 - Klub",{"$f":"VLOOKUP(F1961,Soutez!A:B,2,FALSE)","v":"CZ"},{"$f":"VLOOKUP(F1961,Soutez!A:C,3,FALSE)","v":2023},13,2354,0.90500000000000003,7902,7151,"x",null,"ASW-20 (A)+L+F 15m",67,""]
["Jan Zezula",1979,"M","Letňany","CZ/C1","JPJ 2023 - Klub",{"$f":"VLOOKUP(F1962,Soutez!A:B,2,FALSE)","v":"CZ"},{"$f":"VLOOKUP(F1962,Soutez!A:C,3,FALSE)","v":2023},14,2331,0.90500000000000003,7768,7030,"x",null,"ASW-19B","HD",""]
["Jan Podhrazsky",1976,"M","Šumperk","CZ/M","JPJ 2023 - Klub",{"$f":"VLOOKUP(F1963,Soutez!A:B,2,FALSE)","v":"CZ"},{"$f":"VLOOKUP(F1963,Soutez!A:C,3,FALSE)","v":2023},15,2284,0.90500000000000003,7575,6855,"x",null,"Discus b","SJP",""]
["Martin Ficnar",1971,"M","Šumperk","CZ/M","JPJ 2023 - Klub",{"$f":"VLOOKUP(F1964,Soutez!A:B,2,FALSE)","v":"CZ"},{"$f":"VLOOKUP(F1964,Soutez!A:C,3,FALSE)","v":2023},16,2282,0.90500000000000003,7493,6781,"x",null,"LS-3a 15m","S20",""]
["Radim Sobek",1977,"M","Hranice","CZ/M","JPJ 2023 - Klub",{"$f":"VLOOKUP(F1965,Soutez!A:B,2,FALSE)","v":"CZ"},{"$f":"VLOOKUP(F1965,Soutez!A:C,3,FALSE)","v":2023},17,2235,0.90500000000000003,7299,6606,"x",null,"TST-10M Atlas",7,""]
["Petr Havrlant",1965,"M","Šumperk","CZ/M","JPJ 2023 - Klub",{"$f":"VLOOKUP(F1966,Soutez!A:B,2,FALSE)","v":"CZ"},{"$f":"VLOOKUP(F1966,Soutez!A:C,3,FALSE)","v":2023},18,2223,0.90500000000000003,7193,6510,"x",null,"ASW-15B","Q1",""]
["Martin Svarc",1981,"M","Olomouc","CZ/M","JPJ 2023 - Klub",{"$f":"VLOOKUP(F1967,Soutez!A:B,2,FALSE)","v":"CZ"},{"$f":"VLOOKUP(F1967,Soutez!A:C,3,FALSE)","v":2023},19,2219,0.90500000000000003,7106,6431,"x",null,"DG-101 G","HE",""]
["Karel Horalek",1976,"M","Olomouc","CZ/M","JPJ 2023 - Klub",{"$f":"VLOOKUP(F1968,Soutez!A:B,2,FALSE)","v":"CZ"},{"$f":"VLOOKUP(F1968,Soutez!A:C,3,FALSE)","v":2023},20,2139,0.90500000000000003,6831,6182,"x",null,"LS-3 15m","Y1",""]
["Stepan Obrovsky",1990,"M","Frýdlant","CZ/M","JPJ 2023 - Klub",{"$f":"VLOOKUP(F1969,Soutez!A:B,2,FALSE)","v":"CZ"},{"$f":"VLOOKUP(F1969,Soutez!A:C,3,FALSE)","v":2023},21,1956,0.90500000000000003,6301,5702,"x",null,"LS-1f","EM",""]
["Jakub Kohn",1992,"M","Prostějov","CZ/M","JPJ 2023 - Klub",{"$f":"VLOOKUP(F1970,Soutez!A:B,2,FALSE)","v":"CZ"},{"$f":"VLOOKUP(F1970,Soutez!A:C,3,FALSE)","v":2023},22,1950,0.90500000000000003,6210,{"$f":"ROUND(K1970*L1970,0)","v":5620},"x",null,"ASW-15B","FK",""]
["Martin Hejny",1984,"M","Šumperk","CZ/M","JPJ 2023 - Klub",{"$f":"VLOOKUP(F1971,Soutez!A:B,2,FALSE)","v":"CZ"},{"$f":"VLOOKUP(F1971,Soutez!A:C,3,FALSE)","v":2023},23,1945,0.90500000000000003,6120,5539,"x",null,"ASW-19B","B8",""]
["Petr Lonsky",1965,"M","Toužim","CZ/C1","JPJ 2023 - Klub",{"$f":"VLOOKUP(F1972,Soutez!A:B,2,FALSE)","v":"CZ"},{"$f":"VLOOKUP(F1972,Soutez!A:C,3,FALSE)","v":2023},24,1887,0.90500000000000003,5900,5340,null,null,"Cirrus","JP",""]
["Jan Florian",1992,"M","Zbraslavice","CZ/C1","JPJ 2023 - Klub",{"$f":"VLOOKUP(F1973,Soutez!A:B,2,FALSE)","v":"CZ"},{"$f":"VLOOKUP(F1973,Soutez!A:C,3,FALSE)","v":2023},25,1863,0.90500000000000003,5764,5216,null,null,"Std. Cirrus","C1",""]
["Jiri Koudela",1974,"M","Vyškov","CZ/M","JPJ 2023 - Klub",{"$f":"VLOOKUP(F1974,Soutez!A:B,2,FALSE)","v":"CZ"},{"$f":"VLOOKUP(F1974,Soutez!A:C,3,FALSE)","v":2023},26,1802,0.90500000000000003,5536,5010,null,null,"ASW-19B","JK",""]
["Radim Tomala",1972,"M","Prostějov","CZ/M","JPJ 2023 - Klub",{"$f":"VLOOKUP(F1975,Soutez!A:B,2,FALSE)","v":"CZ"},{"$f":"VLOOKUP(F1975,Soutez!A:C,3,FALSE)","v":2023},27,1640,0.90500000000000003,5058,4577,"x",null,"Std. Cirrus","RT",""]
["Roman Schotli",1970,"M","Hranice","CZ/M","JPJ 2023 - Klub",{"$f":"VLOOKUP(F1976,Soutez!A:B,2,FALSE)","v":"CZ"},{"$f":"VLOOKUP(F1976,Soutez!A:C,3,FALSE)","v":2023},28,1591,0.90500000000000003,4860,4398,"x",null,"ASW-19B",19,""]
["Petr Masik",2001,"M","Zábřeh","CZ/M","JPJ 2023 - Klub",{"$f":"VLOOKUP(F1977,Soutez!A:B,2,FALSE)","v":"CZ"},{"$f":"VLOOKUP(F1977,Soutez!A:C,3,FALSE)","v":2023},29,1590,0.90500000000000003,4780,4326,null,null,"Std. Cirrus","MJ","Junior v roce 2024"]
["Jaromir Vlk",1959,"M","Šumperk","CZ/M","JPJ 2023 - Klub",{"$f":"VLOOKUP(F1978,Soutez!A:B,2,FALSE)","v":"CZ"},{"$f":"VLOOKUP(F1978,Soutez!A:C,3,FALSE)","v":2023},30,1492,0.90500000000000003,4461,4037,"x",null,"ASW-15B","R5",{"$f":"IF(ISERROR(VLOOKUP(A1978,Pilot,6,0)),\"Není v databázi\",VLOOKUP(A1978,Pilot,6,0))","v":""}]
["Petr Kolomaznik",1981,"M","Šumperk","CZ/M","JPJ 2023 - Klub",{"$f":"VLOOKUP(F1979,Soutez!A:B,2,FALSE)","v":"CZ"},{"$f":"VLOOKUP(F1979,Soutez!A:C,3,FALSE)","v":2023},31,1162,0.90500000000000003,3568,3229,"x",null,"Discus CS","VE",""]
["Adam Sugl",1987,"M","Vyškov","CZ/M","JPJ 2023 - Klub",{"$f":"VLOOKUP(F1980,Soutez!A:B,2,FALSE)","v":"CZ"},{"$f":"VLOOKUP(F1980,Soutez!A:C,3,FALSE)","v":2023},32,1034,0.90500000000000003,3174,2872,"x",null,"Std. Cirrus","GT",""]
["Yvona Vyhnankova",1963,"F","Olomouc","CZ/M","JPJ 2023 - Klub",{"$f":"VLOOKUP(F1981,Soutez!A:B,2,FALSE)","v":"CZ"},{"$f":"VLOOKUP(F1981,Soutez!A:C,3,FALSE)","v":2023},33,632,0.90500000000000003,2102,1902,null,null,"ASW-15","YZ",""]
["Jan Sobotka",{"$f":"VLOOKUP(A1982,Pilot,2,0)","v":1973},{"$f":"VLOOKUP(A1982,Pilot,5,0)","v":"M"},{"$f":"VLOOKUP(A1982,Pilot,3,0)","v":"Vyškov"},{"$f":"VLOOKUP(A1982,Pilot,4,0)","v":"CZ/M"},"JPJ 2023 - Klub",{"$f":"VLOOKUP(F1982,Soutez!A:B,2,FALSE)","v":"CZ"},{"$f":"VLOOKUP(F1982,Soutez!A:C,3,FALSE)","v":2023},34,498,0.90500000000000003,1694,1533,"x",null,"LS-1f","DP",""]
["Albert Schneider",1967,"M","Hranice","CZ/M","JPJ 2023 - Klub",{"$f":"VLOOKUP(F1983,Soutez!A:B,2,FALSE)","v":"CZ"},{"$f":"VLOOKUP(F1983,Soutez!A:C,3,FALSE)","v":2023},34,498,0.90500000000000003,1694,1533,"x",null,"Mini-Nimbus c","I",""]
["Radek Jaksa",1979,"M","Prostějov","CZ/M","JPJ 2023 - Klub",{"$f":"VLOOKUP(F1984,Soutez!A:B,2,FALSE)","v":"CZ"},{"$f":"VLOOKUP(F1984,Soutez!A:C,3,FALSE)","v":2023},36,325,0.90500000000000003,1112,1006,"x",null,"Std. Cirrus","ER",""]
["Lukas Zach",1987,"M","Vyškov","CZ/M","JPJ 2023 - Klub",{"$f":"VLOOKUP(F1985,Soutez!A:B,2,FALSE)","v":"CZ"},{"$f":"VLOOKUP(F1985,Soutez!A:C,3,FALSE)","v":2023},37,306,0.90500000000000003,988,894,"x",null,"G-102 Astir CS 77","AS",""]
["Michal Linhart",1982,"M","Vyškov","CZ/M","JPJ 2023 - Klub",{"$f":"VLOOKUP(F1986,Soutez!A:B,2,FALSE)","v":"CZ"},{"$f":"VLOOKUP(F1986,Soutez!A:C,3,FALSE)","v":2023},38,304,0.90500000000000003,906,820,"x",null,"DG-1001S 18m",66,""]
["Petr Omelka",1970,"M","Vyškov","CZ/M","JPJ 2023 - Klub",{"$f":"VLOOKUP(F1987,Soutez!A:B,2,FALSE)","v":"CZ"},{"$f":"VLOOKUP(F1987,Soutez!A:C,3,FALSE)","v":2023},39,298,0.90500000000000003,814,737,null,null,"DG-400 15m","MR",""]
["Ludek Mikl",1963,"M","Šumperk","CZ/M","JPJ 2023 - Klub",{"$f":"VLOOKUP(F1988,Soutez!A:B,2,FALSE)","v":"CZ"},{"$f":"VLOOKUP(F1988,Soutez!A:C,3,FALSE)","v":2023},40,59,0.90500000000000003,146,132,"x",null,"Std. Cirrus",16,""]
["Jiri Steiger",{"$f":"VLOOKUP(A1989,Pilot,2,0)","v":1969},{"$f":"VLOOKUP(A1989,Pilot,5,0)","v":"M"},{"$f":"VLOOKUP(A1989,Pilot,3,0)","v":"Olomouc"},{"$f":"VLOOKUP(A1989,Pilot,4,0)","v":"CZ/M"},"JPJ 2023 - Kombi",{"$f":"VLOOKUP(F1989,Soutez!A:B,2,FALSE)","v":"CZ"},{"$f":"VLOOKUP(F1989,Soutez!A:C,3,FALSE)","v":2023},1,2757,0.91500000000000004,{"$f":"ROUND(J1989/MAX($J$1989:$J$2007)*10000*0.7+(MAX($I$1989:$I$2007)-I1989)/(MAX($I$1989:$I$2007)-1)*10000*0.3,0)","v":10000},{"$f":"ROUND(K1989*L1989,0)","v":9150},"x",null,"Ventus 3M 18m","JS",""]
["Radek Hybl",1980,"M","Šumperk","CZ/M","JPJ 2023 - Kombi",{"$f":"VLOOKUP(F1990,Soutez!A:B,2,FALSE)","v":"CZ"},{"$f":"VLOOKUP(F1990,Soutez!A:C,3,FALSE)","v":2023},2,2733,0.91500000000000004,9772,{"$f":"ROUND(K1990*L1990,0)","v":8941},"x",null,"Ventus cm 17,6m","IHH",""]
["Frantisek Vancura",1966,"M","Hranice","CZ/M","JPJ 2023 - Kombi",{"$f":"VLOOKUP(F1991,Soutez!A:B,2,FALSE)","v":"CZ"},{"$f":"VLOOKUP(F1991,Soutez!A:C,3,FALSE)","v":2023},3,2597,0.91500000000000004,9260,8473,"x",null,"Nimbus 3T 24,5m WL 750kg","A1",""]
["Jan Simon",1970,"M","Kralupy","CZ/C1","JPJ 2023 - Kombi",{"$f":"VLOOKUP(F1992,Soutez!A:B,2,FALSE)","v":"CZ"},{"$f":"VLOOKUP(F1992,Soutez!A:C,3,FALSE)","v":2023},4,2254,0.91500000000000004,8223,7524,"x",null,"Duo Discus T 700kg","ZS",""]
["Zdenek Boruvka 54",1954,"M","Jičín","CZ/C2","JPJ 2023 - Kombi",{"$f":"VLOOKUP(F1993,Soutez!A:B,2,FALSE)","v":"CZ"},{"$f":"VLOOKUP(F1993,Soutez!A:C,3,FALSE)","v":2023},5,2251,0.91500000000000004,8049,7365,"x",null,"LS-8 15m","ZB",""]
["Zdenek Schenk",{"$f":"VLOOKUP(A1994,Pilot,2,0)","v":1972},{"$f":"VLOOKUP(A1994,Pilot,5,0)","v":"M"},{"$f":"VLOOKUP(A1994,Pilot,3,0)","v":"Hranice"},{"$f":"VLOOKUP(A1994,Pilot,4,0)","v":"CZ/M"},"JPJ 2023 - Kombi",{"$f":"VLOOKUP(F1994,Soutez!A:B,2,FALSE)","v":"CZ"},{"$f":"VLOOKUP(F1994,Soutez!A:C,3,FALSE)","v":2023},6,2164,{"$f":"VLOOKUP(F1994,Soutez,12,0)","v":0.91500000000000004},7661,7010,"x",null,"Ventus cm 17,6m","ŠNeK",""]
["Pavel Haluza",1966,"M","Prostějov","CZ/M","JPJ 2023 - Kombi",{"$f":"VLOOKUP(F1995,Soutez!A:B,2,FALSE)","v":"CZ"},{"$f":"VLOOKUP(F1995,Soutez!A:C,3,FALSE)","v":2023},7,1956,0.91500000000000004,6966,6374,"x",null,"Nimbus 2b","HT",""]
["Olga Mokosova",1970,"F","Jihlava","CZ/M","JPJ 2023 - Kombi",{"$f":"VLOOKUP(F1996,Soutez!A:B,2,FALSE)","v":"CZ"},{"$f":"VLOOKUP(F1996,Soutez!A:C,3,FALSE)","v":2023},8,1774,0.91500000000000004,6338,5799,"x","x","LS-6c 18m WL","MM",""]
["Albrecht Beat",1953,"M","Šumperk","CZ/M","JPJ 2023 - Kombi",{"$f":"VLOOKUP(F1997,Soutez!A:B,2,FALSE)","v":"CZ"},{"$f":"VLOOKUP(F1997,Soutez!A:C,3,FALSE)","v":2023},9,1661,0.91500000000000004,5884,5384,"x",null,"LS-8-18 18m","GL",""]
["Jan Dersak 69",{"$f":"VLOOKUP(A1998,Pilot,2,0)","v":1969},{"$f":"VLOOKUP(A1998,Pilot,5,0)","v":"M"},{"$f":"VLOOKUP(A1998,Pilot,3,0)","v":"Kralupy"},{"$f":"VLOOKUP(A1998,Pilot,4,0)","v":"CZ/C1"},"JPJ 2023 - Kombi",{"$f":"VLOOKUP(F1998,Soutez!A:B,2,FALSE)","v":"CZ"},{"$f":"VLOOKUP(F1998,Soutez!A:C,3,FALSE)","v":2023},10,1645,0.91500000000000004,5677,5194,null,null,"HpH 304MS SHARK 18m 600kg","DJ",""]
["Tomas Prikryl",{"$f":"VLOOKUP(A1999,Pilot,2,0)","v":1973},{"$f":"VLOOKUP(A1999,Pilot,5,0)","v":"M"},{"$f":"VLOOKUP(A1999,Pilot,3,0)","v":"Vyškov"},{"$f":"VLOOKUP(A1999,Pilot,4,0)","v":"CZ/M"},"JPJ 2023 - Kombi",{"$f":"VLOOKUP(F1999,Soutez!A:B,2,FALSE)","v":"CZ"},{"$f":"VLOOKUP(F1999,Soutez!A:C,3,FALSE)","v":2023},11,1632,0.91500000000000004,5477,5011,"x",null,"Ventus 2cm 18m 525kg","FN",""]
["Miroslav Sklenar",1964,"M","Žamberk","CZ/C2","JPJ 2023 - Kombi",{"$f":"VLOOKUP(F2000,Soutez!A:B,2,FALSE)","v":"CZ"},{"$f":"VLOOKUP(F2000,Soutez!A:C,3,FALSE)","v":2023},12,1559,0.91500000000000004,5125,4689,"x",null,"Duo Discus 700kg","VP",""]
["Lukas Petrzela",1987,"M","Olomouc","CZ/M","JPJ 2023 - Kombi",{"$f":"VLOOKUP(F2001,Soutez!A:B,2,FALSE)","v":"CZ"},{"$f":"VLOOKUP(F2001,Soutez!A:C,3,FALSE)","v":2023},13,1282,0.91500000000000004,4255,{"$f":"ROUND(K2001*L2001,0)","v":3893},"x",null,"Nimbus 2b","MT",""]
["Antonin Kutalek",1943,"M","Zábřeh","CZ/M","JPJ 2023 - Kombi",{"$f":"VLOOKUP(F2002,Soutez!A:B,2,FALSE)","v":"CZ"},{"$f":"VLOOKUP(F2002,Soutez!A:C,3,FALSE)","v":2023},14,1187,0.91500000000000004,3847,3520,null,null,"LAK-17AT 18m","GLK",""]
["Miroslav Koci",1961,"M","Žamberk","CZ/C2","JPJ 2023 - Kombi",{"$f":"VLOOKUP(F2003,Soutez!A:B,2,FALSE)","v":"CZ"},{"$f":"VLOOKUP(F2003,Soutez!A:C,3,FALSE)","v":2023},15,1186,0.91500000000000004,3678,3365,"x",null,"Ventus 2cxm 18m 565kg","E8",""]
["Vit Grossmann",1977,"M","Hranice","CZ/M","JPJ 2023 - Kombi",{"$f":"VLOOKUP(F2004,Soutez!A:B,2,FALSE)","v":"CZ"},{"$f":"VLOOKUP(F2004,Soutez!A:C,3,FALSE)","v":2023},16,1012,0.91500000000000004,3069,2808,"x",null,"Duo Discus 700kg","OK",""]
["Tomas Profeld",1964,"M","Jičín","CZ/C2","JPJ 2023 - Kombi",{"$f":"VLOOKUP(F2005,Soutez!A:B,2,FALSE)","v":"CZ"},{"$f":"VLOOKUP(F2005,Soutez!A:C,3,FALSE)","v":2023},17,861,0.91500000000000004,2519,2305,"x",null,"Ventus 2cm 18m 525kg","OZ",""]
["Vladimir Spilka",1940,"M","Hranice","CZ/M","JPJ 2023 - Kombi",{"$f":"VLOOKUP(F2006,Soutez!A:B,2,FALSE)","v":"CZ"},{"$f":"VLOOKUP(F2006,Soutez!A:C,3,FALSE)","v":2023},18,548,0.91500000000000004,1558,1426,"x",null,"Nimbus 2b","AY",""]
["Pavel Handl",1971,"M","Kroměříž","CZ/M","JPJ 2023 - Kombi",{"$f":"VLOOKUP(F2007,Soutez!A:B,2,FALSE)","v":"CZ"},{"$f":"VLOOKUP(F2007,Soutez!A:C,3,FALSE)","v":2023},19,217,0.91500000000000004,551,504,"x",null,"Ventus 2cm 18m 525kg","VJ",""]
["Pavel Rericha",{"$f":"VLOOKUP(A2008,Pilot,2,0)","v":1967},{"$f":"VLOOKUP(A2008,Pilot,5,0)","v":"M"},{"$f":"VLOOKUP(A2008,Pilot,3,0)","v":"Moravská Třebová"},{"$f":"VLOOKUP(A2008,Pilot,4,0)","v":"CZ/M"},"PMRg 2023 - Klub",{"$f":"VLOOKUP(F2008,Soutez!A:B,2,FALSE)","v":"CZ"},{"$f":"VLOOKUP(F2008,Soutez!A:C,3,FALSE)","v":2023},1,8730,0.93,{"$f":"ROUND(J2008/MAX($J$2008:$J$2021)*10000*0.7+(MAX($I$2008:$I$2021)-I2008)/(MAX($I$2008:$I$2021)-1)*10000*0.3,0)","v":10000},{"$f":"ROUND(K2008*L2008,0)","v":9300},"x",null,"ASW-19B","NO",""]
["Jan Louda",1986,"M","Mladá Boleslav","CZ/C1","PMRg 2023 - Klub",{"$f":"VLOOKUP(F2009,Soutez!A:B,2,FALSE)","v":"CZ"},{"$f":"VLOOKUP(F2009,Soutez!A:C,3,FALSE)","v":2023},2,8448,0.93,9543,{"$f":"ROUND(K2009*L2009,0)","v":8875},"x",null,"ASW-19","XS",""]
["Marek Svancara",1976,"M","GAC Benešov","CZ/C1","PMRg 2023 - Klub",{"$f":"VLOOKUP(F2010,Soutez!A:B,2,FALSE)","v":"CZ"},{"$f":"VLOOKUP(F2010,Soutez!A:C,3,FALSE)","v":2023},3,7660,0.93,8681,8073,"x",null,"Std. Cirrus","GT",""]
["Jan Smaha",1958,"M","Česká Lípa","CZ/C2","PMRg 2023 - Klub",{"$f":"VLOOKUP(F2011,Soutez!A:B,2,FALSE)","v":"CZ"},{"$f":"VLOOKUP(F2011,Soutez!A:C,3,FALSE)","v":2023},4,7225,0.93,8101,7534,"x",null,"ASW-15B","CW",""]
["Petr Rozhon",1972,"M","Hosín","CZ/C1","PMRg 2023 - Klub",{"$f":"VLOOKUP(F2012,Soutez!A:B,2,FALSE)","v":"CZ"},{"$f":"VLOOKUP(F2012,Soutez!A:C,3,FALSE)","v":2023},5,5980,0.93,6872,6391,"x",null,"VSO-10",9,""]
["Pavel Koudelka",1973,"M","Křižanov","CZ/M","PMRg 2023 - Klub",{"$f":"VLOOKUP(F2013,Soutez!A:B,2,FALSE)","v":"CZ"},{"$f":"VLOOKUP(F2013,Soutez!A:C,3,FALSE)","v":2023},6,5915,0.93,6589,6128,"x",null,"STD. Cirrus","ZL",""]
["Jiri Krofta",1988,"M","Hosín","CZ/C1","PMRg 2023 - Klub",{"$f":"VLOOKUP(F2014,Soutez!A:B,2,FALSE)","v":"CZ"},{"$f":"VLOOKUP(F2014,Soutez!A:C,3,FALSE)","v":2023},7,5909,0.93,6353,5908,"x",null,"Std. Cirrus","UY",""]
["Michal Vranek",1993,"M","Hosín","CZ/C1","PMRg 2023 - Klub",{"$f":"VLOOKUP(F2015,Soutez!A:B,2,FALSE)","v":"CZ"},{"$f":"VLOOKUP(F2015,Soutez!A:C,3,FALSE)","v":2023},8,5599,0.93,5874,5463,"x",null,"DG-100","8W",""]
["Miloslav Hulmak",1963,"M","Hosín","CZ/C1","PMRg 2023 - Klub",{"$f":"VLOOKUP(F2016,Soutez!A:B,2,FALSE)","v":"CZ"},{"$f":"VLOOKUP(F2016,Soutez!A:C,3,FALSE)","v":2023},9,4969,0.93,5138,4778,"x",null,"ASW-15B","HH",""]
["Daniel Marek",{"$f":"VLOOKUP(A2017,Pilot,2,0)","v":1983},{"$f":"VLOOKUP(A2017,Pilot,5,0)","v":"M"},{"$f":"VLOOKUP(A2017,Pilot,3,0)","v":"Hosín"},{"$f":"VLOOKUP(A2017,Pilot,4,0)","v":"CZ/C1"},"PMRg 2023 - Klub",{"$f":"VLOOKUP(F2017,Soutez!A:B,2,FALSE)","v":"CZ"},{"$f":"VLOOKUP(F2017,Soutez!A:C,3,FALSE)","v":2023},10,4846,0.93,4809,4472,"x",null,"Std. Cirrus","XII",""]
["Frantisek Suna",1983,"M","Hosín","CZ/C1","PMRg 2023 - Klub",{"$f":"VLOOKUP(F2018,Soutez!A:B,2,FALSE)","v":"CZ"},{"$f":"VLOOKUP(F2018,Soutez!A:C,3,FALSE)","v":2023},11,4331,0.93,4165,{"$f":"ROUND(K2018*L2018,0)","v":3873},"x",null,"DG-100",78,""]
["Radoslav Pur",1973,"M","Hosín","CZ/C1","PMRg 2023 - Klub",{"$f":"VLOOKUP(F2019,Soutez!A:B,2,FALSE)","v":"CZ"},{"$f":"VLOOKUP(F2019,Soutez!A:C,3,FALSE)","v":2023},12,3358,0.93,3154,2933,"x",null,"DG-200","EK",""]
["Jiri Holcman",1976,"M","Hosín","CZ/C1","PMRg 2023 - Klub",{"$f":"VLOOKUP(F2020,Soutez!A:B,2,FALSE)","v":"CZ"},{"$f":"VLOOKUP(F2020,Soutez!A:C,3,FALSE)","v":2023},13,2234,0.93,2022,1880,"x",null,"ASW-19","BO",""]
["Petr Sochor",1986,"M","Hosín","CZ/C1","PMRg 2023 - Klub",{"$f":"VLOOKUP(F2021,Soutez!A:B,2,FALSE)","v":"CZ"},{"$f":"VLOOKUP(F2021,Soutez!A:C,3,FALSE)","v":2023},14,0,0.93,0,0,null,null,"ASW-15B","6Y",""]
["Lukas Kriz",{"$f":"VLOOKUP(A2022,Pilot,2,0)","v":2003},{"$f":"VLOOKUP(A2022,Pilot,5,0)","v":"M"},{"$f":"VLOOKUP(A2022,Pilot,3,0)","v":"Křižanov"},{"$f":"VLOOKUP(A2022,Pilot,4,0)","v":"CZ/M"},"PMRg, PMČRj 2023 - Kombi",{"$f":"VLOOKUP(F2022,Soutez!A:B,2,FALSE)","v":"CZ"},{"$f":"VLOOKUP(F2022,Soutez!A:C,3,FALSE)","v":2023},1,9417,0.95000000000000007,{"$f":"ROUND(J2022/MAX($J$2022:$J$2032)*10000*0.7+(MAX($I$2022:$I$2032)-I2022)/(MAX($I$2022:$I$2032)-1)*10000*0.3,0)","v":10000},{"$f":"ROUND(K2022*L2022,0)","v":9500},"x",null,"LS 8 15m","AU","Junior v roce 2024"]
["Jaromir Macoun",1999,"M","Jičín","CZ/C2","PMRg, PMČRj 2023 - Kombi",{"$f":"VLOOKUP(F2023,Soutez!A:B,2,FALSE)","v":"CZ"},{"$f":"VLOOKUP(F2023,Soutez!A:C,3,FALSE)","v":2023},2,9221,0.95000000000000007,9554,{"$f":"ROUND(K2023*L2023,0)","v":9076},null,null,"LS 8A","EU","Junior v roce 2024"]
["Josef Busek",1967,"M","Hosín","CZ/C1","PMRg, PMČRj 2023 - Kombi",{"$f":"VLOOKUP(F2024,Soutez!A:B,2,FALSE)","v":"CZ"},{"$f":"VLOOKUP(F2024,Soutez!A:C,3,FALSE)","v":2023},3,8601,0.95000000000000007,8793,8353,"x",null,"Duo Discus","BB",""]
["Théo Manfredi",null,null,"Association Aéronautique du Val d\\'Oise",null,"PMRg, PMČRj 2023 - Kombi",{"$f":"VLOOKUP(F2025,Soutez!A:B,2,FALSE)","v":"CZ"},{"$f":"VLOOKUP(F2025,Soutez!A:C,3,FALSE)","v":2023},4,7258,0.95000000000000007,7495,7120,null,null,"LAK-17A WL 15m","LE","Není v databázi"]
["Jaromir Pauer",{"$f":"VLOOKUP(A2026,Pilot,2,0)","v":1974},{"$f":"VLOOKUP(A2026,Pilot,5,0)","v":"M"},{"$f":"VLOOKUP(A2026,Pilot,3,0)","v":"Hosín"},{"$f":"VLOOKUP(A2026,Pilot,4,0)","v":"CZ/C1"},"PMRg, PMČRj 2023 - Kombi",{"$f":"VLOOKUP(F2026,Soutez!A:B,2,FALSE)","v":"CZ"},{"$f":"VLOOKUP(F2026,Soutez!A:C,3,FALSE)","v":2023},5,6880,0.95000000000000007,6914,6568,"x",null,"Ventus B 16.6m WL","7F",""]
["Michael Fik",1972,"M","Strakonice","CZ/C1","PMRg, PMČRj 2023 - Kombi",{"$f":"VLOOKUP(F2027,Soutez!A:B,2,FALSE)","v":"CZ"},{"$f":"VLOOKUP(F2027,Soutez!A:C,3,FALSE)","v":2023},6,6702,0.95000000000000007,6482,6158,"x",null,"Ventus 2c","ZR",""]
["Karel Mares",1974,"M","Slaný","CZ/C1","PMRg, PMČRj 2023 - Kombi",{"$f":"VLOOKUP(F2028,Soutez!A:B,2,FALSE)","v":"CZ"},{"$f":"VLOOKUP(F2028,Soutez!A:C,3,FALSE)","v":2023},7,5894,0.95000000000000007,5581,5302,"x",null,"Duo Discus XT","DD",""]
["Radek Zima 78",1978,"M","Hodkovice","CZ/C2","PMRg, PMČRj 2023 - Kombi",{"$f":"VLOOKUP(F2029,Soutez!A:B,2,FALSE)","v":"CZ"},{"$f":"VLOOKUP(F2029,Soutez!A:C,3,FALSE)","v":2023},8,5577,0.95000000000000007,5046,4794,null,null,"DG 500 22m","YA",""]
["Peter Janoska",null,null,"Nitra",null,"PMRg, PMČRj 2023 - Kombi",{"$f":"VLOOKUP(F2030,Soutez!A:B,2,FALSE)","v":"CZ"},{"$f":"VLOOKUP(F2030,Soutez!A:C,3,FALSE)","v":2023},9,4662,0.95000000000000007,4065,{"$f":"ROUND(K2030*L2030,0)","v":3862},null,null,"LS 6C /17,5m","N6","Není v databázi"]
["Michal Hemrle",{"$f":"VLOOKUP(A2031,Pilot,2,0)","v":1974},{"$f":"VLOOKUP(A2031,Pilot,5,0)","v":"M"},{"$f":"VLOOKUP(A2031,Pilot,3,0)","v":"Česká Lípa"},{"$f":"VLOOKUP(A2031,Pilot,4,0)","v":"CZ/C2"},"PMRg, PMČRj 2023 - Kombi",{"$f":"VLOOKUP(F2031,Soutez!A:B,2,FALSE)","v":"CZ"},{"$f":"VLOOKUP(F2031,Soutez!A:C,3,FALSE)","v":2023},10,4036,0.95000000000000007,3300,3135,"x",null,"ASG 29 Es 18m","ET",""]
["Tomas Vaclavik",{"$f":"VLOOKUP(A2032,Pilot,2,0)","v":1974},{"$f":"VLOOKUP(A2032,Pilot,5,0)","v":"M"},{"$f":"VLOOKUP(A2032,Pilot,3,0)","v":"Hosín"},{"$f":"VLOOKUP(A2032,Pilot,4,0)","v":"CZ/C1"},"PMRg, PMČRj 2023 - Kombi",{"$f":"VLOOKUP(F2032,Soutez!A:B,2,FALSE)","v":"CZ"},{"$f":"VLOOKUP(F2032,Soutez!A:C,3,FALSE)","v":2023},11,1238,0.95000000000000007,920,874,"x",null,"LAK-12",12,""]
["Vit Morkovsky",{"$f":"VLOOKUP(A2033,Pilot,2,0)","v":2000},{"$f":"VLOOKUP(A2033,Pilot,5,0)","v":"M"},{"$f":"VLOOKUP(A2033,Pilot,3,0)","v":"Polička"},{"$f":"VLOOKUP(A2033,Pilot,4,0)","v":"CZ/C2"},"PMČRj 2023 - Klub",{"$f":"VLOOKUP(F2033,Soutez!A:B,2,FALSE)","v":"CZ"},{"$f":"VLOOKUP(F2033,Soutez!A:C,3,FALSE)","v":2023},1,8171,0.94000000000000006,{"$f":"ROUND(J2033/MAX($J$2033:$J$2057)*10000*0.7+(MAX($I$2033:$I$2057)-I2033)/(MAX($I$2033:$I$2057)-1)*10000*0.3,0)","v":10000},{"$f":"ROUND(K2033*L2033,0)","v":9400},"x",null,"ASW 24 WL /no TN8","SM","Junior v roce 2024"]
["Jan Stastny",2003,"M","Medlánky","CZ/M","PMČRj 2023 - Klub",{"$f":"VLOOKUP(F2034,Soutez!A:B,2,FALSE)","v":"CZ"},{"$f":"VLOOKUP(F2034,Soutez!A:C,3,FALSE)","v":2023},2,8092,0.94000000000000006,9807,{"$f":"ROUND(K2034*L2034,0)","v":9219},"x",null,"ASW-20 A L","CP","Junior v roce 2024"]
["Alexandre Fierain",null,null,"Abbeville",null,"PMČRj 2023 - Klub",{"$f":"VLOOKUP(F2035,Soutez!A:B,2,FALSE)","v":"CZ"},{"$f":"VLOOKUP(F2035,Soutez!A:C,3,FALSE)","v":2023},3,7868,0.94000000000000006,9490,8921,null,null,"ASW-20 A WL","WE","Není v databázi"]
["Vladimir Hammer",{"$f":"VLOOKUP(A2036,Pilot,2,0)","v":2000},{"$f":"VLOOKUP(A2036,Pilot,5,0)","v":"M"},{"$f":"VLOOKUP(A2036,Pilot,3,0)","v":"Letkov"},{"$f":"VLOOKUP(A2036,Pilot,4,0)","v":"CZ/C1"},"PMČRj 2023 - Klub",{"$f":"VLOOKUP(F2036,Soutez!A:B,2,FALSE)","v":"CZ"},{"$f":"VLOOKUP(F2036,Soutez!A:C,3,FALSE)","v":2023},4,7641,0.94000000000000006,9171,8621,"x",null,"ASW-20A","WX","Junior v roce 2024"]
["Tomas Hynek",2002,"M","Dvůr Králové","CZ/C2","PMČRj 2023 - Klub",{"$f":"VLOOKUP(F2037,Soutez!A:B,2,FALSE)","v":"CZ"},{"$f":"VLOOKUP(F2037,Soutez!A:C,3,FALSE)","v":2023},5,7465,0.94000000000000006,8895,8361,"x",null,"ASW-20 C L","VW","Junior v roce 2024"]
["Jan Beran",1999,"M","Kladno","CZ/C1","PMČRj 2023 - Klub",{"$f":"VLOOKUP(F2038,Soutez!A:B,2,FALSE)","v":"CZ"},{"$f":"VLOOKUP(F2038,Soutez!A:C,3,FALSE)","v":2023},6,7359,0.94000000000000006,8679,8158,"x",null,"ASW-19B","HB",{"$f":"IF(ISERROR(VLOOKUP(A2038,Pilot,6,0)),\"Není v databázi\",VLOOKUP(A2038,Pilot,6,0))","v":"Junior v roce 2024"}]
["Victor Mallick",null,null,"Sarreguemines",null,"PMČRj 2023 - Klub",{"$f":"VLOOKUP(F2039,Soutez!A:B,2,FALSE)","v":"CZ"},{"$f":"VLOOKUP(F2039,Soutez!A:C,3,FALSE)","v":2023},7,7077,0.94000000000000006,8313,7814,null,null,"LS-8 A","ZZ","Není v databázi"]
["Lukas Maly",{"$f":"VLOOKUP(A2040,Pilot,2,0)","v":1998},{"$f":"VLOOKUP(A2040,Pilot,5,0)","v":"M"},{"$f":"VLOOKUP(A2040,Pilot,3,0)","v":"Vysoké Mýto"},{"$f":"VLOOKUP(A2040,Pilot,4,0)","v":"CZ/C2"},"PMČRj 2023 - Klub",{"$f":"VLOOKUP(F2040,Soutez!A:B,2,FALSE)","v":"CZ"},{"$f":"VLOOKUP(F2040,Soutez!A:C,3,FALSE)","v":2023},8,6831,0.94000000000000006,7977,7498,"x",null,"Discus cs",65,""]
["Gaël Pischedda",null,null,"Vinon",null,"PMČRj 2023 - Klub",{"$f":"VLOOKUP(F2041,Soutez!A:B,2,FALSE)","v":"CZ"},{"$f":"VLOOKUP(F2041,Soutez!A:C,3,FALSE)","v":2023},9,6802,0.94000000000000006,7827,7357,null,null,"LS 4",73,"Není v databázi"]
["Stepan Bartos",{"$f":"VLOOKUP(A2042,Pilot,2,0)","v":2004},{"$f":"VLOOKUP(A2042,Pilot,5,0)","v":"M"},{"$f":"VLOOKUP(A2042,Pilot,3,0)","v":"Kolín"},{"$f":"VLOOKUP(A2042,Pilot,4,0)","v":"CZ/C1"},"PMČRj 2023 - Klub",{"$f":"VLOOKUP(F2042,Soutez!A:B,2,FALSE)","v":"CZ"},{"$f":"VLOOKUP(F2042,Soutez!A:C,3,FALSE)","v":2023},10,6690,0.94000000000000006,7606,7150,"x",null,"DG-300 ELAN WL RG","DG","Junior v roce 2024"]
["Stepan Filakovsky",{"$f":"VLOOKUP(A2043,Pilot,2,0)","v":2005},{"$f":"VLOOKUP(A2043,Pilot,5,0)","v":"M"},{"$f":"VLOOKUP(A2043,Pilot,3,0)","v":"Medlánky"},{"$f":"VLOOKUP(A2043,Pilot,4,0)","v":"CZ/M"},"PMČRj 2023 - Klub",{"$f":"VLOOKUP(F2043,Soutez!A:B,2,FALSE)","v":"CZ"},{"$f":"VLOOKUP(F2043,Soutez!A:C,3,FALSE)","v":2023},11,6270,0.94000000000000006,7121,6694,"x",null,"LS-1 F","FD","Junior v roce 2024"]
["Théo Napoléon",null,null,"AVCASA",null,"PMČRj 2023 - Klub",{"$f":"VLOOKUP(F2044,Soutez!A:B,2,FALSE)","v":"CZ"},{"$f":"VLOOKUP(F2044,Soutez!A:C,3,FALSE)","v":2023},12,6077,0.94000000000000006,6831,6421,null,null,"ASW-24 WL /w TN8",57,"Není v databázi"]
["Matej Bartos",{"$f":"VLOOKUP(A2045,Pilot,2,0)","v":1998},{"$f":"VLOOKUP(A2045,Pilot,5,0)","v":"M"},{"$f":"VLOOKUP(A2045,Pilot,3,0)","v":"Hodkovice"},{"$f":"VLOOKUP(A2045,Pilot,4,0)","v":"CZ/C2"},"PMČRj 2023 - Klub",{"$f":"VLOOKUP(F2045,Soutez!A:B,2,FALSE)","v":"CZ"},{"$f":"VLOOKUP(F2045,Soutez!A:C,3,FALSE)","v":2023},13,5505,0.94000000000000006,6216,5843,"x",null,"ASW-19B","XP",""]
["Vojtech Vach 03",{"$f":"VLOOKUP(A2046,Pilot,2,0)","v":2003},{"$f":"VLOOKUP(A2046,Pilot,5,0)","v":"M"},{"$f":"VLOOKUP(A2046,Pilot,3,0)","v":"Nové Město nad Metují"},{"$f":"VLOOKUP(A2046,Pilot,4,0)","v":"CZ/C2"},"PMČRj 2023 - Klub",{"$f":"VLOOKUP(F2046,Soutez!A:B,2,FALSE)","v":"CZ"},{"$f":"VLOOKUP(F2046,Soutez!A:C,3,FALSE)","v":2023},14,5481,0.94000000000000006,6071,{"$f":"ROUND(K2046*L2046,0)","v":5707},"x",null,"Std. Cirrus","YU","Junior v roce 2024"]
["Petr Masik",2001,"M","Zábřeh","CZ/M","PMČRj 2023 - Klub",{"$f":"VLOOKUP(F2047,Soutez!A:B,2,FALSE)","v":"CZ"},{"$f":"VLOOKUP(F2047,Soutez!A:C,3,FALSE)","v":2023},15,5335,0.94000000000000006,5820,5471,"x",null,"Std.Cirrus","MJ","Junior v roce 2024"]
["Tibor Hezina",2002,"M","Křižanov","CZ/M","PMČRj 2023 - Klub",{"$f":"VLOOKUP(F2048,Soutez!A:B,2,FALSE)","v":"CZ"},{"$f":"VLOOKUP(F2048,Soutez!A:C,3,FALSE)","v":2023},16,5147,0.94000000000000006,5534,5202,"x",null,"Std. Cirrus","IJ","Junior v roce 2024"]
["Katerina Vancurova",2002,"F","Hranice","CZ/M","PMČRj 2023 - Klub",{"$f":"VLOOKUP(F2049,Soutez!A:B,2,FALSE)","v":"CZ"},{"$f":"VLOOKUP(F2049,Soutez!A:C,3,FALSE)","v":2023},17,5082,0.94000000000000006,5354,5033,"x","x","Discus cs","HD","Junior v roce 2024"]
["Martin Stastny",2005,"M","Medlánky","CZ/M","PMČRj 2023 - Klub",{"$f":"VLOOKUP(F2050,Soutez!A:B,2,FALSE)","v":"CZ"},{"$f":"VLOOKUP(F2050,Soutez!A:C,3,FALSE)","v":2023},18,5021,0.94000000000000006,5176,4865,"x",null,"Std. Cirrus","CX","Junior v roce 2024"]
["Jan Svestka",2005,"M","Křižanov","CZ/M","PMČRj 2023 - Klub",{"$f":"VLOOKUP(F2051,Soutez!A:B,2,FALSE)","v":"CZ"},{"$f":"VLOOKUP(F2051,Soutez!A:C,3,FALSE)","v":2023},19,4989,0.94000000000000006,5024,4723,"x",null,"Std. Cirrus","EJ","Junior v roce 2024"]
["Eliska Kudejova",{"$f":"VLOOKUP(A2052,Pilot,2,0)","v":2006},{"$f":"VLOOKUP(A2052,Pilot,5,0)","v":"F"},{"$f":"VLOOKUP(A2052,Pilot,3,0)","v":"Strakonice"},{"$f":"VLOOKUP(A2052,Pilot,4,0)","v":"CZ/C1"},"PMČRj 2023 - Klub",{"$f":"VLOOKUP(F2052,Soutez!A:B,2,FALSE)","v":"CZ"},{"$f":"VLOOKUP(F2052,Soutez!A:C,3,FALSE)","v":2023},20,4572,0.94000000000000006,4542,4269,"x","x","DG-101","JL","Junior v roce 2024"]
["Tim Raasch",2000,"M","Polička","CZ/C2","PMČRj 2023 - Klub",{"$f":"VLOOKUP(F2053,Soutez!A:B,2,FALSE)","v":"CZ"},{"$f":"VLOOKUP(F2053,Soutez!A:C,3,FALSE)","v":2023},21,4232,0.94000000000000006,4126,3878,"x",null,"ASW-28","RC","Junior v roce 2024"]
["Fabian Curda",2004,"M","Zábřeh","CZ/M","PMČRj 2023 - Klub",{"$f":"VLOOKUP(F2054,Soutez!A:B,2,FALSE)","v":"CZ"},{"$f":"VLOOKUP(F2054,Soutez!A:C,3,FALSE)","v":2023},22,3996,0.94000000000000006,3798,3570,"x",null,"DG-300 ELAN RG","U7","Junior v roce 2024"]
["Adam Hepal",{"$f":"VLOOKUP(A2055,Pilot,2,0)","v":2004},{"$f":"VLOOKUP(A2055,Pilot,5,0)","v":"M"},{"$f":"VLOOKUP(A2055,Pilot,3,0)","v":"Moravská Třebová"},{"$f":"VLOOKUP(A2055,Pilot,4,0)","v":"CZ/M"},"PMČRj 2023 - Klub",{"$f":"VLOOKUP(F2055,Soutez!A:B,2,FALSE)","v":"CZ"},{"$f":"VLOOKUP(F2055,Soutez!A:C,3,FALSE)","v":2023},23,3519,0.94000000000000006,3265,3069,"x",null,"ASW-19B","AE","Junior v roce 2024"]
["Vojtech Pavek",2000,"M","Medlánky","CZ/M","PMČRj 2023 - Klub",{"$f":"VLOOKUP(F2056,Soutez!A:B,2,FALSE)","v":"CZ"},{"$f":"VLOOKUP(F2056,Soutez!A:C,3,FALSE)","v":2023},24,3425,0.94000000000000006,3059,2875,"x",null,"Std.Cirrus","MP","Junior v roce 2024"]
["Marie Vesela",{"$f":"VLOOKUP(A2057,Pilot,2,0)","v":1999},{"$f":"VLOOKUP(A2057,Pilot,5,0)","v":"F"},{"$f":"VLOOKUP(A2057,Pilot,3,0)","v":"Staňkov"},{"$f":"VLOOKUP(A2057,Pilot,4,0)","v":"CZ/C1"},"PMČRj 2023 - Klub",{"$f":"VLOOKUP(F2057,Soutez!A:B,2,FALSE)","v":"CZ"},{"$f":"VLOOKUP(F2057,Soutez!A:C,3,FALSE)","v":2023},25,597,0.94000000000000006,511,480,"x","x","Discus B","IJK","Junior v roce 2024"]
["Radim Sobek",{"$f":"VLOOKUP(A2058,Pilot,2,0)","v":1977},{"$f":"VLOOKUP(A2058,Pilot,5,0)","v":"M"},{"$f":"VLOOKUP(A2058,Pilot,3,0)","v":"Hranice"},{"$f":"VLOOKUP(A2058,Pilot,4,0)","v":"CZ/M"},"Safari Cup 2023 - Klub",{"$f":"VLOOKUP(F2058,Soutez!A:B,2,FALSE)","v":"CZ"},{"$f":"VLOOKUP(F2058,Soutez!A:C,3,FALSE)","v":2023},1,6949,{"$f":"VLOOKUP(F2058,Soutez,12,0)","v":0.77500000000000002},{"$f":"ROUND(J2058/MAX($J$2058:$J$2082)*10000*0.7+(MAX($I$2058:$I$2082)-I2058)/(MAX($I$2058:$I$2082)-1)*10000*0.3,0)","v":10000},{"$f":"ROUND(K2058*L2058,0)","v":7750},"x",null,"TST-10M Atlas",7,""]
["Tomas Kulhavy",2001,"M","Liberec","CZ/C2","Safari Cup 2023 - Klub",{"$f":"VLOOKUP(F2059,Soutez!A:B,2,FALSE)","v":"CZ"},{"$f":"VLOOKUP(F2059,Soutez!A:C,3,FALSE)","v":2023},2,6770,0.77500000000000002,9695,{"$f":"ROUND(K2059*L2059,0)","v":7514},"x",null,"HpH 304cz 15m","IH","Junior v roce 2024"]
["Marek Kornec",1957,"M","Dvůr Králové","CZ/C2","Safari Cup 2023 - Klub",{"$f":"VLOOKUP(F2060,Soutez!A:B,2,FALSE)","v":"CZ"},{"$f":"VLOOKUP(F2060,Soutez!A:C,3,FALSE)","v":2023},3,6638,0.77500000000000002,9437,7314,"x",null,"SZD-48 Jantar std. 3","JM",""]
["Vojtech Pivonka",{"$f":"VLOOKUP(A2061,Pilot,2,0)","v":1976},{"$f":"VLOOKUP(A2061,Pilot,5,0)","v":"M"},{"$f":"VLOOKUP(A2061,Pilot,3,0)","v":"Vrchlabí"},{"$f":"VLOOKUP(A2061,Pilot,4,0)","v":"CZ/C2"},"Safari Cup 2023 - Klub",{"$f":"VLOOKUP(F2061,Soutez!A:B,2,FALSE)","v":"CZ"},{"$f":"VLOOKUP(F2061,Soutez!A:C,3,FALSE)","v":2023},4,6609,0.77500000000000002,9283,7194,"x",null,"G-103 Twin Astir dvojí (zatahovací podvozek)",5,""]
["Filip Mrstny",2006,"M","Beroun","CZ/C1","Safari Cup 2023 - Klub",{"$f":"VLOOKUP(F2062,Soutez!A:B,2,FALSE)","v":"CZ"},{"$f":"VLOOKUP(F2062,Soutez!A:C,3,FALSE)","v":2023},5,6508,0.77500000000000002,9056,7018,"x",null,"VSO-10","B1","Junior v roce 2024"]
["Wolfgang Sluka",{"$f":"VLOOKUP(A2063,Pilot,2,0)","v":1942},{"$f":"VLOOKUP(A2063,Pilot,5,0)","v":"M"},{"$f":"VLOOKUP(A2063,Pilot,3,0)","v":"Liberec"},{"$f":"VLOOKUP(A2063,Pilot,4,0)","v":"CZ/C2"},"Safari Cup 2023 - Klub",{"$f":"VLOOKUP(F2063,Soutez!A:B,2,FALSE)","v":"CZ"},{"$f":"VLOOKUP(F2063,Soutez!A:C,3,FALSE)","v":2023},6,6419,0.77500000000000002,8841,6852,"x",null,"Std. Cirrus","KA",""]
["Jaroslav Sima",1972,"M","Chomutov","CZ/C2","Safari Cup 2023 - Klub",{"$f":"VLOOKUP(F2064,Soutez!A:B,2,FALSE)","v":"CZ"},{"$f":"VLOOKUP(F2064,Soutez!A:C,3,FALSE)","v":2023},7,6395,0.77500000000000002,8692,6736,"x",null,"G-104 Speed Astir II","V2",""]
["Petr Lonsky",1965,"M","Toužim","CZ/C1","Safari Cup 2023 - Klub",{"$f":"VLOOKUP(F2065,Soutez!A:B,2,FALSE)","v":"CZ"},{"$f":"VLOOKUP(F2065,Soutez!A:C,3,FALSE)","v":2023},8,6189,0.77500000000000002,8359,6478,"x",null,"Cirrus VTC","JP",""]
["Jan Hybner",1977,"M","Liberec","CZ/C2","Safari Cup 2023 - Klub",{"$f":"VLOOKUP(F2066,Soutez!A:B,2,FALSE)","v":"CZ"},{"$f":"VLOOKUP(F2066,Soutez!A:C,3,FALSE)","v":2023},9,6042,0.77500000000000002,8086,6267,"x",null,"HpH 304cz 15m","LB",""]
["Ondrej Teichman",1984,"M","Dvůr Králové","CZ/C2","Safari Cup 2023 - Klub",{"$f":"VLOOKUP(F2067,Soutez!A:B,2,FALSE)","v":"CZ"},{"$f":"VLOOKUP(F2067,Soutez!A:C,3,FALSE)","v":2023},10,5807,0.77500000000000002,7725,5987,null,null,"Cirruc VTC","VTC",""]
["Martin Cicvarek",{"$f":"VLOOKUP(A2068,Pilot,2,0)","v":1966},{"$f":"VLOOKUP(A2068,Pilot,5,0)","v":"M"},{"$f":"VLOOKUP(A2068,Pilot,3,0)","v":"Liberec"},{"$f":"VLOOKUP(A2068,Pilot,4,0)","v":"CZ/C2"},"Safari Cup 2023 - Klub",{"$f":"VLOOKUP(F2068,Soutez!A:B,2,FALSE)","v":"CZ"},{"$f":"VLOOKUP(F2068,Soutez!A:C,3,FALSE)","v":2023},11,5594,0.77500000000000002,7385,5723,"x",null,"KKB 15E+ (FES)","AC",""]
["Krzysztof Pienkowski",null,null,null,null,"Safari Cup 2023 - Klub",{"$f":"VLOOKUP(F2069,Soutez!A:B,2,FALSE)","v":"CZ"},{"$f":"VLOOKUP(F2069,Soutez!A:C,3,FALSE)","v":2023},12,5184,0.77500000000000002,6847,{"$f":"ROUND(K2069*L2069,0)","v":5306},null,null,"LS-4","KP","Není v databázi"]
["Karel Policky",{"$f":"VLOOKUP(A2070,Pilot,2,0)","v":1950},{"$f":"VLOOKUP(A2070,Pilot,5,0)","v":"M"},{"$f":"VLOOKUP(A2070,Pilot,3,0)","v":"Kolín"},{"$f":"VLOOKUP(A2070,Pilot,4,0)","v":"CZ/C1"},"Safari Cup 2023 - Klub",{"$f":"VLOOKUP(F2070,Soutez!A:B,2,FALSE)","v":"CZ"},{"$f":"VLOOKUP(F2070,Soutez!A:C,3,FALSE)","v":2023},13,4870,0.77500000000000002,6406,4965,"x",null,"VSO-10",93,""]
["Alex Gulich",2005,"M","Slaný","CZ/C1","Safari Cup 2023 - Klub",{"$f":"VLOOKUP(F2071,Soutez!A:B,2,FALSE)","v":"CZ"},{"$f":"VLOOKUP(F2071,Soutez!A:C,3,FALSE)","v":2023},14,4466,0.77500000000000002,5874,4552,"x",null,"VSO-10",56,"Junior v roce 2024"]
["Aleksander Jedrosz",null,null,null,null,"Safari Cup 2023 - Klub",{"$f":"VLOOKUP(F2072,Soutez!A:B,2,FALSE)","v":"CZ"},{"$f":"VLOOKUP(F2072,Soutez!A:C,3,FALSE)","v":2023},15,3785,0.77500000000000002,5063,3924,null,null,"Centrair C-101A Pegase","AJ","Není v databázi"]
["Leos Nosek",{"$f":"VLOOKUP(A2073,Pilot,2,0)","v":1958},{"$f":"VLOOKUP(A2073,Pilot,5,0)","v":"M"},{"$f":"VLOOKUP(A2073,Pilot,3,0)","v":"Křižanov"},{"$f":"VLOOKUP(A2073,Pilot,4,0)","v":"CZ/M"},"Safari Cup 2023 - Klub",{"$f":"VLOOKUP(F2073,Soutez!A:B,2,FALSE)","v":"CZ"},{"$f":"VLOOKUP(F2073,Soutez!A:C,3,FALSE)","v":2023},16,3582,0.77500000000000002,4733,3668,"x",null,"G-104 Speed Astir II b","LE",""]
["Martin Benesovsky",1975,"M","Kolín","CZ/C1","Safari Cup 2023 - Klub",{"$f":"VLOOKUP(F2074,Soutez!A:B,2,FALSE)","v":"CZ"},{"$f":"VLOOKUP(F2074,Soutez!A:C,3,FALSE)","v":2023},17,3240,0.77500000000000002,4264,3305,"x",null,"G-104 Speed Astir II b","M2",""]
["Ryszard Bendkowski",null,null,null,null,"Safari Cup 2023 - Klub",{"$f":"VLOOKUP(F2075,Soutez!A:B,2,FALSE)","v":"CZ"},{"$f":"VLOOKUP(F2075,Soutez!A:C,3,FALSE)","v":2023},18,3027,0.77500000000000002,3924,3041,null,null,"SZD-48 Jantar Std. 2","Fili","Není v databázi"]
["Jerzy Mikolajczyk",null,null,null,null,"Safari Cup 2023 - Klub",{"$f":"VLOOKUP(F2076,Soutez!A:B,2,FALSE)","v":"CZ"},{"$f":"VLOOKUP(F2076,Soutez!A:C,3,FALSE)","v":2023},19,2930,0.77500000000000002,3702,2869,null,null,"LS-4","YL","Není v databázi"]
["Martin Markl",{"$f":"VLOOKUP(A2077,Pilot,2,0)","v":1960},{"$f":"VLOOKUP(A2077,Pilot,5,0)","v":"M"},{"$f":"VLOOKUP(A2077,Pilot,3,0)","v":"Kolín"},{"$f":"VLOOKUP(A2077,Pilot,4,0)","v":"CZ/C1"},"Safari Cup 2023 - Klub",{"$f":"VLOOKUP(F2077,Soutez!A:B,2,FALSE)","v":"CZ"},{"$f":"VLOOKUP(F2077,Soutez!A:C,3,FALSE)","v":2023},20,2808,0.77500000000000002,3454,2677,"x",null,"ASK 21","AK",""]
["Krzystof Kostka",null,null,null,null,"Safari Cup 2023 - Klub",{"$f":"VLOOKUP(F2078,Soutez!A:B,2,FALSE)","v":"CZ"},{"$f":"VLOOKUP(F2078,Soutez!A:C,3,FALSE)","v":2023},21,2340,0.77500000000000002,2857,2214,null,null,"DG 300","N5","Není v databázi"]
["Vladislav Cadsky",{"$f":"VLOOKUP(A2079,Pilot,2,0)","v":1975},{"$f":"VLOOKUP(A2079,Pilot,5,0)","v":"M"},{"$f":"VLOOKUP(A2079,Pilot,3,0)","v":"Kolín"},{"$f":"VLOOKUP(A2079,Pilot,4,0)","v":"CZ/C1"},"Safari Cup 2023 - Klub",{"$f":"VLOOKUP(F2079,Soutez!A:B,2,FALSE)","v":"CZ"},{"$f":"VLOOKUP(F2079,Soutez!A:C,3,FALSE)","v":2023},22,2184,0.77500000000000002,2575,1996,"x",null,"G-102 Astir Jeans","VI",""]
["Pavel Derda",1952,"M","Dvůr Králové","CZ/C2","Safari Cup 2023 - Klub",{"$f":"VLOOKUP(F2080,Soutez!A:B,2,FALSE)","v":"CZ"},{"$f":"VLOOKUP(F2080,Soutez!A:C,3,FALSE)","v":2023},23,909,0.77500000000000002,1166,904,"x",null,"Cirrus VTC","VE",""]
["Karel Ertl",1939,"M","LK Břeclav","CZ/M","Safari Cup 2023 - Klub",{"$f":"VLOOKUP(F2081,Soutez!A:B,2,FALSE)","v":"CZ"},{"$f":"VLOOKUP(F2081,Soutez!A:C,3,FALSE)","v":2023},24,717,0.77500000000000002,847,656,null,null,"TST-10M Atlas","KE",""]
["Jiri Tomicek",1947,"M","Dvůr Králové","CZ/C2","Safari Cup 2023 - Klub",{"$f":"VLOOKUP(F2082,Soutez!A:B,2,FALSE)","v":"CZ"},{"$f":"VLOOKUP(F2082,Soutez!A:C,3,FALSE)","v":2023},25,140,0.77500000000000002,141,109,"x",null,"G-103 Twin Astir dvojí (zatahovací podvozek)","W4",""]
["Lukas Hynek",{"$f":"VLOOKUP(A2083,Pilot,2,0)","v":1979},{"$f":"VLOOKUP(A2083,Pilot,5,0)","v":"M"},{"$f":"VLOOKUP(A2083,Pilot,3,0)","v":"Dvůr Králové"},{"$f":"VLOOKUP(A2083,Pilot,4,0)","v":"CZ/C2"},"Safari Cup 2023 - Kombi",{"$f":"VLOOKUP(F2083,Soutez!A:B,2,FALSE)","v":"CZ"},{"$f":"VLOOKUP(F2083,Soutez!A:C,3,FALSE)","v":2023},1,7820,0.77500000000000002,{"$f":"ROUND(J2083/MAX($J$2083:$J$2092)*10000*0.7+(MAX($I$2083:$I$2092)-I2083)/(MAX($I$2083:$I$2092)-1)*10000*0.3,0)","v":10000},{"$f":"ROUND(K2083*L2083,0)","v":7750},"x",null,"DG 200 17m","HL",""]
["Radek Bares",1963,"M","Jičín","CZ/C2","Safari Cup 2023 - Kombi",{"$f":"VLOOKUP(F2084,Soutez!A:B,2,FALSE)","v":"CZ"},{"$f":"VLOOKUP(F2084,Soutez!A:C,3,FALSE)","v":2023},2,6855,0.77500000000000002,{"$f":"ROUND(J2084/MAX($J$2083:$J$2092)*10000*0.7+(MAX($I$2083:$I$2092)-I2084)/(MAX($I$2083:$I$2092)-1)*10000*0.3,0)","v":8803},{"$f":"ROUND(K2084*L2084,0)","v":6822},"x",null,"Ventus c 17.6m","GE",""]
["Jan Pazour",{"$f":"VLOOKUP(A2085,Pilot,2,0)","v":1979},{"$f":"VLOOKUP(A2085,Pilot,5,0)","v":"M"},{"$f":"VLOOKUP(A2085,Pilot,3,0)","v":"Dvůr Králové"},{"$f":"VLOOKUP(A2085,Pilot,4,0)","v":"CZ/C2"},"Safari Cup 2023 - Kombi",{"$f":"VLOOKUP(F2085,Soutez!A:B,2,FALSE)","v":"CZ"},{"$f":"VLOOKUP(F2085,Soutez!A:C,3,FALSE)","v":2023},3,6731,0.77500000000000002,8359,6478,"x",null,"ASW-20 L +FL 16,6m","JP",""]
["Tomas Ditrt",1969,"M","Podhořany","CZ/C2","Safari Cup 2023 - Kombi",{"$f":"VLOOKUP(F2086,Soutez!A:B,2,FALSE)","v":"CZ"},{"$f":"VLOOKUP(F2086,Soutez!A:C,3,FALSE)","v":2023},4,6655,0.77500000000000002,7957,6167,"x",null,"HpH 304MS SHARK 18m -560 kg","TDi",""]
["Ladislav Prokes",1954,"M","Vrchlabí","CZ/C2","Safari Cup 2023 - Kombi",{"$f":"VLOOKUP(F2087,Soutez!A:B,2,FALSE)","v":"CZ"},{"$f":"VLOOKUP(F2087,Soutez!A:C,3,FALSE)","v":2023},5,6488,0.77500000000000002,7474,5792,"x",null,"Discus CS","VR",""]
["Milan Meisner",1961,"M","Dvůr Králové","CZ/C2","Safari Cup 2023 - Kombi",{"$f":"VLOOKUP(F2088,Soutez!A:B,2,FALSE)","v":"CZ"},{"$f":"VLOOKUP(F2088,Soutez!A:C,3,FALSE)","v":2023},6,5636,0.77500000000000002,6378,4943,"x",null,"LAK-17B FES 18m","TF",""]
["Slavomir Tanglmajer",1966,"M","Chomutov","CZ/C2","Safari Cup 2023 - Kombi",{"$f":"VLOOKUP(F2089,Soutez!A:B,2,FALSE)","v":"CZ"},{"$f":"VLOOKUP(F2089,Soutez!A:C,3,FALSE)","v":2023},7,4640,0.77500000000000002,5153,3994,"x",null,"DG 400 17m","ST",""]
["Petr Omelka",1970,"M","Vyškov","CZ/M","Safari Cup 2023 - Kombi",{"$f":"VLOOKUP(F2090,Soutez!A:B,2,FALSE)","v":"CZ"},{"$f":"VLOOKUP(F2090,Soutez!A:C,3,FALSE)","v":2023},8,2014,0.77500000000000002,2469,1913,"x",null,"DG 400 17m","MR",""]
["Jiri Veprek",1959,"M","Dvůr Králové","CZ/C2","Safari Cup 2023 - Kombi",{"$f":"VLOOKUP(F2091,Soutez!A:B,2,FALSE)","v":"CZ"},{"$f":"VLOOKUP(F2091,Soutez!A:C,3,FALSE)","v":2023},9,806,0.77500000000000002,1055,818,"x",null,"HpH 304cz 17,4m","KN",""]
["Josef Plechac",1942,"M","Hronov","CZ/C2","Safari Cup 2023 - Kombi",{"$f":"VLOOKUP(F2092,Soutez!A:B,2,FALSE)","v":"CZ"},{"$f":"VLOOKUP(F2092,Soutez!A:C,3,FALSE)","v":2023},10,11,0.77500000000000002,10,8,"x",null,"Nimbus 2M","PM",""]
["Michal Lesinger",{"$f":"VLOOKUP(A2093,Pilot,2,0)","v":1966},{"$f":"VLOOKUP(A2093,Pilot,5,0)","v":"M"},{"$f":"VLOOKUP(A2093,Pilot,3,0)","v":"Moravská Třebová"},{"$f":"VLOOKUP(A2093,Pilot,4,0)","v":"CZ/M"},"Toužim Cup 2023 - Klub",{"$f":"VLOOKUP(F2093,Soutez!A:B,2,FALSE)","v":"CZ"},{"$f":"VLOOKUP(F2093,Soutez!A:C,3,FALSE)","v":2023},1,4561,0.91500000000000004,{"$f":"ROUND(J2093/MAX($J$2093:$J$2111)*10000*0.7+(MAX($I$2093:$I$2111)-I2093)/(MAX($I$2093:$I$2111)-1)*10000*0.3,0)","v":10000},{"$f":"ROUND(K2093*L2093,0)","v":9150},null,null,"ASW-20 (A)+L+F /15m","LL",""]
["Roman Jokl",1979,"M","Letkov","CZ/C1","Toužim Cup 2023 - Klub",{"$f":"VLOOKUP(F2094,Soutez!A:B,2,FALSE)","v":"CZ"},{"$f":"VLOOKUP(F2094,Soutez!A:C,3,FALSE)","v":2023},2,4442,0.91500000000000004,9651,{"$f":"ROUND(K2094*L2094,0)","v":8831},"x",null,"ASW-19B","JL",""]
["Lukas Koukal",1991,"M","Letkov","CZ/C1","Toužim Cup 2023 - Klub",{"$f":"VLOOKUP(F2095,Soutez!A:B,2,FALSE)","v":"CZ"},{"$f":"VLOOKUP(F2095,Soutez!A:C,3,FALSE)","v":2023},3,4434,0.91500000000000004,9472,8667,"x",null,"ASW-15B","T1",""]
["Michal Cupak",1991,"M","Medlánky","CZ/M","Toužim Cup 2023 - Klub",{"$f":"VLOOKUP(F2096,Soutez!A:B,2,FALSE)","v":"CZ"},{"$f":"VLOOKUP(F2096,Soutez!A:C,3,FALSE)","v":2023},4,4257,0.91500000000000004,9033,8265,"x",null,"Std. Cirrus","A7",""]
["Lukas Plocek",1990,"M","Mladá Boleslav","CZ/C1","Toužim Cup 2023 - Klub",{"$f":"VLOOKUP(F2097,Soutez!A:B,2,FALSE)","v":"CZ"},{"$f":"VLOOKUP(F2097,Soutez!A:C,3,FALSE)","v":2023},5,4146,0.91500000000000004,8696,7957,"x",null,"ASW-19B","AH",""]
["Daniel Dvorak",1980,"M","Letkov","CZ/C1","Toužim Cup 2023 - Klub",{"$f":"VLOOKUP(F2098,Soutez!A:B,2,FALSE)","v":"CZ"},{"$f":"VLOOKUP(F2098,Soutez!A:C,3,FALSE)","v":2023},6,4100,0.91500000000000004,8459,7740,"x",null,"Std. Cirrus","LD",""]
["Michal Drab",1969,"M","Letkov","CZ/C1","Toužim Cup 2023 - Klub",{"$f":"VLOOKUP(F2099,Soutez!A:B,2,FALSE)","v":"CZ"},{"$f":"VLOOKUP(F2099,Soutez!A:C,3,FALSE)","v":2023},7,3427,0.91500000000000004,7260,6643,"x",null,"LS-1c","S3",{"$f":"IF(ISERROR(VLOOKUP(A2099,Pilot,6,0)),\"Není v databázi\",VLOOKUP(A2099,Pilot,6,0))","v":""}]
["Jan Zanda",1983,"M","Letkov","CZ/C1","Toužim Cup 2023 - Klub",{"$f":"VLOOKUP(F2100,Soutez!A:B,2,FALSE)","v":"CZ"},{"$f":"VLOOKUP(F2100,Soutez!A:C,3,FALSE)","v":2023},8,3401,0.91500000000000004,7053,6453,"x",null,"LS-1c","AN",""]
["Jan Muknsnabl",{"$f":"VLOOKUP(A2101,Pilot,2,0)","v":1992},{"$f":"VLOOKUP(A2101,Pilot,5,0)","v":"M"},{"$f":"VLOOKUP(A2101,Pilot,3,0)","v":"Letkov"},{"$f":"VLOOKUP(A2101,Pilot,4,0)","v":"CZ/C1"},"Toužim Cup 2023 - Klub",{"$f":"VLOOKUP(F2101,Soutez!A:B,2,FALSE)","v":"CZ"},{"$f":"VLOOKUP(F2101,Soutez!A:C,3,FALSE)","v":2023},9,3179,0.91500000000000004,6546,5990,"x",null,"Std. Cirrus","SB",""]
["Jiri Prochazka",1971,"M","Toužim","CZ/C1","Toužim Cup 2023 - Klub",{"$f":"VLOOKUP(F2102,Soutez!A:B,2,FALSE)","v":"CZ"},{"$f":"VLOOKUP(F2102,Soutez!A:C,3,FALSE)","v":2023},10,3142,0.91500000000000004,6322,5785,null,null,"Janus CM (FG) (fix gear=pevný podvozek)","J59",""]
["Rudolf Jung",1954,"M","Zbraslavice","CZ/C1","Toužim Cup 2023 - Klub",{"$f":"VLOOKUP(F2103,Soutez!A:B,2,FALSE)","v":"CZ"},{"$f":"VLOOKUP(F2103,Soutez!A:C,3,FALSE)","v":2023},11,2801,0.91500000000000004,5632,{"$f":"ROUND(K2103*L2103,0)","v":5153},"x",null,"G-103 Twin III dvojí (pevný podvozek)","TO",""]
["Martin Valenta",1969,"M","Toužim","CZ/C1","Toužim Cup 2023 - Klub",{"$f":"VLOOKUP(F2104,Soutez!A:B,2,FALSE)","v":"CZ"},{"$f":"VLOOKUP(F2104,Soutez!A:C,3,FALSE)","v":2023},12,2284,0.91500000000000004,4672,4275,"x",null,"G-104 Speed Astir II b","Y3",""]
["Martin Fric",1967,"M","Raná","CZ/C2","Toužim Cup 2023 - Klub",{"$f":"VLOOKUP(F2105,Soutez!A:B,2,FALSE)","v":"CZ"},{"$f":"VLOOKUP(F2105,Soutez!A:C,3,FALSE)","v":2023},13,2146,0.91500000000000004,4294,3929,"x",null,"DG-100","E2",""]
["Tomas Jung",{"$f":"VLOOKUP(A2106,Pilot,2,0)","v":1950},{"$f":"VLOOKUP(A2106,Pilot,5,0)","v":"M"},{"$f":"VLOOKUP(A2106,Pilot,3,0)","v":"Zbraslavice"},{"$f":"VLOOKUP(A2106,Pilot,4,0)","v":"CZ/C1"},"Toužim Cup 2023 - Klub",{"$f":"VLOOKUP(F2106,Soutez!A:B,2,FALSE)","v":"CZ"},{"$f":"VLOOKUP(F2106,Soutez!A:C,3,FALSE)","v":2023},14,2131,0.91500000000000004,4104,3755,"x",null,"ASW-19B","O2",""]
["Tomas Seifert",1972,"M","Raná","CZ/C2","Toužim Cup 2023 - Klub",{"$f":"VLOOKUP(F2107,Soutez!A:B,2,FALSE)","v":"CZ"},{"$f":"VLOOKUP(F2107,Soutez!A:C,3,FALSE)","v":2023},15,2026,0.91500000000000004,3776,3455,"x",null,"ASW-15B","MC",""]
["Jaroslav Hot",1965,"M","Toužim","CZ/C1","Toužim Cup 2023 - Klub",{"$f":"VLOOKUP(F2108,Soutez!A:B,2,FALSE)","v":"CZ"},{"$f":"VLOOKUP(F2108,Soutez!A:C,3,FALSE)","v":2023},16,1962,0.91500000000000004,3511,3213,"x",null,"Pik-20D","HJ",""]
["Petr Cernicky",1974,"M","Toužim","CZ/C1","Toužim Cup 2023 - Klub",{"$f":"VLOOKUP(F2109,Soutez!A:B,2,FALSE)","v":"CZ"},{"$f":"VLOOKUP(F2109,Soutez!A:C,3,FALSE)","v":2023},17,623,0.91500000000000004,1289,1179,"x",null,"G-102 Astir cs","LS",""]
["Frantisek Brozman",1960,"M","Tachov","CZ/C1","Toužim Cup 2023 - Klub",{"$f":"VLOOKUP(F2110,Soutez!A:B,2,FALSE)","v":"CZ"},{"$f":"VLOOKUP(F2110,Soutez!A:C,3,FALSE)","v":2023},18,323,0.91500000000000004,662,606,"x",null,"G-102 Astir Jeans","FB",""]
["Jan Sustr 76",{"$f":"VLOOKUP(A2111,Pilot,2,0)","v":1976},{"$f":"VLOOKUP(A2111,Pilot,5,0)","v":"M"},{"$f":"VLOOKUP(A2111,Pilot,3,0)","v":"Raná"},{"$f":"VLOOKUP(A2111,Pilot,4,0)","v":"CZ/C2"},"Toužim Cup 2023 - Klub",{"$f":"VLOOKUP(F2111,Soutez!A:B,2,FALSE)","v":"CZ"},{"$f":"VLOOKUP(F2111,Soutez!A:C,3,FALSE)","v":2023},19,0,0.91500000000000004,0,{"$f":"ROUND(K2111*L2111,0)","v":0},null,null,"DG-300 Club ELAN","WL",""]
["Pavel Jiranek",{"$f":"VLOOKUP(A2112,Pilot,2,0)","v":1993},{"$f":"VLOOKUP(A2112,Pilot,5,0)","v":"M"},{"$f":"VLOOKUP(A2112,Pilot,3,0)","v":"Toužim"},{"$f":"VLOOKUP(A2112,Pilot,4,0)","v":"CZ/C1"},"Toužim Cup 2023 - Kombi",{"$f":"VLOOKUP(F2112,Soutez!A:B,2,FALSE)","v":"CZ"},{"$f":"VLOOKUP(F2112,Soutez!A:C,3,FALSE)","v":2023},1,5185,0.92500000000000004,{"$f":"ROUND(J2112/MAX($J$2112:$J$2137)*10000*0.7+(MAX($I$2112:$I$2137)-I2112)/(MAX($I$2112:$I$2137)-1)*10000*0.3,0)","v":10000},{"$f":"ROUND(K2112*L2112,0)","v":9250},"x",null,"Ventus c /17,6m","CS",""]
["Martin Hrivna",1978,"M","Zbraslavice","CZ/C1","Toužim Cup 2023 - Kombi",{"$f":"VLOOKUP(F2113,Soutez!A:B,2,FALSE)","v":"CZ"},{"$f":"VLOOKUP(F2113,Soutez!A:C,3,FALSE)","v":2023},2,5142,0.92500000000000004,9822,{"$f":"ROUND(K2113*L2113,0)","v":9085},"x",null,"ASG-29E /18m","NX",""]
["Jan Viskot",1995,"M","Břeclav","CZ/M","Toužim Cup 2023 - Kombi",{"$f":"VLOOKUP(F2114,Soutez!A:B,2,FALSE)","v":"CZ"},{"$f":"VLOOKUP(F2114,Soutez!A:C,3,FALSE)","v":2023},3,5119,0.92500000000000004,9671,8946,"x",null,"Discus 2a /15m","GX",""]
["Tomas Rendla",1973,"M","Zbraslavice","CZ/C1","Toužim Cup 2023 - Kombi",{"$f":"VLOOKUP(F2115,Soutez!A:B,2,FALSE)","v":"CZ"},{"$f":"VLOOKUP(F2115,Soutez!A:C,3,FALSE)","v":2023},4,4971,0.92500000000000004,9351,8650,null,null,"Arcus 20 M 800kg","EY",""]
["Petr Hotovy",1958,"M","Česká Lípa","CZ/C2","Toužim Cup 2023 - Kombi",{"$f":"VLOOKUP(F2116,Soutez!A:B,2,FALSE)","v":"CZ"},{"$f":"VLOOKUP(F2116,Soutez!A:C,3,FALSE)","v":2023},5,4844,0.92500000000000004,9060,8381,"x",null,"JS1-BTJ 18","IGC",""]
["Martin Zahalka",1987,"M","Staňkov","CZ/C1","Toužim Cup 2023 - Kombi",{"$f":"VLOOKUP(F2117,Soutez!A:B,2,FALSE)","v":"CZ"},{"$f":"VLOOKUP(F2117,Soutez!A:C,3,FALSE)","v":2023},6,4689,0.92500000000000004,8730,8075,"x",null,"DG-400 17m","FF",""]
["Vratislav Sram",1966,"M","Broumov","CZ/C2","Toužim Cup 2023 - Kombi",{"$f":"VLOOKUP(F2118,Soutez!A:B,2,FALSE)","v":"CZ"},{"$f":"VLOOKUP(F2118,Soutez!A:C,3,FALSE)","v":2023},7,4647,0.92500000000000004,8554,7912,"x",null,"Nimbus 4DM",7,""]
["Ivan Harasta 65",1965,"M","Toužim","CZ/C1","Toužim Cup 2023 - Kombi",{"$f":"VLOOKUP(F2119,Soutez!A:B,2,FALSE)","v":"CZ"},{"$f":"VLOOKUP(F2119,Soutez!A:C,3,FALSE)","v":2023},8,4475,0.92500000000000004,8201,7586,"x",null,"Ventus 2a /15m","AX",""]
["Jan Dersak 69",{"$f":"VLOOKUP(A2120,Pilot,2,0)","v":1969},{"$f":"VLOOKUP(A2120,Pilot,5,0)","v":"M"},{"$f":"VLOOKUP(A2120,Pilot,3,0)","v":"Kralupy"},{"$f":"VLOOKUP(A2120,Pilot,4,0)","v":"CZ/C1"},"Toužim Cup 2023 - Kombi",{"$f":"VLOOKUP(F2120,Soutez!A:B,2,FALSE)","v":"CZ"},{"$f":"VLOOKUP(F2120,Soutez!A:C,3,FALSE)","v":2023},9,4453,0.92500000000000004,8052,7448,null,null,"HpH 304MS SHARK","DJ",""]
["Petr Bartak",{"$f":"VLOOKUP(A2121,Pilot,2,0)","v":1984},{"$f":"VLOOKUP(A2121,Pilot,5,0)","v":"M"},{"$f":"VLOOKUP(A2121,Pilot,3,0)","v":"Letkov"},{"$f":"VLOOKUP(A2121,Pilot,4,0)","v":"CZ/C1"},"Toužim Cup 2023 - Kombi",{"$f":"VLOOKUP(F2121,Soutez!A:B,2,FALSE)","v":"CZ"},{"$f":"VLOOKUP(F2121,Soutez!A:C,3,FALSE)","v":2023},10,4452,0.92500000000000004,7930,7335,"x",null,"LS-6c /18m WL","BL",""]
["Frantisek Myska",1968,"M","Most","CZ/C2","Toužim Cup 2023 - Kombi",{"$f":"VLOOKUP(F2122,Soutez!A:B,2,FALSE)","v":"CZ"},{"$f":"VLOOKUP(F2122,Soutez!A:C,3,FALSE)","v":2023},11,4089,{"$f":"VLOOKUP(F2122,Soutez,12,0)","v":0.92500000000000004},7320,6771,"x",null,"Ventus bt /16,6m","SK",""]
["Petr Jiranek 91",1991,"M","Toužim","CZ/C1","Toužim Cup 2023 - Kombi",{"$f":"VLOOKUP(F2123,Soutez!A:B,2,FALSE)","v":"CZ"},{"$f":"VLOOKUP(F2123,Soutez!A:C,3,FALSE)","v":2023},12,3958,0.92500000000000004,7023,6496,"x",null,"Ventus c /17,6m","PC",""]
["Jan Florian",{"$f":"VLOOKUP(A2124,Pilot,2,0)","v":1992},{"$f":"VLOOKUP(A2124,Pilot,5,0)","v":"M"},{"$f":"VLOOKUP(A2124,Pilot,3,0)","v":"Zbraslavice"},{"$f":"VLOOKUP(A2124,Pilot,4,0)","v":"CZ/C1"},"Toužim Cup 2023 - Kombi",{"$f":"VLOOKUP(F2124,Soutez!A:B,2,FALSE)","v":"CZ"},{"$f":"VLOOKUP(F2124,Soutez!A:C,3,FALSE)","v":2023},13,3852,0.92500000000000004,6760,6253,"x",null,"Ventus c /17,6m","LSI",""]
["Roman Lanzendorf",1964,"M","Letkov","CZ/C1","Toužim Cup 2023 - Kombi",{"$f":"VLOOKUP(F2125,Soutez!A:B,2,FALSE)","v":"CZ"},{"$f":"VLOOKUP(F2125,Soutez!A:C,3,FALSE)","v":2023},14,3707,0.92500000000000004,6445,5962,"x",null,"Duo Discus T (700kg)","ZS",""]
["Vaclav Svoboda",1970,"M","Letkov","CZ/C1","Toužim Cup 2023 - Kombi",{"$f":"VLOOKUP(F2126,Soutez!A:B,2,FALSE)","v":"CZ"},{"$f":"VLOOKUP(F2126,Soutez!A:C,3,FALSE)","v":2023},15,3687,0.92500000000000004,6298,5826,"x",null,"LS-8-18 /18m",301,""]
["Karl Schiffleithner",null,null,"SFC Tulln",null,"Toužim Cup 2023 - Kombi",{"$f":"VLOOKUP(F2127,Soutez!A:B,2,FALSE)","v":"CZ"},{"$f":"VLOOKUP(F2127,Soutez!A:C,3,FALSE)","v":2023},16,3679,0.92500000000000004,6167,5704,null,null,"Duo Discus (700 kg)","MM","Není v databázi"]
["Zdenek Schenk",{"$f":"VLOOKUP(A2128,Pilot,2,0)","v":1972},{"$f":"VLOOKUP(A2128,Pilot,5,0)","v":"M"},{"$f":"VLOOKUP(A2128,Pilot,3,0)","v":"Hranice"},{"$f":"VLOOKUP(A2128,Pilot,4,0)","v":"CZ/M"},"Toužim Cup 2023 - Kombi",{"$f":"VLOOKUP(F2128,Soutez!A:B,2,FALSE)","v":"CZ"},{"$f":"VLOOKUP(F2128,Soutez!A:C,3,FALSE)","v":2023},17,3655,0.92500000000000004,6014,5563,null,null,"Ventus cm /17,6m","ŠNeK",""]
["Jakub Hlavacek",{"$f":"VLOOKUP(A2129,Pilot,2,0)","v":1991},{"$f":"VLOOKUP(A2129,Pilot,5,0)","v":"M"},{"$f":"VLOOKUP(A2129,Pilot,3,0)","v":"Letkov"},{"$f":"VLOOKUP(A2129,Pilot,4,0)","v":"CZ/C1"},"Toužim Cup 2023 - Kombi",{"$f":"VLOOKUP(F2129,Soutez!A:B,2,FALSE)","v":"CZ"},{"$f":"VLOOKUP(F2129,Soutez!A:C,3,FALSE)","v":2023},18,3519,0.92500000000000004,5711,5283,"x",null,"LS-8-18 /15m","EJ",""]
["Vit Prokop",1987,"M","Medlánky","CZ/M","Toužim Cup 2023 - Kombi",{"$f":"VLOOKUP(F2130,Soutez!A:B,2,FALSE)","v":"CZ"},{"$f":"VLOOKUP(F2130,Soutez!A:C,3,FALSE)","v":2023},19,2886,0.92500000000000004,4736,4381,"x",null,"Ventus c /17,6m","PD",""]
["David Zapletal",1970,"M","Mladá Boleslav","CZ/C1","Toužim Cup 2023 - Kombi",{"$f":"VLOOKUP(F2131,Soutez!A:B,2,FALSE)","v":"CZ"},{"$f":"VLOOKUP(F2131,Soutez!A:C,3,FALSE)","v":2023},20,2715,0.92500000000000004,4385,{"$f":"ROUND(K2131*L2131,0)","v":4056},null,null,"Ventus c /17,6m","PUP",""]
["Milos Pajr",1966,"M","Jičín","CZ/C2","Toužim Cup 2023 - Kombi",{"$f":"VLOOKUP(F2132,Soutez!A:B,2,FALSE)","v":"CZ"},{"$f":"VLOOKUP(F2132,Soutez!A:C,3,FALSE)","v":2023},21,2574,0.92500000000000004,4075,3769,"x",null,"HpH 304MS SHARK","No Name",""]
["Petr Jiranek 63",1962,"M","Toužim","CZ/C1","Toužim Cup 2023 - Kombi",{"$f":"VLOOKUP(F2133,Soutez!A:B,2,FALSE)","v":"CZ"},{"$f":"VLOOKUP(F2133,Soutez!A:C,3,FALSE)","v":2023},22,2425,0.92500000000000004,3754,3472,"x",null,"Ventus cm /17,6m","PJ",""]
["Jaroslav Sefc",{"$f":"VLOOKUP(A2134,Pilot,2,0)","v":1971},{"$f":"VLOOKUP(A2134,Pilot,5,0)","v":"M"},{"$f":"VLOOKUP(A2134,Pilot,3,0)","v":"Broumov"},{"$f":"VLOOKUP(A2134,Pilot,4,0)","v":"CZ/C2"},"Toužim Cup 2023 - Kombi",{"$f":"VLOOKUP(F2134,Soutez!A:B,2,FALSE)","v":"CZ"},{"$f":"VLOOKUP(F2134,Soutez!A:C,3,FALSE)","v":2023},23,2013,0.92500000000000004,3078,2847,"x",null,"ASH 26 E WL","SBI",""]
["Antonin Kutalek",{"$f":"VLOOKUP(A2135,Pilot,2,0)","v":1943},{"$f":"VLOOKUP(A2135,Pilot,5,0)","v":"M"},{"$f":"VLOOKUP(A2135,Pilot,3,0)","v":"Zábřeh"},{"$f":"VLOOKUP(A2135,Pilot,4,0)","v":"CZ/M"},"Toužim Cup 2023 - Kombi",{"$f":"VLOOKUP(F2135,Soutez!A:B,2,FALSE)","v":"CZ"},{"$f":"VLOOKUP(F2135,Soutez!A:C,3,FALSE)","v":2023},24,1516,0.92500000000000004,2287,2115,null,null,"LAK 17 AT 18m","GL",""]
["Roman Michalek",1974,"M","Toužim","CZ/C1","Toužim Cup 2023 - Kombi",{"$f":"VLOOKUP(F2136,Soutez!A:B,2,FALSE)","v":"CZ"},{"$f":"VLOOKUP(F2136,Soutez!A:C,3,FALSE)","v":2023},25,1307,0.92500000000000004,1885,1744,"x",null,"DG-400 17m","TK",""]
["Frantisek Kriz",1961,"M","Toužim","CZ/C1","Toužim Cup 2023 - Kombi",{"$f":"VLOOKUP(F2137,Soutez!A:B,2,FALSE)","v":"CZ"},{"$f":"VLOOKUP(F2137,Soutez!A:C,3,FALSE)","v":2023},26,978,0.92500000000000004,1320,1221,"x",null,"DG-400 17m","FK",""]
["Michal Navratil",{"$f":"VLOOKUP(A2138,Pilot,2,0)","v":1985},{"$f":"VLOOKUP(A2138,Pilot,5,0)","v":"M"},{"$f":"VLOOKUP(A2138,Pilot,3,0)","v":"Křižanov"},{"$f":"VLOOKUP(A2138,Pilot,4,0)","v":"CZ/M"},"Cirrus GP 2023 - Klub",{"$f":"VLOOKUP(F2138,Soutez!A:B,2,FALSE)","v":"CZ"},{"$f":"VLOOKUP(F2138,Soutez!A:C,3,FALSE)","v":2023},1,27,{"$f":"VLOOKUP(F2138,Soutez,12,0)","v":0.755},{"$f":"ROUND((MAX($I$2138:$I$2149)-I2138)/(MAX($I$2138:$I$2149)-1)*10000,0)","v":10000},{"$f":"ROUND(K2138*L2138,0)","v":7550},"x",null,"Std. Cirrus","IJ",""]
["Jiri Hula",1973,"M","Slaný","CZ/C1","Cirrus GP 2023 - Klub",{"$f":"VLOOKUP(F2139,Soutez!A:B,2,FALSE)","v":"CZ"},{"$f":"VLOOKUP(F2139,Soutez!A:C,3,FALSE)","v":2023},2,22,{"$f":"VLOOKUP(F2139,Soutez,12,0)","v":0.755},9000,{"$f":"ROUND(K2139*L2139,0)","v":6795},"x",null,"Std. Cirrus","IT",""]
["Jiri Fousek",{"$f":"VLOOKUP(A2140,Pilot,2,0)","v":1990},{"$f":"VLOOKUP(A2140,Pilot,5,0)","v":"M"},{"$f":"VLOOKUP(A2140,Pilot,3,0)","v":"Raná"},{"$f":"VLOOKUP(A2140,Pilot,4,0)","v":"CZ/C2"},"Cirrus GP 2023 - Klub",{"$f":"VLOOKUP(F2140,Soutez!A:B,2,FALSE)","v":"CZ"},{"$f":"VLOOKUP(F2140,Soutez!A:C,3,FALSE)","v":2023},3,20,0.755,8000,6040,"x",null,"Std. Cirrus","LW",""]
["Katerina Vojtova",1983,"F","Slaný","CZ/C1","Cirrus GP 2023 - Klub",{"$f":"VLOOKUP(F2141,Soutez!A:B,2,FALSE)","v":"CZ"},{"$f":"VLOOKUP(F2141,Soutez!A:C,3,FALSE)","v":2023},4,13,0.755,7000,5285,"x","x","Std. Cirrus","KAC",""]
["Jan Hruska",1988,"M","Tábor","CZ/C1","Cirrus GP 2023 - Klub",{"$f":"VLOOKUP(F2142,Soutez!A:B,2,FALSE)","v":"CZ"},{"$f":"VLOOKUP(F2142,Soutez!A:C,3,FALSE)","v":2023},5,12,{"$f":"VLOOKUP(F2142,Soutez,12,0)","v":0.755},6000,4530,"x",null,"Std. Cirrus","IMI",""]
["Jan Hejret",1976,"M","Jaroměř","CZ/C2","Cirrus GP 2023 - Klub",{"$f":"VLOOKUP(F2143,Soutez!A:B,2,FALSE)","v":"CZ"},{"$f":"VLOOKUP(F2143,Soutez!A:C,3,FALSE)","v":2023},6,9,0.755,5000,3775,"x",null,"Std. cirrus","GO",""]
["Jan Sponer",1988,"M","Medlánky","CZ/M","Cirrus GP 2023 - Klub",{"$f":"VLOOKUP(F2144,Soutez!A:B,2,FALSE)","v":"CZ"},{"$f":"VLOOKUP(F2144,Soutez!A:C,3,FALSE)","v":2023},6,9,0.755,5000,{"$f":"ROUND(K2144*L2144,0)","v":3775},null,null,"Std. Cirrus","EX",""]
["Jan Platenik",1981,"M","Krnov","CZ/M","Cirrus GP 2023 - Klub",{"$f":"VLOOKUP(F2145,Soutez!A:B,2,FALSE)","v":"CZ"},{"$f":"VLOOKUP(F2145,Soutez!A:C,3,FALSE)","v":2023},8,7,0.755,3000,2265,"x",null,"Std. Cirrus","SX",""]
["Matej Krestes",1986,"M","Slaný","CZ/C1","Cirrus GP 2023 - Klub",{"$f":"VLOOKUP(F2146,Soutez!A:B,2,FALSE)","v":"CZ"},{"$f":"VLOOKUP(F2146,Soutez!A:C,3,FALSE)","v":2023},9,6,0.755,2000,1510,"x",null,"Std. Cirrus","CON",""]
["Vojtech Hajek",1987,"M","Mladá Boleslav","CZ/C1","Cirrus GP 2023 - Klub",{"$f":"VLOOKUP(F2147,Soutez!A:B,2,FALSE)","v":"CZ"},{"$f":"VLOOKUP(F2147,Soutez!A:C,3,FALSE)","v":2023},10,5,0.755,1000,755,null,null,"Std. Cirrus","BB",""]
["Jan Zahradka",1981,"M","Hodkovice","CZ/C2","Cirrus GP 2023 - Klub",{"$f":"VLOOKUP(F2148,Soutez!A:B,2,FALSE)","v":"CZ"},{"$f":"VLOOKUP(F2148,Soutez!A:C,3,FALSE)","v":2023},11,1,0.755,0,0,null,null,"Std. Cirrus","AR",""]
["Martin Piskacek",1991,"M","Křižanov","CZ/M","Cirrus GP 2023 - Klub",{"$f":"VLOOKUP(F2149,Soutez!A:B,2,FALSE)","v":"CZ"},{"$f":"VLOOKUP(F2149,Soutez!A:C,3,FALSE)","v":2023},11,1,0.755,0,0,null,null,"Std. Cirrus",75,""]
["Radek Krejcirik",{"$f":"VLOOKUP(A2150,Pilot,2,0)","v":1991},{"$f":"VLOOKUP(A2150,Pilot,5,0)","v":"M"},{"$f":"VLOOKUP(A2150,Pilot,3,0)","v":"Hranice"},{"$f":"VLOOKUP(A2150,Pilot,4,0)","v":"CZ/M"},"Cirrus GP 2023 - Kombi 15m",{"$f":"VLOOKUP(F2150,Soutez!A:B,2,FALSE)","v":"CZ"},{"$f":"VLOOKUP(F2150,Soutez!A:C,3,FALSE)","v":2023},1,21,{"$f":"VLOOKUP(F2150,Soutez,12,0)","v":0},{"$f":"ROUND((MAX($I$2150:$I$2158)-I2150)/(MAX($I$2150:$I$2158)-1)*10000,0)","v":10000},{"$f":"ROUND(K2150*L2150,0)","v":0},null,null,"AS 33 15m",12,""]
["Jan Pavlik",1987,"M","Křižanov","CZ/M","Cirrus GP 2023 - Kombi 15m",{"$f":"VLOOKUP(F2151,Soutez!A:B,2,FALSE)","v":"CZ"},{"$f":"VLOOKUP(F2151,Soutez!A:C,3,FALSE)","v":2023},2,19,0,8750,{"$f":"ROUND(K2151*L2151,0)","v":0},null,null,"Ventus c 15m","EB",""]
["Ondrej Bordovsky",1983,"M","Krnov","CZ/M","Cirrus GP 2023 - Kombi 15m",{"$f":"VLOOKUP(F2152,Soutez!A:B,2,FALSE)","v":"CZ"},{"$f":"VLOOKUP(F2152,Soutez!A:C,3,FALSE)","v":2023},3,18,0,7500,0,null,null,"Ventus c 15m","AD",""]
["Radek Zima 78",1978,"M","Hodkovice","CZ/C2","Cirrus GP 2023 - Kombi 15m",{"$f":"VLOOKUP(F2153,Soutez!A:B,2,FALSE)","v":"CZ"},{"$f":"VLOOKUP(F2153,Soutez!A:C,3,FALSE)","v":2023},4,15,0,6250,0,null,null,"asg 29 15m","XZ",""]
["Pavel Jiranek",{"$f":"VLOOKUP(A2154,Pilot,2,0)","v":1993},{"$f":"VLOOKUP(A2154,Pilot,5,0)","v":"M"},{"$f":"VLOOKUP(A2154,Pilot,3,0)","v":"Toužim"},{"$f":"VLOOKUP(A2154,Pilot,4,0)","v":"CZ/C1"},"Cirrus GP 2023 - Kombi 15m",{"$f":"VLOOKUP(F2154,Soutez!A:B,2,FALSE)","v":"CZ"},{"$f":"VLOOKUP(F2154,Soutez!A:C,3,FALSE)","v":2023},4,15,0,6250,0,null,null,"Ventus c 15m","CS",""]
["Petr Jiranek 91",1991,"M","Toužim","CZ/C1","Cirrus GP 2023 - Kombi 15m",{"$f":"VLOOKUP(F2155,Soutez!A:B,2,FALSE)","v":"CZ"},{"$f":"VLOOKUP(F2155,Soutez!A:C,3,FALSE)","v":2023},6,10,0,3750,0,null,null,"Ventus c 15m","PC",""]
["Michal Kratochvil",{"$f":"VLOOKUP(A2156,Pilot,2,0)","v":1984},{"$f":"VLOOKUP(A2156,Pilot,5,0)","v":"M"},{"$f":"VLOOKUP(A2156,Pilot,3,0)","v":"Slaný"},{"$f":"VLOOKUP(A2156,Pilot,4,0)","v":"CZ/C1"},"Cirrus GP 2023 - Kombi 15m",{"$f":"VLOOKUP(F2156,Soutez!A:B,2,FALSE)","v":"CZ"},{"$f":"VLOOKUP(F2156,Soutez!A:C,3,FALSE)","v":2023},7,9,0,2500,0,null,null,"Ventus b 15m","MK",""]
["Jan Viskot",1995,"M","Břeclav","CZ/M","Cirrus GP 2023 - Kombi 15m",{"$f":"VLOOKUP(F2157,Soutez!A:B,2,FALSE)","v":"CZ"},{"$f":"VLOOKUP(F2157,Soutez!A:C,3,FALSE)","v":2023},8,6,0,1250,{"$f":"ROUND(K2157*L2157,0)","v":0},null,null,"Discus 2a","GX",""]
["Matous Schmidt",1981,"M","Letňany","CZ/C1","Cirrus GP 2023 - Kombi 15m",{"$f":"VLOOKUP(F2158,Soutez!A:B,2,FALSE)","v":"CZ"},{"$f":"VLOOKUP(F2158,Soutez!A:C,3,FALSE)","v":2023},9,3,0,0,0,null,null,"Ventus c 15m","UC",""]
["Ivan Harasta 65",{"$f":"VLOOKUP(A2159,Pilot,2,0)","v":1965},{"$f":"VLOOKUP(A2159,Pilot,5,0)","v":"M"},{"$f":"VLOOKUP(A2159,Pilot,3,0)","v":"Toužim"},{"$f":"VLOOKUP(A2159,Pilot,4,0)","v":"CZ/C1"},"PPV 2023 - Klub",{"$f":"VLOOKUP(F2159,Soutez!A:B,2,FALSE)","v":"CZ"},{"$f":"VLOOKUP(F2159,Soutez!A:C,3,FALSE)","v":2023},1,2583,0.9,{"$f":"ROUND(J2159/MAX($J$2159:$J$2202)*10000*0.7+(MAX($I$2159:$I$2202)-I2159)/(MAX($I$2159:$I$2202)-1)*10000*0.3,0)","v":10000},{"$f":"ROUND(K2159*L2159,0)","v":9000},"x",null,"LS 1-d","CL",{"$f":"IF(ISERROR(VLOOKUP(A2159,Pilot,6,0)),\"Není v databázi\",VLOOKUP(A2159,Pilot,6,0))","v":""}]
["Hana Treslova",{"$f":"VLOOKUP(A2160,Pilot,2,0)","v":1991},{"$f":"VLOOKUP(A2160,Pilot,5,0)","v":"F"},{"$f":"VLOOKUP(A2160,Pilot,3,0)","v":"Raná"},{"$f":"VLOOKUP(A2160,Pilot,4,0)","v":"CZ/C2"},"PPV 2023 - Klub",{"$f":"VLOOKUP(F2160,Soutez!A:B,2,FALSE)","v":"CZ"},{"$f":"VLOOKUP(F2160,Soutez!A:C,3,FALSE)","v":2023},2,2462,0.9,9601,{"$f":"ROUND(K2160*L2160,0)","v":8641},"x","x","Std. Cirrus","CI",""]
["Jakub Malik",1999,"M","Letňany","CZ/C1","PPV 2023 - Klub",{"$f":"VLOOKUP(F2161,Soutez!A:B,2,FALSE)","v":"CZ"},{"$f":"VLOOKUP(F2161,Soutez!A:C,3,FALSE)","v":2023},3,2432,0.9,9448,8503,"x",null,"Discus b","DP","Junior v roce 2024"]
["Petr Hofman",1984,"M","Letňany","CZ/C1","PPV 2023 - Klub",{"$f":"VLOOKUP(F2162,Soutez!A:B,2,FALSE)","v":"CZ"},{"$f":"VLOOKUP(F2162,Soutez!A:C,3,FALSE)","v":2023},4,2413,0.9,9325,8393,"x",null,"ASW 15 B","MA",""]
["Lukas Capek",1992,"M","Letňany","CZ/C1","PPV 2023 - Klub",{"$f":"VLOOKUP(F2163,Soutez!A:B,2,FALSE)","v":"CZ"},{"$f":"VLOOKUP(F2163,Soutez!A:C,3,FALSE)","v":2023},5,2404,0.9,9229,8306,"x",null,"Mosquito","LC",""]
["Jindrich Svorc",1978,"M","Letňany","CZ/C1","PPV 2023 - Klub",{"$f":"VLOOKUP(F2164,Soutez!A:B,2,FALSE)","v":"CZ"},{"$f":"VLOOKUP(F2164,Soutez!A:C,3,FALSE)","v":2023},6,2331,0.9,8960,8064,null,null,"Std. Cirrus","IMI",""]
["Jan Hruska",1988,"M","Tábor","CZ/C1","PPV 2023 - Klub",{"$f":"VLOOKUP(F2165,Soutez!A:B,2,FALSE)","v":"CZ"},{"$f":"VLOOKUP(F2165,Soutez!A:C,3,FALSE)","v":2023},7,2326,0.9,8875,7988,"x",null,"ASW 15 B","LF",""]
["Vaclav Marel",1974,"M","Jaroměř","CZ/C2","PPV 2023 - Klub",{"$f":"VLOOKUP(F2166,Soutez!A:B,2,FALSE)","v":"CZ"},{"$f":"VLOOKUP(F2166,Soutez!A:C,3,FALSE)","v":2023},8,2320,0.9,8787,7908,"x",null,"Std. Cirrus","IF",""]
["Josef Kolman",1983,"M","Letňany","CZ/C1","PPV 2023 - Klub",{"$f":"VLOOKUP(F2167,Soutez!A:B,2,FALSE)","v":"CZ"},{"$f":"VLOOKUP(F2167,Soutez!A:C,3,FALSE)","v":2023},9,2299,0.9,8659,7793,"x",null,"ASW 15 B","BA4",""]
["Pavel Liska",1965,"M","Roudnice","CZ/C2","PPV 2023 - Klub",{"$f":"VLOOKUP(F2168,Soutez!A:B,2,FALSE)","v":"CZ"},{"$f":"VLOOKUP(F2168,Soutez!A:C,3,FALSE)","v":2023},10,2254,0.9,8466,7619,"x",null,"ASW 19 B","RCE",""]
["David Vrchota",1976,"M","Jaroměř","CZ/C2","PPV 2023 - Klub",{"$f":"VLOOKUP(F2169,Soutez!A:B,2,FALSE)","v":"CZ"},{"$f":"VLOOKUP(F2169,Soutez!A:C,3,FALSE)","v":2023},11,2121,0.9,8034,7231,"x",null,"Janus B","BV",""]
["Milan Svoboda 80",{"$f":"VLOOKUP(A2170,Pilot,2,0)","v":1980},{"$f":"VLOOKUP(A2170,Pilot,5,0)","v":"M"},{"$f":"VLOOKUP(A2170,Pilot,3,0)","v":"Havlíčkův Brod"},{"$f":"VLOOKUP(A2170,Pilot,4,0)","v":"CZ/C2"},"PPV 2023 - Klub",{"$f":"VLOOKUP(F2170,Soutez!A:B,2,FALSE)","v":"CZ"},{"$f":"VLOOKUP(F2170,Soutez!A:C,3,FALSE)","v":2023},12,2112,0.9,7938,7144,"x",null,"VT-16 Orlic 2",46,""]
["Martin Urner",1974,"M","Letňany","CZ/C1","PPV 2023 - Klub",{"$f":"VLOOKUP(F2171,Soutez!A:B,2,FALSE)","v":"CZ"},{"$f":"VLOOKUP(F2171,Soutez!A:C,3,FALSE)","v":2023},13,2062,0.9,7731,6958,null,null,"ASW 15 B","JJ",""]
["Miloslav Hulmak",1963,"M","Hosín","CZ/C1","PPV 2023 - Klub",{"$f":"VLOOKUP(F2172,Soutez!A:B,2,FALSE)","v":"CZ"},{"$f":"VLOOKUP(F2172,Soutez!A:C,3,FALSE)","v":2023},14,2024,0.9,7557,6801,"x",null,"ASW 15 B","HH",""]
["David Tejnora",1982,"M","Jaroměř","CZ/C2","PPV 2023 - Klub",{"$f":"VLOOKUP(F2173,Soutez!A:B,2,FALSE)","v":"CZ"},{"$f":"VLOOKUP(F2173,Soutez!A:C,3,FALSE)","v":2023},15,2013,0.9,7455,6710,"x",null,"Std. Cirrus",17,""]
["Jiri Slemr",1979,"M","Vysoké Mýto","CZ/C2","PPV 2023 - Klub",{"$f":"VLOOKUP(F2174,Soutez!A:B,2,FALSE)","v":"CZ"},{"$f":"VLOOKUP(F2174,Soutez!A:C,3,FALSE)","v":2023},16,1984,0.9,7305,6575,"x",null,"Discus CS",65,""]
["Vojtech Hajek",1987,"M","Mladá Boleslav","CZ/C1","PPV 2023 - Klub",{"$f":"VLOOKUP(F2175,Soutez!A:B,2,FALSE)","v":"CZ"},{"$f":"VLOOKUP(F2175,Soutez!A:C,3,FALSE)","v":2023},17,1869,0.9,6922,6230,"x",null,"Std. Cirrus","BB",""]
["Radek Zima 75",1975,"M","Břeclav","CZ/M","PPV 2023 - Klub",{"$f":"VLOOKUP(F2176,Soutez!A:B,2,FALSE)","v":"CZ"},{"$f":"VLOOKUP(F2176,Soutez!A:C,3,FALSE)","v":2023},18,1777,0.9,6601,5941,"x",null,"DG 100","M",""]
["Tereza Ludvikova",{"$f":"VLOOKUP(A2177,Pilot,2,0)","v":1997},{"$f":"VLOOKUP(A2177,Pilot,5,0)","v":"F"},{"$f":"VLOOKUP(A2177,Pilot,3,0)","v":"Jaroměř"},{"$f":"VLOOKUP(A2177,Pilot,4,0)","v":"CZ/C2"},"PPV 2023 - Klub",{"$f":"VLOOKUP(F2177,Soutez!A:B,2,FALSE)","v":"CZ"},{"$f":"VLOOKUP(F2177,Soutez!A:C,3,FALSE)","v":2023},19,1734,0.9,6413,5772,"x","x","Std. Cirrus","GO",""]
["Frantisek Suna",1983,"M","Hosín","CZ/C1","PPV 2023 - Klub",{"$f":"VLOOKUP(F2178,Soutez!A:B,2,FALSE)","v":"CZ"},{"$f":"VLOOKUP(F2178,Soutez!A:C,3,FALSE)","v":2023},20,1605,0.9,5992,5393,"x",null,"DG 100",78,""]
["Petr Rozhon",1972,"M","Hosín","CZ/C1","PPV 2023 - Klub",{"$f":"VLOOKUP(F2179,Soutez!A:B,2,FALSE)","v":"CZ"},{"$f":"VLOOKUP(F2179,Soutez!A:C,3,FALSE)","v":2023},21,1525,0.9,5704,{"$f":"ROUND(K2179*L2179,0)","v":5134},"x",null,"VSO-10",9,""]
["Lukas Hykl",1985,"M","Kolín","CZ/C1","PPV 2023 - Klub",{"$f":"VLOOKUP(F2180,Soutez!A:B,2,FALSE)","v":"CZ"},{"$f":"VLOOKUP(F2180,Soutez!A:C,3,FALSE)","v":2023},22,1361,0.9,5188,4669,"x",null,"Discus b WL","LD",""]
["Jiri Holcman",1976,"M","Hosín","CZ/C1","PPV 2023 - Klub",{"$f":"VLOOKUP(F2181,Soutez!A:B,2,FALSE)","v":"CZ"},{"$f":"VLOOKUP(F2181,Soutez!A:C,3,FALSE)","v":2023},23,1335,0.9,5046,4541,"x",null,"ASW 19","BO",""]
["Radoslav Pur",1973,"M","Hosín","CZ/C1","PPV 2023 - Klub",{"$f":"VLOOKUP(F2182,Soutez!A:B,2,FALSE)","v":"CZ"},{"$f":"VLOOKUP(F2182,Soutez!A:C,3,FALSE)","v":2023},24,1325,0.9,4948,4453,"x",null,"DG 200","EK",""]
["Petr Styblo",{"$f":"VLOOKUP(A2183,Pilot,2,0)","v":1975},{"$f":"VLOOKUP(A2183,Pilot,5,0)","v":"M"},{"$f":"VLOOKUP(A2183,Pilot,3,0)","v":"Letňany"},{"$f":"VLOOKUP(A2183,Pilot,4,0)","v":"CZ/C1"},"PPV 2023 - Klub",{"$f":"VLOOKUP(F2183,Soutez!A:B,2,FALSE)","v":"CZ"},{"$f":"VLOOKUP(F2183,Soutez!A:C,3,FALSE)","v":2023},25,1283,0.9,4763,4287,"x",null,"g 102 Astir CS","PJ",""]
["Jiri Janda",1966,"M","Letňany","CZ/C1","PPV 2023 - Klub",{"$f":"VLOOKUP(F2184,Soutez!A:B,2,FALSE)","v":"CZ"},{"$f":"VLOOKUP(F2184,Soutez!A:C,3,FALSE)","v":2023},26,1164,0.9,4369,3932,"x",null,"ASW 20","TA",""]
["David Benda",{"$f":"VLOOKUP(A2185,Pilot,2,0)","v":1974},{"$f":"VLOOKUP(A2185,Pilot,5,0)","v":"M"},{"$f":"VLOOKUP(A2185,Pilot,3,0)","v":"Letňany"},{"$f":"VLOOKUP(A2185,Pilot,4,0)","v":"CZ/C1"},"PPV 2023 - Klub",{"$f":"VLOOKUP(F2185,Soutez!A:B,2,FALSE)","v":"CZ"},{"$f":"VLOOKUP(F2185,Soutez!A:C,3,FALSE)","v":2023},27,1162,0.9,4292,3863,"x",null,"G 102 Astir CS","PD",""]
["Michal Vranek",1993,"M","Hosín","CZ/C1","PPV 2023 - Klub",{"$f":"VLOOKUP(F2186,Soutez!A:B,2,FALSE)","v":"CZ"},{"$f":"VLOOKUP(F2186,Soutez!A:C,3,FALSE)","v":2023},28,1128,0.9,4128,3715,"x",null,"DG 100","8W",""]
["Filip Sirc",1993,"M","Letňany","CZ/C1","PPV 2023 - Klub",{"$f":"VLOOKUP(F2187,Soutez!A:B,2,FALSE)","v":"CZ"},{"$f":"VLOOKUP(F2187,Soutez!A:C,3,FALSE)","v":2023},29,1081,0.9,3930,3537,null,null,"ASW 19","WT",""]
["Vaclav Petru",1974,"M","Letňany","CZ/C1","PPV 2023 - Klub",{"$f":"VLOOKUP(F2188,Soutez!A:B,2,FALSE)","v":"CZ"},{"$f":"VLOOKUP(F2188,Soutez!A:C,3,FALSE)","v":2023},30,1075,0.9,3842,3458,"x",null,"Alpin T","AI",""]
["Filip Malik",2001,"M","Letňany","CZ/C1","PPV 2023 - Klub",{"$f":"VLOOKUP(F2189,Soutez!A:B,2,FALSE)","v":"CZ"},{"$f":"VLOOKUP(F2189,Soutez!A:C,3,FALSE)","v":2023},31,1051,0.9,3705,3335,"x",null,"VSO-10","L5","Junior v roce 2024"]
["Petr Malcek",1965,"M","Letňany","CZ/C1","PPV 2023 - Klub",{"$f":"VLOOKUP(F2190,Soutez!A:B,2,FALSE)","v":"CZ"},{"$f":"VLOOKUP(F2190,Soutez!A:C,3,FALSE)","v":2023},32,1039,0.9,3601,3241,"x",null,"G 103 Twin Astir",null,""]
["Jiri Donat",{"$f":"VLOOKUP(A2191,Pilot,2,0)","v":1983},{"$f":"VLOOKUP(A2191,Pilot,5,0)","v":"M"},{"$f":"VLOOKUP(A2191,Pilot,3,0)","v":"Letňany"},{"$f":"VLOOKUP(A2191,Pilot,4,0)","v":"CZ/C1"},"PPV 2023 - Klub",{"$f":"VLOOKUP(F2191,Soutez!A:B,2,FALSE)","v":"CZ"},{"$f":"VLOOKUP(F2191,Soutez!A:C,3,FALSE)","v":2023},33,902,0.9,3159,2843,"x",null,"Std. Cirrus WL","JE",""]
["Yvona Vyhnankova",1963,"F","Olomouc","CZ/M","PPV 2023 - Klub",{"$f":"VLOOKUP(F2192,Soutez!A:B,2,FALSE)","v":"CZ"},{"$f":"VLOOKUP(F2192,Soutez!A:C,3,FALSE)","v":2023},34,874,0.9,3011,2710,"x","x","ASW 15","YZ",""]
["Tereza Novakova",1993,"F","Chrudim","CZ/C2","PPV 2023 - Klub",{"$f":"VLOOKUP(F2193,Soutez!A:B,2,FALSE)","v":"CZ"},{"$f":"VLOOKUP(F2193,Soutez!A:C,3,FALSE)","v":2023},35,843,0.9,2856,2570,"x","x","Std. Cirrus","FF",""]
["Jan Zezula",1979,"M","Letňany","CZ/C1","PPV 2023 - Klub",{"$f":"VLOOKUP(F2194,Soutez!A:B,2,FALSE)","v":"CZ"},{"$f":"VLOOKUP(F2194,Soutez!A:C,3,FALSE)","v":2023},36,826,0.9,2738,2464,null,null,"ASW 19 B","HD",""]
["Radek Bartos",1971,"M","Kolín","CZ/C1","PPV 2023 - Klub",{"$f":"VLOOKUP(F2195,Soutez!A:B,2,FALSE)","v":"CZ"},{"$f":"VLOOKUP(F2195,Soutez!A:C,3,FALSE)","v":2023},37,764,0.9,2499,2249,"x",null,"DG 300 Club ELAN","DG",""]
["Tomas Holenda",1956,"M","Havlíčkův Brod","CZ/C2","PPV 2023 - Klub",{"$f":"VLOOKUP(F2196,Soutez!A:B,2,FALSE)","v":"CZ"},{"$f":"VLOOKUP(F2196,Soutez!A:C,3,FALSE)","v":2023},38,729,0.9,2333,2100,null,null,"VT-16 Orlic 2","I",""]
["Martin Piskacek",1991,"M","Křižanov","CZ/M","PPV 2023 - Klub",{"$f":"VLOOKUP(F2197,Soutez!A:B,2,FALSE)","v":"CZ"},{"$f":"VLOOKUP(F2197,Soutez!A:C,3,FALSE)","v":2023},39,656,0.9,2063,1857,"x",null,"std. cirrus",75,""]
["Ivan Kuzelka",1945,"M","Havlíčkův Brod","CZ/C2","PPV 2023 - Klub",{"$f":"VLOOKUP(F2198,Soutez!A:B,2,FALSE)","v":"CZ"},{"$f":"VLOOKUP(F2198,Soutez!A:C,3,FALSE)","v":2023},40,553,0.9,1713,1542,null,null,"VT-16 Orlic 2",null,""]
["Milos Hrabe",1979,"M","Letňany","CZ/C1","PPV 2023 - Klub",{"$f":"VLOOKUP(F2199,Soutez!A:B,2,FALSE)","v":"CZ"},{"$f":"VLOOKUP(F2199,Soutez!A:C,3,FALSE)","v":2023},41,552,0.9,1639,1475,"x",null,"Std. Cirrus","L8",""]
["Milan Bado",1975,"M","Kolín","CZ/C1","PPV 2023 - Klub",{"$f":"VLOOKUP(F2200,Soutez!A:B,2,FALSE)","v":"CZ"},{"$f":"VLOOKUP(F2200,Soutez!A:C,3,FALSE)","v":2023},42,517,0.9,1473,1326,"x",null,"Std. Cirrus","FU",""]
["Petr Sochor",1986,"M","Hosín","CZ/C1","PPV 2023 - Klub",{"$f":"VLOOKUP(F2201,Soutez!A:B,2,FALSE)","v":"CZ"},{"$f":"VLOOKUP(F2201,Soutez!A:C,3,FALSE)","v":2023},43,0,0.9,0,0,null,null,"ASW 15 B","6Y",""]
["Lubomir Doupal",1975,"M","Kroměříž","CZ/M","PPV 2023 - Klub",{"$f":"VLOOKUP(F2202,Soutez!A:B,2,FALSE)","v":"CZ"},{"$f":"VLOOKUP(F2202,Soutez!A:C,3,FALSE)","v":2023},43,0,0.9,0,0,null,null,"ASW 24 E","LD",""]
["Karel Novak",{"$f":"VLOOKUP(A2203,Pilot,2,0)","v":1993},{"$f":"VLOOKUP(A2203,Pilot,5,0)","v":"M"},{"$f":"VLOOKUP(A2203,Pilot,3,0)","v":"Mladá Boleslav"},{"$f":"VLOOKUP(A2203,Pilot,4,0)","v":"CZ/C1"},"PPV 2023 - Kombi",{"$f":"VLOOKUP(F2203,Soutez!A:B,2,FALSE)","v":"CZ"},{"$f":"VLOOKUP(F2203,Soutez!A:C,3,FALSE)","v":2023},1,2340,0.92,{"$f":"ROUND(J2203/MAX($J$2203:$J$2221)*10000*0.7+(MAX($I$2203:$I$2221)-I2203)/(MAX($I$2203:$I$2221)-1)*10000*0.3,0)","v":10000},{"$f":"ROUND(K2203*L2203,0)","v":9200},"x",null,"JS3 15m","XM",""]
["Petr Hotovy",1958,"M","Česká Lípa","CZ/C2","PPV 2023 - Kombi",{"$f":"VLOOKUP(F2204,Soutez!A:B,2,FALSE)","v":"CZ"},{"$f":"VLOOKUP(F2204,Soutez!A:C,3,FALSE)","v":2023},2,2334,0.92,9815,{"$f":"ROUND(K2204*L2204,0)","v":9030},"x",null,"JS1 18m","IGC",""]
["Ondrej Bordovsky",1983,"M","Krnov","CZ/M","PPV 2023 - Kombi",{"$f":"VLOOKUP(F2205,Soutez!A:B,2,FALSE)","v":"CZ"},{"$f":"VLOOKUP(F2205,Soutez!A:C,3,FALSE)","v":2023},3,2321,0.92,9610,8841,"x",null,"Ventus c 17.6m","AD",""]
["Jan Kantor",1983,"M","Letňany","CZ/C1","PPV 2023 - Kombi",{"$f":"VLOOKUP(F2206,Soutez!A:B,2,FALSE)","v":"CZ"},{"$f":"VLOOKUP(F2206,Soutez!A:C,3,FALSE)","v":2023},4,2256,0.92,9249,8509,"x",null,"ASG 29 E 18m","QX",""]
["Josef Busek",1967,"M","Hosín","CZ/C1","PPV 2023 - Kombi",{"$f":"VLOOKUP(F2207,Soutez!A:B,2,FALSE)","v":"CZ"},{"$f":"VLOOKUP(F2207,Soutez!A:C,3,FALSE)","v":2023},5,2102,0.92,8621,7931,"x",null,"Duo Discus X","BB",""]
["Jan Dersak 69",{"$f":"VLOOKUP(A2208,Pilot,2,0)","v":1969},{"$f":"VLOOKUP(A2208,Pilot,5,0)","v":"M"},{"$f":"VLOOKUP(A2208,Pilot,3,0)","v":"Kralupy"},{"$f":"VLOOKUP(A2208,Pilot,4,0)","v":"CZ/C1"},"PPV 2023 - Kombi",{"$f":"VLOOKUP(F2208,Soutez!A:B,2,FALSE)","v":"CZ"},{"$f":"VLOOKUP(F2208,Soutez!A:C,3,FALSE)","v":2023},6,1984,0.92,8102,7454,"x",null,"HpH 304 MS Shark","DJ",""]
["Jan Boruvka",{"$f":"VLOOKUP(A2209,Pilot,2,0)","v":1984},{"$f":"VLOOKUP(A2209,Pilot,5,0)","v":"M"},{"$f":"VLOOKUP(A2209,Pilot,3,0)","v":"Jičín"},{"$f":"VLOOKUP(A2209,Pilot,4,0)","v":"CZ/C2"},"PPV 2023 - Kombi",{"$f":"VLOOKUP(F2209,Soutez!A:B,2,FALSE)","v":"CZ"},{"$f":"VLOOKUP(F2209,Soutez!A:C,3,FALSE)","v":2023},7,1836,0.92,7492,6893,null,null,"Ventus c 17.6m","EG",""]
["Jan Simon",1970,"M","Kralupy","CZ/C1","PPV 2023 - Kombi",{"$f":"VLOOKUP(F2210,Soutez!A:B,2,FALSE)","v":"CZ"},{"$f":"VLOOKUP(F2210,Soutez!A:C,3,FALSE)","v":2023},8,1818,0.92,7272,6690,null,null,"Ventus cT 17.6m","KR",""]
["Jaromir Pauer",1974,"M","Hosín","CZ/C1","PPV 2023 - Kombi",{"$f":"VLOOKUP(F2211,Soutez!A:B,2,FALSE)","v":"CZ"},{"$f":"VLOOKUP(F2211,Soutez!A:C,3,FALSE)","v":2023},9,1778,0.92,6985,{"$f":"ROUND(K2211*L2211,0)","v":6426},"x",null,"Ventus b 16.6m WL","7F",""]
["Petr Babak",1973,"M","Hořice","CZ/C2","PPV 2023 - Kombi",{"$f":"VLOOKUP(F2212,Soutez!A:B,2,FALSE)","v":"CZ"},{"$f":"VLOOKUP(F2212,Soutez!A:C,3,FALSE)","v":2023},10,1705,0.92,6600,6072,"x",null,"Ventus 2cM 18m","LS",""]
["Marek Blatak",1969,"M","Šumperk","CZ/M","PPV 2023 - Kombi",{"$f":"VLOOKUP(F2213,Soutez!A:B,2,FALSE)","v":"CZ"},{"$f":"VLOOKUP(F2213,Soutez!A:C,3,FALSE)","v":2023},11,1634,0.92,6221,5723,null,null,"Duo Discus T","ZS",""]
["Ales Vyhnal",1989,"M","Kralupy","CZ/C1","PPV 2023 - Kombi",{"$f":"VLOOKUP(F2214,Soutez!A:B,2,FALSE)","v":"CZ"},{"$f":"VLOOKUP(F2214,Soutez!A:C,3,FALSE)","v":2023},12,1438,{"$f":"VLOOKUP(F2214,Soutez,12,0)","v":0.92},5468,5031,"x",null,"Nimbus 3 22.9m","HS",""]
["Zdenek Boruvka 54",1954,"M","Jičín","CZ/C2","PPV 2023 - Kombi",{"$f":"VLOOKUP(F2215,Soutez!A:B,2,FALSE)","v":"CZ"},{"$f":"VLOOKUP(F2215,Soutez!A:C,3,FALSE)","v":2023},13,1385,0.92,5143,4732,null,null,"LS 8","ZB",""]
["David Zapletal",{"$f":"VLOOKUP(A2216,Pilot,2,0)","v":1970},{"$f":"VLOOKUP(A2216,Pilot,5,0)","v":"M"},{"$f":"VLOOKUP(A2216,Pilot,3,0)","v":"Mladá Boleslav"},{"$f":"VLOOKUP(A2216,Pilot,4,0)","v":"CZ/C1"},"PPV 2023 - Kombi",{"$f":"VLOOKUP(F2216,Soutez!A:B,2,FALSE)","v":"CZ"},{"$f":"VLOOKUP(F2216,Soutez!A:C,3,FALSE)","v":2023},14,1238,0.92,4537,4174,"x",null,"Ventus c 17.6m","PUP",""]
["Zdenek Schenk",1972,"M","Hranice","CZ/M","PPV 2023 - Kombi",{"$f":"VLOOKUP(F2217,Soutez!A:B,2,FALSE)","v":"CZ"},{"$f":"VLOOKUP(F2217,Soutez!A:C,3,FALSE)","v":2023},15,1188,0.92,4221,3883,null,null,"Ventus cM 17.6m","ŠNeK",""]
["Michal Hemrle",1974,"M","Česká Lípa","CZ/C2","PPV 2023 - Kombi",{"$f":"VLOOKUP(F2218,Soutez!A:B,2,FALSE)","v":"CZ"},{"$f":"VLOOKUP(F2218,Soutez!A:C,3,FALSE)","v":2023},16,1124,0.92,3862,3553,"x",null,"ASG 29 Es 18m","ET",""]
["Tomas Ptacovsky",1981,"M","Letňany","CZ/C1","PPV 2023 - Kombi",{"$f":"VLOOKUP(F2219,Soutez!A:B,2,FALSE)","v":"CZ"},{"$f":"VLOOKUP(F2219,Soutez!A:C,3,FALSE)","v":2023},17,1069,0.92,3531,3249,"x",null,"Ventus c 17.6m","UC",""]
["Martin Holik",1959,"M","Letňany","CZ/C1","PPV 2023 - Kombi",{"$f":"VLOOKUP(F2220,Soutez!A:B,2,FALSE)","v":"CZ"},{"$f":"VLOOKUP(F2220,Soutez!A:C,3,FALSE)","v":2023},18,971,0.92,3071,2825,"x",null,"LS 6 18m","F5",""]
["Vaclav Hruza",1965,"M","Břeclav","CZ/M","PPV 2023 - Kombi",{"$f":"VLOOKUP(F2221,Soutez!A:B,2,FALSE)","v":"CZ"},{"$f":"VLOOKUP(F2221,Soutez!A:C,3,FALSE)","v":2023},19,787,0.92,2354,2166,"x",null,"HpH 304 MS Shark","TH",""]
["Tomas Suchanek",{"$f":"VLOOKUP(A2222,Pilot,2,0)","v":1964},{"$f":"VLOOKUP(A2222,Pilot,5,0)","v":"M"},{"$f":"VLOOKUP(A2222,Pilot,3,0)","v":"GAC Benešov"},{"$f":"VLOOKUP(A2222,Pilot,4,0)","v":"CZ/C1"},"PMČR 2023 - Klub",{"$f":"VLOOKUP(F2222,Soutez!A:B,2,FALSE)","v":"CZ"},{"$f":"VLOOKUP(F2222,Soutez!A:C,3,FALSE)","v":2023},1,6319,1.0499999999999998,{"$f":"ROUND(J2222/MAX($J$2222:$J$2237)*10000*0.7+(MAX($I$2222:$I$2237)-I2222)/(MAX($I$2222:$I$2237)-1)*10000*0.3,0)","v":10000},{"$f":"ROUND(K2222*L2222,0)","v":10500},"x",null,"ASW 20L","CX",{"$f":"IF(ISERROR(VLOOKUP(A2222,Pilot,6,0)),\"Není v databázi\",VLOOKUP(A2222,Pilot,6,0))","v":""}]
["Jaroslav Tomana",1975,"M","Zbraslavice","CZ/C1","PMČR 2023 - Klub",{"$f":"VLOOKUP(F2223,Soutez!A:B,2,FALSE)","v":"CZ"},{"$f":"VLOOKUP(F2223,Soutez!A:C,3,FALSE)","v":2023},2,6057,1.0499999999999998,9510,{"$f":"ROUND(K2223*L2223,0)","v":9986},"x",null,"Centrair C-101BC Pegase","RT",""]
["Michal Lesinger",1966,"M","Moravská Třebová","CZ/M","PMČR 2023 - Klub",{"$f":"VLOOKUP(F2224,Soutez!A:B,2,FALSE)","v":"CZ"},{"$f":"VLOOKUP(F2224,Soutez!A:C,3,FALSE)","v":2023},3,6028,1.0499999999999998,9278,9742,"x",null,"ASW-20 A","LL",""]
["Pavel Trybenekr",1990,"M","Hořice","CZ/C2","PMČR 2023 - Klub",{"$f":"VLOOKUP(F2225,Soutez!A:B,2,FALSE)","v":"CZ"},{"$f":"VLOOKUP(F2225,Soutez!A:C,3,FALSE)","v":2023},4,5785,1.0499999999999998,8808,9248,"x",null,"LS 4","PF",""]
["Edmund Schuller",null,null,"Lucenec",null,"PMČR 2023 - Klub",{"$f":"VLOOKUP(F2226,Soutez!A:B,2,FALSE)","v":"CZ"},{"$f":"VLOOKUP(F2226,Soutez!A:C,3,FALSE)","v":2023},5,5608,1.0499999999999998,8412,8833,null,null,"ASW 24","ZS","Není v databázi"]
["Petr Stepanek",{"$f":"VLOOKUP(A2227,Pilot,2,0)","v":1989},{"$f":"VLOOKUP(A2227,Pilot,5,0)","v":"M"},{"$f":"VLOOKUP(A2227,Pilot,3,0)","v":"Moravská Třebová"},{"$f":"VLOOKUP(A2227,Pilot,4,0)","v":"CZ/M"},"PMČR 2023 - Klub",{"$f":"VLOOKUP(F2227,Soutez!A:B,2,FALSE)","v":"CZ"},{"$f":"VLOOKUP(F2227,Soutez!A:C,3,FALSE)","v":2023},6,5405,1.0499999999999998,7987,8386,"x",null,"ASW-19","AE",""]
["Lukas Capek",1992,"M","Letňany","CZ/C1","PMČR 2023 - Klub",{"$f":"VLOOKUP(F2228,Soutez!A:B,2,FALSE)","v":"CZ"},{"$f":"VLOOKUP(F2228,Soutez!A:C,3,FALSE)","v":2023},7,5185,1.0499999999999998,7544,7921,"x",null,"Mosquito","LC",""]
["Jan Kovalcik",null,null,"Bratislava",null,"PMČR 2023 - Klub",{"$f":"VLOOKUP(F2229,Soutez!A:B,2,FALSE)","v":"CZ"},{"$f":"VLOOKUP(F2229,Soutez!A:C,3,FALSE)","v":2023},8,4975,1.0499999999999998,7111,7467,null,null,"ASW 20","II","Není v databázi"]
["Stepan Filakovsky",{"$f":"VLOOKUP(A2230,Pilot,2,0)","v":2005},{"$f":"VLOOKUP(A2230,Pilot,5,0)","v":"M"},{"$f":"VLOOKUP(A2230,Pilot,3,0)","v":"Medlánky"},{"$f":"VLOOKUP(A2230,Pilot,4,0)","v":"CZ/M"},"PMČR 2023 - Klub",{"$f":"VLOOKUP(F2230,Soutez!A:B,2,FALSE)","v":"CZ"},{"$f":"VLOOKUP(F2230,Soutez!A:C,3,FALSE)","v":2023},9,4947,1.0499999999999998,6880,7224,"x",null,"LS 1f","FD","Junior v roce 2024"]
["Jan Smaha",1958,"M","Česká Lípa","CZ/C2","PMČR 2023 - Klub",{"$f":"VLOOKUP(F2231,Soutez!A:B,2,FALSE)","v":"CZ"},{"$f":"VLOOKUP(F2231,Soutez!A:C,3,FALSE)","v":2023},10,4766,1.0499999999999998,6480,{"$f":"ROUND(K2231*L2231,0)","v":6804},"x",null,"ASW-15B","CW",""]
["Vojtech Vach 03",2003,"M","Nové Město nad Metují","CZ/C2","PMČR 2023 - Klub",{"$f":"VLOOKUP(F2232,Soutez!A:B,2,FALSE)","v":"CZ"},{"$f":"VLOOKUP(F2232,Soutez!A:C,3,FALSE)","v":2023},11,4592,1.0499999999999998,6087,6391,"x",null,"Std. Cirrus","YU","Junior v roce 2024"]
["Petr Masik",{"$f":"VLOOKUP(A2233,Pilot,2,0)","v":2001},{"$f":"VLOOKUP(A2233,Pilot,5,0)","v":"M"},{"$f":"VLOOKUP(A2233,Pilot,3,0)","v":"Zábřeh"},{"$f":"VLOOKUP(A2233,Pilot,4,0)","v":"CZ/M"},"PMČR 2023 - Klub",{"$f":"VLOOKUP(F2233,Soutez!A:B,2,FALSE)","v":"CZ"},{"$f":"VLOOKUP(F2233,Soutez!A:C,3,FALSE)","v":2023},12,4033,1.0499999999999998,5268,5531,"x",null,"Std. Cirrus","MJ","Junior v roce 2024"]
["Martin Stepanek",1987,"M","Moravská Třebová","CZ/M","PMČR 2023 - Klub",{"$f":"VLOOKUP(F2234,Soutez!A:B,2,FALSE)","v":"CZ"},{"$f":"VLOOKUP(F2234,Soutez!A:C,3,FALSE)","v":2023},13,3768,1.0499999999999998,4774,5013,"x",null,"ASW-15B","LE",""]
["Pavlina Horackova",1965,"F","Šumperk","CZ/M","PMČR 2023 - Klub",{"$f":"VLOOKUP(F2235,Soutez!A:B,2,FALSE)","v":"CZ"},{"$f":"VLOOKUP(F2235,Soutez!A:C,3,FALSE)","v":2023},14,3450,1.0499999999999998,4222,4433,"x","x","Jantar std. 2","SU",""]
["Fabian Curda",2004,"M","Zábřeh","CZ/M","PMČR 2023 - Klub",{"$f":"VLOOKUP(F2236,Soutez!A:B,2,FALSE)","v":"CZ"},{"$f":"VLOOKUP(F2236,Soutez!A:C,3,FALSE)","v":2023},15,3150,1.0499999999999998,3689,3873,"x",null,"DG-300","U7","Junior v roce 2024"]
["Adam Hepal",2004,"M","Moravská Třebová","CZ/M","PMČR 2023 - Klub",{"$f":"VLOOKUP(F2237,Soutez!A:B,2,FALSE)","v":"CZ"},{"$f":"VLOOKUP(F2237,Soutez!A:C,3,FALSE)","v":2023},16,2991,1.0499999999999998,3313,3479,"x",null,"ASW-19B","NO","Junior v roce 2024"]
["Jan Pavlik",{"$f":"VLOOKUP(A2238,Pilot,2,0)","v":1987},{"$f":"VLOOKUP(A2238,Pilot,5,0)","v":"M"},{"$f":"VLOOKUP(A2238,Pilot,3,0)","v":"Křižanov"},{"$f":"VLOOKUP(A2238,Pilot,4,0)","v":"CZ/M"},"PMČR 2023 - Kombi 15m",{"$f":"VLOOKUP(F2238,Soutez!A:B,2,FALSE)","v":"CZ"},{"$f":"VLOOKUP(F2238,Soutez!A:C,3,FALSE)","v":2023},1,5231,1.0449999999999999,{"$f":"ROUND(J2238/MAX($J$2238:$J$2247)*10000*0.7+(MAX($I$2238:$I$2247)-I2238)/(MAX($I$2238:$I$2247)-1)*10000*0.3,0)","v":10000},{"$f":"ROUND(K2238*L2238,0)","v":10450},"x",null,"JS3 15m","ZE",""]
["Hana Treslova",1991,"F","Raná","CZ/C2","PMČR 2023 - Kombi 15m",{"$f":"VLOOKUP(F2239,Soutez!A:B,2,FALSE)","v":"CZ"},{"$f":"VLOOKUP(F2239,Soutez!A:C,3,FALSE)","v":2023},2,5164,1.0449999999999999,9577,{"$f":"ROUND(K2239*L2239,0)","v":10008},"x","x","Ventus 2ax","AX",""]
["Pavel Louzecky",1957,"M","Přibyslav","CZ/C2","PMČR 2023 - Kombi 15m",{"$f":"VLOOKUP(F2240,Soutez!A:B,2,FALSE)","v":"CZ"},{"$f":"VLOOKUP(F2240,Soutez!A:C,3,FALSE)","v":2023},3,5127,1.0449999999999999,9194,9608,"x",null,"LS 8","FX",""]
["Karel Novak",1993,"M","Mladá Boleslav","CZ/C1","PMČR 2023 - Kombi 15m",{"$f":"VLOOKUP(F2241,Soutez!A:B,2,FALSE)","v":"CZ"},{"$f":"VLOOKUP(F2241,Soutez!A:C,3,FALSE)","v":2023},4,5035,1.0449999999999999,8738,9131,null,null,"JS3 15m","XM",""]
["Miloslav Cink",1987,"M","Letkov","CZ/C1","PMČR 2023 - Kombi 15m",{"$f":"VLOOKUP(F2242,Soutez!A:B,2,FALSE)","v":"CZ"},{"$f":"VLOOKUP(F2242,Soutez!A:C,3,FALSE)","v":2023},5,4152,1.0449999999999999,7223,7548,null,null,"LS-8B","JB",""]
["Jiri Stepanek",1956,"M","Moravská Třebová","CZ/M","PMČR 2023 - Kombi 15m",{"$f":"VLOOKUP(F2243,Soutez!A:B,2,FALSE)","v":"CZ"},{"$f":"VLOOKUP(F2243,Soutez!A:C,3,FALSE)","v":2023},6,4041,1.0449999999999999,6741,7044,"x",null,"LS 8","JW",""]
["Jana Treslova",1963,"F","Raná","CZ/C2","PMČR 2023 - Kombi 15m",{"$f":"VLOOKUP(F2244,Soutez!A:B,2,FALSE)","v":"CZ"},{"$f":"VLOOKUP(F2244,Soutez!A:C,3,FALSE)","v":2023},7,3577,1.0449999999999999,5787,{"$f":"ROUND(K2244*L2244,0)","v":6047},null,null,"LS 8","W8",""]
["Pavel Rericha",1967,"M","Moravská Třebová","CZ/M","PMČR 2023 - Kombi 15m",{"$f":"VLOOKUP(F2245,Soutez!A:B,2,FALSE)","v":"CZ"},{"$f":"VLOOKUP(F2245,Soutez!A:C,3,FALSE)","v":2023},8,1213,1.0449999999999999,2290,2393,"x",null,"Ventus C 15m WL","MC",""]
["Dana Novakova",1965,"F","Mladá Boleslav","CZ/C1","PMČR 2023 - Kombi 15m",{"$f":"VLOOKUP(F2246,Soutez!A:B,2,FALSE)","v":"CZ"},{"$f":"VLOOKUP(F2246,Soutez!A:C,3,FALSE)","v":2023},9,1054,1.0449999999999999,1744,1822,null,null,"LS 8","ID",""]
["Jan Hrbatsch",1989,"M","Hodkovice","CZ/C2","PMČR 2023 - Kombi 15m",{"$f":"VLOOKUP(F2247,Soutez!A:B,2,FALSE)","v":"CZ"},{"$f":"VLOOKUP(F2247,Soutez!A:C,3,FALSE)","v":2023},10,102,1.0449999999999999,136,142,"x",null,"ASW 27B","MF",""]
["Radek Krejcirik",{"$f":"VLOOKUP(A2248,Pilot,2,0)","v":1991},{"$f":"VLOOKUP(A2248,Pilot,5,0)","v":"M"},{"$f":"VLOOKUP(A2248,Pilot,3,0)","v":"Hranice"},{"$f":"VLOOKUP(A2248,Pilot,4,0)","v":"CZ/M"},"PMČR 2023 - Kombi Open",{"$f":"VLOOKUP(F2248,Soutez!A:B,2,FALSE)","v":"CZ"},{"$f":"VLOOKUP(F2248,Soutez!A:C,3,FALSE)","v":2023},1,5348,1.0599999999999998,{"$f":"ROUND(J2248/MAX($J$2248:$J$2258)*10000*0.7+(MAX($I$2248:$I$2258)-I2248)/(MAX($I$2248:$I$2258)-1)*10000*0.3,0)","v":10000},{"$f":"ROUND(K2248*L2248,0)","v":10600},"x",null,"JS3 RES","Q1",""]
["Martin Hrivna",1978,"M","Zbraslavice","CZ/C1","PMČR 2023 - Kombi Open",{"$f":"VLOOKUP(F2249,Soutez!A:B,2,FALSE)","v":"CZ"},{"$f":"VLOOKUP(F2249,Soutez!A:C,3,FALSE)","v":2023},2,5243,1.0599999999999998,9563,{"$f":"ROUND(K2249*L2249,0)","v":10137},"x",null,"ASG 29 18m","NX",""]
["Radek Kucirek",1973,"M","Havlíčkův Brod","CZ/C2","PMČR 2023 - Kombi Open",{"$f":"VLOOKUP(F2250,Soutez!A:B,2,FALSE)","v":"CZ"},{"$f":"VLOOKUP(F2250,Soutez!A:C,3,FALSE)","v":2023},3,5205,1.0599999999999998,9213,9766,"x",null,"EB 28 edition 28,3","NA",""]
["Jiri Kusbach",1959,"M","Luhačovice","CZ/M","PMČR 2023 - Kombi Open",{"$f":"VLOOKUP(F2251,Soutez!A:B,2,FALSE)","v":"CZ"},{"$f":"VLOOKUP(F2251,Soutez!A:C,3,FALSE)","v":2023},4,4725,1.0599999999999998,8285,8782,"x",null,"Diana 3","B",""]
["Pavel Jiranek",1993,"M","Toužim","CZ/C1","PMČR 2023 - Kombi Open",{"$f":"VLOOKUP(F2252,Soutez!A:B,2,FALSE)","v":"CZ"},{"$f":"VLOOKUP(F2252,Soutez!A:C,3,FALSE)","v":2023},5,4559,1.0599999999999998,7767,8233,null,null,"Ventus c 17.6m","CS",""]
["Jan Boruvka",1984,"M","Jičín","CZ/C2","PMČR 2023 - Kombi Open",{"$f":"VLOOKUP(F2253,Soutez!A:B,2,FALSE)","v":"CZ"},{"$f":"VLOOKUP(F2253,Soutez!A:C,3,FALSE)","v":2023},6,4298,1.0599999999999998,7126,{"$f":"ROUND(K2253*L2253,0)","v":7554},null,null,"Ventus c 17.6m","EG",""]
["Zdenek Boruvka 86",1986,"M","Jičín","CZ/C2","PMČR 2023 - Kombi Open",{"$f":"VLOOKUP(F2254,Soutez!A:B,2,FALSE)","v":"CZ"},{"$f":"VLOOKUP(F2254,Soutez!A:C,3,FALSE)","v":2023},7,3845,1.0599999999999998,6233,6607,"x",null,"Ventus c 17,6m","VV",""]
["Lukas Benedikt",null,null,"AK Trnava",null,"PMČR 2023 - Kombi Open",{"$f":"VLOOKUP(F2255,Soutez!A:B,2,FALSE)","v":"CZ"},{"$f":"VLOOKUP(F2255,Soutez!A:C,3,FALSE)","v":2023},8,3270,1.0599999999999998,5180,5491,null,null,"Ventus 3f 18m","LB","Není v databázi"]
["Dusan Gadas",{"$f":"VLOOKUP(A2256,Pilot,2,0)","v":1960},{"$f":"VLOOKUP(A2256,Pilot,5,0)","v":"M"},{"$f":"VLOOKUP(A2256,Pilot,3,0)","v":"Hranice"},{"$f":"VLOOKUP(A2256,Pilot,4,0)","v":"CZ/M"},"PMČR 2023 - Kombi Open",{"$f":"VLOOKUP(F2256,Soutez!A:B,2,FALSE)","v":"CZ"},{"$f":"VLOOKUP(F2256,Soutez!A:C,3,FALSE)","v":2023},9,3242,1.0599999999999998,4843,5134,"x",null,"Nimbus 4DM","XXL",""]
["Radek Zima 78",1978,"M","Hodkovice","CZ/C2","PMČR 2023 - Kombi Open",{"$f":"VLOOKUP(F2257,Soutez!A:B,2,FALSE)","v":"CZ"},{"$f":"VLOOKUP(F2257,Soutez!A:C,3,FALSE)","v":2023},10,3200,1.0599999999999998,4488,4757,null,null,"ASG 29E","XZ",""]
["Antonin Kutalek",{"$f":"VLOOKUP(A2258,Pilot,2,0)","v":1943},{"$f":"VLOOKUP(A2258,Pilot,5,0)","v":"M"},{"$f":"VLOOKUP(A2258,Pilot,3,0)","v":"Zábřeh"},{"$f":"VLOOKUP(A2258,Pilot,4,0)","v":"CZ/M"},"PMČR 2023 - Kombi Open",{"$f":"VLOOKUP(F2258,Soutez!A:B,2,FALSE)","v":"CZ"},{"$f":"VLOOKUP(F2258,Soutez!A:C,3,FALSE)","v":2023},11,2100,1.0599999999999998,2749,2914,null,null,"LAK 17AT 18m WL","GL",""]
["Ferenc Tamas",null,null,"DAC 1930 (Szeged)",null,"FCC Gliding 2023 - Klub",{"$f":"VLOOKUP(F2259,Soutez!A:B,2,FALSE)","v":"SK"},{"$f":"VLOOKUP(F2259,Soutez!A:C,3,FALSE)","v":2023},1,5876,0.93500000000000005,{"$f":"ROUND(J2259/MAX($J$2259:$J$2279)*10000*0.7+(MAX($I$2259:$I$2279)-I2259)/(MAX($I$2259:$I$2279)-1)*10000*0.3,0)","v":10000},{"$f":"ROUND(K2259*L2259,0)","v":9350},null,null,"LS-3 15m WL","1A","Není v databázi"]
["Stanislaw Wujczak",null,null,"LESCZYNSKI AEROKLUB",null,"FCC Gliding 2023 - Klub",{"$f":"VLOOKUP(F2260,Soutez!A:B,2,FALSE)","v":"SK"},{"$f":"VLOOKUP(F2260,Soutez!A:C,3,FALSE)","v":2023},2,5706,0.93500000000000005,9647,{"$f":"ROUND(K2260*L2260,0)","v":9020},null,null,"Min-i Nimbus b","RX","Není v databázi"]
["Alin Simion",null,null,"Romanian Airclub",null,"FCC Gliding 2023 - Klub",{"$f":"VLOOKUP(F2261,Soutez!A:B,2,FALSE)","v":"SK"},{"$f":"VLOOKUP(F2261,Soutez!A:C,3,FALSE)","v":2023},3,5680,0.93500000000000005,9467,8852,null,null,"LS 4A WL","Y2","Není v databázi"]
["Marek Herbreder",null,null,"Aeroklub Warszawski\\Szybowcowy Szczecin",null,"FCC Gliding 2023 - Klub",{"$f":"VLOOKUP(F2262,Soutez!A:B,2,FALSE)","v":"SK"},{"$f":"VLOOKUP(F2262,Soutez!A:C,3,FALSE)","v":2023},4,5500,0.93500000000000005,9102,8510,null,null,"SZD-55 Promyk","TK","Není v databázi"]
["Martin Sabľa",null,null,"SNV",null,"FCC Gliding 2023 - Klub",{"$f":"VLOOKUP(F2263,Soutez!A:B,2,FALSE)","v":"SK"},{"$f":"VLOOKUP(F2263,Soutez!A:C,3,FALSE)","v":2023},5,5425,0.93500000000000005,8863,8287,null,null,"Discus b",70,"Není v databázi"]
["Slavomir Piskaty 84",{"$f":"VLOOKUP(A2264,Pilot,2,0)","v":1984},{"$f":"VLOOKUP(A2264,Pilot,5,0)","v":"M"},{"$f":"VLOOKUP(A2264,Pilot,3,0)","v":"Kunovice"},{"$f":"VLOOKUP(A2264,Pilot,4,0)","v":"CZ/M"},"FCC Gliding 2023 - Klub",{"$f":"VLOOKUP(F2264,Soutez!A:B,2,FALSE)","v":"SK"},{"$f":"VLOOKUP(F2264,Soutez!A:C,3,FALSE)","v":2023},6,5424,0.93500000000000005,8712,8146,"x",null,"Discus b WL","KAL",""]
["Mariusz Rachwal",null,null,"Ziemi Zamojskiej",null,"FCC Gliding 2023 - Klub",{"$f":"VLOOKUP(F2265,Soutez!A:B,2,FALSE)","v":"SK"},{"$f":"VLOOKUP(F2265,Soutez!A:C,3,FALSE)","v":2023},7,5367,0.93500000000000005,8494,7942,null,null,"Mini Nimbus HS 7","VI","Není v databázi"]
["Petra Piskata",{"$f":"VLOOKUP(A2266,Pilot,2,0)","v":1989},{"$f":"VLOOKUP(A2266,Pilot,5,0)","v":"F"},{"$f":"VLOOKUP(A2266,Pilot,3,0)","v":"Luhačovice"},{"$f":"VLOOKUP(A2266,Pilot,4,0)","v":"CZ/M"},"FCC Gliding 2023 - Klub",{"$f":"VLOOKUP(F2266,Soutez!A:B,2,FALSE)","v":"SK"},{"$f":"VLOOKUP(F2266,Soutez!A:C,3,FALSE)","v":2023},8,5351,0.93500000000000005,8325,7784,"x","x","asw20L","CX",""]
["Tudor Bajenaru",null,null,"Aeroclubul Romaniei",null,"FCC Gliding 2023 - Klub",{"$f":"VLOOKUP(F2267,Soutez!A:B,2,FALSE)","v":"SK"},{"$f":"VLOOKUP(F2267,Soutez!A:C,3,FALSE)","v":2023},9,5184,0.93500000000000005,7976,7458,null,null,"LS 4 WL","8M","Není v databázi"]
["Ryszard Pachla",null,null,"Czestochowski",null,"FCC Gliding 2023 - Klub",{"$f":"VLOOKUP(F2268,Soutez!A:B,2,FALSE)","v":"SK"},{"$f":"VLOOKUP(F2268,Soutez!A:C,3,FALSE)","v":2023},10,5142,0.93500000000000005,7776,7271,null,null,"SZD-48 Jantar std. 2 WL","L","Není v databázi"]
["Lukasz Florkowski",null,null,"Ostrowski",null,"FCC Gliding 2023 - Klub",{"$f":"VLOOKUP(F2269,Soutez!A:B,2,FALSE)","v":"SK"},{"$f":"VLOOKUP(F2269,Soutez!A:C,3,FALSE)","v":2023},11,5129,0.93500000000000005,7610,7115,null,null,"SZD-41A Jantar std.","ZSI","Není v databázi"]
["Attila Korom",null,null,"HUN",null,"FCC Gliding 2023 - Klub",{"$f":"VLOOKUP(F2270,Soutez!A:B,2,FALSE)","v":"SK"},{"$f":"VLOOKUP(F2270,Soutez!A:C,3,FALSE)","v":2023},12,4969,0.93500000000000005,7270,6797,null,null,"ASW20","MC","Není v databázi"]
["Wojciech Kubiak",null,null,"Aeroklub Krakowski",null,"FCC Gliding 2023 - Klub",{"$f":"VLOOKUP(F2271,Soutez!A:B,2,FALSE)","v":"SK"},{"$f":"VLOOKUP(F2271,Soutez!A:C,3,FALSE)","v":2023},13,4874,0.93500000000000005,7006,6551,null,null,"SZD-55","W07","Není v databázi"]
["Peter Gonczi",null,null,"Malév",null,"FCC Gliding 2023 - Klub",{"$f":"VLOOKUP(F2272,Soutez!A:B,2,FALSE)","v":"SK"},{"$f":"VLOOKUP(F2272,Soutez!A:C,3,FALSE)","v":2023},14,4554,0.93500000000000005,6475,6054,null,null,"Janus C (FG)","DD","Není v databázi"]
["Andrzej Ogonowski",null,null,"Aeroclub Nadwislanski",null,"FCC Gliding 2023 - Klub",{"$f":"VLOOKUP(F2273,Soutez!A:B,2,FALSE)","v":"SK"},{"$f":"VLOOKUP(F2273,Soutez!A:C,3,FALSE)","v":2023},15,4552,0.93500000000000005,6323,{"$f":"ROUND(K2273*L2273,0)","v":5912},null,null,"LS-4","OG","Není v databázi"]
["Aleksandar Diklic",null,null,"Zrenjanin",null,"FCC Gliding 2023 - Klub",{"$f":"VLOOKUP(F2274,Soutez!A:B,2,FALSE)","v":"SK"},{"$f":"VLOOKUP(F2274,Soutez!A:C,3,FALSE)","v":2023},16,3496,0.93500000000000005,4915,4596,null,null,"DG-100",30,"Není v databázi"]
["Christoph Matkowski",null,null,"Gliwice",null,"FCC Gliding 2023 - Klub",{"$f":"VLOOKUP(F2275,Soutez!A:B,2,FALSE)","v":"SK"},{"$f":"VLOOKUP(F2275,Soutez!A:C,3,FALSE)","v":2023},17,3459,0.93500000000000005,4721,4414,null,null,"LAK 17B mini FES","MA","Není v databázi"]
["Lubomir Doupal",{"$f":"VLOOKUP(A2276,Pilot,2,0)","v":1975},{"$f":"VLOOKUP(A2276,Pilot,5,0)","v":"M"},{"$f":"VLOOKUP(A2276,Pilot,3,0)","v":"Kroměříž"},{"$f":"VLOOKUP(A2276,Pilot,4,0)","v":"CZ/M"},"FCC Gliding 2023 - Klub",{"$f":"VLOOKUP(F2276,Soutez!A:B,2,FALSE)","v":"SK"},{"$f":"VLOOKUP(F2276,Soutez!A:C,3,FALSE)","v":2023},18,3359,0.93500000000000005,4452,4163,"x",null,"ASW 24 E WL","LU",""]
["Jerzy Mikołajczyk",null,null,"AZM",null,"FCC Gliding 2023 - Klub",{"$f":"VLOOKUP(F2277,Soutez!A:B,2,FALSE)","v":"SK"},{"$f":"VLOOKUP(F2277,Soutez!A:C,3,FALSE)","v":2023},19,3357,0.93500000000000005,4299,4020,null,null,"LS-4","YL","Není v databázi"]
["Péter Kassai",null,null,"MALÉV",null,"FCC Gliding 2023 - Klub",{"$f":"VLOOKUP(F2278,Soutez!A:B,2,FALSE)","v":"SK"},{"$f":"VLOOKUP(F2278,Soutez!A:C,3,FALSE)","v":2023},20,727,{"$f":"VLOOKUP(F2278,Soutez,12,0)","v":0.93500000000000005},1016,950,null,null,"Discus b WL","7W","Není v databázi"]
["Ryszard Bendkowski",null,null,"Warszawa",null,"FCC Gliding 2023 - Klub",{"$f":"VLOOKUP(F2279,Soutez!A:B,2,FALSE)","v":"SK"},{"$f":"VLOOKUP(F2279,Soutez!A:C,3,FALSE)","v":2023},21,477,0.93500000000000005,568,531,null,null,"SZD-48 Jantar Std. 2","Filip","Není v databázi"]
["Sebastian Kawa",null,null,"Bialsko Biala",null,"FCC Gliding 2023 - Kombi 15m",{"$f":"VLOOKUP(F2280,Soutez!A:B,2,FALSE)","v":"SK"},{"$f":"VLOOKUP(F2280,Soutez!A:C,3,FALSE)","v":2023},1,5749,0.9850000000000001,{"$f":"ROUND(J2280/MAX($J$2280:$J$2310)*10000*0.7+(MAX($I$2280:$I$2310)-I2280)/(MAX($I$2280:$I$2310)-1)*10000*0.3,0)","v":10000},{"$f":"ROUND(K2280*L2280,0)","v":9850},null,null,"Diana 2 FES","GSS","Není v databázi"]
["Maximilian SEIS",null,null,"Polé France/AAA Bordeaux / AAVA Vinon sur Verdon",null,"FCC Gliding 2023 - Kombi 15m",{"$f":"VLOOKUP(F2281,Soutez!A:B,2,FALSE)","v":"SK"},{"$f":"VLOOKUP(F2281,Soutez!A:C,3,FALSE)","v":2023},2,5662,0.9850000000000001,9794,{"$f":"ROUND(K2281*L2281,0)","v":9647},null,null,"Discus 2a 15m","ET",{"$f":"IF(ISERROR(VLOOKUP(A2281,Pilot,6,0)),\"Není v databázi\",VLOOKUP(A2281,Pilot,6,0))","v":"Není v databázi"}]
["Barbora Moravcova",{"$f":"VLOOKUP(A2282,Pilot,2,0)","v":1994},{"$f":"VLOOKUP(A2282,Pilot,5,0)","v":"F"},{"$f":"VLOOKUP(A2282,Pilot,3,0)","v":"Zbraslavice"},{"$f":"VLOOKUP(A2282,Pilot,4,0)","v":"CZ/C1"},"FCC Gliding 2023 - Kombi 15m",{"$f":"VLOOKUP(F2282,Soutez!A:B,2,FALSE)","v":"SK"},{"$f":"VLOOKUP(F2282,Soutez!A:C,3,FALSE)","v":2023},3,5602,0.9850000000000001,9621,9477,"x","x","LS-8 15m","JB",""]
["Julien Duboc",null,null,"Polé France,TGV Condom",null,"FCC Gliding 2023 - Kombi 15m",{"$f":"VLOOKUP(F2283,Soutez!A:B,2,FALSE)","v":"SK"},{"$f":"VLOOKUP(F2283,Soutez!A:C,3,FALSE)","v":2023},4,5556,0.9850000000000001,9465,9323,null,null,"Discus 2a 15m","JPA","Není v databázi"]
["Victor-Alex POP",null,null,"ROMANIAN AIRCLUB",null,"FCC Gliding 2023 - Kombi 15m",{"$f":"VLOOKUP(F2284,Soutez!A:B,2,FALSE)","v":"SK"},{"$f":"VLOOKUP(F2284,Soutez!A:C,3,FALSE)","v":2023},5,5504,0.9850000000000001,9302,9162,null,null,"Discus 2a 15m","YB","Není v databázi"]
["Jana Treslova",{"$f":"VLOOKUP(A2285,Pilot,2,0)","v":1963},{"$f":"VLOOKUP(A2285,Pilot,5,0)","v":"F"},{"$f":"VLOOKUP(A2285,Pilot,3,0)","v":"Raná"},{"$f":"VLOOKUP(A2285,Pilot,4,0)","v":"CZ/C2"},"FCC Gliding 2023 - Kombi 15m",{"$f":"VLOOKUP(F2285,Soutez!A:B,2,FALSE)","v":"SK"},{"$f":"VLOOKUP(F2285,Soutez!A:C,3,FALSE)","v":2023},6,5500,0.9850000000000001,9197,9059,"x","x","LS-8 15m","W8",""]
["Aurélien Doriat",null,null,"ACP Poitiers",null,"FCC Gliding 2023 - Kombi 15m",{"$f":"VLOOKUP(F2286,Soutez!A:B,2,FALSE)","v":"SK"},{"$f":"VLOOKUP(F2286,Soutez!A:C,3,FALSE)","v":2023},7,5499,0.9850000000000001,9096,8960,null,null,"LS-8 15m","P1","Není v databázi"]
["Adam Woolley",null,null,"Kingaroy Soaring Club",null,"FCC Gliding 2023 - Kombi 15m",{"$f":"VLOOKUP(F2287,Soutez!A:B,2,FALSE)","v":"SK"},{"$f":"VLOOKUP(F2287,Soutez!A:C,3,FALSE)","v":2023},8,5491,0.9850000000000001,8986,8851,null,null,"Discus 2ax 15m","GX","Není v databázi"]
["Dana Novakova",{"$f":"VLOOKUP(A2288,Pilot,2,0)","v":1965},{"$f":"VLOOKUP(A2288,Pilot,5,0)","v":"F"},{"$f":"VLOOKUP(A2288,Pilot,3,0)","v":"Mladá Boleslav"},{"$f":"VLOOKUP(A2288,Pilot,4,0)","v":"CZ/C1"},"FCC Gliding 2023 - Kombi 15m",{"$f":"VLOOKUP(F2288,Soutez!A:B,2,FALSE)","v":"SK"},{"$f":"VLOOKUP(F2288,Soutez!A:C,3,FALSE)","v":2023},9,5480,0.9850000000000001,8872,8739,"x","x","LS-8 15m","ID",""]
["Pavel Louzecky",1957,"M","Přibyslav","CZ/C2","FCC Gliding 2023 - Kombi 15m",{"$f":"VLOOKUP(F2289,Soutez!A:B,2,FALSE)","v":"SK"},{"$f":"VLOOKUP(F2289,Soutez!A:C,3,FALSE)","v":2023},10,5453,0.9850000000000001,8740,8609,null,null,"LS-8 15m","FX",""]
["Maros Divok",null,null,"Spišská Nová Ves",null,"FCC Gliding 2023 - Kombi 15m",{"$f":"VLOOKUP(F2290,Soutez!A:B,2,FALSE)","v":"SK"},{"$f":"VLOOKUP(F2290,Soutez!A:C,3,FALSE)","v":2023},11,5442,0.9850000000000001,8626,8497,null,null,"DuoDiscus XT","SNV","Není v databázi"]
["Kévin Faur",null,null,"Aeroclub de l\\'Ariege",null,"FCC Gliding 2023 - Kombi 15m",{"$f":"VLOOKUP(F2291,Soutez!A:B,2,FALSE)","v":"SK"},{"$f":"VLOOKUP(F2291,Soutez!A:C,3,FALSE)","v":2023},12,5422,0.9850000000000001,8502,8374,null,null,"Ventus 2a 15m","1R","Není v databázi"]
["Lukasz Blaszczyk",null,null,"Ostrow",null,"FCC Gliding 2023 - Kombi 15m",{"$f":"VLOOKUP(F2292,Soutez!A:B,2,FALSE)","v":"SK"},{"$f":"VLOOKUP(F2292,Soutez!A:C,3,FALSE)","v":2023},13,5405,0.9850000000000001,8381,8255,null,null,"Discus 2a 15m","I","Není v databázi"]
["Miloslav Cink",{"$f":"VLOOKUP(A2293,Pilot,2,0)","v":1987},{"$f":"VLOOKUP(A2293,Pilot,5,0)","v":"M"},{"$f":"VLOOKUP(A2293,Pilot,3,0)","v":"Letkov"},{"$f":"VLOOKUP(A2293,Pilot,4,0)","v":"CZ/C1"},"FCC Gliding 2023 - Kombi 15m",{"$f":"VLOOKUP(F2293,Soutez!A:B,2,FALSE)","v":"SK"},{"$f":"VLOOKUP(F2293,Soutez!A:C,3,FALSE)","v":2023},14,5377,0.9850000000000001,8247,8123,null,null,"LS-8a 15m","EU",""]
["Piotr Jarysz",null,null,"Aeroklub Leszczyński",null,"FCC Gliding 2023 - Kombi 15m",{"$f":"VLOOKUP(F2294,Soutez!A:B,2,FALSE)","v":"SK"},{"$f":"VLOOKUP(F2294,Soutez!A:C,3,FALSE)","v":2023},15,5176,0.9850000000000001,7902,7783,null,null,"LS-6a 15m","BB","Není v databázi"]
["Adam Czeladzki",null,null,"Warszawski",null,"FCC Gliding 2023 - Kombi 15m",{"$f":"VLOOKUP(F2295,Soutez!A:B,2,FALSE)","v":"SK"},{"$f":"VLOOKUP(F2295,Soutez!A:C,3,FALSE)","v":2023},16,5153,0.9850000000000001,7774,7657,null,null,"Duo Discus XLT","POL","Není v databázi"]
["Arturas Klimasauskas",null,null,"Pociunai",null,"FCC Gliding 2023 - Kombi 15m",{"$f":"VLOOKUP(F2296,Soutez!A:B,2,FALSE)","v":"SK"},{"$f":"VLOOKUP(F2296,Soutez!A:C,3,FALSE)","v":2023},17,5124,0.9850000000000001,7639,7524,null,null,"Ventus 2b 15m","BX","Není v databázi"]
["Pavel Trojan",{"$f":"VLOOKUP(A2297,Pilot,2,0)","v":1960},{"$f":"VLOOKUP(A2297,Pilot,5,0)","v":"M"},{"$f":"VLOOKUP(A2297,Pilot,3,0)","v":"Chrudim"},{"$f":"VLOOKUP(A2297,Pilot,4,0)","v":"CZ/C2"},"FCC Gliding 2023 - Kombi 15m",{"$f":"VLOOKUP(F2297,Soutez!A:B,2,FALSE)","v":"SK"},{"$f":"VLOOKUP(F2297,Soutez!A:C,3,FALSE)","v":2023},18,4955,0.9850000000000001,7333,7223,"x",null,"Duo Discus T -700kg","ZS",""]
["Theo MANFREDI",null,null,"AAVO Chérence",null,"FCC Gliding 2023 - Kombi 15m",{"$f":"VLOOKUP(F2298,Soutez!A:B,2,FALSE)","v":"SK"},{"$f":"VLOOKUP(F2298,Soutez!A:C,3,FALSE)","v":2023},19,4834,0.9850000000000001,7086,6980,null,null,"LAK 17A 15m WL","LE","Není v databázi"]
["Norbert Scarlat",null,null,"Romanian Airclub",null,"FCC Gliding 2023 - Kombi 15m",{"$f":"VLOOKUP(F2299,Soutez!A:B,2,FALSE)","v":"SK"},{"$f":"VLOOKUP(F2299,Soutez!A:C,3,FALSE)","v":2023},20,4785,0.9850000000000001,6926,{"$f":"ROUND(K2299*L2299,0)","v":6822},null,null,"Discus 2a 15m","Y1","Není v databázi"]
["Jan Ratz",{"$f":"VLOOKUP(A2300,Pilot,2,0)","v":1987},{"$f":"VLOOKUP(A2300,Pilot,5,0)","v":"M"},{"$f":"VLOOKUP(A2300,Pilot,3,0)","v":"Zbraslavice"},{"$f":"VLOOKUP(A2300,Pilot,4,0)","v":"CZ/C1"},"FCC Gliding 2023 - Kombi 15m",{"$f":"VLOOKUP(F2300,Soutez!A:B,2,FALSE)","v":"SK"},{"$f":"VLOOKUP(F2300,Soutez!A:C,3,FALSE)","v":2023},21,4734,0.9850000000000001,6764,6663,null,null,"LS-8 15m","AU",""]
["Ionut Tudor",null,null,"Romanian Airclub",null,"FCC Gliding 2023 - Kombi 15m",{"$f":"VLOOKUP(F2301,Soutez!A:B,2,FALSE)","v":"SK"},{"$f":"VLOOKUP(F2301,Soutez!A:C,3,FALSE)","v":2023},22,4720,0.9850000000000001,6647,6547,null,null,"Discus 2a","YA","Není v databázi"]
["Maciej Walasek",null,null,"Aeroklub Krakowski",null,"FCC Gliding 2023 - Kombi 15m",{"$f":"VLOOKUP(F2302,Soutez!A:B,2,FALSE)","v":"SK"},{"$f":"VLOOKUP(F2302,Soutez!A:C,3,FALSE)","v":2023},23,4645,0.9850000000000001,6456,6359,null,null,"LS-6c 15m","KK","Není v databázi"]
["Slavomir Valecko",{"$f":"VLOOKUP(A2303,Pilot,2,0)","v":1960},{"$f":"VLOOKUP(A2303,Pilot,5,0)","v":"M"},{"$f":"VLOOKUP(A2303,Pilot,3,0)","v":"Hranice"},{"$f":"VLOOKUP(A2303,Pilot,4,0)","v":"CZ/M"},"FCC Gliding 2023 - Kombi 15m",{"$f":"VLOOKUP(F2303,Soutez!A:B,2,FALSE)","v":"SK"},{"$f":"VLOOKUP(F2303,Soutez!A:C,3,FALSE)","v":2023},24,4465,0.9850000000000001,6137,6045,"x",null,"Discus b WL","IYB",""]
["Dariusz Czech",null,null,"Stalowowolski",null,"FCC Gliding 2023 - Kombi 15m",{"$f":"VLOOKUP(F2304,Soutez!A:B,2,FALSE)","v":"SK"},{"$f":"VLOOKUP(F2304,Soutez!A:C,3,FALSE)","v":2023},25,4261,0.9850000000000001,5788,5701,null,null,"LAK 19 15m WL","DC","Není v databázi"]
["Wojciech Domanski",null,null,"PL/KSS/Nowy Targ",null,"FCC Gliding 2023 - Kombi 15m",{"$f":"VLOOKUP(F2305,Soutez!A:B,2,FALSE)","v":"SK"},{"$f":"VLOOKUP(F2305,Soutez!A:C,3,FALSE)","v":2023},26,4169,0.9850000000000001,5576,5492,null,null,"Ventus 2a 15m","PE","Není v databázi"]
["Joanna Biedermann",null,null,"Aeroclub Nadwislanski",null,"FCC Gliding 2023 - Kombi 15m",{"$f":"VLOOKUP(F2306,Soutez!A:B,2,FALSE)","v":"SK"},{"$f":"VLOOKUP(F2306,Soutez!A:C,3,FALSE)","v":2023},27,4095,0.9850000000000001,5386,5305,null,null,"Discus 2a 15m","Y","Není v databázi"]
["Pawel Frackowiak",null,null,"Aeroklub Poznanski",null,"FCC Gliding 2023 - Kombi 15m",{"$f":"VLOOKUP(F2307,Soutez!A:B,2,FALSE)","v":"SK"},{"$f":"VLOOKUP(F2307,Soutez!A:C,3,FALSE)","v":2023},28,3931,0.9850000000000001,5086,5010,null,null,"LAK 17B FES 15m -525 kg",77,"Není v databázi"]
["Benedikt Laho",null,null,"Trnava",null,"FCC Gliding 2023 - Kombi 15m",{"$f":"VLOOKUP(F2308,Soutez!A:B,2,FALSE)","v":"SK"},{"$f":"VLOOKUP(F2308,Soutez!A:C,3,FALSE)","v":2023},29,3706,0.9850000000000001,4712,4641,null,null,"Discus 2cT 15m","JH","Není v databázi"]
["Konrad Jaczkowski",null,null,"Czestochowski",null,"FCC Gliding 2023 - Kombi 15m",{"$f":"VLOOKUP(F2309,Soutez!A:B,2,FALSE)","v":"SK"},{"$f":"VLOOKUP(F2309,Soutez!A:C,3,FALSE)","v":2023},30,3656,0.9850000000000001,4552,4484,null,null,"Ventus 2b 15m","CB","Není v databázi"]
["Andrzej SZCZERBA",null,null,"WARSZAWSKI",null,"FCC Gliding 2023 - Kombi 15m",{"$f":"VLOOKUP(F2310,Soutez!A:B,2,FALSE)","v":"SK"},{"$f":"VLOOKUP(F2310,Soutez!A:C,3,FALSE)","v":2023},31,3302,0.9850000000000001,4021,{"$f":"ROUND(K2310*L2310,0)","v":3961},null,null,"SZD-56-2 Diana-2 FES","AI","Není v databázi"]
["David Mach",{"$f":"VLOOKUP(A2311,Pilot,2,0)","v":1994},{"$f":"VLOOKUP(A2311,Pilot,5,0)","v":"M"},{"$f":"VLOOKUP(A2311,Pilot,3,0)","v":"Hronov"},{"$f":"VLOOKUP(A2311,Pilot,4,0)","v":"CZ/C2"},"FCC Gliding 2023 - Kombi Open",{"$f":"VLOOKUP(F2311,Soutez!A:B,2,FALSE)","v":"SK"},{"$f":"VLOOKUP(F2311,Soutez!A:C,3,FALSE)","v":2023},1,5781,0.95500000000000007,{"$f":"ROUND(J2311/MAX($J$2311:$J$2350)*10000*0.7+(MAX($I$2311:$I$2350)-I2311)/(MAX($I$2311:$I$2350)-1)*10000*0.3,0)","v":10000},{"$f":"ROUND(K2311*L2311,0)","v":9550},"x",null,"JS1-C 18 m","ZF",""]
["Karol Staryszak",null,null,"Nadwislamski",null,"FCC Gliding 2023 - Kombi Open",{"$f":"VLOOKUP(F2312,Soutez!A:B,2,FALSE)","v":"SK"},{"$f":"VLOOKUP(F2312,Soutez!A:C,3,FALSE)","v":2023},2,5736,0.95500000000000007,9869,{"$f":"ROUND(K2312*L2312,0)","v":9425},null,null,"ASG 29E 18m","PES","Není v databázi"]
["Andre Weidlich",null,null,"LSV Ruhr-Lenne Iserlohn",null,"FCC Gliding 2023 - Kombi Open",{"$f":"VLOOKUP(F2313,Soutez!A:B,2,FALSE)","v":"SK"},{"$f":"VLOOKUP(F2313,Soutez!A:C,3,FALSE)","v":2023},3,5708,0.95500000000000007,9758,9319,null,null,"Ventus 3M 18m","TE","Není v databázi"]
["Andreas Kessler",null,null,"Romanian Airclub",null,"FCC Gliding 2023 - Kombi Open",{"$f":"VLOOKUP(F2314,Soutez!A:B,2,FALSE)","v":"SK"},{"$f":"VLOOKUP(F2314,Soutez!A:C,3,FALSE)","v":2023},4,5690,0.95500000000000007,9659,9224,null,null,"ASG-32 Mi-800 kg","AK","Není v databázi"]
["Petr Krejcirik",{"$f":"VLOOKUP(A2315,Pilot,2,0)","v":1960},{"$f":"VLOOKUP(A2315,Pilot,5,0)","v":"M"},{"$f":"VLOOKUP(A2315,Pilot,3,0)","v":"Hranice"},{"$f":"VLOOKUP(A2315,Pilot,4,0)","v":"CZ/M"},"FCC Gliding 2023 - Kombi Open",{"$f":"VLOOKUP(F2315,Soutez!A:B,2,FALSE)","v":"SK"},{"$f":"VLOOKUP(F2315,Soutez!A:C,3,FALSE)","v":2023},5,5646,0.95500000000000007,9529,9100,"x",null,"JS3 TJ 18m","VB",""]
["Bernd Goretzki",null,null,"LSV Rinteln",null,"FCC Gliding 2023 - Kombi Open",{"$f":"VLOOKUP(F2316,Soutez!A:B,2,FALSE)","v":"SK"},{"$f":"VLOOKUP(F2316,Soutez!A:C,3,FALSE)","v":2023},6,5605,0.95500000000000007,9402,8979,null,null,"Ventus 3M 18m","C8","Není v databázi"]
["Zdislaw Bednarczuk",null,null,"Bielsko-Biala",null,"FCC Gliding 2023 - Kombi Open",{"$f":"VLOOKUP(F2317,Soutez!A:B,2,FALSE)","v":"SK"},{"$f":"VLOOKUP(F2317,Soutez!A:C,3,FALSE)","v":2023},7,5604,0.95500000000000007,9324,8904,null,null,"Js3 MD","ZB","Není v databázi"]
["Radek Krejcirik",{"$f":"VLOOKUP(A2318,Pilot,2,0)","v":1991},{"$f":"VLOOKUP(A2318,Pilot,5,0)","v":"M"},{"$f":"VLOOKUP(A2318,Pilot,3,0)","v":"Hranice"},{"$f":"VLOOKUP(A2318,Pilot,4,0)","v":"CZ/M"},"FCC Gliding 2023 - Kombi Open",{"$f":"VLOOKUP(F2318,Soutez!A:B,2,FALSE)","v":"SK"},{"$f":"VLOOKUP(F2318,Soutez!A:C,3,FALSE)","v":2023},8,5586,0.95500000000000007,9225,8810,null,null,"AS 33 Es",12,""]
["Andy Smielkiewicz",null,null,"Leszno",null,"FCC Gliding 2023 - Kombi Open",{"$f":"VLOOKUP(F2319,Soutez!A:B,2,FALSE)","v":"SK"},{"$f":"VLOOKUP(F2319,Soutez!A:C,3,FALSE)","v":2023},9,5566,0.95500000000000007,9124,8713,null,null,"ASG 29E 18m","A2","Není v databázi"]
["Tomasz Dul",null,null,"LSV Dinslaken",null,"FCC Gliding 2023 - Kombi Open",{"$f":"VLOOKUP(F2320,Soutez!A:B,2,FALSE)","v":"SK"},{"$f":"VLOOKUP(F2320,Soutez!A:C,3,FALSE)","v":2023},9,5566,0.95500000000000007,9124,8713,null,null,"JS3 MD","TO","Není v databázi"]
["Arkadiusz Downar",null,null,"Warminsko Mazurski",null,"FCC Gliding 2023 - Kombi Open",{"$f":"VLOOKUP(F2321,Soutez!A:B,2,FALSE)","v":"SK"},{"$f":"VLOOKUP(F2321,Soutez!A:C,3,FALSE)","v":2023},11,5487,0.95500000000000007,8875,8476,null,null,"ASG 29E 18m","PL","Není v databázi"]
["Jiri Kusbach",{"$f":"VLOOKUP(A2322,Pilot,2,0)","v":1959},{"$f":"VLOOKUP(A2322,Pilot,5,0)","v":"M"},{"$f":"VLOOKUP(A2322,Pilot,3,0)","v":"Luhačovice"},{"$f":"VLOOKUP(A2322,Pilot,4,0)","v":"CZ/M"},"FCC Gliding 2023 - Kombi Open",{"$f":"VLOOKUP(F2322,Soutez!A:B,2,FALSE)","v":"SK"},{"$f":"VLOOKUP(F2322,Soutez!A:C,3,FALSE)","v":2023},12,5480,0.95500000000000007,8789,8393,null,null,"Diana 3 FES","B",""]
["Lukasz Kornacki",null,null,"Aeroklub Ziemi Mazowieckiej",null,"FCC Gliding 2023 - Kombi Open",{"$f":"VLOOKUP(F2323,Soutez!A:B,2,FALSE)","v":"SK"},{"$f":"VLOOKUP(F2323,Soutez!A:C,3,FALSE)","v":2023},13,5380,0.95500000000000007,8591,8204,null,null,"ASG 29E 18m","HBI","Není v databázi"]
["Leszek Staryszak",null,null,"Aeroklub Warszawski",null,"FCC Gliding 2023 - Kombi Open",{"$f":"VLOOKUP(F2324,Soutez!A:B,2,FALSE)","v":"SK"},{"$f":"VLOOKUP(F2324,Soutez!A:C,3,FALSE)","v":2023},14,5305,0.95500000000000007,8424,8045,null,null,"ASG 29E 18m","BG","Není v databázi"]
["Petr Panek",{"$f":"VLOOKUP(A2325,Pilot,2,0)","v":1975},{"$f":"VLOOKUP(A2325,Pilot,5,0)","v":"M"},{"$f":"VLOOKUP(A2325,Pilot,3,0)","v":"Dvůr Králové"},{"$f":"VLOOKUP(A2325,Pilot,4,0)","v":"CZ/C2"},"FCC Gliding 2023 - Kombi Open",{"$f":"VLOOKUP(F2325,Soutez!A:B,2,FALSE)","v":"SK"},{"$f":"VLOOKUP(F2325,Soutez!A:C,3,FALSE)","v":2023},15,5290,0.95500000000000007,8329,7954,"x",null,"JS-1bTJ EVO","IGC",""]
["Marek Sawczuk",null,null,"Aeroklub Warszawski",null,"FCC Gliding 2023 - Kombi Open",{"$f":"VLOOKUP(F2326,Soutez!A:B,2,FALSE)","v":"SK"},{"$f":"VLOOKUP(F2326,Soutez!A:C,3,FALSE)","v":2023},16,5218,0.95500000000000007,8164,7797,null,null,"ASG 29E 18m","MS","Není v databázi"]
["Kornel NEGRO",null,null,"Alföldi Repülőklub",null,"FCC Gliding 2023 - Kombi Open",{"$f":"VLOOKUP(F2327,Soutez!A:B,2,FALSE)","v":"SK"},{"$f":"VLOOKUP(F2327,Soutez!A:C,3,FALSE)","v":2023},17,5172,0.95500000000000007,8032,7671,null,null,"Ventus 2ct 18m -600 kg","GE","Není v databázi"]
["Oliver Sven",null,null,"Cape Gliding Club",null,"FCC Gliding 2023 - Kombi Open",{"$f":"VLOOKUP(F2328,Soutez!A:B,2,FALSE)","v":"SK"},{"$f":"VLOOKUP(F2328,Soutez!A:C,3,FALSE)","v":2023},18,5170,0.95500000000000007,7952,7594,null,null,"ASG 29E 18m","EMI","Není v databázi"]
["Jan Divok",null,null,"Spišská Nová Ves",null,"FCC Gliding 2023 - Kombi Open",{"$f":"VLOOKUP(F2329,Soutez!A:B,2,FALSE)","v":"SK"},{"$f":"VLOOKUP(F2329,Soutez!A:C,3,FALSE)","v":2023},19,5129,0.95500000000000007,7826,7474,null,null,"Discus 2cT 18m","DJ","Není v databázi"]
["Ivan Novak",{"$f":"VLOOKUP(A2330,Pilot,2,0)","v":1962},{"$f":"VLOOKUP(A2330,Pilot,5,0)","v":"M"},{"$f":"VLOOKUP(A2330,Pilot,3,0)","v":"Mladá Boleslav"},{"$f":"VLOOKUP(A2330,Pilot,4,0)","v":"CZ/C1"},"FCC Gliding 2023 - Kombi Open",{"$f":"VLOOKUP(F2330,Soutez!A:B,2,FALSE)","v":"SK"},{"$f":"VLOOKUP(F2330,Soutez!A:C,3,FALSE)","v":2023},20,5122,0.95500000000000007,7741,7393,null,null,"ASG 29 18m","QZ",""]
["Maté Mészaros",null,null,"Aero Club Szolnok, Hungary",null,"FCC Gliding 2023 - Kombi Open",{"$f":"VLOOKUP(F2331,Soutez!A:B,2,FALSE)","v":"SK"},{"$f":"VLOOKUP(F2331,Soutez!A:C,3,FALSE)","v":2023},21,4989,0.95500000000000007,7503,7165,null,null,"Arcus T","HUX","Není v databázi"]
["Alena Netusilova",{"$f":"VLOOKUP(A2332,Pilot,2,0)","v":1970},{"$f":"VLOOKUP(A2332,Pilot,5,0)","v":"F"},{"$f":"VLOOKUP(A2332,Pilot,3,0)","v":"Zbraslavice"},{"$f":"VLOOKUP(A2332,Pilot,4,0)","v":"CZ/C1"},"FCC Gliding 2023 - Kombi Open",{"$f":"VLOOKUP(F2332,Soutez!A:B,2,FALSE)","v":"SK"},{"$f":"VLOOKUP(F2332,Soutez!A:C,3,FALSE)","v":2023},22,4952,0.95500000000000007,7381,7049,null,null,"JS3 18m","ZE",""]
["Ľubik Jakubcak",null,null,"SGC Martin",null,"FCC Gliding 2023 - Kombi Open",{"$f":"VLOOKUP(F2333,Soutez!A:B,2,FALSE)","v":"SK"},{"$f":"VLOOKUP(F2333,Soutez!A:C,3,FALSE)","v":2023},23,4951,0.95500000000000007,7303,6974,null,null,"Arcus M","CAR","Není v databázi"]
["Zsolt Osi",null,null,"G6AX,ACFH",null,"FCC Gliding 2023 - Kombi Open",{"$f":"VLOOKUP(F2334,Soutez!A:B,2,FALSE)","v":"SK"},{"$f":"VLOOKUP(F2334,Soutez!A:C,3,FALSE)","v":2023},24,4922,0.95500000000000007,7191,6867,null,null,"ASW-22BLE 27m -810 kg","BY","Není v databázi"]
["Janos Sindely",null,null,"Alfoldi Repülőklub",null,"FCC Gliding 2023 - Kombi Open",{"$f":"VLOOKUP(F2335,Soutez!A:B,2,FALSE)","v":"SK"},{"$f":"VLOOKUP(F2335,Soutez!A:C,3,FALSE)","v":2023},25,4650,0.95500000000000007,6784,6479,null,null,"JS1-C 18 m","RZ","Není v databázi"]
["Kapuy & Csonka",null,null,null,null,"FCC Gliding 2023 - Kombi Open",{"$f":"VLOOKUP(F2336,Soutez!A:B,2,FALSE)","v":"SK"},{"$f":"VLOOKUP(F2336,Soutez!A:C,3,FALSE)","v":2023},26,4490,0.95500000000000007,6514,6221,null,null,"EB-29D 28,3m","HB","Není v databázi"]
["Tomasz Chudoment",null,null,null,null,"FCC Gliding 2023 - Kombi Open",{"$f":"VLOOKUP(F2337,Soutez!A:B,2,FALSE)","v":"SK"},{"$f":"VLOOKUP(F2337,Soutez!A:C,3,FALSE)","v":2023},27,4355,0.95500000000000007,6273,5991,null,null,"ASH 25Mi 26m","L","Není v databázi"]
["Oldrich Bartonik",{"$f":"VLOOKUP(A2338,Pilot,2,0)","v":1961},{"$f":"VLOOKUP(A2338,Pilot,5,0)","v":"M"},{"$f":"VLOOKUP(A2338,Pilot,3,0)","v":"Luhačovice"},{"$f":"VLOOKUP(A2338,Pilot,4,0)","v":"CZ/M"},"FCC Gliding 2023 - Kombi Open",{"$f":"VLOOKUP(F2338,Soutez!A:B,2,FALSE)","v":"SK"},{"$f":"VLOOKUP(F2338,Soutez!A:C,3,FALSE)","v":2023},28,4152,0.95500000000000007,5951,5683,"x",null,"Diana 3 FES","D3",""]
["Andrzej Majewski",null,null,"WARMIŃSKO-MAZURSKI",null,"FCC Gliding 2023 - Kombi Open",{"$f":"VLOOKUP(F2339,Soutez!A:B,2,FALSE)","v":"SK"},{"$f":"VLOOKUP(F2339,Soutez!A:C,3,FALSE)","v":2023},29,4093,0.95500000000000007,5802,5541,null,null,"ASG 29E 18m",29,"Není v databázi"]
["Istvan Reti",null,null,"Alföldi Repülőklub",null,"FCC Gliding 2023 - Kombi Open",{"$f":"VLOOKUP(F2340,Soutez!A:B,2,FALSE)","v":"SK"},{"$f":"VLOOKUP(F2340,Soutez!A:C,3,FALSE)","v":2023},30,4071,0.95500000000000007,5699,{"$f":"ROUND(K2340*L2340,0)","v":5443},null,null,"ASG 29E 18m","IR","Není v databázi"]
["Gabriela Belakova",null,null,"Prievidza",null,"FCC Gliding 2023 - Kombi Open",{"$f":"VLOOKUP(F2341,Soutez!A:B,2,FALSE)","v":"SK"},{"$f":"VLOOKUP(F2341,Soutez!A:C,3,FALSE)","v":2023},31,3871,0.95500000000000007,5380,5138,null,null,"Ventus 3M 18m","CAT","Není v databázi"]
["Jerzy Kolasinski",null,null,"Poznań/KKGT",null,"FCC Gliding 2023 - Kombi Open",{"$f":"VLOOKUP(F2342,Soutez!A:B,2,FALSE)","v":"SK"},{"$f":"VLOOKUP(F2342,Soutez!A:C,3,FALSE)","v":2023},32,3630,{"$f":"VLOOKUP(F2342,Soutez,12,0)","v":0.95500000000000007},5011,4786,null,null,"JS-MD 3 RES 18m","KOL","Není v databázi"]
["Arkadiusz Stefańczyk",null,null,"Aeroklub Kielecki/SGT",null,"FCC Gliding 2023 - Kombi Open",{"$f":"VLOOKUP(F2343,Soutez!A:B,2,FALSE)","v":"SK"},{"$f":"VLOOKUP(F2343,Soutez!A:C,3,FALSE)","v":2023},33,3620,0.95500000000000007,4922,4701,null,null,"ASG-32 Mi-800 kg","MD","Není v databázi"]
["Lukas Benedikt",null,null,"Trnava",null,"FCC Gliding 2023 - Kombi Open",{"$f":"VLOOKUP(F2344,Soutez!A:B,2,FALSE)","v":"SK"},{"$f":"VLOOKUP(F2344,Soutez!A:C,3,FALSE)","v":2023},34,3045,0.95500000000000007,4149,3962,null,null,"Ventus 3F 18m","LB",{"$f":"IF(ISERROR(VLOOKUP(A2344,Pilot,6,0)),\"Není v databázi\",VLOOKUP(A2344,Pilot,6,0))","v":"Není v databázi"}]
["Erazem Polutnik",null,null,"Aeroclub Celje",null,"FCC Gliding 2023 - Kombi Open",{"$f":"VLOOKUP(F2345,Soutez!A:B,2,FALSE)","v":"SK"},{"$f":"VLOOKUP(F2345,Soutez!A:C,3,FALSE)","v":2023},35,2812,0.95500000000000007,3790,3619,null,null,"Ventus 3M 18m","EM","Není v databázi"]
["Botond Szabadfi",null,null,"ARK",null,"FCC Gliding 2023 - Kombi Open",{"$f":"VLOOKUP(F2346,Soutez!A:B,2,FALSE)","v":"SK"},{"$f":"VLOOKUP(F2346,Soutez!A:C,3,FALSE)","v":2023},36,2338,0.95500000000000007,3139,2998,null,null,"ASG 29E 18m","BB","Není v databázi"]
["Klaus Kalmbach",null,null,"FSV Tübingen e.V.",null,"FCC Gliding 2023 - Kombi Open",{"$f":"VLOOKUP(F2347,Soutez!A:B,2,FALSE)","v":"SK"},{"$f":"VLOOKUP(F2347,Soutez!A:C,3,FALSE)","v":2023},37,2086,0.95500000000000007,2757,2633,null,null,"JS3 TC 18m","CT","Není v databázi"]
["Jan Keher",null,null,"Prievidza",null,"FCC Gliding 2023 - Kombi Open",{"$f":"VLOOKUP(F2348,Soutez!A:B,2,FALSE)","v":"SK"},{"$f":"VLOOKUP(F2348,Soutez!A:C,3,FALSE)","v":2023},38,1386,0.95500000000000007,1832,1750,null,null,"Discus 2cT 18m","EF","Není v databázi"]
["Dariusz Pietraszkiewicz",null,null,"Szczecin Szybovcovy",null,"FCC Gliding 2023 - Kombi Open",{"$f":"VLOOKUP(F2349,Soutez!A:B,2,FALSE)","v":"SK"},{"$f":"VLOOKUP(F2349,Soutez!A:C,3,FALSE)","v":2023},39,1194,0.95500000000000007,1523,1454,null,null,"DG-808 C Clasic 18m WL","VN","Není v databázi"]
["Jan Granvig Dahl",null,null,"MSF",null,"FCC Gliding 2023 - Kombi Open",{"$f":"VLOOKUP(F2350,Soutez!A:B,2,FALSE)","v":"SK"},{"$f":"VLOOKUP(F2350,Soutez!A:C,3,FALSE)","v":2023},40,0,0.95500000000000007,0,0,null,null,"Ventus 2cm 18m -525 kg","HX","Není v databázi"]
["Michal Cupak",{"$f":"VLOOKUP(A2351,Pilot,2,0)","v":1991},{"$f":"VLOOKUP(A2351,Pilot,5,0)","v":"M"},{"$f":"VLOOKUP(A2351,Pilot,3,0)","v":"Medlánky"},{"$f":"VLOOKUP(A2351,Pilot,4,0)","v":"CZ/M"},"Fatraglide 2023 - Klub",{"$f":"VLOOKUP(F2351,Soutez!A:B,2,FALSE)","v":"SK"},{"$f":"VLOOKUP(F2351,Soutez!A:C,3,FALSE)","v":2023},1,2700,0.755,{"$f":"ROUND(J2351/MAX($J$2351:$J$2369)*10000*0.7+(MAX($I$2351:$I$2369)-I2351)/(MAX($I$2351:$I$2369)-1)*10000*0.3,0)","v":10000},{"$f":"ROUND(K2351*L2351,0)","v":7550},"x",null,"CIRRUS Std","A7",""]
["Jan Sponer",1988,"M","Medlánky","CZ/M","Fatraglide 2023 - Klub",{"$f":"VLOOKUP(F2352,Soutez!A:B,2,FALSE)","v":"SK"},{"$f":"VLOOKUP(F2352,Soutez!A:C,3,FALSE)","v":2023},2,2686,0.755,9797,{"$f":"ROUND(K2352*L2352,0)","v":7397},"x",null,"CIRRUS Std","EX",""]
["Edmund SCHULLER",null,null,"AK LUCENEC",null,"Fatraglide 2023 - Klub",{"$f":"VLOOKUP(F2353,Soutez!A:B,2,FALSE)","v":"SK"},{"$f":"VLOOKUP(F2353,Soutez!A:C,3,FALSE)","v":2023},3,2661,0.755,9566,7222,null,null,"ASW 24 WL","ZS","Není v databázi"]
["Michal Lesinger",{"$f":"VLOOKUP(A2354,Pilot,2,0)","v":1966},{"$f":"VLOOKUP(A2354,Pilot,5,0)","v":"M"},{"$f":"VLOOKUP(A2354,Pilot,3,0)","v":"Moravská Třebová"},{"$f":"VLOOKUP(A2354,Pilot,4,0)","v":"CZ/M"},"Fatraglide 2023 - Klub",{"$f":"VLOOKUP(F2354,Soutez!A:B,2,FALSE)","v":"SK"},{"$f":"VLOOKUP(F2354,Soutez!A:C,3,FALSE)","v":2023},4,2604,0.755,9251,6985,null,null,"ASW 20","LL",""]
["Jan Horak",1971,"M","Zbraslavice","CZ/C1","Fatraglide 2023 - Klub",{"$f":"VLOOKUP(F2355,Soutez!A:B,2,FALSE)","v":"SK"},{"$f":"VLOOKUP(F2355,Soutez!A:C,3,FALSE)","v":2023},5,2483,0.755,8771,6622,"x",null,"ASW 20A WL","WX",""]
["Milan SUROVCIK",null,null,"AK ZILINA",null,"Fatraglide 2023 - Klub",{"$f":"VLOOKUP(F2356,Soutez!A:B,2,FALSE)","v":"SK"},{"$f":"VLOOKUP(F2356,Soutez!A:C,3,FALSE)","v":2023},6,2467,0.755,8563,6465,null,null,"ASW 20","S","Není v databázi"]
["Tibor FRATRIK",null,null,"SGC MARTIN",null,"Fatraglide 2023 - Klub",{"$f":"VLOOKUP(F2357,Soutez!A:B,2,FALSE)","v":"SK"},{"$f":"VLOOKUP(F2357,Soutez!A:C,3,FALSE)","v":2023},7,2140,0.755,7548,5699,null,null,"ASW 20C","VG","Není v databázi"]
["Tomas SATRAPA",null,null,"AK BRATISLAVA",null,"Fatraglide 2023 - Klub",{"$f":"VLOOKUP(F2358,Soutez!A:B,2,FALSE)","v":"SK"},{"$f":"VLOOKUP(F2358,Soutez!A:C,3,FALSE)","v":2023},8,2002,0.755,7024,{"$f":"ROUND(K2358*L2358,0)","v":5303},null,null,"C-101 A PEGASE","OI","Není v databázi"]
["Marek SEMAN",null,null,"AK PRESOV",null,"Fatraglide 2023 - Klub",{"$f":"VLOOKUP(F2359,Soutez!A:B,2,FALSE)","v":"SK"},{"$f":"VLOOKUP(F2359,Soutez!A:C,3,FALSE)","v":2023},9,1830,0.755,6411,4840,null,null,"CIRRUS Std","MJ","Není v databázi"]
["Lubomir BELUSKO",null,null,"AK PRESOV",null,"Fatraglide 2023 - Klub",{"$f":"VLOOKUP(F2360,Soutez!A:B,2,FALSE)","v":"SK"},{"$f":"VLOOKUP(F2360,Soutez!A:C,3,FALSE)","v":2023},10,1789,0.755,6138,4634,null,null,"C-101 D PEGASE","HS","Není v databázi"]
["Peter GASPAROVIC",null,null,"SGC MARTIN",null,"Fatraglide 2023 - Klub",{"$f":"VLOOKUP(F2361,Soutez!A:B,2,FALSE)","v":"SK"},{"$f":"VLOOKUP(F2361,Soutez!A:C,3,FALSE)","v":2023},11,1688,0.755,5710,4311,null,null,"ASW 19B","A4","Není v databázi"]
["Gabor BORS",null,null,"AK OPITZ NANDOR REPULOKLUB",null,"Fatraglide 2023 - Klub",{"$f":"VLOOKUP(F2362,Soutez!A:B,2,FALSE)","v":"SK"},{"$f":"VLOOKUP(F2362,Soutez!A:C,3,FALSE)","v":2023},12,1552,0.755,5190,3918,null,null,"MINI NIMBUS","SU","Není v databázi"]
["Oldrich Kounovsky",{"$f":"VLOOKUP(A2363,Pilot,2,0)","v":1976},{"$f":"VLOOKUP(A2363,Pilot,5,0)","v":"M"},{"$f":"VLOOKUP(A2363,Pilot,3,0)","v":"Medlánky"},{"$f":"VLOOKUP(A2363,Pilot,4,0)","v":"CZ/M"},"Fatraglide 2023 - Klub",{"$f":"VLOOKUP(F2363,Soutez!A:B,2,FALSE)","v":"SK"},{"$f":"VLOOKUP(F2363,Soutez!A:C,3,FALSE)","v":2023},13,1496,0.755,4879,3684,"x",null,"CIRRUS Std","MS",""]
["Peter SEDMAK",null,null,"AK MARTIN",null,"Fatraglide 2023 - Klub",{"$f":"VLOOKUP(F2364,Soutez!A:B,2,FALSE)","v":"SK"},{"$f":"VLOOKUP(F2364,Soutez!A:C,3,FALSE)","v":2023},14,1427,0.755,4533,3422,null,null,"LS 4","MA","Není v databázi"]
["Albert HACKL",null,null,"AK OPITZ NANDOR REPULOKLUB",null,"Fatraglide 2023 - Klub",{"$f":"VLOOKUP(F2365,Soutez!A:B,2,FALSE)","v":"SK"},{"$f":"VLOOKUP(F2365,Soutez!A:C,3,FALSE)","v":2023},15,1416,0.755,4338,3275,null,null,"ASTIR CS TOP","PC","Není v databázi"]
["Martin MARINCAK",null,null,"AK PRESOV",null,"Fatraglide 2023 - Klub",{"$f":"VLOOKUP(F2366,Soutez!A:B,2,FALSE)","v":"SK"},{"$f":"VLOOKUP(F2366,Soutez!A:C,3,FALSE)","v":2023},16,919,0.755,2883,2177,null,null,"CIRRUS Std","CV","Není v databázi"]
["Rastislav KRAK",null,null,"AK POPRAD",null,"Fatraglide 2023 - Klub",{"$f":"VLOOKUP(F2367,Soutez!A:B,2,FALSE)","v":"SK"},{"$f":"VLOOKUP(F2367,Soutez!A:C,3,FALSE)","v":2023},17,560,0.755,1785,1348,null,null,"ASW 19B","A1","Není v databázi"]
["Peter USIAK",null,null,"AK BANSKA BYSTRICA",null,"Fatraglide 2023 - Klub",{"$f":"VLOOKUP(F2368,Soutez!A:B,2,FALSE)","v":"SK"},{"$f":"VLOOKUP(F2368,Soutez!A:C,3,FALSE)","v":2023},18,525,0.755,1528,1154,null,null,"ASTIR CS 77","WW","Není v databázi"]
["Peter ZIAK",null,null,"AK MARTIN",null,"Fatraglide 2023 - Klub",{"$f":"VLOOKUP(F2369,Soutez!A:B,2,FALSE)","v":"SK"},{"$f":"VLOOKUP(F2369,Soutez!A:C,3,FALSE)","v":2023},19,0,0.755,0,0,null,null,"C 101 A PEGASE","MT","Není v databázi"]
["Viliam KUBOVCIK",null,null,"AK POPRAD",null,"Fatraglide 2023 - Kombi",{"$f":"VLOOKUP(F2370,Soutez!A:B,2,FALSE)","v":"SK"},{"$f":"VLOOKUP(F2370,Soutez!A:C,3,FALSE)","v":2023},1,2532,0.755,{"$f":"ROUND(J2370/MAX($J$2370:$J$2384)*10000*0.7+(MAX($I$2370:$I$2384)-I2370)/(MAX($I$2370:$I$2384)-1)*10000*0.3,0)","v":10000},{"$f":"ROUND(K2370*L2370,0)","v":7550},null,null,"JS 3 RES","VV","Není v databázi"]
["Martin FURJES",null,null,"SGC MARTIN",null,"Fatraglide 2023 - Kombi",{"$f":"VLOOKUP(F2371,Soutez!A:B,2,FALSE)","v":"SK"},{"$f":"VLOOKUP(F2371,Soutez!A:C,3,FALSE)","v":2023},2,2468,0.755,9609,{"$f":"ROUND(K2371*L2371,0)","v":7255},null,null,"AS 33",12,"Není v databázi"]
["Petr Hotovy",{"$f":"VLOOKUP(A2372,Pilot,2,0)","v":1958},{"$f":"VLOOKUP(A2372,Pilot,5,0)","v":"M"},{"$f":"VLOOKUP(A2372,Pilot,3,0)","v":"Česká Lípa"},{"$f":"VLOOKUP(A2372,Pilot,4,0)","v":"CZ/C2"},"Fatraglide 2023 - Kombi",{"$f":"VLOOKUP(F2372,Soutez!A:B,2,FALSE)","v":"SK"},{"$f":"VLOOKUP(F2372,Soutez!A:C,3,FALSE)","v":2023},3,2457,0.755,9364,7070,null,null,"JS 1B","IGC",""]
["Marek STRAKA",null,null,"AK DUBNICA NAD VAHOM",null,"Fatraglide 2023 - Kombi",{"$f":"VLOOKUP(F2373,Soutez!A:B,2,FALSE)","v":"SK"},{"$f":"VLOOKUP(F2373,Soutez!A:C,3,FALSE)","v":2023},4,2445,0.755,9117,6883,null,null,"VENTUS 2 CXT","AI","Není v databázi"]
["Tibor NOGA",null,null,"SGC MARTIN",null,"Fatraglide 2023 - Kombi",{"$f":"VLOOKUP(F2374,Soutez!A:B,2,FALSE)","v":"SK"},{"$f":"VLOOKUP(F2374,Soutez!A:C,3,FALSE)","v":2023},5,2348,0.755,8634,6519,null,null,"Ventus 17.6m","TN","Není v databázi"]
["Branislav JESENSKY",null,null,"SGC MARTIN ZEMEPAN",null,"Fatraglide 2023 - Kombi",{"$f":"VLOOKUP(F2375,Soutez!A:B,2,FALSE)","v":"SK"},{"$f":"VLOOKUP(F2375,Soutez!A:C,3,FALSE)","v":2023},6,2324,0.755,8354,6307,null,null,"JS 1C 21","J","Není v databázi"]
["BELIANSKY & KNOSKO",null,null,"AK BRATISLAVA",null,"Fatraglide 2023 - Kombi",{"$f":"VLOOKUP(F2376,Soutez!A:B,2,FALSE)","v":"SK"},{"$f":"VLOOKUP(F2376,Soutez!A:C,3,FALSE)","v":2023},7,1978,0.755,7183,5423,null,null,"Duo Discus","2X","Není v databázi"]
["Lubomir JAKUBCAK",null,null,"SGC MARTIN",null,"Fatraglide 2023 - Kombi",{"$f":"VLOOKUP(F2377,Soutez!A:B,2,FALSE)","v":"SK"},{"$f":"VLOOKUP(F2377,Soutez!A:C,3,FALSE)","v":2023},8,1832,0.755,6565,4957,null,null,"ARCUS M","CAR","Není v databázi"]
["KROMKA & KOLLAR",null,null,"AK POPRAD",null,"Fatraglide 2023 - Kombi",{"$f":"VLOOKUP(F2378,Soutez!A:B,2,FALSE)","v":"SK"},{"$f":"VLOOKUP(F2378,Soutez!A:C,3,FALSE)","v":2023},9,1763,0.755,6160,4651,null,null,"ARCUS M","TA3","Není v databázi"]
["Barbora Moravcova",{"$f":"VLOOKUP(A2379,Pilot,2,0)","v":1994},{"$f":"VLOOKUP(A2379,Pilot,5,0)","v":"F"},{"$f":"VLOOKUP(A2379,Pilot,3,0)","v":"Zbraslavice"},{"$f":"VLOOKUP(A2379,Pilot,4,0)","v":"CZ/C1"},"Fatraglide 2023 - Kombi",{"$f":"VLOOKUP(F2379,Soutez!A:B,2,FALSE)","v":"SK"},{"$f":"VLOOKUP(F2379,Soutez!A:C,3,FALSE)","v":2023},10,1685,0.755,5730,4326,null,null,"LS 8 NEO","JB",""]
["Petr Jedlicka",1987,"M","Medlánky","CZ/M","Fatraglide 2023 - Kombi",{"$f":"VLOOKUP(F2380,Soutez!A:B,2,FALSE)","v":"SK"},{"$f":"VLOOKUP(F2380,Soutez!A:C,3,FALSE)","v":2023},11,1588,0.755,5247,{"$f":"ROUND(K2380*L2380,0)","v":3961},"x",null,"VENTUS C","PD",""]
["Petar ABONYI",null,null,"AK RUZOMBEROK",null,"Fatraglide 2023 - Kombi",{"$f":"VLOOKUP(F2381,Soutez!A:B,2,FALSE)","v":"SK"},{"$f":"VLOOKUP(F2381,Soutez!A:C,3,FALSE)","v":2023},12,1492,0.755,4768,3600,null,null,"DISCUS 2B","DI","Není v databázi"]
["Milan LOJDL",null,null,"AK MARTIN",null,"Fatraglide 2023 - Kombi",{"$f":"VLOOKUP(F2382,Soutez!A:B,2,FALSE)","v":"SK"},{"$f":"VLOOKUP(F2382,Soutez!A:C,3,FALSE)","v":2023},13,1490,0.755,4548,3434,null,null,"VENTUS 2 CXT","MJ1","Není v databázi"]
["BERKO & SUBA",null,null,"AK SPISSKA NOVA VES",null,"Fatraglide 2023 - Kombi",{"$f":"VLOOKUP(F2383,Soutez!A:B,2,FALSE)","v":"SK"},{"$f":"VLOOKUP(F2383,Soutez!A:C,3,FALSE)","v":2023},14,465,0.755,1500,1133,null,null,"DUO DISCUS XLT","SNV","Není v databázi"]
["Ivan BAJANA",null,null,"SGC MARTIN",null,"Fatraglide 2023 - Kombi",{"$f":"VLOOKUP(F2384,Soutez!A:B,2,FALSE)","v":"SK"},{"$f":"VLOOKUP(F2384,Soutez!A:C,3,FALSE)","v":2023},15,297,0.755,821,620,null,null,"LS 8","SI","Není v databázi"]
["Maros Divok",null,null,"Spišská Nová Ves",null,"PMSR 2023 - Kombi Open",{"$f":"VLOOKUP(F2385,Soutez!A:B,2,FALSE)","v":"SK"},{"$f":"VLOOKUP(F2385,Soutez!A:C,3,FALSE)","v":2023},1,7607,0.95000000000000007,{"$f":"ROUND(J2385/MAX($J$2385:$J$2398)*10000*0.7+(MAX($I$2385:$I$2398)-I2385)/(MAX($I$2385:$I$2398)-1)*10000*0.3,0)","v":10000},{"$f":"ROUND(K2385*L2385,0)","v":9500},null,null,"AS 33 Es 18m","D","Není v databázi"]
["Ondrej Dupal",{"$f":"VLOOKUP(A2386,Pilot,2,0)","v":1966},{"$f":"VLOOKUP(A2386,Pilot,5,0)","v":"M"},{"$f":"VLOOKUP(A2386,Pilot,3,0)","v":"GAC Benešov"},{"$f":"VLOOKUP(A2386,Pilot,4,0)","v":"CZ/C1"},"PMSR 2023 - Kombi Open",{"$f":"VLOOKUP(F2386,Soutez!A:B,2,FALSE)","v":"SK"},{"$f":"VLOOKUP(F2386,Soutez!A:C,3,FALSE)","v":2023},2,7455,0.95000000000000007,9629,{"$f":"ROUND(K2386*L2386,0)","v":9148},"x",null,"ASG 29 E 18m","GO",""]
["Vladimir Foltin",null,null,"Nitra",null,"PMSR 2023 - Kombi Open",{"$f":"VLOOKUP(F2387,Soutez!A:B,2,FALSE)","v":"SK"},{"$f":"VLOOKUP(F2387,Soutez!A:C,3,FALSE)","v":2023},3,7320,0.95000000000000007,9274,8810,null,null,"JS3 18m",3,"Není v databázi"]
["Petr Setka",{"$f":"VLOOKUP(A2388,Pilot,2,0)","v":1971},{"$f":"VLOOKUP(A2388,Pilot,5,0)","v":"M"},{"$f":"VLOOKUP(A2388,Pilot,3,0)","v":"Letkov"},{"$f":"VLOOKUP(A2388,Pilot,4,0)","v":"CZ/C1"},"PMSR 2023 - Kombi Open",{"$f":"VLOOKUP(F2388,Soutez!A:B,2,FALSE)","v":"SK"},{"$f":"VLOOKUP(F2388,Soutez!A:C,3,FALSE)","v":2023},4,7195,0.95000000000000007,8929,8483,"x",null,"Ventus 2cxM 18m","RS",""]
["Jiri Kusbach",{"$f":"VLOOKUP(A2389,Pilot,2,0)","v":1959},{"$f":"VLOOKUP(A2389,Pilot,5,0)","v":"M"},{"$f":"VLOOKUP(A2389,Pilot,3,0)","v":"Luhačovice"},{"$f":"VLOOKUP(A2389,Pilot,4,0)","v":"CZ/M"},"PMSR 2023 - Kombi Open",{"$f":"VLOOKUP(F2389,Soutez!A:B,2,FALSE)","v":"SK"},{"$f":"VLOOKUP(F2389,Soutez!A:C,3,FALSE)","v":2023},5,6948,0.95000000000000007,8471,8047,null,null,"Diana 3FES","B",""]
["Branislav Jesensky",null,null,"SGC Martin",null,"PMSR 2023 - Kombi Open",{"$f":"VLOOKUP(F2390,Soutez!A:B,2,FALSE)","v":"SK"},{"$f":"VLOOKUP(F2390,Soutez!A:C,3,FALSE)","v":2023},6,6759,0.95000000000000007,8066,7663,null,null,"JS1C 21m","J","Není v databázi"]
["Janos Sindely",null,null,"Magyarország Alfoldi",null,"PMSR 2023 - Kombi Open",{"$f":"VLOOKUP(F2391,Soutez!A:B,2,FALSE)","v":"SK"},{"$f":"VLOOKUP(F2391,Soutez!A:C,3,FALSE)","v":2023},7,6063,0.95000000000000007,7195,6835,null,null,"JS1 18m","RZ","Není v databázi"]
["Marek Straka",null,null,"Dubnica",null,"PMSR 2023 - Kombi Open",{"$f":"VLOOKUP(F2392,Soutez!A:B,2,FALSE)","v":"SK"},{"$f":"VLOOKUP(F2392,Soutez!A:C,3,FALSE)","v":2023},8,5470,0.95000000000000007,6418,6097,null,null,"Ventus 2cxT 18m","AI","Není v databázi"]
["Jan Paepke",null,null,"SFC Riesa-Canitz e.V. / Prievidza",null,"PMSR 2023 - Kombi Open",{"$f":"VLOOKUP(F2393,Soutez!A:B,2,FALSE)","v":"SK"},{"$f":"VLOOKUP(F2393,Soutez!A:C,3,FALSE)","v":2023},9,5315,0.95000000000000007,6045,{"$f":"ROUND(K2393*L2393,0)","v":5743},null,null,"LAK-17A T 18m WL","AK","Není v databázi"]
["Osi Zsolt",null,null,"Magyarország ACFH",null,"PMSR 2023 - Kombi Open",{"$f":"VLOOKUP(F2394,Soutez!A:B,2,FALSE)","v":"SK"},{"$f":"VLOOKUP(F2394,Soutez!A:C,3,FALSE)","v":2023},10,4693,0.95000000000000007,5242,4980,null,null,"ASW 22 BLE","BY","Není v databázi"]
["Lukas Benedikt",null,null,"SNA",null,"PMSR 2023 - Kombi Open",{"$f":"VLOOKUP(F2395,Soutez!A:B,2,FALSE)","v":"SK"},{"$f":"VLOOKUP(F2395,Soutez!A:C,3,FALSE)","v":2023},11,4642,0.95000000000000007,4964,4716,null,null,"Ventus 3F 18m","LB","Není v databázi"]
["Gabriela Belakova",null,null,"Aeroklub Prievidza",null,"PMSR 2023 - Kombi Open",{"$f":"VLOOKUP(F2396,Soutez!A:B,2,FALSE)","v":"SK"},{"$f":"VLOOKUP(F2396,Soutez!A:C,3,FALSE)","v":2023},12,4400,0.95000000000000007,4510,4285,null,null,"Ventus 3M 18m","CAT","Není v databázi"]
["Milan Lojdl",null,null,"Aeroklub Martin",null,"PMSR 2023 - Kombi Open",{"$f":"VLOOKUP(F2397,Soutez!A:B,2,FALSE)","v":"SK"},{"$f":"VLOOKUP(F2397,Soutez!A:C,3,FALSE)","v":2023},13,4334,0.95000000000000007,4219,4008,null,null,"Ventus 2cxT 18m","MJ1","Není v databázi"]
["Viliam Kubovcik",null,null,"Poprad",null,"PMSR 2023 - Kombi Open",{"$f":"VLOOKUP(F2398,Soutez!A:B,2,FALSE)","v":"SK"},{"$f":"VLOOKUP(F2398,Soutez!A:C,3,FALSE)","v":2023},14,2215,0.95000000000000007,2038,1936,null,null,"JS3 RES 18m","VV","Není v databázi"]
["Louise Rodriguez",null,null,"France",null,"WWGC 2023 - Klub",{"$f":"VLOOKUP(F2399,Soutez!A:B,2,FALSE)","v":"SP"},{"$f":"VLOOKUP(F2399,Soutez!A:C,3,FALSE)","v":2023},1,6486,1.0449999999999999,{"$f":"ROUND(J2399/MAX($J$2399:$J$2417)*10000*0.7+(MAX($I$2399:$I$2417)-I2399)/(MAX($I$2399:$I$2417)-1)*10000*0.3,0)","v":10000},{"$f":"ROUND(K2399*L2399,0)","v":10450},null,null,"LS 7","HG","Není v databázi"]
["Michaela Krizova",{"$f":"VLOOKUP(A2400,Pilot,2,0)","v":2001},{"$f":"VLOOKUP(A2400,Pilot,5,0)","v":"F"},{"$f":"VLOOKUP(A2400,Pilot,3,0)","v":"Přibyslav"},{"$f":"VLOOKUP(A2400,Pilot,4,0)","v":"CZ/C2"},"WWGC 2023 - Klub",{"$f":"VLOOKUP(F2400,Soutez!A:B,2,FALSE)","v":"SP"},{"$f":"VLOOKUP(F2400,Soutez!A:C,3,FALSE)","v":2023},2,6444,1.0449999999999999,9788,{"$f":"ROUND(K2400*L2400,0)","v":10228},null,"x","LS 4","6L","Junior v roce 2024"]
["Daniela Wilden",null,null,"Germany",null,"WWGC 2023 - Klub",{"$f":"VLOOKUP(F2401,Soutez!A:B,2,FALSE)","v":"SP"},{"$f":"VLOOKUP(F2401,Soutez!A:C,3,FALSE)","v":2023},3,6375,1.0449999999999999,9547,9977,null,null,"LS 7 WL","FOX","Není v databázi"]
["Tereza Koubkova",{"$f":"VLOOKUP(A2402,Pilot,2,0)","v":1999},{"$f":"VLOOKUP(A2402,Pilot,5,0)","v":"F"},{"$f":"VLOOKUP(A2402,Pilot,3,0)","v":"Vysoké Mýto"},{"$f":"VLOOKUP(A2402,Pilot,4,0)","v":"CZ/C2"},"WWGC 2023 - Klub",{"$f":"VLOOKUP(F2402,Soutez!A:B,2,FALSE)","v":"SP"},{"$f":"VLOOKUP(F2402,Soutez!A:C,3,FALSE)","v":2023},4,6190,1.0449999999999999,9181,9594,null,"x","LS 4","IX","Junior v roce 2024"]
["Carolin Rothhardt",null,null,"Germany",null,"WWGC 2023 - Klub",{"$f":"VLOOKUP(F2403,Soutez!A:B,2,FALSE)","v":"SP"},{"$f":"VLOOKUP(F2403,Soutez!A:C,3,FALSE)","v":2023},5,6138,1.0449999999999999,8958,9361,null,null,"LS 7","PG","Není v databázi"]
["Aude Grangeray",null,null,"France",null,"WWGC 2023 - Klub",{"$f":"VLOOKUP(F2404,Soutez!A:B,2,FALSE)","v":"SP"},{"$f":"VLOOKUP(F2404,Soutez!A:C,3,FALSE)","v":2023},6,6011,1.0449999999999999,8654,9043,null,null,"LS 7","AG",{"$f":"IF(ISERROR(VLOOKUP(A2404,Pilot,6,0)),\"Není v databázi\",VLOOKUP(A2404,Pilot,6,0))","v":"Není v databázi"}]
["Elena Fergnani",null,null,"Italy",null,"WWGC 2023 - Klub",{"$f":"VLOOKUP(F2405,Soutez!A:B,2,FALSE)","v":"SP"},{"$f":"VLOOKUP(F2405,Soutez!A:C,3,FALSE)","v":2023},7,5922,1.0449999999999999,8391,8769,null,null,"Discus a",40,"Není v databázi"]
["Paula Drazul",null,null,"Argentina",null,"WWGC 2023 - Klub",{"$f":"VLOOKUP(F2406,Soutez!A:B,2,FALSE)","v":"SP"},{"$f":"VLOOKUP(F2406,Soutez!A:C,3,FALSE)","v":2023},8,5837,{"$f":"VLOOKUP(F2406,Soutez,12,0)","v":1.0449999999999999},8133,{"$f":"ROUND(K2406*L2406,0)","v":8499},null,null,"ASW 20","AL","Není v databázi"]
["Petra Piskata",{"$f":"VLOOKUP(A2407,Pilot,2,0)","v":1989},{"$f":"VLOOKUP(A2407,Pilot,5,0)","v":"F"},{"$f":"VLOOKUP(A2407,Pilot,3,0)","v":"Luhačovice"},{"$f":"VLOOKUP(A2407,Pilot,4,0)","v":"CZ/M"},"WWGC 2023 - Klub",{"$f":"VLOOKUP(F2407,Soutez!A:B,2,FALSE)","v":"SP"},{"$f":"VLOOKUP(F2407,Soutez!A:C,3,FALSE)","v":2023},9,5773,1.0449999999999999,7897,8252,null,"x","ASW 20","CX",""]
["Alizée Petit",null,null,"France",null,"WWGC 2023 - Klub",{"$f":"VLOOKUP(F2408,Soutez!A:B,2,FALSE)","v":"SP"},{"$f":"VLOOKUP(F2408,Soutez!A:C,3,FALSE)","v":2023},10,5607,1.0449999999999999,7551,7891,null,null,"ASW 20","LX","Není v databázi"]
["Claudia Hill",null,null,"United Kingdom",null,"WWGC 2023 - Klub",{"$f":"VLOOKUP(F2409,Soutez!A:B,2,FALSE)","v":"SP"},{"$f":"VLOOKUP(F2409,Soutez!A:C,3,FALSE)","v":2023},11,5521,1.0449999999999999,7292,7620,null,null,"LS 1-f neo","CH","Není v databázi"]
["Ulrike Teichmann",null,null,"Germany",null,"WWGC 2023 - Klub",{"$f":"VLOOKUP(F2410,Soutez!A:B,2,FALSE)","v":"SP"},{"$f":"VLOOKUP(F2410,Soutez!A:C,3,FALSE)","v":2023},12,5344,1.0449999999999999,6934,7246,null,null,"LS 4",99,"Není v databázi"]
["Alison Mulder",null,null,"United Kingdom",null,"WWGC 2023 - Klub",{"$f":"VLOOKUP(F2411,Soutez!A:B,2,FALSE)","v":"SP"},{"$f":"VLOOKUP(F2411,Soutez!A:C,3,FALSE)","v":2023},13,5280,1.0449999999999999,6698,6999,null,null,"LS 4","LS4","Není v databázi"]
["Sylvia Grandstaff",null,null,"United States of America",null,"WWGC 2023 - Klub",{"$f":"VLOOKUP(F2412,Soutez!A:B,2,FALSE)","v":"SP"},{"$f":"VLOOKUP(F2412,Soutez!A:C,3,FALSE)","v":2023},14,4625,1.0449999999999999,5825,6087,null,null,"Std. Cirrus","OLE","Není v databázi"]
["Kathy Fosha",null,null,"United States of America",null,"WWGC 2023 - Klub",{"$f":"VLOOKUP(F2413,Soutez!A:B,2,FALSE)","v":"SP"},{"$f":"VLOOKUP(F2413,Soutez!A:C,3,FALSE)","v":2023},15,4540,1.0449999999999999,5566,5816,null,null,"ASW 20","ET1","Není v databázi"]
["Christina Solberg Hansen",null,null,"Denmark",null,"WWGC 2023 - Klub",{"$f":"VLOOKUP(F2414,Soutez!A:B,2,FALSE)","v":"SP"},{"$f":"VLOOKUP(F2414,Soutez!A:C,3,FALSE)","v":2023},16,4538,1.0449999999999999,5398,5641,null,null,"LS 1-f","SH","Není v databázi"]
["Olena Yakymchuk",null,null,"Ukraine",null,"WWGC 2023 - Klub",{"$f":"VLOOKUP(F2415,Soutez!A:B,2,FALSE)","v":"SP"},{"$f":"VLOOKUP(F2415,Soutez!A:C,3,FALSE)","v":2023},17,2862,1.0449999999999999,3422,3576,null,null,"DG 100","L","Není v databázi"]
["Carol Marshall",null,null,"United Kingdom",null,"WWGC 2023 - Klub",{"$f":"VLOOKUP(F2416,Soutez!A:B,2,FALSE)","v":"SP"},{"$f":"VLOOKUP(F2416,Soutez!A:C,3,FALSE)","v":2023},18,1998,1.0449999999999999,2323,2428,null,null,"ASW 20 L","EEJ","Není v databázi"]
["Valéria Caselato",null,null,"Brazil",null,"WWGC 2023 - Klub",{"$f":"VLOOKUP(F2417,Soutez!A:B,2,FALSE)","v":"SP"},{"$f":"VLOOKUP(F2417,Soutez!A:C,3,FALSE)","v":2023},19,807,1.0449999999999999,871,910,null,null,"DG 300 WL","TC","Není v databázi"]
["Barbora Moravcova",{"$f":"VLOOKUP(A2418,Pilot,2,0)","v":1994},{"$f":"VLOOKUP(A2418,Pilot,5,0)","v":"F"},{"$f":"VLOOKUP(A2418,Pilot,3,0)","v":"Zbraslavice"},{"$f":"VLOOKUP(A2418,Pilot,4,0)","v":"CZ/C1"},"WWGC 2023 - Std",{"$f":"VLOOKUP(F2418,Soutez!A:B,2,FALSE)","v":"SP"},{"$f":"VLOOKUP(F2418,Soutez!A:C,3,FALSE)","v":2023},1,8704,1.0549999999999999,{"$f":"ROUND(J2418/MAX($J$2418:$J$2433)*10000*0.7+(MAX($I$2418:$I$2433)-I2418)/(MAX($I$2418:$I$2433)-1)*10000*0.3,0)","v":10000},{"$f":"ROUND(K2418*L2418,0)","v":10550},null,"x","LS 8","JB",""]
["Aude Untersee",null,null,"France",null,"WWGC 2023 - Std",{"$f":"VLOOKUP(F2419,Soutez!A:B,2,FALSE)","v":"SP"},{"$f":"VLOOKUP(F2419,Soutez!A:C,3,FALSE)","v":2023},2,8656,1.0549999999999999,9761,{"$f":"ROUND(K2419*L2419,0)","v":10298},null,null,"Discus 2a","JPA","Není v databázi"]
["Marilyne Abadie-Bérard",null,null,"France",null,"WWGC 2023 - Std",{"$f":"VLOOKUP(F2420,Soutez!A:B,2,FALSE)","v":"SP"},{"$f":"VLOOKUP(F2420,Soutez!A:C,3,FALSE)","v":2023},3,8605,1.0549999999999999,9520,10044,null,null,"Discus 2a","AX","Není v databázi"]
["Sabrina Vogt",null,null,"Germany",null,"WWGC 2023 - Std",{"$f":"VLOOKUP(F2421,Soutez!A:B,2,FALSE)","v":"SP"},{"$f":"VLOOKUP(F2421,Soutez!A:C,3,FALSE)","v":2023},4,8413,1.0549999999999999,9166,9670,null,null,"Discus 2a","HZ","Není v databázi"]
["Dana Novakova",{"$f":"VLOOKUP(A2422,Pilot,2,0)","v":1965},{"$f":"VLOOKUP(A2422,Pilot,5,0)","v":"F"},{"$f":"VLOOKUP(A2422,Pilot,3,0)","v":"Mladá Boleslav"},{"$f":"VLOOKUP(A2422,Pilot,4,0)","v":"CZ/C1"},"WWGC 2023 - Std",{"$f":"VLOOKUP(F2422,Soutez!A:B,2,FALSE)","v":"SP"},{"$f":"VLOOKUP(F2422,Soutez!A:C,3,FALSE)","v":2023},5,8290,1.0549999999999999,8867,{"$f":"ROUND(K2422*L2422,0)","v":9355},null,"x","LS 8b","FX",""]
["Anais Gaubert",null,null,"France",null,"WWGC 2023 - Std",{"$f":"VLOOKUP(F2423,Soutez!A:B,2,FALSE)","v":"SP"},{"$f":"VLOOKUP(F2423,Soutez!A:C,3,FALSE)","v":2023},6,8072,1.0549999999999999,8492,8959,null,null,"Discus 2a","ET","Není v databázi"]
["Jana Treslova",{"$f":"VLOOKUP(A2424,Pilot,2,0)","v":1963},{"$f":"VLOOKUP(A2424,Pilot,5,0)","v":"F"},{"$f":"VLOOKUP(A2424,Pilot,3,0)","v":"Raná"},{"$f":"VLOOKUP(A2424,Pilot,4,0)","v":"CZ/C2"},"WWGC 2023 - Std",{"$f":"VLOOKUP(F2424,Soutez!A:B,2,FALSE)","v":"SP"},{"$f":"VLOOKUP(F2424,Soutez!A:C,3,FALSE)","v":2023},7,7592,1.0549999999999999,7906,8341,null,"x","LS 8","W8",""]
["Cornelia Schaich",null,null,"Germany",null,"WWGC 2023 - Std",{"$f":"VLOOKUP(F2425,Soutez!A:B,2,FALSE)","v":"SP"},{"$f":"VLOOKUP(F2425,Soutez!A:C,3,FALSE)","v":2023},8,7378,1.0549999999999999,7534,7948,null,null,"LS 8","3S","Není v databázi"]
["Lucia Esteban Loring",null,null,"Spain",null,"WWGC 2023 - Std",{"$f":"VLOOKUP(F2426,Soutez!A:B,2,FALSE)","v":"SP"},{"$f":"VLOOKUP(F2426,Soutez!A:C,3,FALSE)","v":2023},9,7372,1.0549999999999999,7329,7732,null,null,"Discus 2a","L2","Není v databázi"]
["Francesca Roberts",null,null,"United Kingdom",null,"WWGC 2023 - Std",{"$f":"VLOOKUP(F2427,Soutez!A:B,2,FALSE)","v":"SP"},{"$f":"VLOOKUP(F2427,Soutez!A:C,3,FALSE)","v":2023},10,7013,1.0549999999999999,6840,7216,null,null,"LS 8","IT","Není v databázi"]
["Lizzy van Zomeren",null,null,"Netherlands",null,"WWGC 2023 - Std",{"$f":"VLOOKUP(F2428,Soutez!A:B,2,FALSE)","v":"SP"},{"$f":"VLOOKUP(F2428,Soutez!A:C,3,FALSE)","v":2023},11,6906,1.0549999999999999,6554,6914,null,null,"LS 8","HT","Není v databázi"]
["Karen Wilken",null,null,"Germany",null,"WWGC 2023 - Std",{"$f":"VLOOKUP(F2429,Soutez!A:B,2,FALSE)","v":"SP"},{"$f":"VLOOKUP(F2429,Soutez!A:C,3,FALSE)","v":2023},12,6835,1.0549999999999999,6297,6643,null,null,"LS 8","VZ","Není v databázi"]
["Joanna Biedermann",null,null,"Poland",null,"WWGC 2023 - Std",{"$f":"VLOOKUP(F2430,Soutez!A:B,2,FALSE)","v":"SP"},{"$f":"VLOOKUP(F2430,Soutez!A:C,3,FALSE)","v":2023},13,6416,1.0549999999999999,5760,6077,null,null,"Discus 2a","I","Není v databázi"]
["Barbara Kuttel",null,null,"Switzerland",null,"WWGC 2023 - Std",{"$f":"VLOOKUP(F2431,Soutez!A:B,2,FALSE)","v":"SP"},{"$f":"VLOOKUP(F2431,Soutez!A:C,3,FALSE)","v":2023},14,6174,1.0549999999999999,5365,5660,null,null,"LS 8","JG","Není v databázi"]
["Ilka Elster-Back",null,null,"Germany",null,"WWGC 2023 - Std",{"$f":"VLOOKUP(F2432,Soutez!A:B,2,FALSE)","v":"SP"},{"$f":"VLOOKUP(F2432,Soutez!A:C,3,FALSE)","v":2023},15,5446,1.0549999999999999,4580,4832,null,null,"LS 8e neo",71,"Není v databázi"]
["Delia Flury",null,null,"Switzerland",null,"WWGC 2023 - Std",{"$f":"VLOOKUP(F2433,Soutez!A:B,2,FALSE)","v":"SP"},{"$f":"VLOOKUP(F2433,Soutez!A:C,3,FALSE)","v":2023},16,3228,1.0549999999999999,2596,{"$f":"ROUND(K2433*L2433,0)","v":2739},null,null,"Discus 2cFES 15m","EB","Není v databázi"]
["Alena Netusilova",{"$f":"VLOOKUP(A2434,Pilot,2,0)","v":1970},{"$f":"VLOOKUP(A2434,Pilot,5,0)","v":"F"},{"$f":"VLOOKUP(A2434,Pilot,3,0)","v":"Zbraslavice"},{"$f":"VLOOKUP(A2434,Pilot,4,0)","v":"CZ/C1"},"WWGC 2023 - 18m",{"$f":"VLOOKUP(F2434,Soutez!A:B,2,FALSE)","v":"SP"},{"$f":"VLOOKUP(F2434,Soutez!A:C,3,FALSE)","v":2023},1,8885,1.04,{"$f":"ROUND(J2434/MAX($J$2434:$J$2445)*10000*0.7+(MAX($I$2434:$I$2445)-I2434)/(MAX($I$2434:$I$2445)-1)*10000*0.3,0)","v":10000},{"$f":"ROUND(K2434*L2434,0)","v":10400},null,"x","JS3 18m","ZE",""]
["Mélanie Gadoulet",null,null,"France",null,"WWGC 2023 - 18m",{"$f":"VLOOKUP(F2435,Soutez!A:B,2,FALSE)","v":"SP"},{"$f":"VLOOKUP(F2435,Soutez!A:C,3,FALSE)","v":2023},2,8571,1.04,9480,{"$f":"ROUND(K2435*L2435,0)","v":9859},null,null,"JS3 18m","LB","Není v databázi"]
["Anne Ducarouge",null,null,"France",null,"WWGC 2023 - 18m",{"$f":"VLOOKUP(F2436,Soutez!A:B,2,FALSE)","v":"SP"},{"$f":"VLOOKUP(F2436,Soutez!A:C,3,FALSE)","v":2023},3,8459,1.04,9119,9484,null,null,"JS3 18m","KW","Není v databázi"]
["Michaela Rendlova",{"$f":"VLOOKUP(A2437,Pilot,2,0)","v":2004},{"$f":"VLOOKUP(A2437,Pilot,5,0)","v":"F"},{"$f":"VLOOKUP(A2437,Pilot,3,0)","v":"Toužim"},{"$f":"VLOOKUP(A2437,Pilot,4,0)","v":"CZ/C1"},"WWGC 2023 - 18m",{"$f":"VLOOKUP(F2437,Soutez!A:B,2,FALSE)","v":"SP"},{"$f":"VLOOKUP(F2437,Soutez!A:C,3,FALSE)","v":2023},4,8334,1.04,8748,9098,null,"x","AS 33 Es 18m","EA","Junior v roce 2024"]
["Hana Treslova",1991,"F","Raná","CZ/C2","WWGC 2023 - 18m",{"$f":"VLOOKUP(F2438,Soutez!A:B,2,FALSE)","v":"SP"},{"$f":"VLOOKUP(F2438,Soutez!A:C,3,FALSE)","v":2023},5,8115,1.04,8302,8634,null,"x","JS3 18m","XM",""]
["Katrin Senne",null,null,"Germany",null,"WWGC 2023 - 18m",{"$f":"VLOOKUP(F2439,Soutez!A:B,2,FALSE)","v":"SP"},{"$f":"VLOOKUP(F2439,Soutez!A:C,3,FALSE)","v":2023},6,7983,1.04,7926,8243,null,null,"JS3 18m Jet","BK","Není v databázi"]
["Liz Sparrow",null,null,"United Kingdom",null,"WWGC 2023 - 18m",{"$f":"VLOOKUP(F2440,Soutez!A:B,2,FALSE)","v":"SP"},{"$f":"VLOOKUP(F2440,Soutez!A:C,3,FALSE)","v":2023},7,7016,1.04,6891,7167,null,null,"ASG 29 18m",0,"Není v databázi"]
["Sandra Malzacher",null,null,"Germany",null,"WWGC 2023 - 18m",{"$f":"VLOOKUP(F2441,Soutez!A:B,2,FALSE)","v":"SP"},{"$f":"VLOOKUP(F2441,Soutez!A:C,3,FALSE)","v":2023},8,6591,1.04,6284,6535,null,null,"ASG 29 18m","LEO","Není v databázi"]
["Astrid Galaret",null,null,"France",null,"WWGC 2023 - 18m",{"$f":"VLOOKUP(F2442,Soutez!A:B,2,FALSE)","v":"SP"},{"$f":"VLOOKUP(F2442,Soutez!A:C,3,FALSE)","v":2023},9,6306,1.04,5786,6017,null,null,"JS3 18m","FM","Není v databázi"]
["Anja Barfuss",null,null,"Germany",null,"WWGC 2023 - 18m",{"$f":"VLOOKUP(F2443,Soutez!A:B,2,FALSE)","v":"SP"},{"$f":"VLOOKUP(F2443,Soutez!A:C,3,FALSE)","v":2023},10,5982,1.04,5258,{"$f":"ROUND(K2443*L2443,0)","v":5468},null,null,"ASG 29 Es 18m","J3","Není v databázi"]
["Ayala Truelove",null,null,"United Kingdom",null,"WWGC 2023 - 18m",{"$f":"VLOOKUP(F2444,Soutez!A:B,2,FALSE)","v":"SP"},{"$f":"VLOOKUP(F2444,Soutez!A:C,3,FALSE)","v":2023},11,5909,1.04,4928,5125,null,null,"JS3 18m","J7","Není v databázi"]
["Maria Lisa Martin Perez",null,null,"Spain",null,"WWGC 2023 - 18m",{"$f":"VLOOKUP(F2445,Soutez!A:B,2,FALSE)","v":"SP"},{"$f":"VLOOKUP(F2445,Soutez!A:C,3,FALSE)","v":2023},12,5740,1.04,4522,4703,null,null,"Ventus 2cxM 18m","MA","Není v databázi"]
["Łukasz Wójcik",null,null,null,null,"EGC 2023 - 18m",{"$f":"VLOOKUP(F2446,Soutez!A:B,2,FALSE)","v":"PL"},{"$f":"VLOOKUP(F2446,Soutez!A:C,3,FALSE)","v":2023},1,5836,1.095,{"$f":"ROUND(J2446/MAX($J$2446:$J$2482)*10000*0.7+(MAX($I$2446:$I$2482)-I2446)/(MAX($I$2446:$I$2482)-1)*10000*0.3,0)","v":10000},{"$f":"ROUND(K2446*L2446,0)","v":10950},null,null,"Ventus 3T","8L","Není v databázi"]
["Peter Millenaar",null,null,null,null,"EGC 2023 - 18m",{"$f":"VLOOKUP(F2447,Soutez!A:B,2,FALSE)","v":"PL"},{"$f":"VLOOKUP(F2447,Soutez!A:C,3,FALSE)","v":2023},2,5804,1.095,9876,{"$f":"ROUND(K2447*L2447,0)","v":10814},null,null,"JS3 RES","PM","Není v databázi"]
["Sebastian Kawa",null,null,null,null,"EGC 2023 - 18m",{"$f":"VLOOKUP(F2448,Soutez!A:B,2,FALSE)","v":"PL"},{"$f":"VLOOKUP(F2448,Soutez!A:C,3,FALSE)","v":2023},3,5794,1.095,9778,10707,null,null,"Ventus 3T","S","Není v databázi"]
["Wolfgang Janowitsch",null,null,null,null,"EGC 2023 - 18m",{"$f":"VLOOKUP(F2449,Soutez!A:B,2,FALSE)","v":"PL"},{"$f":"VLOOKUP(F2449,Soutez!A:C,3,FALSE)","v":2023},4,5469,1.095,9303,10187,null,null,"Ventus 3TS","WO","Není v databázi"]
["Michael Reiner",null,null,null,null,"EGC 2023 - 18m",{"$f":"VLOOKUP(F2450,Soutez!A:B,2,FALSE)","v":"PL"},{"$f":"VLOOKUP(F2450,Soutez!A:C,3,FALSE)","v":2023},5,5439,1.095,9181,10053,null,null,"JS3 RES","MR","Není v databázi"]
["Arne Boye-Møller",null,null,null,null,"EGC 2023 - 18m",{"$f":"VLOOKUP(F2451,Soutez!A:B,2,FALSE)","v":"PL"},{"$f":"VLOOKUP(F2451,Soutez!A:C,3,FALSE)","v":2023},6,5383,1.095,9028,9886,null,null,"JS3 Jet","AB","Není v databázi"]
["Lukasz Grabowski",null,null,null,null,"EGC 2023 - 18m",{"$f":"VLOOKUP(F2452,Soutez!A:B,2,FALSE)","v":"PL"},{"$f":"VLOOKUP(F2452,Soutez!A:C,3,FALSE)","v":2023},7,5381,1.095,8940,9789,null,null,"Ventus 3T","3V","Není v databázi"]
["Bert Schmelzer",null,null,null,null,"EGC 2023 - 18m",{"$f":"VLOOKUP(F2453,Soutez!A:B,2,FALSE)","v":"PL"},{"$f":"VLOOKUP(F2453,Soutez!A:C,3,FALSE)","v":2023},8,5300,1.095,8757,9589,null,null,"Ventus 3TS",21,"Není v databázi"]
["Boris Žorz",null,null,null,null,"EGC 2023 - 18m",{"$f":"VLOOKUP(F2454,Soutez!A:B,2,FALSE)","v":"PL"},{"$f":"VLOOKUP(F2454,Soutez!A:C,3,FALSE)","v":2023},9,5264,1.095,8628,9448,null,null,"JS3 Jet","BL","Není v databázi"]
["Yves Gerster",null,null,null,null,"EGC 2023 - 18m",{"$f":"VLOOKUP(F2455,Soutez!A:B,2,FALSE)","v":"PL"},{"$f":"VLOOKUP(F2455,Soutez!A:C,3,FALSE)","v":2023},10,5244,1.095,8518,9327,null,null,"JS3","MK","Není v databázi"]
["Dennis Huybreckx",null,null,null,null,"EGC 2023 - 18m",{"$f":"VLOOKUP(F2456,Soutez!A:B,2,FALSE)","v":"PL"},{"$f":"VLOOKUP(F2456,Soutez!A:C,3,FALSE)","v":2023},11,5190,1.095,8368,9163,null,null,"Ventus 3TS","HX","Není v databázi"]
["Peter Szabo",null,null,null,null,"EGC 2023 - 18m",{"$f":"VLOOKUP(F2457,Soutez!A:B,2,FALSE)","v":"PL"},{"$f":"VLOOKUP(F2457,Soutez!A:C,3,FALSE)","v":2023},12,5168,1.095,8256,9040,null,null,"JS3","BX","Není v databázi"]
["Sebastian Huhmann",null,null,null,null,"EGC 2023 - 18m",{"$f":"VLOOKUP(F2458,Soutez!A:B,2,FALSE)","v":"PL"},{"$f":"VLOOKUP(F2458,Soutez!A:C,3,FALSE)","v":2023},13,5097,1.095,8085,8853,null,null,"AS 33 Es","2U","Není v databázi"]
["Aku Jaakkola",null,null,null,null,"EGC 2023 - 18m",{"$f":"VLOOKUP(F2459,Soutez!A:B,2,FALSE)","v":"PL"},{"$f":"VLOOKUP(F2459,Soutez!A:C,3,FALSE)","v":2023},14,5066,1.095,7962,8718,null,null,"Ventus 3","W","Není v databázi"]
["Petr Koutny",{"$f":"VLOOKUP(A2460,Pilot,2,0)","v":1971},{"$f":"VLOOKUP(A2460,Pilot,5,0)","v":"M"},{"$f":"VLOOKUP(A2460,Pilot,3,0)","v":"Křižanov"},{"$f":"VLOOKUP(A2460,Pilot,4,0)","v":"CZ/M"},"EGC 2023 - 18m",{"$f":"VLOOKUP(F2460,Soutez!A:B,2,FALSE)","v":"PL"},{"$f":"VLOOKUP(F2460,Soutez!A:C,3,FALSE)","v":2023},15,5054,1.095,7862,8609,"x",null,"JS-MD 3","ZE",""]
["Russell Cheetham",null,null,null,null,"EGC 2023 - 18m",{"$f":"VLOOKUP(F2461,Soutez!A:B,2,FALSE)","v":"PL"},{"$f":"VLOOKUP(F2461,Soutez!A:C,3,FALSE)","v":2023},16,5026,1.095,7743,8479,null,null,"JS-MD 3","E1","Není v databázi"]
["Anne Ducarouge",null,null,null,null,"EGC 2023 - 18m",{"$f":"VLOOKUP(F2462,Soutez!A:B,2,FALSE)","v":"PL"},{"$f":"VLOOKUP(F2462,Soutez!A:C,3,FALSE)","v":2023},17,5001,1.095,7627,8352,null,null,"JS3","AY","Není v databázi"]
["Gvidas Sabeckis",null,null,null,null,"EGC 2023 - 18m",{"$f":"VLOOKUP(F2463,Soutez!A:B,2,FALSE)","v":"PL"},{"$f":"VLOOKUP(F2463,Soutez!A:C,3,FALSE)","v":2023},18,4942,1.095,7471,8181,null,null,"ASG 29","M7","Není v databázi"]
["Steven Raimond",null,null,null,null,"EGC 2023 - 18m",{"$f":"VLOOKUP(F2464,Soutez!A:B,2,FALSE)","v":"PL"},{"$f":"VLOOKUP(F2464,Soutez!A:C,3,FALSE)","v":2023},19,4937,1.095,7379,8080,null,null,"AS 33 Es","GPS","Není v databázi"]
["Werner Amann",null,null,null,null,"EGC 2023 - 18m",{"$f":"VLOOKUP(F2465,Soutez!A:B,2,FALSE)","v":"PL"},{"$f":"VLOOKUP(F2465,Soutez!A:C,3,FALSE)","v":2023},20,4921,1.095,7274,7965,null,null,"AS 33","WG",{"$f":"IF(ISERROR(VLOOKUP(A2465,Pilot,6,0)),\"Není v databázi\",VLOOKUP(A2465,Pilot,6,0))","v":"Není v databázi"}]
["Christoph Nacke",null,null,null,null,"EGC 2023 - 18m",{"$f":"VLOOKUP(F2466,Soutez!A:B,2,FALSE)","v":"PL"},{"$f":"VLOOKUP(F2466,Soutez!A:C,3,FALSE)","v":2023},21,4887,1.095,7147,7826,null,null,"JS3","SP","Není v databázi"]
["Alberto Pozzi",null,null,null,null,"EGC 2023 - 18m",{"$f":"VLOOKUP(F2467,Soutez!A:B,2,FALSE)","v":"PL"},{"$f":"VLOOKUP(F2467,Soutez!A:C,3,FALSE)","v":2023},22,4840,1.095,7005,7670,null,null,"JS1","LEO","Není v databázi"]
["Yacine Vigourel",null,null,null,null,"EGC 2023 - 18m",{"$f":"VLOOKUP(F2468,Soutez!A:B,2,FALSE)","v":"PL"},{"$f":"VLOOKUP(F2468,Soutez!A:C,3,FALSE)","v":2023},23,4815,1.095,6890,7545,null,null,"JS3","KW","Není v databázi"]
["Giancarlo Grinza",null,null,null,null,"EGC 2023 - 18m",{"$f":"VLOOKUP(F2469,Soutez!A:B,2,FALSE)","v":"PL"},{"$f":"VLOOKUP(F2469,Soutez!A:C,3,FALSE)","v":2023},24,4694,1.095,6659,7292,null,null,"Ventus 3F","CU","Není v databázi"]
["Gary Stingemore",null,null,null,null,"EGC 2023 - 18m",{"$f":"VLOOKUP(F2470,Soutez!A:B,2,FALSE)","v":"PL"},{"$f":"VLOOKUP(F2470,Soutez!A:C,3,FALSE)","v":2023},25,4439,{"$f":"VLOOKUP(F2470,Soutez,12,0)","v":1.095},6267,6862,null,null,"AS 33 Es",10,"Není v databázi"]
["Peter Eriksen",null,null,null,null,"EGC 2023 - 18m",{"$f":"VLOOKUP(F2471,Soutez!A:B,2,FALSE)","v":"PL"},{"$f":"VLOOKUP(F2471,Soutez!A:C,3,FALSE)","v":2023},26,4425,1.095,6165,6751,null,null,"AS 33 Es","PE","Není v databázi"]
["Mikko Nurminen",null,null,null,null,"EGC 2023 - 18m",{"$f":"VLOOKUP(F2472,Soutez!A:B,2,FALSE)","v":"PL"},{"$f":"VLOOKUP(F2472,Soutez!A:C,3,FALSE)","v":2023},27,4393,1.095,6041,6615,null,null,"Ventus 2 cxa FES","AL","Není v databázi"]
["Kato Kvitne",null,null,null,null,"EGC 2023 - 18m",{"$f":"VLOOKUP(F2473,Soutez!A:B,2,FALSE)","v":"PL"},{"$f":"VLOOKUP(F2473,Soutez!A:C,3,FALSE)","v":2023},28,4293,1.095,5835,6389,null,null,"JS3 RES","EL","Není v databázi"]
["Vladimir Foltin",null,null,null,null,"EGC 2023 - 18m",{"$f":"VLOOKUP(F2474,Soutez!A:B,2,FALSE)","v":"PL"},{"$f":"VLOOKUP(F2474,Soutez!A:C,3,FALSE)","v":2023},29,4290,1.095,5746,6292,null,null,"JS3",3,"Není v databázi"]
["Viktoras Kukcikaitis",null,null,null,null,"EGC 2023 - 18m",{"$f":"VLOOKUP(F2475,Soutez!A:B,2,FALSE)","v":"PL"},{"$f":"VLOOKUP(F2475,Soutez!A:C,3,FALSE)","v":2023},30,4208,1.095,5562,6090,null,null,"JS1 B","LR","Není v databázi"]
["Takeshi Maruyama",null,null,null,null,"EGC 2023 - 18m",{"$f":"VLOOKUP(F2476,Soutez!A:B,2,FALSE)","v":"PL"},{"$f":"VLOOKUP(F2476,Soutez!A:C,3,FALSE)","v":2023},"HC",3994,null,null,null,null,null,"JS3","AX","Není v databázi"]
["Radek Krejcirik",{"$f":"VLOOKUP(A2477,Pilot,2,0)","v":1991},{"$f":"VLOOKUP(A2477,Pilot,5,0)","v":"M"},{"$f":"VLOOKUP(A2477,Pilot,3,0)","v":"Hranice"},{"$f":"VLOOKUP(A2477,Pilot,4,0)","v":"CZ/M"},"EGC 2023 - 18m",{"$f":"VLOOKUP(F2477,Soutez!A:B,2,FALSE)","v":"PL"},{"$f":"VLOOKUP(F2477,Soutez!A:C,3,FALSE)","v":2023},31,3756,{"$f":"VLOOKUP(F2477,Soutez,12,0)","v":1.095},{"$f":"ROUND(J2477/MAX($J$2446:$J$2482)*10000*0.7+(MAX($I$2446:$I$2482)-I2477)/(MAX($I$2446:$I$2482)-1)*10000*0.3,0)","v":4934},5403,null,null,"AS 33 Es",12,""]
["Joze Verdev",null,null,null,null,"EGC 2023 - 18m",{"$f":"VLOOKUP(F2478,Soutez!A:B,2,FALSE)","v":"PL"},{"$f":"VLOOKUP(F2478,Soutez!A:C,3,FALSE)","v":2023},32,3639,1.095,4708,5155,null,null,"JS1 C","DZ","Není v databázi"]
["Zoltan Hamar",null,null,null,null,"EGC 2023 - 18m",{"$f":"VLOOKUP(F2479,Soutez!A:B,2,FALSE)","v":"PL"},{"$f":"VLOOKUP(F2479,Soutez!A:C,3,FALSE)","v":2023},33,3596,1.095,4570,5004,null,null,"JS3","7A","Není v databázi"]
["George Schuit",null,null,null,null,"EGC 2023 - 18m",{"$f":"VLOOKUP(F2480,Soutez!A:B,2,FALSE)","v":"PL"},{"$f":"VLOOKUP(F2480,Soutez!A:C,3,FALSE)","v":2023},34,3285,1.095,4112,4503,null,null,"JS3 Jet","MM","Není v databázi"]
["Rune Hovda",null,null,null,null,"EGC 2023 - 18m",{"$f":"VLOOKUP(F2481,Soutez!A:B,2,FALSE)","v":"PL"},{"$f":"VLOOKUP(F2481,Soutez!A:C,3,FALSE)","v":2023},35,3101,1.095,3805,4166,null,null,"Ventus 3M","RH","Není v databázi"]
["Ulf Ringertz",null,null,null,null,"EGC 2023 - 18m",{"$f":"VLOOKUP(F2482,Soutez!A:B,2,FALSE)","v":"PL"},{"$f":"VLOOKUP(F2482,Soutez!A:C,3,FALSE)","v":2023},36,2975,1.095,3568,{"$f":"ROUND(K2482*L2482,0)","v":3907},null,null,"Ventus 2cxT","UR","Není v databázi"]
["Markus Frank",null,null,null,null,"EGC 2023 - Open",{"$f":"VLOOKUP(F2483,Soutez!A:B,2,FALSE)","v":"PL"},{"$f":"VLOOKUP(F2483,Soutez!A:C,3,FALSE)","v":2023},1,6178,1.06,{"$f":"ROUND(J2483/MAX($J$2483:$J$2497)*10000*0.7+(MAX($I$2483:$I$2497)-I2483)/(MAX($I$2483:$I$2497)-1)*10000*0.3,0)","v":10000},{"$f":"ROUND(K2483*L2483,0)","v":10600},null,null,"EB29R","FE","Není v databázi"]
["Tomasz Rubaj",null,null,null,null,"EGC 2023 - Open",{"$f":"VLOOKUP(F2484,Soutez!A:B,2,FALSE)","v":"PL"},{"$f":"VLOOKUP(F2484,Soutez!A:C,3,FALSE)","v":2023},2,5952,1.06,9530,{"$f":"ROUND(K2484*L2484,0)","v":10102},null,null,"JS1 C","P","Není v databázi"]
["Sylvain Gerbaud",null,null,null,null,"EGC 2023 - Open",{"$f":"VLOOKUP(F2485,Soutez!A:B,2,FALSE)","v":"PL"},{"$f":"VLOOKUP(F2485,Soutez!A:C,3,FALSE)","v":2023},3,5945,1.06,9307,9865,null,null,"EB29R",72,"Není v databázi"]
["Francois Jeremiasse",null,null,null,null,"EGC 2023 - Open",{"$f":"VLOOKUP(F2486,Soutez!A:B,2,FALSE)","v":"PL"},{"$f":"VLOOKUP(F2486,Soutez!A:C,3,FALSE)","v":2023},4,5889,1.06,9030,9572,null,null,"EB29R","XR","Není v databázi"]
["David Mach",{"$f":"VLOOKUP(A2487,Pilot,2,0)","v":1994},{"$f":"VLOOKUP(A2487,Pilot,5,0)","v":"M"},{"$f":"VLOOKUP(A2487,Pilot,3,0)","v":"Hronov"},{"$f":"VLOOKUP(A2487,Pilot,4,0)","v":"CZ/C2"},"EGC 2023 - Open",{"$f":"VLOOKUP(F2487,Soutez!A:B,2,FALSE)","v":"PL"},{"$f":"VLOOKUP(F2487,Soutez!A:C,3,FALSE)","v":2023},5,5845,1.06,8766,9292,"x",null,"JS1 C","ZF",""]
["Oliver Binder",null,null,null,null,"EGC 2023 - Open",{"$f":"VLOOKUP(F2488,Soutez!A:B,2,FALSE)","v":"PL"},{"$f":"VLOOKUP(F2488,Soutez!A:C,3,FALSE)","v":2023},6,5615,1.06,8291,8788,null,null,"EB29R","OR","Není v databázi"]
["Andrew Davis",null,null,null,null,"EGC 2023 - Open",{"$f":"VLOOKUP(F2489,Soutez!A:B,2,FALSE)","v":"PL"},{"$f":"VLOOKUP(F2489,Soutez!A:C,3,FALSE)","v":2023},7,5337,1.06,7761,8227,null,null,"JS-MD 1C",80,"Není v databázi"]
["Tim Jenkinson",null,null,null,null,"EGC 2023 - Open",{"$f":"VLOOKUP(F2490,Soutez!A:B,2,FALSE)","v":"PL"},{"$f":"VLOOKUP(F2490,Soutez!A:C,3,FALSE)","v":2023},8,5263,1.06,7463,7911,null,null,"JS1 C","TJ","Není v databázi"]
["Sami Rissanen",null,null,null,null,"EGC 2023 - Open",{"$f":"VLOOKUP(F2491,Soutez!A:B,2,FALSE)","v":"PL"},{"$f":"VLOOKUP(F2491,Soutez!A:C,3,FALSE)","v":2023},9,5184,1.06,7159,{"$f":"ROUND(K2491*L2491,0)","v":7589},null,null,"EB28 Edition","EX","Není v databázi"]
["Mélanie Gadoulet",null,null,null,null,"EGC 2023 - Open",{"$f":"VLOOKUP(F2492,Soutez!A:B,2,FALSE)","v":"PL"},{"$f":"VLOOKUP(F2492,Soutez!A:C,3,FALSE)","v":2023},10,5000,1.06,6737,7141,null,null,"JS1","FD","Není v databázi"]
["Teet Jagomägi",null,null,null,null,"EGC 2023 - Open",{"$f":"VLOOKUP(F2493,Soutez!A:B,2,FALSE)","v":"PL"},{"$f":"VLOOKUP(F2493,Soutez!A:C,3,FALSE)","v":2023},11,4699,1.06,6181,6552,null,null,"JS1 C",56,"Není v databázi"]
["Zdzisław Bednarczuk",null,null,null,null,"EGC 2023 - Open",{"$f":"VLOOKUP(F2494,Soutez!A:B,2,FALSE)","v":"PL"},{"$f":"VLOOKUP(F2494,Soutez!A:C,3,FALSE)","v":2023},12,4404,1.06,5633,5971,null,null,"JS3 Jet","ZB","Není v databázi"]
["Laszlo Kapuy",null,null,null,null,"EGC 2023 - Open",{"$f":"VLOOKUP(F2495,Soutez!A:B,2,FALSE)","v":"PL"},{"$f":"VLOOKUP(F2495,Soutez!A:C,3,FALSE)","v":2023},13,4204,1.06,5192,5504,null,null,"EB29D","HB","Není v databázi"]
["Radek Kucirek",{"$f":"VLOOKUP(A2496,Pilot,2,0)","v":1973},{"$f":"VLOOKUP(A2496,Pilot,5,0)","v":"M"},{"$f":"VLOOKUP(A2496,Pilot,3,0)","v":"Havlíčkův Brod"},{"$f":"VLOOKUP(A2496,Pilot,4,0)","v":"CZ/C2"},"EGC 2023 - Open",{"$f":"VLOOKUP(F2496,Soutez!A:B,2,FALSE)","v":"PL"},{"$f":"VLOOKUP(F2496,Soutez!A:C,3,FALSE)","v":2023},14,4070,1.06,4826,5116,null,null,"EB 28 edition","NA",""]
["Laszlo Istvan Bano",null,null,null,null,"EGC 2023 - Open",{"$f":"VLOOKUP(F2497,Soutez!A:B,2,FALSE)","v":"PL"},{"$f":"VLOOKUP(F2497,Soutez!A:C,3,FALSE)","v":2023},15,3599,1.06,4078,4323,null,null,"JS1 C","AAD","Není v databázi"]
["Kettunen & Sorri",null,null,null,null,"EGC 2023 - Duo 20m",{"$f":"VLOOKUP(F2498,Soutez!A:B,2,FALSE)","v":"PL"},{"$f":"VLOOKUP(F2498,Soutez!A:C,3,FALSE)","v":2023},1,6358,1.085,{"$f":"ROUND(J2498/MAX($J$2498:$J$2519)*10000*0.7+(MAX($I$2498:$I$2519)-I2498)/(MAX($I$2498:$I$2519)-1)*10000*0.3,0)","v":10000},{"$f":"ROUND(K2498*L2498,0)","v":10850},null,null,"Arcus M","AM","Není v databázi"]
["Harvey & Dawes",null,null,null,null,"EGC 2023 - Duo 20m",{"$f":"VLOOKUP(F2499,Soutez!A:B,2,FALSE)","v":"PL"},{"$f":"VLOOKUP(F2499,Soutez!A:C,3,FALSE)","v":2023},2,6356,1.085,9855,{"$f":"ROUND(K2499*L2499,0)","v":10693},null,null,"Arcus M",5,"Není v databázi"]
["Coppin & Jones",null,null,null,null,"EGC 2023 - Duo 20m",{"$f":"VLOOKUP(F2500,Soutez!A:B,2,FALSE)","v":"PL"},{"$f":"VLOOKUP(F2500,Soutez!A:C,3,FALSE)","v":2023},3,6196,1.085,9536,10347,null,null,"Arcus M","I10","Není v databázi"]
["Borgmann & Wolff",null,null,null,null,"EGC 2023 - Duo 20m",{"$f":"VLOOKUP(F2501,Soutez!A:B,2,FALSE)","v":"PL"},{"$f":"VLOOKUP(F2501,Soutez!A:C,3,FALSE)","v":2023},4,6125,1.085,9315,10107,null,null,"Arcus 20T","DX","Není v databázi"]
["Müller & Hörber",null,null,null,null,"EGC 2023 - Duo 20m",{"$f":"VLOOKUP(F2502,Soutez!A:B,2,FALSE)","v":"PL"},{"$f":"VLOOKUP(F2502,Soutez!A:C,3,FALSE)","v":2023},5,5988,1.085,9021,9788,null,null,"Arcus T","HLB","Není v databázi"]
["Gmelin & Grote",null,null,null,null,"EGC 2023 - Duo 20m",{"$f":"VLOOKUP(F2503,Soutez!A:B,2,FALSE)","v":"PL"},{"$f":"VLOOKUP(F2503,Soutez!A:C,3,FALSE)","v":2023},6,5935,1.085,8820,9570,null,null,"Arcus T","V8","Není v databázi"]
["Gulyas & Korom",null,null,null,null,"EGC 2023 - Duo 20m",{"$f":"VLOOKUP(F2504,Soutez!A:B,2,FALSE)","v":"PL"},{"$f":"VLOOKUP(F2504,Soutez!A:C,3,FALSE)","v":2023},7,5827,1.085,8558,9285,null,null,"Arcus T","HUX","Není v databázi"]
["de Péchy & Bouderlique",null,null,null,null,"EGC 2023 - Duo 20m",{"$f":"VLOOKUP(F2505,Soutez!A:B,2,FALSE)","v":"PL"},{"$f":"VLOOKUP(F2505,Soutez!A:C,3,FALSE)","v":2023},8,5809,1.085,8396,9110,null,null,"Arcus 20T","MG","Není v databázi"]
["Bielen & Snyers",null,null,null,null,"EGC 2023 - Duo 20m",{"$f":"VLOOKUP(F2506,Soutez!A:B,2,FALSE)","v":"PL"},{"$f":"VLOOKUP(F2506,Soutez!A:C,3,FALSE)","v":2023},9,5643,1.085,8070,8756,null,null,"Arcus T","CR","Není v databázi"]
["Bjøro & Bjøro",null,null,null,null,"EGC 2023 - Duo 20m",{"$f":"VLOOKUP(F2507,Soutez!A:B,2,FALSE)","v":"PL"},{"$f":"VLOOKUP(F2507,Soutez!A:C,3,FALSE)","v":2023},10,5131,1.085,7363,7989,null,null,"Arcus M","FJ","Není v databázi"]
["Ørskov & Mix",null,null,null,null,"EGC 2023 - Duo 20m",{"$f":"VLOOKUP(F2508,Soutez!A:B,2,FALSE)","v":"PL"},{"$f":"VLOOKUP(F2508,Soutez!A:C,3,FALSE)","v":2023},11,5080,1.085,7164,7773,null,null,"Arcus T","BI","Není v databázi"]
["Czeladzki & Biela",null,null,null,null,"EGC 2023 - Duo 20m",{"$f":"VLOOKUP(F2509,Soutez!A:B,2,FALSE)","v":"PL"},{"$f":"VLOOKUP(F2509,Soutez!A:C,3,FALSE)","v":2023},12,5059,{"$f":"VLOOKUP(F2509,Soutez,12,0)","v":1.085},6998,7593,null,null,"Duo Discus T","POL","Není v databázi"]
["Hirvola & Ganszauge",null,null,null,null,"EGC 2023 - Duo 20m",{"$f":"VLOOKUP(F2510,Soutez!A:B,2,FALSE)","v":"PL"},{"$f":"VLOOKUP(F2510,Soutez!A:C,3,FALSE)","v":2023},13,5058,1.085,6854,7437,null,null,"Arcus T","KA","Není v databázi"]
["Niko & Bobok",null,null,null,null,"EGC 2023 - Duo 20m",{"$f":"VLOOKUP(F2511,Soutez!A:B,2,FALSE)","v":"PL"},{"$f":"VLOOKUP(F2511,Soutez!A:C,3,FALSE)","v":2023},14,4987,1.085,6633,{"$f":"ROUND(K2511*L2511,0)","v":7197},null,null,"Arcus M","CAR","Není v databázi"]
["Tomas Rendla",{"$f":"VLOOKUP(A2512,Pilot,2,0)","v":1973},{"$f":"VLOOKUP(A2512,Pilot,5,0)","v":"M"},{"$f":"VLOOKUP(A2512,Pilot,3,0)","v":"Zbraslavice"},{"$f":"VLOOKUP(A2512,Pilot,4,0)","v":"CZ/C1"},"EGC 2023 - Duo 20m",{"$f":"VLOOKUP(F2512,Soutez!A:B,2,FALSE)","v":"PL"},{"$f":"VLOOKUP(F2512,Soutez!A:C,3,FALSE)","v":2023},15,4969,1.085,6471,7021,null,null,"Arcus M","EY",""]
["Brigliadori & Schiavotto",null,null,null,null,"EGC 2023 - Duo 20m",{"$f":"VLOOKUP(F2513,Soutez!A:B,2,FALSE)","v":"PL"},{"$f":"VLOOKUP(F2513,Soutez!A:C,3,FALSE)","v":2023},16,4968,1.085,6327,6865,null,null,"Arcus M",13,"Není v databázi"]
["Prodorutti & Montemaggi",null,null,null,null,"EGC 2023 - Duo 20m",{"$f":"VLOOKUP(F2514,Soutez!A:B,2,FALSE)","v":"PL"},{"$f":"VLOOKUP(F2514,Soutez!A:C,3,FALSE)","v":2023},17,4721,1.085,5912,6415,null,null,"Arcus M","BPG","Není v databázi"]
["Jørgensen & Nielsen",null,null,null,null,"EGC 2023 - Duo 20m",{"$f":"VLOOKUP(F2515,Soutez!A:B,2,FALSE)","v":"PL"},{"$f":"VLOOKUP(F2515,Soutez!A:C,3,FALSE)","v":2023},18,4058,1.085,5039,5467,null,null,"Arcus T","JT","Není v databázi"]
["Käppeli & Hirt",null,null,null,null,"EGC 2023 - Duo 20m",{"$f":"VLOOKUP(F2516,Soutez!A:B,2,FALSE)","v":"PL"},{"$f":"VLOOKUP(F2516,Soutez!A:C,3,FALSE)","v":2023},19,3970,1.085,4799,5207,null,null,"Arcus M",1,"Není v databázi"]
["Ivan Novak",{"$f":"VLOOKUP(A2517,Pilot,2,0)","v":1962},{"$f":"VLOOKUP(A2517,Pilot,5,0)","v":"M"},{"$f":"VLOOKUP(A2517,Pilot,3,0)","v":"Mladá Boleslav"},{"$f":"VLOOKUP(A2517,Pilot,4,0)","v":"CZ/C1"},"EGC 2023 - Duo 20m",{"$f":"VLOOKUP(F2517,Soutez!A:B,2,FALSE)","v":"PL"},{"$f":"VLOOKUP(F2517,Soutez!A:C,3,FALSE)","v":2023},20,3760,1.085,4425,4801,null,null,"HpH304 TS Twin Shark","FNC",""]
["Barszcz & Kornacki",null,null,null,null,"EGC 2023 - Duo 20m",{"$f":"VLOOKUP(F2518,Soutez!A:B,2,FALSE)","v":"PL"},{"$f":"VLOOKUP(F2518,Soutez!A:C,3,FALSE)","v":2023},21,3585,1.085,4090,4438,null,null,"Arcus T","ZAR","Není v databázi"]
["Kiss & Rehus",null,null,null,null,"EGC 2023 - Duo 20m",{"$f":"VLOOKUP(F2519,Soutez!A:B,2,FALSE)","v":"PL"},{"$f":"VLOOKUP(F2519,Soutez!A:C,3,FALSE)","v":2023},22,2383,1.085,2624,2847,null,null,"Arcus T","SQ","Není v databázi"]
["Kim Toppari",null,null,"Finland",null,"JEGC 2023 - Klub",{"$f":"VLOOKUP(F2520,Soutez!A:B,2,FALSE)","v":"DK"},{"$f":"VLOOKUP(F2520,Soutez!A:C,3,FALSE)","v":2023},1,2823,1.02,{"$f":"ROUND(J2520/MAX($J$2520:$J$2555)*10000*0.7+(MAX($I$2520:$I$2555)-I2520)/(MAX($I$2520:$I$2555)-1)*10000*0.3,0)","v":10000},{"$f":"ROUND(K2520*L2520,0)","v":10200},null,null,"LS 7","KT","Není v databázi"]
["Toby Freeland",null,null,"United Kingdom",null,"JEGC 2023 - Klub",{"$f":"VLOOKUP(F2521,Soutez!A:B,2,FALSE)","v":"DK"},{"$f":"VLOOKUP(F2521,Soutez!A:C,3,FALSE)","v":2023},2,2822,1.02,9912,{"$f":"ROUND(K2521*L2521,0)","v":10110},null,null,"ASW 20",212,"Není v databázi"]
["Alexandre Fierain",null,null,"France",null,"JEGC 2023 - Klub",{"$f":"VLOOKUP(F2522,Soutez!A:B,2,FALSE)","v":"DK"},{"$f":"VLOOKUP(F2522,Soutez!A:C,3,FALSE)","v":2023},3,2773,1.02,9705,9899,null,null,"ASW 20","WE","Není v databázi"]
["Matthieu Hénin",null,null,"France",null,"JEGC 2023 - Klub",{"$f":"VLOOKUP(F2523,Soutez!A:B,2,FALSE)","v":"DK"},{"$f":"VLOOKUP(F2523,Soutez!A:C,3,FALSE)","v":2023},4,2764,1.02,9597,9789,null,null,"ASW 20F","X29","Není v databázi"]
["Jan Stastny",{"$f":"VLOOKUP(A2524,Pilot,2,0)","v":2003},{"$f":"VLOOKUP(A2524,Pilot,5,0)","v":"M"},{"$f":"VLOOKUP(A2524,Pilot,3,0)","v":"Medlánky"},{"$f":"VLOOKUP(A2524,Pilot,4,0)","v":"CZ/M"},"JEGC 2023 - Klub",{"$f":"VLOOKUP(F2524,Soutez!A:B,2,FALSE)","v":"DK"},{"$f":"VLOOKUP(F2524,Soutez!A:C,3,FALSE)","v":2023},5,2736,1.02,9441,9630,"x",null,"ASW 20","CPI","Junior v roce 2024"]
["Lars van Breemen",null,null,"Netherlands",null,"JEGC 2023 - Klub",{"$f":"VLOOKUP(F2525,Soutez!A:B,2,FALSE)","v":"DK"},{"$f":"VLOOKUP(F2525,Soutez!A:C,3,FALSE)","v":2023},6,2696,1.02,9257,9442,null,null,"LS 4b","S4","Není v databázi"]
["Simon Siska",null,null,"Slovakia",null,"JEGC 2023 - Klub",{"$f":"VLOOKUP(F2526,Soutez!A:B,2,FALSE)","v":"DK"},{"$f":"VLOOKUP(F2526,Soutez!A:C,3,FALSE)","v":2023},7,2661,1.02,9084,9266,null,null,"ASW 24","CK",{"$f":"IF(ISERROR(VLOOKUP(A2526,Pilot,6,0)),\"Není v databázi\",VLOOKUP(A2526,Pilot,6,0))","v":"Není v databázi"}]
["Gerrit Neugebauer",null,null,"Germany",null,"JEGC 2023 - Klub",{"$f":"VLOOKUP(F2527,Soutez!A:B,2,FALSE)","v":"DK"},{"$f":"VLOOKUP(F2527,Soutez!A:C,3,FALSE)","v":2023},8,2658,1.02,8991,9171,null,null,"LS 4","7E","Není v databázi"]
["Jakub Kaczorowski",null,null,"Poland",null,"JEGC 2023 - Klub",{"$f":"VLOOKUP(F2528,Soutez!A:B,2,FALSE)","v":"DK"},{"$f":"VLOOKUP(F2528,Soutez!A:C,3,FALSE)","v":2023},9,2650,1.02,8885,9063,null,null,"Mini Nimbus","DF","Není v databázi"]
["Maciej Kowalski",null,null,"Poland",null,"JEGC 2023 - Klub",{"$f":"VLOOKUP(F2529,Soutez!A:B,2,FALSE)","v":"DK"},{"$f":"VLOOKUP(F2529,Soutez!A:C,3,FALSE)","v":2023},10,2626,1.02,8740,8915,null,null,"ASW 20F","LN","Není v databázi"]
["Johannes Beyer",null,null,"Germany",null,"JEGC 2023 - Klub",{"$f":"VLOOKUP(F2530,Soutez!A:B,2,FALSE)","v":"DK"},{"$f":"VLOOKUP(F2530,Soutez!A:C,3,FALSE)","v":2023},10,2626,1.02,8740,8915,null,null,"LS 4","FT","Není v databázi"]
["Miles Chalk Kjær",null,null,"Denmark",null,"JEGC 2023 - Klub",{"$f":"VLOOKUP(F2531,Soutez!A:B,2,FALSE)","v":"DK"},{"$f":"VLOOKUP(F2531,Soutez!A:C,3,FALSE)","v":2023},12,2623,1.02,8561,8732,null,null,"ASW 20","CB","Není v databázi"]
["Jens Andersen",null,null,"Denmark",null,"JEGC 2023 - Klub",{"$f":"VLOOKUP(F2532,Soutez!A:B,2,FALSE)","v":"DK"},{"$f":"VLOOKUP(F2532,Soutez!A:C,3,FALSE)","v":2023},13,2605,1.02,8431,8600,null,null,"LS 3a","TM","Není v databázi"]
["Nils Heck",null,null,"Germany",null,"JEGC 2023 - Klub",{"$f":"VLOOKUP(F2533,Soutez!A:B,2,FALSE)","v":"DK"},{"$f":"VLOOKUP(F2533,Soutez!A:C,3,FALSE)","v":2023},14,2589,1.02,8305,8471,null,null,"LS 4b","I","Není v databázi"]
["Alessandro Bassalti",null,null,"Italy",null,"JEGC 2023 - Klub",{"$f":"VLOOKUP(F2534,Soutez!A:B,2,FALSE)","v":"DK"},{"$f":"VLOOKUP(F2534,Soutez!A:C,3,FALSE)","v":2023},15,2573,1.02,8180,8344,null,null,"Discus b","5I","Není v databázi"]
["Elias Severholt Fourati",null,null,"Sweden",null,"JEGC 2023 - Klub",{"$f":"VLOOKUP(F2535,Soutez!A:B,2,FALSE)","v":"DK"},{"$f":"VLOOKUP(F2535,Soutez!A:C,3,FALSE)","v":2023},16,2555,1.02,8050,8211,null,null,"LS 4","XD","Není v databázi"]
["Tim Kremers",null,null,"Netherlands",null,"JEGC 2023 - Klub",{"$f":"VLOOKUP(F2536,Soutez!A:B,2,FALSE)","v":"DK"},{"$f":"VLOOKUP(F2536,Soutez!A:C,3,FALSE)","v":2023},17,2499,1.02,7825,7982,null,null,"LS 4","AU","Není v databázi"]
["Sara Salonen",null,null,"Finland",null,"JEGC 2023 - Klub",{"$f":"VLOOKUP(F2537,Soutez!A:B,2,FALSE)","v":"DK"},{"$f":"VLOOKUP(F2537,Soutez!A:C,3,FALSE)","v":2023},18,2451,1.02,7620,7772,null,null,"LS 7","HV","Není v databázi"]
["Wout Sliedregt",null,null,"Netherlands",null,"JEGC 2023 - Klub",{"$f":"VLOOKUP(F2538,Soutez!A:B,2,FALSE)","v":"DK"},{"$f":"VLOOKUP(F2538,Soutez!A:C,3,FALSE)","v":2023},19,2440,1.02,7507,7657,null,null,"LS 4a","AG","Není v databázi"]
["Mikko Ylihärsilä",null,null,"Finland",null,"JEGC 2023 - Klub",{"$f":"VLOOKUP(F2539,Soutez!A:B,2,FALSE)","v":"DK"},{"$f":"VLOOKUP(F2539,Soutez!A:C,3,FALSE)","v":2023},20,2436,1.02,7412,7560,null,null,"LS 7","GE","Není v databázi"]
["Titas Jovaisa",null,null,"Lithuania",null,"JEGC 2023 - Klub",{"$f":"VLOOKUP(F2540,Soutez!A:B,2,FALSE)","v":"DK"},{"$f":"VLOOKUP(F2540,Soutez!A:C,3,FALSE)","v":2023},21,2382,1.02,7192,7336,null,null,"ASW 20F","W4","Není v databázi"]
["Wiktor Czubski",null,null,"Poland",null,"JEGC 2023 - Klub",{"$f":"VLOOKUP(F2541,Soutez!A:B,2,FALSE)","v":"DK"},{"$f":"VLOOKUP(F2541,Soutez!A:C,3,FALSE)","v":2023},22,2305,{"$f":"VLOOKUP(F2541,Soutez,12,0)","v":1.02},6916,7054,null,null,"SZD 55-1","JB","Není v databázi"]
["Vladimir Hammer",{"$f":"VLOOKUP(A2542,Pilot,2,0)","v":2000},{"$f":"VLOOKUP(A2542,Pilot,5,0)","v":"M"},{"$f":"VLOOKUP(A2542,Pilot,3,0)","v":"Letkov"},{"$f":"VLOOKUP(A2542,Pilot,4,0)","v":"CZ/C1"},"JEGC 2023 - Klub",{"$f":"VLOOKUP(F2542,Soutez!A:B,2,FALSE)","v":"DK"},{"$f":"VLOOKUP(F2542,Soutez!A:C,3,FALSE)","v":2023},23,2279,1.02,6765,6900,null,null,"ASW 20L","CX","Junior v roce 2024"]
["Matteo Merk",null,null,"Switzerland",null,"JEGC 2023 - Klub",{"$f":"VLOOKUP(F2543,Soutez!A:B,2,FALSE)","v":"DK"},{"$f":"VLOOKUP(F2543,Soutez!A:C,3,FALSE)","v":2023},24,2151,1.02,6362,{"$f":"ROUND(K2543*L2543,0)","v":6489},null,null,"LS 4","WG","Není v databázi"]
["Tomas Hynek",{"$f":"VLOOKUP(A2544,Pilot,2,0)","v":2002},{"$f":"VLOOKUP(A2544,Pilot,5,0)","v":"M"},{"$f":"VLOOKUP(A2544,Pilot,3,0)","v":"Dvůr Králové"},{"$f":"VLOOKUP(A2544,Pilot,4,0)","v":"CZ/C2"},"JEGC 2023 - Klub",{"$f":"VLOOKUP(F2544,Soutez!A:B,2,FALSE)","v":"DK"},{"$f":"VLOOKUP(F2544,Soutez!A:C,3,FALSE)","v":2023},25,2144,1.02,6259,6384,null,null,"ASW 20C","VW","Junior v roce 2024"]
["Jakob Prior",null,null,"Austria",null,"JEGC 2023 - Klub",{"$f":"VLOOKUP(F2545,Soutez!A:B,2,FALSE)","v":"DK"},{"$f":"VLOOKUP(F2545,Soutez!A:C,3,FALSE)","v":2023},26,2061,1.02,5968,6087,null,null,"LS 1f","ISV","Není v databázi"]
["George White",null,null,"United Kingdom",null,"JEGC 2023 - Klub",{"$f":"VLOOKUP(F2546,Soutez!A:B,2,FALSE)","v":"DK"},{"$f":"VLOOKUP(F2546,Soutez!A:C,3,FALSE)","v":2023},27,2032,1.02,5810,5926,null,null,"ASW 20L","ENW","Není v databázi"]
["Dylan Osolian",null,null,"Sweden",null,"JEGC 2023 - Klub",{"$f":"VLOOKUP(F2547,Soutez!A:B,2,FALSE)","v":"DK"},{"$f":"VLOOKUP(F2547,Soutez!A:C,3,FALSE)","v":2023},28,2028,1.02,5714,5828,null,null,"LS 3a","CP","Není v databázi"]
["Lilla Szamosujvari",null,null,"Hungary",null,"JEGC 2023 - Klub",{"$f":"VLOOKUP(F2548,Soutez!A:B,2,FALSE)","v":"DK"},{"$f":"VLOOKUP(F2548,Soutez!A:C,3,FALSE)","v":2023},29,1882,1.02,5267,5372,null,null,"Glasflügel 304","JM","Není v databázi"]
["Valeria Huber",null,null,"Switzerland",null,"JEGC 2023 - Klub",{"$f":"VLOOKUP(F2549,Soutez!A:B,2,FALSE)","v":"DK"},{"$f":"VLOOKUP(F2549,Soutez!A:C,3,FALSE)","v":2023},30,1844,1.02,5087,5189,null,null,"Discus b","S5","Není v databázi"]
["Ludvig Jauring",null,null,"Sweden",null,"JEGC 2023 - Klub",{"$f":"VLOOKUP(F2550,Soutez!A:B,2,FALSE)","v":"DK"},{"$f":"VLOOKUP(F2550,Soutez!A:C,3,FALSE)","v":2023},31,1783,1.02,4850,4947,null,null,"DG 100 G Elan","AB","Není v databázi"]
["Guillaume Ottolini",null,null,"France",null,"JEGC 2023 - Klub",{"$f":"VLOOKUP(F2551,Soutez!A:B,2,FALSE)","v":"DK"},{"$f":"VLOOKUP(F2551,Soutez!A:C,3,FALSE)","v":2023},32,1779,1.02,4754,4849,null,null,"LS 7 WL","IAG","Není v databázi"]
["Robbe Van Brandt",null,null,"Belgium",null,"JEGC 2023 - Klub",{"$f":"VLOOKUP(F2552,Soutez!A:B,2,FALSE)","v":"DK"},{"$f":"VLOOKUP(F2552,Soutez!A:C,3,FALSE)","v":2023},33,1765,1.02,4634,4727,null,null,"ASW 15","PP","Není v databázi"]
["Jokubas Motuza",null,null,"Lithuania",null,"JEGC 2023 - Klub",{"$f":"VLOOKUP(F2553,Soutez!A:B,2,FALSE)","v":"DK"},{"$f":"VLOOKUP(F2553,Soutez!A:C,3,FALSE)","v":2023},34,1706,1.02,4402,4490,null,null,"ASW 20F","VJ","Není v databázi"]
["Maté Mészaros",null,null,"Hungary",null,"JEGC 2023 - Klub",{"$f":"VLOOKUP(F2554,Soutez!A:B,2,FALSE)","v":"DK"},{"$f":"VLOOKUP(F2554,Soutez!A:C,3,FALSE)","v":2023},35,1661,1.02,4204,4288,null,null,"ASW 19 B","DB","Není v databázi"]
["Oskar Minds",null,null,"Denmark",null,"JEGC 2023 - Klub",{"$f":"VLOOKUP(F2555,Soutez!A:B,2,FALSE)","v":"DK"},{"$f":"VLOOKUP(F2555,Soutez!A:C,3,FALSE)","v":2023},36,1450,1.02,3595,3667,null,null,"LS 4","MD","Není v databázi"]
["Lukas Kriz",{"$f":"VLOOKUP(A2556,Pilot,2,0)","v":2003},{"$f":"VLOOKUP(A2556,Pilot,5,0)","v":"M"},{"$f":"VLOOKUP(A2556,Pilot,3,0)","v":"Křižanov"},{"$f":"VLOOKUP(A2556,Pilot,4,0)","v":"CZ/M"},"JEGC 2023 - Std",{"$f":"VLOOKUP(F2556,Soutez!A:B,2,FALSE)","v":"DK"},{"$f":"VLOOKUP(F2556,Soutez!A:C,3,FALSE)","v":2023},1,2878,1.02,{"$f":"ROUND(J2556/MAX($J$2556:$J$2575)*10000*0.7+(MAX($I$2556:$I$2575)-I2556)/(MAX($I$2556:$I$2575)-1)*10000*0.3,0)","v":10000},{"$f":"ROUND(K2556*L2556,0)","v":10200},"x",null,"LS 8a","AUI","Junior v roce 2024"]
["Jaromir Macoun",1999,"M","Jičín","CZ/C2","JEGC 2023 - Std",{"$f":"VLOOKUP(F2557,Soutez!A:B,2,FALSE)","v":"DK"},{"$f":"VLOOKUP(F2557,Soutez!A:C,3,FALSE)","v":2023},2,2793,1.02,9635,{"$f":"ROUND(K2557*L2557,0)","v":9828},"x",null,"LS 8","EU","Junior v roce 2024"]
["Michaela Rendlova",2004,"F","Toužim","CZ/C1","JEGC 2023 - Std",{"$f":"VLOOKUP(F2558,Soutez!A:B,2,FALSE)","v":"DK"},{"$f":"VLOOKUP(F2558,Soutez!A:C,3,FALSE)","v":2023},3,2769,1.02,9419,9607,"x","x","LS 8","W8","Junior v roce 2024"]
["Lasse Edslev",null,null,"Denmark",null,"JEGC 2023 - Std",{"$f":"VLOOKUP(F2559,Soutez!A:B,2,FALSE)","v":"DK"},{"$f":"VLOOKUP(F2559,Soutez!A:C,3,FALSE)","v":2023},4,2723,1.02,9149,9332,null,null,"LS 8 Neo","EC","Není v databázi"]
["Jacob Bøgelund Lassen",null,null,"Denmark",null,"JEGC 2023 - Std",{"$f":"VLOOKUP(F2560,Soutez!A:B,2,FALSE)","v":"DK"},{"$f":"VLOOKUP(F2560,Soutez!A:C,3,FALSE)","v":2023},5,2655,1.02,8826,9003,null,null,"Discus 2a","MK","Není v databázi"]
["Niels van Nieuwland",null,null,"Netherlands",null,"JEGC 2023 - Std",{"$f":"VLOOKUP(F2561,Soutez!A:B,2,FALSE)","v":"DK"},{"$f":"VLOOKUP(F2561,Soutez!A:C,3,FALSE)","v":2023},6,2652,1.02,8661,8834,null,null,"LS 8 Neo","VNE","Není v databázi"]
["Freddie Turner",null,null,"United Kingdom",null,"JEGC 2023 - Std",{"$f":"VLOOKUP(F2562,Soutez!A:B,2,FALSE)","v":"DK"},{"$f":"VLOOKUP(F2562,Soutez!A:C,3,FALSE)","v":2023},7,2648,1.02,8493,8663,null,null,"LS 8",325,"Není v databázi"]
["Mathias Valentin",null,null,"Denmark",null,"JEGC 2023 - Std",{"$f":"VLOOKUP(F2563,Soutez!A:B,2,FALSE)","v":"DK"},{"$f":"VLOOKUP(F2563,Soutez!A:C,3,FALSE)","v":2023},8,2572,1.02,8150,8313,null,null,"LS8","KE","Není v databázi"]
["Clemens Berger",null,null,"Germany",null,"JEGC 2023 - Std",{"$f":"VLOOKUP(F2564,Soutez!A:B,2,FALSE)","v":"DK"},{"$f":"VLOOKUP(F2564,Soutez!A:C,3,FALSE)","v":2023},9,2552,1.02,7944,8103,null,null,"LS 8","C","Není v databázi"]
["Theo Napoleon",null,null,"France",null,"JEGC 2023 - Std",{"$f":"VLOOKUP(F2565,Soutez!A:B,2,FALSE)","v":"DK"},{"$f":"VLOOKUP(F2565,Soutez!A:C,3,FALSE)","v":2023},10,2534,1.02,7742,7897,null,null,"Discus 2a","AX","Není v databázi"]
["Ben Edkins",null,null,"United Kingdom",null,"JEGC 2023 - Std",{"$f":"VLOOKUP(F2566,Soutez!A:B,2,FALSE)","v":"DK"},{"$f":"VLOOKUP(F2566,Soutez!A:C,3,FALSE)","v":2023},11,2468,1.02,7424,7572,null,null,"LS 8",302,"Není v databázi"]
["Philippe LATA",null,null,"France",null,"JEGC 2023 - Std",{"$f":"VLOOKUP(F2567,Soutez!A:B,2,FALSE)","v":"DK"},{"$f":"VLOOKUP(F2567,Soutez!A:C,3,FALSE)","v":2023},12,2427,1.02,7166,7309,null,null,"LS 8","CA","Není v databázi"]
["Wiktor Lacinski",null,null,"Poland",null,"JEGC 2023 - Std",{"$f":"VLOOKUP(F2568,Soutez!A:B,2,FALSE)","v":"DK"},{"$f":"VLOOKUP(F2568,Soutez!A:C,3,FALSE)","v":2023},13,2245,1.02,6566,6697,null,null,"LS 8","LOT","Není v databázi"]
["Nuno Ferreira",null,null,"Germany",null,"JEGC 2023 - Std",{"$f":"VLOOKUP(F2569,Soutez!A:B,2,FALSE)","v":"DK"},{"$f":"VLOOKUP(F2569,Soutez!A:C,3,FALSE)","v":2023},14,2181,1.02,6252,6377,null,null,"LS 8 Neo","FJ","Není v databázi"]
["Áron Érseki",null,null,"Hungary",null,"JEGC 2023 - Std",{"$f":"VLOOKUP(F2570,Soutez!A:B,2,FALSE)","v":"DK"},{"$f":"VLOOKUP(F2570,Soutez!A:C,3,FALSE)","v":2023},15,1990,1.02,5630,5743,null,null,"Discus 2a","HAL","Není v databázi"]
["Jan-Lucas Aberle",null,null,"Germany",null,"JEGC 2023 - Std",{"$f":"VLOOKUP(F2571,Soutez!A:B,2,FALSE)","v":"DK"},{"$f":"VLOOKUP(F2571,Soutez!A:C,3,FALSE)","v":2023},16,1954,1.02,5384,{"$f":"ROUND(K2571*L2571,0)","v":5492},null,null,"Discus 2a","JLA","Není v databázi"]
["Claudio Etterli",null,null,"Switzerland",null,"JEGC 2023 - Std",{"$f":"VLOOKUP(F2572,Soutez!A:B,2,FALSE)","v":"DK"},{"$f":"VLOOKUP(F2572,Soutez!A:C,3,FALSE)","v":2023},17,1923,1.02,5151,5254,null,null,"Discus 2b","Z1","Není v databázi"]
["Tomasz Kurowski",null,null,"Poland",null,"JEGC 2023 - Std",{"$f":"VLOOKUP(F2573,Soutez!A:B,2,FALSE)","v":"DK"},{"$f":"VLOOKUP(F2573,Soutez!A:C,3,FALSE)","v":2023},18,1912,{"$f":"VLOOKUP(F2573,Soutez,12,0)","v":1.02},4966,5065,null,null,"Discus 2a","Y","Není v databázi"]
["Sönke Ahlborn",null,null,"Switzerland",null,"JEGC 2023 - Std",{"$f":"VLOOKUP(F2574,Soutez!A:B,2,FALSE)","v":"DK"},{"$f":"VLOOKUP(F2574,Soutez!A:C,3,FALSE)","v":2023},19,1612,1.02,4079,4161,null,null,"Discus 2b","Z2","Není v databázi"]
["Raphael Lutz",null,null,"Switzerland",null,"JEGC 2023 - Std",{"$f":"VLOOKUP(F2575,Soutez!A:B,2,FALSE)","v":"DK"},{"$f":"VLOOKUP(F2575,Soutez!A:C,3,FALSE)","v":2023},20,1354,1.02,3293,3359,null,null,"Discus 2b","UB","Není v databázi"]
["Stefan Langer",null,null,null,null,"SGP Final 2023",{"$f":"VLOOKUP(F2576,Soutez!A:B,2,FALSE)","v":"IT"},{"$f":"VLOOKUP(F2576,Soutez!A:C,3,FALSE)","v":2023},1,19,1.0649999999999999,{"$f":"ROUND((MAX($I$2576:$I$2594)-I2576)/(MAX($I$2576:$I$2594)-1)*10000,0)","v":10000},{"$f":"ROUND(K2576*L2576,0)","v":10650},null,null,"ASG-29 18m","SL","Není v databázi"]
["Erik Borgmann",null,null,null,null,"SGP Final 2023",{"$f":"VLOOKUP(F2577,Soutez!A:B,2,FALSE)","v":"IT"},{"$f":"VLOOKUP(F2577,Soutez!A:C,3,FALSE)","v":2023},2,19,1.0649999999999999,9444,{"$f":"ROUND(K2577*L2577,0)","v":10058},null,null,"JS3 - 18m Jet","JG","Není v databázi"]
["Hermann Leucker",null,null,null,null,"SGP Final 2023",{"$f":"VLOOKUP(F2578,Soutez!A:B,2,FALSE)","v":"IT"},{"$f":"VLOOKUP(F2578,Soutez!A:C,3,FALSE)","v":2023},3,18,1.0649999999999999,8889,9467,null,null,"JS3 - 18m Jet","HL","Není v databázi"]
["Tilo Holighaus",null,null,null,null,"SGP Final 2023",{"$f":"VLOOKUP(F2579,Soutez!A:B,2,FALSE)","v":"IT"},{"$f":"VLOOKUP(F2579,Soutez!A:C,3,FALSE)","v":2023},4,17,1.0649999999999999,8333,8875,null,null,"Ventus 3","3V","Není v databázi"]
["Alberto Sironi",null,null,null,null,"SGP Final 2023",{"$f":"VLOOKUP(F2580,Soutez!A:B,2,FALSE)","v":"IT"},{"$f":"VLOOKUP(F2580,Soutez!A:C,3,FALSE)","v":2023},5,16,1.0649999999999999,7778,8284,null,null,"AS33","MA","Není v databázi"]
["Sebastian Kawa",null,null,null,null,"SGP Final 2023",{"$f":"VLOOKUP(F2581,Soutez!A:B,2,FALSE)","v":"IT"},{"$f":"VLOOKUP(F2581,Soutez!A:C,3,FALSE)","v":2023},6,14,1.0649999999999999,7222,7691,null,null,"Ventus 3","S","Není v databázi"]
["Maximilian Seis",null,null,null,null,"SGP Final 2023",{"$f":"VLOOKUP(F2582,Soutez!A:B,2,FALSE)","v":"IT"},{"$f":"VLOOKUP(F2582,Soutez!A:C,3,FALSE)","v":2023},7,14,1.0649999999999999,6667,7100,null,null,"Ventus 3","NB","Není v databázi"]
["Mike Young",null,null,null,null,"SGP Final 2023",{"$f":"VLOOKUP(F2583,Soutez!A:B,2,FALSE)","v":"IT"},{"$f":"VLOOKUP(F2583,Soutez!A:C,3,FALSE)","v":2023},8,10,1.0649999999999999,6111,6508,null,null,"Ventus 3T","MY","Není v databázi"]
["Marek Sawczuk",null,null,null,null,"SGP Final 2023",{"$f":"VLOOKUP(F2584,Soutez!A:B,2,FALSE)","v":"IT"},{"$f":"VLOOKUP(F2584,Soutez!A:C,3,FALSE)","v":2023},9,10,1.0649999999999999,5556,5917,null,null,"ASG-29 18m","MS","Není v databázi"]
["Klaus Kalmbach",null,null,null,null,"SGP Final 2023",{"$f":"VLOOKUP(F2585,Soutez!A:B,2,FALSE)","v":"IT"},{"$f":"VLOOKUP(F2585,Soutez!A:C,3,FALSE)","v":2023},10,10,1.0649999999999999,5000,5325,null,null,"JS3 - 18m Jet","CT","Není v databázi"]
["Lukasz Grabowski",null,null,null,null,"SGP Final 2023",{"$f":"VLOOKUP(F2586,Soutez!A:B,2,FALSE)","v":"IT"},{"$f":"VLOOKUP(F2586,Soutez!A:C,3,FALSE)","v":2023},11,9,1.0649999999999999,4444,4733,null,null,"JS-1 18m","P","Není v databázi"]
["Thomas Gostner",null,null,null,null,"SGP Final 2023",{"$f":"VLOOKUP(F2587,Soutez!A:B,2,FALSE)","v":"IT"},{"$f":"VLOOKUP(F2587,Soutez!A:C,3,FALSE)","v":2023},12,8,1.0649999999999999,3889,4142,null,null,"Ventus 3","GT","Není v databázi"]
["Giorgio Galetto",null,null,null,null,"SGP Final 2023",{"$f":"VLOOKUP(F2588,Soutez!A:B,2,FALSE)","v":"IT"},{"$f":"VLOOKUP(F2588,Soutez!A:C,3,FALSE)","v":2023},13,6,1.0649999999999999,3333,3550,null,null,"Ventus 3 FES","Y",{"$f":"IF(ISERROR(VLOOKUP(A2588,Pilot,6,0)),\"Není v databázi\",VLOOKUP(A2588,Pilot,6,0))","v":"Není v databázi"}]
["Petr Krejcirik",{"$f":"VLOOKUP(A2589,Pilot,2,0)","v":1960},{"$f":"VLOOKUP(A2589,Pilot,5,0)","v":"M"},{"$f":"VLOOKUP(A2589,Pilot,3,0)","v":"Hranice"},{"$f":"VLOOKUP(A2589,Pilot,4,0)","v":"CZ/M"},"SGP Final 2023",{"$f":"VLOOKUP(F2589,Soutez!A:B,2,FALSE)","v":"IT"},{"$f":"VLOOKUP(F2589,Soutez!A:C,3,FALSE)","v":2023},14,5,1.0649999999999999,2778,2959,null,null,"AS33es",12,""]
["Gilles Navas",null,null,null,null,"SGP Final 2023",{"$f":"VLOOKUP(F2590,Soutez!A:B,2,FALSE)","v":"IT"},{"$f":"VLOOKUP(F2590,Soutez!A:C,3,FALSE)","v":2023},15,4,1.0649999999999999,2222,2366,null,null,"ASG-29 18m","1L","Není v databázi"]
["Dirk Windmüller",null,null,null,null,"SGP Final 2023",{"$f":"VLOOKUP(F2591,Soutez!A:B,2,FALSE)","v":"IT"},{"$f":"VLOOKUP(F2591,Soutez!A:C,3,FALSE)","v":2023},16,3,1.0649999999999999,1667,1775,null,null,"AS33es","FUN","Není v databázi"]
["Jon Gatfield",null,null,null,null,"SGP Final 2023",{"$f":"VLOOKUP(F2592,Soutez!A:B,2,FALSE)","v":"IT"},{"$f":"VLOOKUP(F2592,Soutez!A:C,3,FALSE)","v":2023},17,3,1.0649999999999999,1111,{"$f":"ROUND(K2592*L2592,0)","v":1183},null,null,"AS33es","YO","Není v databázi"]
["Luka Znidarsic",null,null,null,null,"SGP Final 2023",{"$f":"VLOOKUP(F2593,Soutez!A:B,2,FALSE)","v":"IT"},{"$f":"VLOOKUP(F2593,Soutez!A:C,3,FALSE)","v":2023},18,0,1.0649999999999999,556,592,null,null,"Ventus-3 FES","LZ","Není v databázi"]
["Didier Hauss",null,null,null,null,"SGP Final 2023",{"$f":"VLOOKUP(F2594,Soutez!A:B,2,FALSE)","v":"IT"},{"$f":"VLOOKUP(F2594,Soutez!A:C,3,FALSE)","v":2023},19,0,1.0649999999999999,0,0,null,null,"JS-1 18m","SD","Není v databázi"]
["Sebastian Kawa",null,null,"Poland",null,"WGC 2023 - 15m",{"$f":"VLOOKUP(F2595,Soutez!A:B,2,FALSE)","v":"AU"},{"$f":"VLOOKUP(F2595,Soutez!A:C,3,FALSE)","v":2023},1,9121,1.125,{"$f":"ROUND(J2595/MAX($J$2595:$J$2621)*10000*0.7+(MAX($I$2595:$I$2621)-I2595)/(MAX($I$2595:$I$2621)-1)*10000*0.3,0)","v":10000},{"$f":"ROUND(K2595*L2595,0)","v":11250},null,null,"Diana 2","ZJ","Není v databázi"]
["Henrik Bieler",null,null,"Germany",null,"WGC 2023 - 15m",{"$f":"VLOOKUP(F2596,Soutez!A:B,2,FALSE)","v":"AU"},{"$f":"VLOOKUP(F2596,Soutez!A:C,3,FALSE)","v":2023},2,8995,1.125,9788,{"$f":"ROUND(K2596*L2596,0)","v":11012},null,null,"Ventus-3T","IYB","Není v databázi"]
["Steffen Goettler",null,null,"Germany",null,"WGC 2023 - 15m",{"$f":"VLOOKUP(F2597,Soutez!A:B,2,FALSE)","v":"AU"},{"$f":"VLOOKUP(F2597,Soutez!A:C,3,FALSE)","v":2023},3,8978,1.125,9659,10866,null,null,"Ventus 2ax","G2","Není v databázi"]
["Jeroen Verkuijl",null,null,"Netherlands",null,"WGC 2023 - 15m",{"$f":"VLOOKUP(F2598,Soutez!A:B,2,FALSE)","v":"AU"},{"$f":"VLOOKUP(F2598,Soutez!A:C,3,FALSE)","v":2023},4,8955,1.125,9526,10717,null,null,"JS3 15m","S5","Není v databázi"]
["Philip Jones",null,null,"Great Britain",null,"WGC 2023 - 15m",{"$f":"VLOOKUP(F2599,Soutez!A:B,2,FALSE)","v":"AU"},{"$f":"VLOOKUP(F2599,Soutez!A:C,3,FALSE)","v":2023},5,8952,1.125,9409,10585,null,null,"Ventus 3TS 15m",210,"Není v databázi"]
["Uys Jonker",null,null,"South Africa",null,"WGC 2023 - 15m",{"$f":"VLOOKUP(F2600,Soutez!A:B,2,FALSE)","v":"AU"},{"$f":"VLOOKUP(F2600,Soutez!A:C,3,FALSE)","v":2023},6,8936,1.125,9281,10441,null,null,"JS3 15m","BB","Není v databázi"]
["Adam Woolley",null,null,"Australia",null,"WGC 2023 - 15m",{"$f":"VLOOKUP(F2601,Soutez!A:B,2,FALSE)","v":"AU"},{"$f":"VLOOKUP(F2601,Soutez!A:C,3,FALSE)","v":2023},7,8926,1.125,9158,10303,null,null,"Ventus 3TS 15m","G1","Není v databázi"]
["Erik Borgmann",null,null,"Netherlands",null,"WGC 2023 - 15m",{"$f":"VLOOKUP(F2602,Soutez!A:B,2,FALSE)","v":"AU"},{"$f":"VLOOKUP(F2602,Soutez!A:C,3,FALSE)","v":2023},8,8921,1.125,9039,10169,null,null,"JS-MD 3","JG","Není v databázi"]
["Christophe Abadie",null,null,"France",null,"WGC 2023 - 15m",{"$f":"VLOOKUP(F2603,Soutez!A:B,2,FALSE)","v":"AU"},{"$f":"VLOOKUP(F2603,Soutez!A:C,3,FALSE)","v":2023},9,8919,1.125,8922,10037,null,null,"JS3 15m","KW","Není v databázi"]
["Tobias Geiger",null,null,"Australia",null,"WGC 2023 - 15m",{"$f":"VLOOKUP(F2604,Soutez!A:B,2,FALSE)","v":"AU"},{"$f":"VLOOKUP(F2604,Soutez!A:C,3,FALSE)","v":2023},10,8851,1.125,8754,9848,null,null,"Ventus 2ax","VG","Není v databázi"]
["Francois Delfosse",null,null,"Belgium",null,"WGC 2023 - 15m",{"$f":"VLOOKUP(F2605,Soutez!A:B,2,FALSE)","v":"AU"},{"$f":"VLOOKUP(F2605,Soutez!A:C,3,FALSE)","v":2023},11,8801,{"$f":"VLOOKUP(F2605,Soutez,12,0)","v":1.125},8601,9676,null,null,"JS3 15m",73,"Není v databázi"]
["Riccardo Brigliadori",null,null,"Italy",null,"WGC 2023 - 15m",{"$f":"VLOOKUP(F2606,Soutez!A:B,2,FALSE)","v":"AU"},{"$f":"VLOOKUP(F2606,Soutez!A:C,3,FALSE)","v":2023},12,8799,1.125,8484,9545,null,null,"JS3 15m","M3","Není v databázi"]
["Derren Francis",null,null,"Great Britain",null,"WGC 2023 - 15m",{"$f":"VLOOKUP(F2607,Soutez!A:B,2,FALSE)","v":"AU"},{"$f":"VLOOKUP(F2607,Soutez!A:C,3,FALSE)","v":2023},13,8795,1.125,8365,9411,null,null,"Ventus 3TS 15m","F2","Není v databázi"]
["Lukasz Grabowski",null,null,"Poland",null,"WGC 2023 - 15m",{"$f":"VLOOKUP(F2608,Soutez!A:B,2,FALSE)","v":"AU"},{"$f":"VLOOKUP(F2608,Soutez!A:C,3,FALSE)","v":2023},14,8719,1.125,8191,9215,null,null,"Diana 2","RP","Není v databázi"]
["Kevin Faur",null,null,"France",null,"WGC 2023 - 15m",{"$f":"VLOOKUP(F2609,Soutez!A:B,2,FALSE)","v":"AU"},{"$f":"VLOOKUP(F2609,Soutez!A:C,3,FALSE)","v":2023},15,8464,1.125,7880,8865,null,null,"JS3 15m","LB","Není v databázi"]
["Andre Litt",null,null,"Belgium",null,"WGC 2023 - 15m",{"$f":"VLOOKUP(F2610,Soutez!A:B,2,FALSE)","v":"AU"},{"$f":"VLOOKUP(F2610,Soutez!A:C,3,FALSE)","v":2023},16,8424,1.125,7734,{"$f":"ROUND(K2610*L2610,0)","v":8701},null,null,"JS3 15m","MM","Není v databázi"]
["Tim Taylor",null,null,"United States",null,"WGC 2023 - 15m",{"$f":"VLOOKUP(F2611,Soutez!A:B,2,FALSE)","v":"AU"},{"$f":"VLOOKUP(F2611,Soutez!A:C,3,FALSE)","v":2023},17,8007,1.125,7299,8211,null,null,"Ventus 2c 15m","TT","Není v databázi"]
["Yves Gerster",null,null,"Switzerland",null,"WGC 2023 - 15m",{"$f":"VLOOKUP(F2612,Soutez!A:B,2,FALSE)","v":"AU"},{"$f":"VLOOKUP(F2612,Soutez!A:C,3,FALSE)","v":2023},18,7838,1.125,7054,7936,null,null,"JS3 15m","1B","Není v databázi"]
["Linas Miezlaiskis",null,null,"Lithuania",null,"WGC 2023 - 15m",{"$f":"VLOOKUP(F2613,Soutez!A:B,2,FALSE)","v":"AU"},{"$f":"VLOOKUP(F2613,Soutez!A:C,3,FALSE)","v":2023},19,7648,1.125,6793,7642,null,null,"ASG 29 15m","HS","Není v databázi"]
["Remy Hirt",null,null,"Switzerland",null,"WGC 2023 - 15m",{"$f":"VLOOKUP(F2614,Soutez!A:B,2,FALSE)","v":"AU"},{"$f":"VLOOKUP(F2614,Soutez!A:C,3,FALSE)","v":2023},20,7567,1.125,6615,7442,null,null,"JS3 RES 15m","URF","Není v databázi"]
["Karel Novak",{"$f":"VLOOKUP(A2615,Pilot,2,0)","v":1993},{"$f":"VLOOKUP(A2615,Pilot,5,0)","v":"M"},{"$f":"VLOOKUP(A2615,Pilot,3,0)","v":"Mladá Boleslav"},{"$f":"VLOOKUP(A2615,Pilot,4,0)","v":"CZ/C1"},"WGC 2023 - 15m",{"$f":"VLOOKUP(F2615,Soutez!A:B,2,FALSE)","v":"AU"},{"$f":"VLOOKUP(F2615,Soutez!A:C,3,FALSE)","v":2023},21,7551,1.125,6487,7298,null,null,"JS3 15m","XM",""]
["Erkki Heinonen",null,null,"Finland",null,"WGC 2023 - 15m",{"$f":"VLOOKUP(F2616,Soutez!A:B,2,FALSE)","v":"AU"},{"$f":"VLOOKUP(F2616,Soutez!A:C,3,FALSE)","v":2023},22,6845,1.125,5830,6559,null,null,"ASG 29 15m","WS","Není v databázi"]
["Jan Pavlik",{"$f":"VLOOKUP(A2617,Pilot,2,0)","v":1987},{"$f":"VLOOKUP(A2617,Pilot,5,0)","v":"M"},{"$f":"VLOOKUP(A2617,Pilot,3,0)","v":"Křižanov"},{"$f":"VLOOKUP(A2617,Pilot,4,0)","v":"CZ/M"},"WGC 2023 - 15m",{"$f":"VLOOKUP(F2617,Soutez!A:B,2,FALSE)","v":"AU"},{"$f":"VLOOKUP(F2617,Soutez!A:C,3,FALSE)","v":2023},23,6817,1.125,5693,6405,null,null,"JS3 15m","ZE",""]
["Poul Larsen",null,null,"Denmark",null,"WGC 2023 - 15m",{"$f":"VLOOKUP(F2618,Soutez!A:B,2,FALSE)","v":"AU"},{"$f":"VLOOKUP(F2618,Soutez!A:C,3,FALSE)","v":2023},24,6455,1.125,5300,5963,null,null,"Ventus 2a",67,"Není v databázi"]
["Rick Indrebo",null,null,"United States",null,"WGC 2023 - 15m",{"$f":"VLOOKUP(F2619,Soutez!A:B,2,FALSE)","v":"AU"},{"$f":"VLOOKUP(F2619,Soutez!A:C,3,FALSE)","v":2023},25,5808,1.125,4688,5274,null,null,"ASW 27",89,"Není v databázi"]
["Abraham Kotze",null,null,"South Africa",null,"WGC 2023 - 15m",{"$f":"VLOOKUP(F2620,Soutez!A:B,2,FALSE)","v":"AU"},{"$f":"VLOOKUP(F2620,Soutez!A:C,3,FALSE)","v":2023},26,3508,1.125,2808,3159,null,null,"JS3 15m","LP","Není v databázi"]
["Zoltan Hamar",null,null,"Hungary",null,"WGC 2023 - 15m",{"$f":"VLOOKUP(F2621,Soutez!A:B,2,FALSE)","v":"AU"},{"$f":"VLOOKUP(F2621,Soutez!A:C,3,FALSE)","v":2023},27,925,1.125,710,799,null,null,"JS3 15m","7A","Není v databázi"]
["James Nugent",null,null,"Australia",null,"WGC 2023 - Klub",{"$f":"VLOOKUP(F2622,Soutez!A:B,2,FALSE)","v":"AU"},{"$f":"VLOOKUP(F2622,Soutez!A:C,3,FALSE)","v":2023},1,9438,1.1100000000000001,{"$f":"ROUND(J2622/MAX($J$2622:$J$2651)*10000*0.7+(MAX($I$2622:$I$2651)-I2622)/(MAX($I$2622:$I$2651)-1)*10000*0.3,0)","v":10000},{"$f":"ROUND(K2622*L2622,0)","v":11100},null,null,"LS3","Q1","Není v databázi"]
["Uwe Wahlig",null,null,"Germany",null,"WGC 2023 - Klub",{"$f":"VLOOKUP(F2623,Soutez!A:B,2,FALSE)","v":"AU"},{"$f":"VLOOKUP(F2623,Soutez!A:C,3,FALSE)","v":2023},2,9219,1.1100000000000001,9734,{"$f":"ROUND(K2623*L2623,0)","v":10805},null,null,"LS3","SN","Není v databázi"]
["Stefan Langer",null,null,"Germany",null,"WGC 2023 - Klub",{"$f":"VLOOKUP(F2624,Soutez!A:B,2,FALSE)","v":"AU"},{"$f":"VLOOKUP(F2624,Soutez!A:C,3,FALSE)","v":2023},3,9148,1.1100000000000001,9578,10632,null,null,"LS3","SF","Není v databázi"]
["Rasmus Orskov",null,null,"Denmark",null,"WGC 2023 - Klub",{"$f":"VLOOKUP(F2625,Soutez!A:B,2,FALSE)","v":"AU"},{"$f":"VLOOKUP(F2625,Soutez!A:C,3,FALSE)","v":2023},4,9113,1.1100000000000001,9449,10488,null,null,"ASW 20CL","KJ","Není v databázi"]
["Tomas Suchanek",{"$f":"VLOOKUP(A2626,Pilot,2,0)","v":1964},{"$f":"VLOOKUP(A2626,Pilot,5,0)","v":"M"},{"$f":"VLOOKUP(A2626,Pilot,3,0)","v":"GAC Benešov"},{"$f":"VLOOKUP(A2626,Pilot,4,0)","v":"CZ/C1"},"WGC 2023 - Klub",{"$f":"VLOOKUP(F2626,Soutez!A:B,2,FALSE)","v":"AU"},{"$f":"VLOOKUP(F2626,Soutez!A:C,3,FALSE)","v":2023},5,8894,1.1100000000000001,9183,10193,"x",null,"ASW 20L","CX",""]
["Jacek Flis",null,null,"Poland",null,"WGC 2023 - Klub",{"$f":"VLOOKUP(F2627,Soutez!A:B,2,FALSE)","v":"AU"},{"$f":"VLOOKUP(F2627,Soutez!A:C,3,FALSE)","v":2023},6,8881,1.1100000000000001,9070,10068,null,null,"LS 3 WL","FL","Není v databázi"]
["Tim Milner",null,null,"Great Britain",null,"WGC 2023 - Klub",{"$f":"VLOOKUP(F2628,Soutez!A:B,2,FALSE)","v":"AU"},{"$f":"VLOOKUP(F2628,Soutez!A:C,3,FALSE)","v":2023},7,8816,1.1100000000000001,8918,9899,null,null,"LS3","LS5","Není v databázi"]
["Roelof Corporaal",null,null,"Netherlands",null,"WGC 2023 - Klub",{"$f":"VLOOKUP(F2629,Soutez!A:B,2,FALSE)","v":"AU"},{"$f":"VLOOKUP(F2629,Soutez!A:C,3,FALSE)","v":2023},8,8776,1.1100000000000001,8785,9751,null,null,"LS 7 neo","LK","Není v databázi"]
["Adrien Henry",null,null,"France",null,"WGC 2023 - Klub",{"$f":"VLOOKUP(F2630,Soutez!A:B,2,FALSE)","v":"AU"},{"$f":"VLOOKUP(F2630,Soutez!A:C,3,FALSE)","v":2023},9,8766,1.1100000000000001,8674,9628,null,null,"ASW 20","XI","Není v databázi"]
["Hugo Corbille",null,null,"France",null,"WGC 2023 - Klub",{"$f":"VLOOKUP(F2631,Soutez!A:B,2,FALSE)","v":"AU"},{"$f":"VLOOKUP(F2631,Soutez!A:C,3,FALSE)","v":2023},10,8764,1.1100000000000001,8569,9512,null,null,"LS 7","HG","Není v databázi"]
["Daniel Summers",null,null,"Australia",null,"WGC 2023 - Klub",{"$f":"VLOOKUP(F2632,Soutez!A:B,2,FALSE)","v":"AU"},{"$f":"VLOOKUP(F2632,Soutez!A:C,3,FALSE)","v":2023},11,8586,1.1100000000000001,8334,9251,null,null,"ASW 20C","MG","Není v databázi"]
["John Roberts",null,null,"Great Britain",null,"WGC 2023 - Klub",{"$f":"VLOOKUP(F2633,Soutez!A:B,2,FALSE)","v":"AU"},{"$f":"VLOOKUP(F2633,Soutez!A:C,3,FALSE)","v":2023},12,8552,1.1100000000000001,8205,9108,null,null,"LS3","LS3","Není v databázi"]
["Mikolaj Zdun",null,null,"Poland",null,"WGC 2023 - Klub",{"$f":"VLOOKUP(F2634,Soutez!A:B,2,FALSE)","v":"AU"},{"$f":"VLOOKUP(F2634,Soutez!A:C,3,FALSE)","v":2023},13,8163,1.1100000000000001,7813,8672,null,null,"LS 3 WL","PP","Není v databázi"]
["Mike Westbrook",null,null,"United States",null,"WGC 2023 - Klub",{"$f":"VLOOKUP(F2635,Soutez!A:B,2,FALSE)","v":"AU"},{"$f":"VLOOKUP(F2635,Soutez!A:C,3,FALSE)","v":2023},14,7632,1.1100000000000001,7316,8121,null,null,"Discus b","FY","Není v databázi"]
["Michael Mix",null,null,"Denmark",null,"WGC 2023 - Klub",{"$f":"VLOOKUP(F2636,Soutez!A:B,2,FALSE)","v":"AU"},{"$f":"VLOOKUP(F2636,Soutez!A:C,3,FALSE)","v":2023},15,7573,1.1100000000000001,7168,7956,null,null,"LS3","WUQ","Není v databázi"]
["Michael Strathern",null,null,"New Zealand",null,"WGC 2023 - Klub",{"$f":"VLOOKUP(F2637,Soutez!A:B,2,FALSE)","v":"AU"},{"$f":"VLOOKUP(F2637,Soutez!A:C,3,FALSE)","v":2023},16,7486,{"$f":"VLOOKUP(F2637,Soutez,12,0)","v":1.1100000000000001},7001,7771,null,null,"ASW 20",280,"Není v databázi"]
["Kim Toppari",null,null,"Finland",null,"WGC 2023 - Klub",{"$f":"VLOOKUP(F2638,Soutez!A:B,2,FALSE)","v":"AU"},{"$f":"VLOOKUP(F2638,Soutez!A:C,3,FALSE)","v":2023},17,7443,1.1100000000000001,6865,7620,null,null,"ASW 20b","JH","Není v databázi"]
["Istvan Balog",null,null,"Hungary",null,"WGC 2023 - Klub",{"$f":"VLOOKUP(F2639,Soutez!A:B,2,FALSE)","v":"AU"},{"$f":"VLOOKUP(F2639,Soutez!A:C,3,FALSE)","v":2023},18,7436,1.1100000000000001,6757,{"$f":"ROUND(K2639*L2639,0)","v":7500},null,null,"LS3","WUF","Není v databázi"]
["Jan Ratz",{"$f":"VLOOKUP(A2640,Pilot,2,0)","v":1987},{"$f":"VLOOKUP(A2640,Pilot,5,0)","v":"M"},{"$f":"VLOOKUP(A2640,Pilot,3,0)","v":"Zbraslavice"},{"$f":"VLOOKUP(A2640,Pilot,4,0)","v":"CZ/C1"},"WGC 2023 - Klub",{"$f":"VLOOKUP(F2640,Soutez!A:B,2,FALSE)","v":"AU"},{"$f":"VLOOKUP(F2640,Soutez!A:C,3,FALSE)","v":2023},19,7408,1.1100000000000001,6632,7362,"x",null,"ASW 20","A3",""]
["Szabolcs Veigli",null,null,"Hungary",null,"WGC 2023 - Klub",{"$f":"VLOOKUP(F2641,Soutez!A:B,2,FALSE)","v":"AU"},{"$f":"VLOOKUP(F2641,Soutez!A:C,3,FALSE)","v":2023},20,6852,1.1100000000000001,6116,6789,null,null,"ASW 20b","YM","Není v databázi"]
["Igor Gapanovich",null,null,"Ukraine",null,"WGC 2023 - Klub",{"$f":"VLOOKUP(F2642,Soutez!A:B,2,FALSE)","v":"AU"},{"$f":"VLOOKUP(F2642,Soutez!A:C,3,FALSE)","v":2023},21,6529,1.1100000000000001,5773,6408,null,null,"Discus b","NZ","Není v databázi"]
["Tony Condon",null,null,"United States",null,"WGC 2023 - Klub",{"$f":"VLOOKUP(F2643,Soutez!A:B,2,FALSE)","v":"AU"},{"$f":"VLOOKUP(F2643,Soutez!A:C,3,FALSE)","v":2023},22,6499,1.1100000000000001,5648,6269,null,null,"Discus b","DK","Není v databázi"]
["Mikko Ylihärsilä",null,null,"Finland",null,"WGC 2023 - Klub",{"$f":"VLOOKUP(F2644,Soutez!A:B,2,FALSE)","v":"AU"},{"$f":"VLOOKUP(F2644,Soutez!A:C,3,FALSE)","v":2023},23,6206,1.1100000000000001,5327,5913,null,null,"ASW 20b","HDX","Není v databázi"]
["Guido Dalla RosaPrati",null,null,"Italy",null,"WGC 2023 - Klub",{"$f":"VLOOKUP(F2645,Soutez!A:B,2,FALSE)","v":"AU"},{"$f":"VLOOKUP(F2645,Soutez!A:C,3,FALSE)","v":2023},24,6030,1.1100000000000001,5093,5653,null,null,"LS 4b","AJ","Není v databázi"]
["Petra Piskata",{"$f":"VLOOKUP(A2646,Pilot,2,0)","v":1989},{"$f":"VLOOKUP(A2646,Pilot,5,0)","v":"F"},{"$f":"VLOOKUP(A2646,Pilot,3,0)","v":"Luhačovice"},{"$f":"VLOOKUP(A2646,Pilot,4,0)","v":"CZ/M"},"WGC 2023 - Klub",{"$f":"VLOOKUP(F2646,Soutez!A:B,2,FALSE)","v":"AU"},{"$f":"VLOOKUP(F2646,Soutez!A:C,3,FALSE)","v":2023},25,5941,1.1100000000000001,4924,5466,"x",null,"ASW 20","UKI",""]
["Luca Urbani",null,null,"Italy",null,"WGC 2023 - Klub",{"$f":"VLOOKUP(F2647,Soutez!A:B,2,FALSE)","v":"AU"},{"$f":"VLOOKUP(F2647,Soutez!A:C,3,FALSE)","v":2023},26,5670,1.1100000000000001,4619,5127,null,null,"LS 4a","UKA","Není v databázi"]
["Thies Bruins",null,null,"Netherlands",null,"WGC 2023 - Klub",{"$f":"VLOOKUP(F2648,Soutez!A:B,2,FALSE)","v":"AU"},{"$f":"VLOOKUP(F2648,Soutez!A:C,3,FALSE)","v":2023},27,4987,1.1100000000000001,4009,4450,null,null,"ASW 20L / Std Cirrus","IV","Není v databázi"]
["Diana Schuit",null,null,"Luxembourg",null,"WGC 2023 - Klub",{"$f":"VLOOKUP(F2649,Soutez!A:B,2,FALSE)","v":"AU"},{"$f":"VLOOKUP(F2649,Soutez!A:C,3,FALSE)","v":2023},28,4290,1.1100000000000001,3389,3762,null,null,"Cirrus Std","NS","Není v databázi"]
["Dani Zaninovic",null,null,"Croatia",null,"WGC 2023 - Klub",{"$f":"VLOOKUP(F2650,Soutez!A:B,2,FALSE)","v":"AU"},{"$f":"VLOOKUP(F2650,Soutez!A:C,3,FALSE)","v":2023},29,3721,1.1100000000000001,2863,3178,null,null,"Discus b","FV",{"$f":"IF(ISERROR(VLOOKUP(A2650,Pilot,6,0)),\"Není v databázi\",VLOOKUP(A2650,Pilot,6,0))","v":"Není v databázi"}]
["Frane Franic",null,null,"Croatia",null,"WGC 2023 - Klub",{"$f":"VLOOKUP(F2651,Soutez!A:B,2,FALSE)","v":"AU"},{"$f":"VLOOKUP(F2651,Soutez!A:C,3,FALSE)","v":2023},30,3633,1.1100000000000001,2695,2991,null,null,"LS 4","HR3","Není v databázi"]
["Tom Arscott",null,null,"Great Britain",null,"WGC 2023 - Std",{"$f":"VLOOKUP(F2652,Soutez!A:B,2,FALSE)","v":"AU"},{"$f":"VLOOKUP(F2652,Soutez!A:C,3,FALSE)","v":2023},1,9013,1.105,{"$f":"ROUND(J2652/MAX($J$2652:$J$2672)*10000*0.7+(MAX($I$2652:$I$2672)-I2652)/(MAX($I$2652:$I$2672)-1)*10000*0.3,0)","v":10000},{"$f":"ROUND(K2652*L2652,0)","v":11050},null,null,"LS8","CC","Není v databázi"]
["Gregory Beecroft",null,null,"Australia",null,"WGC 2023 - Std",{"$f":"VLOOKUP(F2653,Soutez!A:B,2,FALSE)","v":"AU"},{"$f":"VLOOKUP(F2653,Soutez!A:C,3,FALSE)","v":2023},2,8638,1.105,9559,{"$f":"ROUND(K2653*L2653,0)","v":10563},null,null,"LS8","HCB","Není v databázi"]
["Enrique Levin",null,null,"Germany",null,"WGC 2023 - Std",{"$f":"VLOOKUP(F2654,Soutez!A:B,2,FALSE)","v":"AU"},{"$f":"VLOOKUP(F2654,Soutez!A:C,3,FALSE)","v":2023},3,8552,1.105,9342,10323,null,null,"LS8neo","PO","Není v databázi"]
["Simon Schröder",null,null,"Germany",null,"WGC 2023 - Std",{"$f":"VLOOKUP(F2655,Soutez!A:B,2,FALSE)","v":"AU"},{"$f":"VLOOKUP(F2655,Soutez!A:C,3,FALSE)","v":2023},4,8494,1.105,9147,10107,null,null,"LS8 neo","S2","Není v databázi"]
["Phillip Jonker",null,null,"South Africa",null,"WGC 2023 - Std",{"$f":"VLOOKUP(F2656,Soutez!A:B,2,FALSE)","v":"AU"},{"$f":"VLOOKUP(F2656,Soutez!A:C,3,FALSE)","v":2023},5,8467,1.105,8976,9918,null,null,"LS8b","M1","Není v databázi"]
["Sjaak Selen",null,null,"Netherlands",null,"WGC 2023 - Std",{"$f":"VLOOKUP(F2657,Soutez!A:B,2,FALSE)","v":"AU"},{"$f":"VLOOKUP(F2657,Soutez!A:C,3,FALSE)","v":2023},6,8389,1.105,8765,9685,null,null,"Discus 2a","2S","Není v databázi"]
["Lukasz Blaszczyk",null,null,"Poland",null,"WGC 2023 - Std",{"$f":"VLOOKUP(F2658,Soutez!A:B,2,FALSE)","v":"AU"},{"$f":"VLOOKUP(F2658,Soutez!A:C,3,FALSE)","v":2023},7,7934,1.105,8262,9130,null,null,"Discus - 2a","I","Není v databázi"]
["Makoto Ichikawa",null,null,"Japan",null,"WGC 2023 - Std",{"$f":"VLOOKUP(F2659,Soutez!A:B,2,FALSE)","v":"AU"},{"$f":"VLOOKUP(F2659,Soutez!A:C,3,FALSE)","v":2023},8,7873,1.105,8065,8912,null,null,"LS8-t","PB","Není v databázi"]
["Julien Duboc",null,null,"France",null,"WGC 2023 - Std",{"$f":"VLOOKUP(F2660,Soutez!A:B,2,FALSE)","v":"AU"},{"$f":"VLOOKUP(F2660,Soutez!A:C,3,FALSE)","v":2023},9,7862,1.105,7906,8736,null,null,"Discus-2a","JPA","Není v databázi"]
["Pavel Louzecky",{"$f":"VLOOKUP(A2661,Pilot,2,0)","v":1957},{"$f":"VLOOKUP(A2661,Pilot,5,0)","v":"M"},{"$f":"VLOOKUP(A2661,Pilot,3,0)","v":"Přibyslav"},{"$f":"VLOOKUP(A2661,Pilot,4,0)","v":"CZ/C2"},"WGC 2023 - Std",{"$f":"VLOOKUP(F2661,Soutez!A:B,2,FALSE)","v":"AU"},{"$f":"VLOOKUP(F2661,Soutez!A:C,3,FALSE)","v":2023},10,7801,1.105,7709,8518,null,null,"LS 8-b","FX",""]
["Maximilian Seis",null,null,"France",null,"WGC 2023 - Std",{"$f":"VLOOKUP(F2662,Soutez!A:B,2,FALSE)","v":"AU"},{"$f":"VLOOKUP(F2662,Soutez!A:C,3,FALSE)","v":2023},11,7770,1.105,7535,8326,null,null,"Discus 2a","ET","Není v databázi"]
["Tomasz Rubaj",null,null,"Poland",null,"WGC 2023 - Std",{"$f":"VLOOKUP(F2663,Soutez!A:B,2,FALSE)","v":"AU"},{"$f":"VLOOKUP(F2663,Soutez!A:C,3,FALSE)","v":2023},12,7627,1.105,7274,8038,null,null,"Discus 2a","Y","Není v databázi"]
["Paul Fritche",null,null,"Great Britain",null,"WGC 2023 - Std",{"$f":"VLOOKUP(F2664,Soutez!A:B,2,FALSE)","v":"AU"},{"$f":"VLOOKUP(F2664,Soutez!A:C,3,FALSE)","v":2023},13,7493,1.105,7019,7756,null,null,"LS8","L4","Není v databázi"]
["Miloslav Cink",{"$f":"VLOOKUP(A2665,Pilot,2,0)","v":1987},{"$f":"VLOOKUP(A2665,Pilot,5,0)","v":"M"},{"$f":"VLOOKUP(A2665,Pilot,3,0)","v":"Letkov"},{"$f":"VLOOKUP(A2665,Pilot,4,0)","v":"CZ/C1"},"WGC 2023 - Std",{"$f":"VLOOKUP(F2665,Soutez!A:B,2,FALSE)","v":"AU"},{"$f":"VLOOKUP(F2665,Soutez!A:C,3,FALSE)","v":2023},14,7385,1.105,6786,7499,null,null,"LS 8-b","JB",""]
["Laurence Hardman",null,null,"South Africa",null,"WGC 2023 - Std",{"$f":"VLOOKUP(F2666,Soutez!A:B,2,FALSE)","v":"AU"},{"$f":"VLOOKUP(F2666,Soutez!A:C,3,FALSE)","v":2023},15,7359,1.105,6615,7310,null,null,"LS8","S7","Není v databázi"]
["Sarah Arnold",null,null,"United States",null,"WGC 2023 - Std",{"$f":"VLOOKUP(F2667,Soutez!A:B,2,FALSE)","v":"AU"},{"$f":"VLOOKUP(F2667,Soutez!A:C,3,FALSE)","v":2023},16,7305,1.105,6423,7097,null,null,"Discus 2b","XBY","Není v databázi"]
["Dennis Huybreckx",null,null,"Belgium",null,"WGC 2023 - Std",{"$f":"VLOOKUP(F2668,Soutez!A:B,2,FALSE)","v":"AU"},{"$f":"VLOOKUP(F2668,Soutez!A:C,3,FALSE)","v":2023},17,7258,1.105,6237,{"$f":"ROUND(K2668*L2668,0)","v":6892},null,null,"LS8","GG","Není v databázi"]
["Bruce Taylor",null,null,"Australia",null,"WGC 2023 - Std",{"$f":"VLOOKUP(F2669,Soutez!A:B,2,FALSE)","v":"AU"},{"$f":"VLOOKUP(F2669,Soutez!A:C,3,FALSE)","v":2023},18,7199,1.105,6041,6675,null,null,"LS8a","WB","Není v databázi"]
["Joris Vainius",null,null,"Lithuania",null,"WGC 2023 - Std",{"$f":"VLOOKUP(F2670,Soutez!A:B,2,FALSE)","v":"AU"},{"$f":"VLOOKUP(F2670,Soutez!A:C,3,FALSE)","v":2023},19,7062,1.105,5785,6392,null,null,"ASW28","2M","Není v databázi"]
["Andrius Tamulenas",null,null,"Lithuania",null,"WGC 2023 - Std",{"$f":"VLOOKUP(F2671,Soutez!A:B,2,FALSE)","v":"AU"},{"$f":"VLOOKUP(F2671,Soutez!A:C,3,FALSE)","v":2023},20,6929,1.105,5531,6112,null,null,"LS8","FC","Není v databázi"]
["Tom Holloran",null,null,"United States",null,"WGC 2023 - Std",{"$f":"VLOOKUP(F2672,Soutez!A:B,2,FALSE)","v":"AU"},{"$f":"VLOOKUP(F2672,Soutez!A:C,3,FALSE)","v":2023},21,4749,1.105,3688,4075,null,null,"LS8-sT","FQF","Není v databázi"]
["Eduard Supersperger",null,null,"SMBC Kirchdorf Micheldorf",null,"Alpe Adria Cup 2023 - 113","AT",2023,1,4501,{"$f":"VLOOKUP(F2673,Soutez,12,0)","v":0.755},{"$f":"ROUND(J2673/MAX($J$2673:$J$2689)*10000*0.7+(MAX($I$2673:$I$2689)-I2673)/(MAX($I$2673:$I$2689)-1)*10000*0.3,0)","v":10000},{"$f":"ROUND(K2673*L2673,0)","v":7550},null,null,"Ventus 2b","M4","Není v databázi"]
["Friedrich Hofinger",null,null,"Österreich",null,"Alpe Adria Cup 2023 - 113","AT",2023,2,4088,0.755,9170,{"$f":"ROUND(K2674*L2674,0)","v":6923},null,null,"Discus2c 18m","KN","Není v databázi"]
["Koppler & Barth",null,null,"Sportflieger Steyr",null,"Alpe Adria Cup 2023 - 113","AT",2023,3,3704,0.755,8385,6331,null,null,"Duo Discus alle 700kg","MH","Není v databázi"]
["Alessandro Giaiotti",null,null,"CVNE Enemonzo",null,"Alpe Adria Cup 2023 - 113","AT",2023,4,3476,0.755,7843,5921,null,null,"Ventus2 c b 15m","D","Není v databázi"]
["Wojciech Domanski",null,null,"KSS/Aeroklub Nowy Targ",null,"Alpe Adria Cup 2023 - 113","AT",2023,5,3286,0.755,7360,5557,null,null,"ventus 2a","PE","Není v databázi"]
["Stefanie Brockelt",null,null,"SFG Werdenfels",null,"Alpe Adria Cup 2023 - 113","AT",2023,6,3259,0.755,7131,5384,null,null,"ASW-24 WL","AX","Není v databázi"]
["Ute Baranowski",null,null,"AFZ Unterwössen",null,"Alpe Adria Cup 2023 - 113","AT",2023,7,3250,0.755,6929,5231,null,null,"Ventus2a(x)","IB","Není v databázi"]
["Kavalic & Salehar",null,null,null,null,"Alpe Adria Cup 2023 - 113","AT",2023,8,3247,0.755,6737,5086,null,null,"DuoDiscus FES","LF","Není v databázi"]
["Florian Forcher",null,null,"Österreich",null,"Alpe Adria Cup 2023 - 113","AT",2023,9,3154,0.755,6405,4836,null,null,"DG 300 WL","N1","Není v databázi"]
["Herwig Wagner",null,null,"Steirische Flugsportunion",null,"Alpe Adria Cup 2023 - 113","AT",2023,10,2982,0.755,5950,4492,null,null,"SZD55","KE","Není v databázi"]
["Philipp Wittwer",null,null,"Österreich",null,"Alpe Adria Cup 2023 - 113","AT",2023,11,2630,0.755,5215,3937,null,null,"LS8 15m","ZL","Není v databázi"]
["Klaus Porod",null,null,"Österreich",null,"Alpe Adria Cup 2023 - 113","AT",2023,12,2436,0.755,4726,3568,null,null,"Discus2c 18m","PSI","Není v databázi"]
["Ladislav Jozsa",{"$f":"VLOOKUP(A2685,Pilot,2,0)","v":1981},{"$f":"VLOOKUP(A2685,Pilot,5,0)","v":"M"},{"$f":"VLOOKUP(A2685,Pilot,3,0)","v":"Medlánky"},{"$f":"VLOOKUP(A2685,Pilot,4,0)","v":"CZ/M"},"Alpe Adria Cup 2023 - 113","AT",2023,13,2315,0.755,4350,3284,null,null,"VentusC 15m","LJ",""]
["Tomasz Królik",null,null,"Nasz Aeroklub",null,"Alpe Adria Cup 2023 - 113","AT",2023,14,2276,0.755,4102,{"$f":"ROUND(K2686*L2686,0)","v":3097},null,null,"Ventus a","TT","Není v databázi"]
["Gösta Worf",null,null,"LSR Aalen",null,"Alpe Adria Cup 2023 - 113","AT",2023,15,1472,0.755,2664,2011,null,null,"Ventus cM","GW","Není v databázi"]
["Pawel Witkowski",null,null,"Aeroklub Nowy Targ",null,"Alpe Adria Cup 2023 - 113","AT",2023,16,1168,0.755,2004,1513,null,null,"LS-4","VIT","Není v databázi"]
["Maciej Walasek",null,null,"Aeroklub Krakowski",null,"Alpe Adria Cup 2023 - 113","AT",2023,17,991,0.755,1541,1163,null,null,"LS6 15m","KK","Není v databázi"]
["Wolfgang Janowitsch",null,null,"FRA-Wr.Neustadt",null,"Alpe Adria Cup 2023 - Kombi Open","AT",2023,1,3792,0.755,{"$f":"ROUND(J2690/MAX($J$2690:$J$2713)*10000*0.7+(MAX($I$2690:$I$2713)-I2690)/(MAX($I$2690:$I$2713)-1)*10000*0.3,0)","v":10000},{"$f":"ROUND(K2690*L2690,0)","v":7550},null,null,"Ventus3 18m Sport","WO","Není v databázi"]
["Heimo Demmerer",null,null,"SFC Mariazell",null,"Alpe Adria Cup 2023 - Kombi Open","AT",2023,2,3564,0.755,9449,{"$f":"ROUND(K2691*L2691,0)","v":7134},null,null,"Ventus 3M","OD","Není v databázi"]
["Michael Rass",null,null,"St. Johann in Tirol",null,"Alpe Adria Cup 2023 - Kombi Open","AT",2023,3,3467,0.755,9139,6900,null,null,"AS33ES","MR","Není v databázi"]
["Thomas Wolf",null,null,"SFZ Königsdorf",null,"Alpe Adria Cup 2023 - Kombi Open","AT",2023,4,3387,0.755,8861,6690,null,null,"Ventus 3 M","2T","Není v databázi"]
["Sven Kolb",null,null,"VS",null,"Alpe Adria Cup 2023 - Kombi Open","AT",2023,5,3345,0.755,8653,6533,null,null,"Antares LF20e","ZF","Není v databázi"]
["Pirker & Pirker",null,null,"FAS-Wien",null,"Alpe Adria Cup 2023 - Kombi Open","AT",2023,6,3293,0.755,8427,6362,null,null,"Arcus M","PV","Není v databázi"]
["Guido Achleitner",null,null,"FC St. Johann in Tirol",null,"Alpe Adria Cup 2023 - Kombi Open","AT",2023,7,3233,0.755,8185,6180,null,null,"ASG 32 Mi","GA","Není v databázi"]
["Bernhard Leitner",null,null,"ISV",null,"Alpe Adria Cup 2023 - Kombi Open","AT",2023,8,3214,0.755,8020,6055,null,null,"AS33","BL","Není v databázi"]
["Thomas Hynek",null,null,"ASKÖ Flugschule Wien",null,"Alpe Adria Cup 2023 - Kombi Open","AT",2023,9,3025,0.755,7541,5693,null,null,"Ventus 2cm","CC","Není v databázi"]
["Luka Žnidaršič",null,null,"Slovenia",null,"Alpe Adria Cup 2023 - Kombi Open","AT",2023,10,2949,0.755,7270,5489,null,null,"Ventus 3 FES","LZ","Není v databázi"]
["Werner Amann",null,null,"SFG Hohenems",null,"Alpe Adria Cup 2023 - Kombi Open","AT",2023,11,2911,0.755,7069,5337,null,null,"AS33 18m","WG","Není v databázi"]
["Christoph Limpert",null,null,"Rhönflug Gersfeld",null,"Alpe Adria Cup 2023 - Kombi Open","AT",2023,12,2690,0.755,6531,4931,null,null,"AS33Es","CO","Není v databázi"]
["Reinhard Haggenmüller",null,null,"Österreich",null,"Alpe Adria Cup 2023 - Kombi Open","AT",2023,13,2559,0.755,6159,{"$f":"ROUND(K2702*L2702,0)","v":4650},null,null,"ASG-29e","RR","Není v databázi"]
["Matthias Hölzl",null,null,"Deutschland",null,"Alpe Adria Cup 2023 - Kombi Open","AT",2023,14,2468,0.755,5860,4424,null,null,"ASG 29E","HNO","Není v databázi"]
["Thomas Krüger",null,null,"Deutschland",null,"Alpe Adria Cup 2023 - Kombi Open","AT",2023,15,2298,0.755,5416,4089,null,null,"EB29","TK","Není v databázi"]
["Michael Wolff",null,null,"ÖAC Direktmitglied",null,"Alpe Adria Cup 2023 - Kombi Open","AT",2023,16,1820,0.755,4403,3324,null,null,"Ventus 3M","RU","Není v databázi"]
["Krobath & Sram",null,null,"FRA Wr. Neustadt",null,"Alpe Adria Cup 2023 - Kombi Open","AT",2023,17,1527,0.755,3732,2818,null,null,"TwinShark","Q","Není v databázi"]
["Volker Polhaus",null,null,"FSVOR",null,"Alpe Adria Cup 2023 - Kombi Open","AT",2023,18,1475,0.755,3505,2646,null,null,"ASH26E","BV","Není v databázi"]
["Erich Niedl",null,null,"SFC Tulln",null,"Alpe Adria Cup 2023 - Kombi Open","AT",2023,19,997,0.755,2493,1882,null,null,"Ventus 2cxT","CX","Není v databázi"]
["Radim Hahn",{"$f":"VLOOKUP(A2709,Pilot,2,0)","v":1972},{"$f":"VLOOKUP(A2709,Pilot,5,0)","v":"M"},{"$f":"VLOOKUP(A2709,Pilot,3,0)","v":"Zábřeh"},{"$f":"VLOOKUP(A2709,Pilot,4,0)","v":"CZ/M"},"Alpe Adria Cup 2023 - Kombi Open","AT",2023,20,954,0.755,2283,1724,null,null,"Ventus 3","I3",""]
["Franz Salomon",null,null,"KSV Kapfenberg",null,"Alpe Adria Cup 2023 - Kombi Open","AT",2023,21,933,0.755,2114,1596,null,null,"Ventus M","SB","Není v databázi"]
["Joachim Hirt",null,null,"LSB Donaueschingen",null,"Alpe Adria Cup 2023 - Kombi Open","AT",2023,22,902,0.755,1926,1454,null,null,"JS3 15m","LG","Není v databázi"]
["René Schönmann",null,null,"SGBF",null,"Alpe Adria Cup 2023 - Kombi Open","AT",2023,23,898,0.755,1788,1350,null,null,"JS1EVO 18m","EVO",{"$f":"IF(ISERROR(VLOOKUP(A2712,Pilot,6,0)),\"Není v databázi\",VLOOKUP(A2712,Pilot,6,0))","v":"Není v databázi"}]
["Josef Strobl",null,null,"FC St. Johann",null,"Alpe Adria Cup 2023 - Kombi Open","AT",2023,24,710,0.755,1311,990,null,null,"Ventus 2cT","BS","Není v databázi"]

{"sheet":"Zebrik G","index":7,"n_rows":447,"n_cols":14,"rows_kept":447,"cut":false,"hidden":false,"merged":[]}
[null,{"$f":"\"Všeobecný Žebřík pilotů plachtařů PK AeČR \"&A6","v":"Všeobecný Žebřík pilotů plachtařů PK AeČR 2023"},null,null,null,null,null,null,{"$f":"Zmeny!A6","v":"2024-02-08"},"Rev.",{"$f":"Zmeny!B6","v":"03"},{"$f":"Zmeny!C6","v":"Oprava chyby s velkými písmeny v názvu pilota"}]
[]
[null,"G","x",null,null,null,null,null,"Junior v roce:","Junior v roce:",{"$f":"\"Repre družstvo \"&I4","v":"Repre družstvo 2024"},{"$f":"\"Repre výběr \"&I4","v":"Repre výběr 2024"},{"$f":"\"W \"&L3","v":"W Repre výběr 2024"},"Poznámka"]
[null,null,null,null,null,null,null,null,{"$f":"A6+1","v":2024},{"$f":"I4+1","v":2025},"(RD)","(RV)","(WRV)"]
["Pořadí",null,null,null,null,null,"Data",null,{"$f":"COUNTIF(I7:I949,\"Junior v roce \"&$I$4)","v":46},{"$f":"COUNTIF(J7:J949,\"Junior v roce \"&$J$4)","v":36},{"$f":"COUNTIF(K7:K949,\"RD \"&$I$4)","v":19},{"$f":"COUNTIF(L7:L949,\"RV \"&$I$4)","v":23},{"$f":"COUNTIF(M7:M949,\"WRV \"&$I$4)","v":9},{"$f":"COUNTIF(N7:N949,\"<>\")","v":0}]
[2023,"Jméno","Rok narození","M/F","Aeroklub","Region","Součet z Bi×Kinp","Počet G"]
[{"$f":"RANK(G7,G:G)","v":1},"Tomas Suchanek",1964,"M","GAC Benešov","CZ/C1",31443,3,{"$f":"IF(C7=\"(prázdné)\",\"\",IF(($I$4-C7)>25,\"\",\"Junior v roce \"&$I$4))","v":""},{"$f":"IF(C7=\"(prázdné)\",\"\",IF(($J$4-C7)>25,\"\",\"Junior v roce \"&$J$4))","v":""},"RD 2024","RV 2024",{"$f":"IF(ISERROR(VLOOKUP(B7,'Zebrik W'!$B$7:$L$992,11,0)),\"\",IF(VLOOKUP(B7,'Zebrik W'!$B$7:$L$992,11,0)=0,\"--\",VLOOKUP(B7,'Zebrik W'!$B$7:$L$992,11,0)))","v":""}]
[2,"Radek Krejcirik",1991,"M","Hranice","CZ/M",31048,3,{"$f":"IF(C8=\"(prázdné)\",\"\",IF(($I$4-C8)>25,\"\",\"Junior v roce \"&$I$4))","v":""},{"$f":"IF(C8=\"(prázdné)\",\"\",IF(($J$4-C8)>25,\"\",\"Junior v roce \"&$J$4))","v":""},"RD 2024","RV 2024",{"$f":"IF(ISERROR(VLOOKUP(B8,'Zebrik W'!$B$7:$L$992,11,0)),\"\",IF(VLOOKUP(B8,'Zebrik W'!$B$7:$L$992,11,0)=0,\"--\",VLOOKUP(B8,'Zebrik W'!$B$7:$L$992,11,0)))","v":""}]
[3,"Jan Pavlik",1987,"M","Křižanov","CZ/M",30140,3,{"$f":"IF(C9=\"(prázdné)\",\"\",IF(($I$4-C9)>25,\"\",\"Junior v roce \"&$I$4))","v":""},"","RD 2024","RV 2024",{"$f":"IF(ISERROR(VLOOKUP(B9,'Zebrik W'!$B$7:$L$992,11,0)),\"\",IF(VLOOKUP(B9,'Zebrik W'!$B$7:$L$992,11,0)=0,\"--\",VLOOKUP(B9,'Zebrik W'!$B$7:$L$992,11,0)))","v":""}]
[4,"Miloslav Cink",1987,"M","Letkov","CZ/C1",30047,3,"","","RD 2024","RV 2024",{"$f":"IF(ISERROR(VLOOKUP(B10,'Zebrik W'!$B$7:$L$992,11,0)),\"\",IF(VLOOKUP(B10,'Zebrik W'!$B$7:$L$992,11,0)=0,\"--\",VLOOKUP(B10,'Zebrik W'!$B$7:$L$992,11,0)))","v":""}]
[5,"Lukas Kriz",2003,"M","Křižanov","CZ/M",29954,3,"Junior v roce 2024","Junior v roce 2025","RD 2024","RV 2024",{"$f":"IF(ISERROR(VLOOKUP(B11,'Zebrik W'!$B$7:$L$992,11,0)),\"\",IF(VLOOKUP(B11,'Zebrik W'!$B$7:$L$992,11,0)=0,\"--\",VLOOKUP(B11,'Zebrik W'!$B$7:$L$992,11,0)))","v":""}]
[6,"Radek Kucirek",1973,"M","Havlíčkův Brod","CZ/C2",29844,3,"","","RD 2024","RV 2024",{"$f":"IF(ISERROR(VLOOKUP(B12,'Zebrik W'!$B$7:$L$992,11,0)),\"\",IF(VLOOKUP(B12,'Zebrik W'!$B$7:$L$992,11,0)=0,\"--\",VLOOKUP(B12,'Zebrik W'!$B$7:$L$992,11,0)))","v":""}]
[7,"Michal Lesinger",1966,"M","Moravská Třebová","CZ/M",29642,3,"","","RD 2024","RV 2024",{"$f":"IF(ISERROR(VLOOKUP(B13,'Zebrik W'!$B$7:$L$992,11,0)),\"\",IF(VLOOKUP(B13,'Zebrik W'!$B$7:$L$992,11,0)=0,\"--\",VLOOKUP(B13,'Zebrik W'!$B$7:$L$992,11,0)))","v":""}]
[8,"Pavel Louzecky",1957,"M","Přibyslav","CZ/C2",29456,3,"","","RD 2024","RV 2024",{"$f":"IF(ISERROR(VLOOKUP(B14,'Zebrik W'!$B$7:$L$992,11,0)),\"\",IF(VLOOKUP(B14,'Zebrik W'!$B$7:$L$992,11,0)=0,\"--\",VLOOKUP(B14,'Zebrik W'!$B$7:$L$992,11,0)))","v":""}]
[9,"Jaromir Macoun",1999,"M","Jičín","CZ/C2",29396,3,"Junior v roce 2024","","RD 2024","RV 2024",{"$f":"IF(ISERROR(VLOOKUP(B15,'Zebrik W'!$B$7:$L$992,11,0)),\"\",IF(VLOOKUP(B15,'Zebrik W'!$B$7:$L$992,11,0)=0,\"--\",VLOOKUP(B15,'Zebrik W'!$B$7:$L$992,11,0)))","v":""}]
[10,"Ivan Novak",1962,"M","Mladá Boleslav","CZ/C1",29001,3,"","","RD 2024","RV 2024",{"$f":"IF(ISERROR(VLOOKUP(B16,'Zebrik W'!$B$7:$L$992,11,0)),\"\",IF(VLOOKUP(B16,'Zebrik W'!$B$7:$L$992,11,0)=0,\"--\",VLOOKUP(B16,'Zebrik W'!$B$7:$L$992,11,0)))","v":""}]
[11,"Martin Hrivna",1978,"M","Zbraslavice","CZ/C1",28772,3,"","","RD 2024","RV 2024",{"$f":"IF(ISERROR(VLOOKUP(B17,'Zebrik W'!$B$7:$L$992,11,0)),\"\",IF(VLOOKUP(B17,'Zebrik W'!$B$7:$L$992,11,0)=0,\"--\",VLOOKUP(B17,'Zebrik W'!$B$7:$L$992,11,0)))","v":""}]
[12,"Tomas Rendla",1973,"M","Zbraslavice","CZ/C1",28719,3,"","","RD 2024","RV 2024",{"$f":"IF(ISERROR(VLOOKUP(B18,'Zebrik W'!$B$7:$L$992,11,0)),\"\",IF(VLOOKUP(B18,'Zebrik W'!$B$7:$L$992,11,0)=0,\"--\",VLOOKUP(B18,'Zebrik W'!$B$7:$L$992,11,0)))","v":""}]
[13,"Jaroslav Tomana",1975,"M","Zbraslavice","CZ/C1",28686,3,"","","RD 2024","RV 2024",{"$f":"IF(ISERROR(VLOOKUP(B19,'Zebrik W'!$B$7:$L$992,11,0)),\"\",IF(VLOOKUP(B19,'Zebrik W'!$B$7:$L$992,11,0)=0,\"--\",VLOOKUP(B19,'Zebrik W'!$B$7:$L$992,11,0)))","v":""}]
[14,"Karel Novak",1993,"M","Mladá Boleslav","CZ/C1",28247,3,"","","RD 2024","RV 2024",{"$f":"IF(ISERROR(VLOOKUP(B20,'Zebrik W'!$B$7:$L$992,11,0)),\"\",IF(VLOOKUP(B20,'Zebrik W'!$B$7:$L$992,11,0)=0,\"--\",VLOOKUP(B20,'Zebrik W'!$B$7:$L$992,11,0)))","v":""}]
[15,"David Mach",1994,"M","Hronov","CZ/C2",28142,3,"","",null,"RV 2024",{"$f":"IF(ISERROR(VLOOKUP(B21,'Zebrik W'!$B$7:$L$992,11,0)),\"\",IF(VLOOKUP(B21,'Zebrik W'!$B$7:$L$992,11,0)=0,\"--\",VLOOKUP(B21,'Zebrik W'!$B$7:$L$992,11,0)))","v":""}]
[16,"Barbora Moravcova",1994,"F","Zbraslavice","CZ/C1",28044,3,"","",null,"RV 2024",{"$f":"IF(ISERROR(VLOOKUP(B22,'Zebrik W'!$B$7:$L$992,11,0)),\"\",IF(VLOOKUP(B22,'Zebrik W'!$B$7:$L$992,11,0)=0,\"--\",VLOOKUP(B22,'Zebrik W'!$B$7:$L$992,11,0)))","v":"WRV 2024"}]
[17,"Pavel Trybenekr",1990,"M","Hořice","CZ/C2",28026,3,"","",null,"RV 2024",{"$f":"IF(ISERROR(VLOOKUP(B23,'Zebrik W'!$B$7:$L$992,11,0)),\"\",IF(VLOOKUP(B23,'Zebrik W'!$B$7:$L$992,11,0)=0,\"--\",VLOOKUP(B23,'Zebrik W'!$B$7:$L$992,11,0)))","v":""}]
[18,"Petr Tichy",1973,"M","Zbraslavice","CZ/C1",28019,3,"","",null,"RV 2024",{"$f":"IF(ISERROR(VLOOKUP(B24,'Zebrik W'!$B$7:$L$992,11,0)),\"\",IF(VLOOKUP(B24,'Zebrik W'!$B$7:$L$992,11,0)=0,\"--\",VLOOKUP(B24,'Zebrik W'!$B$7:$L$992,11,0)))","v":""}]
[19,"Jan Stastny",2003,"M","Medlánky","CZ/M",27999,3,"Junior v roce 2024","Junior v roce 2025","RD 2024","RV 2024",{"$f":"IF(ISERROR(VLOOKUP(B25,'Zebrik W'!$B$7:$L$992,11,0)),\"\",IF(VLOOKUP(B25,'Zebrik W'!$B$7:$L$992,11,0)=0,\"--\",VLOOKUP(B25,'Zebrik W'!$B$7:$L$992,11,0)))","v":""}]
[20,"Petr Krejcirik",1960,"M","Hranice","CZ/M",27737,3,{"$f":"IF(C26=\"(prázdné)\",\"\",IF(($I$4-C26)>25,\"\",\"Junior v roce \"&$I$4))","v":""},"",null,"RV 2024",{"$f":"IF(ISERROR(VLOOKUP(B26,'Zebrik W'!$B$7:$L$992,11,0)),\"\",IF(VLOOKUP(B26,'Zebrik W'!$B$7:$L$992,11,0)=0,\"--\",VLOOKUP(B26,'Zebrik W'!$B$7:$L$992,11,0)))","v":""}]
[21,"Pavel Jiranek",1993,"M","Toužim","CZ/C1",27623,3,"","",null,null,{"$f":"IF(ISERROR(VLOOKUP(B27,'Zebrik W'!$B$7:$L$992,11,0)),\"\",IF(VLOOKUP(B27,'Zebrik W'!$B$7:$L$992,11,0)=0,\"--\",VLOOKUP(B27,'Zebrik W'!$B$7:$L$992,11,0)))","v":""}]
[22,"Jan Kotan",1982,"M","Letňany","CZ/C1",27609,3,"","",null,null,{"$f":"IF(ISERROR(VLOOKUP(B28,'Zebrik W'!$B$7:$L$992,11,0)),\"\",IF(VLOOKUP(B28,'Zebrik W'!$B$7:$L$992,11,0)=0,\"--\",VLOOKUP(B28,'Zebrik W'!$B$7:$L$992,11,0)))","v":""}]
[23,"Petr Hotovy",1958,"M","Česká Lípa","CZ/C2",27526,3,"","",null,null,{"$f":"IF(ISERROR(VLOOKUP(B29,'Zebrik W'!$B$7:$L$992,11,0)),\"\",IF(VLOOKUP(B29,'Zebrik W'!$B$7:$L$992,11,0)=0,\"--\",VLOOKUP(B29,'Zebrik W'!$B$7:$L$992,11,0)))","v":""}]
[24,"Vit Morkovsky",2000,"M","Polička","CZ/C2",27294,3,"Junior v roce 2024","Junior v roce 2025","RD 2024","RV 2024",{"$f":"IF(ISERROR(VLOOKUP(B30,'Zebrik W'!$B$7:$L$992,11,0)),\"\",IF(VLOOKUP(B30,'Zebrik W'!$B$7:$L$992,11,0)=0,\"--\",VLOOKUP(B30,'Zebrik W'!$B$7:$L$992,11,0)))","v":""}]
[25,"Hana Treslova",1991,"F","Raná","CZ/C2",27280,3,"","",null,null,{"$f":"IF(ISERROR(VLOOKUP(B31,'Zebrik W'!$B$7:$L$992,11,0)),\"\",IF(VLOOKUP(B31,'Zebrik W'!$B$7:$L$992,11,0)=0,\"--\",VLOOKUP(B31,'Zebrik W'!$B$7:$L$992,11,0)))","v":"WRV 2024"}]
[26,"Michaela Rendlova",2004,"F","Toužim","CZ/C1",27135,3,"Junior v roce 2024","Junior v roce 2025","RD 2024","RV 2024",{"$f":"IF(ISERROR(VLOOKUP(B32,'Zebrik W'!$B$7:$L$992,11,0)),\"\",IF(VLOOKUP(B32,'Zebrik W'!$B$7:$L$992,11,0)=0,\"--\",VLOOKUP(B32,'Zebrik W'!$B$7:$L$992,11,0)))","v":"WRV 2024"}]
[27,"Radek Hybl",1980,"M","Šumperk","CZ/M",27091,3,"","",null,null,{"$f":"IF(ISERROR(VLOOKUP(B33,'Zebrik W'!$B$7:$L$992,11,0)),\"\",IF(VLOOKUP(B33,'Zebrik W'!$B$7:$L$992,11,0)=0,\"--\",VLOOKUP(B33,'Zebrik W'!$B$7:$L$992,11,0)))","v":""}]
[28,"Jiri Kusbach",1959,"M","Luhačovice","CZ/M",27050,3,"","",null,null,{"$f":"IF(ISERROR(VLOOKUP(B34,'Zebrik W'!$B$7:$L$992,11,0)),\"\",IF(VLOOKUP(B34,'Zebrik W'!$B$7:$L$992,11,0)=0,\"--\",VLOOKUP(B34,'Zebrik W'!$B$7:$L$992,11,0)))","v":""}]
[29,"Josef Novotny",1983,"M","Přibyslav","CZ/C2",26924,3,"","",null,null,{"$f":"IF(ISERROR(VLOOKUP(B35,'Zebrik W'!$B$7:$L$992,11,0)),\"\",IF(VLOOKUP(B35,'Zebrik W'!$B$7:$L$992,11,0)=0,\"--\",VLOOKUP(B35,'Zebrik W'!$B$7:$L$992,11,0)))","v":""}]
[30,"Jan Boruvka",1984,"M","Jičín","CZ/C2",26754,3,"","",null,null,{"$f":"IF(ISERROR(VLOOKUP(B36,'Zebrik W'!$B$7:$L$992,11,0)),\"\",IF(VLOOKUP(B36,'Zebrik W'!$B$7:$L$992,11,0)=0,\"--\",VLOOKUP(B36,'Zebrik W'!$B$7:$L$992,11,0)))","v":""}]
[31,"Jan Louda",1986,"M","Mladá Boleslav","CZ/C1",26629,3,"","",null,null,{"$f":"IF(ISERROR(VLOOKUP(B37,'Zebrik W'!$B$7:$L$992,11,0)),\"\",IF(VLOOKUP(B37,'Zebrik W'!$B$7:$L$992,11,0)=0,\"--\",VLOOKUP(B37,'Zebrik W'!$B$7:$L$992,11,0)))","v":""}]
[32,"Frantisek Vancura",1966,"M","Hranice","CZ/M",26463,3,"","",null,null,{"$f":"IF(ISERROR(VLOOKUP(B38,'Zebrik W'!$B$7:$L$992,11,0)),\"\",IF(VLOOKUP(B38,'Zebrik W'!$B$7:$L$992,11,0)=0,\"--\",VLOOKUP(B38,'Zebrik W'!$B$7:$L$992,11,0)))","v":""}]
[33,"Ondrej Bordovsky",1983,"M","Krnov","CZ/M",26360,3,"","",null,null,{"$f":"IF(ISERROR(VLOOKUP(B39,'Zebrik W'!$B$7:$L$992,11,0)),\"\",IF(VLOOKUP(B39,'Zebrik W'!$B$7:$L$992,11,0)=0,\"--\",VLOOKUP(B39,'Zebrik W'!$B$7:$L$992,11,0)))","v":""}]
[34,"Dana Novakova",1965,"F","Mladá Boleslav","CZ/C1",26124,3,"","",null,null,{"$f":"IF(ISERROR(VLOOKUP(B40,'Zebrik W'!$B$7:$L$992,11,0)),\"\",IF(VLOOKUP(B40,'Zebrik W'!$B$7:$L$992,11,0)=0,\"--\",VLOOKUP(B40,'Zebrik W'!$B$7:$L$992,11,0)))","v":"WRV 2024"}]
[35,"Alena Netusilova",1970,"F","Zbraslavice","CZ/C1",26074,3,"","","RD 2024",null,{"$f":"IF(ISERROR(VLOOKUP(B41,'Zebrik W'!$B$7:$L$992,11,0)),\"\",IF(VLOOKUP(B41,'Zebrik W'!$B$7:$L$992,11,0)=0,\"--\",VLOOKUP(B41,'Zebrik W'!$B$7:$L$992,11,0)))","v":"WRV 2024"}]
[36,"Ondrej Dupal",1966,"M","GAC Benešov","CZ/C1",26058,3,"","",null,null,{"$f":"IF(ISERROR(VLOOKUP(B42,'Zebrik W'!$B$7:$L$992,11,0)),\"\",IF(VLOOKUP(B42,'Zebrik W'!$B$7:$L$992,11,0)=0,\"--\",VLOOKUP(B42,'Zebrik W'!$B$7:$L$992,11,0)))","v":""}]
[37,"Petr Koutny",1971,"M","Křižanov","CZ/M",25990,3,"","",null,null,{"$f":"IF(ISERROR(VLOOKUP(B43,'Zebrik W'!$B$7:$L$992,11,0)),\"\",IF(VLOOKUP(B43,'Zebrik W'!$B$7:$L$992,11,0)=0,\"--\",VLOOKUP(B43,'Zebrik W'!$B$7:$L$992,11,0)))","v":""}]
[38,"Ivan Harasta 65",1965,"M","Toužim","CZ/C1",25760,3,{"$f":"IF(C44=\"(prázdné)\",\"\",IF(($I$4-C44)>25,\"\",\"Junior v roce \"&$I$4))","v":""},{"$f":"IF(C44=\"(prázdné)\",\"\",IF(($J$4-C44)>25,\"\",\"Junior v roce \"&$J$4))","v":""},null,null,{"$f":"IF(ISERROR(VLOOKUP(B44,'Zebrik W'!$B$7:$L$992,11,0)),\"\",IF(VLOOKUP(B44,'Zebrik W'!$B$7:$L$992,11,0)=0,\"--\",VLOOKUP(B44,'Zebrik W'!$B$7:$L$992,11,0)))","v":""}]
[39,"Jindrich Svorc",1978,"M","Letňany","CZ/C1",25750,3,"","",null,null,{"$f":"IF(ISERROR(VLOOKUP(B45,'Zebrik W'!$B$7:$L$992,11,0)),\"\",IF(VLOOKUP(B45,'Zebrik W'!$B$7:$L$992,11,0)=0,\"--\",VLOOKUP(B45,'Zebrik W'!$B$7:$L$992,11,0)))","v":""}]
[40,"Vladimir Hammer",2000,"M","Letkov","CZ/C1",25535,3,"Junior v roce 2024","Junior v roce 2025",null,"RV 2024",{"$f":"IF(ISERROR(VLOOKUP(B46,'Zebrik W'!$B$7:$L$992,11,0)),\"\",IF(VLOOKUP(B46,'Zebrik W'!$B$7:$L$992,11,0)=0,\"--\",VLOOKUP(B46,'Zebrik W'!$B$7:$L$992,11,0)))","v":""}]
[41,"Lukas Capek",1992,"M","Letňany","CZ/C1",25327,3,"","",null,null,{"$f":"IF(ISERROR(VLOOKUP(B47,'Zebrik W'!$B$7:$L$992,11,0)),\"\",IF(VLOOKUP(B47,'Zebrik W'!$B$7:$L$992,11,0)=0,\"--\",VLOOKUP(B47,'Zebrik W'!$B$7:$L$992,11,0)))","v":""}]
[42,"Jan Ratz",1987,"M","Zbraslavice","CZ/C1",25264,3,"","",null,null,{"$f":"IF(ISERROR(VLOOKUP(B48,'Zebrik W'!$B$7:$L$992,11,0)),\"\",IF(VLOOKUP(B48,'Zebrik W'!$B$7:$L$992,11,0)=0,\"--\",VLOOKUP(B48,'Zebrik W'!$B$7:$L$992,11,0)))","v":""}]
[43,"Zdenek Boruvka 86",1986,"M","Jičín","CZ/C2",25194,3,"","",null,null,{"$f":"IF(ISERROR(VLOOKUP(B49,'Zebrik W'!$B$7:$L$992,11,0)),\"\",IF(VLOOKUP(B49,'Zebrik W'!$B$7:$L$992,11,0)=0,\"--\",VLOOKUP(B49,'Zebrik W'!$B$7:$L$992,11,0)))","v":""}]
[44,"Tereza Koubkova",1999,"F","Vysoké Mýto","CZ/C2",24879,3,"Junior v roce 2024","",null,null,{"$f":"IF(ISERROR(VLOOKUP(B50,'Zebrik W'!$B$7:$L$992,11,0)),\"\",IF(VLOOKUP(B50,'Zebrik W'!$B$7:$L$992,11,0)=0,\"--\",VLOOKUP(B50,'Zebrik W'!$B$7:$L$992,11,0)))","v":"WRV 2024"}]
[45,"Michal Cechmanek",1978,"M","Kroměříž","CZ/M",24718,3,"","",null,null,{"$f":"IF(ISERROR(VLOOKUP(B51,'Zebrik W'!$B$7:$L$992,11,0)),\"\",IF(VLOOKUP(B51,'Zebrik W'!$B$7:$L$992,11,0)=0,\"--\",VLOOKUP(B51,'Zebrik W'!$B$7:$L$992,11,0)))","v":""}]
[46,"David Sachl",1978,"M","Kralupy","CZ/C1",24671,3,"","",null,null,{"$f":"IF(ISERROR(VLOOKUP(B52,'Zebrik W'!$B$7:$L$992,11,0)),\"\",IF(VLOOKUP(B52,'Zebrik W'!$B$7:$L$992,11,0)=0,\"--\",VLOOKUP(B52,'Zebrik W'!$B$7:$L$992,11,0)))","v":""}]
[47,"Marek Blatak",1969,"M","Šumperk","CZ/M",24498,3,"","",null,null,{"$f":"IF(ISERROR(VLOOKUP(B53,'Zebrik W'!$B$7:$L$992,11,0)),\"\",IF(VLOOKUP(B53,'Zebrik W'!$B$7:$L$992,11,0)=0,\"--\",VLOOKUP(B53,'Zebrik W'!$B$7:$L$992,11,0)))","v":""}]
[48,"Rene Hudak",1972,"M","Kunovice","CZ/M",24375,3,"","",null,null,{"$f":"IF(ISERROR(VLOOKUP(B54,'Zebrik W'!$B$7:$L$992,11,0)),\"\",IF(VLOOKUP(B54,'Zebrik W'!$B$7:$L$992,11,0)=0,\"--\",VLOOKUP(B54,'Zebrik W'!$B$7:$L$992,11,0)))","v":""}]
[49,"Josef Novak",1981,"M","Kunovice","CZ/M",24292,3,"","",null,null,{"$f":"IF(ISERROR(VLOOKUP(B55,'Zebrik W'!$B$7:$L$992,11,0)),\"\",IF(VLOOKUP(B55,'Zebrik W'!$B$7:$L$992,11,0)=0,\"--\",VLOOKUP(B55,'Zebrik W'!$B$7:$L$992,11,0)))","v":""}]
[50,"Tomas Hynek",2002,"M","Dvůr Králové","CZ/C2",24200,3,"Junior v roce 2024","Junior v roce 2025","RD 2024",null,{"$f":"IF(ISERROR(VLOOKUP(B56,'Zebrik W'!$B$7:$L$992,11,0)),\"\",IF(VLOOKUP(B56,'Zebrik W'!$B$7:$L$992,11,0)=0,\"--\",VLOOKUP(B56,'Zebrik W'!$B$7:$L$992,11,0)))","v":""}]
[51,"Martin Ficnar",1971,"M","Šumperk","CZ/M",23982,3,"","",null,null,{"$f":"IF(ISERROR(VLOOKUP(B57,'Zebrik W'!$B$7:$L$992,11,0)),\"\",IF(VLOOKUP(B57,'Zebrik W'!$B$7:$L$992,11,0)=0,\"--\",VLOOKUP(B57,'Zebrik W'!$B$7:$L$992,11,0)))","v":""}]
[52,"Josef Busek",1967,"M","Hosín","CZ/C1",23885,3,"","",null,null,{"$f":"IF(ISERROR(VLOOKUP(B58,'Zebrik W'!$B$7:$L$992,11,0)),\"\",IF(VLOOKUP(B58,'Zebrik W'!$B$7:$L$992,11,0)=0,\"--\",VLOOKUP(B58,'Zebrik W'!$B$7:$L$992,11,0)))","v":""}]
[53,"Jiri Steiger",1969,"M","Olomouc","CZ/M",23852,3,"","",null,null,{"$f":"IF(ISERROR(VLOOKUP(B59,'Zebrik W'!$B$7:$L$992,11,0)),\"\",IF(VLOOKUP(B59,'Zebrik W'!$B$7:$L$992,11,0)=0,\"--\",VLOOKUP(B59,'Zebrik W'!$B$7:$L$992,11,0)))","v":""}]
[54,"Jan Dersak 69",1969,"M","Kralupy","CZ/C1",23655,3,"","",null,null,{"$f":"IF(ISERROR(VLOOKUP(B60,'Zebrik W'!$B$7:$L$992,11,0)),\"\",IF(VLOOKUP(B60,'Zebrik W'!$B$7:$L$992,11,0)=0,\"--\",VLOOKUP(B60,'Zebrik W'!$B$7:$L$992,11,0)))","v":""}]
[55,"Ivan Tvrdik",1997,"M","Letňany","CZ/C1",23617,3,"","",null,null,{"$f":"IF(ISERROR(VLOOKUP(B61,'Zebrik W'!$B$7:$L$992,11,0)),\"\",IF(VLOOKUP(B61,'Zebrik W'!$B$7:$L$992,11,0)=0,\"--\",VLOOKUP(B61,'Zebrik W'!$B$7:$L$992,11,0)))","v":""}]
[56,"Eduard Niko",1988,"M","Zbraslavice","CZ/C1",23380,3,"","",null,null,{"$f":"IF(ISERROR(VLOOKUP(B62,'Zebrik W'!$B$7:$L$992,11,0)),\"\",IF(VLOOKUP(B62,'Zebrik W'!$B$7:$L$992,11,0)=0,\"--\",VLOOKUP(B62,'Zebrik W'!$B$7:$L$992,11,0)))","v":""}]
[57,"Vratislav Sram",1966,"M","Broumov","CZ/C2",23293,3,"","",null,null,{"$f":"IF(ISERROR(VLOOKUP(B63,'Zebrik W'!$B$7:$L$992,11,0)),\"\",IF(VLOOKUP(B63,'Zebrik W'!$B$7:$L$992,11,0)=0,\"--\",VLOOKUP(B63,'Zebrik W'!$B$7:$L$992,11,0)))","v":""}]
[58,"Jana Treslova",1963,"F","Raná","CZ/C2",23223,3,"","",null,null,{"$f":"IF(ISERROR(VLOOKUP(B64,'Zebrik W'!$B$7:$L$992,11,0)),\"\",IF(VLOOKUP(B64,'Zebrik W'!$B$7:$L$992,11,0)=0,\"--\",VLOOKUP(B64,'Zebrik W'!$B$7:$L$992,11,0)))","v":"WRV 2024"}]
[59,"Martin Urner",1974,"M","Letňany","CZ/C1",23163,3,"","",null,null,{"$f":"IF(ISERROR(VLOOKUP(B65,'Zebrik W'!$B$7:$L$992,11,0)),\"\",IF(VLOOKUP(B65,'Zebrik W'!$B$7:$L$992,11,0)=0,\"--\",VLOOKUP(B65,'Zebrik W'!$B$7:$L$992,11,0)))","v":""}]
[60,"Jaroslav Buryan",1953,"M","Zábřeh","CZ/M",23156,3,"","",null,null,{"$f":"IF(ISERROR(VLOOKUP(B66,'Zebrik W'!$B$7:$L$992,11,0)),\"\",IF(VLOOKUP(B66,'Zebrik W'!$B$7:$L$992,11,0)=0,\"--\",VLOOKUP(B66,'Zebrik W'!$B$7:$L$992,11,0)))","v":""}]
[61,"Radek Zima 78",1978,"M","Hodkovice","CZ/C2",23081,3,"","",null,null,{"$f":"IF(ISERROR(VLOOKUP(B67,'Zebrik W'!$B$7:$L$992,11,0)),\"\",IF(VLOOKUP(B67,'Zebrik W'!$B$7:$L$992,11,0)=0,\"--\",VLOOKUP(B67,'Zebrik W'!$B$7:$L$992,11,0)))","v":""}]
[62,"Jan Horak",1971,"M","Zbraslavice","CZ/C1",23035,3,"","",null,null,{"$f":"IF(ISERROR(VLOOKUP(B68,'Zebrik W'!$B$7:$L$992,11,0)),\"\",IF(VLOOKUP(B68,'Zebrik W'!$B$7:$L$992,11,0)=0,\"--\",VLOOKUP(B68,'Zebrik W'!$B$7:$L$992,11,0)))","v":""}]
[63,"Zdenek Balcarek",1967,"M","Kroměříž","CZ/M",23026,3,"","",null,null,{"$f":"IF(ISERROR(VLOOKUP(B69,'Zebrik W'!$B$7:$L$992,11,0)),\"\",IF(VLOOKUP(B69,'Zebrik W'!$B$7:$L$992,11,0)=0,\"--\",VLOOKUP(B69,'Zebrik W'!$B$7:$L$992,11,0)))","v":""}]
[64,"Vaclav Marel",1974,"M","Jaroměř","CZ/C2",22812,3,"","",null,null,{"$f":"IF(ISERROR(VLOOKUP(B70,'Zebrik W'!$B$7:$L$992,11,0)),\"\",IF(VLOOKUP(B70,'Zebrik W'!$B$7:$L$992,11,0)=0,\"--\",VLOOKUP(B70,'Zebrik W'!$B$7:$L$992,11,0)))","v":""}]
[{"$f":"RANK(G71,G:G)","v":65},"Jiri Stepanek",1956,"M","Moravská Třebová","CZ/M",22805,3,"","",null,null,{"$f":"IF(ISERROR(VLOOKUP(B71,'Zebrik W'!$B$7:$L$992,11,0)),\"\",IF(VLOOKUP(B71,'Zebrik W'!$B$7:$L$992,11,0)=0,\"--\",VLOOKUP(B71,'Zebrik W'!$B$7:$L$992,11,0)))","v":""}]
[66,"Radim Sobek",1977,"M","Hranice","CZ/M",22599,3,"","",null,null,{"$f":"IF(ISERROR(VLOOKUP(B72,'Zebrik W'!$B$7:$L$992,11,0)),\"\",IF(VLOOKUP(B72,'Zebrik W'!$B$7:$L$992,11,0)=0,\"--\",VLOOKUP(B72,'Zebrik W'!$B$7:$L$992,11,0)))","v":""}]
[67,"Jan Smaha",1958,"M","Česká Lípa","CZ/C2",22235,3,"","",null,null,{"$f":"IF(ISERROR(VLOOKUP(B73,'Zebrik W'!$B$7:$L$992,11,0)),\"\",IF(VLOOKUP(B73,'Zebrik W'!$B$7:$L$992,11,0)=0,\"--\",VLOOKUP(B73,'Zebrik W'!$B$7:$L$992,11,0)))","v":""}]
[68,"David Vrchota",1976,"M","Jaroměř","CZ/C2",21931,3,"","",null,null,{"$f":"IF(ISERROR(VLOOKUP(B74,'Zebrik W'!$B$7:$L$992,11,0)),\"\",IF(VLOOKUP(B74,'Zebrik W'!$B$7:$L$992,11,0)=0,\"--\",VLOOKUP(B74,'Zebrik W'!$B$7:$L$992,11,0)))","v":""}]
[69,"Jana Veprekova",1961,"F","Dvůr Králové","CZ/C2",21921,3,"","",null,null,{"$f":"IF(ISERROR(VLOOKUP(B75,'Zebrik W'!$B$7:$L$992,11,0)),\"\",IF(VLOOKUP(B75,'Zebrik W'!$B$7:$L$992,11,0)=0,\"--\",VLOOKUP(B75,'Zebrik W'!$B$7:$L$992,11,0)))","v":"--"}]
[70,"Jakub Malik",1999,"M","Letňany","CZ/C1",21690,3,"Junior v roce 2024","",null,null,{"$f":"IF(ISERROR(VLOOKUP(B76,'Zebrik W'!$B$7:$L$992,11,0)),\"\",IF(VLOOKUP(B76,'Zebrik W'!$B$7:$L$992,11,0)=0,\"--\",VLOOKUP(B76,'Zebrik W'!$B$7:$L$992,11,0)))","v":""}]
[71,"Michaela Krizova",2001,"F","Přibyslav","CZ/C2",21613,3,"Junior v roce 2024","Junior v roce 2025",null,null,{"$f":"IF(ISERROR(VLOOKUP(B77,'Zebrik W'!$B$7:$L$992,11,0)),\"\",IF(VLOOKUP(B77,'Zebrik W'!$B$7:$L$992,11,0)=0,\"--\",VLOOKUP(B77,'Zebrik W'!$B$7:$L$992,11,0)))","v":"WRV 2024"}]
[72,"Tomas Kulhavy",2001,"M","Liberec","CZ/C2",21582,3,"Junior v roce 2024","Junior v roce 2025",null,null,{"$f":"IF(ISERROR(VLOOKUP(B78,'Zebrik W'!$B$7:$L$992,11,0)),\"\",IF(VLOOKUP(B78,'Zebrik W'!$B$7:$L$992,11,0)=0,\"--\",VLOOKUP(B78,'Zebrik W'!$B$7:$L$992,11,0)))","v":""}]
[73,"Lukas Maly",1998,"M","Vysoké Mýto","CZ/C2",21580,3,"","",null,null,{"$f":"IF(ISERROR(VLOOKUP(B79,'Zebrik W'!$B$7:$L$992,11,0)),\"\",IF(VLOOKUP(B79,'Zebrik W'!$B$7:$L$992,11,0)=0,\"--\",VLOOKUP(B79,'Zebrik W'!$B$7:$L$992,11,0)))","v":""}]
[74,"Milan Svoboda 80",1980,"M","Havlíčkův Brod","CZ/C2",21578,3,"","",null,null,{"$f":"IF(ISERROR(VLOOKUP(B80,'Zebrik W'!$B$7:$L$992,11,0)),\"\",IF(VLOOKUP(B80,'Zebrik W'!$B$7:$L$992,11,0)=0,\"--\",VLOOKUP(B80,'Zebrik W'!$B$7:$L$992,11,0)))","v":""}]
[75,"Petr Havelka",1997,"M","Zbraslavice","CZ/C1",21557,3,"","",null,null,{"$f":"IF(ISERROR(VLOOKUP(B81,'Zebrik W'!$B$7:$L$992,11,0)),\"\",IF(VLOOKUP(B81,'Zebrik W'!$B$7:$L$992,11,0)=0,\"--\",VLOOKUP(B81,'Zebrik W'!$B$7:$L$992,11,0)))","v":""}]
[76,"Jan Simon",1970,"M","Kralupy","CZ/C1",21534,3,"","",null,null,{"$f":"IF(ISERROR(VLOOKUP(B82,'Zebrik W'!$B$7:$L$992,11,0)),\"\",IF(VLOOKUP(B82,'Zebrik W'!$B$7:$L$992,11,0)=0,\"--\",VLOOKUP(B82,'Zebrik W'!$B$7:$L$992,11,0)))","v":""}]
[77,"Michal Cupak",1991,"M","Medlánky","CZ/M",21458,3,"","",null,null,{"$f":"IF(ISERROR(VLOOKUP(B83,'Zebrik W'!$B$7:$L$992,11,0)),\"\",IF(VLOOKUP(B83,'Zebrik W'!$B$7:$L$992,11,0)=0,\"--\",VLOOKUP(B83,'Zebrik W'!$B$7:$L$992,11,0)))","v":""}]
[78,"Lukas Hynek",1979,"M","Dvůr Králové","CZ/C2",21403,3,"","",null,null,{"$f":"IF(ISERROR(VLOOKUP(B84,'Zebrik W'!$B$7:$L$992,11,0)),\"\",IF(VLOOKUP(B84,'Zebrik W'!$B$7:$L$992,11,0)=0,\"--\",VLOOKUP(B84,'Zebrik W'!$B$7:$L$992,11,0)))","v":""}]
[79,"Zdenek Boruvka 54",1954,"M","Jičín","CZ/C2",20983,3,"","",null,null,{"$f":"IF(ISERROR(VLOOKUP(B85,'Zebrik W'!$B$7:$L$992,11,0)),\"\",IF(VLOOKUP(B85,'Zebrik W'!$B$7:$L$992,11,0)=0,\"--\",VLOOKUP(B85,'Zebrik W'!$B$7:$L$992,11,0)))","v":""}]
[80,"Jan Pazour",1979,"M","Dvůr Králové","CZ/C2",20951,3,"","",null,null,{"$f":"IF(ISERROR(VLOOKUP(B86,'Zebrik W'!$B$7:$L$992,11,0)),\"\",IF(VLOOKUP(B86,'Zebrik W'!$B$7:$L$992,11,0)=0,\"--\",VLOOKUP(B86,'Zebrik W'!$B$7:$L$992,11,0)))","v":""}]
[81,"Jiri Prochazka",1971,"M","Toužim","CZ/C1",20881,3,"","",null,null,{"$f":"IF(ISERROR(VLOOKUP(B87,'Zebrik W'!$B$7:$L$992,11,0)),\"\",IF(VLOOKUP(B87,'Zebrik W'!$B$7:$L$992,11,0)=0,\"--\",VLOOKUP(B87,'Zebrik W'!$B$7:$L$992,11,0)))","v":""}]
[82,"Martin Kriz",1968,"M","Přibyslav","CZ/C2",20840,3,"","",null,null,{"$f":"IF(ISERROR(VLOOKUP(B88,'Zebrik W'!$B$7:$L$992,11,0)),\"\",IF(VLOOKUP(B88,'Zebrik W'!$B$7:$L$992,11,0)=0,\"--\",VLOOKUP(B88,'Zebrik W'!$B$7:$L$992,11,0)))","v":""}]
[83,"Jan Beran",1999,"M","Kladno","CZ/C1",20813,3,"Junior v roce 2024","",null,null,{"$f":"IF(ISERROR(VLOOKUP(B89,'Zebrik W'!$B$7:$L$992,11,0)),\"\",IF(VLOOKUP(B89,'Zebrik W'!$B$7:$L$992,11,0)=0,\"--\",VLOOKUP(B89,'Zebrik W'!$B$7:$L$992,11,0)))","v":""}]
[84,"Petra Piskata",1989,"F","Luhačovice","CZ/M",20606,3,"","",null,null,{"$f":"IF(ISERROR(VLOOKUP(B90,'Zebrik W'!$B$7:$L$992,11,0)),\"\",IF(VLOOKUP(B90,'Zebrik W'!$B$7:$L$992,11,0)=0,\"--\",VLOOKUP(B90,'Zebrik W'!$B$7:$L$992,11,0)))","v":"WRV 2024"}]
[85,"Ondrej Teichman",1984,"M","Dvůr Králové","CZ/C2",20385,3,"","",null,null,{"$f":"IF(ISERROR(VLOOKUP(B91,'Zebrik W'!$B$7:$L$992,11,0)),\"\",IF(VLOOKUP(B91,'Zebrik W'!$B$7:$L$992,11,0)=0,\"--\",VLOOKUP(B91,'Zebrik W'!$B$7:$L$992,11,0)))","v":""}]
[86,"Roman Mracek",1980,"M","Letkov","CZ/C1",20327,2,"","",null,null,{"$f":"IF(ISERROR(VLOOKUP(B92,'Zebrik W'!$B$7:$L$992,11,0)),\"\",IF(VLOOKUP(B92,'Zebrik W'!$B$7:$L$992,11,0)=0,\"--\",VLOOKUP(B92,'Zebrik W'!$B$7:$L$992,11,0)))","v":""}]
[87,"Martin Stepanek",1987,"M","Moravská Třebová","CZ/M",20317,3,"","",null,null,{"$f":"IF(ISERROR(VLOOKUP(B93,'Zebrik W'!$B$7:$L$992,11,0)),\"\",IF(VLOOKUP(B93,'Zebrik W'!$B$7:$L$992,11,0)=0,\"--\",VLOOKUP(B93,'Zebrik W'!$B$7:$L$992,11,0)))","v":""}]
[88,"Zdenek Schenk",1972,"M","Hranice","CZ/M",20292,3,"","",null,null,{"$f":"IF(ISERROR(VLOOKUP(B94,'Zebrik W'!$B$7:$L$992,11,0)),\"\",IF(VLOOKUP(B94,'Zebrik W'!$B$7:$L$992,11,0)=0,\"--\",VLOOKUP(B94,'Zebrik W'!$B$7:$L$992,11,0)))","v":""}]
[89,"Marek Kornec",1957,"M","Dvůr Králové","CZ/C2",20237,3,"","",null,null,{"$f":"IF(ISERROR(VLOOKUP(B95,'Zebrik W'!$B$7:$L$992,11,0)),\"\",IF(VLOOKUP(B95,'Zebrik W'!$B$7:$L$992,11,0)=0,\"--\",VLOOKUP(B95,'Zebrik W'!$B$7:$L$992,11,0)))","v":""}]
[90,"Rostislav Stryk",1972,"M","Frýdlant","CZ/M",20179,3,"","",null,null,{"$f":"IF(ISERROR(VLOOKUP(B96,'Zebrik W'!$B$7:$L$992,11,0)),\"\",IF(VLOOKUP(B96,'Zebrik W'!$B$7:$L$992,11,0)=0,\"--\",VLOOKUP(B96,'Zebrik W'!$B$7:$L$992,11,0)))","v":""}]
[91,"Jan Zapletal",1997,"M","Břeclav","CZ/M",20146,3,"","",null,null,{"$f":"IF(ISERROR(VLOOKUP(B97,'Zebrik W'!$B$7:$L$992,11,0)),\"\",IF(VLOOKUP(B97,'Zebrik W'!$B$7:$L$992,11,0)=0,\"--\",VLOOKUP(B97,'Zebrik W'!$B$7:$L$992,11,0)))","v":""}]
[92,"Marek Pechanec",1970,"M","Luhačovice","CZ/M",19976,3,"","",null,null,{"$f":"IF(ISERROR(VLOOKUP(B98,'Zebrik W'!$B$7:$L$992,11,0)),\"\",IF(VLOOKUP(B98,'Zebrik W'!$B$7:$L$992,11,0)=0,\"--\",VLOOKUP(B98,'Zebrik W'!$B$7:$L$992,11,0)))","v":""}]
[93,"Jan Sponer",1988,"M","Medlánky","CZ/M",19885,3,"","",null,null,{"$f":"IF(ISERROR(VLOOKUP(B99,'Zebrik W'!$B$7:$L$992,11,0)),\"\",IF(VLOOKUP(B99,'Zebrik W'!$B$7:$L$992,11,0)=0,\"--\",VLOOKUP(B99,'Zebrik W'!$B$7:$L$992,11,0)))","v":""}]
[94,"Martin Urban",1971,"M","Frýdlant","CZ/M",19826,3,"","",null,null,{"$f":"IF(ISERROR(VLOOKUP(B100,'Zebrik W'!$B$7:$L$992,11,0)),\"\",IF(VLOOKUP(B100,'Zebrik W'!$B$7:$L$992,11,0)=0,\"--\",VLOOKUP(B100,'Zebrik W'!$B$7:$L$992,11,0)))","v":""}]
[95,"Vojtech Hajek",1987,"M","Mladá Boleslav","CZ/C1",19719,3,"","",null,null,{"$f":"IF(ISERROR(VLOOKUP(B101,'Zebrik W'!$B$7:$L$992,11,0)),\"\",IF(VLOOKUP(B101,'Zebrik W'!$B$7:$L$992,11,0)=0,\"--\",VLOOKUP(B101,'Zebrik W'!$B$7:$L$992,11,0)))","v":""}]
[96,"Slavomir Piskaty 84",1984,"M","Kunovice","CZ/M",19670,3,"","",null,null,{"$f":"IF(ISERROR(VLOOKUP(B102,'Zebrik W'!$B$7:$L$992,11,0)),\"\",IF(VLOOKUP(B102,'Zebrik W'!$B$7:$L$992,11,0)=0,\"--\",VLOOKUP(B102,'Zebrik W'!$B$7:$L$992,11,0)))","v":""}]
[97,"Stepan Filakovsky",2005,"M","Medlánky","CZ/M",19653,3,"Junior v roce 2024","Junior v roce 2025",null,null,{"$f":"IF(ISERROR(VLOOKUP(B103,'Zebrik W'!$B$7:$L$992,11,0)),\"\",IF(VLOOKUP(B103,'Zebrik W'!$B$7:$L$992,11,0)=0,\"--\",VLOOKUP(B103,'Zebrik W'!$B$7:$L$992,11,0)))","v":""}]
[98,"David Tejnora",1982,"M","Jaroměř","CZ/C2",19643,3,"","",null,null,{"$f":"IF(ISERROR(VLOOKUP(B104,'Zebrik W'!$B$7:$L$992,11,0)),\"\",IF(VLOOKUP(B104,'Zebrik W'!$B$7:$L$992,11,0)=0,\"--\",VLOOKUP(B104,'Zebrik W'!$B$7:$L$992,11,0)))","v":""}]
[99,"Stepan Obrovsky",1990,"M","Frýdlant","CZ/M",19623,3,"","",null,null,{"$f":"IF(ISERROR(VLOOKUP(B105,'Zebrik W'!$B$7:$L$992,11,0)),\"\",IF(VLOOKUP(B105,'Zebrik W'!$B$7:$L$992,11,0)=0,\"--\",VLOOKUP(B105,'Zebrik W'!$B$7:$L$992,11,0)))","v":""}]
[100,"Pavel Rericha",1967,"M","Moravská Třebová","CZ/M",19235,3,"","",null,null,{"$f":"IF(ISERROR(VLOOKUP(B106,'Zebrik W'!$B$7:$L$992,11,0)),\"\",IF(VLOOKUP(B106,'Zebrik W'!$B$7:$L$992,11,0)=0,\"--\",VLOOKUP(B106,'Zebrik W'!$B$7:$L$992,11,0)))","v":""}]
[101,"Martin Svarc",1981,"M","Olomouc","CZ/M",19126,3,"","",null,null,{"$f":"IF(ISERROR(VLOOKUP(B107,'Zebrik W'!$B$7:$L$992,11,0)),\"\",IF(VLOOKUP(B107,'Zebrik W'!$B$7:$L$992,11,0)=0,\"--\",VLOOKUP(B107,'Zebrik W'!$B$7:$L$992,11,0)))","v":""}]
[102,"Jiri Koudela",1974,"M","Vyškov","CZ/M",19033,3,{"$f":"IF(C108=\"(prázdné)\",\"\",IF(($I$4-C108)>25,\"\",\"Junior v roce \"&$I$4))","v":""},{"$f":"IF(C108=\"(prázdné)\",\"\",IF(($J$4-C108)>25,\"\",\"Junior v roce \"&$J$4))","v":""},null,null,{"$f":"IF(ISERROR(VLOOKUP(B108,'Zebrik W'!$B$7:$L$992,11,0)),\"\",IF(VLOOKUP(B108,'Zebrik W'!$B$7:$L$992,11,0)=0,\"--\",VLOOKUP(B108,'Zebrik W'!$B$7:$L$992,11,0)))","v":""}]
[103,"Tomas Ditrt",1969,"M","Podhořany","CZ/C2",18868,3,"","",null,null,{"$f":"IF(ISERROR(VLOOKUP(B109,'Zebrik W'!$B$7:$L$992,11,0)),\"\",IF(VLOOKUP(B109,'Zebrik W'!$B$7:$L$992,11,0)=0,\"--\",VLOOKUP(B109,'Zebrik W'!$B$7:$L$992,11,0)))","v":""}]
[104,"Ladislav Jozsa",1981,"M","Medlánky","CZ/M",18777,3,"","",null,null,{"$f":"IF(ISERROR(VLOOKUP(B110,'Zebrik W'!$B$7:$L$992,11,0)),\"\",IF(VLOOKUP(B110,'Zebrik W'!$B$7:$L$992,11,0)=0,\"--\",VLOOKUP(B110,'Zebrik W'!$B$7:$L$992,11,0)))","v":""}]
[105,"Petr Babak",1973,"M","Hořice","CZ/C2",18673,3,"","",null,null,{"$f":"IF(ISERROR(VLOOKUP(B111,'Zebrik W'!$B$7:$L$992,11,0)),\"\",IF(VLOOKUP(B111,'Zebrik W'!$B$7:$L$992,11,0)=0,\"--\",VLOOKUP(B111,'Zebrik W'!$B$7:$L$992,11,0)))","v":""}]
[106,"Petr Lonsky",1965,"M","Toužim","CZ/C1",18596,3,"","",null,null,{"$f":"IF(ISERROR(VLOOKUP(B112,'Zebrik W'!$B$7:$L$992,11,0)),\"\",IF(VLOOKUP(B112,'Zebrik W'!$B$7:$L$992,11,0)=0,\"--\",VLOOKUP(B112,'Zebrik W'!$B$7:$L$992,11,0)))","v":""}]
[107,"Miloslav Hulmak",1963,"M","Hosín","CZ/C1",18446,3,"","",null,null,{"$f":"IF(ISERROR(VLOOKUP(B113,'Zebrik W'!$B$7:$L$992,11,0)),\"\",IF(VLOOKUP(B113,'Zebrik W'!$B$7:$L$992,11,0)=0,\"--\",VLOOKUP(B113,'Zebrik W'!$B$7:$L$992,11,0)))","v":""}]
[108,"Jaromir Pauer",1974,"M","Hosín","CZ/C1",18432,3,"","",null,null,{"$f":"IF(ISERROR(VLOOKUP(B114,'Zebrik W'!$B$7:$L$992,11,0)),\"\",IF(VLOOKUP(B114,'Zebrik W'!$B$7:$L$992,11,0)=0,\"--\",VLOOKUP(B114,'Zebrik W'!$B$7:$L$992,11,0)))","v":""}]
[109,"Petr Rozhon",1972,"M","Hosín","CZ/C1",18256,3,"","",null,null,{"$f":"IF(ISERROR(VLOOKUP(B115,'Zebrik W'!$B$7:$L$992,11,0)),\"\",IF(VLOOKUP(B115,'Zebrik W'!$B$7:$L$992,11,0)=0,\"--\",VLOOKUP(B115,'Zebrik W'!$B$7:$L$992,11,0)))","v":""}]
[110,"Wolfgang Sluka",1942,"M","Liberec","CZ/C2",18029,3,"","",null,null,{"$f":"IF(ISERROR(VLOOKUP(B116,'Zebrik W'!$B$7:$L$992,11,0)),\"\",IF(VLOOKUP(B116,'Zebrik W'!$B$7:$L$992,11,0)=0,\"--\",VLOOKUP(B116,'Zebrik W'!$B$7:$L$992,11,0)))","v":""}]
[111,"Pavel Liska",1965,"M","Roudnice","CZ/C2",17970,3,"","",null,null,{"$f":"IF(ISERROR(VLOOKUP(B117,'Zebrik W'!$B$7:$L$992,11,0)),\"\",IF(VLOOKUP(B117,'Zebrik W'!$B$7:$L$992,11,0)=0,\"--\",VLOOKUP(B117,'Zebrik W'!$B$7:$L$992,11,0)))","v":""}]
[112,"Miroslav Koci",1961,"M","Žamberk","CZ/C2",17946,3,"","",null,null,{"$f":"IF(ISERROR(VLOOKUP(B118,'Zebrik W'!$B$7:$L$992,11,0)),\"\",IF(VLOOKUP(B118,'Zebrik W'!$B$7:$L$992,11,0)=0,\"--\",VLOOKUP(B118,'Zebrik W'!$B$7:$L$992,11,0)))","v":""}]
[113,"Jan Florian",1992,"M","Zbraslavice","CZ/C1",17849,3,"","",null,null,{"$f":"IF(ISERROR(VLOOKUP(B119,'Zebrik W'!$B$7:$L$992,11,0)),\"\",IF(VLOOKUP(B119,'Zebrik W'!$B$7:$L$992,11,0)=0,\"--\",VLOOKUP(B119,'Zebrik W'!$B$7:$L$992,11,0)))","v":""}]
[114,"Petr Havrlant",1965,"M","Šumperk","CZ/M",17844,3,"","",null,null,{"$f":"IF(ISERROR(VLOOKUP(B120,'Zebrik W'!$B$7:$L$992,11,0)),\"\",IF(VLOOKUP(B120,'Zebrik W'!$B$7:$L$992,11,0)=0,\"--\",VLOOKUP(B120,'Zebrik W'!$B$7:$L$992,11,0)))","v":""}]
[115,"Jan Hruska",1988,"M","Tábor","CZ/C1",17779,3,"","",null,null,{"$f":"IF(ISERROR(VLOOKUP(B121,'Zebrik W'!$B$7:$L$992,11,0)),\"\",IF(VLOOKUP(B121,'Zebrik W'!$B$7:$L$992,11,0)=0,\"--\",VLOOKUP(B121,'Zebrik W'!$B$7:$L$992,11,0)))","v":""}]
[116,"Ladislav Prokes",1954,"M","Vrchlabí","CZ/C2",17771,3,"","",null,null,{"$f":"IF(ISERROR(VLOOKUP(B122,'Zebrik W'!$B$7:$L$992,11,0)),\"\",IF(VLOOKUP(B122,'Zebrik W'!$B$7:$L$992,11,0)=0,\"--\",VLOOKUP(B122,'Zebrik W'!$B$7:$L$992,11,0)))","v":""}]
[117,"David Darnady",1987,"M","Zbraslavice","CZ/C1",17528,2,"","",null,null,{"$f":"IF(ISERROR(VLOOKUP(B123,'Zebrik W'!$B$7:$L$992,11,0)),\"\",IF(VLOOKUP(B123,'Zebrik W'!$B$7:$L$992,11,0)=0,\"--\",VLOOKUP(B123,'Zebrik W'!$B$7:$L$992,11,0)))","v":""}]
[118,"Lumir Motyka",1955,"M","Frýdlant","CZ/M",17461,3,"","",null,null,{"$f":"IF(ISERROR(VLOOKUP(B124,'Zebrik W'!$B$7:$L$992,11,0)),\"\",IF(VLOOKUP(B124,'Zebrik W'!$B$7:$L$992,11,0)=0,\"--\",VLOOKUP(B124,'Zebrik W'!$B$7:$L$992,11,0)))","v":""}]
[119,"Jan Viskot",1995,"M","Břeclav","CZ/M",17395,2,"","",null,null,{"$f":"IF(ISERROR(VLOOKUP(B125,'Zebrik W'!$B$7:$L$992,11,0)),\"\",IF(VLOOKUP(B125,'Zebrik W'!$B$7:$L$992,11,0)=0,\"--\",VLOOKUP(B125,'Zebrik W'!$B$7:$L$992,11,0)))","v":""}]
[120,"Petr Kolomaznik",1981,"M","Šumperk","CZ/M",17322,3,"","",null,null,{"$f":"IF(ISERROR(VLOOKUP(B126,'Zebrik W'!$B$7:$L$992,11,0)),\"\",IF(VLOOKUP(B126,'Zebrik W'!$B$7:$L$992,11,0)=0,\"--\",VLOOKUP(B126,'Zebrik W'!$B$7:$L$992,11,0)))","v":""}]
[121,"Martin Cicvarek",1966,"M","Liberec","CZ/C2",17239,3,"","",null,null,{"$f":"IF(ISERROR(VLOOKUP(B127,'Zebrik W'!$B$7:$L$992,11,0)),\"\",IF(VLOOKUP(B127,'Zebrik W'!$B$7:$L$992,11,0)=0,\"--\",VLOOKUP(B127,'Zebrik W'!$B$7:$L$992,11,0)))","v":""}]
[122,"Pavel Koudelka",1973,"M","Křižanov","CZ/M",17072,3,"","",null,null,{"$f":"IF(ISERROR(VLOOKUP(B128,'Zebrik W'!$B$7:$L$992,11,0)),\"\",IF(VLOOKUP(B128,'Zebrik W'!$B$7:$L$992,11,0)=0,\"--\",VLOOKUP(B128,'Zebrik W'!$B$7:$L$992,11,0)))","v":""}]
[123,"Roman Jokl",1979,"M","Letkov","CZ/C1",17063,2,"","",null,null,{"$f":"IF(ISERROR(VLOOKUP(B129,'Zebrik W'!$B$7:$L$992,11,0)),\"\",IF(VLOOKUP(B129,'Zebrik W'!$B$7:$L$992,11,0)=0,\"--\",VLOOKUP(B129,'Zebrik W'!$B$7:$L$992,11,0)))","v":""}]
[124,"Petr Masik",2001,"M","Zábřeh","CZ/M",17038,3,"Junior v roce 2024","Junior v roce 2025",null,null,{"$f":"IF(ISERROR(VLOOKUP(B130,'Zebrik W'!$B$7:$L$992,11,0)),\"\",IF(VLOOKUP(B130,'Zebrik W'!$B$7:$L$992,11,0)=0,\"--\",VLOOKUP(B130,'Zebrik W'!$B$7:$L$992,11,0)))","v":""}]
[125,"Jaroslav Sima",1972,"M","Chomutov","CZ/C2",16966,3,"","",null,null,{"$f":"IF(ISERROR(VLOOKUP(B131,'Zebrik W'!$B$7:$L$992,11,0)),\"\",IF(VLOOKUP(B131,'Zebrik W'!$B$7:$L$992,11,0)=0,\"--\",VLOOKUP(B131,'Zebrik W'!$B$7:$L$992,11,0)))","v":""}]
[126,"Petr Hofman",1984,"M","Letňany","CZ/C1",16942,2,"","",null,null,{"$f":"IF(ISERROR(VLOOKUP(B132,'Zebrik W'!$B$7:$L$992,11,0)),\"\",IF(VLOOKUP(B132,'Zebrik W'!$B$7:$L$992,11,0)=0,\"--\",VLOOKUP(B132,'Zebrik W'!$B$7:$L$992,11,0)))","v":""}]
[127,"Karel Horalek",1976,"M","Olomouc","CZ/M",16758,3,"","",null,null,{"$f":"IF(ISERROR(VLOOKUP(B133,'Zebrik W'!$B$7:$L$992,11,0)),\"\",IF(VLOOKUP(B133,'Zebrik W'!$B$7:$L$992,11,0)=0,\"--\",VLOOKUP(B133,'Zebrik W'!$B$7:$L$992,11,0)))","v":""}]
[128,"Tomas Prikryl",1973,"M","Vyškov","CZ/M",16602,3,"","",null,null,{"$f":"IF(ISERROR(VLOOKUP(B134,'Zebrik W'!$B$7:$L$992,11,0)),\"\",IF(VLOOKUP(B134,'Zebrik W'!$B$7:$L$992,11,0)=0,\"--\",VLOOKUP(B134,'Zebrik W'!$B$7:$L$992,11,0)))","v":""}]
[{"$f":"RANK(G135,G:G)","v":129},"Jan Kantor",1983,"M","Letňany","CZ/C1",16577,2,"","",null,null,{"$f":"IF(ISERROR(VLOOKUP(B135,'Zebrik W'!$B$7:$L$992,11,0)),\"\",IF(VLOOKUP(B135,'Zebrik W'!$B$7:$L$992,11,0)=0,\"--\",VLOOKUP(B135,'Zebrik W'!$B$7:$L$992,11,0)))","v":""}]
[130,"Pavlina Horackova",1965,"F","Šumperk","CZ/M",16535,3,"","",null,null,{"$f":"IF(ISERROR(VLOOKUP(B136,'Zebrik W'!$B$7:$L$992,11,0)),\"\",IF(VLOOKUP(B136,'Zebrik W'!$B$7:$L$992,11,0)=0,\"--\",VLOOKUP(B136,'Zebrik W'!$B$7:$L$992,11,0)))","v":"--"}]
[131,"Jan Zezula",1979,"M","Letňany","CZ/C1",16442,3,"","",null,null,{"$f":"IF(ISERROR(VLOOKUP(B137,'Zebrik W'!$B$7:$L$992,11,0)),\"\",IF(VLOOKUP(B137,'Zebrik W'!$B$7:$L$992,11,0)=0,\"--\",VLOOKUP(B137,'Zebrik W'!$B$7:$L$992,11,0)))","v":""}]
[132,"David Zapletal",1970,"M","Mladá Boleslav","CZ/C1",16422,3,"","",null,null,{"$f":"IF(ISERROR(VLOOKUP(B138,'Zebrik W'!$B$7:$L$992,11,0)),\"\",IF(VLOOKUP(B138,'Zebrik W'!$B$7:$L$992,11,0)=0,\"--\",VLOOKUP(B138,'Zebrik W'!$B$7:$L$992,11,0)))","v":""}]
[133,"Milan Meisner",1961,"M","Dvůr Králové","CZ/C2",16396,3,"","",null,null,{"$f":"IF(ISERROR(VLOOKUP(B139,'Zebrik W'!$B$7:$L$992,11,0)),\"\",IF(VLOOKUP(B139,'Zebrik W'!$B$7:$L$992,11,0)=0,\"--\",VLOOKUP(B139,'Zebrik W'!$B$7:$L$992,11,0)))","v":""}]
[134,"Lukas Plocek",1990,"M","Mladá Boleslav","CZ/C1",16353,3,"","",null,null,{"$f":"IF(ISERROR(VLOOKUP(B140,'Zebrik W'!$B$7:$L$992,11,0)),\"\",IF(VLOOKUP(B140,'Zebrik W'!$B$7:$L$992,11,0)=0,\"--\",VLOOKUP(B140,'Zebrik W'!$B$7:$L$992,11,0)))","v":""}]
[135,"Albrecht Beat",1953,"M","Šumperk","CZ/M",16349,3,"","",null,null,{"$f":"IF(ISERROR(VLOOKUP(B141,'Zebrik W'!$B$7:$L$992,11,0)),\"\",IF(VLOOKUP(B141,'Zebrik W'!$B$7:$L$992,11,0)=0,\"--\",VLOOKUP(B141,'Zebrik W'!$B$7:$L$992,11,0)))","v":""}]
[136,"Petr Stepanek",1989,"M","Moravská Třebová","CZ/M",16337,2,"","",null,null,{"$f":"IF(ISERROR(VLOOKUP(B142,'Zebrik W'!$B$7:$L$992,11,0)),\"\",IF(VLOOKUP(B142,'Zebrik W'!$B$7:$L$992,11,0)=0,\"--\",VLOOKUP(B142,'Zebrik W'!$B$7:$L$992,11,0)))","v":""}]
[137,"Oldrich Bartonik",1961,"M","Luhačovice","CZ/M",16226,3,"","",null,null,{"$f":"IF(ISERROR(VLOOKUP(B143,'Zebrik W'!$B$7:$L$992,11,0)),\"\",IF(VLOOKUP(B143,'Zebrik W'!$B$7:$L$992,11,0)=0,\"--\",VLOOKUP(B143,'Zebrik W'!$B$7:$L$992,11,0)))","v":""}]
[138,"Slavomir Valecko",1960,"M","Hranice","CZ/M",16213,3,"","",null,null,{"$f":"IF(ISERROR(VLOOKUP(B144,'Zebrik W'!$B$7:$L$992,11,0)),\"\",IF(VLOOKUP(B144,'Zebrik W'!$B$7:$L$992,11,0)=0,\"--\",VLOOKUP(B144,'Zebrik W'!$B$7:$L$992,11,0)))","v":""}]
[139,"Jan Hybner",1977,"M","Liberec","CZ/C2",16187,3,"","",null,null,{"$f":"IF(ISERROR(VLOOKUP(B145,'Zebrik W'!$B$7:$L$992,11,0)),\"\",IF(VLOOKUP(B145,'Zebrik W'!$B$7:$L$992,11,0)=0,\"--\",VLOOKUP(B145,'Zebrik W'!$B$7:$L$992,11,0)))","v":""}]
[140,"Jan Mareth",1979,"M","Frýdlant","CZ/M",16163,2,"","",null,null,{"$f":"IF(ISERROR(VLOOKUP(B146,'Zebrik W'!$B$7:$L$992,11,0)),\"\",IF(VLOOKUP(B146,'Zebrik W'!$B$7:$L$992,11,0)=0,\"--\",VLOOKUP(B146,'Zebrik W'!$B$7:$L$992,11,0)))","v":""}]
[141,"Jan Smekal",1976,"M","Zbraslavice","CZ/C1",16111,3,"","",null,null,{"$f":"IF(ISERROR(VLOOKUP(B147,'Zebrik W'!$B$7:$L$992,11,0)),\"\",IF(VLOOKUP(B147,'Zebrik W'!$B$7:$L$992,11,0)=0,\"--\",VLOOKUP(B147,'Zebrik W'!$B$7:$L$992,11,0)))","v":""}]
[142,"Martin Zahalka",1987,"M","Staňkov","CZ/C1",15900,2,"","",null,null,{"$f":"IF(ISERROR(VLOOKUP(B148,'Zebrik W'!$B$7:$L$992,11,0)),\"\",IF(VLOOKUP(B148,'Zebrik W'!$B$7:$L$992,11,0)=0,\"--\",VLOOKUP(B148,'Zebrik W'!$B$7:$L$992,11,0)))","v":""}]
[143,"Radim Hahn",1972,"M","Zábřeh","CZ/M",15795,3,"","",null,null,{"$f":"IF(ISERROR(VLOOKUP(B149,'Zebrik W'!$B$7:$L$992,11,0)),\"\",IF(VLOOKUP(B149,'Zebrik W'!$B$7:$L$992,11,0)=0,\"--\",VLOOKUP(B149,'Zebrik W'!$B$7:$L$992,11,0)))","v":""}]
[144,"Vojtech Vach 03",2003,"M","Nové Město nad Metují","CZ/C2",15675,3,"Junior v roce 2024","Junior v roce 2025",null,null,{"$f":"IF(ISERROR(VLOOKUP(B150,'Zebrik W'!$B$7:$L$992,11,0)),\"\",IF(VLOOKUP(B150,'Zebrik W'!$B$7:$L$992,11,0)=0,\"--\",VLOOKUP(B150,'Zebrik W'!$B$7:$L$992,11,0)))","v":""}]
[145,"Josef Kolman",1983,"M","Letňany","CZ/C1",15563,2,"","",null,null,{"$f":"IF(ISERROR(VLOOKUP(B151,'Zebrik W'!$B$7:$L$992,11,0)),\"\",IF(VLOOKUP(B151,'Zebrik W'!$B$7:$L$992,11,0)=0,\"--\",VLOOKUP(B151,'Zebrik W'!$B$7:$L$992,11,0)))","v":""}]
[146,"Jakub Hlavacek",1991,"M","Letkov","CZ/C1",15532,2,"","",null,null,{"$f":"IF(ISERROR(VLOOKUP(B152,'Zebrik W'!$B$7:$L$992,11,0)),\"\",IF(VLOOKUP(B152,'Zebrik W'!$B$7:$L$992,11,0)=0,\"--\",VLOOKUP(B152,'Zebrik W'!$B$7:$L$992,11,0)))","v":""}]
[147,"Pavel Haluza",1966,"M","Prostějov","CZ/M",15347,3,"","",null,null,{"$f":"IF(ISERROR(VLOOKUP(B153,'Zebrik W'!$B$7:$L$992,11,0)),\"\",IF(VLOOKUP(B153,'Zebrik W'!$B$7:$L$992,11,0)=0,\"--\",VLOOKUP(B153,'Zebrik W'!$B$7:$L$992,11,0)))","v":""}]
[148,"Frantisek Suna",1983,"M","Hosín","CZ/C1",15322,3,"","",null,null,{"$f":"IF(ISERROR(VLOOKUP(B154,'Zebrik W'!$B$7:$L$992,11,0)),\"\",IF(VLOOKUP(B154,'Zebrik W'!$B$7:$L$992,11,0)=0,\"--\",VLOOKUP(B154,'Zebrik W'!$B$7:$L$992,11,0)))","v":""}]
[149,"Karel Benisek 76",1976,"M","Toužim","CZ/C1",15316,2,"","",null,null,{"$f":"IF(ISERROR(VLOOKUP(B155,'Zebrik W'!$B$7:$L$992,11,0)),\"\",IF(VLOOKUP(B155,'Zebrik W'!$B$7:$L$992,11,0)=0,\"--\",VLOOKUP(B155,'Zebrik W'!$B$7:$L$992,11,0)))","v":""}]
[150,"Jan Podhrazsky",1976,"M","Šumperk","CZ/M",15300,2,"","",null,null,{"$f":"IF(ISERROR(VLOOKUP(B156,'Zebrik W'!$B$7:$L$992,11,0)),\"\",IF(VLOOKUP(B156,'Zebrik W'!$B$7:$L$992,11,0)=0,\"--\",VLOOKUP(B156,'Zebrik W'!$B$7:$L$992,11,0)))","v":""}]
[151,"Lukas Volek",2004,"M","Hodkovice","CZ/C2",15242,2,"Junior v roce 2024","Junior v roce 2025",null,null,{"$f":"IF(ISERROR(VLOOKUP(B157,'Zebrik W'!$B$7:$L$992,11,0)),\"\",IF(VLOOKUP(B157,'Zebrik W'!$B$7:$L$992,11,0)=0,\"--\",VLOOKUP(B157,'Zebrik W'!$B$7:$L$992,11,0)))","v":""}]
[152,"Roman Schotli",1970,"M","Hranice","CZ/M",15211,3,"","",null,null,{"$f":"IF(ISERROR(VLOOKUP(B158,'Zebrik W'!$B$7:$L$992,11,0)),\"\",IF(VLOOKUP(B158,'Zebrik W'!$B$7:$L$992,11,0)=0,\"--\",VLOOKUP(B158,'Zebrik W'!$B$7:$L$992,11,0)))","v":""}]
[153,"Matej Krestes",1986,"M","Slaný","CZ/C1",15183,3,"","",null,null,{"$f":"IF(ISERROR(VLOOKUP(B159,'Zebrik W'!$B$7:$L$992,11,0)),\"\",IF(VLOOKUP(B159,'Zebrik W'!$B$7:$L$992,11,0)=0,\"--\",VLOOKUP(B159,'Zebrik W'!$B$7:$L$992,11,0)))","v":""}]
[154,"Petr Panek",1975,"M","Dvůr Králové","CZ/C2",15117,3,"","",null,null,{"$f":"IF(ISERROR(VLOOKUP(B160,'Zebrik W'!$B$7:$L$992,11,0)),\"\",IF(VLOOKUP(B160,'Zebrik W'!$B$7:$L$992,11,0)=0,\"--\",VLOOKUP(B160,'Zebrik W'!$B$7:$L$992,11,0)))","v":""}]
[155,"Oldrich Slavicek",1959,"M","Hronov","CZ/C2",15012,2,"","",null,null,{"$f":"IF(ISERROR(VLOOKUP(B161,'Zebrik W'!$B$7:$L$992,11,0)),\"\",IF(VLOOKUP(B161,'Zebrik W'!$B$7:$L$992,11,0)=0,\"--\",VLOOKUP(B161,'Zebrik W'!$B$7:$L$992,11,0)))","v":""}]
[156,"Martin Suchy",1969,"M","Hranice","CZ/M",14805,2,"","",null,null,{"$f":"IF(ISERROR(VLOOKUP(B162,'Zebrik W'!$B$7:$L$992,11,0)),\"\",IF(VLOOKUP(B162,'Zebrik W'!$B$7:$L$992,11,0)=0,\"--\",VLOOKUP(B162,'Zebrik W'!$B$7:$L$992,11,0)))","v":""}]
[157,"Daniel Dvorak",1980,"M","Letkov","CZ/C1",14751,2,"","",null,null,{"$f":"IF(ISERROR(VLOOKUP(B163,'Zebrik W'!$B$7:$L$992,11,0)),\"\",IF(VLOOKUP(B163,'Zebrik W'!$B$7:$L$992,11,0)=0,\"--\",VLOOKUP(B163,'Zebrik W'!$B$7:$L$992,11,0)))","v":""}]
[158,"Antonin Kutalek",1943,"M","Zábřeh","CZ/M",14748,3,"","",null,null,{"$f":"IF(ISERROR(VLOOKUP(B164,'Zebrik W'!$B$7:$L$992,11,0)),\"\",IF(VLOOKUP(B164,'Zebrik W'!$B$7:$L$992,11,0)=0,\"--\",VLOOKUP(B164,'Zebrik W'!$B$7:$L$992,11,0)))","v":""}]
[159,"Milan Dvorak",1965,"M","Liberec","CZ/C2",14698,2,"","",null,null,{"$f":"IF(ISERROR(VLOOKUP(B165,'Zebrik W'!$B$7:$L$992,11,0)),\"\",IF(VLOOKUP(B165,'Zebrik W'!$B$7:$L$992,11,0)=0,\"--\",VLOOKUP(B165,'Zebrik W'!$B$7:$L$992,11,0)))","v":""}]
[160,"Karel Policky",1950,"M","Kolín","CZ/C1",14625,3,"","",null,null,{"$f":"IF(ISERROR(VLOOKUP(B166,'Zebrik W'!$B$7:$L$992,11,0)),\"\",IF(VLOOKUP(B166,'Zebrik W'!$B$7:$L$992,11,0)=0,\"--\",VLOOKUP(B166,'Zebrik W'!$B$7:$L$992,11,0)))","v":""}]
[161,"Jakub Kohn",1992,"M","Prostějov","CZ/M",14595,3,"","",null,null,{"$f":"IF(ISERROR(VLOOKUP(B167,'Zebrik W'!$B$7:$L$992,11,0)),\"\",IF(VLOOKUP(B167,'Zebrik W'!$B$7:$L$992,11,0)=0,\"--\",VLOOKUP(B167,'Zebrik W'!$B$7:$L$992,11,0)))","v":""}]
[162,"Michal Navratil",1985,"M","Křižanov","CZ/M",14566,2,"","",null,null,{"$f":"IF(ISERROR(VLOOKUP(B168,'Zebrik W'!$B$7:$L$992,11,0)),\"\",IF(VLOOKUP(B168,'Zebrik W'!$B$7:$L$992,11,0)=0,\"--\",VLOOKUP(B168,'Zebrik W'!$B$7:$L$992,11,0)))","v":""}]
[163,"Tomas Profeld",1964,"M","Jičín","CZ/C2",14553,3,"","",null,null,{"$f":"IF(ISERROR(VLOOKUP(B169,'Zebrik W'!$B$7:$L$992,11,0)),\"\",IF(VLOOKUP(B169,'Zebrik W'!$B$7:$L$992,11,0)=0,\"--\",VLOOKUP(B169,'Zebrik W'!$B$7:$L$992,11,0)))","v":""}]
[164,"Vojtech Pivonka",1976,"M","Vrchlabí","CZ/C2",14494,2,"","",null,null,{"$f":"IF(ISERROR(VLOOKUP(B170,'Zebrik W'!$B$7:$L$992,11,0)),\"\",IF(VLOOKUP(B170,'Zebrik W'!$B$7:$L$992,11,0)=0,\"--\",VLOOKUP(B170,'Zebrik W'!$B$7:$L$992,11,0)))","v":""}]
[165,"Michal Vranek",1993,"M","Hosín","CZ/C1",14453,3,"","",null,null,{"$f":"IF(ISERROR(VLOOKUP(B171,'Zebrik W'!$B$7:$L$992,11,0)),\"\",IF(VLOOKUP(B171,'Zebrik W'!$B$7:$L$992,11,0)=0,\"--\",VLOOKUP(B171,'Zebrik W'!$B$7:$L$992,11,0)))","v":""}]
[166,"Miroslav Sklenar",1964,"M","Žamberk","CZ/C2",14438,3,{"$f":"IF(C172=\"(prázdné)\",\"\",IF(($I$4-C172)>25,\"\",\"Junior v roce \"&$I$4))","v":""},{"$f":"IF(C172=\"(prázdné)\",\"\",IF(($J$4-C172)>25,\"\",\"Junior v roce \"&$J$4))","v":""},null,null,{"$f":"IF(ISERROR(VLOOKUP(B172,'Zebrik W'!$B$7:$L$992,11,0)),\"\",IF(VLOOKUP(B172,'Zebrik W'!$B$7:$L$992,11,0)=0,\"--\",VLOOKUP(B172,'Zebrik W'!$B$7:$L$992,11,0)))","v":""}]
[167,"Pavel Foldyna",1976,"M","Frýdlant","CZ/M",14405,2,"","",null,null,{"$f":"IF(ISERROR(VLOOKUP(B173,'Zebrik W'!$B$7:$L$992,11,0)),\"\",IF(VLOOKUP(B173,'Zebrik W'!$B$7:$L$992,11,0)=0,\"--\",VLOOKUP(B173,'Zebrik W'!$B$7:$L$992,11,0)))","v":""}]
[168,"Jiri Hula",1973,"M","Slaný","CZ/C1",14118,3,"","",null,null,{"$f":"IF(ISERROR(VLOOKUP(B174,'Zebrik W'!$B$7:$L$992,11,0)),\"\",IF(VLOOKUP(B174,'Zebrik W'!$B$7:$L$992,11,0)=0,\"--\",VLOOKUP(B174,'Zebrik W'!$B$7:$L$992,11,0)))","v":""}]
[169,"Lubomir Motl",1959,"M","Kyjov","CZ/M",14087,2,"","",null,null,{"$f":"IF(ISERROR(VLOOKUP(B175,'Zebrik W'!$B$7:$L$992,11,0)),\"\",IF(VLOOKUP(B175,'Zebrik W'!$B$7:$L$992,11,0)=0,\"--\",VLOOKUP(B175,'Zebrik W'!$B$7:$L$992,11,0)))","v":""}]
[170,"Petr Setka",1971,"M","Letkov","CZ/C1",13982,2,"","",null,null,{"$f":"IF(ISERROR(VLOOKUP(B176,'Zebrik W'!$B$7:$L$992,11,0)),\"\",IF(VLOOKUP(B176,'Zebrik W'!$B$7:$L$992,11,0)=0,\"--\",VLOOKUP(B176,'Zebrik W'!$B$7:$L$992,11,0)))","v":""}]
[171,"Danes Grula",1961,"M","Medlánky","CZ/M",13884,2,"","",null,null,{"$f":"IF(ISERROR(VLOOKUP(B177,'Zebrik W'!$B$7:$L$992,11,0)),\"\",IF(VLOOKUP(B177,'Zebrik W'!$B$7:$L$992,11,0)=0,\"--\",VLOOKUP(B177,'Zebrik W'!$B$7:$L$992,11,0)))","v":""}]
[172,"Martin Fric",1967,"M","Raná","CZ/C2",13858,3,"","",null,null,{"$f":"IF(ISERROR(VLOOKUP(B178,'Zebrik W'!$B$7:$L$992,11,0)),\"\",IF(VLOOKUP(B178,'Zebrik W'!$B$7:$L$992,11,0)=0,\"--\",VLOOKUP(B178,'Zebrik W'!$B$7:$L$992,11,0)))","v":""}]
[173,"Tibor Hezina",2002,"M","Křižanov","CZ/M",13843,3,"Junior v roce 2024","Junior v roce 2025",null,null,{"$f":"IF(ISERROR(VLOOKUP(B179,'Zebrik W'!$B$7:$L$992,11,0)),\"\",IF(VLOOKUP(B179,'Zebrik W'!$B$7:$L$992,11,0)=0,\"--\",VLOOKUP(B179,'Zebrik W'!$B$7:$L$992,11,0)))","v":""}]
[174,"Jaromir Vlk",1959,"M","Šumperk","CZ/M",13783,3,"","",null,null,{"$f":"IF(ISERROR(VLOOKUP(B180,'Zebrik W'!$B$7:$L$992,11,0)),\"\",IF(VLOOKUP(B180,'Zebrik W'!$B$7:$L$992,11,0)=0,\"--\",VLOOKUP(B180,'Zebrik W'!$B$7:$L$992,11,0)))","v":""}]
[175,"Petr Malcek",1965,"M","Letňany","CZ/C1",13754,3,"","",null,null,{"$f":"IF(ISERROR(VLOOKUP(B181,'Zebrik W'!$B$7:$L$992,11,0)),\"\",IF(VLOOKUP(B181,'Zebrik W'!$B$7:$L$992,11,0)=0,\"--\",VLOOKUP(B181,'Zebrik W'!$B$7:$L$992,11,0)))","v":""}]
[176,"Jiri Vondracek",1989,"M","Kladno","CZ/C1",13753,2,"","",null,null,{"$f":"IF(ISERROR(VLOOKUP(B182,'Zebrik W'!$B$7:$L$992,11,0)),\"\",IF(VLOOKUP(B182,'Zebrik W'!$B$7:$L$992,11,0)=0,\"--\",VLOOKUP(B182,'Zebrik W'!$B$7:$L$992,11,0)))","v":""}]
[177,"Jaroslav Potmesil",1964,"M","Zbraslavice","CZ/C1",13742,2,"","",null,null,{"$f":"IF(ISERROR(VLOOKUP(B183,'Zebrik W'!$B$7:$L$992,11,0)),\"\",IF(VLOOKUP(B183,'Zebrik W'!$B$7:$L$992,11,0)=0,\"--\",VLOOKUP(B183,'Zebrik W'!$B$7:$L$992,11,0)))","v":""}]
[178,"Jiri Slemr",1979,"M","Vysoké Mýto","CZ/C2",13723,2,"","",null,null,{"$f":"IF(ISERROR(VLOOKUP(B184,'Zebrik W'!$B$7:$L$992,11,0)),\"\",IF(VLOOKUP(B184,'Zebrik W'!$B$7:$L$992,11,0)=0,\"--\",VLOOKUP(B184,'Zebrik W'!$B$7:$L$992,11,0)))","v":""}]
[179,"Radek Zima 75",1975,"M","Břeclav","CZ/M",13615,2,"","",null,null,{"$f":"IF(ISERROR(VLOOKUP(B185,'Zebrik W'!$B$7:$L$992,11,0)),\"\",IF(VLOOKUP(B185,'Zebrik W'!$B$7:$L$992,11,0)=0,\"--\",VLOOKUP(B185,'Zebrik W'!$B$7:$L$992,11,0)))","v":""}]
[180,"Vladimir Abraham",1962,"M","Raná","CZ/C2",13449,2,"","",null,null,{"$f":"IF(ISERROR(VLOOKUP(B186,'Zebrik W'!$B$7:$L$992,11,0)),\"\",IF(VLOOKUP(B186,'Zebrik W'!$B$7:$L$992,11,0)=0,\"--\",VLOOKUP(B186,'Zebrik W'!$B$7:$L$992,11,0)))","v":""}]
[181,"Petr Starek",1974,"M","Zbraslavice","CZ/C1",13423,2,"","",null,null,{"$f":"IF(ISERROR(VLOOKUP(B187,'Zebrik W'!$B$7:$L$992,11,0)),\"\",IF(VLOOKUP(B187,'Zebrik W'!$B$7:$L$992,11,0)=0,\"--\",VLOOKUP(B187,'Zebrik W'!$B$7:$L$992,11,0)))","v":""}]
[182,"Martin Soucek",1975,"M","Mladá Boleslav","CZ/C1",13392,2,"","",null,null,{"$f":"IF(ISERROR(VLOOKUP(B188,'Zebrik W'!$B$7:$L$992,11,0)),\"\",IF(VLOOKUP(B188,'Zebrik W'!$B$7:$L$992,11,0)=0,\"--\",VLOOKUP(B188,'Zebrik W'!$B$7:$L$992,11,0)))","v":""}]
[183,"Ales Holoubek",1966,"M","Jičín","CZ/C2",13377,3,"","",null,null,{"$f":"IF(ISERROR(VLOOKUP(B189,'Zebrik W'!$B$7:$L$992,11,0)),\"\",IF(VLOOKUP(B189,'Zebrik W'!$B$7:$L$992,11,0)=0,\"--\",VLOOKUP(B189,'Zebrik W'!$B$7:$L$992,11,0)))","v":""}]
[184,"Frantisek Myska",1968,"M","Most","CZ/C2",13345,2,"","",null,null,{"$f":"IF(ISERROR(VLOOKUP(B190,'Zebrik W'!$B$7:$L$992,11,0)),\"\",IF(VLOOKUP(B190,'Zebrik W'!$B$7:$L$992,11,0)=0,\"--\",VLOOKUP(B190,'Zebrik W'!$B$7:$L$992,11,0)))","v":""}]
[185,"Jan Kohout",1970,"M","Žamberk","CZ/C2",13262,2,"","",null,null,{"$f":"IF(ISERROR(VLOOKUP(B191,'Zebrik W'!$B$7:$L$992,11,0)),\"\",IF(VLOOKUP(B191,'Zebrik W'!$B$7:$L$992,11,0)=0,\"--\",VLOOKUP(B191,'Zebrik W'!$B$7:$L$992,11,0)))","v":""}]
[186,"Tomas Hulmak",1999,"M","Hosín","CZ/C1",13251,2,"Junior v roce 2024","",null,null,{"$f":"IF(ISERROR(VLOOKUP(B192,'Zebrik W'!$B$7:$L$992,11,0)),\"\",IF(VLOOKUP(B192,'Zebrik W'!$B$7:$L$992,11,0)=0,\"--\",VLOOKUP(B192,'Zebrik W'!$B$7:$L$992,11,0)))","v":""}]
[187,"Katerina Vancurova",2002,"F","Hranice","CZ/M",13207,3,"Junior v roce 2024","Junior v roce 2025",null,null,{"$f":"IF(ISERROR(VLOOKUP(B193,'Zebrik W'!$B$7:$L$992,11,0)),\"\",IF(VLOOKUP(B193,'Zebrik W'!$B$7:$L$992,11,0)=0,\"--\",VLOOKUP(B193,'Zebrik W'!$B$7:$L$992,11,0)))","v":"--"}]
[188,"Jan Cerveny",1984,"M","Jaroměř","CZ/C2",13171,2,"","",null,null,{"$f":"IF(ISERROR(VLOOKUP(B194,'Zebrik W'!$B$7:$L$992,11,0)),\"\",IF(VLOOKUP(B194,'Zebrik W'!$B$7:$L$992,11,0)=0,\"--\",VLOOKUP(B194,'Zebrik W'!$B$7:$L$992,11,0)))","v":""}]
[189,"Vojtech Novotny",1992,"M","Kralupy","CZ/C1",13149,2,"","",null,null,{"$f":"IF(ISERROR(VLOOKUP(B195,'Zebrik W'!$B$7:$L$992,11,0)),\"\",IF(VLOOKUP(B195,'Zebrik W'!$B$7:$L$992,11,0)=0,\"--\",VLOOKUP(B195,'Zebrik W'!$B$7:$L$992,11,0)))","v":""}]
[190,"Olga Mokosova",1970,"F","Jihlava","CZ/M",13121,3,"","",null,null,{"$f":"IF(ISERROR(VLOOKUP(B196,'Zebrik W'!$B$7:$L$992,11,0)),\"\",IF(VLOOKUP(B196,'Zebrik W'!$B$7:$L$992,11,0)=0,\"--\",VLOOKUP(B196,'Zebrik W'!$B$7:$L$992,11,0)))","v":"--"}]
[191,"Petr Jiranek 63",1962,"M","Toužim","CZ/C1",13089,3,"","",null,null,{"$f":"IF(ISERROR(VLOOKUP(B197,'Zebrik W'!$B$7:$L$992,11,0)),\"\",IF(VLOOKUP(B197,'Zebrik W'!$B$7:$L$992,11,0)=0,\"--\",VLOOKUP(B197,'Zebrik W'!$B$7:$L$992,11,0)))","v":""}]
[192,"Roman Lanzendorf",1964,"M","Letkov","CZ/C1",13024,2,"","",null,null,{"$f":"IF(ISERROR(VLOOKUP(B198,'Zebrik W'!$B$7:$L$992,11,0)),\"\",IF(VLOOKUP(B198,'Zebrik W'!$B$7:$L$992,11,0)=0,\"--\",VLOOKUP(B198,'Zebrik W'!$B$7:$L$992,11,0)))","v":""}]
[{"$f":"RANK(G199,G:G)","v":193},"Petr Bartak",1984,"M","Letkov","CZ/C1",13011,2,"","",null,null,{"$f":"IF(ISERROR(VLOOKUP(B199,'Zebrik W'!$B$7:$L$992,11,0)),\"\",IF(VLOOKUP(B199,'Zebrik W'!$B$7:$L$992,11,0)=0,\"--\",VLOOKUP(B199,'Zebrik W'!$B$7:$L$992,11,0)))","v":""}]
[194,"Michal Maly",1982,"M","Broumov","CZ/C2",12917,2,"","",null,null,{"$f":"IF(ISERROR(VLOOKUP(B200,'Zebrik W'!$B$7:$L$992,11,0)),\"\",IF(VLOOKUP(B200,'Zebrik W'!$B$7:$L$992,11,0)=0,\"--\",VLOOKUP(B200,'Zebrik W'!$B$7:$L$992,11,0)))","v":""}]
[195,"Radoslav Pur",1973,"M","Hosín","CZ/C1",12887,3,"","",null,null,{"$f":"IF(ISERROR(VLOOKUP(B201,'Zebrik W'!$B$7:$L$992,11,0)),\"\",IF(VLOOKUP(B201,'Zebrik W'!$B$7:$L$992,11,0)=0,\"--\",VLOOKUP(B201,'Zebrik W'!$B$7:$L$992,11,0)))","v":""}]
[196,"Ivan Kuzelka",1945,"M","Havlíčkův Brod","CZ/C2",12880,3,"","",null,null,{"$f":"IF(ISERROR(VLOOKUP(B202,'Zebrik W'!$B$7:$L$992,11,0)),\"\",IF(VLOOKUP(B202,'Zebrik W'!$B$7:$L$992,11,0)=0,\"--\",VLOOKUP(B202,'Zebrik W'!$B$7:$L$992,11,0)))","v":""}]
[197,"Vaclav Kult",1973,"M","Broumov","CZ/C2",12870,2,"","",null,null,{"$f":"IF(ISERROR(VLOOKUP(B203,'Zebrik W'!$B$7:$L$992,11,0)),\"\",IF(VLOOKUP(B203,'Zebrik W'!$B$7:$L$992,11,0)=0,\"--\",VLOOKUP(B203,'Zebrik W'!$B$7:$L$992,11,0)))","v":""}]
[198,"Linda Vasatova",1990,"F","Mladá Boleslav","CZ/C1",12832,3,"","",null,null,{"$f":"IF(ISERROR(VLOOKUP(B204,'Zebrik W'!$B$7:$L$992,11,0)),\"\",IF(VLOOKUP(B204,'Zebrik W'!$B$7:$L$992,11,0)=0,\"--\",VLOOKUP(B204,'Zebrik W'!$B$7:$L$992,11,0)))","v":"--"}]
[199,"Lubomir Doupal",1975,"M","Kroměříž","CZ/M",12736,3,"","",null,null,{"$f":"IF(ISERROR(VLOOKUP(B205,'Zebrik W'!$B$7:$L$992,11,0)),\"\",IF(VLOOKUP(B205,'Zebrik W'!$B$7:$L$992,11,0)=0,\"--\",VLOOKUP(B205,'Zebrik W'!$B$7:$L$992,11,0)))","v":""}]
[200,"Vaclav Sehnal",1962,"M","Kolín","CZ/C1",12590,3,"","",null,null,{"$f":"IF(ISERROR(VLOOKUP(B206,'Zebrik W'!$B$7:$L$992,11,0)),\"\",IF(VLOOKUP(B206,'Zebrik W'!$B$7:$L$992,11,0)=0,\"--\",VLOOKUP(B206,'Zebrik W'!$B$7:$L$992,11,0)))","v":""}]
[201,"Miroslav Stepan",1955,"M","Žamberk","CZ/C2",12288,2,"","",null,null,{"$f":"IF(ISERROR(VLOOKUP(B207,'Zebrik W'!$B$7:$L$992,11,0)),\"\",IF(VLOOKUP(B207,'Zebrik W'!$B$7:$L$992,11,0)=0,\"--\",VLOOKUP(B207,'Zebrik W'!$B$7:$L$992,11,0)))","v":""}]
[202,"Pavel Derda",1952,"M","Dvůr Králové","CZ/C2",12273,3,"","",null,null,{"$f":"IF(ISERROR(VLOOKUP(B208,'Zebrik W'!$B$7:$L$992,11,0)),\"\",IF(VLOOKUP(B208,'Zebrik W'!$B$7:$L$992,11,0)=0,\"--\",VLOOKUP(B208,'Zebrik W'!$B$7:$L$992,11,0)))","v":""}]
[203,"Petr Fisar",1974,"M","Ústí nad Orlicí","CZ/C2",12216,2,"","",null,null,{"$f":"IF(ISERROR(VLOOKUP(B209,'Zebrik W'!$B$7:$L$992,11,0)),\"\",IF(VLOOKUP(B209,'Zebrik W'!$B$7:$L$992,11,0)=0,\"--\",VLOOKUP(B209,'Zebrik W'!$B$7:$L$992,11,0)))","v":""}]
[204,"Michal Drab",1969,"M","Letkov","CZ/C1",12147,2,"","",null,null,{"$f":"IF(ISERROR(VLOOKUP(B210,'Zebrik W'!$B$7:$L$992,11,0)),\"\",IF(VLOOKUP(B210,'Zebrik W'!$B$7:$L$992,11,0)=0,\"--\",VLOOKUP(B210,'Zebrik W'!$B$7:$L$992,11,0)))","v":""}]
[205,"Jiri Fousek",1990,"M","Raná","CZ/C2",12117,2,"","",null,null,{"$f":"IF(ISERROR(VLOOKUP(B211,'Zebrik W'!$B$7:$L$992,11,0)),\"\",IF(VLOOKUP(B211,'Zebrik W'!$B$7:$L$992,11,0)=0,\"--\",VLOOKUP(B211,'Zebrik W'!$B$7:$L$992,11,0)))","v":""}]
[206,"Vit Prokop",1987,"M","Medlánky","CZ/M",12021,2,"","",null,null,{"$f":"IF(ISERROR(VLOOKUP(B212,'Zebrik W'!$B$7:$L$992,11,0)),\"\",IF(VLOOKUP(B212,'Zebrik W'!$B$7:$L$992,11,0)=0,\"--\",VLOOKUP(B212,'Zebrik W'!$B$7:$L$992,11,0)))","v":""}]
[207,"Fabian Curda",2004,"M","Zábřeh","CZ/M",11964,3,"Junior v roce 2024","Junior v roce 2025",null,null,{"$f":"IF(ISERROR(VLOOKUP(B213,'Zebrik W'!$B$7:$L$992,11,0)),\"\",IF(VLOOKUP(B213,'Zebrik W'!$B$7:$L$992,11,0)=0,\"--\",VLOOKUP(B213,'Zebrik W'!$B$7:$L$992,11,0)))","v":""}]
[208,"Vit Grossmann",1977,"M","Hranice","CZ/M",11932,3,"","",null,null,{"$f":"IF(ISERROR(VLOOKUP(B214,'Zebrik W'!$B$7:$L$992,11,0)),\"\",IF(VLOOKUP(B214,'Zebrik W'!$B$7:$L$992,11,0)=0,\"--\",VLOOKUP(B214,'Zebrik W'!$B$7:$L$992,11,0)))","v":""}]
[209,"Slavomir Tanglmajer",1966,"M","Chomutov","CZ/C2",11926,3,"","",null,null,{"$f":"IF(ISERROR(VLOOKUP(B215,'Zebrik W'!$B$7:$L$992,11,0)),\"\",IF(VLOOKUP(B215,'Zebrik W'!$B$7:$L$992,11,0)=0,\"--\",VLOOKUP(B215,'Zebrik W'!$B$7:$L$992,11,0)))","v":""}]
[210,"Lukas Hykl",1985,"M","Kolín","CZ/C1",11816,3,"","",null,null,{"$f":"IF(ISERROR(VLOOKUP(B216,'Zebrik W'!$B$7:$L$992,11,0)),\"\",IF(VLOOKUP(B216,'Zebrik W'!$B$7:$L$992,11,0)=0,\"--\",VLOOKUP(B216,'Zebrik W'!$B$7:$L$992,11,0)))","v":""}]
[211,"Katerina Vojtova",1983,"F","Slaný","CZ/C1",11699,3,"","",null,null,{"$f":"IF(ISERROR(VLOOKUP(B217,'Zebrik W'!$B$7:$L$992,11,0)),\"\",IF(VLOOKUP(B217,'Zebrik W'!$B$7:$L$992,11,0)=0,\"--\",VLOOKUP(B217,'Zebrik W'!$B$7:$L$992,11,0)))","v":"--"}]
[212,"Adam Sugl",1987,"M","Vyškov","CZ/M",11579,3,"","",null,null,{"$f":"IF(ISERROR(VLOOKUP(B218,'Zebrik W'!$B$7:$L$992,11,0)),\"\",IF(VLOOKUP(B218,'Zebrik W'!$B$7:$L$992,11,0)=0,\"--\",VLOOKUP(B218,'Zebrik W'!$B$7:$L$992,11,0)))","v":""}]
[213,"Tomas Talanda",1988,"M","Křižanov","CZ/M",11565,2,"","",null,null,{"$f":"IF(ISERROR(VLOOKUP(B219,'Zebrik W'!$B$7:$L$992,11,0)),\"\",IF(VLOOKUP(B219,'Zebrik W'!$B$7:$L$992,11,0)=0,\"--\",VLOOKUP(B219,'Zebrik W'!$B$7:$L$992,11,0)))","v":""}]
[214,"Michal Coufal",1999,"M","Jičín","CZ/C2",11518,2,"Junior v roce 2024","",null,null,{"$f":"IF(ISERROR(VLOOKUP(B220,'Zebrik W'!$B$7:$L$992,11,0)),\"\",IF(VLOOKUP(B220,'Zebrik W'!$B$7:$L$992,11,0)=0,\"--\",VLOOKUP(B220,'Zebrik W'!$B$7:$L$992,11,0)))","v":""}]
[215,"Lukas Petrzela",1987,"M","Olomouc","CZ/M",11416,3,"","",null,null,{"$f":"IF(ISERROR(VLOOKUP(B221,'Zebrik W'!$B$7:$L$992,11,0)),\"\",IF(VLOOKUP(B221,'Zebrik W'!$B$7:$L$992,11,0)=0,\"--\",VLOOKUP(B221,'Zebrik W'!$B$7:$L$992,11,0)))","v":""}]
[216,"Jiri Maier 99",1999,"M","Raná","CZ/C2",11414,2,"Junior v roce 2024","",null,null,{"$f":"IF(ISERROR(VLOOKUP(B222,'Zebrik W'!$B$7:$L$992,11,0)),\"\",IF(VLOOKUP(B222,'Zebrik W'!$B$7:$L$992,11,0)=0,\"--\",VLOOKUP(B222,'Zebrik W'!$B$7:$L$992,11,0)))","v":""}]
[217,"Pavel Trojan",1960,"M","Chrudim","CZ/C2",11367,2,"","",null,null,{"$f":"IF(ISERROR(VLOOKUP(B223,'Zebrik W'!$B$7:$L$992,11,0)),\"\",IF(VLOOKUP(B223,'Zebrik W'!$B$7:$L$992,11,0)=0,\"--\",VLOOKUP(B223,'Zebrik W'!$B$7:$L$992,11,0)))","v":""}]
[218,"Adam Hepal",2004,"M","Moravská Třebová","CZ/M",11323,3,"Junior v roce 2024","Junior v roce 2025",null,null,{"$f":"IF(ISERROR(VLOOKUP(B224,'Zebrik W'!$B$7:$L$992,11,0)),\"\",IF(VLOOKUP(B224,'Zebrik W'!$B$7:$L$992,11,0)=0,\"--\",VLOOKUP(B224,'Zebrik W'!$B$7:$L$992,11,0)))","v":""}]
[219,"Ondrej Blaha",1976,"M","Letňany","CZ/C1",11261,2,"","",null,null,{"$f":"IF(ISERROR(VLOOKUP(B225,'Zebrik W'!$B$7:$L$992,11,0)),\"\",IF(VLOOKUP(B225,'Zebrik W'!$B$7:$L$992,11,0)=0,\"--\",VLOOKUP(B225,'Zebrik W'!$B$7:$L$992,11,0)))","v":""}]
[220,"Jiri Krofta",1988,"M","Hosín","CZ/C1",11099,3,"","",null,null,{"$f":"IF(ISERROR(VLOOKUP(B226,'Zebrik W'!$B$7:$L$992,11,0)),\"\",IF(VLOOKUP(B226,'Zebrik W'!$B$7:$L$992,11,0)=0,\"--\",VLOOKUP(B226,'Zebrik W'!$B$7:$L$992,11,0)))","v":""}]
[221,"Vaclav Hruza",1965,"M","Břeclav","CZ/M",11085,3,"","",null,null,{"$f":"IF(ISERROR(VLOOKUP(B227,'Zebrik W'!$B$7:$L$992,11,0)),\"\",IF(VLOOKUP(B227,'Zebrik W'!$B$7:$L$992,11,0)=0,\"--\",VLOOKUP(B227,'Zebrik W'!$B$7:$L$992,11,0)))","v":""}]
[222,"Jan Zahradka",1981,"M","Hodkovice","CZ/C2",10975,2,"","",null,null,{"$f":"IF(ISERROR(VLOOKUP(B228,'Zebrik W'!$B$7:$L$992,11,0)),\"\",IF(VLOOKUP(B228,'Zebrik W'!$B$7:$L$992,11,0)=0,\"--\",VLOOKUP(B228,'Zebrik W'!$B$7:$L$992,11,0)))","v":""}]
[223,"Matej Jelinek",1999,"M","Hronov","CZ/C2",10870,2,"Junior v roce 2024","",null,null,{"$f":"IF(ISERROR(VLOOKUP(B229,'Zebrik W'!$B$7:$L$992,11,0)),\"\",IF(VLOOKUP(B229,'Zebrik W'!$B$7:$L$992,11,0)=0,\"--\",VLOOKUP(B229,'Zebrik W'!$B$7:$L$992,11,0)))","v":""}]
[224,"Tomas Ptacovsky",1981,"M","Letňany","CZ/C1",10732,2,"","",null,null,{"$f":"IF(ISERROR(VLOOKUP(B230,'Zebrik W'!$B$7:$L$992,11,0)),\"\",IF(VLOOKUP(B230,'Zebrik W'!$B$7:$L$992,11,0)=0,\"--\",VLOOKUP(B230,'Zebrik W'!$B$7:$L$992,11,0)))","v":""}]
[225,"Michal Hemrle",1974,"M","Česká Lípa","CZ/C2",10556,3,"","",null,null,{"$f":"IF(ISERROR(VLOOKUP(B231,'Zebrik W'!$B$7:$L$992,11,0)),\"\",IF(VLOOKUP(B231,'Zebrik W'!$B$7:$L$992,11,0)=0,\"--\",VLOOKUP(B231,'Zebrik W'!$B$7:$L$992,11,0)))","v":""}]
[226,"David Popovsky",1976,"M","Rakovník","CZ/C1",10509,2,"","",null,null,{"$f":"IF(ISERROR(VLOOKUP(B232,'Zebrik W'!$B$7:$L$992,11,0)),\"\",IF(VLOOKUP(B232,'Zebrik W'!$B$7:$L$992,11,0)=0,\"--\",VLOOKUP(B232,'Zebrik W'!$B$7:$L$992,11,0)))","v":""}]
[227,"Tomas Mezera",1973,"M","Raná","CZ/C2",10411,2,"","",null,null,{"$f":"IF(ISERROR(VLOOKUP(B233,'Zebrik W'!$B$7:$L$992,11,0)),\"\",IF(VLOOKUP(B233,'Zebrik W'!$B$7:$L$992,11,0)=0,\"--\",VLOOKUP(B233,'Zebrik W'!$B$7:$L$992,11,0)))","v":""}]
[228,"Petr Seibrt",1974,"M","Náchod","CZ/C2",10396,2,"","",null,null,{"$f":"IF(ISERROR(VLOOKUP(B234,'Zebrik W'!$B$7:$L$992,11,0)),\"\",IF(VLOOKUP(B234,'Zebrik W'!$B$7:$L$992,11,0)=0,\"--\",VLOOKUP(B234,'Zebrik W'!$B$7:$L$992,11,0)))","v":""}]
[229,"Peter Kaspar",1980,"M","Vyškov","CZ/M",10238,2,"","",null,null,{"$f":"IF(ISERROR(VLOOKUP(B235,'Zebrik W'!$B$7:$L$992,11,0)),\"\",IF(VLOOKUP(B235,'Zebrik W'!$B$7:$L$992,11,0)=0,\"--\",VLOOKUP(B235,'Zebrik W'!$B$7:$L$992,11,0)))","v":""}]
[230,"Filip Malik",2001,"M","Letňany","CZ/C1",10199,3,{"$f":"IF(C236=\"(prázdné)\",\"\",IF(($I$4-C236)>25,\"\",\"Junior v roce \"&$I$4))","v":"Junior v roce 2024"},{"$f":"IF(C236=\"(prázdné)\",\"\",IF(($J$4-C236)>25,\"\",\"Junior v roce \"&$J$4))","v":"Junior v roce 2025"},null,null,{"$f":"IF(ISERROR(VLOOKUP(B236,'Zebrik W'!$B$7:$L$992,11,0)),\"\",IF(VLOOKUP(B236,'Zebrik W'!$B$7:$L$992,11,0)=0,\"--\",VLOOKUP(B236,'Zebrik W'!$B$7:$L$992,11,0)))","v":""}]
[231,"Vladimir Jirka",1965,"M","Zábřeh","CZ/M",9950,2,"","",null,null,{"$f":"IF(ISERROR(VLOOKUP(B237,'Zebrik W'!$B$7:$L$992,11,0)),\"\",IF(VLOOKUP(B237,'Zebrik W'!$B$7:$L$992,11,0)=0,\"--\",VLOOKUP(B237,'Zebrik W'!$B$7:$L$992,11,0)))","v":""}]
[232,"Jan Zanda",1983,"M","Letkov","CZ/C1",9936,2,"","",null,null,{"$f":"IF(ISERROR(VLOOKUP(B238,'Zebrik W'!$B$7:$L$992,11,0)),\"\",IF(VLOOKUP(B238,'Zebrik W'!$B$7:$L$992,11,0)=0,\"--\",VLOOKUP(B238,'Zebrik W'!$B$7:$L$992,11,0)))","v":""}]
[233,"Jan Vozeh",1995,"M","Rakovník","CZ/C1",9873,2,"","",null,null,{"$f":"IF(ISERROR(VLOOKUP(B239,'Zebrik W'!$B$7:$L$992,11,0)),\"\",IF(VLOOKUP(B239,'Zebrik W'!$B$7:$L$992,11,0)=0,\"--\",VLOOKUP(B239,'Zebrik W'!$B$7:$L$992,11,0)))","v":""}]
[234,"Ales Vyhnal",1989,"M","Kralupy","CZ/C1",9643,2,"","",null,null,{"$f":"IF(ISERROR(VLOOKUP(B240,'Zebrik W'!$B$7:$L$992,11,0)),\"\",IF(VLOOKUP(B240,'Zebrik W'!$B$7:$L$992,11,0)=0,\"--\",VLOOKUP(B240,'Zebrik W'!$B$7:$L$992,11,0)))","v":""}]
[235,"Milos Matejka",1956,"M","Beroun","CZ/C1",9627,2,"","",null,null,{"$f":"IF(ISERROR(VLOOKUP(B241,'Zebrik W'!$B$7:$L$992,11,0)),\"\",IF(VLOOKUP(B241,'Zebrik W'!$B$7:$L$992,11,0)=0,\"--\",VLOOKUP(B241,'Zebrik W'!$B$7:$L$992,11,0)))","v":""}]
[236,"Vaclav Svoboda",1970,"M","Letkov","CZ/C1",9537,2,"","",null,null,{"$f":"IF(ISERROR(VLOOKUP(B242,'Zebrik W'!$B$7:$L$992,11,0)),\"\",IF(VLOOKUP(B242,'Zebrik W'!$B$7:$L$992,11,0)=0,\"--\",VLOOKUP(B242,'Zebrik W'!$B$7:$L$992,11,0)))","v":""}]
[236,"Frantisek Komarek",1985,"M","Zbraslavice","CZ/C1",9537,2,"","",null,null,{"$f":"IF(ISERROR(VLOOKUP(B243,'Zebrik W'!$B$7:$L$992,11,0)),\"\",IF(VLOOKUP(B243,'Zebrik W'!$B$7:$L$992,11,0)=0,\"--\",VLOOKUP(B243,'Zebrik W'!$B$7:$L$992,11,0)))","v":""}]
[238,"Petr Hosek",2001,"M","Beroun","CZ/C1",9190,2,"Junior v roce 2024","Junior v roce 2025",null,null,{"$f":"IF(ISERROR(VLOOKUP(B244,'Zebrik W'!$B$7:$L$992,11,0)),\"\",IF(VLOOKUP(B244,'Zebrik W'!$B$7:$L$992,11,0)=0,\"--\",VLOOKUP(B244,'Zebrik W'!$B$7:$L$992,11,0)))","v":""}]
[239,"Matej Bartos",1998,"M","Hodkovice","CZ/C2",9185,2,"","",null,null,{"$f":"IF(ISERROR(VLOOKUP(B245,'Zebrik W'!$B$7:$L$992,11,0)),\"\",IF(VLOOKUP(B245,'Zebrik W'!$B$7:$L$992,11,0)=0,\"--\",VLOOKUP(B245,'Zebrik W'!$B$7:$L$992,11,0)))","v":""}]
[240,"Martin Stastny",2005,"M","Medlánky","CZ/M",9100,2,"Junior v roce 2024","Junior v roce 2025",null,null,{"$f":"IF(ISERROR(VLOOKUP(B246,'Zebrik W'!$B$7:$L$992,11,0)),\"\",IF(VLOOKUP(B246,'Zebrik W'!$B$7:$L$992,11,0)=0,\"--\",VLOOKUP(B246,'Zebrik W'!$B$7:$L$992,11,0)))","v":""}]
[241,"Michal Janda",1972,"M","Broumov","CZ/C2",9045,2,"","",null,null,{"$f":"IF(ISERROR(VLOOKUP(B247,'Zebrik W'!$B$7:$L$992,11,0)),\"\",IF(VLOOKUP(B247,'Zebrik W'!$B$7:$L$992,11,0)=0,\"--\",VLOOKUP(B247,'Zebrik W'!$B$7:$L$992,11,0)))","v":""}]
[242,"Radim Tomala",1972,"M","Prostějov","CZ/M",8929,2,"","",null,null,{"$f":"IF(ISERROR(VLOOKUP(B248,'Zebrik W'!$B$7:$L$992,11,0)),\"\",IF(VLOOKUP(B248,'Zebrik W'!$B$7:$L$992,11,0)=0,\"--\",VLOOKUP(B248,'Zebrik W'!$B$7:$L$992,11,0)))","v":""}]
[243,"Ivo Burda",1962,"M","Zbraslavice","CZ/C1",8906,2,"","",null,null,{"$f":"IF(ISERROR(VLOOKUP(B249,'Zebrik W'!$B$7:$L$992,11,0)),\"\",IF(VLOOKUP(B249,'Zebrik W'!$B$7:$L$992,11,0)=0,\"--\",VLOOKUP(B249,'Zebrik W'!$B$7:$L$992,11,0)))","v":""}]
[244,"Pavel Zima",1979,"M","Břeclav","CZ/M",8783,1,"","",null,null,{"$f":"IF(ISERROR(VLOOKUP(B250,'Zebrik W'!$B$7:$L$992,11,0)),\"\",IF(VLOOKUP(B250,'Zebrik W'!$B$7:$L$992,11,0)=0,\"--\",VLOOKUP(B250,'Zebrik W'!$B$7:$L$992,11,0)))","v":""}]
[245,"Yvona Vyhnankova",1963,"F","Olomouc","CZ/M",8773,3,"","",null,null,{"$f":"IF(ISERROR(VLOOKUP(B251,'Zebrik W'!$B$7:$L$992,11,0)),\"\",IF(VLOOKUP(B251,'Zebrik W'!$B$7:$L$992,11,0)=0,\"--\",VLOOKUP(B251,'Zebrik W'!$B$7:$L$992,11,0)))","v":"--"}]
[246,"Petr Brezina",1963,"M","Frýdlant","CZ/M",8733,3,"","",null,null,{"$f":"IF(ISERROR(VLOOKUP(B252,'Zebrik W'!$B$7:$L$992,11,0)),\"\",IF(VLOOKUP(B252,'Zebrik W'!$B$7:$L$992,11,0)=0,\"--\",VLOOKUP(B252,'Zebrik W'!$B$7:$L$992,11,0)))","v":""}]
[247,"Antonin Bordovsky",1951,"M","Krnov","CZ/M",8723,2,"","",null,null,{"$f":"IF(ISERROR(VLOOKUP(B253,'Zebrik W'!$B$7:$L$992,11,0)),\"\",IF(VLOOKUP(B253,'Zebrik W'!$B$7:$L$992,11,0)=0,\"--\",VLOOKUP(B253,'Zebrik W'!$B$7:$L$992,11,0)))","v":""}]
[248,"Lukas Koukal",1991,"M","Letkov","CZ/C1",8667,1,"","",null,null,{"$f":"IF(ISERROR(VLOOKUP(B254,'Zebrik W'!$B$7:$L$992,11,0)),\"\",IF(VLOOKUP(B254,'Zebrik W'!$B$7:$L$992,11,0)=0,\"--\",VLOOKUP(B254,'Zebrik W'!$B$7:$L$992,11,0)))","v":""}]
[249,"Daniel Ryba",1994,"M","Dvůr Králové","CZ/C2",8548,2,"","",null,null,{"$f":"IF(ISERROR(VLOOKUP(B255,'Zebrik W'!$B$7:$L$992,11,0)),\"\",IF(VLOOKUP(B255,'Zebrik W'!$B$7:$L$992,11,0)=0,\"--\",VLOOKUP(B255,'Zebrik W'!$B$7:$L$992,11,0)))","v":""}]
[250,"Michal Kratochvil",1984,"M","Slaný","CZ/C1",8510,1,"","",null,null,{"$f":"IF(ISERROR(VLOOKUP(B256,'Zebrik W'!$B$7:$L$992,11,0)),\"\",IF(VLOOKUP(B256,'Zebrik W'!$B$7:$L$992,11,0)=0,\"--\",VLOOKUP(B256,'Zebrik W'!$B$7:$L$992,11,0)))","v":""}]
[251,"Vojtech Vach 76",1976,"M","Nové Město nad Metují","CZ/C2",8412,2,"","",null,null,{"$f":"IF(ISERROR(VLOOKUP(B257,'Zebrik W'!$B$7:$L$992,11,0)),\"\",IF(VLOOKUP(B257,'Zebrik W'!$B$7:$L$992,11,0)=0,\"--\",VLOOKUP(B257,'Zebrik W'!$B$7:$L$992,11,0)))","v":""}]
[252,"Leos Nosek",1958,"M","Křižanov","CZ/M",8248,3,"","",null,null,{"$f":"IF(ISERROR(VLOOKUP(B258,'Zebrik W'!$B$7:$L$992,11,0)),\"\",IF(VLOOKUP(B258,'Zebrik W'!$B$7:$L$992,11,0)=0,\"--\",VLOOKUP(B258,'Zebrik W'!$B$7:$L$992,11,0)))","v":""}]
[253,"Roman Cerny",1971,"M","Hranice","CZ/M",8160,2,"","",null,null,{"$f":"IF(ISERROR(VLOOKUP(B259,'Zebrik W'!$B$7:$L$992,11,0)),\"\",IF(VLOOKUP(B259,'Zebrik W'!$B$7:$L$992,11,0)=0,\"--\",VLOOKUP(B259,'Zebrik W'!$B$7:$L$992,11,0)))","v":""}]
[254,"Marek Svancara",1976,"M","GAC Benešov","CZ/C1",8073,1,"","",null,null,{"$f":"IF(ISERROR(VLOOKUP(B260,'Zebrik W'!$B$7:$L$992,11,0)),\"\",IF(VLOOKUP(B260,'Zebrik W'!$B$7:$L$992,11,0)=0,\"--\",VLOOKUP(B260,'Zebrik W'!$B$7:$L$992,11,0)))","v":""}]
[255,"Tomas Holenda",1956,"M","Havlíčkův Brod","CZ/C2",8071,3,"","",null,null,{"$f":"IF(ISERROR(VLOOKUP(B261,'Zebrik W'!$B$7:$L$992,11,0)),\"\",IF(VLOOKUP(B261,'Zebrik W'!$B$7:$L$992,11,0)=0,\"--\",VLOOKUP(B261,'Zebrik W'!$B$7:$L$992,11,0)))","v":""}]
[256,"Tomas Jung",1950,"M","Zbraslavice","CZ/C1",7941,3,"","",null,null,{"$f":"IF(ISERROR(VLOOKUP(B262,'Zebrik W'!$B$7:$L$992,11,0)),\"\",IF(VLOOKUP(B262,'Zebrik W'!$B$7:$L$992,11,0)=0,\"--\",VLOOKUP(B262,'Zebrik W'!$B$7:$L$992,11,0)))","v":""}]
[{"$f":"RANK(G263,G:G)","v":257},"Antonin Novotny",1972,"M","Luhačovice","CZ/M",7886,1,"","",null,null,{"$f":"IF(ISERROR(VLOOKUP(B263,'Zebrik W'!$B$7:$L$992,11,0)),\"\",IF(VLOOKUP(B263,'Zebrik W'!$B$7:$L$992,11,0)=0,\"--\",VLOOKUP(B263,'Zebrik W'!$B$7:$L$992,11,0)))","v":""}]
[258,"Jaromir Hendrych",1954,"M","Raná","CZ/C2",7845,2,"","",null,null,{"$f":"IF(ISERROR(VLOOKUP(B264,'Zebrik W'!$B$7:$L$992,11,0)),\"\",IF(VLOOKUP(B264,'Zebrik W'!$B$7:$L$992,11,0)=0,\"--\",VLOOKUP(B264,'Zebrik W'!$B$7:$L$992,11,0)))","v":""}]
[259,"Martin Markl",1960,"M","Kolín","CZ/C1",7788,3,"","",null,null,{"$f":"IF(ISERROR(VLOOKUP(B265,'Zebrik W'!$B$7:$L$992,11,0)),\"\",IF(VLOOKUP(B265,'Zebrik W'!$B$7:$L$992,11,0)=0,\"--\",VLOOKUP(B265,'Zebrik W'!$B$7:$L$992,11,0)))","v":""}]
[260,"Petr Vezda",1974,"M","Medlánky","CZ/M",7770,2,"","",null,null,{"$f":"IF(ISERROR(VLOOKUP(B266,'Zebrik W'!$B$7:$L$992,11,0)),\"\",IF(VLOOKUP(B266,'Zebrik W'!$B$7:$L$992,11,0)=0,\"--\",VLOOKUP(B266,'Zebrik W'!$B$7:$L$992,11,0)))","v":""}]
[261,"Michal Nutil",1966,"M","Náchod","CZ/C2",7693,2,"","",null,null,{"$f":"IF(ISERROR(VLOOKUP(B267,'Zebrik W'!$B$7:$L$992,11,0)),\"\",IF(VLOOKUP(B267,'Zebrik W'!$B$7:$L$992,11,0)=0,\"--\",VLOOKUP(B267,'Zebrik W'!$B$7:$L$992,11,0)))","v":""}]
[262,"Jan Svestka",2005,"M","Křižanov","CZ/M",7623,2,"Junior v roce 2024","Junior v roce 2025",null,null,{"$f":"IF(ISERROR(VLOOKUP(B268,'Zebrik W'!$B$7:$L$992,11,0)),\"\",IF(VLOOKUP(B268,'Zebrik W'!$B$7:$L$992,11,0)=0,\"--\",VLOOKUP(B268,'Zebrik W'!$B$7:$L$992,11,0)))","v":""}]
[263,"Jan Vavrin",1987,"M","Vysoké Mýto","CZ/C2",7593,1,"","",null,null,{"$f":"IF(ISERROR(VLOOKUP(B269,'Zebrik W'!$B$7:$L$992,11,0)),\"\",IF(VLOOKUP(B269,'Zebrik W'!$B$7:$L$992,11,0)=0,\"--\",VLOOKUP(B269,'Zebrik W'!$B$7:$L$992,11,0)))","v":""}]
[264,"Jakub Kmosek",1978,"M","Zbraslavice","CZ/C1",7582,1,"","",null,null,{"$f":"IF(ISERROR(VLOOKUP(B270,'Zebrik W'!$B$7:$L$992,11,0)),\"\",IF(VLOOKUP(B270,'Zebrik W'!$B$7:$L$992,11,0)=0,\"--\",VLOOKUP(B270,'Zebrik W'!$B$7:$L$992,11,0)))","v":""}]
[265,"Zdenek Mach",1976,"M","Broumov","CZ/C2",7548,2,"","",null,null,{"$f":"IF(ISERROR(VLOOKUP(B271,'Zebrik W'!$B$7:$L$992,11,0)),\"\",IF(VLOOKUP(B271,'Zebrik W'!$B$7:$L$992,11,0)=0,\"--\",VLOOKUP(B271,'Zebrik W'!$B$7:$L$992,11,0)))","v":""}]
[266,"Martin Koci",1975,"M","Ústí nad Orlicí","CZ/C2",7506,2,"","",null,null,{"$f":"IF(ISERROR(VLOOKUP(B272,'Zebrik W'!$B$7:$L$992,11,0)),\"\",IF(VLOOKUP(B272,'Zebrik W'!$B$7:$L$992,11,0)=0,\"--\",VLOOKUP(B272,'Zebrik W'!$B$7:$L$992,11,0)))","v":""}]
[266,"Sarka Lochova",1966,"F","Šumperk","CZ/M",7506,2,"","",null,null,{"$f":"IF(ISERROR(VLOOKUP(B273,'Zebrik W'!$B$7:$L$992,11,0)),\"\",IF(VLOOKUP(B273,'Zebrik W'!$B$7:$L$992,11,0)=0,\"--\",VLOOKUP(B273,'Zebrik W'!$B$7:$L$992,11,0)))","v":"--"}]
[268,"David Riha",1983,"M","Vlašim","CZ/C1",7500,1,"","",null,null,{"$f":"IF(ISERROR(VLOOKUP(B274,'Zebrik W'!$B$7:$L$992,11,0)),\"\",IF(VLOOKUP(B274,'Zebrik W'!$B$7:$L$992,11,0)=0,\"--\",VLOOKUP(B274,'Zebrik W'!$B$7:$L$992,11,0)))","v":""}]
[269,"Antonin Konicek",1973,"M","Kunovice","CZ/M",7475,1,"","",null,null,{"$f":"IF(ISERROR(VLOOKUP(B275,'Zebrik W'!$B$7:$L$992,11,0)),\"\",IF(VLOOKUP(B275,'Zebrik W'!$B$7:$L$992,11,0)=0,\"--\",VLOOKUP(B275,'Zebrik W'!$B$7:$L$992,11,0)))","v":""}]
[270,"Petr Valenta 76",1976,"M","Jaroměř","CZ/C2",7433,2,"","",null,null,{"$f":"IF(ISERROR(VLOOKUP(B276,'Zebrik W'!$B$7:$L$992,11,0)),\"\",IF(VLOOKUP(B276,'Zebrik W'!$B$7:$L$992,11,0)=0,\"--\",VLOOKUP(B276,'Zebrik W'!$B$7:$L$992,11,0)))","v":""}]
[271,"Martin Valenta",1969,"M","Toužim","CZ/C1",7398,2,"","",null,null,{"$f":"IF(ISERROR(VLOOKUP(B277,'Zebrik W'!$B$7:$L$992,11,0)),\"\",IF(VLOOKUP(B277,'Zebrik W'!$B$7:$L$992,11,0)=0,\"--\",VLOOKUP(B277,'Zebrik W'!$B$7:$L$992,11,0)))","v":""}]
[272,"Anna Bordovska",1989,"F","Mladá Boleslav","CZ/C1",7324,1,"","",null,null,{"$f":"IF(ISERROR(VLOOKUP(B278,'Zebrik W'!$B$7:$L$992,11,0)),\"\",IF(VLOOKUP(B278,'Zebrik W'!$B$7:$L$992,11,0)=0,\"--\",VLOOKUP(B278,'Zebrik W'!$B$7:$L$992,11,0)))","v":"--"}]
[273,"Radek Tobolka",1977,"M","Jičín","CZ/C2",7300,1,"","",null,null,{"$f":"IF(ISERROR(VLOOKUP(B279,'Zebrik W'!$B$7:$L$992,11,0)),\"\",IF(VLOOKUP(B279,'Zebrik W'!$B$7:$L$992,11,0)=0,\"--\",VLOOKUP(B279,'Zebrik W'!$B$7:$L$992,11,0)))","v":""}]
[274,"Karel Ertl",1939,"M","LK Břeclav","CZ/M",7293,3,"","",null,null,{"$f":"IF(ISERROR(VLOOKUP(B280,'Zebrik W'!$B$7:$L$992,11,0)),\"\",IF(VLOOKUP(B280,'Zebrik W'!$B$7:$L$992,11,0)=0,\"--\",VLOOKUP(B280,'Zebrik W'!$B$7:$L$992,11,0)))","v":""}]
[275,"Tomas Seifert",1972,"M","Raná","CZ/C2",7291,2,"","",null,null,{"$f":"IF(ISERROR(VLOOKUP(B281,'Zebrik W'!$B$7:$L$992,11,0)),\"\",IF(VLOOKUP(B281,'Zebrik W'!$B$7:$L$992,11,0)=0,\"--\",VLOOKUP(B281,'Zebrik W'!$B$7:$L$992,11,0)))","v":""}]
[276,"Jiri Janda",1966,"M","Letňany","CZ/C1",7189,2,"","",null,null,{"$f":"IF(ISERROR(VLOOKUP(B282,'Zebrik W'!$B$7:$L$992,11,0)),\"\",IF(VLOOKUP(B282,'Zebrik W'!$B$7:$L$992,11,0)=0,\"--\",VLOOKUP(B282,'Zebrik W'!$B$7:$L$992,11,0)))","v":""}]
[277,"Stepan Bartos",2004,"M","Kolín","CZ/C1",7150,1,"Junior v roce 2024","Junior v roce 2025",null,null,{"$f":"IF(ISERROR(VLOOKUP(B283,'Zebrik W'!$B$7:$L$992,11,0)),\"\",IF(VLOOKUP(B283,'Zebrik W'!$B$7:$L$992,11,0)=0,\"--\",VLOOKUP(B283,'Zebrik W'!$B$7:$L$992,11,0)))","v":""}]
[278,"Michal Posluzny",1968,"M","Medlánky","CZ/M",7041,1,"","",null,null,{"$f":"IF(ISERROR(VLOOKUP(B284,'Zebrik W'!$B$7:$L$992,11,0)),\"\",IF(VLOOKUP(B284,'Zebrik W'!$B$7:$L$992,11,0)=0,\"--\",VLOOKUP(B284,'Zebrik W'!$B$7:$L$992,11,0)))","v":""}]
[279,"Filip Mrstny",2006,"M","Beroun","CZ/C1",7018,1,"Junior v roce 2024","Junior v roce 2025",null,null,{"$f":"IF(ISERROR(VLOOKUP(B285,'Zebrik W'!$B$7:$L$992,11,0)),\"\",IF(VLOOKUP(B285,'Zebrik W'!$B$7:$L$992,11,0)=0,\"--\",VLOOKUP(B285,'Zebrik W'!$B$7:$L$992,11,0)))","v":""}]
[280,"Jana Mezerova",1975,"F","Raná","CZ/C2",7005,2,"","",null,null,{"$f":"IF(ISERROR(VLOOKUP(B286,'Zebrik W'!$B$7:$L$992,11,0)),\"\",IF(VLOOKUP(B286,'Zebrik W'!$B$7:$L$992,11,0)=0,\"--\",VLOOKUP(B286,'Zebrik W'!$B$7:$L$992,11,0)))","v":"--"}]
[281,"Petr Hora",1948,"M","Hodkovice","CZ/C2",6900,1,"","",null,null,{"$f":"IF(ISERROR(VLOOKUP(B287,'Zebrik W'!$B$7:$L$992,11,0)),\"\",IF(VLOOKUP(B287,'Zebrik W'!$B$7:$L$992,11,0)=0,\"--\",VLOOKUP(B287,'Zebrik W'!$B$7:$L$992,11,0)))","v":""}]
[282,"Martin Piskacek",1991,"M","Křižanov","CZ/M",6832,2,"","",null,null,{"$f":"IF(ISERROR(VLOOKUP(B288,'Zebrik W'!$B$7:$L$992,11,0)),\"\",IF(VLOOKUP(B288,'Zebrik W'!$B$7:$L$992,11,0)=0,\"--\",VLOOKUP(B288,'Zebrik W'!$B$7:$L$992,11,0)))","v":""}]
[283,"Radek Bares",1963,"M","Jičín","CZ/C2",6822,1,"","",null,null,{"$f":"IF(ISERROR(VLOOKUP(B289,'Zebrik W'!$B$7:$L$992,11,0)),\"\",IF(VLOOKUP(B289,'Zebrik W'!$B$7:$L$992,11,0)=0,\"--\",VLOOKUP(B289,'Zebrik W'!$B$7:$L$992,11,0)))","v":""}]
[284,"Jan Rott",1962,"M","Hronov","CZ/C2",6793,2,"","",null,null,{"$f":"IF(ISERROR(VLOOKUP(B290,'Zebrik W'!$B$7:$L$992,11,0)),\"\",IF(VLOOKUP(B290,'Zebrik W'!$B$7:$L$992,11,0)=0,\"--\",VLOOKUP(B290,'Zebrik W'!$B$7:$L$992,11,0)))","v":""}]
[285,"Martin Picka",1974,"M","Tábor","CZ/C1",6789,2,"","",null,null,{"$f":"IF(ISERROR(VLOOKUP(B291,'Zebrik W'!$B$7:$L$992,11,0)),\"\",IF(VLOOKUP(B291,'Zebrik W'!$B$7:$L$992,11,0)=0,\"--\",VLOOKUP(B291,'Zebrik W'!$B$7:$L$992,11,0)))","v":""}]
[286,"Petr Rygl",1966,"M","Jičín","CZ/C2",6780,1,"","",null,null,{"$f":"IF(ISERROR(VLOOKUP(B292,'Zebrik W'!$B$7:$L$992,11,0)),\"\",IF(VLOOKUP(B292,'Zebrik W'!$B$7:$L$992,11,0)=0,\"--\",VLOOKUP(B292,'Zebrik W'!$B$7:$L$992,11,0)))","v":""}]
[287,"Petr Valenta 94",1994,"M","Kunovice","CZ/M",6779,1,"","",null,null,{"$f":"IF(ISERROR(VLOOKUP(B293,'Zebrik W'!$B$7:$L$992,11,0)),\"\",IF(VLOOKUP(B293,'Zebrik W'!$B$7:$L$992,11,0)=0,\"--\",VLOOKUP(B293,'Zebrik W'!$B$7:$L$992,11,0)))","v":""}]
[288,"Petr Kolacek",1965,"M","Šumperk","CZ/M",6740,1,"","",null,null,{"$f":"IF(ISERROR(VLOOKUP(B294,'Zebrik W'!$B$7:$L$992,11,0)),\"\",IF(VLOOKUP(B294,'Zebrik W'!$B$7:$L$992,11,0)=0,\"--\",VLOOKUP(B294,'Zebrik W'!$B$7:$L$992,11,0)))","v":""}]
[289,"Martin Holik",1959,"M","Letňany","CZ/C1",6638,2,"","",null,null,{"$f":"IF(ISERROR(VLOOKUP(B295,'Zebrik W'!$B$7:$L$992,11,0)),\"\",IF(VLOOKUP(B295,'Zebrik W'!$B$7:$L$992,11,0)=0,\"--\",VLOOKUP(B295,'Zebrik W'!$B$7:$L$992,11,0)))","v":""}]
[290,"Tomas Malik",1972,"M","Letňany","CZ/C1",6564,1,"","",null,null,{"$f":"IF(ISERROR(VLOOKUP(B296,'Zebrik W'!$B$7:$L$992,11,0)),\"\",IF(VLOOKUP(B296,'Zebrik W'!$B$7:$L$992,11,0)=0,\"--\",VLOOKUP(B296,'Zebrik W'!$B$7:$L$992,11,0)))","v":""}]
[291,"Tomas Moravec",2000,"M","Žamberk","CZ/C2",6556,1,"Junior v roce 2024","Junior v roce 2025",null,null,{"$f":"IF(ISERROR(VLOOKUP(B297,'Zebrik W'!$B$7:$L$992,11,0)),\"\",IF(VLOOKUP(B297,'Zebrik W'!$B$7:$L$992,11,0)=0,\"--\",VLOOKUP(B297,'Zebrik W'!$B$7:$L$992,11,0)))","v":""}]
[292,"Petr Jiranek 91",1991,"M","Toužim","CZ/C1",6496,1,"","",null,null,{"$f":"IF(ISERROR(VLOOKUP(B298,'Zebrik W'!$B$7:$L$992,11,0)),\"\",IF(VLOOKUP(B298,'Zebrik W'!$B$7:$L$992,11,0)=0,\"--\",VLOOKUP(B298,'Zebrik W'!$B$7:$L$992,11,0)))","v":""}]
[293,"Lenka Kuthanova",1960,"F","Tábor","CZ/C1",6488,1,"","",null,null,{"$f":"IF(ISERROR(VLOOKUP(B299,'Zebrik W'!$B$7:$L$992,11,0)),\"\",IF(VLOOKUP(B299,'Zebrik W'!$B$7:$L$992,11,0)=0,\"--\",VLOOKUP(B299,'Zebrik W'!$B$7:$L$992,11,0)))","v":"--"}]
[294,"Martin Benesovsky",1975,"M","Kolín","CZ/C1",6477,3,{"$f":"IF(C300=\"(prázdné)\",\"\",IF(($I$4-C300)>25,\"\",\"Junior v roce \"&$I$4))","v":""},{"$f":"IF(C300=\"(prázdné)\",\"\",IF(($J$4-C300)>25,\"\",\"Junior v roce \"&$J$4))","v":""},null,null,{"$f":"IF(ISERROR(VLOOKUP(B300,'Zebrik W'!$B$7:$L$992,11,0)),\"\",IF(VLOOKUP(B300,'Zebrik W'!$B$7:$L$992,11,0)=0,\"--\",VLOOKUP(B300,'Zebrik W'!$B$7:$L$992,11,0)))","v":""}]
[295,"Jiri Donat",1983,"M","Letňany","CZ/C1",6462,2,"","",null,null,{"$f":"IF(ISERROR(VLOOKUP(B301,'Zebrik W'!$B$7:$L$992,11,0)),\"\",IF(VLOOKUP(B301,'Zebrik W'!$B$7:$L$992,11,0)=0,\"--\",VLOOKUP(B301,'Zebrik W'!$B$7:$L$992,11,0)))","v":""}]
[296,"Jiri Holcman",1976,"M","Hosín","CZ/C1",6421,2,"","",null,null,{"$f":"IF(ISERROR(VLOOKUP(B302,'Zebrik W'!$B$7:$L$992,11,0)),\"\",IF(VLOOKUP(B302,'Zebrik W'!$B$7:$L$992,11,0)=0,\"--\",VLOOKUP(B302,'Zebrik W'!$B$7:$L$992,11,0)))","v":""}]
[297,"Tomas Novak",1974,"M","Česká Lípa","CZ/C2",6383,1,"","",null,null,{"$f":"IF(ISERROR(VLOOKUP(B303,'Zebrik W'!$B$7:$L$992,11,0)),\"\",IF(VLOOKUP(B303,'Zebrik W'!$B$7:$L$992,11,0)=0,\"--\",VLOOKUP(B303,'Zebrik W'!$B$7:$L$992,11,0)))","v":""}]
[298,"Jiri Maier 66",1966,"M","Raná","CZ/C2",6372,1,"","",null,null,{"$f":"IF(ISERROR(VLOOKUP(B304,'Zebrik W'!$B$7:$L$992,11,0)),\"\",IF(VLOOKUP(B304,'Zebrik W'!$B$7:$L$992,11,0)=0,\"--\",VLOOKUP(B304,'Zebrik W'!$B$7:$L$992,11,0)))","v":""}]
[299,"Viktor Becan",1979,"M","Vlašim","CZ/C1",6298,1,"","",null,null,{"$f":"IF(ISERROR(VLOOKUP(B305,'Zebrik W'!$B$7:$L$992,11,0)),\"\",IF(VLOOKUP(B305,'Zebrik W'!$B$7:$L$992,11,0)=0,\"--\",VLOOKUP(B305,'Zebrik W'!$B$7:$L$992,11,0)))","v":""}]
[300,"Vit Tvrdik",2000,"M","Letňany","CZ/C1",6297,1,"Junior v roce 2024","Junior v roce 2025",null,null,{"$f":"IF(ISERROR(VLOOKUP(B306,'Zebrik W'!$B$7:$L$992,11,0)),\"\",IF(VLOOKUP(B306,'Zebrik W'!$B$7:$L$992,11,0)=0,\"--\",VLOOKUP(B306,'Zebrik W'!$B$7:$L$992,11,0)))","v":""}]
[301,"Michal Buryan",1977,"M","Vysoké Mýto","CZ/C2",6293,1,"","",null,null,{"$f":"IF(ISERROR(VLOOKUP(B307,'Zebrik W'!$B$7:$L$992,11,0)),\"\",IF(VLOOKUP(B307,'Zebrik W'!$B$7:$L$992,11,0)=0,\"--\",VLOOKUP(B307,'Zebrik W'!$B$7:$L$992,11,0)))","v":""}]
[302,"Rudolf Jung",1954,"M","Zbraslavice","CZ/C1",6214,2,"","",null,null,{"$f":"IF(ISERROR(VLOOKUP(B308,'Zebrik W'!$B$7:$L$992,11,0)),\"\",IF(VLOOKUP(B308,'Zebrik W'!$B$7:$L$992,11,0)=0,\"--\",VLOOKUP(B308,'Zebrik W'!$B$7:$L$992,11,0)))","v":""}]
[303,"Ondrej Dvorak 98",1998,"M","Mladá Boleslav","CZ/C1",6167,1,"","",null,null,{"$f":"IF(ISERROR(VLOOKUP(B309,'Zebrik W'!$B$7:$L$992,11,0)),\"\",IF(VLOOKUP(B309,'Zebrik W'!$B$7:$L$992,11,0)=0,\"--\",VLOOKUP(B309,'Zebrik W'!$B$7:$L$992,11,0)))","v":""}]
[304,"Michael Fik",1972,"M","Strakonice","CZ/C1",6158,1,"","",null,null,{"$f":"IF(ISERROR(VLOOKUP(B310,'Zebrik W'!$B$7:$L$992,11,0)),\"\",IF(VLOOKUP(B310,'Zebrik W'!$B$7:$L$992,11,0)=0,\"--\",VLOOKUP(B310,'Zebrik W'!$B$7:$L$992,11,0)))","v":""}]
[305,"Miroslav Major",1968,"M","Kralupy","CZ/C1",6144,2,"","",null,null,{"$f":"IF(ISERROR(VLOOKUP(B311,'Zebrik W'!$B$7:$L$992,11,0)),\"\",IF(VLOOKUP(B311,'Zebrik W'!$B$7:$L$992,11,0)=0,\"--\",VLOOKUP(B311,'Zebrik W'!$B$7:$L$992,11,0)))","v":""}]
[306,"Klara Teichmannova",1993,"F","Hronov","CZ/C2",6125,1,"","",null,null,{"$f":"IF(ISERROR(VLOOKUP(B312,'Zebrik W'!$B$7:$L$992,11,0)),\"\",IF(VLOOKUP(B312,'Zebrik W'!$B$7:$L$992,11,0)=0,\"--\",VLOOKUP(B312,'Zebrik W'!$B$7:$L$992,11,0)))","v":"--"}]
[307,"Jan Kristof",1962,"M","Frýdlant","CZ/M",6027,2,"","",null,null,{"$f":"IF(ISERROR(VLOOKUP(B313,'Zebrik W'!$B$7:$L$992,11,0)),\"\",IF(VLOOKUP(B313,'Zebrik W'!$B$7:$L$992,11,0)=0,\"--\",VLOOKUP(B313,'Zebrik W'!$B$7:$L$992,11,0)))","v":""}]
[308,"Vojtech Kostejn",1974,"M","Česká Lípa","CZ/C2",6012,1,"","",null,null,{"$f":"IF(ISERROR(VLOOKUP(B314,'Zebrik W'!$B$7:$L$992,11,0)),\"\",IF(VLOOKUP(B314,'Zebrik W'!$B$7:$L$992,11,0)=0,\"--\",VLOOKUP(B314,'Zebrik W'!$B$7:$L$992,11,0)))","v":""}]
[309,"Jan Muknsnabl",1992,"M","Letkov","CZ/C1",5990,1,"","",null,null,{"$f":"IF(ISERROR(VLOOKUP(B315,'Zebrik W'!$B$7:$L$992,11,0)),\"\",IF(VLOOKUP(B315,'Zebrik W'!$B$7:$L$992,11,0)=0,\"--\",VLOOKUP(B315,'Zebrik W'!$B$7:$L$992,11,0)))","v":""}]
[310,"Zbynek Fuksa",1956,"M","Jičín","CZ/C2",5971,1,"","",null,null,{"$f":"IF(ISERROR(VLOOKUP(B316,'Zebrik W'!$B$7:$L$992,11,0)),\"\",IF(VLOOKUP(B316,'Zebrik W'!$B$7:$L$992,11,0)=0,\"--\",VLOOKUP(B316,'Zebrik W'!$B$7:$L$992,11,0)))","v":""}]
[311,"Jan Cibulka",2002,"M","Letňany","CZ/C1",5917,1,"Junior v roce 2024","Junior v roce 2025",null,null,{"$f":"IF(ISERROR(VLOOKUP(B317,'Zebrik W'!$B$7:$L$992,11,0)),\"\",IF(VLOOKUP(B317,'Zebrik W'!$B$7:$L$992,11,0)=0,\"--\",VLOOKUP(B317,'Zebrik W'!$B$7:$L$992,11,0)))","v":""}]
[312,"Jan Hejret",1976,"M","Jaroměř","CZ/C2",5864,2,"","",null,null,{"$f":"IF(ISERROR(VLOOKUP(B318,'Zebrik W'!$B$7:$L$992,11,0)),\"\",IF(VLOOKUP(B318,'Zebrik W'!$B$7:$L$992,11,0)=0,\"--\",VLOOKUP(B318,'Zebrik W'!$B$7:$L$992,11,0)))","v":""}]
[313,"Tereza Ludvikova",1997,"F","Jaroměř","CZ/C2",5772,1,"","",null,null,{"$f":"IF(ISERROR(VLOOKUP(B319,'Zebrik W'!$B$7:$L$992,11,0)),\"\",IF(VLOOKUP(B319,'Zebrik W'!$B$7:$L$992,11,0)=0,\"--\",VLOOKUP(B319,'Zebrik W'!$B$7:$L$992,11,0)))","v":"--"}]
[314,"Petr Kyzivat",1970,"M","Jičín","CZ/C2",5644,1,"","",null,null,{"$f":"IF(ISERROR(VLOOKUP(B320,'Zebrik W'!$B$7:$L$992,11,0)),\"\",IF(VLOOKUP(B320,'Zebrik W'!$B$7:$L$992,11,0)=0,\"--\",VLOOKUP(B320,'Zebrik W'!$B$7:$L$992,11,0)))","v":""}]
[315,"Richard Jensen",1965,"M","Zbraslavice","CZ/C1",5607,1,"","",null,null,{"$f":"IF(ISERROR(VLOOKUP(B321,'Zebrik W'!$B$7:$L$992,11,0)),\"\",IF(VLOOKUP(B321,'Zebrik W'!$B$7:$L$992,11,0)=0,\"--\",VLOOKUP(B321,'Zebrik W'!$B$7:$L$992,11,0)))","v":""}]
[316,"Martin Zvonicek",1972,"M","Raná","CZ/C2",5580,1,"","",null,null,{"$f":"IF(ISERROR(VLOOKUP(B322,'Zebrik W'!$B$7:$L$992,11,0)),\"\",IF(VLOOKUP(B322,'Zebrik W'!$B$7:$L$992,11,0)=0,\"--\",VLOOKUP(B322,'Zebrik W'!$B$7:$L$992,11,0)))","v":""}]
[317,"Vaclav Petru",1974,"M","Letňany","CZ/C1",5565,2,"","",null,null,{"$f":"IF(ISERROR(VLOOKUP(B323,'Zebrik W'!$B$7:$L$992,11,0)),\"\",IF(VLOOKUP(B323,'Zebrik W'!$B$7:$L$992,11,0)=0,\"--\",VLOOKUP(B323,'Zebrik W'!$B$7:$L$992,11,0)))","v":""}]
[318,"Martin Hejny",1984,"M","Šumperk","CZ/M",5539,1,"","",null,null,{"$f":"IF(ISERROR(VLOOKUP(B324,'Zebrik W'!$B$7:$L$992,11,0)),\"\",IF(VLOOKUP(B324,'Zebrik W'!$B$7:$L$992,11,0)=0,\"--\",VLOOKUP(B324,'Zebrik W'!$B$7:$L$992,11,0)))","v":""}]
[319,"Oldrich Hlavacek",1973,"M","Medlánky","CZ/M",5536,1,"","",null,null,{"$f":"IF(ISERROR(VLOOKUP(B325,'Zebrik W'!$B$7:$L$992,11,0)),\"\",IF(VLOOKUP(B325,'Zebrik W'!$B$7:$L$992,11,0)=0,\"--\",VLOOKUP(B325,'Zebrik W'!$B$7:$L$992,11,0)))","v":""}]
[320,"Jiri Kratochvil",2003,"M","Podhořany","CZ/C2",5517,1,"Junior v roce 2024","Junior v roce 2025",null,null,{"$f":"IF(ISERROR(VLOOKUP(B326,'Zebrik W'!$B$7:$L$992,11,0)),\"\",IF(VLOOKUP(B326,'Zebrik W'!$B$7:$L$992,11,0)=0,\"--\",VLOOKUP(B326,'Zebrik W'!$B$7:$L$992,11,0)))","v":""}]
[{"$f":"RANK(G327,G:G)","v":321},"Jaroslav Hot",1965,"M","Toužim","CZ/C1",5422,2,"","",null,null,{"$f":"IF(ISERROR(VLOOKUP(B327,'Zebrik W'!$B$7:$L$992,11,0)),\"\",IF(VLOOKUP(B327,'Zebrik W'!$B$7:$L$992,11,0)=0,\"--\",VLOOKUP(B327,'Zebrik W'!$B$7:$L$992,11,0)))","v":""}]
[322,"Tereza Novakova",1993,"F","Chrudim","CZ/C2",5377,2,"","",null,null,{"$f":"IF(ISERROR(VLOOKUP(B328,'Zebrik W'!$B$7:$L$992,11,0)),\"\",IF(VLOOKUP(B328,'Zebrik W'!$B$7:$L$992,11,0)=0,\"--\",VLOOKUP(B328,'Zebrik W'!$B$7:$L$992,11,0)))","v":"--"}]
[323,"Vojtech Pavek",2000,"M","Medlánky","CZ/M",5302,2,"Junior v roce 2024","Junior v roce 2025",null,null,{"$f":"IF(ISERROR(VLOOKUP(B329,'Zebrik W'!$B$7:$L$992,11,0)),\"\",IF(VLOOKUP(B329,'Zebrik W'!$B$7:$L$992,11,0)=0,\"--\",VLOOKUP(B329,'Zebrik W'!$B$7:$L$992,11,0)))","v":""}]
[323,"Karel Mares",1974,"M","Slaný","CZ/C1",5302,1,"","",null,null,{"$f":"IF(ISERROR(VLOOKUP(B330,'Zebrik W'!$B$7:$L$992,11,0)),\"\",IF(VLOOKUP(B330,'Zebrik W'!$B$7:$L$992,11,0)=0,\"--\",VLOOKUP(B330,'Zebrik W'!$B$7:$L$992,11,0)))","v":""}]
[325,"Vladimir Prihoda",1953,"M","Kralupy","CZ/C1",5211,1,"","",null,null,{"$f":"IF(ISERROR(VLOOKUP(B331,'Zebrik W'!$B$7:$L$992,11,0)),\"\",IF(VLOOKUP(B331,'Zebrik W'!$B$7:$L$992,11,0)=0,\"--\",VLOOKUP(B331,'Zebrik W'!$B$7:$L$992,11,0)))","v":""}]
[326,"Martin Vnoucek",1972,"M","Vlašim","CZ/C1",5203,1,"","",null,null,{"$f":"IF(ISERROR(VLOOKUP(B332,'Zebrik W'!$B$7:$L$992,11,0)),\"\",IF(VLOOKUP(B332,'Zebrik W'!$B$7:$L$992,11,0)=0,\"--\",VLOOKUP(B332,'Zebrik W'!$B$7:$L$992,11,0)))","v":""}]
[327,"Petr Omelka",1970,"M","Vyškov","CZ/M",5185,3,"","",null,null,{"$f":"IF(ISERROR(VLOOKUP(B333,'Zebrik W'!$B$7:$L$992,11,0)),\"\",IF(VLOOKUP(B333,'Zebrik W'!$B$7:$L$992,11,0)=0,\"--\",VLOOKUP(B333,'Zebrik W'!$B$7:$L$992,11,0)))","v":""}]
[328,"Dusan Gadas",1960,"M","Hranice","CZ/M",5134,1,"","",null,null,{"$f":"IF(ISERROR(VLOOKUP(B334,'Zebrik W'!$B$7:$L$992,11,0)),\"\",IF(VLOOKUP(B334,'Zebrik W'!$B$7:$L$992,11,0)=0,\"--\",VLOOKUP(B334,'Zebrik W'!$B$7:$L$992,11,0)))","v":""}]
[329,"Vojtech Sehnal",1994,"M","Kolín","CZ/C1",5062,2,"","",null,null,{"$f":"IF(ISERROR(VLOOKUP(B335,'Zebrik W'!$B$7:$L$992,11,0)),\"\",IF(VLOOKUP(B335,'Zebrik W'!$B$7:$L$992,11,0)=0,\"--\",VLOOKUP(B335,'Zebrik W'!$B$7:$L$992,11,0)))","v":""}]
[330,"Michal Linhart",1982,"M","Vyškov","CZ/M",4971,3,"","",null,null,{"$f":"IF(ISERROR(VLOOKUP(B336,'Zebrik W'!$B$7:$L$992,11,0)),\"\",IF(VLOOKUP(B336,'Zebrik W'!$B$7:$L$992,11,0)=0,\"--\",VLOOKUP(B336,'Zebrik W'!$B$7:$L$992,11,0)))","v":""}]
[331,"Matous Schmidt",1981,"M","Letňany","CZ/C1",4899,2,"","",null,null,{"$f":"IF(ISERROR(VLOOKUP(B337,'Zebrik W'!$B$7:$L$992,11,0)),\"\",IF(VLOOKUP(B337,'Zebrik W'!$B$7:$L$992,11,0)=0,\"--\",VLOOKUP(B337,'Zebrik W'!$B$7:$L$992,11,0)))","v":""}]
[332,"Jaroslav Kares",1962,"M","Olomouc","CZ/M",4871,2,"","",null,null,{"$f":"IF(ISERROR(VLOOKUP(B338,'Zebrik W'!$B$7:$L$992,11,0)),\"\",IF(VLOOKUP(B338,'Zebrik W'!$B$7:$L$992,11,0)=0,\"--\",VLOOKUP(B338,'Zebrik W'!$B$7:$L$992,11,0)))","v":""}]
[333,"Zbynek Bican",1961,"M","Raná","CZ/C2",4862,1,"","",null,null,{"$f":"IF(ISERROR(VLOOKUP(B339,'Zebrik W'!$B$7:$L$992,11,0)),\"\",IF(VLOOKUP(B339,'Zebrik W'!$B$7:$L$992,11,0)=0,\"--\",VLOOKUP(B339,'Zebrik W'!$B$7:$L$992,11,0)))","v":""}]
[334,"Vaclav Kysilka",1979,"M","GAC Benešov","CZ/C1",4820,1,"","",null,null,{"$f":"IF(ISERROR(VLOOKUP(B340,'Zebrik W'!$B$7:$L$992,11,0)),\"\",IF(VLOOKUP(B340,'Zebrik W'!$B$7:$L$992,11,0)=0,\"--\",VLOOKUP(B340,'Zebrik W'!$B$7:$L$992,11,0)))","v":""}]
[335,"Roman Michalek",1974,"M","Toužim","CZ/C1",4744,2,"","",null,null,{"$f":"IF(ISERROR(VLOOKUP(B341,'Zebrik W'!$B$7:$L$992,11,0)),\"\",IF(VLOOKUP(B341,'Zebrik W'!$B$7:$L$992,11,0)=0,\"--\",VLOOKUP(B341,'Zebrik W'!$B$7:$L$992,11,0)))","v":""}]
[336,"Tim Raasch",2000,"M","Polička","CZ/C2",4718,2,"Junior v roce 2024","Junior v roce 2025",null,null,{"$f":"IF(ISERROR(VLOOKUP(B342,'Zebrik W'!$B$7:$L$992,11,0)),\"\",IF(VLOOKUP(B342,'Zebrik W'!$B$7:$L$992,11,0)=0,\"--\",VLOOKUP(B342,'Zebrik W'!$B$7:$L$992,11,0)))","v":""}]
[337,"Petr Vodicka",1965,"M","Jaroměř","CZ/C2",4708,1,"","",null,null,{"$f":"IF(ISERROR(VLOOKUP(B343,'Zebrik W'!$B$7:$L$992,11,0)),\"\",IF(VLOOKUP(B343,'Zebrik W'!$B$7:$L$992,11,0)=0,\"--\",VLOOKUP(B343,'Zebrik W'!$B$7:$L$992,11,0)))","v":""}]
[338,"Jan Adam",2002,"M","Podhořany","CZ/C2",4703,1,"Junior v roce 2024","Junior v roce 2025",null,null,{"$f":"IF(ISERROR(VLOOKUP(B344,'Zebrik W'!$B$7:$L$992,11,0)),\"\",IF(VLOOKUP(B344,'Zebrik W'!$B$7:$L$992,11,0)=0,\"--\",VLOOKUP(B344,'Zebrik W'!$B$7:$L$992,11,0)))","v":""}]
[339,"Josef Kreutzer",1992,"M","Letkov","CZ/C1",4683,1,"","",null,null,{"$f":"IF(ISERROR(VLOOKUP(B345,'Zebrik W'!$B$7:$L$992,11,0)),\"\",IF(VLOOKUP(B345,'Zebrik W'!$B$7:$L$992,11,0)=0,\"--\",VLOOKUP(B345,'Zebrik W'!$B$7:$L$992,11,0)))","v":""}]
[340,"Boris Bachraty",1974,"M","Kyjov","CZ/M",4668,1,"","",null,null,{"$f":"IF(ISERROR(VLOOKUP(B346,'Zebrik W'!$B$7:$L$992,11,0)),\"\",IF(VLOOKUP(B346,'Zebrik W'!$B$7:$L$992,11,0)=0,\"--\",VLOOKUP(B346,'Zebrik W'!$B$7:$L$992,11,0)))","v":""}]
[341,"Josef Hlusek",1993,"M","Kunovice","CZ/M",4602,2,"","",null,null,{"$f":"IF(ISERROR(VLOOKUP(B347,'Zebrik W'!$B$7:$L$992,11,0)),\"\",IF(VLOOKUP(B347,'Zebrik W'!$B$7:$L$992,11,0)=0,\"--\",VLOOKUP(B347,'Zebrik W'!$B$7:$L$992,11,0)))","v":""}]
[342,"Alex Gulich",2005,"M","Slaný","CZ/C1",4552,1,"Junior v roce 2024","Junior v roce 2025",null,null,{"$f":"IF(ISERROR(VLOOKUP(B348,'Zebrik W'!$B$7:$L$992,11,0)),\"\",IF(VLOOKUP(B348,'Zebrik W'!$B$7:$L$992,11,0)=0,\"--\",VLOOKUP(B348,'Zebrik W'!$B$7:$L$992,11,0)))","v":""}]
[343,"Krystof Mimra",1992,"M","Most","CZ/C2",4512,1,"","",null,null,{"$f":"IF(ISERROR(VLOOKUP(B349,'Zebrik W'!$B$7:$L$992,11,0)),\"\",IF(VLOOKUP(B349,'Zebrik W'!$B$7:$L$992,11,0)=0,\"--\",VLOOKUP(B349,'Zebrik W'!$B$7:$L$992,11,0)))","v":""}]
[344,"Petr Prichystal",1973,"M","Moravská Třebová","CZ/M",4495,1,"","",null,null,{"$f":"IF(ISERROR(VLOOKUP(B350,'Zebrik W'!$B$7:$L$992,11,0)),\"\",IF(VLOOKUP(B350,'Zebrik W'!$B$7:$L$992,11,0)=0,\"--\",VLOOKUP(B350,'Zebrik W'!$B$7:$L$992,11,0)))","v":""}]
[345,"Daniel Marek",1983,"M","Hosín","CZ/C1",4472,1,"","",null,null,{"$f":"IF(ISERROR(VLOOKUP(B351,'Zebrik W'!$B$7:$L$992,11,0)),\"\",IF(VLOOKUP(B351,'Zebrik W'!$B$7:$L$992,11,0)=0,\"--\",VLOOKUP(B351,'Zebrik W'!$B$7:$L$992,11,0)))","v":""}]
[346,"Vladimir Spilka",1940,"M","Hranice","CZ/M",4422,2,"","",null,null,{"$f":"IF(ISERROR(VLOOKUP(B352,'Zebrik W'!$B$7:$L$992,11,0)),\"\",IF(VLOOKUP(B352,'Zebrik W'!$B$7:$L$992,11,0)=0,\"--\",VLOOKUP(B352,'Zebrik W'!$B$7:$L$992,11,0)))","v":""}]
[347,"Petr Traeger",1983,"M","Vrchlabí","CZ/C2",4418,1,"","",null,null,{"$f":"IF(ISERROR(VLOOKUP(B353,'Zebrik W'!$B$7:$L$992,11,0)),\"\",IF(VLOOKUP(B353,'Zebrik W'!$B$7:$L$992,11,0)=0,\"--\",VLOOKUP(B353,'Zebrik W'!$B$7:$L$992,11,0)))","v":""}]
[348,"Tomas Zamecnik",1988,"M","Zbraslavice","CZ/C1",4405,1,"","",null,null,{"$f":"IF(ISERROR(VLOOKUP(B354,'Zebrik W'!$B$7:$L$992,11,0)),\"\",IF(VLOOKUP(B354,'Zebrik W'!$B$7:$L$992,11,0)=0,\"--\",VLOOKUP(B354,'Zebrik W'!$B$7:$L$992,11,0)))","v":""}]
[349,"Jan Sustr 76",1976,"M","Raná","CZ/C2",4386,1,"","",null,null,{"$f":"IF(ISERROR(VLOOKUP(B355,'Zebrik W'!$B$7:$L$992,11,0)),\"\",IF(VLOOKUP(B355,'Zebrik W'!$B$7:$L$992,11,0)=0,\"--\",VLOOKUP(B355,'Zebrik W'!$B$7:$L$992,11,0)))","v":""}]
[350,"Petr Styblo",1975,"M","Letňany","CZ/C1",4287,1,"","",null,null,{"$f":"IF(ISERROR(VLOOKUP(B356,'Zebrik W'!$B$7:$L$992,11,0)),\"\",IF(VLOOKUP(B356,'Zebrik W'!$B$7:$L$992,11,0)=0,\"--\",VLOOKUP(B356,'Zebrik W'!$B$7:$L$992,11,0)))","v":""}]
[351,"Dalibor Pek",1968,"M","Raná","CZ/C2",4281,1,"","",null,null,{"$f":"IF(ISERROR(VLOOKUP(B357,'Zebrik W'!$B$7:$L$992,11,0)),\"\",IF(VLOOKUP(B357,'Zebrik W'!$B$7:$L$992,11,0)=0,\"--\",VLOOKUP(B357,'Zebrik W'!$B$7:$L$992,11,0)))","v":""}]
[352,"Eliska Kudejova",2006,"F","Strakonice","CZ/C1",4269,1,"Junior v roce 2024","Junior v roce 2025",null,null,{"$f":"IF(ISERROR(VLOOKUP(B358,'Zebrik W'!$B$7:$L$992,11,0)),\"\",IF(VLOOKUP(B358,'Zebrik W'!$B$7:$L$992,11,0)=0,\"--\",VLOOKUP(B358,'Zebrik W'!$B$7:$L$992,11,0)))","v":"--"}]
[353,"Vaclav Cerny",1949,"M","Slaný","CZ/C1",4261,1,"","",null,null,{"$f":"IF(ISERROR(VLOOKUP(B359,'Zebrik W'!$B$7:$L$992,11,0)),\"\",IF(VLOOKUP(B359,'Zebrik W'!$B$7:$L$992,11,0)=0,\"--\",VLOOKUP(B359,'Zebrik W'!$B$7:$L$992,11,0)))","v":""}]
[354,"Jaromir Jedlicka",1972,"M","Letňany","CZ/C1",4255,1,"","",null,null,{"$f":"IF(ISERROR(VLOOKUP(B360,'Zebrik W'!$B$7:$L$992,11,0)),\"\",IF(VLOOKUP(B360,'Zebrik W'!$B$7:$L$992,11,0)=0,\"--\",VLOOKUP(B360,'Zebrik W'!$B$7:$L$992,11,0)))","v":""}]
[355,"Ilja Kopacek",1943,"M","Jičín","CZ/C2",4154,1,"","",null,null,{"$f":"IF(ISERROR(VLOOKUP(B361,'Zebrik W'!$B$7:$L$992,11,0)),\"\",IF(VLOOKUP(B361,'Zebrik W'!$B$7:$L$992,11,0)=0,\"--\",VLOOKUP(B361,'Zebrik W'!$B$7:$L$992,11,0)))","v":""}]
[356,"Daniel Suchy",1995,"M","Hranice","CZ/M",4091,1,"","",null,null,{"$f":"IF(ISERROR(VLOOKUP(B362,'Zebrik W'!$B$7:$L$992,11,0)),\"\",IF(VLOOKUP(B362,'Zebrik W'!$B$7:$L$992,11,0)=0,\"--\",VLOOKUP(B362,'Zebrik W'!$B$7:$L$992,11,0)))","v":""}]
[357,"Kamil Sohr",1973,"M","Šumperk","CZ/M",4082,1,"","",null,null,{"$f":"IF(ISERROR(VLOOKUP(B363,'Zebrik W'!$B$7:$L$992,11,0)),\"\",IF(VLOOKUP(B363,'Zebrik W'!$B$7:$L$992,11,0)=0,\"--\",VLOOKUP(B363,'Zebrik W'!$B$7:$L$992,11,0)))","v":""}]
[358,"Jaroslav Vancata",1985,"M","Raná","CZ/C2",4033,1,{"$f":"IF(C364=\"(prázdné)\",\"\",IF(($I$4-C364)>25,\"\",\"Junior v roce \"&$I$4))","v":""},{"$f":"IF(C364=\"(prázdné)\",\"\",IF(($J$4-C364)>25,\"\",\"Junior v roce \"&$J$4))","v":""},null,null,{"$f":"IF(ISERROR(VLOOKUP(B364,'Zebrik W'!$B$7:$L$992,11,0)),\"\",IF(VLOOKUP(B364,'Zebrik W'!$B$7:$L$992,11,0)=0,\"--\",VLOOKUP(B364,'Zebrik W'!$B$7:$L$992,11,0)))","v":""}]
[359,"Jiri Cincera",1966,"M","Toužim","CZ/C1",4000,1,"","",null,null,{"$f":"IF(ISERROR(VLOOKUP(B365,'Zebrik W'!$B$7:$L$992,11,0)),\"\",IF(VLOOKUP(B365,'Zebrik W'!$B$7:$L$992,11,0)=0,\"--\",VLOOKUP(B365,'Zebrik W'!$B$7:$L$992,11,0)))","v":""}]
[360,"Jiri Hodan",1959,"M","Zbraslavice","CZ/C1",3986,2,"","",null,null,{"$f":"IF(ISERROR(VLOOKUP(B366,'Zebrik W'!$B$7:$L$992,11,0)),\"\",IF(VLOOKUP(B366,'Zebrik W'!$B$7:$L$992,11,0)=0,\"--\",VLOOKUP(B366,'Zebrik W'!$B$7:$L$992,11,0)))","v":""}]
[361,"Petr Jedlicka",1987,"M","Medlánky","CZ/M",3961,1,"","",null,null,{"$f":"IF(ISERROR(VLOOKUP(B367,'Zebrik W'!$B$7:$L$992,11,0)),\"\",IF(VLOOKUP(B367,'Zebrik W'!$B$7:$L$992,11,0)=0,\"--\",VLOOKUP(B367,'Zebrik W'!$B$7:$L$992,11,0)))","v":""}]
[362,"David Benda",1974,"M","Letňany","CZ/C1",3863,1,"","",null,null,{"$f":"IF(ISERROR(VLOOKUP(B368,'Zebrik W'!$B$7:$L$992,11,0)),\"\",IF(VLOOKUP(B368,'Zebrik W'!$B$7:$L$992,11,0)=0,\"--\",VLOOKUP(B368,'Zebrik W'!$B$7:$L$992,11,0)))","v":""}]
[363,"Frantisek Pycha",1972,"M","Chrudim","CZ/C2",3830,1,"","",null,null,{"$f":"IF(ISERROR(VLOOKUP(B369,'Zebrik W'!$B$7:$L$992,11,0)),\"\",IF(VLOOKUP(B369,'Zebrik W'!$B$7:$L$992,11,0)=0,\"--\",VLOOKUP(B369,'Zebrik W'!$B$7:$L$992,11,0)))","v":""}]
[364,"Petr Vlasak",1974,"M","Medlánky","CZ/M",3822,2,"","",null,null,{"$f":"IF(ISERROR(VLOOKUP(B370,'Zebrik W'!$B$7:$L$992,11,0)),\"\",IF(VLOOKUP(B370,'Zebrik W'!$B$7:$L$992,11,0)=0,\"--\",VLOOKUP(B370,'Zebrik W'!$B$7:$L$992,11,0)))","v":""}]
[365,"Premysl Chvoj",2003,"M","Zbraslavice","CZ/C1",3775,1,"Junior v roce 2024","Junior v roce 2025",null,null,{"$f":"IF(ISERROR(VLOOKUP(B371,'Zebrik W'!$B$7:$L$992,11,0)),\"\",IF(VLOOKUP(B371,'Zebrik W'!$B$7:$L$992,11,0)=0,\"--\",VLOOKUP(B371,'Zebrik W'!$B$7:$L$992,11,0)))","v":""}]
[366,"Milos Pajr",1966,"M","Jičín","CZ/C2",3769,1,"","",null,null,{"$f":"IF(ISERROR(VLOOKUP(B372,'Zebrik W'!$B$7:$L$992,11,0)),\"\",IF(VLOOKUP(B372,'Zebrik W'!$B$7:$L$992,11,0)=0,\"--\",VLOOKUP(B372,'Zebrik W'!$B$7:$L$992,11,0)))","v":""}]
[367,"Ludek Mikl",1963,"M","Šumperk","CZ/M",3740,3,"","",null,null,{"$f":"IF(ISERROR(VLOOKUP(B373,'Zebrik W'!$B$7:$L$992,11,0)),\"\",IF(VLOOKUP(B373,'Zebrik W'!$B$7:$L$992,11,0)=0,\"--\",VLOOKUP(B373,'Zebrik W'!$B$7:$L$992,11,0)))","v":""}]
[368,"Oldrich Kounovsky",1976,"M","Medlánky","CZ/M",3684,1,"","",null,null,{"$f":"IF(ISERROR(VLOOKUP(B374,'Zebrik W'!$B$7:$L$992,11,0)),\"\",IF(VLOOKUP(B374,'Zebrik W'!$B$7:$L$992,11,0)=0,\"--\",VLOOKUP(B374,'Zebrik W'!$B$7:$L$992,11,0)))","v":""}]
[369,"Milos Nyvlt",1963,"M","Hronov","CZ/C2",3635,1,"","",null,null,{"$f":"IF(ISERROR(VLOOKUP(B375,'Zebrik W'!$B$7:$L$992,11,0)),\"\",IF(VLOOKUP(B375,'Zebrik W'!$B$7:$L$992,11,0)=0,\"--\",VLOOKUP(B375,'Zebrik W'!$B$7:$L$992,11,0)))","v":""}]
[370,"Miloslav Cindr",1974,"M","Ústí nad Orlicí","CZ/C2",3464,1,"","",null,null,{"$f":"IF(ISERROR(VLOOKUP(B376,'Zebrik W'!$B$7:$L$992,11,0)),\"\",IF(VLOOKUP(B376,'Zebrik W'!$B$7:$L$992,11,0)=0,\"--\",VLOOKUP(B376,'Zebrik W'!$B$7:$L$992,11,0)))","v":""}]
[371,"Kamil Hejda",1973,"M","Jičín","CZ/C2",3326,1,"","",null,null,{"$f":"IF(ISERROR(VLOOKUP(B377,'Zebrik W'!$B$7:$L$992,11,0)),\"\",IF(VLOOKUP(B377,'Zebrik W'!$B$7:$L$992,11,0)=0,\"--\",VLOOKUP(B377,'Zebrik W'!$B$7:$L$992,11,0)))","v":""}]
[372,"Radim Zielinski",1969,"M","Frýdlant","CZ/M",3272,1,"","",null,null,{"$f":"IF(ISERROR(VLOOKUP(B378,'Zebrik W'!$B$7:$L$992,11,0)),\"\",IF(VLOOKUP(B378,'Zebrik W'!$B$7:$L$992,11,0)=0,\"--\",VLOOKUP(B378,'Zebrik W'!$B$7:$L$992,11,0)))","v":""}]
[373,"Vit Pavelka",2004,"M","Moravská Třebová","CZ/M",3160,1,"Junior v roce 2024","Junior v roce 2025",null,null,{"$f":"IF(ISERROR(VLOOKUP(B379,'Zebrik W'!$B$7:$L$992,11,0)),\"\",IF(VLOOKUP(B379,'Zebrik W'!$B$7:$L$992,11,0)=0,\"--\",VLOOKUP(B379,'Zebrik W'!$B$7:$L$992,11,0)))","v":""}]
[374,"Petr Sochor",1986,"M","Hosín","CZ/C1",3116,1,"","",null,null,{"$f":"IF(ISERROR(VLOOKUP(B380,'Zebrik W'!$B$7:$L$992,11,0)),\"\",IF(VLOOKUP(B380,'Zebrik W'!$B$7:$L$992,11,0)=0,\"--\",VLOOKUP(B380,'Zebrik W'!$B$7:$L$992,11,0)))","v":""}]
[375,"Juraj Dudas",1990,"M","Křižanov","CZ/M",3074,1,"","",null,null,{"$f":"IF(ISERROR(VLOOKUP(B381,'Zebrik W'!$B$7:$L$992,11,0)),\"\",IF(VLOOKUP(B381,'Zebrik W'!$B$7:$L$992,11,0)=0,\"--\",VLOOKUP(B381,'Zebrik W'!$B$7:$L$992,11,0)))","v":""}]
[376,"Petr Kubik 75",1975,"M","Moravská Třebová","CZ/M",3068,1,"","",null,null,{"$f":"IF(ISERROR(VLOOKUP(B382,'Zebrik W'!$B$7:$L$992,11,0)),\"\",IF(VLOOKUP(B382,'Zebrik W'!$B$7:$L$992,11,0)=0,\"--\",VLOOKUP(B382,'Zebrik W'!$B$7:$L$992,11,0)))","v":""}]
[377,"Jiri Suchomel",1950,"M","Broumov","CZ/C2",3038,1,"","",null,null,{"$f":"IF(ISERROR(VLOOKUP(B383,'Zebrik W'!$B$7:$L$992,11,0)),\"\",IF(VLOOKUP(B383,'Zebrik W'!$B$7:$L$992,11,0)=0,\"--\",VLOOKUP(B383,'Zebrik W'!$B$7:$L$992,11,0)))","v":""}]
[378,"Michal Ondracek",1966,"M","Medlánky","CZ/M",3019,1,"","",null,null,{"$f":"IF(ISERROR(VLOOKUP(B384,'Zebrik W'!$B$7:$L$992,11,0)),\"\",IF(VLOOKUP(B384,'Zebrik W'!$B$7:$L$992,11,0)=0,\"--\",VLOOKUP(B384,'Zebrik W'!$B$7:$L$992,11,0)))","v":""}]
[379,"Jakub Koudelka",2000,"M","Křižanov","CZ/M",3007,1,"Junior v roce 2024","Junior v roce 2025",null,null,{"$f":"IF(ISERROR(VLOOKUP(B385,'Zebrik W'!$B$7:$L$992,11,0)),\"\",IF(VLOOKUP(B385,'Zebrik W'!$B$7:$L$992,11,0)=0,\"--\",VLOOKUP(B385,'Zebrik W'!$B$7:$L$992,11,0)))","v":""}]
[380,"Ondrej Hart",1990,"M","Letňany","CZ/C1",2954,1,"","",null,null,{"$f":"IF(ISERROR(VLOOKUP(B386,'Zebrik W'!$B$7:$L$992,11,0)),\"\",IF(VLOOKUP(B386,'Zebrik W'!$B$7:$L$992,11,0)=0,\"--\",VLOOKUP(B386,'Zebrik W'!$B$7:$L$992,11,0)))","v":""}]
[381,"Radek Bartos",1971,"M","Kolín","CZ/C1",2905,2,"","",null,null,{"$f":"IF(ISERROR(VLOOKUP(B387,'Zebrik W'!$B$7:$L$992,11,0)),\"\",IF(VLOOKUP(B387,'Zebrik W'!$B$7:$L$992,11,0)=0,\"--\",VLOOKUP(B387,'Zebrik W'!$B$7:$L$992,11,0)))","v":""}]
[382,"Jan Platenik",1981,"M","Krnov","CZ/M",2849,2,"","",null,null,{"$f":"IF(ISERROR(VLOOKUP(B388,'Zebrik W'!$B$7:$L$992,11,0)),\"\",IF(VLOOKUP(B388,'Zebrik W'!$B$7:$L$992,11,0)=0,\"--\",VLOOKUP(B388,'Zebrik W'!$B$7:$L$992,11,0)))","v":""}]
[383,"Jaroslav Sefc",1971,"M","Broumov","CZ/C2",2847,1,"","",null,null,{"$f":"IF(ISERROR(VLOOKUP(B389,'Zebrik W'!$B$7:$L$992,11,0)),\"\",IF(VLOOKUP(B389,'Zebrik W'!$B$7:$L$992,11,0)=0,\"--\",VLOOKUP(B389,'Zebrik W'!$B$7:$L$992,11,0)))","v":""}]
[384,"Petr Cernicky",1974,"M","Toužim","CZ/C1",2842,2,"","",null,null,{"$f":"IF(ISERROR(VLOOKUP(B390,'Zebrik W'!$B$7:$L$992,11,0)),\"\",IF(VLOOKUP(B390,'Zebrik W'!$B$7:$L$992,11,0)=0,\"--\",VLOOKUP(B390,'Zebrik W'!$B$7:$L$992,11,0)))","v":""}]
[{"$f":"RANK(G391,G:G)","v":385},"Vladislav Cadsky",1975,"M","Kolín","CZ/C1",2809,2,"","",null,null,{"$f":"IF(ISERROR(VLOOKUP(B391,'Zebrik W'!$B$7:$L$992,11,0)),\"\",IF(VLOOKUP(B391,'Zebrik W'!$B$7:$L$992,11,0)=0,\"--\",VLOOKUP(B391,'Zebrik W'!$B$7:$L$992,11,0)))","v":""}]
[386,"Jan Blaha",1983,"M","Kyjov","CZ/M",2750,1,"","",null,null,{"$f":"IF(ISERROR(VLOOKUP(B392,'Zebrik W'!$B$7:$L$992,11,0)),\"\",IF(VLOOKUP(B392,'Zebrik W'!$B$7:$L$992,11,0)=0,\"--\",VLOOKUP(B392,'Zebrik W'!$B$7:$L$992,11,0)))","v":""}]
[387,"Jiri Vavrina",1958,"M","Kyjov","CZ/M",2577,1,"","",null,null,{"$f":"IF(ISERROR(VLOOKUP(B393,'Zebrik W'!$B$7:$L$992,11,0)),\"\",IF(VLOOKUP(B393,'Zebrik W'!$B$7:$L$992,11,0)=0,\"--\",VLOOKUP(B393,'Zebrik W'!$B$7:$L$992,11,0)))","v":""}]
[388,"Albert Schneider",1967,"M","Hranice","CZ/M",2569,2,"","",null,null,{"$f":"IF(ISERROR(VLOOKUP(B394,'Zebrik W'!$B$7:$L$992,11,0)),\"\",IF(VLOOKUP(B394,'Zebrik W'!$B$7:$L$992,11,0)=0,\"--\",VLOOKUP(B394,'Zebrik W'!$B$7:$L$992,11,0)))","v":""}]
[389,"Lukas Zach",1987,"M","Vyškov","CZ/M",2560,2,"","",null,null,{"$f":"IF(ISERROR(VLOOKUP(B395,'Zebrik W'!$B$7:$L$992,11,0)),\"\",IF(VLOOKUP(B395,'Zebrik W'!$B$7:$L$992,11,0)=0,\"--\",VLOOKUP(B395,'Zebrik W'!$B$7:$L$992,11,0)))","v":""}]
[390,"Kristina Santruckova",1996,"F","Podhořany","CZ/C2",2493,1,"","",null,null,{"$f":"IF(ISERROR(VLOOKUP(B396,'Zebrik W'!$B$7:$L$992,11,0)),\"\",IF(VLOOKUP(B396,'Zebrik W'!$B$7:$L$992,11,0)=0,\"--\",VLOOKUP(B396,'Zebrik W'!$B$7:$L$992,11,0)))","v":"--"}]
[391,"Daniel Devecka",1981,"M","Vlašim","CZ/C1",2468,1,"","",null,null,{"$f":"IF(ISERROR(VLOOKUP(B397,'Zebrik W'!$B$7:$L$992,11,0)),\"\",IF(VLOOKUP(B397,'Zebrik W'!$B$7:$L$992,11,0)=0,\"--\",VLOOKUP(B397,'Zebrik W'!$B$7:$L$992,11,0)))","v":""}]
[392,"Jan Matejovsky",1972,"M","Hranice","CZ/M",2454,1,"","",null,null,{"$f":"IF(ISERROR(VLOOKUP(B398,'Zebrik W'!$B$7:$L$992,11,0)),\"\",IF(VLOOKUP(B398,'Zebrik W'!$B$7:$L$992,11,0)=0,\"--\",VLOOKUP(B398,'Zebrik W'!$B$7:$L$992,11,0)))","v":""}]
[393,"Stepan Capek",1960,"M","Jičín","CZ/C2",2446,1,"","",null,null,{"$f":"IF(ISERROR(VLOOKUP(B399,'Zebrik W'!$B$7:$L$992,11,0)),\"\",IF(VLOOKUP(B399,'Zebrik W'!$B$7:$L$992,11,0)=0,\"--\",VLOOKUP(B399,'Zebrik W'!$B$7:$L$992,11,0)))","v":""}]
[394,"Frantisek Kriz",1961,"M","Toužim","CZ/C1",2398,2,"","",null,null,{"$f":"IF(ISERROR(VLOOKUP(B400,'Zebrik W'!$B$7:$L$992,11,0)),\"\",IF(VLOOKUP(B400,'Zebrik W'!$B$7:$L$992,11,0)=0,\"--\",VLOOKUP(B400,'Zebrik W'!$B$7:$L$992,11,0)))","v":""}]
[395,"Vojtech Flidr",2003,"M","Dvůr Králové","CZ/C2",2305,1,"Junior v roce 2024","Junior v roce 2025",null,null,{"$f":"IF(ISERROR(VLOOKUP(B401,'Zebrik W'!$B$7:$L$992,11,0)),\"\",IF(VLOOKUP(B401,'Zebrik W'!$B$7:$L$992,11,0)=0,\"--\",VLOOKUP(B401,'Zebrik W'!$B$7:$L$992,11,0)))","v":""}]
[396,"Milos Hrabe",1979,"M","Letňany","CZ/C1",2292,2,"","",null,null,{"$f":"IF(ISERROR(VLOOKUP(B402,'Zebrik W'!$B$7:$L$992,11,0)),\"\",IF(VLOOKUP(B402,'Zebrik W'!$B$7:$L$992,11,0)=0,\"--\",VLOOKUP(B402,'Zebrik W'!$B$7:$L$992,11,0)))","v":""}]
[397,"Martin Adamec",1971,"M","Medlánky","CZ/M",2227,1,"","",null,null,{"$f":"IF(ISERROR(VLOOKUP(B403,'Zebrik W'!$B$7:$L$992,11,0)),\"\",IF(VLOOKUP(B403,'Zebrik W'!$B$7:$L$992,11,0)=0,\"--\",VLOOKUP(B403,'Zebrik W'!$B$7:$L$992,11,0)))","v":""}]
[398,"Marek Pechar",1995,"M","Chrudim","CZ/C2",2223,1,"","",null,null,{"$f":"IF(ISERROR(VLOOKUP(B404,'Zebrik W'!$B$7:$L$992,11,0)),\"\",IF(VLOOKUP(B404,'Zebrik W'!$B$7:$L$992,11,0)=0,\"--\",VLOOKUP(B404,'Zebrik W'!$B$7:$L$992,11,0)))","v":""}]
[399,"Jiri Dockal",1982,"M","Letňany","CZ/C1",2200,1,"","",null,null,{"$f":"IF(ISERROR(VLOOKUP(B405,'Zebrik W'!$B$7:$L$992,11,0)),\"\",IF(VLOOKUP(B405,'Zebrik W'!$B$7:$L$992,11,0)=0,\"--\",VLOOKUP(B405,'Zebrik W'!$B$7:$L$992,11,0)))","v":""}]
[400,"Jiri Veprek",1959,"M","Dvůr Králové","CZ/C2",2149,2,"","",null,null,{"$f":"IF(ISERROR(VLOOKUP(B406,'Zebrik W'!$B$7:$L$992,11,0)),\"\",IF(VLOOKUP(B406,'Zebrik W'!$B$7:$L$992,11,0)=0,\"--\",VLOOKUP(B406,'Zebrik W'!$B$7:$L$992,11,0)))","v":""}]
[401,"Jan Pokluda",1973,"M","Šumperk","CZ/M",2147,1,"","",null,null,{"$f":"IF(ISERROR(VLOOKUP(B407,'Zebrik W'!$B$7:$L$992,11,0)),\"\",IF(VLOOKUP(B407,'Zebrik W'!$B$7:$L$992,11,0)=0,\"--\",VLOOKUP(B407,'Zebrik W'!$B$7:$L$992,11,0)))","v":""}]
[402,"Jiri Tomicek",1947,"M","Dvůr Králové","CZ/C2",2041,2,"","",null,null,{"$f":"IF(ISERROR(VLOOKUP(B408,'Zebrik W'!$B$7:$L$992,11,0)),\"\",IF(VLOOKUP(B408,'Zebrik W'!$B$7:$L$992,11,0)=0,\"--\",VLOOKUP(B408,'Zebrik W'!$B$7:$L$992,11,0)))","v":""}]
[403,"Pavel Handl",1971,"M","Kroměříž","CZ/M",2029,3,"","",null,null,{"$f":"IF(ISERROR(VLOOKUP(B409,'Zebrik W'!$B$7:$L$992,11,0)),\"\",IF(VLOOKUP(B409,'Zebrik W'!$B$7:$L$992,11,0)=0,\"--\",VLOOKUP(B409,'Zebrik W'!$B$7:$L$992,11,0)))","v":""}]
[404,"Miroslav Mancik",1976,"M","Kyjov","CZ/M",1862,1,"","",null,null,{"$f":"IF(ISERROR(VLOOKUP(B410,'Zebrik W'!$B$7:$L$992,11,0)),\"\",IF(VLOOKUP(B410,'Zebrik W'!$B$7:$L$992,11,0)=0,\"--\",VLOOKUP(B410,'Zebrik W'!$B$7:$L$992,11,0)))","v":""}]
[405,"Lubomir Papezik",1951,"M","Luhačovice","CZ/M",1838,1,"","",null,null,{"$f":"IF(ISERROR(VLOOKUP(B411,'Zebrik W'!$B$7:$L$992,11,0)),\"\",IF(VLOOKUP(B411,'Zebrik W'!$B$7:$L$992,11,0)=0,\"--\",VLOOKUP(B411,'Zebrik W'!$B$7:$L$992,11,0)))","v":""}]
[406,"Dusan Patocka",1972,"M","Vrchlabí","CZ/C2",1772,1,"","",null,null,{"$f":"IF(ISERROR(VLOOKUP(B412,'Zebrik W'!$B$7:$L$992,11,0)),\"\",IF(VLOOKUP(B412,'Zebrik W'!$B$7:$L$992,11,0)=0,\"--\",VLOOKUP(B412,'Zebrik W'!$B$7:$L$992,11,0)))","v":""}]
[407,"Michal Fortik",1976,"M","Točná","CZ/C1",1754,1,"","",null,null,{"$f":"IF(ISERROR(VLOOKUP(B413,'Zebrik W'!$B$7:$L$992,11,0)),\"\",IF(VLOOKUP(B413,'Zebrik W'!$B$7:$L$992,11,0)=0,\"--\",VLOOKUP(B413,'Zebrik W'!$B$7:$L$992,11,0)))","v":""}]
[408,"Pavel Svrcek",1972,"M","Frýdlant","CZ/M",1669,1,"","",null,null,{"$f":"IF(ISERROR(VLOOKUP(B414,'Zebrik W'!$B$7:$L$992,11,0)),\"\",IF(VLOOKUP(B414,'Zebrik W'!$B$7:$L$992,11,0)=0,\"--\",VLOOKUP(B414,'Zebrik W'!$B$7:$L$992,11,0)))","v":""}]
[409,"Martin Svacina",1965,"M","Frýdlant","CZ/M",1636,1,"","",null,null,{"$f":"IF(ISERROR(VLOOKUP(B415,'Zebrik W'!$B$7:$L$992,11,0)),\"\",IF(VLOOKUP(B415,'Zebrik W'!$B$7:$L$992,11,0)=0,\"--\",VLOOKUP(B415,'Zebrik W'!$B$7:$L$992,11,0)))","v":""}]
[410,"Milos Eichler",1964,"M","Dvůr Králové","CZ/C2",1629,1,"","",null,null,{"$f":"IF(ISERROR(VLOOKUP(B416,'Zebrik W'!$B$7:$L$992,11,0)),\"\",IF(VLOOKUP(B416,'Zebrik W'!$B$7:$L$992,11,0)=0,\"--\",VLOOKUP(B416,'Zebrik W'!$B$7:$L$992,11,0)))","v":""}]
[411,"Jan Sobotka",1973,"M","Vyškov","CZ/M",1533,1,"","",null,null,{"$f":"IF(ISERROR(VLOOKUP(B417,'Zebrik W'!$B$7:$L$992,11,0)),\"\",IF(VLOOKUP(B417,'Zebrik W'!$B$7:$L$992,11,0)=0,\"--\",VLOOKUP(B417,'Zebrik W'!$B$7:$L$992,11,0)))","v":""}]
[412,"Milan Bado",1975,"M","Kolín","CZ/C1",1517,2,"","",null,null,{"$f":"IF(ISERROR(VLOOKUP(B418,'Zebrik W'!$B$7:$L$992,11,0)),\"\",IF(VLOOKUP(B418,'Zebrik W'!$B$7:$L$992,11,0)=0,\"--\",VLOOKUP(B418,'Zebrik W'!$B$7:$L$992,11,0)))","v":""}]
[413,"Stanislav Vrabec",1975,"M","Česká Lípa","CZ/C2",1476,1,"","",null,null,{"$f":"IF(ISERROR(VLOOKUP(B419,'Zebrik W'!$B$7:$L$992,11,0)),\"\",IF(VLOOKUP(B419,'Zebrik W'!$B$7:$L$992,11,0)=0,\"--\",VLOOKUP(B419,'Zebrik W'!$B$7:$L$992,11,0)))","v":""}]
[414,"Frantisek Brozman",1960,"M","Tachov","CZ/C1",1421,2,"","",null,null,{"$f":"IF(ISERROR(VLOOKUP(B420,'Zebrik W'!$B$7:$L$992,11,0)),\"\",IF(VLOOKUP(B420,'Zebrik W'!$B$7:$L$992,11,0)=0,\"--\",VLOOKUP(B420,'Zebrik W'!$B$7:$L$992,11,0)))","v":""}]
[415,"Ludek Kluger",1963,"M","Tábor","CZ/C1",1366,1,"","",null,null,{"$f":"IF(ISERROR(VLOOKUP(B421,'Zebrik W'!$B$7:$L$992,11,0)),\"\",IF(VLOOKUP(B421,'Zebrik W'!$B$7:$L$992,11,0)=0,\"--\",VLOOKUP(B421,'Zebrik W'!$B$7:$L$992,11,0)))","v":""}]
[416,"David Nenicka",2005,"M","Hranice","CZ/M",1322,1,"Junior v roce 2024","Junior v roce 2025",null,null,{"$f":"IF(ISERROR(VLOOKUP(B422,'Zebrik W'!$B$7:$L$992,11,0)),\"\",IF(VLOOKUP(B422,'Zebrik W'!$B$7:$L$992,11,0)=0,\"--\",VLOOKUP(B422,'Zebrik W'!$B$7:$L$992,11,0)))","v":""}]
[417,"Radek Jaksa",1979,"M","Prostějov","CZ/M",1006,1,"","",null,null,{"$f":"IF(ISERROR(VLOOKUP(B423,'Zebrik W'!$B$7:$L$992,11,0)),\"\",IF(VLOOKUP(B423,'Zebrik W'!$B$7:$L$992,11,0)=0,\"--\",VLOOKUP(B423,'Zebrik W'!$B$7:$L$992,11,0)))","v":""}]
[418,"Zuzana Kutilkova",1993,"F","Křižanov","CZ/M",925,1,"","",null,null,{"$f":"IF(ISERROR(VLOOKUP(B424,'Zebrik W'!$B$7:$L$992,11,0)),\"\",IF(VLOOKUP(B424,'Zebrik W'!$B$7:$L$992,11,0)=0,\"--\",VLOOKUP(B424,'Zebrik W'!$B$7:$L$992,11,0)))","v":"--"}]
[419,"Tomas Vaclavik",1974,"M","Hosín","CZ/C1",874,1,"","",null,null,{"$f":"IF(ISERROR(VLOOKUP(B425,'Zebrik W'!$B$7:$L$992,11,0)),\"\",IF(VLOOKUP(B425,'Zebrik W'!$B$7:$L$992,11,0)=0,\"--\",VLOOKUP(B425,'Zebrik W'!$B$7:$L$992,11,0)))","v":""}]
[420,"Stanislav Doskocil",1978,"M","Medlánky","CZ/M",818,1,"","",null,null,{"$f":"IF(ISERROR(VLOOKUP(B426,'Zebrik W'!$B$7:$L$992,11,0)),\"\",IF(VLOOKUP(B426,'Zebrik W'!$B$7:$L$992,11,0)=0,\"--\",VLOOKUP(B426,'Zebrik W'!$B$7:$L$992,11,0)))","v":""}]
[421,"Lukas Jezek",1975,"M","Jičín","CZ/C2",751,1,"","",null,null,{"$f":"IF(ISERROR(VLOOKUP(B427,'Zebrik W'!$B$7:$L$992,11,0)),\"\",IF(VLOOKUP(B427,'Zebrik W'!$B$7:$L$992,11,0)=0,\"--\",VLOOKUP(B427,'Zebrik W'!$B$7:$L$992,11,0)))","v":""}]
[422,"Martin Marek",1967,"M","Roudnice","CZ/C2",696,1,{"$f":"IF(C428=\"(prázdné)\",\"\",IF(($I$4-C428)>25,\"\",\"Junior v roce \"&$I$4))","v":""},{"$f":"IF(C428=\"(prázdné)\",\"\",IF(($J$4-C428)>25,\"\",\"Junior v roce \"&$J$4))","v":""},null,null,{"$f":"IF(ISERROR(VLOOKUP(B428,'Zebrik W'!$B$7:$L$992,11,0)),\"\",IF(VLOOKUP(B428,'Zebrik W'!$B$7:$L$992,11,0)=0,\"--\",VLOOKUP(B428,'Zebrik W'!$B$7:$L$992,11,0)))","v":""}]
[423,"Gabriela Cervena",1966,"F","Jaroměř","CZ/C2",599,1,"","",null,null,{"$f":"IF(ISERROR(VLOOKUP(B429,'Zebrik W'!$B$7:$L$992,11,0)),\"\",IF(VLOOKUP(B429,'Zebrik W'!$B$7:$L$992,11,0)=0,\"--\",VLOOKUP(B429,'Zebrik W'!$B$7:$L$992,11,0)))","v":"--"}]
[424,"Marie Vesela",1999,"F","Staňkov","CZ/C1",480,1,{"$f":"IF(C430=\"(prázdné)\",\"\",IF(($I$4-C430)>25,\"\",\"Junior v roce \"&$I$4))","v":"Junior v roce 2024"},{"$f":"IF(C430=\"(prázdné)\",\"\",IF(($J$4-C430)>25,\"\",\"Junior v roce \"&$J$4))","v":""},null,null,{"$f":"IF(ISERROR(VLOOKUP(B430,'Zebrik W'!$B$7:$L$992,11,0)),\"\",IF(VLOOKUP(B430,'Zebrik W'!$B$7:$L$992,11,0)=0,\"--\",VLOOKUP(B430,'Zebrik W'!$B$7:$L$992,11,0)))","v":"--"}]
[425,"Jan Drbohlav",1999,"M","Hodkovice","CZ/C2",305,1,"Junior v roce 2024","",null,null,{"$f":"IF(ISERROR(VLOOKUP(B431,'Zebrik W'!$B$7:$L$992,11,0)),\"\",IF(VLOOKUP(B431,'Zebrik W'!$B$7:$L$992,11,0)=0,\"--\",VLOOKUP(B431,'Zebrik W'!$B$7:$L$992,11,0)))","v":""}]
[426,"Vaclav Halek",1966,"M","Toužim","CZ/C1",298,1,"","",null,null,{"$f":"IF(ISERROR(VLOOKUP(B432,'Zebrik W'!$B$7:$L$992,11,0)),\"\",IF(VLOOKUP(B432,'Zebrik W'!$B$7:$L$992,11,0)=0,\"--\",VLOOKUP(B432,'Zebrik W'!$B$7:$L$992,11,0)))","v":""}]
[427,"Jiri Pixa",1968,"M","Slaný","CZ/C1",205,1,"","",null,null,{"$f":"IF(ISERROR(VLOOKUP(B433,'Zebrik W'!$B$7:$L$992,11,0)),\"\",IF(VLOOKUP(B433,'Zebrik W'!$B$7:$L$992,11,0)=0,\"--\",VLOOKUP(B433,'Zebrik W'!$B$7:$L$992,11,0)))","v":""}]
[428,"Jan Hrbatsch",1989,"M","Hodkovice","CZ/C2",142,1,null,{"$f":"IF(C434=\"(prázdné)\",\"\",IF(($J$4-C434)>25,\"\",\"Junior v roce \"&$J$4))","v":""},null,null,{"$f":"IF(ISERROR(VLOOKUP(B434,'Zebrik W'!$B$7:$L$992,11,0)),\"\",IF(VLOOKUP(B434,'Zebrik W'!$B$7:$L$992,11,0)=0,\"--\",VLOOKUP(B434,'Zebrik W'!$B$7:$L$992,11,0)))","v":""}]
[429,"Josef Plechac",1942,"M","Hronov","CZ/C2",8,1,null,"",null,null,{"$f":"IF(ISERROR(VLOOKUP(B435,'Zebrik W'!$B$7:$L$992,11,0)),\"\",IF(VLOOKUP(B435,'Zebrik W'!$B$7:$L$992,11,0)=0,\"--\",VLOOKUP(B435,'Zebrik W'!$B$7:$L$992,11,0)))","v":""}]
[null,null,null,null,null,null,null,null,null,"",null,null,{"$f":"IF(ISERROR(VLOOKUP(B436,'Zebrik W'!$B$7:$L$992,11,0)),\"\",IF(VLOOKUP(B436,'Zebrik W'!$B$7:$L$992,11,0)=0,\"--\",VLOOKUP(B436,'Zebrik W'!$B$7:$L$992,11,0)))","v":""}]
[null,null,null,null,null,null,null,null,null,"",null,null,{"$f":"IF(ISERROR(VLOOKUP(B437,'Zebrik W'!$B$7:$L$992,11,0)),\"\",IF(VLOOKUP(B437,'Zebrik W'!$B$7:$L$992,11,0)=0,\"--\",VLOOKUP(B437,'Zebrik W'!$B$7:$L$992,11,0)))","v":""}]
[null,null,null,null,null,null,null,null,null,"",null,null,{"$f":"IF(ISERROR(VLOOKUP(B438,'Zebrik W'!$B$7:$L$992,11,0)),\"\",IF(VLOOKUP(B438,'Zebrik W'!$B$7:$L$992,11,0)=0,\"--\",VLOOKUP(B438,'Zebrik W'!$B$7:$L$992,11,0)))","v":""}]
[null,null,null,null,null,null,null,null,null,"",null,null,{"$f":"IF(ISERROR(VLOOKUP(B439,'Zebrik W'!$B$7:$L$992,11,0)),\"\",IF(VLOOKUP(B439,'Zebrik W'!$B$7:$L$992,11,0)=0,\"--\",VLOOKUP(B439,'Zebrik W'!$B$7:$L$992,11,0)))","v":""}]
[null,null,null,null,null,null,null,null,null,"",null,null,{"$f":"IF(ISERROR(VLOOKUP(B440,'Zebrik W'!$B$7:$L$992,11,0)),\"\",IF(VLOOKUP(B440,'Zebrik W'!$B$7:$L$992,11,0)=0,\"--\",VLOOKUP(B440,'Zebrik W'!$B$7:$L$992,11,0)))","v":""}]
[null,null,null,null,null,null,null,null,null,"",null,null,{"$f":"IF(ISERROR(VLOOKUP(B441,'Zebrik W'!$B$7:$L$992,11,0)),\"\",IF(VLOOKUP(B441,'Zebrik W'!$B$7:$L$992,11,0)=0,\"--\",VLOOKUP(B441,'Zebrik W'!$B$7:$L$992,11,0)))","v":""}]
[null,null,null,null,null,null,null,null,null,"",null,null,{"$f":"IF(ISERROR(VLOOKUP(B442,'Zebrik W'!$B$7:$L$992,11,0)),\"\",IF(VLOOKUP(B442,'Zebrik W'!$B$7:$L$992,11,0)=0,\"--\",VLOOKUP(B442,'Zebrik W'!$B$7:$L$992,11,0)))","v":""}]
[null,null,null,null,null,null,null,null,null,"",null,null,{"$f":"IF(ISERROR(VLOOKUP(B443,'Zebrik W'!$B$7:$L$992,11,0)),\"\",IF(VLOOKUP(B443,'Zebrik W'!$B$7:$L$992,11,0)=0,\"--\",VLOOKUP(B443,'Zebrik W'!$B$7:$L$992,11,0)))","v":""}]
[null,null,null,null,null,null,null,null,null,"",null,null,{"$f":"IF(ISERROR(VLOOKUP(B444,'Zebrik W'!$B$7:$L$992,11,0)),\"\",IF(VLOOKUP(B444,'Zebrik W'!$B$7:$L$992,11,0)=0,\"--\",VLOOKUP(B444,'Zebrik W'!$B$7:$L$992,11,0)))","v":""}]
[null,null,null,null,null,null,null,null,null,"",null,null,{"$f":"IF(ISERROR(VLOOKUP(B445,'Zebrik W'!$B$7:$L$992,11,0)),\"\",IF(VLOOKUP(B445,'Zebrik W'!$B$7:$L$992,11,0)=0,\"--\",VLOOKUP(B445,'Zebrik W'!$B$7:$L$992,11,0)))","v":""}]
[null,null,null,null,null,null,null,null,null,"",null,null,{"$f":"IF(ISERROR(VLOOKUP(B446,'Zebrik W'!$B$7:$L$992,11,0)),\"\",IF(VLOOKUP(B446,'Zebrik W'!$B$7:$L$992,11,0)=0,\"--\",VLOOKUP(B446,'Zebrik W'!$B$7:$L$992,11,0)))","v":""}]
[null,null,null,null,null,null,null,null,null,"",null,null,{"$f":"IF(ISERROR(VLOOKUP(B447,'Zebrik W'!$B$7:$L$992,11,0)),\"\",IF(VLOOKUP(B447,'Zebrik W'!$B$7:$L$992,11,0)=0,\"--\",VLOOKUP(B447,'Zebrik W'!$B$7:$L$992,11,0)))","v":""}]

{"sheet":"Zebrik W","index":8,"n_rows":36,"n_cols":13,"rows_kept":36,"cut":false,"hidden":false,"merged":[]}
[null,{"$f":"\"Ženský Žebřík pilotek plachtařek PK AeČR \"&A6","v":"Ženský Žebřík pilotek plachtařek PK AeČR 2023"},null,null,null,null,null,null,{"$f":"'Zebrik G'!I1","v":"2024-02-08"},"Rev.",{"$f":"'Zebrik G'!K1","v":"03"},{"$f":"'Zebrik G'!L1","v":"Oprava chyby s velkými písmeny v názvu pilota"}]
[]
[null,"W","x",null,null,null,null,null,"Juniorka v roce:","Juniorka v roce:",{"$f":"\"W Repre družstvo \"&I4","v":"W Repre družstvo 2024"},{"$f":"\"W Repre výběr \"&I4","v":"W Repre výběr 2024"},"Poznámka"]
[null,null,null,null,null,null,null,null,{"$f":"A6+1","v":2024},{"$f":"A6+2","v":2025},"(WRD)","(WRV)"]
["Pořadí",null,null,null,null,null,"Data",null,{"$f":"COUNTIF(I7:I489,\"Juniorka v roce \"&$I$4)","v":6},{"$f":"COUNTIF(J7:J489,\"Juniorka v roce \"&$J$4)","v":4},{"$f":"COUNTIF(K7:K489,\"WRD \"&$I$4)","v":0},{"$f":"COUNTIF(L7:L489,\"WRV \"&$I$4)","v":9},{"$f":"COUNTIF(M7:M489,\"<>\")","v":0}]
[{"$f":"'Zebrik G'!A6","v":2023},"Jméno","Rok narození","M/F","Aeroklub","Region","Součet z Bi×Kinp","Počet W"]
[{"$f":"RANK(G7,G:G)","v":1},"Alena Netusilova",1970,"F","Zbraslavice","CZ/C1",30183,3,{"$f":"IF(C7=\"(prázdné)\",\"\",IF(($I$4-C7)>25,\"\",\"Juniorka v roce \"&$I$4))","v":""},{"$f":"IF(C7=\"(prázdné)\",\"\",IF(($J$4-C7)>25,\"\",\"Juniorka v roce \"&$J$4))","v":""},null,"WRV 2024"]
[2,"Barbora Moravcova",1994,"F","Zbraslavice","CZ/C1",29377,3,{"$f":"IF(C8=\"(prázdné)\",\"\",IF(($I$4-C8)>25,\"\",\"Juniorka v roce \"&$I$4))","v":""},{"$f":"IF(C8=\"(prázdné)\",\"\",IF(($J$4-C8)>25,\"\",\"Juniorka v roce \"&$J$4))","v":""},null,"WRV 2024"]
[3,"Michaela Rendlova",2004,"F","Toužim","CZ/C1",27805,3,"Juniorka v roce 2024","Juniorka v roce 2025",null,"WRV 2024"]
[4,"Tereza Koubkova",1999,"F","Vysoké Mýto","CZ/C2",27320,3,"Juniorka v roce 2024","",null,"WRV 2024"]
[5,"Hana Treslova",1991,"F","Raná","CZ/C2",27283,3,"","",null,"WRV 2024"]
[6,"Dana Novakova",1965,"F","Mladá Boleslav","CZ/C1",26952,3,"","",null,"WRV 2024"]
[7,"Petra Piskata",1989,"F","Luhačovice","CZ/M",26436,3,"","",null,"WRV 2024"]
[8,"Michaela Krizova",2001,"F","Přibyslav","CZ/C2",26139,3,"Juniorka v roce 2024","Juniorka v roce 2025",null,"WRV 2024"]
[9,"Jana Treslova",1963,"F","Raná","CZ/C2",25204,3,"","",null,"WRV 2024"]
[10,"Jana Veprekova",1961,"F","Dvůr Králové","CZ/C2",24900,3,"",""]
[11,"Pavlina Horackova",1965,"F","Šumperk","CZ/M",16535,3,"",""]
[12,"Klara Teichmannova",1993,"F","Hronov","CZ/C2",13976,2,"",""]
[13,"Katerina Vancurova",2002,"F","Hranice","CZ/M",13207,3,"Juniorka v roce 2024","Juniorka v roce 2025"]
[14,"Olga Mokosova",1970,"F","Jihlava","CZ/M",13121,3,"",""]
[15,"Linda Vasatova",1990,"F","Mladá Boleslav","CZ/C1",12832,3,"",""]
[16,"Katerina Vojtova",1983,"F","Slaný","CZ/C1",11699,3,"",""]
[17,"Yvona Vyhnankova",1963,"F","Olomouc","CZ/M",8773,3,"",""]
[18,"Sarka Lochova",1966,"F","Šumperk","CZ/M",7506,2,"",""]
[19,"Anna Bordovska",1989,"F","Mladá Boleslav","CZ/C1",7324,1,"",""]
[20,"Jana Mezerova",1975,"F","Raná","CZ/C2",7005,2,"",""]
[21,"Lenka Kuthanova",1960,"F","Tábor","CZ/C1",6488,1,"",""]
[22,"Tereza Ludvikova",1997,"F","Jaroměř","CZ/C2",5772,1,"",""]
[23,"Tereza Novakova",1993,"F","Chrudim","CZ/C2",5377,2,"",""]
[24,"Eliska Kudejova",2006,"F","Strakonice","CZ/C1",4269,1,"Juniorka v roce 2024","Juniorka v roce 2025"]
[25,"Kristina Santruckova",1996,"F","Podhořany","CZ/C2",2493,1,"",""]
[26,"Zuzana Kutilkova",1993,"F","Křižanov","CZ/M",925,1,"",""]
[27,"Gabriela Cervena",1966,"F","Jaroměř","CZ/C2",599,1,"",""]
[28,"Marie Vesela",1999,"F","Staňkov","CZ/C1",480,1,"Juniorka v roce 2024",""]
[null,null,null,null,null,null,null,null,"",""]
[null,null,null,null,null,null,null,null,"",""]

{"sheet":"KB PMRg 2021","index":9,"n_rows":41,"n_cols":13,"rows_kept":41,"cut":false,"hidden":false,"merged":[[0,0,0,12]]}
["PMRg 2021 - Moravská Třebová - Korigované body"]
["Pořadí v KB","Jméno","Rok narození","M/F","Aeroklub","Region","Soutěž","Pořadí ve třídě","Body ve třídě","Bi","Typ","CN","Junior"]
[{"$f":"RANK(J3,J:J)","v":1},"Jan Louda",{"$f":"VLOOKUP(B3,Pilot,2,0)","v":1986},{"$f":"VLOOKUP(B3,Pilot,5,0)","v":"M"},{"$f":"VLOOKUP(B3,Pilot,3,0)","v":"Mladá Boleslav"},{"$f":"VLOOKUP(B3,Pilot,4,0)","v":"CZ/C1"},"PMRg 2021 - Klub",1,5782,10000,"ASW-19B","XS",{"$f":"IF(ISERROR(VLOOKUP(B3,Pilot,6,0)),\"Není v databázi\",VLOOKUP(B3,Pilot,6,0))","v":""}]
[1,"Tomas Rendla",{"$f":"VLOOKUP(B4,Pilot,2,0)","v":1973},{"$f":"VLOOKUP(B4,Pilot,5,0)","v":"M"},{"$f":"VLOOKUP(B4,Pilot,3,0)","v":"Zbraslavice"},{"$f":"VLOOKUP(B4,Pilot,4,0)","v":"CZ/C1"},"PMRg 2021 - Kombi",1,5477,10000,"EB-29R","EX",""]
[3,"Pavel Jiranek",1993,"M","Toužim","CZ/C1","PMRg 2021 - Klub",2,5754,9846,"Std. Cirrus","IYD",""]
[4,"Radek Kucirek",1973,"M","Havlíčkův Brod","CZ/C2","PMRg 2021 - Kombi",2,5461,9730,"EB-28 edition","NA",""]
[5,"Pavel Trybenekr",1990,"M","Hořice","CZ/C2","PMRg 2021 - Klub",3,5741,9710,"LS-4","PF",""]
[6,"Hana Treslova",1991,"F","Raná","CZ/C2","PMRg 2021 - Klub",4,5404,9182,"Std. Cirrus","CI",""]
[7,"Jan Boruvka",1984,"M","Jičín","CZ/C2","PMRg 2021 - Kombi",3,5225,9178,"Ventus C 17.6m","EG",""]
[8,"Jiri Stepanek",1956,"M","Moravská Třebová","CZ/M","PMRg 2021 - Klub",5,5331,8974,"VSO-10","H9",""]
[9,"Martin Stepanek",1987,"M","Moravská Třebová","CZ/M","PMRg 2021 - Klub",6,5267,8777,"ASW-15B","LE",""]
[10,"Petr Stepanek",1989,"M","Moravská Třebová","CZ/M","PMRg 2021 - Klub",7,5104,8459,"ASW-15B","ZP",""]
[11,"Michaela Rendlova",2004,"F","Toužim","CZ/C1","PMRg 2021 - Kombi",4,4833,8427,"ASG 29/18m","NX","Junior v roce 2024"]
[12,"Radek Zima 78",1978,"M","Hodkovice","CZ/C2","PMRg 2021 - Kombi",5,4825,8167,"ASG 29/18m","XZ",""]
[13,"Zdenek Balcarek",1967,"M","Kroměříž","CZ/M","PMRg 2021 - Klub",8,4662,7804,"Discus b","OS",""]
[14,"Zdenek Boruvka 86",1986,"M","Jičín","CZ/C2","PMRg 2021 - Klub",9,4641,7659,"Std. Cirrus","BJ",""]
[15,"Jiri Steiger",1969,"M","Olomouc","CZ/M","PMRg 2021 - Kombi",6,4284,7225,"Ventus 3M 18m","JSI",""]
[16,"Petr Valenta 94",1994,"M","Kunovice","CZ/M","PMRg 2021 - Klub",10,4371,7212,"Std. Cirrus","OK",""]
[17,"Pavlina Horackova",1965,"F","Šumperk","CZ/M","PMRg 2021 - Klub",11,4345,7060,"SZD-48 Jantar std. 2 (3)","SU",""]
[18,"Jiri Vondracek",1989,"M","Kladno","CZ/C1","PMRg 2021 - Klub",12,4337,6931,"ASW-15B","2P",""]
[19,"Jiri Maier 66",1966,"M","Raná","CZ/C2","PMRg 2021 - Klub",13,4311,6779,"ASW-24E","JM",""]
[20,"Jaromir Macoun",1999,"M","Jičín","CZ/C2","PMRg 2021 - Kombi",7,4128,6776,"LS-8 15m","AU","Junior v roce 2024"]
[21,"Martin Kriz",1968,"M","Přibyslav","CZ/C2","PMRg 2021 - Klub",14,4245,6579,"ASW-20 (A)+F /15m WL",67,""]
[22,"Miroslav Koci",1961,"M","Žamberk","CZ/C2","PMRg 2021 - Kombi",8,3695,5972,"Ventus 2cxm","E8",""]
[23,"Jan Florian",1992,"M","Zbraslavice","CZ/C1","PMRg 2021 - Klub",15,3748,5858,"Std. Cirrus","C1",""]
[23,"Pavel Liska",1965,"M","Roudnice","CZ/C2","PMRg 2021 - Klub",15,3748,5858,"ASW-19B","RCE",""]
[25,"Vit Morkovsky",2000,"M","Polička","CZ/C2","PMRg 2021 - Kombi",9,3438,5394,"Discus 2a","GX","Junior v roce 2024"]
[26,"Michal Lesinger",1966,"M","Moravská Třebová","CZ/M","PMRg 2021 - Klub",17,3527,5350,"ASW-19B","LL",""]
[27,"Pavel Koudelka",1973,"M","Křižanov","CZ/M","PMRg 2021 - Klub",18,3320,4979,"Std. Cirrus","ZL",""]
[28,"Petr Prichystal",1973,"M","Moravská Třebová","CZ/M","PMRg 2021 - Klub",19,3256,4782,"ASW-19B","AE",""]
[29,"Ivan Tvrdik",1997,"M","Letňany","CZ/C1","PMRg 2021 - Kombi",10,2951,4522,"LS-8 15m","EU",""]
[30,"Jan Vozeh",1995,"M","Rakovník","CZ/C1","PMRg 2021 - Klub",20,3074,4442,"Std. Cirrus","OG",""]
[31,"Jakub Kohn",1992,"M","Prostějov","CZ/M","PMRg 2021 - Klub",21,2944,4164,"ASW-15B","FK",""]
[32,"Jan Zapletal",1997,"M","Břeclav","CZ/M","PMRg 2021 - Kombi",11,2697,3947,"LS-8 15m","JS",""]
[33,"Josef Hlusek",1993,"M","Kunovice","CZ/M","PMRg 2021 - Klub",22,2433,3426,"Std. Cirrus","WO",""]
[34,"Petr Kubik 75",1975,"M","Moravská Třebová","CZ/M","PMRg 2021 - Klub",23,2399,3264,"ASW-19B","NO",""]
[35,"Antonin Kutalek",1943,"M","Zábřeh","CZ/M","PMRg 2021 - Kombi",12,1816,2571,"LAK-17AT 18m","GL",""]
[36,"Marek Pechar",1995,"M","Chrudim","CZ/C2","PMRg 2021 - Klub",24,1755,2365,"Std. Cirrus","JE",""]
[37,"Jiri Krofta",1988,"M","Hosín","CZ/C1","PMRg 2021 - Klub",25,1748,2236,"Std. Cirrus","YU",""]
[38,"Zuzana Kutilkova",1993,"F","Křižanov","CZ/M","PMRg 2021 - Klub",26,813,984,"LS-1f","DP",""]
[39,"Petr Panek",1975,"M","Dvůr Králové","CZ/C2","PMRg 2021 - Kombi",13,495,633,"JS1B EVO 18m","IGC",""]

{"sheet":"KB PMRg 2022","index":10,"n_rows":26,"n_cols":13,"rows_kept":26,"cut":false,"hidden":false,"merged":[[0,0,0,12]]}
["PMRg 2022 - Hodkovice - Korigované body"]
["Pořadí v KB","Jméno","Rok narození","M/F","Aeroklub","Region","Soutěž","Pořadí ve třídě","Body ve třídě","Bi","Typ","CN","Junior"]
[{"$f":"RANK(J3,J:J)","v":1},"Michal Lesinger",{"$f":"VLOOKUP(B3,Pilot,2,0)","v":1966},{"$f":"VLOOKUP(B3,Pilot,5,0)","v":"M"},{"$f":"VLOOKUP(B3,Pilot,3,0)","v":"Moravská Třebová"},{"$f":"VLOOKUP(B3,Pilot,4,0)","v":"CZ/M"},"PMRg 2022 - Klub",1,3948,10000,"ASW 20","LL",{"$f":"IF(ISERROR(VLOOKUP(B3,Pilot,6,0)),\"Není v databázi\",VLOOKUP(B3,Pilot,6,0))","v":""}]
[1,"Lukas Capek",1992,"M","Letňany","CZ/C1","PMRg 2022 - Kombi",1,3354,10000,"Mosquito","LC",""]
[3,"Jiri Kusbach",1959,"M","Luhačovice","CZ/M","PMRg 2022 - Klub",2,3831,9543,"KKB-15E FES","B",""]
[4,"Jaroslav Potmesil",1964,"M","Zbraslavice","CZ/C1","PMRg 2022 - Kombi",2,2942,8807,"HpH 304 TS Twin Shark","TS",""]
[5,"Jan Smaha",1958,"M","Česká Lípa","CZ/C2","PMRg 2022 - Klub",3,3458,8631,"ASW 15 B","CW",""]
[6,"Lukas Maly",1998,"M","Vysoké Mýto","CZ/C2","PMRg 2022 - Klub",4,3447,8362,"Discus b",65,""]
[7,"Jiri Stepanek",1956,"M","Moravská Třebová","CZ/M","PMRg 2022 - Klub",5,3387,8005,"ASW 15 B","LE",""]
[8,"Martin Stepanek",1987,"M","Moravská Třebová","CZ/M","PMRg 2022 - Klub",6,3361,7709,"ASW 19 B","AE",""]
[9,"Petr Hora",1948,"M","Hodkovice","CZ/C2","PMRg 2022 - Kombi",3,2515,7582,"HpH 304 MS Shark","B1",""]
[10,"Tomas Kulhavy",2001,"M","Liberec","CZ/C2","PMRg 2022 - Kombi",4,2500,7218,"HpH 304 CZ 17.4m","IH","Junior v roce 2024"]
[11,"Tomas Hynek",2002,"M","Dvůr Králové","CZ/C2","PMRg 2022 - Klub",7,3190,7156,"DG 200","HL","Junior v roce 2024"]
[12,"Pavel Koudelka",1973,"M","Křižanov","CZ/M","PMRg 2022 - Klub",8,3156,6846,"Std. Cirrus","ZL",""]
[13,"Antonin Kutalek",1943,"M","Zábřeh","CZ/M","PMRg 2022 - Kombi",5,2340,6550,"LAK-17A T 18m","GL",""]
[14,"Michaela Krizova",2001,"F","Přibyslav","CZ/C2","PMRg 2022 - Klub",9,2951,6232,"ASW 15 B","BE","Junior v roce 2024"]
[15,"Pavlina Horackova",1965,"F","Šumperk","CZ/M","PMRg 2022 - Klub",10,2618,5392,"SZD-48 Jantar Std. 2","SU",""]
[16,"Katerina Vancurova",2002,"F","Hranice","CZ/M","PMRg 2022 - Klub",11,2331,4633,"Discus b","HD","Junior v roce 2024"]
[17,"Radek Zima 78",1978,"M","Hodkovice","CZ/C2","PMRg 2022 - Kombi",6,1372,4197,"ASG 29 E 18m","XZ",""]
[18,"Jan Florian",1992,"M","Zbraslavice","CZ/C1","PMRg 2022 - Klub",12,2188,4129,"Std. Cirrus","C1",""]
[19,"Jiri Krofta",1988,"M","Hosín","CZ/C1","PMRg 2022 - Klub",13,1904,3376,"Std. Cirrus","YU",""]
[20,"Jaromir Macoun",1999,"M","Jičín","CZ/C2","PMRg 2022 - Kombi",7,225,1470,"LS 8","EU","Junior v roce 2024"]
[21,"Ivan Tvrdik",1997,"M","Letňany","CZ/C1","PMRg 2022 - Kombi",8,221,1128,"ASW 20 16.6m","NW",""]
[22,"Jan Drbohlav",1999,"M","Hodkovice","CZ/C2","PMRg 2022 - Kombi",9,1,335,"G 103 Twin Astir","BL","Junior v roce 2024"]
[23,"Vojtech Hajek",1987,"M","Mladá Boleslav","CZ/C1","PMRg 2022 - Kombi",10,0,0,"Duo Discus",777,""]
[23,"Karel Novak",1993,"M","Mladá Boleslav","CZ/C1","PMRg 2022 - Kombi",10,0,0,"LS 8","ID",""]

{"sheet":"KB PMRg 2023","index":11,"n_rows":27,"n_cols":13,"rows_kept":27,"cut":false,"hidden":false,"merged":[[0,0,0,12]]}
["PMRg 2023 - Hosín - Korigované body"]
["Pořadí v KB","Jméno","Rok narození","M/F","Aeroklub","Region","Soutěž","Pořadí ve třídě","Body ve třídě","Bi","Typ","CN","Junior"]
[{"$f":"RANK(J3,J:J)","v":1},"Pavel Rericha",1967,"M","Moravská Třebová","CZ/M","PMRg 2023 - Klub",1,8730,10000,"ASW-19B","NO",{"$f":"IF(ISERROR(VLOOKUP(B3,Pilot,6,0)),\"Není v databázi\",VLOOKUP(B3,Pilot,6,0))","v":""}]
[1,"Lukas Kriz",2003,"M","Křižanov","CZ/M","PMRg, PMČRj 2023 - Kombi",1,9417,10000,"LS 8 15m","AU","Junior v roce 2024"]
[3,"Jaromir Macoun",1999,"M","Jičín","CZ/C2","PMRg, PMČRj 2023 - Kombi",2,9221,9554,"LS 8A","EU","Junior v roce 2024"]
[4,"Jan Louda",1986,"M","Mladá Boleslav","CZ/C1","PMRg 2023 - Klub",2,8448,9543,"ASW-19","XS",""]
[5,"Josef Busek",1967,"M","Hosín","CZ/C1","PMRg, PMČRj 2023 - Kombi",3,8601,8793,"Duo Discus","BB",""]
[6,"Marek Svancara",1976,"M","GAC Benešov","CZ/C1","PMRg 2023 - Klub",3,7660,8681,"Std. Cirrus","GT",""]
[7,"Jan Smaha",1958,"M","Česká Lípa","CZ/C2","PMRg 2023 - Klub",4,7225,8101,"ASW-15B","CW",""]
[8,"Théo Manfredi",null,null,"Association Aéronautique du Val d\\'Oise","FR","PMRg, PMČRj 2023 - Kombi",4,7258,7495,"LAK-17A WL 15m","LE","Není v databázi"]
[9,"Jaromir Pauer",1974,"M","Hosín","CZ/C1","PMRg, PMČRj 2023 - Kombi",5,6880,6914,"Ventus B 16.6m WL","7F",""]
[10,"Petr Rozhon",1972,"M","Hosín","CZ/C1","PMRg 2023 - Klub",5,5980,6872,"VSO-10",9,""]
[11,"Pavel Koudelka",1973,"M","Křižanov","CZ/M","PMRg 2023 - Klub",6,5915,6589,"STD. Cirrus","ZL",""]
[12,"Michael Fik",1972,"M","Strakonice","CZ/C1","PMRg, PMČRj 2023 - Kombi",6,6702,6482,"Ventus 2c","ZR",""]
[13,"Jiri Krofta",1988,"M","Hosín","CZ/C1","PMRg 2023 - Klub",7,5909,6353,"Std. Cirrus","UY",""]
[14,"Michal Vranek",1993,"M","Hosín","CZ/C1","PMRg 2023 - Klub",8,5599,5874,"DG-100","8W",""]
[15,"Karel Mares",1974,"M","Slaný","CZ/C1","PMRg, PMČRj 2023 - Kombi",7,5894,5581,"Duo Discus XT","DD",""]
[16,"Miloslav Hulmak",1963,"M","Hosín","CZ/C1","PMRg 2023 - Klub",9,4969,5138,"ASW-15B","HH",""]
[17,"Radek Zima 78",1978,"M","Hodkovice","CZ/C2","PMRg, PMČRj 2023 - Kombi",8,5577,5046,"DG 500 22m","YA",""]
[18,"Daniel Marek",1983,"M","Hosín","CZ/C1","PMRg 2023 - Klub",10,4846,4809,"Std. Cirrus","XII",""]
[19,"Frantisek Suna",1983,"M","Hosín","CZ/C1","PMRg 2023 - Klub",11,4331,4165,"DG-100",78,""]
[20,"Peter Janoska",null,null,"Nitra","SK","PMRg, PMČRj 2023 - Kombi",9,4662,4065,"LS 6C /17,5m","N6","Není v databázi"]
[21,"Michal Hemrle",1974,"M","Česká Lípa","CZ/C2","PMRg, PMČRj 2023 - Kombi",10,4036,3300,"ASG 29 Es 18m","ET",""]
[22,"Radoslav Pur",1973,"M","Hosín","CZ/C1","PMRg 2023 - Klub",12,3358,3154,"DG-200","EK",""]
[23,"Jiri Holcman",1976,"M","Hosín","CZ/C1","PMRg 2023 - Klub",13,2234,2022,"ASW-19","BO",""]
[24,"Tomas Vaclavik",1974,"M","Hosín","CZ/C1","PMRg, PMČRj 2023 - Kombi",11,1238,920,"LAK-12",12,""]
[25,"Petr Sochor",1986,"M","Hosín","CZ/C1","PMRg 2023 - Klub",14,0,0,"ASW-15B","6Y",""]

{"sheet":"N PMČR 2024","index":12,"n_rows":128,"n_cols":18,"rows_kept":128,"cut":false,"hidden":false,"merged":[[38,1,38,7],[7,1,7,7],[59,1,59,7],[125,1,125,7],[82,1,82,7],[127,1,127,7],[120,1,120,7],[123,1,123,7],[124,1,124,7],[121,1,121,7]]}
[null,"Nominace na PMČR 2024",null,null,null,null,null,"Kontrola:","Počet","Nominace","Počet","Nominace","Počet","Nominace","M:","F:","M+F:"]
["No","Jméno","Aeroklub","Rok narození","M/F","Junior","No",null,"PMČR","PMČR","PMRg","PMRg","PMČRj","PMČRj",{"$f":"COUNTIF(E:E,\"M\")","v":85},{"$f":"COUNTIF(E:E,\"F\")","v":10},{"$f":"O2+P2","v":95},"S náhradníky"]
["6.6.5.","Nominace na PMČR - všeobecně (dle SŘ ZM11)",null,null,null,null,null,null,null,null,null,null,null,"Celkem řádně nominováno:",{"$f":"O2-COUNTIF(E55:E59,\"M\")-COUNTIF(E105:E113,\"M\")","v":72},{"$f":"P2-COUNTIF(E55:E59,\"F\")-COUNTIF(E105:E113,\"F\")","v":9},{"$f":"O3+P3","v":81},"Bez náhradníků"]
[null,"Na PMČR nominuje PK minimálně 80 pilotů/pilotek a příslušný počet náhradníků pro stanovená nominační kritéria."]
[null,"PMČR se mohou zúčastnit pouze soutěžící nominovaní dle jednotlivých bodů odstavců 6.6.6., 6.6.7. a 6.6.8."]
[null,"Pořadatel soutěže nemůže doplnit soutěžící na základě jiných kritérií."]
["6.6.6.","Řádná nominace - Na PMČR jsou nominováni:"]
[null,"Všichni členové reprezentačního výběru (RV) ČR stanoveného pro daný soutěžní ročník (bez náhradníků):"]
[1,"Tomas Suchanek",{"$f":"VLOOKUP(B9,Pilot!A:C,3,0)","v":"GAC Benešov"},{"$f":"VLOOKUP(B9,Pilot!A:B,2,0)","v":1964},{"$f":"VLOOKUP(B9,Pilot!A:E,5,0)","v":"M"},{"$f":"VLOOKUP(B9,Pilot!A:F,6,0)","v":""},{"$f":"A9","v":1},null,{"$f":"COUNTIF(B:B,B9)","v":1},{"$f":"IF(ISERROR(VLOOKUP(B9,B:G,6,0)),\"-\",VLOOKUP(B9,B:G,6,0))","v":1},{"$f":"IF(COUNTIF('N PMRg 2024'!B:B,B9)=0,\"-\",COUNTIF('N PMRg 2024'!B:B,B9))","v":"-"},{"$f":"IF(ISERROR(VLOOKUP(B9,'N PMRg 2024'!B:G,6,0)),\"-\",VLOOKUP(B9,'N PMRg 2024'!B:G,6,0))","v":"-"},{"$f":"IF(COUNTIF('N PMČRj 2024'!B:B,B9)=0,\"-\",COUNTIF('N PMČRj 2024'!B:B,B9))","v":"-"},{"$f":"IF(ISERROR(VLOOKUP(B9,'N PMČRj 2024'!B:G,6,0)),\"-\",VLOOKUP(B9,'N PMČRj 2024'!B:G,6,0))","v":"-"}]
[{"$f":"A9+1","v":2},"Radek Krejcirik",{"$f":"VLOOKUP(B10,Pilot!A:C,3,0)","v":"Hranice"},{"$f":"VLOOKUP(B10,Pilot!A:B,2,0)","v":1991},{"$f":"VLOOKUP(B10,Pilot!A:E,5,0)","v":"M"},{"$f":"VLOOKUP(B10,Pilot!A:F,6,0)","v":""},{"$f":"A10","v":2},null,1,2,{"$f":"IF(COUNTIF('N PMRg 2024'!B:B,B10)=0,\"-\",COUNTIF('N PMRg 2024'!B:B,B10))","v":"-"},{"$f":"IF(ISERROR(VLOOKUP(B10,'N PMRg 2024'!B:G,6,0)),\"-\",VLOOKUP(B10,'N PMRg 2024'!B:G,6,0))","v":"-"},{"$f":"IF(COUNTIF('N PMČRj 2024'!B:B,B10)=0,\"-\",COUNTIF('N PMČRj 2024'!B:B,B10))","v":"-"},{"$f":"IF(ISERROR(VLOOKUP(B10,'N PMČRj 2024'!B:G,6,0)),\"-\",VLOOKUP(B10,'N PMČRj 2024'!B:G,6,0))","v":"-"}]
[{"$f":"A10+1","v":3},"Jan Pavlik",{"$f":"VLOOKUP(B11,Pilot!A:C,3,0)","v":"Křižanov"},{"$f":"VLOOKUP(B11,Pilot!A:B,2,0)","v":1987},{"$f":"VLOOKUP(B11,Pilot!A:E,5,0)","v":"M"},{"$f":"VLOOKUP(B11,Pilot!A:F,6,0)","v":""},3,null,1,3,{"$f":"IF(COUNTIF('N PMRg 2024'!B:B,B11)=0,\"-\",COUNTIF('N PMRg 2024'!B:B,B11))","v":"-"},{"$f":"IF(ISERROR(VLOOKUP(B11,'N PMRg 2024'!B:G,6,0)),\"-\",VLOOKUP(B11,'N PMRg 2024'!B:G,6,0))","v":"-"},{"$f":"IF(COUNTIF('N PMČRj 2024'!B:B,B11)=0,\"-\",COUNTIF('N PMČRj 2024'!B:B,B11))","v":"-"},{"$f":"IF(ISERROR(VLOOKUP(B11,'N PMČRj 2024'!B:G,6,0)),\"-\",VLOOKUP(B11,'N PMČRj 2024'!B:G,6,0))","v":"-"}]
[4,"Miloslav Cink",{"$f":"VLOOKUP(B12,Pilot!A:C,3,0)","v":"Letkov"},{"$f":"VLOOKUP(B12,Pilot!A:B,2,0)","v":1987},{"$f":"VLOOKUP(B12,Pilot!A:E,5,0)","v":"M"},{"$f":"VLOOKUP(B12,Pilot!A:F,6,0)","v":""},4,null,1,4,{"$f":"IF(COUNTIF('N PMRg 2024'!B:B,B12)=0,\"-\",COUNTIF('N PMRg 2024'!B:B,B12))","v":"-"},{"$f":"IF(ISERROR(VLOOKUP(B12,'N PMRg 2024'!B:G,6,0)),\"-\",VLOOKUP(B12,'N PMRg 2024'!B:G,6,0))","v":"-"},{"$f":"IF(COUNTIF('N PMČRj 2024'!B:B,B12)=0,\"-\",COUNTIF('N PMČRj 2024'!B:B,B12))","v":"-"},{"$f":"IF(ISERROR(VLOOKUP(B12,'N PMČRj 2024'!B:G,6,0)),\"-\",VLOOKUP(B12,'N PMČRj 2024'!B:G,6,0))","v":"-"}]
[5,"Lukas Kriz",{"$f":"VLOOKUP(B13,Pilot!A:C,3,0)","v":"Křižanov"},{"$f":"VLOOKUP(B13,Pilot!A:B,2,0)","v":2003},{"$f":"VLOOKUP(B13,Pilot!A:E,5,0)","v":"M"},{"$f":"VLOOKUP(B13,Pilot!A:F,6,0)","v":"Junior v roce 2024"},5,null,1,5,{"$f":"IF(COUNTIF('N PMRg 2024'!B:B,B13)=0,\"-\",COUNTIF('N PMRg 2024'!B:B,B13))","v":"-"},{"$f":"IF(ISERROR(VLOOKUP(B13,'N PMRg 2024'!B:G,6,0)),\"-\",VLOOKUP(B13,'N PMRg 2024'!B:G,6,0))","v":"-"},{"$f":"IF(COUNTIF('N PMČRj 2024'!B:B,B13)=0,\"-\",COUNTIF('N PMČRj 2024'!B:B,B13))","v":1},{"$f":"IF(ISERROR(VLOOKUP(B13,'N PMČRj 2024'!B:G,6,0)),\"-\",VLOOKUP(B13,'N PMČRj 2024'!B:G,6,0))","v":1}]
[6,"Radek Kucirek",{"$f":"VLOOKUP(B14,Pilot!A:C,3,0)","v":"Havlíčkův Brod"},{"$f":"VLOOKUP(B14,Pilot!A:B,2,0)","v":1973},{"$f":"VLOOKUP(B14,Pilot!A:E,5,0)","v":"M"},{"$f":"VLOOKUP(B14,Pilot!A:F,6,0)","v":""},6,null,1,6,{"$f":"IF(COUNTIF('N PMRg 2024'!B:B,B14)=0,\"-\",COUNTIF('N PMRg 2024'!B:B,B14))","v":"-"},{"$f":"IF(ISERROR(VLOOKUP(B14,'N PMRg 2024'!B:G,6,0)),\"-\",VLOOKUP(B14,'N PMRg 2024'!B:G,6,0))","v":"-"},{"$f":"IF(COUNTIF('N PMČRj 2024'!B:B,B14)=0,\"-\",COUNTIF('N PMČRj 2024'!B:B,B14))","v":"-"},{"$f":"IF(ISERROR(VLOOKUP(B14,'N PMČRj 2024'!B:G,6,0)),\"-\",VLOOKUP(B14,'N PMČRj 2024'!B:G,6,0))","v":"-"}]
[7,"Michal Lesinger",{"$f":"VLOOKUP(B15,Pilot!A:C,3,0)","v":"Moravská Třebová"},{"$f":"VLOOKUP(B15,Pilot!A:B,2,0)","v":1966},{"$f":"VLOOKUP(B15,Pilot!A:E,5,0)","v":"M"},{"$f":"VLOOKUP(B15,Pilot!A:F,6,0)","v":""},7,null,1,7,{"$f":"IF(COUNTIF('N PMRg 2024'!B:B,B15)=0,\"-\",COUNTIF('N PMRg 2024'!B:B,B15))","v":"-"},{"$f":"IF(ISERROR(VLOOKUP(B15,'N PMRg 2024'!B:G,6,0)),\"-\",VLOOKUP(B15,'N PMRg 2024'!B:G,6,0))","v":"-"},{"$f":"IF(COUNTIF('N PMČRj 2024'!B:B,B15)=0,\"-\",COUNTIF('N PMČRj 2024'!B:B,B15))","v":"-"},{"$f":"IF(ISERROR(VLOOKUP(B15,'N PMČRj 2024'!B:G,6,0)),\"-\",VLOOKUP(B15,'N PMČRj 2024'!B:G,6,0))","v":"-"}]
[8,"Pavel Louzecky",{"$f":"VLOOKUP(B16,Pilot!A:C,3,0)","v":"Přibyslav"},{"$f":"VLOOKUP(B16,Pilot!A:B,2,0)","v":1957},{"$f":"VLOOKUP(B16,Pilot!A:E,5,0)","v":"M"},{"$f":"VLOOKUP(B16,Pilot!A:F,6,0)","v":""},8,null,1,8,{"$f":"IF(COUNTIF('N PMRg 2024'!B:B,B16)=0,\"-\",COUNTIF('N PMRg 2024'!B:B,B16))","v":"-"},{"$f":"IF(ISERROR(VLOOKUP(B16,'N PMRg 2024'!B:G,6,0)),\"-\",VLOOKUP(B16,'N PMRg 2024'!B:G,6,0))","v":"-"},{"$f":"IF(COUNTIF('N PMČRj 2024'!B:B,B16)=0,\"-\",COUNTIF('N PMČRj 2024'!B:B,B16))","v":"-"},{"$f":"IF(ISERROR(VLOOKUP(B16,'N PMČRj 2024'!B:G,6,0)),\"-\",VLOOKUP(B16,'N PMČRj 2024'!B:G,6,0))","v":"-"}]
[9,"Jaromir Macoun",{"$f":"VLOOKUP(B17,Pilot!A:C,3,0)","v":"Jičín"},{"$f":"VLOOKUP(B17,Pilot!A:B,2,0)","v":1999},{"$f":"VLOOKUP(B17,Pilot!A:E,5,0)","v":"M"},{"$f":"VLOOKUP(B17,Pilot!A:F,6,0)","v":"Junior v roce 2024"},9,null,1,9,{"$f":"IF(COUNTIF('N PMRg 2024'!B:B,B17)=0,\"-\",COUNTIF('N PMRg 2024'!B:B,B17))","v":"-"},{"$f":"IF(ISERROR(VLOOKUP(B17,'N PMRg 2024'!B:G,6,0)),\"-\",VLOOKUP(B17,'N PMRg 2024'!B:G,6,0))","v":"-"},{"$f":"IF(COUNTIF('N PMČRj 2024'!B:B,B17)=0,\"-\",COUNTIF('N PMČRj 2024'!B:B,B17))","v":1},{"$f":"IF(ISERROR(VLOOKUP(B17,'N PMČRj 2024'!B:G,6,0)),\"-\",VLOOKUP(B17,'N PMČRj 2024'!B:G,6,0))","v":2}]
[10,"Ivan Novak",{"$f":"VLOOKUP(B18,Pilot!A:C,3,0)","v":"Mladá Boleslav"},{"$f":"VLOOKUP(B18,Pilot!A:B,2,0)","v":1962},{"$f":"VLOOKUP(B18,Pilot!A:E,5,0)","v":"M"},{"$f":"VLOOKUP(B18,Pilot!A:F,6,0)","v":""},{"$f":"A18","v":10},null,1,10,{"$f":"IF(COUNTIF('N PMRg 2024'!B:B,B18)=0,\"-\",COUNTIF('N PMRg 2024'!B:B,B18))","v":"-"},{"$f":"IF(ISERROR(VLOOKUP(B18,'N PMRg 2024'!B:G,6,0)),\"-\",VLOOKUP(B18,'N PMRg 2024'!B:G,6,0))","v":"-"},{"$f":"IF(COUNTIF('N PMČRj 2024'!B:B,B18)=0,\"-\",COUNTIF('N PMČRj 2024'!B:B,B18))","v":"-"},{"$f":"IF(ISERROR(VLOOKUP(B18,'N PMČRj 2024'!B:G,6,0)),\"-\",VLOOKUP(B18,'N PMČRj 2024'!B:G,6,0))","v":"-"}]
[11,"Martin Hrivna",{"$f":"VLOOKUP(B19,Pilot!A:C,3,0)","v":"Zbraslavice"},{"$f":"VLOOKUP(B19,Pilot!A:B,2,0)","v":1978},{"$f":"VLOOKUP(B19,Pilot!A:E,5,0)","v":"M"},{"$f":"VLOOKUP(B19,Pilot!A:F,6,0)","v":""},11,null,1,11,{"$f":"IF(COUNTIF('N PMRg 2024'!B:B,B19)=0,\"-\",COUNTIF('N PMRg 2024'!B:B,B19))","v":"-"},{"$f":"IF(ISERROR(VLOOKUP(B19,'N PMRg 2024'!B:G,6,0)),\"-\",VLOOKUP(B19,'N PMRg 2024'!B:G,6,0))","v":"-"},{"$f":"IF(COUNTIF('N PMČRj 2024'!B:B,B19)=0,\"-\",COUNTIF('N PMČRj 2024'!B:B,B19))","v":"-"},{"$f":"IF(ISERROR(VLOOKUP(B19,'N PMČRj 2024'!B:G,6,0)),\"-\",VLOOKUP(B19,'N PMČRj 2024'!B:G,6,0))","v":"-"}]
[12,"Tomas Rendla",{"$f":"VLOOKUP(B20,Pilot!A:C,3,0)","v":"Zbraslavice"},{"$f":"VLOOKUP(B20,Pilot!A:B,2,0)","v":1973},{"$f":"VLOOKUP(B20,Pilot!A:E,5,0)","v":"M"},{"$f":"VLOOKUP(B20,Pilot!A:F,6,0)","v":""},12,null,1,12,{"$f":"IF(COUNTIF('N PMRg 2024'!B:B,B20)=0,\"-\",COUNTIF('N PMRg 2024'!B:B,B20))","v":"-"},{"$f":"IF(ISERROR(VLOOKUP(B20,'N PMRg 2024'!B:G,6,0)),\"-\",VLOOKUP(B20,'N PMRg 2024'!B:G,6,0))","v":"-"},{"$f":"IF(COUNTIF('N PMČRj 2024'!B:B,B20)=0,\"-\",COUNTIF('N PMČRj 2024'!B:B,B20))","v":"-"},{"$f":"IF(ISERROR(VLOOKUP(B20,'N PMČRj 2024'!B:G,6,0)),\"-\",VLOOKUP(B20,'N PMČRj 2024'!B:G,6,0))","v":"-"}]
[13,"Jaroslav Tomana",{"$f":"VLOOKUP(B21,Pilot!A:C,3,0)","v":"Zbraslavice"},{"$f":"VLOOKUP(B21,Pilot!A:B,2,0)","v":1975},{"$f":"VLOOKUP(B21,Pilot!A:E,5,0)","v":"M"},{"$f":"VLOOKUP(B21,Pilot!A:F,6,0)","v":""},{"$f":"A21","v":13},null,1,13,{"$f":"IF(COUNTIF('N PMRg 2024'!B:B,B21)=0,\"-\",COUNTIF('N PMRg 2024'!B:B,B21))","v":"-"},{"$f":"IF(ISERROR(VLOOKUP(B21,'N PMRg 2024'!B:G,6,0)),\"-\",VLOOKUP(B21,'N PMRg 2024'!B:G,6,0))","v":"-"},{"$f":"IF(COUNTIF('N PMČRj 2024'!B:B,B21)=0,\"-\",COUNTIF('N PMČRj 2024'!B:B,B21))","v":"-"},{"$f":"IF(ISERROR(VLOOKUP(B21,'N PMČRj 2024'!B:G,6,0)),\"-\",VLOOKUP(B21,'N PMČRj 2024'!B:G,6,0))","v":"-"}]
[14,"Karel Novak",{"$f":"VLOOKUP(B22,Pilot!A:C,3,0)","v":"Mladá Boleslav"},{"$f":"VLOOKUP(B22,Pilot!A:B,2,0)","v":1993},{"$f":"VLOOKUP(B22,Pilot!A:E,5,0)","v":"M"},{"$f":"VLOOKUP(B22,Pilot!A:F,6,0)","v":""},14,null,1,14,{"$f":"IF(COUNTIF('N PMRg 2024'!B:B,B22)=0,\"-\",COUNTIF('N PMRg 2024'!B:B,B22))","v":"-"},{"$f":"IF(ISERROR(VLOOKUP(B22,'N PMRg 2024'!B:G,6,0)),\"-\",VLOOKUP(B22,'N PMRg 2024'!B:G,6,0))","v":"-"},{"$f":"IF(COUNTIF('N PMČRj 2024'!B:B,B22)=0,\"-\",COUNTIF('N PMČRj 2024'!B:B,B22))","v":"-"},{"$f":"IF(ISERROR(VLOOKUP(B22,'N PMČRj 2024'!B:G,6,0)),\"-\",VLOOKUP(B22,'N PMČRj 2024'!B:G,6,0))","v":"-"}]
[15,"David Mach",{"$f":"VLOOKUP(B23,Pilot!A:C,3,0)","v":"Hronov"},{"$f":"VLOOKUP(B23,Pilot!A:B,2,0)","v":1994},{"$f":"VLOOKUP(B23,Pilot!A:E,5,0)","v":"M"},{"$f":"VLOOKUP(B23,Pilot!A:F,6,0)","v":""},15,null,1,15,{"$f":"IF(COUNTIF('N PMRg 2024'!B:B,B23)=0,\"-\",COUNTIF('N PMRg 2024'!B:B,B23))","v":"-"},{"$f":"IF(ISERROR(VLOOKUP(B23,'N PMRg 2024'!B:G,6,0)),\"-\",VLOOKUP(B23,'N PMRg 2024'!B:G,6,0))","v":"-"},{"$f":"IF(COUNTIF('N PMČRj 2024'!B:B,B23)=0,\"-\",COUNTIF('N PMČRj 2024'!B:B,B23))","v":"-"},{"$f":"IF(ISERROR(VLOOKUP(B23,'N PMČRj 2024'!B:G,6,0)),\"-\",VLOOKUP(B23,'N PMČRj 2024'!B:G,6,0))","v":"-"}]
[16,"Barbora Moravcova",{"$f":"VLOOKUP(B24,Pilot!A:C,3,0)","v":"Zbraslavice"},{"$f":"VLOOKUP(B24,Pilot!A:B,2,0)","v":1994},{"$f":"VLOOKUP(B24,Pilot!A:E,5,0)","v":"F"},{"$f":"VLOOKUP(B24,Pilot!A:F,6,0)","v":""},16,null,1,16,{"$f":"IF(COUNTIF('N PMRg 2024'!B:B,B24)=0,\"-\",COUNTIF('N PMRg 2024'!B:B,B24))","v":"-"},{"$f":"IF(ISERROR(VLOOKUP(B24,'N PMRg 2024'!B:G,6,0)),\"-\",VLOOKUP(B24,'N PMRg 2024'!B:G,6,0))","v":"-"},{"$f":"IF(COUNTIF('N PMČRj 2024'!B:B,B24)=0,\"-\",COUNTIF('N PMČRj 2024'!B:B,B24))","v":"-"},{"$f":"IF(ISERROR(VLOOKUP(B24,'N PMČRj 2024'!B:G,6,0)),\"-\",VLOOKUP(B24,'N PMČRj 2024'!B:G,6,0))","v":"-"}]
[17,"Pavel Trybenekr",{"$f":"VLOOKUP(B25,Pilot!A:C,3,0)","v":"Hořice"},{"$f":"VLOOKUP(B25,Pilot!A:B,2,0)","v":1990},{"$f":"VLOOKUP(B25,Pilot!A:E,5,0)","v":"M"},{"$f":"VLOOKUP(B25,Pilot!A:F,6,0)","v":""},17,null,1,17,{"$f":"IF(COUNTIF('N PMRg 2024'!B:B,B25)=0,\"-\",COUNTIF('N PMRg 2024'!B:B,B25))","v":"-"},{"$f":"IF(ISERROR(VLOOKUP(B25,'N PMRg 2024'!B:G,6,0)),\"-\",VLOOKUP(B25,'N PMRg 2024'!B:G,6,0))","v":"-"},{"$f":"IF(COUNTIF('N PMČRj 2024'!B:B,B25)=0,\"-\",COUNTIF('N PMČRj 2024'!B:B,B25))","v":"-"},{"$f":"IF(ISERROR(VLOOKUP(B25,'N PMČRj 2024'!B:G,6,0)),\"-\",VLOOKUP(B25,'N PMČRj 2024'!B:G,6,0))","v":"-"}]
[18,"Petr Tichy",{"$f":"VLOOKUP(B26,Pilot!A:C,3,0)","v":"Zbraslavice"},{"$f":"VLOOKUP(B26,Pilot!A:B,2,0)","v":1973},{"$f":"VLOOKUP(B26,Pilot!A:E,5,0)","v":"M"},{"$f":"VLOOKUP(B26,Pilot!A:F,6,0)","v":""},18,null,1,18,{"$f":"IF(COUNTIF('N PMRg 2024'!B:B,B26)=0,\"-\",COUNTIF('N PMRg 2024'!B:B,B26))","v":"-"},{"$f":"IF(ISERROR(VLOOKUP(B26,'N PMRg 2024'!B:G,6,0)),\"-\",VLOOKUP(B26,'N PMRg 2024'!B:G,6,0))","v":"-"},{"$f":"IF(COUNTIF('N PMČRj 2024'!B:B,B26)=0,\"-\",COUNTIF('N PMČRj 2024'!B:B,B26))","v":"-"},{"$f":"IF(ISERROR(VLOOKUP(B26,'N PMČRj 2024'!B:G,6,0)),\"-\",VLOOKUP(B26,'N PMČRj 2024'!B:G,6,0))","v":"-"}]
[19,"Jan Stastny",{"$f":"VLOOKUP(B27,Pilot!A:C,3,0)","v":"Medlánky"},{"$f":"VLOOKUP(B27,Pilot!A:B,2,0)","v":2003},{"$f":"VLOOKUP(B27,Pilot!A:E,5,0)","v":"M"},{"$f":"VLOOKUP(B27,Pilot!A:F,6,0)","v":"Junior v roce 2024"},19,null,1,19,{"$f":"IF(COUNTIF('N PMRg 2024'!B:B,B27)=0,\"-\",COUNTIF('N PMRg 2024'!B:B,B27))","v":"-"},{"$f":"IF(ISERROR(VLOOKUP(B27,'N PMRg 2024'!B:G,6,0)),\"-\",VLOOKUP(B27,'N PMRg 2024'!B:G,6,0))","v":"-"},{"$f":"IF(COUNTIF('N PMČRj 2024'!B:B,B27)=0,\"-\",COUNTIF('N PMČRj 2024'!B:B,B27))","v":1},{"$f":"IF(ISERROR(VLOOKUP(B27,'N PMČRj 2024'!B:G,6,0)),\"-\",VLOOKUP(B27,'N PMČRj 2024'!B:G,6,0))","v":3}]
[20,"Petr Krejcirik",{"$f":"VLOOKUP(B28,Pilot!A:C,3,0)","v":"Hranice"},{"$f":"VLOOKUP(B28,Pilot!A:B,2,0)","v":1960},{"$f":"VLOOKUP(B28,Pilot!A:E,5,0)","v":"M"},{"$f":"VLOOKUP(B28,Pilot!A:F,6,0)","v":""},20,null,1,20,{"$f":"IF(COUNTIF('N PMRg 2024'!B:B,B28)=0,\"-\",COUNTIF('N PMRg 2024'!B:B,B28))","v":"-"},{"$f":"IF(ISERROR(VLOOKUP(B28,'N PMRg 2024'!B:G,6,0)),\"-\",VLOOKUP(B28,'N PMRg 2024'!B:G,6,0))","v":"-"},{"$f":"IF(COUNTIF('N PMČRj 2024'!B:B,B28)=0,\"-\",COUNTIF('N PMČRj 2024'!B:B,B28))","v":"-"},{"$f":"IF(ISERROR(VLOOKUP(B28,'N PMČRj 2024'!B:G,6,0)),\"-\",VLOOKUP(B28,'N PMČRj 2024'!B:G,6,0))","v":"-"}]
[21,"Vit Morkovsky",{"$f":"VLOOKUP(B29,Pilot!A:C,3,0)","v":"Polička"},{"$f":"VLOOKUP(B29,Pilot!A:B,2,0)","v":2000},{"$f":"VLOOKUP(B29,Pilot!A:E,5,0)","v":"M"},{"$f":"VLOOKUP(B29,Pilot!A:F,6,0)","v":"Junior v roce 2024"},21,null,1,21,{"$f":"IF(COUNTIF('N PMRg 2024'!B:B,B29)=0,\"-\",COUNTIF('N PMRg 2024'!B:B,B29))","v":"-"},{"$f":"IF(ISERROR(VLOOKUP(B29,'N PMRg 2024'!B:G,6,0)),\"-\",VLOOKUP(B29,'N PMRg 2024'!B:G,6,0))","v":"-"},{"$f":"IF(COUNTIF('N PMČRj 2024'!B:B,B29)=0,\"-\",COUNTIF('N PMČRj 2024'!B:B,B29))","v":1},{"$f":"IF(ISERROR(VLOOKUP(B29,'N PMČRj 2024'!B:G,6,0)),\"-\",VLOOKUP(B29,'N PMČRj 2024'!B:G,6,0))","v":4}]
[22,"Michaela Rendlova",{"$f":"VLOOKUP(B30,Pilot!A:C,3,0)","v":"Toužim"},{"$f":"VLOOKUP(B30,Pilot!A:B,2,0)","v":2004},{"$f":"VLOOKUP(B30,Pilot!A:E,5,0)","v":"F"},{"$f":"VLOOKUP(B30,Pilot!A:F,6,0)","v":"Junior v roce 2024"},22,null,1,22,{"$f":"IF(COUNTIF('N PMRg 2024'!B:B,B30)=0,\"-\",COUNTIF('N PMRg 2024'!B:B,B30))","v":"-"},{"$f":"IF(ISERROR(VLOOKUP(B30,'N PMRg 2024'!B:G,6,0)),\"-\",VLOOKUP(B30,'N PMRg 2024'!B:G,6,0))","v":"-"},{"$f":"IF(COUNTIF('N PMČRj 2024'!B:B,B30)=0,\"-\",COUNTIF('N PMČRj 2024'!B:B,B30))","v":1},{"$f":"IF(ISERROR(VLOOKUP(B30,'N PMČRj 2024'!B:G,6,0)),\"-\",VLOOKUP(B30,'N PMČRj 2024'!B:G,6,0))","v":5}]
[23,"Vladimir Hammer",{"$f":"VLOOKUP(B31,Pilot!A:C,3,0)","v":"Letkov"},{"$f":"VLOOKUP(B31,Pilot!A:B,2,0)","v":2000},{"$f":"VLOOKUP(B31,Pilot!A:E,5,0)","v":"M"},{"$f":"VLOOKUP(B31,Pilot!A:F,6,0)","v":"Junior v roce 2024"},23,null,1,23,{"$f":"IF(COUNTIF('N PMRg 2024'!B:B,B31)=0,\"-\",COUNTIF('N PMRg 2024'!B:B,B31))","v":"-"},{"$f":"IF(ISERROR(VLOOKUP(B31,'N PMRg 2024'!B:G,6,0)),\"-\",VLOOKUP(B31,'N PMRg 2024'!B:G,6,0))","v":"-"},{"$f":"IF(COUNTIF('N PMČRj 2024'!B:B,B31)=0,\"-\",COUNTIF('N PMČRj 2024'!B:B,B31))","v":1},{"$f":"IF(ISERROR(VLOOKUP(B31,'N PMČRj 2024'!B:G,6,0)),\"-\",VLOOKUP(B31,'N PMČRj 2024'!B:G,6,0))","v":6}]
[24,"Alena Netusilova",{"$f":"VLOOKUP(B32,Pilot!A:C,3,0)","v":"Zbraslavice"},{"$f":"VLOOKUP(B32,Pilot!A:B,2,0)","v":1970},{"$f":"VLOOKUP(B32,Pilot!A:E,5,0)","v":"F"},{"$f":"VLOOKUP(B32,Pilot!A:F,6,0)","v":""},24,null,1,24,{"$f":"IF(COUNTIF('N PMRg 2024'!B:B,B32)=0,\"-\",COUNTIF('N PMRg 2024'!B:B,B32))","v":"-"},{"$f":"IF(ISERROR(VLOOKUP(B32,'N PMRg 2024'!B:G,6,0)),\"-\",VLOOKUP(B32,'N PMRg 2024'!B:G,6,0))","v":"-"},{"$f":"IF(COUNTIF('N PMČRj 2024'!B:B,B32)=0,\"-\",COUNTIF('N PMČRj 2024'!B:B,B32))","v":"-"},{"$f":"IF(ISERROR(VLOOKUP(B32,'N PMČRj 2024'!B:G,6,0)),\"-\",VLOOKUP(B32,'N PMČRj 2024'!B:G,6,0))","v":"-"}]
[25,"Tereza Koubkova",{"$f":"VLOOKUP(B33,Pilot!A:C,3,0)","v":"Vysoké Mýto"},{"$f":"VLOOKUP(B33,Pilot!A:B,2,0)","v":1999},{"$f":"VLOOKUP(B33,Pilot!A:E,5,0)","v":"F"},{"$f":"VLOOKUP(B33,Pilot!A:F,6,0)","v":"Junior v roce 2024"},25,null,1,25,{"$f":"IF(COUNTIF('N PMRg 2024'!B:B,B33)=0,\"-\",COUNTIF('N PMRg 2024'!B:B,B33))","v":"-"},{"$f":"IF(ISERROR(VLOOKUP(B33,'N PMRg 2024'!B:G,6,0)),\"-\",VLOOKUP(B33,'N PMRg 2024'!B:G,6,0))","v":"-"},{"$f":"IF(COUNTIF('N PMČRj 2024'!B:B,B33)=0,\"-\",COUNTIF('N PMČRj 2024'!B:B,B33))","v":1},{"$f":"IF(ISERROR(VLOOKUP(B33,'N PMČRj 2024'!B:G,6,0)),\"-\",VLOOKUP(B33,'N PMČRj 2024'!B:G,6,0))","v":7}]
[26,"Hana Treslova",{"$f":"VLOOKUP(B34,Pilot!A:C,3,0)","v":"Raná"},{"$f":"VLOOKUP(B34,Pilot!A:B,2,0)","v":1991},{"$f":"VLOOKUP(B34,Pilot!A:E,5,0)","v":"F"},{"$f":"VLOOKUP(B34,Pilot!A:F,6,0)","v":""},{"$f":"A34","v":26},null,1,26,{"$f":"IF(COUNTIF('N PMRg 2024'!B:B,B34)=0,\"-\",COUNTIF('N PMRg 2024'!B:B,B34))","v":"-"},{"$f":"IF(ISERROR(VLOOKUP(B34,'N PMRg 2024'!B:G,6,0)),\"-\",VLOOKUP(B34,'N PMRg 2024'!B:G,6,0))","v":"-"},{"$f":"IF(COUNTIF('N PMČRj 2024'!B:B,B34)=0,\"-\",COUNTIF('N PMČRj 2024'!B:B,B34))","v":"-"},{"$f":"IF(ISERROR(VLOOKUP(B34,'N PMČRj 2024'!B:G,6,0)),\"-\",VLOOKUP(B34,'N PMČRj 2024'!B:G,6,0))","v":"-"}]
[27,"Dana Novakova",{"$f":"VLOOKUP(B35,Pilot!A:C,3,0)","v":"Mladá Boleslav"},{"$f":"VLOOKUP(B35,Pilot!A:B,2,0)","v":1965},{"$f":"VLOOKUP(B35,Pilot!A:E,5,0)","v":"F"},{"$f":"VLOOKUP(B35,Pilot!A:F,6,0)","v":""},27,null,1,27,{"$f":"IF(COUNTIF('N PMRg 2024'!B:B,B35)=0,\"-\",COUNTIF('N PMRg 2024'!B:B,B35))","v":"-"},{"$f":"IF(ISERROR(VLOOKUP(B35,'N PMRg 2024'!B:G,6,0)),\"-\",VLOOKUP(B35,'N PMRg 2024'!B:G,6,0))","v":"-"},{"$f":"IF(COUNTIF('N PMČRj 2024'!B:B,B35)=0,\"-\",COUNTIF('N PMČRj 2024'!B:B,B35))","v":"-"},{"$f":"IF(ISERROR(VLOOKUP(B35,'N PMČRj 2024'!B:G,6,0)),\"-\",VLOOKUP(B35,'N PMČRj 2024'!B:G,6,0))","v":"-"}]
[28,"Petra Piskata",{"$f":"VLOOKUP(B36,Pilot!A:C,3,0)","v":"Luhačovice"},{"$f":"VLOOKUP(B36,Pilot!A:B,2,0)","v":1989},{"$f":"VLOOKUP(B36,Pilot!A:E,5,0)","v":"F"},{"$f":"VLOOKUP(B36,Pilot!A:F,6,0)","v":""},28,null,1,28,{"$f":"IF(COUNTIF('N PMRg 2024'!B:B,B36)=0,\"-\",COUNTIF('N PMRg 2024'!B:B,B36))","v":"-"},{"$f":"IF(ISERROR(VLOOKUP(B36,'N PMRg 2024'!B:G,6,0)),\"-\",VLOOKUP(B36,'N PMRg 2024'!B:G,6,0))","v":"-"},{"$f":"IF(COUNTIF('N PMČRj 2024'!B:B,B36)=0,\"-\",COUNTIF('N PMČRj 2024'!B:B,B36))","v":"-"},{"$f":"IF(ISERROR(VLOOKUP(B36,'N PMČRj 2024'!B:G,6,0)),\"-\",VLOOKUP(B36,'N PMČRj 2024'!B:G,6,0))","v":"-"}]
[29,"Michaela Krizova",{"$f":"VLOOKUP(B37,Pilot!A:C,3,0)","v":"Přibyslav"},{"$f":"VLOOKUP(B37,Pilot!A:B,2,0)","v":2001},{"$f":"VLOOKUP(B37,Pilot!A:E,5,0)","v":"F"},{"$f":"VLOOKUP(B37,Pilot!A:F,6,0)","v":"Junior v roce 2024"},29,null,1,29,{"$f":"IF(COUNTIF('N PMRg 2024'!B:B,B37)=0,\"-\",COUNTIF('N PMRg 2024'!B:B,B37))","v":"-"},{"$f":"IF(ISERROR(VLOOKUP(B37,'N PMRg 2024'!B:G,6,0)),\"-\",VLOOKUP(B37,'N PMRg 2024'!B:G,6,0))","v":"-"},{"$f":"IF(COUNTIF('N PMČRj 2024'!B:B,B37)=0,\"-\",COUNTIF('N PMČRj 2024'!B:B,B37))","v":1},{"$f":"IF(ISERROR(VLOOKUP(B37,'N PMČRj 2024'!B:G,6,0)),\"-\",VLOOKUP(B37,'N PMČRj 2024'!B:G,6,0))","v":8}]
[30,"Jana Treslova",{"$f":"VLOOKUP(B38,Pilot!A:C,3,0)","v":"Raná"},{"$f":"VLOOKUP(B38,Pilot!A:B,2,0)","v":1963},{"$f":"VLOOKUP(B38,Pilot!A:E,5,0)","v":"F"},{"$f":"VLOOKUP(B38,Pilot!A:F,6,0)","v":""},30,null,1,30,{"$f":"IF(COUNTIF('N PMRg 2024'!B:B,B38)=0,\"-\",COUNTIF('N PMRg 2024'!B:B,B38))","v":"-"},{"$f":"IF(ISERROR(VLOOKUP(B38,'N PMRg 2024'!B:G,6,0)),\"-\",VLOOKUP(B38,'N PMRg 2024'!B:G,6,0))","v":"-"},{"$f":"IF(COUNTIF('N PMČRj 2024'!B:B,B38)=0,\"-\",COUNTIF('N PMČRj 2024'!B:B,B38))","v":"-"},{"$f":"IF(ISERROR(VLOOKUP(B38,'N PMČRj 2024'!B:G,6,0)),\"-\",VLOOKUP(B38,'N PMČRj 2024'!B:G,6,0))","v":"-"}]
[null,"Další soutěžící, kteří se umístili v konečném pořadí na posledním platném PMČR ve své třídě nejhůře v první polovině celkového pořadí (bez náhradníků):"]
[null,"PMČR 2023 - Moravská Třebová - Klub"]
[{"$f":"MAX(A9:A40)+1","v":31},"Petr Stepanek",{"$f":"VLOOKUP(B41,Pilot!A:C,3,0)","v":"Moravská Třebová"},{"$f":"VLOOKUP(B41,Pilot!A:B,2,0)","v":1989},{"$f":"VLOOKUP(B41,Pilot!A:E,5,0)","v":"M"},{"$f":"VLOOKUP(B41,Pilot!A:F,6,0)","v":""},{"$f":"A41","v":31},null,{"$f":"COUNTIF(B:B,B41)","v":1},{"$f":"IF(ISERROR(VLOOKUP(B41,B:G,6,0)),\"-\",VLOOKUP(B41,B:G,6,0))","v":31},{"$f":"IF(COUNTIF('N PMRg 2024'!B:B,B41)=0,\"-\",COUNTIF('N PMRg 2024'!B:B,B41))","v":"-"},{"$f":"IF(ISERROR(VLOOKUP(B41,'N PMRg 2024'!B:G,6,0)),\"-\",VLOOKUP(B41,'N PMRg 2024'!B:G,6,0))","v":"-"},{"$f":"IF(COUNTIF('N PMČRj 2024'!B:B,B41)=0,\"-\",COUNTIF('N PMČRj 2024'!B:B,B41))","v":"-"},{"$f":"IF(ISERROR(VLOOKUP(B41,'N PMČRj 2024'!B:G,6,0)),\"-\",VLOOKUP(B41,'N PMČRj 2024'!B:G,6,0))","v":"-"}]
[{"$f":"A41+1","v":32},"Lukas Capek",{"$f":"VLOOKUP(B42,Pilot!A:C,3,0)","v":"Letňany"},{"$f":"VLOOKUP(B42,Pilot!A:B,2,0)","v":1992},{"$f":"VLOOKUP(B42,Pilot!A:E,5,0)","v":"M"},{"$f":"VLOOKUP(B42,Pilot!A:F,6,0)","v":""},{"$f":"A42","v":32},null,{"$f":"COUNTIF(B:B,B42)","v":1},{"$f":"IF(ISERROR(VLOOKUP(B42,B:G,6,0)),\"-\",VLOOKUP(B42,B:G,6,0))","v":32},{"$f":"IF(COUNTIF('N PMRg 2024'!B:B,B42)=0,\"-\",COUNTIF('N PMRg 2024'!B:B,B42))","v":"-"},{"$f":"IF(ISERROR(VLOOKUP(B42,'N PMRg 2024'!B:G,6,0)),\"-\",VLOOKUP(B42,'N PMRg 2024'!B:G,6,0))","v":"-"},{"$f":"IF(COUNTIF('N PMČRj 2024'!B:B,B42)=0,\"-\",COUNTIF('N PMČRj 2024'!B:B,B42))","v":"-"},{"$f":"IF(ISERROR(VLOOKUP(B42,'N PMČRj 2024'!B:G,6,0)),\"-\",VLOOKUP(B42,'N PMČRj 2024'!B:G,6,0))","v":"-"}]
[null,"PMČR 2023 - Moravská Třebová - Kombi 15m"]
["-","-",{"$f":"VLOOKUP(B44,Pilot!A:C,3,0)","v":" "},{"$f":"VLOOKUP(B44,Pilot!A:B,2,0)","v":" "},{"$f":"VLOOKUP(B44,Pilot!A:E,5,0)","v":" "},{"$f":"VLOOKUP(B44,Pilot!A:F,6,0)","v":" "},{"$f":"A44","v":"-"},null,{"$f":"COUNTIF(B:B,B44)","v":6},{"$f":"IF(ISERROR(VLOOKUP(B44,B:G,6,0)),\"-\",VLOOKUP(B44,B:G,6,0))","v":"-"},{"$f":"IF(COUNTIF('N PMRg 2024'!B:B,B44)=0,\"-\",COUNTIF('N PMRg 2024'!B:B,B44))","v":66},{"$f":"IF(ISERROR(VLOOKUP(B44,'N PMRg 2024'!B:G,6,0)),\"-\",VLOOKUP(B44,'N PMRg 2024'!B:G,6,0))","v":"-"},{"$f":"IF(COUNTIF('N PMČRj 2024'!B:B,B44)=0,\"-\",COUNTIF('N PMČRj 2024'!B:B,B44))","v":33},{"$f":"IF(ISERROR(VLOOKUP(B44,'N PMČRj 2024'!B:G,6,0)),\"-\",VLOOKUP(B44,'N PMČRj 2024'!B:G,6,0))","v":18}]
[null,"PMČR 2023 - Moravská Třebová - Kombi Open"]
[{"$f":"MAX(A9:A45)+1","v":33},"Jiri Kusbach",{"$f":"VLOOKUP(B46,Pilot!A:C,3,0)","v":"Luhačovice"},{"$f":"VLOOKUP(B46,Pilot!A:B,2,0)","v":1959},{"$f":"VLOOKUP(B46,Pilot!A:E,5,0)","v":"M"},{"$f":"VLOOKUP(B46,Pilot!A:F,6,0)","v":""},{"$f":"A46","v":33},null,{"$f":"COUNTIF(B:B,B46)","v":1},{"$f":"IF(ISERROR(VLOOKUP(B46,B:G,6,0)),\"-\",VLOOKUP(B46,B:G,6,0))","v":33},{"$f":"IF(COUNTIF('N PMRg 2024'!B:B,B46)=0,\"-\",COUNTIF('N PMRg 2024'!B:B,B46))","v":"-"},{"$f":"IF(ISERROR(VLOOKUP(B46,'N PMRg 2024'!B:G,6,0)),\"-\",VLOOKUP(B46,'N PMRg 2024'!B:G,6,0))","v":"-"},{"$f":"IF(COUNTIF('N PMČRj 2024'!B:B,B46)=0,\"-\",COUNTIF('N PMČRj 2024'!B:B,B46))","v":"-"},{"$f":"IF(ISERROR(VLOOKUP(B46,'N PMČRj 2024'!B:G,6,0)),\"-\",VLOOKUP(B46,'N PMČRj 2024'!B:G,6,0))","v":"-"}]
[{"$f":"A46+1","v":34},"Pavel Jiranek",{"$f":"VLOOKUP(B47,Pilot!A:C,3,0)","v":"Toužim"},{"$f":"VLOOKUP(B47,Pilot!A:B,2,0)","v":1993},{"$f":"VLOOKUP(B47,Pilot!A:E,5,0)","v":"M"},{"$f":"VLOOKUP(B47,Pilot!A:F,6,0)","v":""},34,null,{"$f":"COUNTIF(B:B,B47)","v":1},{"$f":"IF(ISERROR(VLOOKUP(B47,B:G,6,0)),\"-\",VLOOKUP(B47,B:G,6,0))","v":34},{"$f":"IF(COUNTIF('N PMRg 2024'!B:B,B47)=0,\"-\",COUNTIF('N PMRg 2024'!B:B,B47))","v":"-"},{"$f":"IF(ISERROR(VLOOKUP(B47,'N PMRg 2024'!B:G,6,0)),\"-\",VLOOKUP(B47,'N PMRg 2024'!B:G,6,0))","v":"-"},{"$f":"IF(COUNTIF('N PMČRj 2024'!B:B,B47)=0,\"-\",COUNTIF('N PMČRj 2024'!B:B,B47))","v":"-"},{"$f":"IF(ISERROR(VLOOKUP(B47,'N PMČRj 2024'!B:G,6,0)),\"-\",VLOOKUP(B47,'N PMČRj 2024'!B:G,6,0))","v":"-"}]
[null,"Prvních 5 soutěžících z posledního platného PMČRj mimo RV (+ 5 náhradníků):"]
[null,"PMČRj 2023 - Hosín - Klub"]
[{"$f":"MAX(A9:A49)+1","v":35},"Tomas Hynek",{"$f":"VLOOKUP(B50,Pilot!A:C,3,0)","v":"Dvůr Králové"},{"$f":"VLOOKUP(B50,Pilot!A:B,2,0)","v":2002},{"$f":"VLOOKUP(B50,Pilot!A:E,5,0)","v":"M"},{"$f":"VLOOKUP(B50,Pilot!A:F,6,0)","v":"Junior v roce 2024"},{"$f":"A50","v":35},null,{"$f":"COUNTIF(B:B,B50)","v":1},{"$f":"IF(ISERROR(VLOOKUP(B50,B:G,6,0)),\"-\",VLOOKUP(B50,B:G,6,0))","v":35},{"$f":"IF(COUNTIF('N PMRg 2024'!B:B,B50)=0,\"-\",COUNTIF('N PMRg 2024'!B:B,B50))","v":"-"},{"$f":"IF(ISERROR(VLOOKUP(B50,'N PMRg 2024'!B:G,6,0)),\"-\",VLOOKUP(B50,'N PMRg 2024'!B:G,6,0))","v":"-"},{"$f":"IF(COUNTIF('N PMČRj 2024'!B:B,B50)=0,\"-\",COUNTIF('N PMČRj 2024'!B:B,B50))","v":1},{"$f":"IF(ISERROR(VLOOKUP(B50,'N PMČRj 2024'!B:G,6,0)),\"-\",VLOOKUP(B50,'N PMČRj 2024'!B:G,6,0))","v":14}]
[{"$f":"A50+1","v":36},"Jan Beran",{"$f":"VLOOKUP(B51,Pilot!A:C,3,0)","v":"Kladno"},{"$f":"VLOOKUP(B51,Pilot!A:B,2,0)","v":1999},{"$f":"VLOOKUP(B51,Pilot!A:E,5,0)","v":"M"},{"$f":"VLOOKUP(B51,Pilot!A:F,6,0)","v":"Junior v roce 2024"},36,null,1,36,{"$f":"IF(COUNTIF('N PMRg 2024'!B:B,B51)=0,\"-\",COUNTIF('N PMRg 2024'!B:B,B51))","v":"-"},{"$f":"IF(ISERROR(VLOOKUP(B51,'N PMRg 2024'!B:G,6,0)),\"-\",VLOOKUP(B51,'N PMRg 2024'!B:G,6,0))","v":"-"},{"$f":"IF(COUNTIF('N PMČRj 2024'!B:B,B51)=0,\"-\",COUNTIF('N PMČRj 2024'!B:B,B51))","v":1},{"$f":"IF(ISERROR(VLOOKUP(B51,'N PMČRj 2024'!B:G,6,0)),\"-\",VLOOKUP(B51,'N PMČRj 2024'!B:G,6,0))","v":15}]
[{"$f":"A51+1","v":37},"Lukas Maly",{"$f":"VLOOKUP(B52,Pilot!A:C,3,0)","v":"Vysoké Mýto"},{"$f":"VLOOKUP(B52,Pilot!A:B,2,0)","v":1998},{"$f":"VLOOKUP(B52,Pilot!A:E,5,0)","v":"M"},{"$f":"VLOOKUP(B52,Pilot!A:F,6,0)","v":""},37,null,1,37,{"$f":"IF(COUNTIF('N PMRg 2024'!B:B,B52)=0,\"-\",COUNTIF('N PMRg 2024'!B:B,B52))","v":"-"},{"$f":"IF(ISERROR(VLOOKUP(B52,'N PMRg 2024'!B:G,6,0)),\"-\",VLOOKUP(B52,'N PMRg 2024'!B:G,6,0))","v":"-"},{"$f":"IF(COUNTIF('N PMČRj 2024'!B:B,B52)=0,\"-\",COUNTIF('N PMČRj 2024'!B:B,B52))","v":1},{"$f":"IF(ISERROR(VLOOKUP(B52,'N PMČRj 2024'!B:G,6,0)),\"-\",VLOOKUP(B52,'N PMČRj 2024'!B:G,6,0))","v":16}]
[{"$f":"A52+1","v":38},"Stepan Bartos",{"$f":"VLOOKUP(B53,Pilot!A:C,3,0)","v":"Kolín"},{"$f":"VLOOKUP(B53,Pilot!A:B,2,0)","v":2004},{"$f":"VLOOKUP(B53,Pilot!A:E,5,0)","v":"M"},{"$f":"VLOOKUP(B53,Pilot!A:F,6,0)","v":"Junior v roce 2024"},38,null,1,38,{"$f":"IF(COUNTIF('N PMRg 2024'!B:B,B53)=0,\"-\",COUNTIF('N PMRg 2024'!B:B,B53))","v":"-"},{"$f":"IF(ISERROR(VLOOKUP(B53,'N PMRg 2024'!B:G,6,0)),\"-\",VLOOKUP(B53,'N PMRg 2024'!B:G,6,0))","v":"-"},{"$f":"IF(COUNTIF('N PMČRj 2024'!B:B,B53)=0,\"-\",COUNTIF('N PMČRj 2024'!B:B,B53))","v":1},{"$f":"IF(ISERROR(VLOOKUP(B53,'N PMČRj 2024'!B:G,6,0)),\"-\",VLOOKUP(B53,'N PMČRj 2024'!B:G,6,0))","v":17}]
[{"$f":"A53+1","v":39},"Stepan Filakovsky",{"$f":"VLOOKUP(B54,Pilot!A:C,3,0)","v":"Medlánky"},{"$f":"VLOOKUP(B54,Pilot!A:B,2,0)","v":2005},{"$f":"VLOOKUP(B54,Pilot!A:E,5,0)","v":"M"},{"$f":"VLOOKUP(B54,Pilot!A:F,6,0)","v":"Junior v roce 2024"},39,null,1,39,{"$f":"IF(COUNTIF('N PMRg 2024'!B:B,B54)=0,\"-\",COUNTIF('N PMRg 2024'!B:B,B54))","v":"-"},{"$f":"IF(ISERROR(VLOOKUP(B54,'N PMRg 2024'!B:G,6,0)),\"-\",VLOOKUP(B54,'N PMRg 2024'!B:G,6,0))","v":"-"},{"$f":"IF(COUNTIF('N PMČRj 2024'!B:B,B54)=0,\"-\",COUNTIF('N PMČRj 2024'!B:B,B54))","v":1},{"$f":"IF(ISERROR(VLOOKUP(B54,'N PMČRj 2024'!B:G,6,0)),\"-\",VLOOKUP(B54,'N PMČRj 2024'!B:G,6,0))","v":9}]
["N1","Matej Bartos",{"$f":"VLOOKUP(B55,Pilot!A:C,3,0)","v":"Hodkovice"},{"$f":"VLOOKUP(B55,Pilot!A:B,2,0)","v":1998},{"$f":"VLOOKUP(B55,Pilot!A:E,5,0)","v":"M"},{"$f":"VLOOKUP(B55,Pilot!A:F,6,0)","v":""},"N1",null,1,"N1",{"$f":"IF(COUNTIF('N PMRg 2024'!B:B,B55)=0,\"-\",COUNTIF('N PMRg 2024'!B:B,B55))","v":"-"},{"$f":"IF(ISERROR(VLOOKUP(B55,'N PMRg 2024'!B:G,6,0)),\"-\",VLOOKUP(B55,'N PMRg 2024'!B:G,6,0))","v":"-"},{"$f":"IF(COUNTIF('N PMČRj 2024'!B:B,B55)=0,\"-\",COUNTIF('N PMČRj 2024'!B:B,B55))","v":"-"},{"$f":"IF(ISERROR(VLOOKUP(B55,'N PMČRj 2024'!B:G,6,0)),\"-\",VLOOKUP(B55,'N PMČRj 2024'!B:G,6,0))","v":"-"}]
["N2","Vojtech Vach 03",{"$f":"VLOOKUP(B56,Pilot!A:C,3,0)","v":"Nové Město nad Metují"},{"$f":"VLOOKUP(B56,Pilot!A:B,2,0)","v":2003},{"$f":"VLOOKUP(B56,Pilot!A:E,5,0)","v":"M"},{"$f":"VLOOKUP(B56,Pilot!A:F,6,0)","v":"Junior v roce 2024"},"N2",null,1,"N2",{"$f":"IF(COUNTIF('N PMRg 2024'!B:B,B56)=0,\"-\",COUNTIF('N PMRg 2024'!B:B,B56))","v":1},{"$f":"IF(ISERROR(VLOOKUP(B56,'N PMRg 2024'!B:G,6,0)),\"-\",VLOOKUP(B56,'N PMRg 2024'!B:G,6,0))","v":1},{"$f":"IF(COUNTIF('N PMČRj 2024'!B:B,B56)=0,\"-\",COUNTIF('N PMČRj 2024'!B:B,B56))","v":1},{"$f":"IF(ISERROR(VLOOKUP(B56,'N PMČRj 2024'!B:G,6,0)),\"-\",VLOOKUP(B56,'N PMČRj 2024'!B:G,6,0))","v":10}]
["N3","Petr Masik",{"$f":"VLOOKUP(B57,Pilot!A:C,3,0)","v":"Zábřeh"},{"$f":"VLOOKUP(B57,Pilot!A:B,2,0)","v":2001},{"$f":"VLOOKUP(B57,Pilot!A:E,5,0)","v":"M"},{"$f":"VLOOKUP(B57,Pilot!A:F,6,0)","v":"Junior v roce 2024"},"N3",null,1,"N3",{"$f":"IF(COUNTIF('N PMRg 2024'!B:B,B57)=0,\"-\",COUNTIF('N PMRg 2024'!B:B,B57))","v":1},{"$f":"IF(ISERROR(VLOOKUP(B57,'N PMRg 2024'!B:G,6,0)),\"-\",VLOOKUP(B57,'N PMRg 2024'!B:G,6,0))","v":2},{"$f":"IF(COUNTIF('N PMČRj 2024'!B:B,B57)=0,\"-\",COUNTIF('N PMČRj 2024'!B:B,B57))","v":1},{"$f":"IF(ISERROR(VLOOKUP(B57,'N PMČRj 2024'!B:G,6,0)),\"-\",VLOOKUP(B57,'N PMČRj 2024'!B:G,6,0))","v":11}]
["N4","Tibor Hezina",{"$f":"VLOOKUP(B58,Pilot!A:C,3,0)","v":"Křižanov"},{"$f":"VLOOKUP(B58,Pilot!A:B,2,0)","v":2002},{"$f":"VLOOKUP(B58,Pilot!A:E,5,0)","v":"M"},{"$f":"VLOOKUP(B58,Pilot!A:F,6,0)","v":"Junior v roce 2024"},"N4",null,1,"N4",{"$f":"IF(COUNTIF('N PMRg 2024'!B:B,B58)=0,\"-\",COUNTIF('N PMRg 2024'!B:B,B58))","v":"-"},{"$f":"IF(ISERROR(VLOOKUP(B58,'N PMRg 2024'!B:G,6,0)),\"-\",VLOOKUP(B58,'N PMRg 2024'!B:G,6,0))","v":"-"},{"$f":"IF(COUNTIF('N PMČRj 2024'!B:B,B58)=0,\"-\",COUNTIF('N PMČRj 2024'!B:B,B58))","v":"-"},{"$f":"IF(ISERROR(VLOOKUP(B58,'N PMČRj 2024'!B:G,6,0)),\"-\",VLOOKUP(B58,'N PMČRj 2024'!B:G,6,0))","v":"-"}]
["N5","Katerina Vancurova",{"$f":"VLOOKUP(B59,Pilot!A:C,3,0)","v":"Hranice"},{"$f":"VLOOKUP(B59,Pilot!A:B,2,0)","v":2002},{"$f":"VLOOKUP(B59,Pilot!A:E,5,0)","v":"F"},{"$f":"VLOOKUP(B59,Pilot!A:F,6,0)","v":"Junior v roce 2024"},"N5",null,1,"N5",{"$f":"IF(COUNTIF('N PMRg 2024'!B:B,B59)=0,\"-\",COUNTIF('N PMRg 2024'!B:B,B59))","v":"-"},{"$f":"IF(ISERROR(VLOOKUP(B59,'N PMRg 2024'!B:G,6,0)),\"-\",VLOOKUP(B59,'N PMRg 2024'!B:G,6,0))","v":"-"},{"$f":"IF(COUNTIF('N PMČRj 2024'!B:B,B59)=0,\"-\",COUNTIF('N PMČRj 2024'!B:B,B59))","v":"-"},{"$f":"IF(ISERROR(VLOOKUP(B59,'N PMČRj 2024'!B:G,6,0)),\"-\",VLOOKUP(B59,'N PMČRj 2024'!B:G,6,0))","v":"-"}]
[null,"Ostatní soutěžící z posledního platného PMRg v pořadí podle umístění, do naplnění celkového počtu nominovaných dle 6.6.5. (+ 10 náhradníků).\nJe-li PMRg pořádáno ve více třídách, a/nebo ve více regionech, pak jsou na PMČR nominováni soutěžící podle korigovaných bodů z jednotlivých tříd/regionů do naplnění celkového počtu nominovaných dle 6.6.5.\nV případě neplatnosti některé ze soutěžních tříd posledního PMRg budou pro výpočet korigovaných bodů použity výsledky z posledního platného PMRg v dané třídě:"]
[null,"PMRg 2022 - Hodkovice - Korigované body"]
[{"$f":"MAX(A9:A61)+1","v":40},"Pavel Rericha",{"$f":"VLOOKUP(B62,Pilot!A:C,3,0)","v":"Moravská Třebová"},{"$f":"VLOOKUP(B62,Pilot!A:B,2,0)","v":1967},{"$f":"VLOOKUP(B62,Pilot!A:E,5,0)","v":"M"},{"$f":"VLOOKUP(B62,Pilot!A:F,6,0)","v":""},{"$f":"A62","v":40},null,{"$f":"COUNTIF(B:B,B62)","v":1},{"$f":"IF(ISERROR(VLOOKUP(B62,B:G,6,0)),\"-\",VLOOKUP(B62,B:G,6,0))","v":40},{"$f":"IF(COUNTIF('N PMRg 2024'!B:B,B62)=0,\"-\",COUNTIF('N PMRg 2024'!B:B,B62))","v":"-"},{"$f":"IF(ISERROR(VLOOKUP(B62,'N PMRg 2024'!B:G,6,0)),\"-\",VLOOKUP(B62,'N PMRg 2024'!B:G,6,0))","v":"-"},{"$f":"IF(COUNTIF('N PMČRj 2024'!B:B,B62)=0,\"-\",COUNTIF('N PMČRj 2024'!B:B,B62))","v":"-"},{"$f":"IF(ISERROR(VLOOKUP(B62,'N PMČRj 2024'!B:G,6,0)),\"-\",VLOOKUP(B62,'N PMČRj 2024'!B:G,6,0))","v":"-"}]
[{"$f":"A62+1","v":41},"Jan Louda",{"$f":"VLOOKUP(B63,Pilot!A:C,3,0)","v":"Mladá Boleslav"},{"$f":"VLOOKUP(B63,Pilot!A:B,2,0)","v":1986},{"$f":"VLOOKUP(B63,Pilot!A:E,5,0)","v":"M"},{"$f":"VLOOKUP(B63,Pilot!A:F,6,0)","v":""},41,null,1,41,{"$f":"IF(COUNTIF('N PMRg 2024'!B:B,B63)=0,\"-\",COUNTIF('N PMRg 2024'!B:B,B63))","v":"-"},{"$f":"IF(ISERROR(VLOOKUP(B63,'N PMRg 2024'!B:G,6,0)),\"-\",VLOOKUP(B63,'N PMRg 2024'!B:G,6,0))","v":"-"},{"$f":"IF(COUNTIF('N PMČRj 2024'!B:B,B63)=0,\"-\",COUNTIF('N PMČRj 2024'!B:B,B63))","v":"-"},{"$f":"IF(ISERROR(VLOOKUP(B63,'N PMČRj 2024'!B:G,6,0)),\"-\",VLOOKUP(B63,'N PMČRj 2024'!B:G,6,0))","v":"-"}]
[{"$f":"A63+1","v":42},"Josef Busek",{"$f":"VLOOKUP(B64,Pilot!A:C,3,0)","v":"Hosín"},{"$f":"VLOOKUP(B64,Pilot!A:B,2,0)","v":1967},{"$f":"VLOOKUP(B64,Pilot!A:E,5,0)","v":"M"},{"$f":"VLOOKUP(B64,Pilot!A:F,6,0)","v":""},42,null,1,42,{"$f":"IF(COUNTIF('N PMRg 2024'!B:B,B64)=0,\"-\",COUNTIF('N PMRg 2024'!B:B,B64))","v":"-"},{"$f":"IF(ISERROR(VLOOKUP(B64,'N PMRg 2024'!B:G,6,0)),\"-\",VLOOKUP(B64,'N PMRg 2024'!B:G,6,0))","v":"-"},{"$f":"IF(COUNTIF('N PMČRj 2024'!B:B,B64)=0,\"-\",COUNTIF('N PMČRj 2024'!B:B,B64))","v":"-"},{"$f":"IF(ISERROR(VLOOKUP(B64,'N PMČRj 2024'!B:G,6,0)),\"-\",VLOOKUP(B64,'N PMČRj 2024'!B:G,6,0))","v":"-"}]
[43,"Marek Svancara",{"$f":"VLOOKUP(B65,Pilot!A:C,3,0)","v":"GAC Benešov"},{"$f":"VLOOKUP(B65,Pilot!A:B,2,0)","v":1976},{"$f":"VLOOKUP(B65,Pilot!A:E,5,0)","v":"M"},{"$f":"VLOOKUP(B65,Pilot!A:F,6,0)","v":""},43,null,1,43,{"$f":"IF(COUNTIF('N PMRg 2024'!B:B,B65)=0,\"-\",COUNTIF('N PMRg 2024'!B:B,B65))","v":"-"},{"$f":"IF(ISERROR(VLOOKUP(B65,'N PMRg 2024'!B:G,6,0)),\"-\",VLOOKUP(B65,'N PMRg 2024'!B:G,6,0))","v":"-"},{"$f":"IF(COUNTIF('N PMČRj 2024'!B:B,B65)=0,\"-\",COUNTIF('N PMČRj 2024'!B:B,B65))","v":"-"},{"$f":"IF(ISERROR(VLOOKUP(B65,'N PMČRj 2024'!B:G,6,0)),\"-\",VLOOKUP(B65,'N PMČRj 2024'!B:G,6,0))","v":"-"}]
[44,"Jan Smaha",{"$f":"VLOOKUP(B66,Pilot!A:C,3,0)","v":"Česká Lípa"},{"$f":"VLOOKUP(B66,Pilot!A:B,2,0)","v":1958},{"$f":"VLOOKUP(B66,Pilot!A:E,5,0)","v":"M"},{"$f":"VLOOKUP(B66,Pilot!A:F,6,0)","v":""},44,null,1,44,{"$f":"IF(COUNTIF('N PMRg 2024'!B:B,B66)=0,\"-\",COUNTIF('N PMRg 2024'!B:B,B66))","v":"-"},{"$f":"IF(ISERROR(VLOOKUP(B66,'N PMRg 2024'!B:G,6,0)),\"-\",VLOOKUP(B66,'N PMRg 2024'!B:G,6,0))","v":"-"},{"$f":"IF(COUNTIF('N PMČRj 2024'!B:B,B66)=0,\"-\",COUNTIF('N PMČRj 2024'!B:B,B66))","v":"-"},{"$f":"IF(ISERROR(VLOOKUP(B66,'N PMČRj 2024'!B:G,6,0)),\"-\",VLOOKUP(B66,'N PMČRj 2024'!B:G,6,0))","v":"-"}]
[45,"Jaromir Pauer",{"$f":"VLOOKUP(B67,Pilot!A:C,3,0)","v":"Hosín"},{"$f":"VLOOKUP(B67,Pilot!A:B,2,0)","v":1974},{"$f":"VLOOKUP(B67,Pilot!A:E,5,0)","v":"M"},{"$f":"VLOOKUP(B67,Pilot!A:F,6,0)","v":""},45,null,1,45,{"$f":"IF(COUNTIF('N PMRg 2024'!B:B,B67)=0,\"-\",COUNTIF('N PMRg 2024'!B:B,B67))","v":"-"},{"$f":"IF(ISERROR(VLOOKUP(B67,'N PMRg 2024'!B:G,6,0)),\"-\",VLOOKUP(B67,'N PMRg 2024'!B:G,6,0))","v":"-"},{"$f":"IF(COUNTIF('N PMČRj 2024'!B:B,B67)=0,\"-\",COUNTIF('N PMČRj 2024'!B:B,B67))","v":"-"},{"$f":"IF(ISERROR(VLOOKUP(B67,'N PMČRj 2024'!B:G,6,0)),\"-\",VLOOKUP(B67,'N PMČRj 2024'!B:G,6,0))","v":"-"}]
[46,"Petr Rozhon",{"$f":"VLOOKUP(B68,Pilot!A:C,3,0)","v":"Hosín"},{"$f":"VLOOKUP(B68,Pilot!A:B,2,0)","v":1972},{"$f":"VLOOKUP(B68,Pilot!A:E,5,0)","v":"M"},{"$f":"VLOOKUP(B68,Pilot!A:F,6,0)","v":""},46,null,1,46,{"$f":"IF(COUNTIF('N PMRg 2024'!B:B,B68)=0,\"-\",COUNTIF('N PMRg 2024'!B:B,B68))","v":"-"},{"$f":"IF(ISERROR(VLOOKUP(B68,'N PMRg 2024'!B:G,6,0)),\"-\",VLOOKUP(B68,'N PMRg 2024'!B:G,6,0))","v":"-"},{"$f":"IF(COUNTIF('N PMČRj 2024'!B:B,B68)=0,\"-\",COUNTIF('N PMČRj 2024'!B:B,B68))","v":"-"},{"$f":"IF(ISERROR(VLOOKUP(B68,'N PMČRj 2024'!B:G,6,0)),\"-\",VLOOKUP(B68,'N PMČRj 2024'!B:G,6,0))","v":"-"}]
[47,"Pavel Koudelka",{"$f":"VLOOKUP(B69,Pilot!A:C,3,0)","v":"Křižanov"},{"$f":"VLOOKUP(B69,Pilot!A:B,2,0)","v":1973},{"$f":"VLOOKUP(B69,Pilot!A:E,5,0)","v":"M"},{"$f":"VLOOKUP(B69,Pilot!A:F,6,0)","v":""},47,null,1,47,{"$f":"IF(COUNTIF('N PMRg 2024'!B:B,B69)=0,\"-\",COUNTIF('N PMRg 2024'!B:B,B69))","v":"-"},{"$f":"IF(ISERROR(VLOOKUP(B69,'N PMRg 2024'!B:G,6,0)),\"-\",VLOOKUP(B69,'N PMRg 2024'!B:G,6,0))","v":"-"},{"$f":"IF(COUNTIF('N PMČRj 2024'!B:B,B69)=0,\"-\",COUNTIF('N PMČRj 2024'!B:B,B69))","v":"-"},{"$f":"IF(ISERROR(VLOOKUP(B69,'N PMČRj 2024'!B:G,6,0)),\"-\",VLOOKUP(B69,'N PMČRj 2024'!B:G,6,0))","v":"-"}]
[48,"Michael Fik",{"$f":"VLOOKUP(B70,Pilot!A:C,3,0)","v":"Strakonice"},{"$f":"VLOOKUP(B70,Pilot!A:B,2,0)","v":1972},{"$f":"VLOOKUP(B70,Pilot!A:E,5,0)","v":"M"},{"$f":"VLOOKUP(B70,Pilot!A:F,6,0)","v":""},48,null,1,48,{"$f":"IF(COUNTIF('N PMRg 2024'!B:B,B70)=0,\"-\",COUNTIF('N PMRg 2024'!B:B,B70))","v":"-"},{"$f":"IF(ISERROR(VLOOKUP(B70,'N PMRg 2024'!B:G,6,0)),\"-\",VLOOKUP(B70,'N PMRg 2024'!B:G,6,0))","v":"-"},{"$f":"IF(COUNTIF('N PMČRj 2024'!B:B,B70)=0,\"-\",COUNTIF('N PMČRj 2024'!B:B,B70))","v":"-"},{"$f":"IF(ISERROR(VLOOKUP(B70,'N PMČRj 2024'!B:G,6,0)),\"-\",VLOOKUP(B70,'N PMČRj 2024'!B:G,6,0))","v":"-"}]
[49,"Jiri Krofta",{"$f":"VLOOKUP(B71,Pilot!A:C,3,0)","v":"Hosín"},{"$f":"VLOOKUP(B71,Pilot!A:B,2,0)","v":1988},{"$f":"VLOOKUP(B71,Pilot!A:E,5,0)","v":"M"},{"$f":"VLOOKUP(B71,Pilot!A:F,6,0)","v":""},49,null,1,49,{"$f":"IF(COUNTIF('N PMRg 2024'!B:B,B71)=0,\"-\",COUNTIF('N PMRg 2024'!B:B,B71))","v":"-"},{"$f":"IF(ISERROR(VLOOKUP(B71,'N PMRg 2024'!B:G,6,0)),\"-\",VLOOKUP(B71,'N PMRg 2024'!B:G,6,0))","v":"-"},{"$f":"IF(COUNTIF('N PMČRj 2024'!B:B,B71)=0,\"-\",COUNTIF('N PMČRj 2024'!B:B,B71))","v":"-"},{"$f":"IF(ISERROR(VLOOKUP(B71,'N PMČRj 2024'!B:G,6,0)),\"-\",VLOOKUP(B71,'N PMČRj 2024'!B:G,6,0))","v":"-"}]
[50,"Michal Vranek",{"$f":"VLOOKUP(B72,Pilot!A:C,3,0)","v":"Hosín"},{"$f":"VLOOKUP(B72,Pilot!A:B,2,0)","v":1993},{"$f":"VLOOKUP(B72,Pilot!A:E,5,0)","v":"M"},{"$f":"VLOOKUP(B72,Pilot!A:F,6,0)","v":""},50,null,1,50,{"$f":"IF(COUNTIF('N PMRg 2024'!B:B,B72)=0,\"-\",COUNTIF('N PMRg 2024'!B:B,B72))","v":"-"},{"$f":"IF(ISERROR(VLOOKUP(B72,'N PMRg 2024'!B:G,6,0)),\"-\",VLOOKUP(B72,'N PMRg 2024'!B:G,6,0))","v":"-"},{"$f":"IF(COUNTIF('N PMČRj 2024'!B:B,B72)=0,\"-\",COUNTIF('N PMČRj 2024'!B:B,B72))","v":"-"},{"$f":"IF(ISERROR(VLOOKUP(B72,'N PMČRj 2024'!B:G,6,0)),\"-\",VLOOKUP(B72,'N PMČRj 2024'!B:G,6,0))","v":"-"}]
[51,"Karel Mares",{"$f":"VLOOKUP(B73,Pilot!A:C,3,0)","v":"Slaný"},{"$f":"VLOOKUP(B73,Pilot!A:B,2,0)","v":1974},{"$f":"VLOOKUP(B73,Pilot!A:E,5,0)","v":"M"},{"$f":"VLOOKUP(B73,Pilot!A:F,6,0)","v":""},51,null,1,51,{"$f":"IF(COUNTIF('N PMRg 2024'!B:B,B73)=0,\"-\",COUNTIF('N PMRg 2024'!B:B,B73))","v":"-"},{"$f":"IF(ISERROR(VLOOKUP(B73,'N PMRg 2024'!B:G,6,0)),\"-\",VLOOKUP(B73,'N PMRg 2024'!B:G,6,0))","v":"-"},{"$f":"IF(COUNTIF('N PMČRj 2024'!B:B,B73)=0,\"-\",COUNTIF('N PMČRj 2024'!B:B,B73))","v":"-"},{"$f":"IF(ISERROR(VLOOKUP(B73,'N PMČRj 2024'!B:G,6,0)),\"-\",VLOOKUP(B73,'N PMČRj 2024'!B:G,6,0))","v":"-"}]
[52,"Miloslav Hulmak",{"$f":"VLOOKUP(B74,Pilot!A:C,3,0)","v":"Hosín"},{"$f":"VLOOKUP(B74,Pilot!A:B,2,0)","v":1963},{"$f":"VLOOKUP(B74,Pilot!A:E,5,0)","v":"M"},{"$f":"VLOOKUP(B74,Pilot!A:F,6,0)","v":""},52,null,1,52,{"$f":"IF(COUNTIF('N PMRg 2024'!B:B,B74)=0,\"-\",COUNTIF('N PMRg 2024'!B:B,B74))","v":"-"},{"$f":"IF(ISERROR(VLOOKUP(B74,'N PMRg 2024'!B:G,6,0)),\"-\",VLOOKUP(B74,'N PMRg 2024'!B:G,6,0))","v":"-"},{"$f":"IF(COUNTIF('N PMČRj 2024'!B:B,B74)=0,\"-\",COUNTIF('N PMČRj 2024'!B:B,B74))","v":"-"},{"$f":"IF(ISERROR(VLOOKUP(B74,'N PMČRj 2024'!B:G,6,0)),\"-\",VLOOKUP(B74,'N PMČRj 2024'!B:G,6,0))","v":"-"}]
[53,"Radek Zima 78",{"$f":"VLOOKUP(B75,Pilot!A:C,3,0)","v":"Hodkovice"},{"$f":"VLOOKUP(B75,Pilot!A:B,2,0)","v":1978},{"$f":"VLOOKUP(B75,Pilot!A:E,5,0)","v":"M"},{"$f":"VLOOKUP(B75,Pilot!A:F,6,0)","v":""},53,null,1,53,{"$f":"IF(COUNTIF('N PMRg 2024'!B:B,B75)=0,\"-\",COUNTIF('N PMRg 2024'!B:B,B75))","v":"-"},{"$f":"IF(ISERROR(VLOOKUP(B75,'N PMRg 2024'!B:G,6,0)),\"-\",VLOOKUP(B75,'N PMRg 2024'!B:G,6,0))","v":"-"},{"$f":"IF(COUNTIF('N PMČRj 2024'!B:B,B75)=0,\"-\",COUNTIF('N PMČRj 2024'!B:B,B75))","v":"-"},{"$f":"IF(ISERROR(VLOOKUP(B75,'N PMČRj 2024'!B:G,6,0)),\"-\",VLOOKUP(B75,'N PMČRj 2024'!B:G,6,0))","v":"-"}]
[54,"Daniel Marek",{"$f":"VLOOKUP(B76,Pilot!A:C,3,0)","v":"Hosín"},{"$f":"VLOOKUP(B76,Pilot!A:B,2,0)","v":1983},{"$f":"VLOOKUP(B76,Pilot!A:E,5,0)","v":"M"},{"$f":"VLOOKUP(B76,Pilot!A:F,6,0)","v":""},{"$f":"A76","v":54},null,1,54,{"$f":"IF(COUNTIF('N PMRg 2024'!B:B,B76)=0,\"-\",COUNTIF('N PMRg 2024'!B:B,B76))","v":"-"},{"$f":"IF(ISERROR(VLOOKUP(B76,'N PMRg 2024'!B:G,6,0)),\"-\",VLOOKUP(B76,'N PMRg 2024'!B:G,6,0))","v":"-"},{"$f":"IF(COUNTIF('N PMČRj 2024'!B:B,B76)=0,\"-\",COUNTIF('N PMČRj 2024'!B:B,B76))","v":"-"},{"$f":"IF(ISERROR(VLOOKUP(B76,'N PMČRj 2024'!B:G,6,0)),\"-\",VLOOKUP(B76,'N PMČRj 2024'!B:G,6,0))","v":"-"}]
[55,"Frantisek Suna",{"$f":"VLOOKUP(B77,Pilot!A:C,3,0)","v":"Hosín"},{"$f":"VLOOKUP(B77,Pilot!A:B,2,0)","v":1983},{"$f":"VLOOKUP(B77,Pilot!A:E,5,0)","v":"M"},{"$f":"VLOOKUP(B77,Pilot!A:F,6,0)","v":""},55,null,1,55,{"$f":"IF(COUNTIF('N PMRg 2024'!B:B,B77)=0,\"-\",COUNTIF('N PMRg 2024'!B:B,B77))","v":"-"},{"$f":"IF(ISERROR(VLOOKUP(B77,'N PMRg 2024'!B:G,6,0)),\"-\",VLOOKUP(B77,'N PMRg 2024'!B:G,6,0))","v":"-"},{"$f":"IF(COUNTIF('N PMČRj 2024'!B:B,B77)=0,\"-\",COUNTIF('N PMČRj 2024'!B:B,B77))","v":"-"},{"$f":"IF(ISERROR(VLOOKUP(B77,'N PMČRj 2024'!B:G,6,0)),\"-\",VLOOKUP(B77,'N PMČRj 2024'!B:G,6,0))","v":"-"}]
[56,"Michal Hemrle",{"$f":"VLOOKUP(B78,Pilot!A:C,3,0)","v":"Česká Lípa"},{"$f":"VLOOKUP(B78,Pilot!A:B,2,0)","v":1974},{"$f":"VLOOKUP(B78,Pilot!A:E,5,0)","v":"M"},{"$f":"VLOOKUP(B78,Pilot!A:F,6,0)","v":""},56,null,1,56,{"$f":"IF(COUNTIF('N PMRg 2024'!B:B,B78)=0,\"-\",COUNTIF('N PMRg 2024'!B:B,B78))","v":"-"},{"$f":"IF(ISERROR(VLOOKUP(B78,'N PMRg 2024'!B:G,6,0)),\"-\",VLOOKUP(B78,'N PMRg 2024'!B:G,6,0))","v":"-"},{"$f":"IF(COUNTIF('N PMČRj 2024'!B:B,B78)=0,\"-\",COUNTIF('N PMČRj 2024'!B:B,B78))","v":"-"},{"$f":"IF(ISERROR(VLOOKUP(B78,'N PMČRj 2024'!B:G,6,0)),\"-\",VLOOKUP(B78,'N PMČRj 2024'!B:G,6,0))","v":"-"}]
[57,"Radoslav Pur",{"$f":"VLOOKUP(B79,Pilot!A:C,3,0)","v":"Hosín"},{"$f":"VLOOKUP(B79,Pilot!A:B,2,0)","v":1973},{"$f":"VLOOKUP(B79,Pilot!A:E,5,0)","v":"M"},{"$f":"VLOOKUP(B79,Pilot!A:F,6,0)","v":""},{"$f":"A79","v":57},null,1,57,{"$f":"IF(COUNTIF('N PMRg 2024'!B:B,B79)=0,\"-\",COUNTIF('N PMRg 2024'!B:B,B79))","v":"-"},{"$f":"IF(ISERROR(VLOOKUP(B79,'N PMRg 2024'!B:G,6,0)),\"-\",VLOOKUP(B79,'N PMRg 2024'!B:G,6,0))","v":"-"},{"$f":"IF(COUNTIF('N PMČRj 2024'!B:B,B79)=0,\"-\",COUNTIF('N PMČRj 2024'!B:B,B79))","v":"-"},{"$f":"IF(ISERROR(VLOOKUP(B79,'N PMČRj 2024'!B:G,6,0)),\"-\",VLOOKUP(B79,'N PMČRj 2024'!B:G,6,0))","v":"-"}]
[58,"Jiri Holcman",{"$f":"VLOOKUP(B80,Pilot!A:C,3,0)","v":"Hosín"},{"$f":"VLOOKUP(B80,Pilot!A:B,2,0)","v":1976},{"$f":"VLOOKUP(B80,Pilot!A:E,5,0)","v":"M"},{"$f":"VLOOKUP(B80,Pilot!A:F,6,0)","v":""},58,null,1,58,{"$f":"IF(COUNTIF('N PMRg 2024'!B:B,B80)=0,\"-\",COUNTIF('N PMRg 2024'!B:B,B80))","v":"-"},{"$f":"IF(ISERROR(VLOOKUP(B80,'N PMRg 2024'!B:G,6,0)),\"-\",VLOOKUP(B80,'N PMRg 2024'!B:G,6,0))","v":"-"},{"$f":"IF(COUNTIF('N PMČRj 2024'!B:B,B80)=0,\"-\",COUNTIF('N PMČRj 2024'!B:B,B80))","v":"-"},{"$f":"IF(ISERROR(VLOOKUP(B80,'N PMČRj 2024'!B:G,6,0)),\"-\",VLOOKUP(B80,'N PMČRj 2024'!B:G,6,0))","v":"-"}]
[59,"Tomas Vaclavik",{"$f":"VLOOKUP(B81,Pilot!A:C,3,0)","v":"Hosín"},{"$f":"VLOOKUP(B81,Pilot!A:B,2,0)","v":1974},{"$f":"VLOOKUP(B81,Pilot!A:E,5,0)","v":"M"},{"$f":"VLOOKUP(B81,Pilot!A:F,6,0)","v":""},59,null,1,59,{"$f":"IF(COUNTIF('N PMRg 2024'!B:B,B81)=0,\"-\",COUNTIF('N PMRg 2024'!B:B,B81))","v":"-"},{"$f":"IF(ISERROR(VLOOKUP(B81,'N PMRg 2024'!B:G,6,0)),\"-\",VLOOKUP(B81,'N PMRg 2024'!B:G,6,0))","v":"-"},{"$f":"IF(COUNTIF('N PMČRj 2024'!B:B,B81)=0,\"-\",COUNTIF('N PMČRj 2024'!B:B,B81))","v":"-"},{"$f":"IF(ISERROR(VLOOKUP(B81,'N PMČRj 2024'!B:G,6,0)),\"-\",VLOOKUP(B81,'N PMČRj 2024'!B:G,6,0))","v":"-"}]
[60,"Petr Sochor",{"$f":"VLOOKUP(B82,Pilot!A:C,3,0)","v":"Hosín"},{"$f":"VLOOKUP(B82,Pilot!A:B,2,0)","v":1986},{"$f":"VLOOKUP(B82,Pilot!A:E,5,0)","v":"M"},{"$f":"VLOOKUP(B82,Pilot!A:F,6,0)","v":""},60,null,1,60,{"$f":"IF(COUNTIF('N PMRg 2024'!B:B,B82)=0,\"-\",COUNTIF('N PMRg 2024'!B:B,B82))","v":"-"},{"$f":"IF(ISERROR(VLOOKUP(B82,'N PMRg 2024'!B:G,6,0)),\"-\",VLOOKUP(B82,'N PMRg 2024'!B:G,6,0))","v":"-"},{"$f":"IF(COUNTIF('N PMČRj 2024'!B:B,B82)=0,\"-\",COUNTIF('N PMČRj 2024'!B:B,B82))","v":"-"},{"$f":"IF(ISERROR(VLOOKUP(B82,'N PMČRj 2024'!B:G,6,0)),\"-\",VLOOKUP(B82,'N PMČRj 2024'!B:G,6,0))","v":"-"}]
[null,"Ostatní soutěžící z posledního platného Všeobecného žebříku v pořadí podle umístění, do naplnění celkového počtu 80 nominovaných dle 6.6.5. (+ 10 náhradníků):"]
[{"$f":"MAX(A9:A83)+1","v":61},"Jan Kotan",{"$f":"VLOOKUP(B84,Pilot!A:C,3,0)","v":"Letňany"},{"$f":"VLOOKUP(B84,Pilot!A:B,2,0)","v":1982},{"$f":"VLOOKUP(B84,Pilot!A:E,5,0)","v":"M"},{"$f":"VLOOKUP(B84,Pilot!A:F,6,0)","v":""},61,null,{"$f":"COUNTIF(B:B,B84)","v":1},{"$f":"IF(ISERROR(VLOOKUP(B84,B:G,6,0)),\"-\",VLOOKUP(B84,B:G,6,0))","v":61},{"$f":"IF(COUNTIF('N PMRg 2024'!B:B,B84)=0,\"-\",COUNTIF('N PMRg 2024'!B:B,B84))","v":"-"},{"$f":"IF(ISERROR(VLOOKUP(B84,'N PMRg 2024'!B:G,6,0)),\"-\",VLOOKUP(B84,'N PMRg 2024'!B:G,6,0))","v":"-"},{"$f":"IF(COUNTIF('N PMČRj 2024'!B:B,B84)=0,\"-\",COUNTIF('N PMČRj 2024'!B:B,B84))","v":"-"},{"$f":"IF(ISERROR(VLOOKUP(B84,'N PMČRj 2024'!B:G,6,0)),\"-\",VLOOKUP(B84,'N PMČRj 2024'!B:G,6,0))","v":"-"}]
[{"$f":"A84+1","v":62},"Petr Hotovy",{"$f":"VLOOKUP(B85,Pilot!A:C,3,0)","v":"Česká Lípa"},{"$f":"VLOOKUP(B85,Pilot!A:B,2,0)","v":1958},{"$f":"VLOOKUP(B85,Pilot!A:E,5,0)","v":"M"},{"$f":"VLOOKUP(B85,Pilot!A:F,6,0)","v":""},{"$f":"A85","v":62},null,1,62,{"$f":"IF(COUNTIF('N PMRg 2024'!B:B,B85)=0,\"-\",COUNTIF('N PMRg 2024'!B:B,B85))","v":"-"},{"$f":"IF(ISERROR(VLOOKUP(B85,'N PMRg 2024'!B:G,6,0)),\"-\",VLOOKUP(B85,'N PMRg 2024'!B:G,6,0))","v":"-"},{"$f":"IF(COUNTIF('N PMČRj 2024'!B:B,B85)=0,\"-\",COUNTIF('N PMČRj 2024'!B:B,B85))","v":"-"},{"$f":"IF(ISERROR(VLOOKUP(B85,'N PMČRj 2024'!B:G,6,0)),\"-\",VLOOKUP(B85,'N PMČRj 2024'!B:G,6,0))","v":"-"}]
[63,"Radek Hybl",{"$f":"VLOOKUP(B86,Pilot!A:C,3,0)","v":"Šumperk"},{"$f":"VLOOKUP(B86,Pilot!A:B,2,0)","v":1980},{"$f":"VLOOKUP(B86,Pilot!A:E,5,0)","v":"M"},{"$f":"VLOOKUP(B86,Pilot!A:F,6,0)","v":""},63,null,1,63,{"$f":"IF(COUNTIF('N PMRg 2024'!B:B,B86)=0,\"-\",COUNTIF('N PMRg 2024'!B:B,B86))","v":"-"},{"$f":"IF(ISERROR(VLOOKUP(B86,'N PMRg 2024'!B:G,6,0)),\"-\",VLOOKUP(B86,'N PMRg 2024'!B:G,6,0))","v":"-"},{"$f":"IF(COUNTIF('N PMČRj 2024'!B:B,B86)=0,\"-\",COUNTIF('N PMČRj 2024'!B:B,B86))","v":"-"},{"$f":"IF(ISERROR(VLOOKUP(B86,'N PMČRj 2024'!B:G,6,0)),\"-\",VLOOKUP(B86,'N PMČRj 2024'!B:G,6,0))","v":"-"}]
[64,"Josef Novotny",{"$f":"VLOOKUP(B87,Pilot!A:C,3,0)","v":"Přibyslav"},{"$f":"VLOOKUP(B87,Pilot!A:B,2,0)","v":1983},{"$f":"VLOOKUP(B87,Pilot!A:E,5,0)","v":"M"},{"$f":"VLOOKUP(B87,Pilot!A:F,6,0)","v":""},64,null,1,64,{"$f":"IF(COUNTIF('N PMRg 2024'!B:B,B87)=0,\"-\",COUNTIF('N PMRg 2024'!B:B,B87))","v":"-"},{"$f":"IF(ISERROR(VLOOKUP(B87,'N PMRg 2024'!B:G,6,0)),\"-\",VLOOKUP(B87,'N PMRg 2024'!B:G,6,0))","v":"-"},{"$f":"IF(COUNTIF('N PMČRj 2024'!B:B,B87)=0,\"-\",COUNTIF('N PMČRj 2024'!B:B,B87))","v":"-"},{"$f":"IF(ISERROR(VLOOKUP(B87,'N PMČRj 2024'!B:G,6,0)),\"-\",VLOOKUP(B87,'N PMČRj 2024'!B:G,6,0))","v":"-"}]
[65,"Jan Boruvka",{"$f":"VLOOKUP(B88,Pilot!A:C,3,0)","v":"Jičín"},{"$f":"VLOOKUP(B88,Pilot!A:B,2,0)","v":1984},{"$f":"VLOOKUP(B88,Pilot!A:E,5,0)","v":"M"},{"$f":"VLOOKUP(B88,Pilot!A:F,6,0)","v":""},{"$f":"A88","v":65},null,1,65,{"$f":"IF(COUNTIF('N PMRg 2024'!B:B,B88)=0,\"-\",COUNTIF('N PMRg 2024'!B:B,B88))","v":"-"},{"$f":"IF(ISERROR(VLOOKUP(B88,'N PMRg 2024'!B:G,6,0)),\"-\",VLOOKUP(B88,'N PMRg 2024'!B:G,6,0))","v":"-"},{"$f":"IF(COUNTIF('N PMČRj 2024'!B:B,B88)=0,\"-\",COUNTIF('N PMČRj 2024'!B:B,B88))","v":"-"},{"$f":"IF(ISERROR(VLOOKUP(B88,'N PMČRj 2024'!B:G,6,0)),\"-\",VLOOKUP(B88,'N PMČRj 2024'!B:G,6,0))","v":"-"}]
[66,"Frantisek Vancura",{"$f":"VLOOKUP(B89,Pilot!A:C,3,0)","v":"Hranice"},{"$f":"VLOOKUP(B89,Pilot!A:B,2,0)","v":1966},{"$f":"VLOOKUP(B89,Pilot!A:E,5,0)","v":"M"},{"$f":"VLOOKUP(B89,Pilot!A:F,6,0)","v":""},{"$f":"A89","v":66},null,1,66,{"$f":"IF(COUNTIF('N PMRg 2024'!B:B,B89)=0,\"-\",COUNTIF('N PMRg 2024'!B:B,B89))","v":"-"},{"$f":"IF(ISERROR(VLOOKUP(B89,'N PMRg 2024'!B:G,6,0)),\"-\",VLOOKUP(B89,'N PMRg 2024'!B:G,6,0))","v":"-"},{"$f":"IF(COUNTIF('N PMČRj 2024'!B:B,B89)=0,\"-\",COUNTIF('N PMČRj 2024'!B:B,B89))","v":"-"},{"$f":"IF(ISERROR(VLOOKUP(B89,'N PMČRj 2024'!B:G,6,0)),\"-\",VLOOKUP(B89,'N PMČRj 2024'!B:G,6,0))","v":"-"}]
[67,"Ondrej Bordovsky",{"$f":"VLOOKUP(B90,Pilot!A:C,3,0)","v":"Krnov"},{"$f":"VLOOKUP(B90,Pilot!A:B,2,0)","v":1983},{"$f":"VLOOKUP(B90,Pilot!A:E,5,0)","v":"M"},{"$f":"VLOOKUP(B90,Pilot!A:F,6,0)","v":""},{"$f":"A90","v":67},null,1,67,{"$f":"IF(COUNTIF('N PMRg 2024'!B:B,B90)=0,\"-\",COUNTIF('N PMRg 2024'!B:B,B90))","v":"-"},{"$f":"IF(ISERROR(VLOOKUP(B90,'N PMRg 2024'!B:G,6,0)),\"-\",VLOOKUP(B90,'N PMRg 2024'!B:G,6,0))","v":"-"},{"$f":"IF(COUNTIF('N PMČRj 2024'!B:B,B90)=0,\"-\",COUNTIF('N PMČRj 2024'!B:B,B90))","v":"-"},{"$f":"IF(ISERROR(VLOOKUP(B90,'N PMČRj 2024'!B:G,6,0)),\"-\",VLOOKUP(B90,'N PMČRj 2024'!B:G,6,0))","v":"-"}]
[68,"Ondrej Dupal",{"$f":"VLOOKUP(B91,Pilot!A:C,3,0)","v":"GAC Benešov"},{"$f":"VLOOKUP(B91,Pilot!A:B,2,0)","v":1966},{"$f":"VLOOKUP(B91,Pilot!A:E,5,0)","v":"M"},{"$f":"VLOOKUP(B91,Pilot!A:F,6,0)","v":""},68,null,1,68,{"$f":"IF(COUNTIF('N PMRg 2024'!B:B,B91)=0,\"-\",COUNTIF('N PMRg 2024'!B:B,B91))","v":"-"},{"$f":"IF(ISERROR(VLOOKUP(B91,'N PMRg 2024'!B:G,6,0)),\"-\",VLOOKUP(B91,'N PMRg 2024'!B:G,6,0))","v":"-"},{"$f":"IF(COUNTIF('N PMČRj 2024'!B:B,B91)=0,\"-\",COUNTIF('N PMČRj 2024'!B:B,B91))","v":"-"},{"$f":"IF(ISERROR(VLOOKUP(B91,'N PMČRj 2024'!B:G,6,0)),\"-\",VLOOKUP(B91,'N PMČRj 2024'!B:G,6,0))","v":"-"}]
[69,"Petr Koutny",{"$f":"VLOOKUP(B92,Pilot!A:C,3,0)","v":"Křižanov"},{"$f":"VLOOKUP(B92,Pilot!A:B,2,0)","v":1971},{"$f":"VLOOKUP(B92,Pilot!A:E,5,0)","v":"M"},{"$f":"VLOOKUP(B92,Pilot!A:F,6,0)","v":""},69,null,1,69,{"$f":"IF(COUNTIF('N PMRg 2024'!B:B,B92)=0,\"-\",COUNTIF('N PMRg 2024'!B:B,B92))","v":"-"},{"$f":"IF(ISERROR(VLOOKUP(B92,'N PMRg 2024'!B:G,6,0)),\"-\",VLOOKUP(B92,'N PMRg 2024'!B:G,6,0))","v":"-"},{"$f":"IF(COUNTIF('N PMČRj 2024'!B:B,B92)=0,\"-\",COUNTIF('N PMČRj 2024'!B:B,B92))","v":"-"},{"$f":"IF(ISERROR(VLOOKUP(B92,'N PMČRj 2024'!B:G,6,0)),\"-\",VLOOKUP(B92,'N PMČRj 2024'!B:G,6,0))","v":"-"}]
[70,"Ivan Harasta 65",{"$f":"VLOOKUP(B93,Pilot!A:C,3,0)","v":"Toužim"},{"$f":"VLOOKUP(B93,Pilot!A:B,2,0)","v":1965},{"$f":"VLOOKUP(B93,Pilot!A:E,5,0)","v":"M"},{"$f":"VLOOKUP(B93,Pilot!A:F,6,0)","v":""},70,null,1,70,{"$f":"IF(COUNTIF('N PMRg 2024'!B:B,B93)=0,\"-\",COUNTIF('N PMRg 2024'!B:B,B93))","v":"-"},{"$f":"IF(ISERROR(VLOOKUP(B93,'N PMRg 2024'!B:G,6,0)),\"-\",VLOOKUP(B93,'N PMRg 2024'!B:G,6,0))","v":"-"},{"$f":"IF(COUNTIF('N PMČRj 2024'!B:B,B93)=0,\"-\",COUNTIF('N PMČRj 2024'!B:B,B93))","v":"-"},{"$f":"IF(ISERROR(VLOOKUP(B93,'N PMČRj 2024'!B:G,6,0)),\"-\",VLOOKUP(B93,'N PMČRj 2024'!B:G,6,0))","v":"-"}]
[71,"Jindrich Svorc",{"$f":"VLOOKUP(B94,Pilot!A:C,3,0)","v":"Letňany"},{"$f":"VLOOKUP(B94,Pilot!A:B,2,0)","v":1978},{"$f":"VLOOKUP(B94,Pilot!A:E,5,0)","v":"M"},{"$f":"VLOOKUP(B94,Pilot!A:F,6,0)","v":""},71,null,1,71,{"$f":"IF(COUNTIF('N PMRg 2024'!B:B,B94)=0,\"-\",COUNTIF('N PMRg 2024'!B:B,B94))","v":"-"},{"$f":"IF(ISERROR(VLOOKUP(B94,'N PMRg 2024'!B:G,6,0)),\"-\",VLOOKUP(B94,'N PMRg 2024'!B:G,6,0))","v":"-"},{"$f":"IF(COUNTIF('N PMČRj 2024'!B:B,B94)=0,\"-\",COUNTIF('N PMČRj 2024'!B:B,B94))","v":"-"},{"$f":"IF(ISERROR(VLOOKUP(B94,'N PMČRj 2024'!B:G,6,0)),\"-\",VLOOKUP(B94,'N PMČRj 2024'!B:G,6,0))","v":"-"}]
[72,"Jan Ratz",{"$f":"VLOOKUP(B95,Pilot!A:C,3,0)","v":"Zbraslavice"},{"$f":"VLOOKUP(B95,Pilot!A:B,2,0)","v":1987},{"$f":"VLOOKUP(B95,Pilot!A:E,5,0)","v":"M"},{"$f":"VLOOKUP(B95,Pilot!A:F,6,0)","v":""},72,null,1,72,{"$f":"IF(COUNTIF('N PMRg 2024'!B:B,B95)=0,\"-\",COUNTIF('N PMRg 2024'!B:B,B95))","v":"-"},{"$f":"IF(ISERROR(VLOOKUP(B95,'N PMRg 2024'!B:G,6,0)),\"-\",VLOOKUP(B95,'N PMRg 2024'!B:G,6,0))","v":"-"},{"$f":"IF(COUNTIF('N PMČRj 2024'!B:B,B95)=0,\"-\",COUNTIF('N PMČRj 2024'!B:B,B95))","v":"-"},{"$f":"IF(ISERROR(VLOOKUP(B95,'N PMČRj 2024'!B:G,6,0)),\"-\",VLOOKUP(B95,'N PMČRj 2024'!B:G,6,0))","v":"-"}]
[73,"Zdenek Boruvka 86",{"$f":"VLOOKUP(B96,Pilot!A:C,3,0)","v":"Jičín"},{"$f":"VLOOKUP(B96,Pilot!A:B,2,0)","v":1986},{"$f":"VLOOKUP(B96,Pilot!A:E,5,0)","v":"M"},{"$f":"VLOOKUP(B96,Pilot!A:F,6,0)","v":""},73,null,1,73,{"$f":"IF(COUNTIF('N PMRg 2024'!B:B,B96)=0,\"-\",COUNTIF('N PMRg 2024'!B:B,B96))","v":"-"},{"$f":"IF(ISERROR(VLOOKUP(B96,'N PMRg 2024'!B:G,6,0)),\"-\",VLOOKUP(B96,'N PMRg 2024'!B:G,6,0))","v":"-"},{"$f":"IF(COUNTIF('N PMČRj 2024'!B:B,B96)=0,\"-\",COUNTIF('N PMČRj 2024'!B:B,B96))","v":"-"},{"$f":"IF(ISERROR(VLOOKUP(B96,'N PMČRj 2024'!B:G,6,0)),\"-\",VLOOKUP(B96,'N PMČRj 2024'!B:G,6,0))","v":"-"}]
[74,"Michal Cechmanek",{"$f":"VLOOKUP(B97,Pilot!A:C,3,0)","v":"Kroměříž"},{"$f":"VLOOKUP(B97,Pilot!A:B,2,0)","v":1978},{"$f":"VLOOKUP(B97,Pilot!A:E,5,0)","v":"M"},{"$f":"VLOOKUP(B97,Pilot!A:F,6,0)","v":""},74,null,1,74,{"$f":"IF(COUNTIF('N PMRg 2024'!B:B,B97)=0,\"-\",COUNTIF('N PMRg 2024'!B:B,B97))","v":"-"},{"$f":"IF(ISERROR(VLOOKUP(B97,'N PMRg 2024'!B:G,6,0)),\"-\",VLOOKUP(B97,'N PMRg 2024'!B:G,6,0))","v":"-"},{"$f":"IF(COUNTIF('N PMČRj 2024'!B:B,B97)=0,\"-\",COUNTIF('N PMČRj 2024'!B:B,B97))","v":"-"},{"$f":"IF(ISERROR(VLOOKUP(B97,'N PMČRj 2024'!B:G,6,0)),\"-\",VLOOKUP(B97,'N PMČRj 2024'!B:G,6,0))","v":"-"}]
[75,"David Sachl",{"$f":"VLOOKUP(B98,Pilot!A:C,3,0)","v":"Kralupy"},{"$f":"VLOOKUP(B98,Pilot!A:B,2,0)","v":1978},{"$f":"VLOOKUP(B98,Pilot!A:E,5,0)","v":"M"},{"$f":"VLOOKUP(B98,Pilot!A:F,6,0)","v":""},75,null,1,75,{"$f":"IF(COUNTIF('N PMRg 2024'!B:B,B98)=0,\"-\",COUNTIF('N PMRg 2024'!B:B,B98))","v":"-"},{"$f":"IF(ISERROR(VLOOKUP(B98,'N PMRg 2024'!B:G,6,0)),\"-\",VLOOKUP(B98,'N PMRg 2024'!B:G,6,0))","v":"-"},{"$f":"IF(COUNTIF('N PMČRj 2024'!B:B,B98)=0,\"-\",COUNTIF('N PMČRj 2024'!B:B,B98))","v":"-"},{"$f":"IF(ISERROR(VLOOKUP(B98,'N PMČRj 2024'!B:G,6,0)),\"-\",VLOOKUP(B98,'N PMČRj 2024'!B:G,6,0))","v":"-"}]
[76,"Marek Blatak",{"$f":"VLOOKUP(B99,Pilot!A:C,3,0)","v":"Šumperk"},{"$f":"VLOOKUP(B99,Pilot!A:B,2,0)","v":1969},{"$f":"VLOOKUP(B99,Pilot!A:E,5,0)","v":"M"},{"$f":"VLOOKUP(B99,Pilot!A:F,6,0)","v":""},76,null,1,76,{"$f":"IF(COUNTIF('N PMRg 2024'!B:B,B99)=0,\"-\",COUNTIF('N PMRg 2024'!B:B,B99))","v":"-"},{"$f":"IF(ISERROR(VLOOKUP(B99,'N PMRg 2024'!B:G,6,0)),\"-\",VLOOKUP(B99,'N PMRg 2024'!B:G,6,0))","v":"-"},{"$f":"IF(COUNTIF('N PMČRj 2024'!B:B,B99)=0,\"-\",COUNTIF('N PMČRj 2024'!B:B,B99))","v":"-"},{"$f":"IF(ISERROR(VLOOKUP(B99,'N PMČRj 2024'!B:G,6,0)),\"-\",VLOOKUP(B99,'N PMČRj 2024'!B:G,6,0))","v":"-"}]
[77,"Rene Hudak",{"$f":"VLOOKUP(B100,Pilot!A:C,3,0)","v":"Kunovice"},{"$f":"VLOOKUP(B100,Pilot!A:B,2,0)","v":1972},{"$f":"VLOOKUP(B100,Pilot!A:E,5,0)","v":"M"},{"$f":"VLOOKUP(B100,Pilot!A:F,6,0)","v":""},77,null,1,77,{"$f":"IF(COUNTIF('N PMRg 2024'!B:B,B100)=0,\"-\",COUNTIF('N PMRg 2024'!B:B,B100))","v":"-"},{"$f":"IF(ISERROR(VLOOKUP(B100,'N PMRg 2024'!B:G,6,0)),\"-\",VLOOKUP(B100,'N PMRg 2024'!B:G,6,0))","v":"-"},{"$f":"IF(COUNTIF('N PMČRj 2024'!B:B,B100)=0,\"-\",COUNTIF('N PMČRj 2024'!B:B,B100))","v":"-"},{"$f":"IF(ISERROR(VLOOKUP(B100,'N PMČRj 2024'!B:G,6,0)),\"-\",VLOOKUP(B100,'N PMČRj 2024'!B:G,6,0))","v":"-"}]
[78,"Josef Novak",{"$f":"VLOOKUP(B101,Pilot!A:C,3,0)","v":"Kunovice"},{"$f":"VLOOKUP(B101,Pilot!A:B,2,0)","v":1981},{"$f":"VLOOKUP(B101,Pilot!A:E,5,0)","v":"M"},{"$f":"VLOOKUP(B101,Pilot!A:F,6,0)","v":""},78,null,1,78,{"$f":"IF(COUNTIF('N PMRg 2024'!B:B,B101)=0,\"-\",COUNTIF('N PMRg 2024'!B:B,B101))","v":"-"},{"$f":"IF(ISERROR(VLOOKUP(B101,'N PMRg 2024'!B:G,6,0)),\"-\",VLOOKUP(B101,'N PMRg 2024'!B:G,6,0))","v":"-"},{"$f":"IF(COUNTIF('N PMČRj 2024'!B:B,B101)=0,\"-\",COUNTIF('N PMČRj 2024'!B:B,B101))","v":"-"},{"$f":"IF(ISERROR(VLOOKUP(B101,'N PMČRj 2024'!B:G,6,0)),\"-\",VLOOKUP(B101,'N PMČRj 2024'!B:G,6,0))","v":"-"}]
[79,"Martin Ficnar",{"$f":"VLOOKUP(B102,Pilot!A:C,3,0)","v":"Šumperk"},{"$f":"VLOOKUP(B102,Pilot!A:B,2,0)","v":1971},{"$f":"VLOOKUP(B102,Pilot!A:E,5,0)","v":"M"},{"$f":"VLOOKUP(B102,Pilot!A:F,6,0)","v":""},79,null,1,79,{"$f":"IF(COUNTIF('N PMRg 2024'!B:B,B102)=0,\"-\",COUNTIF('N PMRg 2024'!B:B,B102))","v":"-"},{"$f":"IF(ISERROR(VLOOKUP(B102,'N PMRg 2024'!B:G,6,0)),\"-\",VLOOKUP(B102,'N PMRg 2024'!B:G,6,0))","v":"-"},{"$f":"IF(COUNTIF('N PMČRj 2024'!B:B,B102)=0,\"-\",COUNTIF('N PMČRj 2024'!B:B,B102))","v":"-"},{"$f":"IF(ISERROR(VLOOKUP(B102,'N PMČRj 2024'!B:G,6,0)),\"-\",VLOOKUP(B102,'N PMČRj 2024'!B:G,6,0))","v":"-"}]
[80,"Jiri Steiger",{"$f":"VLOOKUP(B103,Pilot!A:C,3,0)","v":"Olomouc"},{"$f":"VLOOKUP(B103,Pilot!A:B,2,0)","v":1969},{"$f":"VLOOKUP(B103,Pilot!A:E,5,0)","v":"M"},{"$f":"VLOOKUP(B103,Pilot!A:F,6,0)","v":""},80,null,1,80,{"$f":"IF(COUNTIF('N PMRg 2024'!B:B,B103)=0,\"-\",COUNTIF('N PMRg 2024'!B:B,B103))","v":"-"},{"$f":"IF(ISERROR(VLOOKUP(B103,'N PMRg 2024'!B:G,6,0)),\"-\",VLOOKUP(B103,'N PMRg 2024'!B:G,6,0))","v":"-"},{"$f":"IF(COUNTIF('N PMČRj 2024'!B:B,B103)=0,\"-\",COUNTIF('N PMČRj 2024'!B:B,B103))","v":"-"},{"$f":"IF(ISERROR(VLOOKUP(B103,'N PMČRj 2024'!B:G,6,0)),\"-\",VLOOKUP(B103,'N PMČRj 2024'!B:G,6,0))","v":"-"}]
["N1","Jan Dersak 69",{"$f":"VLOOKUP(B104,Pilot!A:C,3,0)","v":"Kralupy"},{"$f":"VLOOKUP(B104,Pilot!A:B,2,0)","v":1969},{"$f":"VLOOKUP(B104,Pilot!A:E,5,0)","v":"M"},{"$f":"VLOOKUP(B104,Pilot!A:F,6,0)","v":""},{"$f":"A104","v":"N1"},null,1,"N1",{"$f":"IF(COUNTIF('N PMRg 2024'!B:B,B104)=0,\"-\",COUNTIF('N PMRg 2024'!B:B,B104))","v":"-"},{"$f":"IF(ISERROR(VLOOKUP(B104,'N PMRg 2024'!B:G,6,0)),\"-\",VLOOKUP(B104,'N PMRg 2024'!B:G,6,0))","v":"-"},{"$f":"IF(COUNTIF('N PMČRj 2024'!B:B,B104)=0,\"-\",COUNTIF('N PMČRj 2024'!B:B,B104))","v":"-"},{"$f":"IF(ISERROR(VLOOKUP(B104,'N PMČRj 2024'!B:G,6,0)),\"-\",VLOOKUP(B104,'N PMČRj 2024'!B:G,6,0))","v":"-"}]
["N2","Ivan Tvrdik",{"$f":"VLOOKUP(B105,Pilot!A:C,3,0)","v":"Letňany"},{"$f":"VLOOKUP(B105,Pilot!A:B,2,0)","v":1997},{"$f":"VLOOKUP(B105,Pilot!A:E,5,0)","v":"M"},{"$f":"VLOOKUP(B105,Pilot!A:F,6,0)","v":""},"N2",null,1,"N2",{"$f":"IF(COUNTIF('N PMRg 2024'!B:B,B105)=0,\"-\",COUNTIF('N PMRg 2024'!B:B,B105))","v":"-"},{"$f":"IF(ISERROR(VLOOKUP(B105,'N PMRg 2024'!B:G,6,0)),\"-\",VLOOKUP(B105,'N PMRg 2024'!B:G,6,0))","v":"-"},{"$f":"IF(COUNTIF('N PMČRj 2024'!B:B,B105)=0,\"-\",COUNTIF('N PMČRj 2024'!B:B,B105))","v":"-"},{"$f":"IF(ISERROR(VLOOKUP(B105,'N PMČRj 2024'!B:G,6,0)),\"-\",VLOOKUP(B105,'N PMČRj 2024'!B:G,6,0))","v":"-"}]
["N3","Eduard Niko",{"$f":"VLOOKUP(B106,Pilot!A:C,3,0)","v":"Zbraslavice"},{"$f":"VLOOKUP(B106,Pilot!A:B,2,0)","v":1988},{"$f":"VLOOKUP(B106,Pilot!A:E,5,0)","v":"M"},{"$f":"VLOOKUP(B106,Pilot!A:F,6,0)","v":""},"N3",null,1,"N3",{"$f":"IF(COUNTIF('N PMRg 2024'!B:B,B106)=0,\"-\",COUNTIF('N PMRg 2024'!B:B,B106))","v":"-"},{"$f":"IF(ISERROR(VLOOKUP(B106,'N PMRg 2024'!B:G,6,0)),\"-\",VLOOKUP(B106,'N PMRg 2024'!B:G,6,0))","v":"-"},{"$f":"IF(COUNTIF('N PMČRj 2024'!B:B,B106)=0,\"-\",COUNTIF('N PMČRj 2024'!B:B,B106))","v":"-"},{"$f":"IF(ISERROR(VLOOKUP(B106,'N PMČRj 2024'!B:G,6,0)),\"-\",VLOOKUP(B106,'N PMČRj 2024'!B:G,6,0))","v":"-"}]
["N4","Vratislav Sram",{"$f":"VLOOKUP(B107,Pilot!A:C,3,0)","v":"Broumov"},{"$f":"VLOOKUP(B107,Pilot!A:B,2,0)","v":1966},{"$f":"VLOOKUP(B107,Pilot!A:E,5,0)","v":"M"},{"$f":"VLOOKUP(B107,Pilot!A:F,6,0)","v":""},"N4",null,1,"N4",{"$f":"IF(COUNTIF('N PMRg 2024'!B:B,B107)=0,\"-\",COUNTIF('N PMRg 2024'!B:B,B107))","v":"-"},{"$f":"IF(ISERROR(VLOOKUP(B107,'N PMRg 2024'!B:G,6,0)),\"-\",VLOOKUP(B107,'N PMRg 2024'!B:G,6,0))","v":"-"},{"$f":"IF(COUNTIF('N PMČRj 2024'!B:B,B107)=0,\"-\",COUNTIF('N PMČRj 2024'!B:B,B107))","v":"-"},{"$f":"IF(ISERROR(VLOOKUP(B107,'N PMČRj 2024'!B:G,6,0)),\"-\",VLOOKUP(B107,'N PMČRj 2024'!B:G,6,0))","v":"-"}]
["N5","Martin Urner",{"$f":"VLOOKUP(B108,Pilot!A:C,3,0)","v":"Letňany"},{"$f":"VLOOKUP(B108,Pilot!A:B,2,0)","v":1974},{"$f":"VLOOKUP(B108,Pilot!A:E,5,0)","v":"M"},{"$f":"VLOOKUP(B108,Pilot!A:F,6,0)","v":""},"N5",null,1,"N5",{"$f":"IF(COUNTIF('N PMRg 2024'!B:B,B108)=0,\"-\",COUNTIF('N PMRg 2024'!B:B,B108))","v":"-"},{"$f":"IF(ISERROR(VLOOKUP(B108,'N PMRg 2024'!B:G,6,0)),\"-\",VLOOKUP(B108,'N PMRg 2024'!B:G,6,0))","v":"-"},{"$f":"IF(COUNTIF('N PMČRj 2024'!B:B,B108)=0,\"-\",COUNTIF('N PMČRj 2024'!B:B,B108))","v":"-"},{"$f":"IF(ISERROR(VLOOKUP(B108,'N PMČRj 2024'!B:G,6,0)),\"-\",VLOOKUP(B108,'N PMČRj 2024'!B:G,6,0))","v":"-"}]
["N6","Jaroslav Buryan",{"$f":"VLOOKUP(B109,Pilot!A:C,3,0)","v":"Zábřeh"},{"$f":"VLOOKUP(B109,Pilot!A:B,2,0)","v":1953},{"$f":"VLOOKUP(B109,Pilot!A:E,5,0)","v":"M"},{"$f":"VLOOKUP(B109,Pilot!A:F,6,0)","v":""},"N6",null,1,"N6",{"$f":"IF(COUNTIF('N PMRg 2024'!B:B,B109)=0,\"-\",COUNTIF('N PMRg 2024'!B:B,B109))","v":"-"},{"$f":"IF(ISERROR(VLOOKUP(B109,'N PMRg 2024'!B:G,6,0)),\"-\",VLOOKUP(B109,'N PMRg 2024'!B:G,6,0))","v":"-"},{"$f":"IF(COUNTIF('N PMČRj 2024'!B:B,B109)=0,\"-\",COUNTIF('N PMČRj 2024'!B:B,B109))","v":"-"},{"$f":"IF(ISERROR(VLOOKUP(B109,'N PMČRj 2024'!B:G,6,0)),\"-\",VLOOKUP(B109,'N PMČRj 2024'!B:G,6,0))","v":"-"}]
["N7","Jan Horak",{"$f":"VLOOKUP(B110,Pilot!A:C,3,0)","v":"Zbraslavice"},{"$f":"VLOOKUP(B110,Pilot!A:B,2,0)","v":1971},{"$f":"VLOOKUP(B110,Pilot!A:E,5,0)","v":"M"},{"$f":"VLOOKUP(B110,Pilot!A:F,6,0)","v":""},"N7",null,1,"N7",{"$f":"IF(COUNTIF('N PMRg 2024'!B:B,B110)=0,\"-\",COUNTIF('N PMRg 2024'!B:B,B110))","v":"-"},{"$f":"IF(ISERROR(VLOOKUP(B110,'N PMRg 2024'!B:G,6,0)),\"-\",VLOOKUP(B110,'N PMRg 2024'!B:G,6,0))","v":"-"},{"$f":"IF(COUNTIF('N PMČRj 2024'!B:B,B110)=0,\"-\",COUNTIF('N PMČRj 2024'!B:B,B110))","v":"-"},{"$f":"IF(ISERROR(VLOOKUP(B110,'N PMČRj 2024'!B:G,6,0)),\"-\",VLOOKUP(B110,'N PMČRj 2024'!B:G,6,0))","v":"-"}]
["N8","Zdenek Balcarek",{"$f":"VLOOKUP(B111,Pilot!A:C,3,0)","v":"Kroměříž"},{"$f":"VLOOKUP(B111,Pilot!A:B,2,0)","v":1967},{"$f":"VLOOKUP(B111,Pilot!A:E,5,0)","v":"M"},{"$f":"VLOOKUP(B111,Pilot!A:F,6,0)","v":""},"N8",null,1,"N8",{"$f":"IF(COUNTIF('N PMRg 2024'!B:B,B111)=0,\"-\",COUNTIF('N PMRg 2024'!B:B,B111))","v":"-"},{"$f":"IF(ISERROR(VLOOKUP(B111,'N PMRg 2024'!B:G,6,0)),\"-\",VLOOKUP(B111,'N PMRg 2024'!B:G,6,0))","v":"-"},{"$f":"IF(COUNTIF('N PMČRj 2024'!B:B,B111)=0,\"-\",COUNTIF('N PMČRj 2024'!B:B,B111))","v":"-"},{"$f":"IF(ISERROR(VLOOKUP(B111,'N PMČRj 2024'!B:G,6,0)),\"-\",VLOOKUP(B111,'N PMČRj 2024'!B:G,6,0))","v":"-"}]
["N9","Vaclav Marel",{"$f":"VLOOKUP(B112,Pilot!A:C,3,0)","v":"Jaroměř"},{"$f":"VLOOKUP(B112,Pilot!A:B,2,0)","v":1974},{"$f":"VLOOKUP(B112,Pilot!A:E,5,0)","v":"M"},{"$f":"VLOOKUP(B112,Pilot!A:F,6,0)","v":""},"N9",null,1,"N9",{"$f":"IF(COUNTIF('N PMRg 2024'!B:B,B112)=0,\"-\",COUNTIF('N PMRg 2024'!B:B,B112))","v":"-"},{"$f":"IF(ISERROR(VLOOKUP(B112,'N PMRg 2024'!B:G,6,0)),\"-\",VLOOKUP(B112,'N PMRg 2024'!B:G,6,0))","v":"-"},{"$f":"IF(COUNTIF('N PMČRj 2024'!B:B,B112)=0,\"-\",COUNTIF('N PMČRj 2024'!B:B,B112))","v":"-"},{"$f":"IF(ISERROR(VLOOKUP(B112,'N PMČRj 2024'!B:G,6,0)),\"-\",VLOOKUP(B112,'N PMČRj 2024'!B:G,6,0))","v":"-"}]
["N10","Jiri Stepanek",{"$f":"VLOOKUP(B113,Pilot!A:C,3,0)","v":"Moravská Třebová"},{"$f":"VLOOKUP(B113,Pilot!A:B,2,0)","v":1956},{"$f":"VLOOKUP(B113,Pilot!A:E,5,0)","v":"M"},{"$f":"VLOOKUP(B113,Pilot!A:F,6,0)","v":""},"N10",null,1,"N10",{"$f":"IF(COUNTIF('N PMRg 2024'!B:B,B113)=0,\"-\",COUNTIF('N PMRg 2024'!B:B,B113))","v":1},{"$f":"IF(ISERROR(VLOOKUP(B113,'N PMRg 2024'!B:G,6,0)),\"-\",VLOOKUP(B113,'N PMRg 2024'!B:G,6,0))","v":7},{"$f":"IF(COUNTIF('N PMČRj 2024'!B:B,B113)=0,\"-\",COUNTIF('N PMČRj 2024'!B:B,B113))","v":"-"},{"$f":"IF(ISERROR(VLOOKUP(B113,'N PMČRj 2024'!B:G,6,0)),\"-\",VLOOKUP(B113,'N PMČRj 2024'!B:G,6,0))","v":"-"}]
[null,"Další soutěžící může navrhnout PK podle jiných kritérií dle odstavce 9. (bez náhradníků):"]
["81.","-",{"$f":"VLOOKUP(B115,Pilot!A:C,3,0)","v":" "},{"$f":"VLOOKUP(B115,Pilot!A:B,2,0)","v":" "},{"$f":"VLOOKUP(B115,Pilot!A:E,5,0)","v":" "},{"$f":"VLOOKUP(B115,Pilot!A:F,6,0)","v":" "},{"$f":"A115","v":"81."},null,{"$f":"COUNTIF(B:B,B115)","v":6},{"$f":"IF(ISERROR(VLOOKUP(B115,B:G,6,0)),\"-\",VLOOKUP(B115,B:G,6,0))","v":"-"},{"$f":"IF(COUNTIF('N PMRg 2024'!B:B,B115)=0,\"-\",COUNTIF('N PMRg 2024'!B:B,B115))","v":66},{"$f":"IF(ISERROR(VLOOKUP(B115,'N PMRg 2024'!B:G,6,0)),\"-\",VLOOKUP(B115,'N PMRg 2024'!B:G,6,0))","v":"-"},{"$f":"IF(COUNTIF('N PMČRj 2024'!B:B,B115)=0,\"-\",COUNTIF('N PMČRj 2024'!B:B,B115))","v":33},{"$f":"IF(ISERROR(VLOOKUP(B115,'N PMČRj 2024'!B:G,6,0)),\"-\",VLOOKUP(B115,'N PMČRj 2024'!B:G,6,0))","v":18}]
["82.","-",{"$f":"VLOOKUP(B116,Pilot!A:C,3,0)","v":" "},{"$f":"VLOOKUP(B116,Pilot!A:B,2,0)","v":" "},{"$f":"VLOOKUP(B116,Pilot!A:E,5,0)","v":" "},{"$f":"VLOOKUP(B116,Pilot!A:F,6,0)","v":" "},{"$f":"A116","v":"82."},null,{"$f":"COUNTIF(B:B,B116)","v":6},{"$f":"IF(ISERROR(VLOOKUP(B116,B:G,6,0)),\"-\",VLOOKUP(B116,B:G,6,0))","v":"-"},{"$f":"IF(COUNTIF('N PMRg 2024'!B:B,B116)=0,\"-\",COUNTIF('N PMRg 2024'!B:B,B116))","v":66},{"$f":"IF(ISERROR(VLOOKUP(B116,'N PMRg 2024'!B:G,6,0)),\"-\",VLOOKUP(B116,'N PMRg 2024'!B:G,6,0))","v":"-"},{"$f":"IF(COUNTIF('N PMČRj 2024'!B:B,B116)=0,\"-\",COUNTIF('N PMČRj 2024'!B:B,B116))","v":33},{"$f":"IF(ISERROR(VLOOKUP(B116,'N PMČRj 2024'!B:G,6,0)),\"-\",VLOOKUP(B116,'N PMČRj 2024'!B:G,6,0))","v":18}]
["83.","-",{"$f":"VLOOKUP(B117,Pilot!A:C,3,0)","v":" "},{"$f":"VLOOKUP(B117,Pilot!A:B,2,0)","v":" "},{"$f":"VLOOKUP(B117,Pilot!A:E,5,0)","v":" "},{"$f":"VLOOKUP(B117,Pilot!A:F,6,0)","v":" "},{"$f":"A117","v":"83."},null,{"$f":"COUNTIF(B:B,B117)","v":6},{"$f":"IF(ISERROR(VLOOKUP(B117,B:G,6,0)),\"-\",VLOOKUP(B117,B:G,6,0))","v":"-"},{"$f":"IF(COUNTIF('N PMRg 2024'!B:B,B117)=0,\"-\",COUNTIF('N PMRg 2024'!B:B,B117))","v":66},{"$f":"IF(ISERROR(VLOOKUP(B117,'N PMRg 2024'!B:G,6,0)),\"-\",VLOOKUP(B117,'N PMRg 2024'!B:G,6,0))","v":"-"},{"$f":"IF(COUNTIF('N PMČRj 2024'!B:B,B117)=0,\"-\",COUNTIF('N PMČRj 2024'!B:B,B117))","v":33},{"$f":"IF(ISERROR(VLOOKUP(B117,'N PMČRj 2024'!B:G,6,0)),\"-\",VLOOKUP(B117,'N PMČRj 2024'!B:G,6,0))","v":18}]
["84.","-",{"$f":"VLOOKUP(B118,Pilot!A:C,3,0)","v":" "},{"$f":"VLOOKUP(B118,Pilot!A:B,2,0)","v":" "},{"$f":"VLOOKUP(B118,Pilot!A:E,5,0)","v":" "},{"$f":"VLOOKUP(B118,Pilot!A:F,6,0)","v":" "},{"$f":"A118","v":"84."},null,{"$f":"COUNTIF(B:B,B118)","v":6},{"$f":"IF(ISERROR(VLOOKUP(B118,B:G,6,0)),\"-\",VLOOKUP(B118,B:G,6,0))","v":"-"},{"$f":"IF(COUNTIF('N PMRg 2024'!B:B,B118)=0,\"-\",COUNTIF('N PMRg 2024'!B:B,B118))","v":66},{"$f":"IF(ISERROR(VLOOKUP(B118,'N PMRg 2024'!B:G,6,0)),\"-\",VLOOKUP(B118,'N PMRg 2024'!B:G,6,0))","v":"-"},{"$f":"IF(COUNTIF('N PMČRj 2024'!B:B,B118)=0,\"-\",COUNTIF('N PMČRj 2024'!B:B,B118))","v":33},{"$f":"IF(ISERROR(VLOOKUP(B118,'N PMČRj 2024'!B:G,6,0)),\"-\",VLOOKUP(B118,'N PMČRj 2024'!B:G,6,0))","v":18}]
["85.","-",{"$f":"VLOOKUP(B119,Pilot!A:C,3,0)","v":" "},{"$f":"VLOOKUP(B119,Pilot!A:B,2,0)","v":" "},{"$f":"VLOOKUP(B119,Pilot!A:E,5,0)","v":" "},{"$f":"VLOOKUP(B119,Pilot!A:F,6,0)","v":" "},{"$f":"A119","v":"85."},null,{"$f":"COUNTIF(B:B,B119)","v":6},{"$f":"IF(ISERROR(VLOOKUP(B119,B:G,6,0)),\"-\",VLOOKUP(B119,B:G,6,0))","v":"-"},{"$f":"IF(COUNTIF('N PMRg 2024'!B:B,B119)=0,\"-\",COUNTIF('N PMRg 2024'!B:B,B119))","v":66},{"$f":"IF(ISERROR(VLOOKUP(B119,'N PMRg 2024'!B:G,6,0)),\"-\",VLOOKUP(B119,'N PMRg 2024'!B:G,6,0))","v":"-"},{"$f":"IF(COUNTIF('N PMČRj 2024'!B:B,B119)=0,\"-\",COUNTIF('N PMČRj 2024'!B:B,B119))","v":33},{"$f":"IF(ISERROR(VLOOKUP(B119,'N PMČRj 2024'!B:G,6,0)),\"-\",VLOOKUP(B119,'N PMČRj 2024'!B:G,6,0))","v":18}]
["6.6.7.","Nominace zahraničních účastníků:"]
[null,"PMČR se mohou zúčastnit zahraniční účastníci pouze v případě, že nebude omezen počet řádně nominovaných soutěžících z ČR a soutěžící splňuje podmínky odstavce 6.1. a 6.6.1. SŘ."]
[null,"V případě pořádání společného PMČR s plachtařským mistrovstvím některého ze suverénních států může PK stanovit zvláštní pravidla pro nominaci."]
["6.6.8.","Volná nominace:"]
[null,"Volnou nominaci je možné využít pouze v tom případě, že pilot na PMČR nepostupuje podle žádného z bodů odstavce 6.6.6."]
[null,"Umožňuje-li to kapacita pořádajícího letiště, mohou se z členů AeČR mimo řádně nominovaných do soutěže přihlásit také piloti/pilotky, kteří se:"]
[null,"- v posledních 3 letech před rokem konání soutěže zúčastnili MS, ME, WAG nebo Světové Grand Prix jako velitel kluzáku,"]
[null,"- umístili v aktuálním Všeobecném Žebříku do 100. místa."]
[null,"Při větším počtu přihlášek, než je kapacita letiště Pořadatele, rozhoduje o přijetí do soutěže pořadí soutěžícího v aktuálním Všeobecném Žebříku s podmínkou zaplacení vkladu v termínu stanoveném Pořadatelem."]

{"sheet":"N PMČRj 2024","index":13,"n_rows":66,"n_cols":19,"rows_kept":66,"cut":false,"hidden":false,"merged":[[22,1,22,7],[28,1,28,7]]}
[null,"Nominace na PMČRj 2024",null,null,null,null,null,"Kontrola:","Počet","Nominace","Počet","Nominace","Počet","Nominace","M:","F:","M+F:",{"$f":"\"Limit juniora \"&Pilot!G1&\":\"","v":"Limit juniora 2024:"},{"$f":"Pilot!I1","v":1999}]
["No","Jméno","Aeroklub","Rok narození","M/F","Junior","No",null,"PMČRj","PMČRj","PMČR","PMČR","PMRg","PMRg",{"$f":"COUNTIF(E:E,\"M\")","v":14},{"$f":"COUNTIF(E:E,\"F\")","v":3},{"$f":"O2+P2","v":17},"S náhradníky"]
["6.7.5.","Nominace na PMČRj (dle SŘ ZM11)",null,null,null,null,null,null,null,null,null,null,null,"Celkem řádně nominováno:",{"$f":"O2-COUNTIF(E53:E57,\"M\")","v":14},{"$f":"P2-COUNTIF(E53:E57,\"F\")","v":3},{"$f":"O3+P3","v":17},"Bez náhradníků"]
[null,"Na PMČRj nominuje PK celkem 40 pilotů/pilotek a stanovený počet náhradníků pro každé nominační kritérium."]
[null,"Na PMČRj jsou nominováni soutěžící splňující statut juniora:"]
[null,"Na PMČRj jsou nominováni soutěžící (splňující statut juniora):"]
[null,"Všichni členové reprezentačního výběru ČR (bez náhradníků):"]
[1,"Lukas Kriz",{"$f":"VLOOKUP(B8,Pilot!A:C,3,0)","v":"Křižanov"},{"$f":"VLOOKUP(B8,Pilot!A:C,2,0)","v":2003},{"$f":"VLOOKUP(B8,Pilot!A:E,5,0)","v":"M"},{"$f":"VLOOKUP(B8,Pilot!A:F,6,0)","v":"Junior v roce 2024"},{"$f":"A8","v":1},null,{"$f":"COUNTIF(B:B,B8)","v":1},{"$f":"IF(ISERROR(VLOOKUP(B8,B:G,6,0)),\"-\",VLOOKUP(B8,B:G,6,0))","v":1},{"$f":"IF(COUNTIF('N PMČR 2024'!B:B,B8)=0,\"-\",COUNTIF('N PMČR 2024'!B:B,B8))","v":1},{"$f":"IF(ISERROR(VLOOKUP(B8,'N PMČR 2024'!B:G,6,0)),\"-\",VLOOKUP(B8,'N PMČR 2024'!B:G,6,0))","v":5},{"$f":"IF(COUNTIF('N PMRg 2024'!B:B,B8)=0,\"-\",COUNTIF('N PMRg 2024'!B:B,B8))","v":"-"},{"$f":"IF(ISERROR(VLOOKUP(B8,'N PMRg 2024'!B:G,6,0)),\"-\",VLOOKUP(B8,'N PMRg 2024'!B:G,6,0))","v":"-"}]
[{"$f":"A8+1","v":2},"Jaromir Macoun",{"$f":"VLOOKUP(B9,Pilot!A:C,3,0)","v":"Jičín"},{"$f":"VLOOKUP(B9,Pilot!A:C,2,0)","v":1999},{"$f":"VLOOKUP(B9,Pilot!A:E,5,0)","v":"M"},{"$f":"VLOOKUP(B9,Pilot!A:F,6,0)","v":"Junior v roce 2024"},{"$f":"A9","v":2},null,1,2,{"$f":"IF(COUNTIF('N PMČR 2024'!B:B,B9)=0,\"-\",COUNTIF('N PMČR 2024'!B:B,B9))","v":1},{"$f":"IF(ISERROR(VLOOKUP(B9,'N PMČR 2024'!B:G,6,0)),\"-\",VLOOKUP(B9,'N PMČR 2024'!B:G,6,0))","v":9},{"$f":"IF(COUNTIF('N PMRg 2024'!B:B,B9)=0,\"-\",COUNTIF('N PMRg 2024'!B:B,B9))","v":"-"},{"$f":"IF(ISERROR(VLOOKUP(B9,'N PMRg 2024'!B:G,6,0)),\"-\",VLOOKUP(B9,'N PMRg 2024'!B:G,6,0))","v":"-"}]
[{"$f":"A9+1","v":3},"Jan Stastny",{"$f":"VLOOKUP(B10,Pilot!A:C,3,0)","v":"Medlánky"},{"$f":"VLOOKUP(B10,Pilot!A:C,2,0)","v":2003},{"$f":"VLOOKUP(B10,Pilot!A:E,5,0)","v":"M"},{"$f":"VLOOKUP(B10,Pilot!A:F,6,0)","v":"Junior v roce 2024"},3,null,1,3,{"$f":"IF(COUNTIF('N PMČR 2024'!B:B,B10)=0,\"-\",COUNTIF('N PMČR 2024'!B:B,B10))","v":1},{"$f":"IF(ISERROR(VLOOKUP(B10,'N PMČR 2024'!B:G,6,0)),\"-\",VLOOKUP(B10,'N PMČR 2024'!B:G,6,0))","v":19},{"$f":"IF(COUNTIF('N PMRg 2024'!B:B,B10)=0,\"-\",COUNTIF('N PMRg 2024'!B:B,B10))","v":"-"},{"$f":"IF(ISERROR(VLOOKUP(B10,'N PMRg 2024'!B:G,6,0)),\"-\",VLOOKUP(B10,'N PMRg 2024'!B:G,6,0))","v":"-"}]
[4,"Vit Morkovsky",{"$f":"VLOOKUP(B11,Pilot!A:C,3,0)","v":"Polička"},{"$f":"VLOOKUP(B11,Pilot!A:C,2,0)","v":2000},{"$f":"VLOOKUP(B11,Pilot!A:E,5,0)","v":"M"},{"$f":"VLOOKUP(B11,Pilot!A:F,6,0)","v":"Junior v roce 2024"},4,null,1,4,{"$f":"IF(COUNTIF('N PMČR 2024'!B:B,B11)=0,\"-\",COUNTIF('N PMČR 2024'!B:B,B11))","v":1},{"$f":"IF(ISERROR(VLOOKUP(B11,'N PMČR 2024'!B:G,6,0)),\"-\",VLOOKUP(B11,'N PMČR 2024'!B:G,6,0))","v":21},{"$f":"IF(COUNTIF('N PMRg 2024'!B:B,B11)=0,\"-\",COUNTIF('N PMRg 2024'!B:B,B11))","v":"-"},{"$f":"IF(ISERROR(VLOOKUP(B11,'N PMRg 2024'!B:G,6,0)),\"-\",VLOOKUP(B11,'N PMRg 2024'!B:G,6,0))","v":"-"}]
[5,"Michaela Rendlova",{"$f":"VLOOKUP(B12,Pilot!A:C,3,0)","v":"Toužim"},{"$f":"VLOOKUP(B12,Pilot!A:C,2,0)","v":2004},{"$f":"VLOOKUP(B12,Pilot!A:E,5,0)","v":"F"},{"$f":"VLOOKUP(B12,Pilot!A:F,6,0)","v":"Junior v roce 2024"},5,null,1,5,{"$f":"IF(COUNTIF('N PMČR 2024'!B:B,B12)=0,\"-\",COUNTIF('N PMČR 2024'!B:B,B12))","v":1},{"$f":"IF(ISERROR(VLOOKUP(B12,'N PMČR 2024'!B:G,6,0)),\"-\",VLOOKUP(B12,'N PMČR 2024'!B:G,6,0))","v":22},{"$f":"IF(COUNTIF('N PMRg 2024'!B:B,B12)=0,\"-\",COUNTIF('N PMRg 2024'!B:B,B12))","v":"-"},{"$f":"IF(ISERROR(VLOOKUP(B12,'N PMRg 2024'!B:G,6,0)),\"-\",VLOOKUP(B12,'N PMRg 2024'!B:G,6,0))","v":"-"}]
[6,"Vladimir Hammer",{"$f":"VLOOKUP(B13,Pilot!A:C,3,0)","v":"Letkov"},{"$f":"VLOOKUP(B13,Pilot!A:C,2,0)","v":2000},{"$f":"VLOOKUP(B13,Pilot!A:E,5,0)","v":"M"},{"$f":"VLOOKUP(B13,Pilot!A:F,6,0)","v":"Junior v roce 2024"},6,null,1,6,{"$f":"IF(COUNTIF('N PMČR 2024'!B:B,B13)=0,\"-\",COUNTIF('N PMČR 2024'!B:B,B13))","v":1},{"$f":"IF(ISERROR(VLOOKUP(B13,'N PMČR 2024'!B:G,6,0)),\"-\",VLOOKUP(B13,'N PMČR 2024'!B:G,6,0))","v":23},{"$f":"IF(COUNTIF('N PMRg 2024'!B:B,B13)=0,\"-\",COUNTIF('N PMRg 2024'!B:B,B13))","v":"-"},{"$f":"IF(ISERROR(VLOOKUP(B13,'N PMRg 2024'!B:G,6,0)),\"-\",VLOOKUP(B13,'N PMRg 2024'!B:G,6,0))","v":"-"}]
[7,"Tereza Koubkova",{"$f":"VLOOKUP(B14,Pilot!A:C,3,0)","v":"Vysoké Mýto"},{"$f":"VLOOKUP(B14,Pilot!A:C,2,0)","v":1999},{"$f":"VLOOKUP(B14,Pilot!A:E,5,0)","v":"F"},{"$f":"VLOOKUP(B14,Pilot!A:F,6,0)","v":"Junior v roce 2024"},7,null,1,7,{"$f":"IF(COUNTIF('N PMČR 2024'!B:B,B14)=0,\"-\",COUNTIF('N PMČR 2024'!B:B,B14))","v":1},{"$f":"IF(ISERROR(VLOOKUP(B14,'N PMČR 2024'!B:G,6,0)),\"-\",VLOOKUP(B14,'N PMČR 2024'!B:G,6,0))","v":25},{"$f":"IF(COUNTIF('N PMRg 2024'!B:B,B14)=0,\"-\",COUNTIF('N PMRg 2024'!B:B,B14))","v":"-"},{"$f":"IF(ISERROR(VLOOKUP(B14,'N PMRg 2024'!B:G,6,0)),\"-\",VLOOKUP(B14,'N PMRg 2024'!B:G,6,0))","v":"-"}]
[8,"Michaela Krizova",{"$f":"VLOOKUP(B15,Pilot!A:C,3,0)","v":"Přibyslav"},{"$f":"VLOOKUP(B15,Pilot!A:C,2,0)","v":2001},{"$f":"VLOOKUP(B15,Pilot!A:E,5,0)","v":"F"},{"$f":"VLOOKUP(B15,Pilot!A:F,6,0)","v":"Junior v roce 2024"},{"$f":"A15","v":8},null,1,8,{"$f":"IF(COUNTIF('N PMČR 2024'!B:B,B15)=0,\"-\",COUNTIF('N PMČR 2024'!B:B,B15))","v":1},{"$f":"IF(ISERROR(VLOOKUP(B15,'N PMČR 2024'!B:G,6,0)),\"-\",VLOOKUP(B15,'N PMČR 2024'!B:G,6,0))","v":29},{"$f":"IF(COUNTIF('N PMRg 2024'!B:B,B15)=0,\"-\",COUNTIF('N PMRg 2024'!B:B,B15))","v":"-"},{"$f":"IF(ISERROR(VLOOKUP(B15,'N PMRg 2024'!B:G,6,0)),\"-\",VLOOKUP(B15,'N PMRg 2024'!B:G,6,0))","v":"-"}]
[null,"Všichni soutěžící - účastníci posledního platného PMČR (bez náhradníků):"]
[null,"PMČR 2023 - Moravská Třebová - Klub, Kombi 15m, Kombi Open"]
[{"$f":"MAX(A8:A17)+1","v":9},"Stepan Filakovsky",{"$f":"VLOOKUP(B18,Pilot!A:C,3,0)","v":"Medlánky"},{"$f":"VLOOKUP(B18,Pilot!A:C,2,0)","v":2005},{"$f":"VLOOKUP(B18,Pilot!A:E,5,0)","v":"M"},{"$f":"VLOOKUP(B18,Pilot!A:F,6,0)","v":"Junior v roce 2024"},{"$f":"A18","v":9},null,{"$f":"COUNTIF(B:B,B18)","v":1},{"$f":"IF(ISERROR(VLOOKUP(B18,B:G,6,0)),\"-\",VLOOKUP(B18,B:G,6,0))","v":9},{"$f":"IF(COUNTIF('N PMČR 2024'!B:B,B18)=0,\"-\",COUNTIF('N PMČR 2024'!B:B,B18))","v":1},{"$f":"IF(ISERROR(VLOOKUP(B18,'N PMČR 2024'!B:G,6,0)),\"-\",VLOOKUP(B18,'N PMČR 2024'!B:G,6,0))","v":39},{"$f":"IF(COUNTIF('N PMRg 2024'!B:B,B18)=0,\"-\",COUNTIF('N PMRg 2024'!B:B,B18))","v":"-"},{"$f":"IF(ISERROR(VLOOKUP(B18,'N PMRg 2024'!B:G,6,0)),\"-\",VLOOKUP(B18,'N PMRg 2024'!B:G,6,0))","v":"-"}]
[{"$f":"A18+1","v":10},"Vojtech Vach 03",{"$f":"VLOOKUP(B19,Pilot!A:C,3,0)","v":"Nové Město nad Metují"},{"$f":"VLOOKUP(B19,Pilot!A:C,2,0)","v":2003},{"$f":"VLOOKUP(B19,Pilot!A:E,5,0)","v":"M"},{"$f":"VLOOKUP(B19,Pilot!A:F,6,0)","v":"Junior v roce 2024"},{"$f":"A19","v":10},null,{"$f":"COUNTIF(B:B,B19)","v":1},{"$f":"IF(ISERROR(VLOOKUP(B19,B:G,6,0)),\"-\",VLOOKUP(B19,B:G,6,0))","v":10},{"$f":"IF(COUNTIF('N PMČR 2024'!B:B,B19)=0,\"-\",COUNTIF('N PMČR 2024'!B:B,B19))","v":1},{"$f":"IF(ISERROR(VLOOKUP(B19,'N PMČR 2024'!B:G,6,0)),\"-\",VLOOKUP(B19,'N PMČR 2024'!B:G,6,0))","v":"N2"},{"$f":"IF(COUNTIF('N PMRg 2024'!B:B,B19)=0,\"-\",COUNTIF('N PMRg 2024'!B:B,B19))","v":1},{"$f":"IF(ISERROR(VLOOKUP(B19,'N PMRg 2024'!B:G,6,0)),\"-\",VLOOKUP(B19,'N PMRg 2024'!B:G,6,0))","v":1}]
[{"$f":"A19+1","v":11},"Petr Masik",{"$f":"VLOOKUP(B20,Pilot!A:C,3,0)","v":"Zábřeh"},{"$f":"VLOOKUP(B20,Pilot!A:C,2,0)","v":2001},{"$f":"VLOOKUP(B20,Pilot!A:E,5,0)","v":"M"},{"$f":"VLOOKUP(B20,Pilot!A:F,6,0)","v":"Junior v roce 2024"},11,null,{"$f":"COUNTIF(B:B,B20)","v":1},{"$f":"IF(ISERROR(VLOOKUP(B20,B:G,6,0)),\"-\",VLOOKUP(B20,B:G,6,0))","v":11},{"$f":"IF(COUNTIF('N PMČR 2024'!B:B,B20)=0,\"-\",COUNTIF('N PMČR 2024'!B:B,B20))","v":1},{"$f":"IF(ISERROR(VLOOKUP(B20,'N PMČR 2024'!B:G,6,0)),\"-\",VLOOKUP(B20,'N PMČR 2024'!B:G,6,0))","v":"N3"},{"$f":"IF(COUNTIF('N PMRg 2024'!B:B,B20)=0,\"-\",COUNTIF('N PMRg 2024'!B:B,B20))","v":1},{"$f":"IF(ISERROR(VLOOKUP(B20,'N PMRg 2024'!B:G,6,0)),\"-\",VLOOKUP(B20,'N PMRg 2024'!B:G,6,0))","v":2}]
[12,"Fabian Curda",{"$f":"VLOOKUP(B21,Pilot!A:C,3,0)","v":"Zábřeh"},{"$f":"VLOOKUP(B21,Pilot!A:C,2,0)","v":2004},{"$f":"VLOOKUP(B21,Pilot!A:E,5,0)","v":"M"},{"$f":"VLOOKUP(B21,Pilot!A:F,6,0)","v":"Junior v roce 2024"},12,null,{"$f":"COUNTIF(B:B,B21)","v":1},{"$f":"IF(ISERROR(VLOOKUP(B21,B:G,6,0)),\"-\",VLOOKUP(B21,B:G,6,0))","v":12},{"$f":"IF(COUNTIF('N PMČR 2024'!B:B,B21)=0,\"-\",COUNTIF('N PMČR 2024'!B:B,B21))","v":"-"},{"$f":"IF(ISERROR(VLOOKUP(B21,'N PMČR 2024'!B:G,6,0)),\"-\",VLOOKUP(B21,'N PMČR 2024'!B:G,6,0))","v":"-"},{"$f":"IF(COUNTIF('N PMRg 2024'!B:B,B21)=0,\"-\",COUNTIF('N PMRg 2024'!B:B,B21))","v":1},{"$f":"IF(ISERROR(VLOOKUP(B21,'N PMRg 2024'!B:G,6,0)),\"-\",VLOOKUP(B21,'N PMRg 2024'!B:G,6,0))","v":5}]
[13,"Adam Hepal",{"$f":"VLOOKUP(B22,Pilot!A:C,3,0)","v":"Moravská Třebová"},{"$f":"VLOOKUP(B22,Pilot!A:C,2,0)","v":2004},{"$f":"VLOOKUP(B22,Pilot!A:E,5,0)","v":"M"},{"$f":"VLOOKUP(B22,Pilot!A:F,6,0)","v":"Junior v roce 2024"},13,null,{"$f":"COUNTIF(B:B,B22)","v":1},{"$f":"IF(ISERROR(VLOOKUP(B22,B:G,6,0)),\"-\",VLOOKUP(B22,B:G,6,0))","v":13},{"$f":"IF(COUNTIF('N PMČR 2024'!B:B,B22)=0,\"-\",COUNTIF('N PMČR 2024'!B:B,B22))","v":"-"},{"$f":"IF(ISERROR(VLOOKUP(B22,'N PMČR 2024'!B:G,6,0)),\"-\",VLOOKUP(B22,'N PMČR 2024'!B:G,6,0))","v":"-"},{"$f":"IF(COUNTIF('N PMRg 2024'!B:B,B22)=0,\"-\",COUNTIF('N PMRg 2024'!B:B,B22))","v":1},{"$f":"IF(ISERROR(VLOOKUP(B22,'N PMRg 2024'!B:G,6,0)),\"-\",VLOOKUP(B22,'N PMRg 2024'!B:G,6,0))","v":6}]
[null,"Další soutěžící, kteří se umístili v konečném pořadí na posledním platném PMČRj ve své třídě nejhůře v první polovině celkového pořadí pilotů ČR (bez náhradníků):"]
[null,"PMČRj 2023 - Hosín - Klub"]
[{"$f":"MAX(A8:A24)+1","v":14},"Tomas Hynek",{"$f":"VLOOKUP(B25,Pilot!A:C,3,0)","v":"Dvůr Králové"},{"$f":"VLOOKUP(B25,Pilot!A:C,2,0)","v":2002},{"$f":"VLOOKUP(B25,Pilot!A:E,5,0)","v":"M"},{"$f":"VLOOKUP(B25,Pilot!A:F,6,0)","v":"Junior v roce 2024"},{"$f":"A25","v":14},null,{"$f":"COUNTIF(B:B,B25)","v":1},{"$f":"IF(ISERROR(VLOOKUP(B25,B:G,6,0)),\"-\",VLOOKUP(B25,B:G,6,0))","v":14},{"$f":"IF(COUNTIF('N PMČR 2024'!B:B,B25)=0,\"-\",COUNTIF('N PMČR 2024'!B:B,B25))","v":1},{"$f":"IF(ISERROR(VLOOKUP(B25,'N PMČR 2024'!B:G,6,0)),\"-\",VLOOKUP(B25,'N PMČR 2024'!B:G,6,0))","v":35},{"$f":"IF(COUNTIF('N PMRg 2024'!B:B,B25)=0,\"-\",COUNTIF('N PMRg 2024'!B:B,B25))","v":"-"},{"$f":"IF(ISERROR(VLOOKUP(B25,'N PMRg 2024'!B:G,6,0)),\"-\",VLOOKUP(B25,'N PMRg 2024'!B:G,6,0))","v":"-"}]
[{"$f":"A25+1","v":15},"Jan Beran",{"$f":"VLOOKUP(B26,Pilot!A:C,3,0)","v":"Kladno"},{"$f":"VLOOKUP(B26,Pilot!A:C,2,0)","v":1999},{"$f":"VLOOKUP(B26,Pilot!A:E,5,0)","v":"M"},{"$f":"VLOOKUP(B26,Pilot!A:F,6,0)","v":"Junior v roce 2024"},15,null,{"$f":"COUNTIF(B:B,B26)","v":1},{"$f":"IF(ISERROR(VLOOKUP(B26,B:G,6,0)),\"-\",VLOOKUP(B26,B:G,6,0))","v":15},{"$f":"IF(COUNTIF('N PMČR 2024'!B:B,B26)=0,\"-\",COUNTIF('N PMČR 2024'!B:B,B26))","v":1},{"$f":"IF(ISERROR(VLOOKUP(B26,'N PMČR 2024'!B:G,6,0)),\"-\",VLOOKUP(B26,'N PMČR 2024'!B:G,6,0))","v":36},{"$f":"IF(COUNTIF('N PMRg 2024'!B:B,B26)=0,\"-\",COUNTIF('N PMRg 2024'!B:B,B26))","v":"-"},{"$f":"IF(ISERROR(VLOOKUP(B26,'N PMRg 2024'!B:G,6,0)),\"-\",VLOOKUP(B26,'N PMRg 2024'!B:G,6,0))","v":"-"}]
[{"$f":"A26+1","v":16},"Lukas Maly",{"$f":"VLOOKUP(B27,Pilot!A:C,3,0)","v":"Vysoké Mýto"},{"$f":"VLOOKUP(B27,Pilot!A:C,2,0)","v":1998},{"$f":"VLOOKUP(B27,Pilot!A:E,5,0)","v":"M"},{"$f":"VLOOKUP(B27,Pilot!A:F,6,0)","v":""},16,null,{"$f":"COUNTIF(B:B,B27)","v":1},{"$f":"IF(ISERROR(VLOOKUP(B27,B:G,6,0)),\"-\",VLOOKUP(B27,B:G,6,0))","v":16},{"$f":"IF(COUNTIF('N PMČR 2024'!B:B,B27)=0,\"-\",COUNTIF('N PMČR 2024'!B:B,B27))","v":1},{"$f":"IF(ISERROR(VLOOKUP(B27,'N PMČR 2024'!B:G,6,0)),\"-\",VLOOKUP(B27,'N PMČR 2024'!B:G,6,0))","v":37},{"$f":"IF(COUNTIF('N PMRg 2024'!B:B,B27)=0,\"-\",COUNTIF('N PMRg 2024'!B:B,B27))","v":"-"},{"$f":"IF(ISERROR(VLOOKUP(B27,'N PMRg 2024'!B:G,6,0)),\"-\",VLOOKUP(B27,'N PMRg 2024'!B:G,6,0))","v":"-"}]
[17,"Stepan Bartos",{"$f":"VLOOKUP(B28,Pilot!A:C,3,0)","v":"Kolín"},{"$f":"VLOOKUP(B28,Pilot!A:C,2,0)","v":2004},{"$f":"VLOOKUP(B28,Pilot!A:E,5,0)","v":"M"},{"$f":"VLOOKUP(B28,Pilot!A:F,6,0)","v":"Junior v roce 2024"},{"$f":"A28","v":17},null,{"$f":"COUNTIF(B:B,B28)","v":1},{"$f":"IF(ISERROR(VLOOKUP(B28,B:G,6,0)),\"-\",VLOOKUP(B28,B:G,6,0))","v":17},{"$f":"IF(COUNTIF('N PMČR 2024'!B:B,B28)=0,\"-\",COUNTIF('N PMČR 2024'!B:B,B28))","v":1},{"$f":"IF(ISERROR(VLOOKUP(B28,'N PMČR 2024'!B:G,6,0)),\"-\",VLOOKUP(B28,'N PMČR 2024'!B:G,6,0))","v":38},{"$f":"IF(COUNTIF('N PMRg 2024'!B:B,B28)=0,\"-\",COUNTIF('N PMRg 2024'!B:B,B28))","v":"-"},{"$f":"IF(ISERROR(VLOOKUP(B28,'N PMRg 2024'!B:G,6,0)),\"-\",VLOOKUP(B28,'N PMRg 2024'!B:G,6,0))","v":"-"}]
[null,"Ostatní soutěžící nominuje PK v pořadí podle umístění v CPS-INT předchozího roku do naplnění celkového počtu 40 nominovaných (+ 5 náhradníků):"]
[{"$f":"MAX(A25:A29)+1","v":18},"-",{"$f":"VLOOKUP(B30,Pilot!A:C,3,0)","v":" "},{"$f":"VLOOKUP(B30,Pilot!A:C,2,0)","v":" "},{"$f":"VLOOKUP(B30,Pilot!A:E,5,0)","v":" "},{"$f":"VLOOKUP(B30,Pilot!A:F,6,0)","v":" "},{"$f":"A30","v":18},null,{"$f":"COUNTIF(B:B,B30)","v":33},{"$f":"IF(ISERROR(VLOOKUP(B30,B:G,6,0)),\"-\",VLOOKUP(B30,B:G,6,0))","v":18},{"$f":"IF(COUNTIF('N PMČR 2024'!B:B,B30)=0,\"-\",COUNTIF('N PMČR 2024'!B:B,B30))","v":6},{"$f":"IF(ISERROR(VLOOKUP(B30,'N PMČR 2024'!B:G,6,0)),\"-\",VLOOKUP(B30,'N PMČR 2024'!B:G,6,0))","v":"-"},{"$f":"IF(COUNTIF('N PMRg 2024'!B:B,B30)=0,\"-\",COUNTIF('N PMRg 2024'!B:B,B30))","v":66},{"$f":"IF(ISERROR(VLOOKUP(B30,'N PMRg 2024'!B:G,6,0)),\"-\",VLOOKUP(B30,'N PMRg 2024'!B:G,6,0))","v":"-"}]
[{"$f":"A30+1","v":19},"-",{"$f":"VLOOKUP(B31,Pilot!A:C,3,0)","v":" "},{"$f":"VLOOKUP(B31,Pilot!A:C,2,0)","v":" "},{"$f":"VLOOKUP(B31,Pilot!A:E,5,0)","v":" "},{"$f":"VLOOKUP(B31,Pilot!A:F,6,0)","v":" "},19,null,33,18,{"$f":"IF(COUNTIF('N PMČR 2024'!B:B,B31)=0,\"-\",COUNTIF('N PMČR 2024'!B:B,B31))","v":6},{"$f":"IF(ISERROR(VLOOKUP(B31,'N PMČR 2024'!B:G,6,0)),\"-\",VLOOKUP(B31,'N PMČR 2024'!B:G,6,0))","v":"-"},{"$f":"IF(COUNTIF('N PMRg 2024'!B:B,B31)=0,\"-\",COUNTIF('N PMRg 2024'!B:B,B31))","v":66},{"$f":"IF(ISERROR(VLOOKUP(B31,'N PMRg 2024'!B:G,6,0)),\"-\",VLOOKUP(B31,'N PMRg 2024'!B:G,6,0))","v":"-"}]
[{"$f":"A31+1","v":20},"-",{"$f":"VLOOKUP(B32,Pilot!A:C,3,0)","v":" "},{"$f":"VLOOKUP(B32,Pilot!A:C,2,0)","v":" "},{"$f":"VLOOKUP(B32,Pilot!A:E,5,0)","v":" "},{"$f":"VLOOKUP(B32,Pilot!A:F,6,0)","v":" "},20,null,33,18,{"$f":"IF(COUNTIF('N PMČR 2024'!B:B,B32)=0,\"-\",COUNTIF('N PMČR 2024'!B:B,B32))","v":6},{"$f":"IF(ISERROR(VLOOKUP(B32,'N PMČR 2024'!B:G,6,0)),\"-\",VLOOKUP(B32,'N PMČR 2024'!B:G,6,0))","v":"-"},{"$f":"IF(COUNTIF('N PMRg 2024'!B:B,B32)=0,\"-\",COUNTIF('N PMRg 2024'!B:B,B32))","v":66},{"$f":"IF(ISERROR(VLOOKUP(B32,'N PMRg 2024'!B:G,6,0)),\"-\",VLOOKUP(B32,'N PMRg 2024'!B:G,6,0))","v":"-"}]
[21,"-",{"$f":"VLOOKUP(B33,Pilot!A:C,3,0)","v":" "},{"$f":"VLOOKUP(B33,Pilot!A:C,2,0)","v":" "},{"$f":"VLOOKUP(B33,Pilot!A:E,5,0)","v":" "},{"$f":"VLOOKUP(B33,Pilot!A:F,6,0)","v":" "},21,null,33,18,{"$f":"IF(COUNTIF('N PMČR 2024'!B:B,B33)=0,\"-\",COUNTIF('N PMČR 2024'!B:B,B33))","v":6},{"$f":"IF(ISERROR(VLOOKUP(B33,'N PMČR 2024'!B:G,6,0)),\"-\",VLOOKUP(B33,'N PMČR 2024'!B:G,6,0))","v":"-"},{"$f":"IF(COUNTIF('N PMRg 2024'!B:B,B33)=0,\"-\",COUNTIF('N PMRg 2024'!B:B,B33))","v":66},{"$f":"IF(ISERROR(VLOOKUP(B33,'N PMRg 2024'!B:G,6,0)),\"-\",VLOOKUP(B33,'N PMRg 2024'!B:G,6,0))","v":"-"}]
[22,"-",{"$f":"VLOOKUP(B34,Pilot!A:C,3,0)","v":" "},{"$f":"VLOOKUP(B34,Pilot!A:C,2,0)","v":" "},{"$f":"VLOOKUP(B34,Pilot!A:E,5,0)","v":" "},{"$f":"VLOOKUP(B34,Pilot!A:F,6,0)","v":" "},22,null,33,18,{"$f":"IF(COUNTIF('N PMČR 2024'!B:B,B34)=0,\"-\",COUNTIF('N PMČR 2024'!B:B,B34))","v":6},{"$f":"IF(ISERROR(VLOOKUP(B34,'N PMČR 2024'!B:G,6,0)),\"-\",VLOOKUP(B34,'N PMČR 2024'!B:G,6,0))","v":"-"},{"$f":"IF(COUNTIF('N PMRg 2024'!B:B,B34)=0,\"-\",COUNTIF('N PMRg 2024'!B:B,B34))","v":66},{"$f":"IF(ISERROR(VLOOKUP(B34,'N PMRg 2024'!B:G,6,0)),\"-\",VLOOKUP(B34,'N PMRg 2024'!B:G,6,0))","v":"-"}]
[23,"-",{"$f":"VLOOKUP(B35,Pilot!A:C,3,0)","v":" "},{"$f":"VLOOKUP(B35,Pilot!A:C,2,0)","v":" "},{"$f":"VLOOKUP(B35,Pilot!A:E,5,0)","v":" "},{"$f":"VLOOKUP(B35,Pilot!A:F,6,0)","v":" "},23,null,33,18,{"$f":"IF(COUNTIF('N PMČR 2024'!B:B,B35)=0,\"-\",COUNTIF('N PMČR 2024'!B:B,B35))","v":6},{"$f":"IF(ISERROR(VLOOKUP(B35,'N PMČR 2024'!B:G,6,0)),\"-\",VLOOKUP(B35,'N PMČR 2024'!B:G,6,0))","v":"-"},{"$f":"IF(COUNTIF('N PMRg 2024'!B:B,B35)=0,\"-\",COUNTIF('N PMRg 2024'!B:B,B35))","v":66},{"$f":"IF(ISERROR(VLOOKUP(B35,'N PMRg 2024'!B:G,6,0)),\"-\",VLOOKUP(B35,'N PMRg 2024'!B:G,6,0))","v":"-"}]
[24,"-",{"$f":"VLOOKUP(B36,Pilot!A:C,3,0)","v":" "},{"$f":"VLOOKUP(B36,Pilot!A:C,2,0)","v":" "},{"$f":"VLOOKUP(B36,Pilot!A:E,5,0)","v":" "},{"$f":"VLOOKUP(B36,Pilot!A:F,6,0)","v":" "},24,null,33,18,{"$f":"IF(COUNTIF('N PMČR 2024'!B:B,B36)=0,\"-\",COUNTIF('N PMČR 2024'!B:B,B36))","v":6},{"$f":"IF(ISERROR(VLOOKUP(B36,'N PMČR 2024'!B:G,6,0)),\"-\",VLOOKUP(B36,'N PMČR 2024'!B:G,6,0))","v":"-"},{"$f":"IF(COUNTIF('N PMRg 2024'!B:B,B36)=0,\"-\",COUNTIF('N PMRg 2024'!B:B,B36))","v":66},{"$f":"IF(ISERROR(VLOOKUP(B36,'N PMRg 2024'!B:G,6,0)),\"-\",VLOOKUP(B36,'N PMRg 2024'!B:G,6,0))","v":"-"}]
[25,"-",{"$f":"VLOOKUP(B37,Pilot!A:C,3,0)","v":" "},{"$f":"VLOOKUP(B37,Pilot!A:C,2,0)","v":" "},{"$f":"VLOOKUP(B37,Pilot!A:E,5,0)","v":" "},{"$f":"VLOOKUP(B37,Pilot!A:F,6,0)","v":" "},25,null,33,18,{"$f":"IF(COUNTIF('N PMČR 2024'!B:B,B37)=0,\"-\",COUNTIF('N PMČR 2024'!B:B,B37))","v":6},{"$f":"IF(ISERROR(VLOOKUP(B37,'N PMČR 2024'!B:G,6,0)),\"-\",VLOOKUP(B37,'N PMČR 2024'!B:G,6,0))","v":"-"},{"$f":"IF(COUNTIF('N PMRg 2024'!B:B,B37)=0,\"-\",COUNTIF('N PMRg 2024'!B:B,B37))","v":66},{"$f":"IF(ISERROR(VLOOKUP(B37,'N PMRg 2024'!B:G,6,0)),\"-\",VLOOKUP(B37,'N PMRg 2024'!B:G,6,0))","v":"-"}]
[26,"-",{"$f":"VLOOKUP(B38,Pilot!A:C,3,0)","v":" "},{"$f":"VLOOKUP(B38,Pilot!A:C,2,0)","v":" "},{"$f":"VLOOKUP(B38,Pilot!A:E,5,0)","v":" "},{"$f":"VLOOKUP(B38,Pilot!A:F,6,0)","v":" "},26,null,33,18,{"$f":"IF(COUNTIF('N PMČR 2024'!B:B,B38)=0,\"-\",COUNTIF('N PMČR 2024'!B:B,B38))","v":6},{"$f":"IF(ISERROR(VLOOKUP(B38,'N PMČR 2024'!B:G,6,0)),\"-\",VLOOKUP(B38,'N PMČR 2024'!B:G,6,0))","v":"-"},{"$f":"IF(COUNTIF('N PMRg 2024'!B:B,B38)=0,\"-\",COUNTIF('N PMRg 2024'!B:B,B38))","v":66},{"$f":"IF(ISERROR(VLOOKUP(B38,'N PMRg 2024'!B:G,6,0)),\"-\",VLOOKUP(B38,'N PMRg 2024'!B:G,6,0))","v":"-"}]
[27,"-",{"$f":"VLOOKUP(B39,Pilot!A:C,3,0)","v":" "},{"$f":"VLOOKUP(B39,Pilot!A:C,2,0)","v":" "},{"$f":"VLOOKUP(B39,Pilot!A:E,5,0)","v":" "},{"$f":"VLOOKUP(B39,Pilot!A:F,6,0)","v":" "},27,null,33,18,{"$f":"IF(COUNTIF('N PMČR 2024'!B:B,B39)=0,\"-\",COUNTIF('N PMČR 2024'!B:B,B39))","v":6},{"$f":"IF(ISERROR(VLOOKUP(B39,'N PMČR 2024'!B:G,6,0)),\"-\",VLOOKUP(B39,'N PMČR 2024'!B:G,6,0))","v":"-"},{"$f":"IF(COUNTIF('N PMRg 2024'!B:B,B39)=0,\"-\",COUNTIF('N PMRg 2024'!B:B,B39))","v":66},{"$f":"IF(ISERROR(VLOOKUP(B39,'N PMRg 2024'!B:G,6,0)),\"-\",VLOOKUP(B39,'N PMRg 2024'!B:G,6,0))","v":"-"}]
[28,"-",{"$f":"VLOOKUP(B40,Pilot!A:C,3,0)","v":" "},{"$f":"VLOOKUP(B40,Pilot!A:C,2,0)","v":" "},{"$f":"VLOOKUP(B40,Pilot!A:E,5,0)","v":" "},{"$f":"VLOOKUP(B40,Pilot!A:F,6,0)","v":" "},{"$f":"A40","v":28},null,33,18,{"$f":"IF(COUNTIF('N PMČR 2024'!B:B,B40)=0,\"-\",COUNTIF('N PMČR 2024'!B:B,B40))","v":6},{"$f":"IF(ISERROR(VLOOKUP(B40,'N PMČR 2024'!B:G,6,0)),\"-\",VLOOKUP(B40,'N PMČR 2024'!B:G,6,0))","v":"-"},{"$f":"IF(COUNTIF('N PMRg 2024'!B:B,B40)=0,\"-\",COUNTIF('N PMRg 2024'!B:B,B40))","v":66},{"$f":"IF(ISERROR(VLOOKUP(B40,'N PMRg 2024'!B:G,6,0)),\"-\",VLOOKUP(B40,'N PMRg 2024'!B:G,6,0))","v":"-"}]
[29,"-",{"$f":"VLOOKUP(B41,Pilot!A:C,3,0)","v":" "},{"$f":"VLOOKUP(B41,Pilot!A:C,2,0)","v":" "},{"$f":"VLOOKUP(B41,Pilot!A:E,5,0)","v":" "},{"$f":"VLOOKUP(B41,Pilot!A:F,6,0)","v":" "},29,null,33,18,{"$f":"IF(COUNTIF('N PMČR 2024'!B:B,B41)=0,\"-\",COUNTIF('N PMČR 2024'!B:B,B41))","v":6},{"$f":"IF(ISERROR(VLOOKUP(B41,'N PMČR 2024'!B:G,6,0)),\"-\",VLOOKUP(B41,'N PMČR 2024'!B:G,6,0))","v":"-"},{"$f":"IF(COUNTIF('N PMRg 2024'!B:B,B41)=0,\"-\",COUNTIF('N PMRg 2024'!B:B,B41))","v":66},{"$f":"IF(ISERROR(VLOOKUP(B41,'N PMRg 2024'!B:G,6,0)),\"-\",VLOOKUP(B41,'N PMRg 2024'!B:G,6,0))","v":"-"}]
[30,"-",{"$f":"VLOOKUP(B42,Pilot!A:C,3,0)","v":" "},{"$f":"VLOOKUP(B42,Pilot!A:C,2,0)","v":" "},{"$f":"VLOOKUP(B42,Pilot!A:E,5,0)","v":" "},{"$f":"VLOOKUP(B42,Pilot!A:F,6,0)","v":" "},30,null,33,18,{"$f":"IF(COUNTIF('N PMČR 2024'!B:B,B42)=0,\"-\",COUNTIF('N PMČR 2024'!B:B,B42))","v":6},{"$f":"IF(ISERROR(VLOOKUP(B42,'N PMČR 2024'!B:G,6,0)),\"-\",VLOOKUP(B42,'N PMČR 2024'!B:G,6,0))","v":"-"},{"$f":"IF(COUNTIF('N PMRg 2024'!B:B,B42)=0,\"-\",COUNTIF('N PMRg 2024'!B:B,B42))","v":66},{"$f":"IF(ISERROR(VLOOKUP(B42,'N PMRg 2024'!B:G,6,0)),\"-\",VLOOKUP(B42,'N PMRg 2024'!B:G,6,0))","v":"-"}]
[31,"-",{"$f":"VLOOKUP(B43,Pilot!A:C,3,0)","v":" "},{"$f":"VLOOKUP(B43,Pilot!A:C,2,0)","v":" "},{"$f":"VLOOKUP(B43,Pilot!A:E,5,0)","v":" "},{"$f":"VLOOKUP(B43,Pilot!A:F,6,0)","v":" "},31,null,33,18,{"$f":"IF(COUNTIF('N PMČR 2024'!B:B,B43)=0,\"-\",COUNTIF('N PMČR 2024'!B:B,B43))","v":6},{"$f":"IF(ISERROR(VLOOKUP(B43,'N PMČR 2024'!B:G,6,0)),\"-\",VLOOKUP(B43,'N PMČR 2024'!B:G,6,0))","v":"-"},{"$f":"IF(COUNTIF('N PMRg 2024'!B:B,B43)=0,\"-\",COUNTIF('N PMRg 2024'!B:B,B43))","v":66},{"$f":"IF(ISERROR(VLOOKUP(B43,'N PMRg 2024'!B:G,6,0)),\"-\",VLOOKUP(B43,'N PMRg 2024'!B:G,6,0))","v":"-"}]
[32,"-",{"$f":"VLOOKUP(B44,Pilot!A:C,3,0)","v":" "},{"$f":"VLOOKUP(B44,Pilot!A:C,2,0)","v":" "},{"$f":"VLOOKUP(B44,Pilot!A:E,5,0)","v":" "},{"$f":"VLOOKUP(B44,Pilot!A:F,6,0)","v":" "},32,null,33,18,{"$f":"IF(COUNTIF('N PMČR 2024'!B:B,B44)=0,\"-\",COUNTIF('N PMČR 2024'!B:B,B44))","v":6},{"$f":"IF(ISERROR(VLOOKUP(B44,'N PMČR 2024'!B:G,6,0)),\"-\",VLOOKUP(B44,'N PMČR 2024'!B:G,6,0))","v":"-"},{"$f":"IF(COUNTIF('N PMRg 2024'!B:B,B44)=0,\"-\",COUNTIF('N PMRg 2024'!B:B,B44))","v":66},{"$f":"IF(ISERROR(VLOOKUP(B44,'N PMRg 2024'!B:G,6,0)),\"-\",VLOOKUP(B44,'N PMRg 2024'!B:G,6,0))","v":"-"}]
[33,"-",{"$f":"VLOOKUP(B45,Pilot!A:C,3,0)","v":" "},{"$f":"VLOOKUP(B45,Pilot!A:C,2,0)","v":" "},{"$f":"VLOOKUP(B45,Pilot!A:E,5,0)","v":" "},{"$f":"VLOOKUP(B45,Pilot!A:F,6,0)","v":" "},33,null,33,18,{"$f":"IF(COUNTIF('N PMČR 2024'!B:B,B45)=0,\"-\",COUNTIF('N PMČR 2024'!B:B,B45))","v":6},{"$f":"IF(ISERROR(VLOOKUP(B45,'N PMČR 2024'!B:G,6,0)),\"-\",VLOOKUP(B45,'N PMČR 2024'!B:G,6,0))","v":"-"},{"$f":"IF(COUNTIF('N PMRg 2024'!B:B,B45)=0,\"-\",COUNTIF('N PMRg 2024'!B:B,B45))","v":66},{"$f":"IF(ISERROR(VLOOKUP(B45,'N PMRg 2024'!B:G,6,0)),\"-\",VLOOKUP(B45,'N PMRg 2024'!B:G,6,0))","v":"-"}]
[34,"-",{"$f":"VLOOKUP(B46,Pilot!A:C,3,0)","v":" "},{"$f":"VLOOKUP(B46,Pilot!A:C,2,0)","v":" "},{"$f":"VLOOKUP(B46,Pilot!A:E,5,0)","v":" "},{"$f":"VLOOKUP(B46,Pilot!A:F,6,0)","v":" "},34,null,33,18,{"$f":"IF(COUNTIF('N PMČR 2024'!B:B,B46)=0,\"-\",COUNTIF('N PMČR 2024'!B:B,B46))","v":6},{"$f":"IF(ISERROR(VLOOKUP(B46,'N PMČR 2024'!B:G,6,0)),\"-\",VLOOKUP(B46,'N PMČR 2024'!B:G,6,0))","v":"-"},{"$f":"IF(COUNTIF('N PMRg 2024'!B:B,B46)=0,\"-\",COUNTIF('N PMRg 2024'!B:B,B46))","v":66},{"$f":"IF(ISERROR(VLOOKUP(B46,'N PMRg 2024'!B:G,6,0)),\"-\",VLOOKUP(B46,'N PMRg 2024'!B:G,6,0))","v":"-"}]
[35,"-",{"$f":"VLOOKUP(B47,Pilot!A:C,3,0)","v":" "},{"$f":"VLOOKUP(B47,Pilot!A:C,2,0)","v":" "},{"$f":"VLOOKUP(B47,Pilot!A:E,5,0)","v":" "},{"$f":"VLOOKUP(B47,Pilot!A:F,6,0)","v":" "},{"$f":"A47","v":35},null,33,18,{"$f":"IF(COUNTIF('N PMČR 2024'!B:B,B47)=0,\"-\",COUNTIF('N PMČR 2024'!B:B,B47))","v":6},{"$f":"IF(ISERROR(VLOOKUP(B47,'N PMČR 2024'!B:G,6,0)),\"-\",VLOOKUP(B47,'N PMČR 2024'!B:G,6,0))","v":"-"},{"$f":"IF(COUNTIF('N PMRg 2024'!B:B,B47)=0,\"-\",COUNTIF('N PMRg 2024'!B:B,B47))","v":66},{"$f":"IF(ISERROR(VLOOKUP(B47,'N PMRg 2024'!B:G,6,0)),\"-\",VLOOKUP(B47,'N PMRg 2024'!B:G,6,0))","v":"-"}]
[36,"-",{"$f":"VLOOKUP(B48,Pilot!A:C,3,0)","v":" "},{"$f":"VLOOKUP(B48,Pilot!A:C,2,0)","v":" "},{"$f":"VLOOKUP(B48,Pilot!A:E,5,0)","v":" "},{"$f":"VLOOKUP(B48,Pilot!A:F,6,0)","v":" "},36,null,33,18,{"$f":"IF(COUNTIF('N PMČR 2024'!B:B,B48)=0,\"-\",COUNTIF('N PMČR 2024'!B:B,B48))","v":6},{"$f":"IF(ISERROR(VLOOKUP(B48,'N PMČR 2024'!B:G,6,0)),\"-\",VLOOKUP(B48,'N PMČR 2024'!B:G,6,0))","v":"-"},{"$f":"IF(COUNTIF('N PMRg 2024'!B:B,B48)=0,\"-\",COUNTIF('N PMRg 2024'!B:B,B48))","v":66},{"$f":"IF(ISERROR(VLOOKUP(B48,'N PMRg 2024'!B:G,6,0)),\"-\",VLOOKUP(B48,'N PMRg 2024'!B:G,6,0))","v":"-"}]
[37,"-",{"$f":"VLOOKUP(B49,Pilot!A:C,3,0)","v":" "},{"$f":"VLOOKUP(B49,Pilot!A:C,2,0)","v":" "},{"$f":"VLOOKUP(B49,Pilot!A:E,5,0)","v":" "},{"$f":"VLOOKUP(B49,Pilot!A:F,6,0)","v":" "},37,null,33,18,{"$f":"IF(COUNTIF('N PMČR 2024'!B:B,B49)=0,\"-\",COUNTIF('N PMČR 2024'!B:B,B49))","v":6},{"$f":"IF(ISERROR(VLOOKUP(B49,'N PMČR 2024'!B:G,6,0)),\"-\",VLOOKUP(B49,'N PMČR 2024'!B:G,6,0))","v":"-"},{"$f":"IF(COUNTIF('N PMRg 2024'!B:B,B49)=0,\"-\",COUNTIF('N PMRg 2024'!B:B,B49))","v":66},{"$f":"IF(ISERROR(VLOOKUP(B49,'N PMRg 2024'!B:G,6,0)),\"-\",VLOOKUP(B49,'N PMRg 2024'!B:G,6,0))","v":"-"}]
[38,"-",{"$f":"VLOOKUP(B50,Pilot!A:C,3,0)","v":" "},{"$f":"VLOOKUP(B50,Pilot!A:C,2,0)","v":" "},{"$f":"VLOOKUP(B50,Pilot!A:E,5,0)","v":" "},{"$f":"VLOOKUP(B50,Pilot!A:F,6,0)","v":" "},{"$f":"A50","v":38},null,33,18,{"$f":"IF(COUNTIF('N PMČR 2024'!B:B,B50)=0,\"-\",COUNTIF('N PMČR 2024'!B:B,B50))","v":6},{"$f":"IF(ISERROR(VLOOKUP(B50,'N PMČR 2024'!B:G,6,0)),\"-\",VLOOKUP(B50,'N PMČR 2024'!B:G,6,0))","v":"-"},{"$f":"IF(COUNTIF('N PMRg 2024'!B:B,B50)=0,\"-\",COUNTIF('N PMRg 2024'!B:B,B50))","v":66},{"$f":"IF(ISERROR(VLOOKUP(B50,'N PMRg 2024'!B:G,6,0)),\"-\",VLOOKUP(B50,'N PMRg 2024'!B:G,6,0))","v":"-"}]
[39,"-",{"$f":"VLOOKUP(B51,Pilot!A:C,3,0)","v":" "},{"$f":"VLOOKUP(B51,Pilot!A:C,2,0)","v":" "},{"$f":"VLOOKUP(B51,Pilot!A:E,5,0)","v":" "},{"$f":"VLOOKUP(B51,Pilot!A:F,6,0)","v":" "},39,null,33,18,{"$f":"IF(COUNTIF('N PMČR 2024'!B:B,B51)=0,\"-\",COUNTIF('N PMČR 2024'!B:B,B51))","v":6},{"$f":"IF(ISERROR(VLOOKUP(B51,'N PMČR 2024'!B:G,6,0)),\"-\",VLOOKUP(B51,'N PMČR 2024'!B:G,6,0))","v":"-"},{"$f":"IF(COUNTIF('N PMRg 2024'!B:B,B51)=0,\"-\",COUNTIF('N PMRg 2024'!B:B,B51))","v":66},{"$f":"IF(ISERROR(VLOOKUP(B51,'N PMRg 2024'!B:G,6,0)),\"-\",VLOOKUP(B51,'N PMRg 2024'!B:G,6,0))","v":"-"}]
[40,"-",{"$f":"VLOOKUP(B52,Pilot!A:C,3,0)","v":" "},{"$f":"VLOOKUP(B52,Pilot!A:C,2,0)","v":" "},{"$f":"VLOOKUP(B52,Pilot!A:E,5,0)","v":" "},{"$f":"VLOOKUP(B52,Pilot!A:F,6,0)","v":" "},40,null,33,18,{"$f":"IF(COUNTIF('N PMČR 2024'!B:B,B52)=0,\"-\",COUNTIF('N PMČR 2024'!B:B,B52))","v":6},{"$f":"IF(ISERROR(VLOOKUP(B52,'N PMČR 2024'!B:G,6,0)),\"-\",VLOOKUP(B52,'N PMČR 2024'!B:G,6,0))","v":"-"},{"$f":"IF(COUNTIF('N PMRg 2024'!B:B,B52)=0,\"-\",COUNTIF('N PMRg 2024'!B:B,B52))","v":66},{"$f":"IF(ISERROR(VLOOKUP(B52,'N PMRg 2024'!B:G,6,0)),\"-\",VLOOKUP(B52,'N PMRg 2024'!B:G,6,0))","v":"-"}]
["N1","-",{"$f":"VLOOKUP(B53,Pilot!A:C,3,0)","v":" "},{"$f":"VLOOKUP(B53,Pilot!A:C,2,0)","v":" "},{"$f":"VLOOKUP(B53,Pilot!A:E,5,0)","v":" "},{"$f":"VLOOKUP(B53,Pilot!A:F,6,0)","v":" "},"N1",null,33,18,{"$f":"IF(COUNTIF('N PMČR 2024'!B:B,B53)=0,\"-\",COUNTIF('N PMČR 2024'!B:B,B53))","v":6},{"$f":"IF(ISERROR(VLOOKUP(B53,'N PMČR 2024'!B:G,6,0)),\"-\",VLOOKUP(B53,'N PMČR 2024'!B:G,6,0))","v":"-"},{"$f":"IF(COUNTIF('N PMRg 2024'!B:B,B53)=0,\"-\",COUNTIF('N PMRg 2024'!B:B,B53))","v":66},{"$f":"IF(ISERROR(VLOOKUP(B53,'N PMRg 2024'!B:G,6,0)),\"-\",VLOOKUP(B53,'N PMRg 2024'!B:G,6,0))","v":"-"}]
["N2","-",{"$f":"VLOOKUP(B54,Pilot!A:C,3,0)","v":" "},{"$f":"VLOOKUP(B54,Pilot!A:C,2,0)","v":" "},{"$f":"VLOOKUP(B54,Pilot!A:E,5,0)","v":" "},{"$f":"VLOOKUP(B54,Pilot!A:F,6,0)","v":" "},"N2",null,33,18,{"$f":"IF(COUNTIF('N PMČR 2024'!B:B,B54)=0,\"-\",COUNTIF('N PMČR 2024'!B:B,B54))","v":6},{"$f":"IF(ISERROR(VLOOKUP(B54,'N PMČR 2024'!B:G,6,0)),\"-\",VLOOKUP(B54,'N PMČR 2024'!B:G,6,0))","v":"-"},{"$f":"IF(COUNTIF('N PMRg 2024'!B:B,B54)=0,\"-\",COUNTIF('N PMRg 2024'!B:B,B54))","v":66},{"$f":"IF(ISERROR(VLOOKUP(B54,'N PMRg 2024'!B:G,6,0)),\"-\",VLOOKUP(B54,'N PMRg 2024'!B:G,6,0))","v":"-"}]
["N3","-",{"$f":"VLOOKUP(B55,Pilot!A:C,3,0)","v":" "},{"$f":"VLOOKUP(B55,Pilot!A:C,2,0)","v":" "},{"$f":"VLOOKUP(B55,Pilot!A:E,5,0)","v":" "},{"$f":"VLOOKUP(B55,Pilot!A:F,6,0)","v":" "},"N3",null,33,18,{"$f":"IF(COUNTIF('N PMČR 2024'!B:B,B55)=0,\"-\",COUNTIF('N PMČR 2024'!B:B,B55))","v":6},{"$f":"IF(ISERROR(VLOOKUP(B55,'N PMČR 2024'!B:G,6,0)),\"-\",VLOOKUP(B55,'N PMČR 2024'!B:G,6,0))","v":"-"},{"$f":"IF(COUNTIF('N PMRg 2024'!B:B,B55)=0,\"-\",COUNTIF('N PMRg 2024'!B:B,B55))","v":66},{"$f":"IF(ISERROR(VLOOKUP(B55,'N PMRg 2024'!B:G,6,0)),\"-\",VLOOKUP(B55,'N PMRg 2024'!B:G,6,0))","v":"-"}]
["N4","-",{"$f":"VLOOKUP(B56,Pilot!A:C,3,0)","v":" "},{"$f":"VLOOKUP(B56,Pilot!A:C,2,0)","v":" "},{"$f":"VLOOKUP(B56,Pilot!A:E,5,0)","v":" "},{"$f":"VLOOKUP(B56,Pilot!A:F,6,0)","v":" "},"N4",null,33,18,{"$f":"IF(COUNTIF('N PMČR 2024'!B:B,B56)=0,\"-\",COUNTIF('N PMČR 2024'!B:B,B56))","v":6},{"$f":"IF(ISERROR(VLOOKUP(B56,'N PMČR 2024'!B:G,6,0)),\"-\",VLOOKUP(B56,'N PMČR 2024'!B:G,6,0))","v":"-"},{"$f":"IF(COUNTIF('N PMRg 2024'!B:B,B56)=0,\"-\",COUNTIF('N PMRg 2024'!B:B,B56))","v":66},{"$f":"IF(ISERROR(VLOOKUP(B56,'N PMRg 2024'!B:G,6,0)),\"-\",VLOOKUP(B56,'N PMRg 2024'!B:G,6,0))","v":"-"}]
["N5","-",{"$f":"VLOOKUP(B57,Pilot!A:C,3,0)","v":" "},{"$f":"VLOOKUP(B57,Pilot!A:C,2,0)","v":" "},{"$f":"VLOOKUP(B57,Pilot!A:E,5,0)","v":" "},{"$f":"VLOOKUP(B57,Pilot!A:F,6,0)","v":" "},"N5",null,33,18,{"$f":"IF(COUNTIF('N PMČR 2024'!B:B,B57)=0,\"-\",COUNTIF('N PMČR 2024'!B:B,B57))","v":6},{"$f":"IF(ISERROR(VLOOKUP(B57,'N PMČR 2024'!B:G,6,0)),\"-\",VLOOKUP(B57,'N PMČR 2024'!B:G,6,0))","v":"-"},{"$f":"IF(COUNTIF('N PMRg 2024'!B:B,B57)=0,\"-\",COUNTIF('N PMRg 2024'!B:B,B57))","v":66},{"$f":"IF(ISERROR(VLOOKUP(B57,'N PMRg 2024'!B:G,6,0)),\"-\",VLOOKUP(B57,'N PMRg 2024'!B:G,6,0))","v":"-"}]
["6.7.5.6.","Další soutěžící může navrhnout PK podle jiných kritérií dle odstavce 9. SŘ:"]
[{"$f":"MAX(A8:A57)+1","v":41},"-",{"$f":"VLOOKUP(B59,Pilot!A:C,3,0)","v":" "},{"$f":"VLOOKUP(B59,Pilot!A:C,2,0)","v":" "},{"$f":"VLOOKUP(B59,Pilot!A:E,5,0)","v":" "},{"$f":"VLOOKUP(B59,Pilot!A:F,6,0)","v":" "},{"$f":"A59","v":41},null,{"$f":"COUNTIF(B:B,B59)","v":33},{"$f":"IF(ISERROR(VLOOKUP(B59,B:G,6,0)),\"-\",VLOOKUP(B59,B:G,6,0))","v":18},{"$f":"IF(COUNTIF('N PMČR 2024'!B:B,B59)=0,\"-\",COUNTIF('N PMČR 2024'!B:B,B59))","v":6},{"$f":"IF(ISERROR(VLOOKUP(B59,'N PMČR 2024'!B:G,6,0)),\"-\",VLOOKUP(B59,'N PMČR 2024'!B:G,6,0))","v":"-"},{"$f":"IF(COUNTIF('N PMRg 2024'!B:B,B59)=0,\"-\",COUNTIF('N PMRg 2024'!B:B,B59))","v":66},{"$f":"IF(ISERROR(VLOOKUP(B59,'N PMRg 2024'!B:G,6,0)),\"-\",VLOOKUP(B59,'N PMRg 2024'!B:G,6,0))","v":"-"}]
[{"$f":"A59+1","v":42},"-",{"$f":"VLOOKUP(B60,Pilot!A:C,3,0)","v":" "},{"$f":"VLOOKUP(B60,Pilot!A:C,2,0)","v":" "},{"$f":"VLOOKUP(B60,Pilot!A:E,5,0)","v":" "},{"$f":"VLOOKUP(B60,Pilot!A:F,6,0)","v":" "},{"$f":"A60","v":42},null,{"$f":"COUNTIF(B:B,B60)","v":33},{"$f":"IF(ISERROR(VLOOKUP(B60,B:G,6,0)),\"-\",VLOOKUP(B60,B:G,6,0))","v":18},{"$f":"IF(COUNTIF('N PMČR 2024'!B:B,B60)=0,\"-\",COUNTIF('N PMČR 2024'!B:B,B60))","v":6},{"$f":"IF(ISERROR(VLOOKUP(B60,'N PMČR 2024'!B:G,6,0)),\"-\",VLOOKUP(B60,'N PMČR 2024'!B:G,6,0))","v":"-"},{"$f":"IF(COUNTIF('N PMRg 2024'!B:B,B60)=0,\"-\",COUNTIF('N PMRg 2024'!B:B,B60))","v":66},{"$f":"IF(ISERROR(VLOOKUP(B60,'N PMRg 2024'!B:G,6,0)),\"-\",VLOOKUP(B60,'N PMRg 2024'!B:G,6,0))","v":"-"}]
[{"$f":"A60+1","v":43},"-",{"$f":"VLOOKUP(B61,Pilot!A:C,3,0)","v":" "},{"$f":"VLOOKUP(B61,Pilot!A:C,2,0)","v":" "},{"$f":"VLOOKUP(B61,Pilot!A:E,5,0)","v":" "},{"$f":"VLOOKUP(B61,Pilot!A:F,6,0)","v":" "},{"$f":"A61","v":43},null,{"$f":"COUNTIF(B:B,B61)","v":33},{"$f":"IF(ISERROR(VLOOKUP(B61,B:G,6,0)),\"-\",VLOOKUP(B61,B:G,6,0))","v":18},{"$f":"IF(COUNTIF('N PMČR 2024'!B:B,B61)=0,\"-\",COUNTIF('N PMČR 2024'!B:B,B61))","v":6},{"$f":"IF(ISERROR(VLOOKUP(B61,'N PMČR 2024'!B:G,6,0)),\"-\",VLOOKUP(B61,'N PMČR 2024'!B:G,6,0))","v":"-"},{"$f":"IF(COUNTIF('N PMRg 2024'!B:B,B61)=0,\"-\",COUNTIF('N PMRg 2024'!B:B,B61))","v":66},{"$f":"IF(ISERROR(VLOOKUP(B61,'N PMRg 2024'!B:G,6,0)),\"-\",VLOOKUP(B61,'N PMRg 2024'!B:G,6,0))","v":"-"}]
[44,"-",{"$f":"VLOOKUP(B62,Pilot!A:C,3,0)","v":" "},{"$f":"VLOOKUP(B62,Pilot!A:C,2,0)","v":" "},{"$f":"VLOOKUP(B62,Pilot!A:E,5,0)","v":" "},{"$f":"VLOOKUP(B62,Pilot!A:F,6,0)","v":" "},{"$f":"A62","v":44},null,{"$f":"COUNTIF(B:B,B62)","v":33},{"$f":"IF(ISERROR(VLOOKUP(B62,B:G,6,0)),\"-\",VLOOKUP(B62,B:G,6,0))","v":18},{"$f":"IF(COUNTIF('N PMČR 2024'!B:B,B62)=0,\"-\",COUNTIF('N PMČR 2024'!B:B,B62))","v":6},{"$f":"IF(ISERROR(VLOOKUP(B62,'N PMČR 2024'!B:G,6,0)),\"-\",VLOOKUP(B62,'N PMČR 2024'!B:G,6,0))","v":"-"},{"$f":"IF(COUNTIF('N PMRg 2024'!B:B,B62)=0,\"-\",COUNTIF('N PMRg 2024'!B:B,B62))","v":66},{"$f":"IF(ISERROR(VLOOKUP(B62,'N PMRg 2024'!B:G,6,0)),\"-\",VLOOKUP(B62,'N PMRg 2024'!B:G,6,0))","v":"-"}]
[45,"-",{"$f":"VLOOKUP(B63,Pilot!A:C,3,0)","v":" "},{"$f":"VLOOKUP(B63,Pilot!A:C,2,0)","v":" "},{"$f":"VLOOKUP(B63,Pilot!A:E,5,0)","v":" "},{"$f":"VLOOKUP(B63,Pilot!A:F,6,0)","v":" "},{"$f":"A63","v":45},null,{"$f":"COUNTIF(B:B,B63)","v":33},{"$f":"IF(ISERROR(VLOOKUP(B63,B:G,6,0)),\"-\",VLOOKUP(B63,B:G,6,0))","v":18},{"$f":"IF(COUNTIF('N PMČR 2024'!B:B,B63)=0,\"-\",COUNTIF('N PMČR 2024'!B:B,B63))","v":6},{"$f":"IF(ISERROR(VLOOKUP(B63,'N PMČR 2024'!B:G,6,0)),\"-\",VLOOKUP(B63,'N PMČR 2024'!B:G,6,0))","v":"-"},{"$f":"IF(COUNTIF('N PMRg 2024'!B:B,B63)=0,\"-\",COUNTIF('N PMRg 2024'!B:B,B63))","v":66},{"$f":"IF(ISERROR(VLOOKUP(B63,'N PMRg 2024'!B:G,6,0)),\"-\",VLOOKUP(B63,'N PMRg 2024'!B:G,6,0))","v":"-"}]
[]
["6.7.6.","Statut juniora:"]
[null,"Za juniora jsou považování všichni soutěžící, kteří dovrší maximálně 25 let v kalendářním roce konání soutěže."]

{"sheet":"N PMRg 2024","index":14,"n_rows":90,"n_cols":18,"rows_kept":90,"cut":false,"hidden":false,"merged":[[5,1,5,7],[19,1,19,7],[20,1,20,7],[23,1,23,7]]}
[null,"Nominace na PMRg 2024",null,null,null,null,null,"Kontrola:","Počet","Nominace","Počet","Nominace","Počet","Nominace","M:","F:","M+F:"]
["No","Jméno","Aeroklub","Rok narození","M/F","Junior","No",null,"PMRg","PMRg","PMČR","PMČR","PMČRj","PMČRj",{"$f":"COUNTIF(E:E,\"M\")","v":9},{"$f":"COUNTIF(E:E,\"F\")","v":1},{"$f":"O2+P2","v":10},"S náhradníky"]
["6.8.5.","Nominace na PMRg (dle SŘ ZM11)",null,null,null,null,null,null,null,null,null,null,null,"Celkem řádně nominováno:",{"$f":"O2-COUNTIF(E75:E83,\"M\")","v":9},{"$f":"P2-COUNTIF(E80:E83,\"F\")","v":1},{"$f":"O3+P3","v":10},"Bez náhradníků"]
[null,"Na PMRg nominuje PK minimálně 60 pilotů/pilotek a příslušný počet náhradníků pro stanovená nominační kritéria."]
[null,"Na PMRg jsou nominováni:"]
[null,"Všichni soutěžící z posledního platného PMČR, kteří nepostoupili na PMČR v roce konání PMRg (bez náhradníků):"]
[null,"PMČR 2023 - Moravská Třebová - Klub"]
[1,"Vojtech Vach 03",{"$f":"VLOOKUP(B8,Pilot!A:C,3,0)","v":"Nové Město nad Metují"},{"$f":"VLOOKUP(B8,Pilot!A:C,2,0)","v":2003},{"$f":"VLOOKUP(B8,Pilot!A:E,5,0)","v":"M"},{"$f":"VLOOKUP(B8,Pilot!A:F,6,0)","v":"Junior v roce 2024"},{"$f":"A8","v":1},null,{"$f":"COUNTIF(B:B,B8)","v":1},{"$f":"IF(ISERROR(VLOOKUP(B8,B:G,6,0)),\"-\",VLOOKUP(B8,B:G,6,0))","v":1},{"$f":"IF(COUNTIF('N PMČR 2024'!B:B,B8)=0,\"-\",COUNTIF('N PMČR 2024'!B:B,B8))","v":1},{"$f":"IF(ISERROR(VLOOKUP(B8,'N PMČR 2024'!B:G,6,0)),\"-\",VLOOKUP(B8,'N PMČR 2024'!B:G,6,0))","v":"N2"},{"$f":"IF(COUNTIF('N PMČRj 2024'!B:B,B8)=0,\"-\",COUNTIF('N PMČRj 2024'!B:B,B8))","v":1},{"$f":"IF(ISERROR(VLOOKUP(B8,'N PMČRj 2024'!B:G,6,0)),\"-\",VLOOKUP(B8,'N PMČRj 2024'!B:G,6,0))","v":10}]
[{"$f":"A8+1","v":2},"Petr Masik",{"$f":"VLOOKUP(B9,Pilot!A:C,3,0)","v":"Zábřeh"},{"$f":"VLOOKUP(B9,Pilot!A:C,2,0)","v":2001},{"$f":"VLOOKUP(B9,Pilot!A:E,5,0)","v":"M"},{"$f":"VLOOKUP(B9,Pilot!A:F,6,0)","v":"Junior v roce 2024"},{"$f":"A9","v":2},null,1,2,{"$f":"IF(COUNTIF('N PMČR 2024'!B:B,B9)=0,\"-\",COUNTIF('N PMČR 2024'!B:B,B9))","v":1},{"$f":"IF(ISERROR(VLOOKUP(B9,'N PMČR 2024'!B:G,6,0)),\"-\",VLOOKUP(B9,'N PMČR 2024'!B:G,6,0))","v":"N3"},{"$f":"IF(COUNTIF('N PMČRj 2024'!B:B,B9)=0,\"-\",COUNTIF('N PMČRj 2024'!B:B,B9))","v":1},{"$f":"IF(ISERROR(VLOOKUP(B9,'N PMČRj 2024'!B:G,6,0)),\"-\",VLOOKUP(B9,'N PMČRj 2024'!B:G,6,0))","v":11}]
[{"$f":"A9+1","v":3},"Martin Stepanek",{"$f":"VLOOKUP(B10,Pilot!A:C,3,0)","v":"Moravská Třebová"},{"$f":"VLOOKUP(B10,Pilot!A:C,2,0)","v":1987},{"$f":"VLOOKUP(B10,Pilot!A:E,5,0)","v":"M"},{"$f":"VLOOKUP(B10,Pilot!A:F,6,0)","v":""},3,null,1,3,{"$f":"IF(COUNTIF('N PMČR 2024'!B:B,B10)=0,\"-\",COUNTIF('N PMČR 2024'!B:B,B10))","v":"-"},{"$f":"IF(ISERROR(VLOOKUP(B10,'N PMČR 2024'!B:G,6,0)),\"-\",VLOOKUP(B10,'N PMČR 2024'!B:G,6,0))","v":"-"},{"$f":"IF(COUNTIF('N PMČRj 2024'!B:B,B10)=0,\"-\",COUNTIF('N PMČRj 2024'!B:B,B10))","v":"-"},{"$f":"IF(ISERROR(VLOOKUP(B10,'N PMČRj 2024'!B:G,6,0)),\"-\",VLOOKUP(B10,'N PMČRj 2024'!B:G,6,0))","v":"-"}]
[4,"Pavlina Horackova",{"$f":"VLOOKUP(B11,Pilot!A:C,3,0)","v":"Šumperk"},{"$f":"VLOOKUP(B11,Pilot!A:C,2,0)","v":1965},{"$f":"VLOOKUP(B11,Pilot!A:E,5,0)","v":"F"},{"$f":"VLOOKUP(B11,Pilot!A:F,6,0)","v":""},4,null,1,4,{"$f":"IF(COUNTIF('N PMČR 2024'!B:B,B11)=0,\"-\",COUNTIF('N PMČR 2024'!B:B,B11))","v":"-"},{"$f":"IF(ISERROR(VLOOKUP(B11,'N PMČR 2024'!B:G,6,0)),\"-\",VLOOKUP(B11,'N PMČR 2024'!B:G,6,0))","v":"-"},{"$f":"IF(COUNTIF('N PMČRj 2024'!B:B,B11)=0,\"-\",COUNTIF('N PMČRj 2024'!B:B,B11))","v":"-"},{"$f":"IF(ISERROR(VLOOKUP(B11,'N PMČRj 2024'!B:G,6,0)),\"-\",VLOOKUP(B11,'N PMČRj 2024'!B:G,6,0))","v":"-"}]
[5,"Fabian Curda",{"$f":"VLOOKUP(B12,Pilot!A:C,3,0)","v":"Zábřeh"},{"$f":"VLOOKUP(B12,Pilot!A:C,2,0)","v":2004},{"$f":"VLOOKUP(B12,Pilot!A:E,5,0)","v":"M"},{"$f":"VLOOKUP(B12,Pilot!A:F,6,0)","v":"Junior v roce 2024"},{"$f":"A12","v":5},null,1,5,{"$f":"IF(COUNTIF('N PMČR 2024'!B:B,B12)=0,\"-\",COUNTIF('N PMČR 2024'!B:B,B12))","v":"-"},{"$f":"IF(ISERROR(VLOOKUP(B12,'N PMČR 2024'!B:G,6,0)),\"-\",VLOOKUP(B12,'N PMČR 2024'!B:G,6,0))","v":"-"},{"$f":"IF(COUNTIF('N PMČRj 2024'!B:B,B12)=0,\"-\",COUNTIF('N PMČRj 2024'!B:B,B12))","v":1},{"$f":"IF(ISERROR(VLOOKUP(B12,'N PMČRj 2024'!B:G,6,0)),\"-\",VLOOKUP(B12,'N PMČRj 2024'!B:G,6,0))","v":12}]
[6,"Adam Hepal",{"$f":"VLOOKUP(B13,Pilot!A:C,3,0)","v":"Moravská Třebová"},{"$f":"VLOOKUP(B13,Pilot!A:C,2,0)","v":2004},{"$f":"VLOOKUP(B13,Pilot!A:E,5,0)","v":"M"},{"$f":"VLOOKUP(B13,Pilot!A:F,6,0)","v":"Junior v roce 2024"},6,null,1,6,{"$f":"IF(COUNTIF('N PMČR 2024'!B:B,B13)=0,\"-\",COUNTIF('N PMČR 2024'!B:B,B13))","v":"-"},{"$f":"IF(ISERROR(VLOOKUP(B13,'N PMČR 2024'!B:G,6,0)),\"-\",VLOOKUP(B13,'N PMČR 2024'!B:G,6,0))","v":"-"},{"$f":"IF(COUNTIF('N PMČRj 2024'!B:B,B13)=0,\"-\",COUNTIF('N PMČRj 2024'!B:B,B13))","v":1},{"$f":"IF(ISERROR(VLOOKUP(B13,'N PMČRj 2024'!B:G,6,0)),\"-\",VLOOKUP(B13,'N PMČRj 2024'!B:G,6,0))","v":13}]
[null,"PMČR 2023 - Moravská Třebová - Kombi 15m"]
[{"$f":"MAX(A8:A14)+1","v":7},"Jiri Stepanek",{"$f":"VLOOKUP(B15,Pilot!A:C,3,0)","v":"Moravská Třebová"},{"$f":"VLOOKUP(B15,Pilot!A:C,2,0)","v":1956},{"$f":"VLOOKUP(B15,Pilot!A:E,5,0)","v":"M"},{"$f":"VLOOKUP(B15,Pilot!A:F,6,0)","v":""},{"$f":"A15","v":7},null,{"$f":"COUNTIF(B:B,B15)","v":1},{"$f":"IF(ISERROR(VLOOKUP(B15,B:G,6,0)),\"-\",VLOOKUP(B15,B:G,6,0))","v":7},{"$f":"IF(COUNTIF('N PMČR 2024'!B:B,B15)=0,\"-\",COUNTIF('N PMČR 2024'!B:B,B15))","v":1},{"$f":"IF(ISERROR(VLOOKUP(B15,'N PMČR 2024'!B:G,6,0)),\"-\",VLOOKUP(B15,'N PMČR 2024'!B:G,6,0))","v":"N10"},{"$f":"IF(COUNTIF('N PMČRj 2024'!B:B,B15)=0,\"-\",COUNTIF('N PMČRj 2024'!B:B,B15))","v":"-"},{"$f":"IF(ISERROR(VLOOKUP(B15,'N PMČRj 2024'!B:G,6,0)),\"-\",VLOOKUP(B15,'N PMČRj 2024'!B:G,6,0))","v":"-"}]
[{"$f":"MAX(A9:A15)+1","v":8},"Jan Hrbatsch",{"$f":"VLOOKUP(B16,Pilot!A:C,3,0)","v":"Hodkovice"},{"$f":"VLOOKUP(B16,Pilot!A:C,2,0)","v":1989},{"$f":"VLOOKUP(B16,Pilot!A:E,5,0)","v":"M"},{"$f":"VLOOKUP(B16,Pilot!A:F,6,0)","v":""},{"$f":"A16","v":8},null,{"$f":"COUNTIF(B:B,B16)","v":1},{"$f":"IF(ISERROR(VLOOKUP(B16,B:G,6,0)),\"-\",VLOOKUP(B16,B:G,6,0))","v":8},{"$f":"IF(COUNTIF('N PMČR 2024'!B:B,B16)=0,\"-\",COUNTIF('N PMČR 2024'!B:B,B16))","v":"-"},{"$f":"IF(ISERROR(VLOOKUP(B16,'N PMČR 2024'!B:G,6,0)),\"-\",VLOOKUP(B16,'N PMČR 2024'!B:G,6,0))","v":"-"},{"$f":"IF(COUNTIF('N PMČRj 2024'!B:B,B16)=0,\"-\",COUNTIF('N PMČRj 2024'!B:B,B16))","v":"-"},{"$f":"IF(ISERROR(VLOOKUP(B16,'N PMČRj 2024'!B:G,6,0)),\"-\",VLOOKUP(B16,'N PMČRj 2024'!B:G,6,0))","v":"-"}]
[null,"PMČR 2023 - Moravská Třebová - Kombi Open"]
[{"$f":"MAX(A8:A17)+1","v":9},"Dusan Gadas",{"$f":"VLOOKUP(B18,Pilot!A:C,3,0)","v":"Hranice"},{"$f":"VLOOKUP(B18,Pilot!A:C,2,0)","v":1960},{"$f":"VLOOKUP(B18,Pilot!A:E,5,0)","v":"M"},{"$f":"VLOOKUP(B18,Pilot!A:F,6,0)","v":""},{"$f":"A18","v":9},null,{"$f":"COUNTIF(B:B,B18)","v":1},{"$f":"IF(ISERROR(VLOOKUP(B18,B:G,6,0)),\"-\",VLOOKUP(B18,B:G,6,0))","v":9},{"$f":"IF(COUNTIF('N PMČR 2024'!B:B,B18)=0,\"-\",COUNTIF('N PMČR 2024'!B:B,B18))","v":"-"},{"$f":"IF(ISERROR(VLOOKUP(B18,'N PMČR 2024'!B:G,6,0)),\"-\",VLOOKUP(B18,'N PMČR 2024'!B:G,6,0))","v":"-"},{"$f":"IF(COUNTIF('N PMČRj 2024'!B:B,B18)=0,\"-\",COUNTIF('N PMČRj 2024'!B:B,B18))","v":"-"},{"$f":"IF(ISERROR(VLOOKUP(B18,'N PMČRj 2024'!B:G,6,0)),\"-\",VLOOKUP(B18,'N PMČRj 2024'!B:G,6,0))","v":"-"}]
[{"$f":"MAX(A9:A18)+1","v":10},"Antonin Kutalek",{"$f":"VLOOKUP(B19,Pilot!A:C,3,0)","v":"Zábřeh"},{"$f":"VLOOKUP(B19,Pilot!A:C,2,0)","v":1943},{"$f":"VLOOKUP(B19,Pilot!A:E,5,0)","v":"M"},{"$f":"VLOOKUP(B19,Pilot!A:F,6,0)","v":""},{"$f":"A19","v":10},null,{"$f":"COUNTIF(B:B,B19)","v":1},{"$f":"IF(ISERROR(VLOOKUP(B19,B:G,6,0)),\"-\",VLOOKUP(B19,B:G,6,0))","v":10},{"$f":"IF(COUNTIF('N PMČR 2024'!B:B,B19)=0,\"-\",COUNTIF('N PMČR 2024'!B:B,B19))","v":"-"},{"$f":"IF(ISERROR(VLOOKUP(B19,'N PMČR 2024'!B:G,6,0)),\"-\",VLOOKUP(B19,'N PMČR 2024'!B:G,6,0))","v":"-"},{"$f":"IF(COUNTIF('N PMČRj 2024'!B:B,B19)=0,\"-\",COUNTIF('N PMČRj 2024'!B:B,B19))","v":"-"},{"$f":"IF(ISERROR(VLOOKUP(B19,'N PMČRj 2024'!B:G,6,0)),\"-\",VLOOKUP(B19,'N PMČRj 2024'!B:G,6,0))","v":"-"}]
[null,"Prvních 10 soutěžících z posledního platného PMRg, kteří nepostoupili na PMČR v roce konání PMRg, v pořadí podle korigovaných bodů ze všech tříd (bez náhradníků):"]
[null,"V případě neplatnosti některé ze soutěžních tříd posledního PMRg budou pro výpočet korigovaných bodů použity výsledky z posledního platného PMRg v dané třídě."]
[null,"PMRg 2023 - Hosín - Korigované body"]
["-","-",null,{"$f":"VLOOKUP(B23,Pilot!A:C,2,0)","v":" "},{"$f":"VLOOKUP(B23,Pilot!A:E,5,0)","v":" "},{"$f":"VLOOKUP(B23,Pilot!A:F,6,0)","v":" "},{"$f":"A23","v":"-"},null,{"$f":"COUNTIF(B:B,B23)","v":66},{"$f":"IF(ISERROR(VLOOKUP(B23,B:G,6,0)),\"-\",VLOOKUP(B23,B:G,6,0))","v":"-"},{"$f":"IF(COUNTIF('N PMČR 2024'!B:B,B23)=0,\"-\",COUNTIF('N PMČR 2024'!B:B,B23))","v":6},{"$f":"IF(ISERROR(VLOOKUP(B23,'N PMČR 2024'!B:G,6,0)),\"-\",VLOOKUP(B23,'N PMČR 2024'!B:G,6,0))","v":"-"},{"$f":"IF(COUNTIF('N PMČRj 2024'!B:B,B23)=0,\"-\",COUNTIF('N PMČRj 2024'!B:B,B23))","v":33},{"$f":"IF(ISERROR(VLOOKUP(B23,'N PMČRj 2024'!B:G,6,0)),\"-\",VLOOKUP(B23,'N PMČRj 2024'!B:G,6,0))","v":18}]
[null,"Soutěžící z regionů Čechy 1, Čechy 2 a Morava v pořadí podle celkového umístění v CPS-INT předcházejícího roku konání PMRg do naplnění celkového počtu minimálně 60 nominovaných (+ 10 náhradníků):"]
[{"$f":"MAX(A8:A24)+1","v":11},"-",{"$f":"VLOOKUP(B25,Pilot!A:C,3,0)","v":" "},{"$f":"VLOOKUP(B25,Pilot!A:C,2,0)","v":" "},{"$f":"VLOOKUP(B25,Pilot!A:E,5,0)","v":" "},{"$f":"VLOOKUP(B25,Pilot!A:F,6,0)","v":" "},{"$f":"A25","v":11},null,{"$f":"COUNTIF(B:B,B25)","v":66},{"$f":"IF(ISERROR(VLOOKUP(B25,B:G,6,0)),\"-\",VLOOKUP(B25,B:G,6,0))","v":"-"},{"$f":"IF(COUNTIF('N PMČR 2024'!B:B,B25)=0,\"-\",COUNTIF('N PMČR 2024'!B:B,B25))","v":6},{"$f":"IF(ISERROR(VLOOKUP(B25,'N PMČR 2024'!B:G,6,0)),\"-\",VLOOKUP(B25,'N PMČR 2024'!B:G,6,0))","v":"-"},{"$f":"IF(COUNTIF('N PMČRj 2024'!B:B,B25)=0,\"-\",COUNTIF('N PMČRj 2024'!B:B,B25))","v":33},{"$f":"IF(ISERROR(VLOOKUP(B25,'N PMČRj 2024'!B:G,6,0)),\"-\",VLOOKUP(B25,'N PMČRj 2024'!B:G,6,0))","v":18}]
[{"$f":"A25+1","v":12},"-",{"$f":"VLOOKUP(B26,Pilot!A:C,3,0)","v":" "},{"$f":"VLOOKUP(B26,Pilot!A:C,2,0)","v":" "},{"$f":"VLOOKUP(B26,Pilot!A:E,5,0)","v":" "},{"$f":"VLOOKUP(B26,Pilot!A:F,6,0)","v":" "},12,null,66,"-",{"$f":"IF(COUNTIF('N PMČR 2024'!B:B,B26)=0,\"-\",COUNTIF('N PMČR 2024'!B:B,B26))","v":6},{"$f":"IF(ISERROR(VLOOKUP(B26,'N PMČR 2024'!B:G,6,0)),\"-\",VLOOKUP(B26,'N PMČR 2024'!B:G,6,0))","v":"-"},{"$f":"IF(COUNTIF('N PMČRj 2024'!B:B,B26)=0,\"-\",COUNTIF('N PMČRj 2024'!B:B,B26))","v":33},{"$f":"IF(ISERROR(VLOOKUP(B26,'N PMČRj 2024'!B:G,6,0)),\"-\",VLOOKUP(B26,'N PMČRj 2024'!B:G,6,0))","v":18}]
[{"$f":"A26+1","v":13},"-",{"$f":"VLOOKUP(B27,Pilot!A:C,3,0)","v":" "},{"$f":"VLOOKUP(B27,Pilot!A:C,2,0)","v":" "},{"$f":"VLOOKUP(B27,Pilot!A:E,5,0)","v":" "},{"$f":"VLOOKUP(B27,Pilot!A:F,6,0)","v":" "},13,null,66,"-",{"$f":"IF(COUNTIF('N PMČR 2024'!B:B,B27)=0,\"-\",COUNTIF('N PMČR 2024'!B:B,B27))","v":6},{"$f":"IF(ISERROR(VLOOKUP(B27,'N PMČR 2024'!B:G,6,0)),\"-\",VLOOKUP(B27,'N PMČR 2024'!B:G,6,0))","v":"-"},{"$f":"IF(COUNTIF('N PMČRj 2024'!B:B,B27)=0,\"-\",COUNTIF('N PMČRj 2024'!B:B,B27))","v":33},{"$f":"IF(ISERROR(VLOOKUP(B27,'N PMČRj 2024'!B:G,6,0)),\"-\",VLOOKUP(B27,'N PMČRj 2024'!B:G,6,0))","v":18}]
[14,"-",{"$f":"VLOOKUP(B28,Pilot!A:C,3,0)","v":" "},{"$f":"VLOOKUP(B28,Pilot!A:C,2,0)","v":" "},{"$f":"VLOOKUP(B28,Pilot!A:E,5,0)","v":" "},{"$f":"VLOOKUP(B28,Pilot!A:F,6,0)","v":" "},14,null,66,"-",{"$f":"IF(COUNTIF('N PMČR 2024'!B:B,B28)=0,\"-\",COUNTIF('N PMČR 2024'!B:B,B28))","v":6},{"$f":"IF(ISERROR(VLOOKUP(B28,'N PMČR 2024'!B:G,6,0)),\"-\",VLOOKUP(B28,'N PMČR 2024'!B:G,6,0))","v":"-"},{"$f":"IF(COUNTIF('N PMČRj 2024'!B:B,B28)=0,\"-\",COUNTIF('N PMČRj 2024'!B:B,B28))","v":33},{"$f":"IF(ISERROR(VLOOKUP(B28,'N PMČRj 2024'!B:G,6,0)),\"-\",VLOOKUP(B28,'N PMČRj 2024'!B:G,6,0))","v":18}]
[15,"-",{"$f":"VLOOKUP(B29,Pilot!A:C,3,0)","v":" "},{"$f":"VLOOKUP(B29,Pilot!A:C,2,0)","v":" "},{"$f":"VLOOKUP(B29,Pilot!A:E,5,0)","v":" "},{"$f":"VLOOKUP(B29,Pilot!A:F,6,0)","v":" "},15,null,66,"-",{"$f":"IF(COUNTIF('N PMČR 2024'!B:B,B29)=0,\"-\",COUNTIF('N PMČR 2024'!B:B,B29))","v":6},{"$f":"IF(ISERROR(VLOOKUP(B29,'N PMČR 2024'!B:G,6,0)),\"-\",VLOOKUP(B29,'N PMČR 2024'!B:G,6,0))","v":"-"},{"$f":"IF(COUNTIF('N PMČRj 2024'!B:B,B29)=0,\"-\",COUNTIF('N PMČRj 2024'!B:B,B29))","v":33},{"$f":"IF(ISERROR(VLOOKUP(B29,'N PMČRj 2024'!B:G,6,0)),\"-\",VLOOKUP(B29,'N PMČRj 2024'!B:G,6,0))","v":18}]
[16,"-",{"$f":"VLOOKUP(B30,Pilot!A:C,3,0)","v":" "},{"$f":"VLOOKUP(B30,Pilot!A:C,2,0)","v":" "},{"$f":"VLOOKUP(B30,Pilot!A:E,5,0)","v":" "},{"$f":"VLOOKUP(B30,Pilot!A:F,6,0)","v":" "},16,null,66,"-",{"$f":"IF(COUNTIF('N PMČR 2024'!B:B,B30)=0,\"-\",COUNTIF('N PMČR 2024'!B:B,B30))","v":6},{"$f":"IF(ISERROR(VLOOKUP(B30,'N PMČR 2024'!B:G,6,0)),\"-\",VLOOKUP(B30,'N PMČR 2024'!B:G,6,0))","v":"-"},{"$f":"IF(COUNTIF('N PMČRj 2024'!B:B,B30)=0,\"-\",COUNTIF('N PMČRj 2024'!B:B,B30))","v":33},{"$f":"IF(ISERROR(VLOOKUP(B30,'N PMČRj 2024'!B:G,6,0)),\"-\",VLOOKUP(B30,'N PMČRj 2024'!B:G,6,0))","v":18}]
[17,"-",{"$f":"VLOOKUP(B31,Pilot!A:C,3,0)","v":" "},{"$f":"VLOOKUP(B31,Pilot!A:C,2,0)","v":" "},{"$f":"VLOOKUP(B31,Pilot!A:E,5,0)","v":" "},{"$f":"VLOOKUP(B31,Pilot!A:F,6,0)","v":" "},17,null,66,"-",{"$f":"IF(COUNTIF('N PMČR 2024'!B:B,B31)=0,\"-\",COUNTIF('N PMČR 2024'!B:B,B31))","v":6},{"$f":"IF(ISERROR(VLOOKUP(B31,'N PMČR 2024'!B:G,6,0)),\"-\",VLOOKUP(B31,'N PMČR 2024'!B:G,6,0))","v":"-"},{"$f":"IF(COUNTIF('N PMČRj 2024'!B:B,B31)=0,\"-\",COUNTIF('N PMČRj 2024'!B:B,B31))","v":33},{"$f":"IF(ISERROR(VLOOKUP(B31,'N PMČRj 2024'!B:G,6,0)),\"-\",VLOOKUP(B31,'N PMČRj 2024'!B:G,6,0))","v":18}]
[18,"-",{"$f":"VLOOKUP(B32,Pilot!A:C,3,0)","v":" "},{"$f":"VLOOKUP(B32,Pilot!A:C,2,0)","v":" "},{"$f":"VLOOKUP(B32,Pilot!A:E,5,0)","v":" "},{"$f":"VLOOKUP(B32,Pilot!A:F,6,0)","v":" "},18,null,66,"-",{"$f":"IF(COUNTIF('N PMČR 2024'!B:B,B32)=0,\"-\",COUNTIF('N PMČR 2024'!B:B,B32))","v":6},{"$f":"IF(ISERROR(VLOOKUP(B32,'N PMČR 2024'!B:G,6,0)),\"-\",VLOOKUP(B32,'N PMČR 2024'!B:G,6,0))","v":"-"},{"$f":"IF(COUNTIF('N PMČRj 2024'!B:B,B32)=0,\"-\",COUNTIF('N PMČRj 2024'!B:B,B32))","v":33},{"$f":"IF(ISERROR(VLOOKUP(B32,'N PMČRj 2024'!B:G,6,0)),\"-\",VLOOKUP(B32,'N PMČRj 2024'!B:G,6,0))","v":18}]
[19,"-",{"$f":"VLOOKUP(B33,Pilot!A:C,3,0)","v":" "},{"$f":"VLOOKUP(B33,Pilot!A:C,2,0)","v":" "},{"$f":"VLOOKUP(B33,Pilot!A:E,5,0)","v":" "},{"$f":"VLOOKUP(B33,Pilot!A:F,6,0)","v":" "},19,null,66,"-",{"$f":"IF(COUNTIF('N PMČR 2024'!B:B,B33)=0,\"-\",COUNTIF('N PMČR 2024'!B:B,B33))","v":6},{"$f":"IF(ISERROR(VLOOKUP(B33,'N PMČR 2024'!B:G,6,0)),\"-\",VLOOKUP(B33,'N PMČR 2024'!B:G,6,0))","v":"-"},{"$f":"IF(COUNTIF('N PMČRj 2024'!B:B,B33)=0,\"-\",COUNTIF('N PMČRj 2024'!B:B,B33))","v":33},{"$f":"IF(ISERROR(VLOOKUP(B33,'N PMČRj 2024'!B:G,6,0)),\"-\",VLOOKUP(B33,'N PMČRj 2024'!B:G,6,0))","v":18}]
[20,"-",{"$f":"VLOOKUP(B34,Pilot!A:C,3,0)","v":" "},{"$f":"VLOOKUP(B34,Pilot!A:C,2,0)","v":" "},{"$f":"VLOOKUP(B34,Pilot!A:E,5,0)","v":" "},{"$f":"VLOOKUP(B34,Pilot!A:F,6,0)","v":" "},20,null,66,"-",{"$f":"IF(COUNTIF('N PMČR 2024'!B:B,B34)=0,\"-\",COUNTIF('N PMČR 2024'!B:B,B34))","v":6},{"$f":"IF(ISERROR(VLOOKUP(B34,'N PMČR 2024'!B:G,6,0)),\"-\",VLOOKUP(B34,'N PMČR 2024'!B:G,6,0))","v":"-"},{"$f":"IF(COUNTIF('N PMČRj 2024'!B:B,B34)=0,\"-\",COUNTIF('N PMČRj 2024'!B:B,B34))","v":33},{"$f":"IF(ISERROR(VLOOKUP(B34,'N PMČRj 2024'!B:G,6,0)),\"-\",VLOOKUP(B34,'N PMČRj 2024'!B:G,6,0))","v":18}]
[21,"-",{"$f":"VLOOKUP(B35,Pilot!A:C,3,0)","v":" "},{"$f":"VLOOKUP(B35,Pilot!A:C,2,0)","v":" "},{"$f":"VLOOKUP(B35,Pilot!A:E,5,0)","v":" "},{"$f":"VLOOKUP(B35,Pilot!A:F,6,0)","v":" "},21,null,66,"-",{"$f":"IF(COUNTIF('N PMČR 2024'!B:B,B35)=0,\"-\",COUNTIF('N PMČR 2024'!B:B,B35))","v":6},{"$f":"IF(ISERROR(VLOOKUP(B35,'N PMČR 2024'!B:G,6,0)),\"-\",VLOOKUP(B35,'N PMČR 2024'!B:G,6,0))","v":"-"},{"$f":"IF(COUNTIF('N PMČRj 2024'!B:B,B35)=0,\"-\",COUNTIF('N PMČRj 2024'!B:B,B35))","v":33},{"$f":"IF(ISERROR(VLOOKUP(B35,'N PMČRj 2024'!B:G,6,0)),\"-\",VLOOKUP(B35,'N PMČRj 2024'!B:G,6,0))","v":18}]
[22,"-",{"$f":"VLOOKUP(B36,Pilot!A:C,3,0)","v":" "},{"$f":"VLOOKUP(B36,Pilot!A:C,2,0)","v":" "},{"$f":"VLOOKUP(B36,Pilot!A:E,5,0)","v":" "},{"$f":"VLOOKUP(B36,Pilot!A:F,6,0)","v":" "},22,null,66,"-",{"$f":"IF(COUNTIF('N PMČR 2024'!B:B,B36)=0,\"-\",COUNTIF('N PMČR 2024'!B:B,B36))","v":6},{"$f":"IF(ISERROR(VLOOKUP(B36,'N PMČR 2024'!B:G,6,0)),\"-\",VLOOKUP(B36,'N PMČR 2024'!B:G,6,0))","v":"-"},{"$f":"IF(COUNTIF('N PMČRj 2024'!B:B,B36)=0,\"-\",COUNTIF('N PMČRj 2024'!B:B,B36))","v":33},{"$f":"IF(ISERROR(VLOOKUP(B36,'N PMČRj 2024'!B:G,6,0)),\"-\",VLOOKUP(B36,'N PMČRj 2024'!B:G,6,0))","v":18}]
[23,"-",{"$f":"VLOOKUP(B37,Pilot!A:C,3,0)","v":" "},{"$f":"VLOOKUP(B37,Pilot!A:C,2,0)","v":" "},{"$f":"VLOOKUP(B37,Pilot!A:E,5,0)","v":" "},{"$f":"VLOOKUP(B37,Pilot!A:F,6,0)","v":" "},23,null,66,"-",{"$f":"IF(COUNTIF('N PMČR 2024'!B:B,B37)=0,\"-\",COUNTIF('N PMČR 2024'!B:B,B37))","v":6},{"$f":"IF(ISERROR(VLOOKUP(B37,'N PMČR 2024'!B:G,6,0)),\"-\",VLOOKUP(B37,'N PMČR 2024'!B:G,6,0))","v":"-"},{"$f":"IF(COUNTIF('N PMČRj 2024'!B:B,B37)=0,\"-\",COUNTIF('N PMČRj 2024'!B:B,B37))","v":33},{"$f":"IF(ISERROR(VLOOKUP(B37,'N PMČRj 2024'!B:G,6,0)),\"-\",VLOOKUP(B37,'N PMČRj 2024'!B:G,6,0))","v":18}]
[24,"-",{"$f":"VLOOKUP(B38,Pilot!A:C,3,0)","v":" "},{"$f":"VLOOKUP(B38,Pilot!A:C,2,0)","v":" "},{"$f":"VLOOKUP(B38,Pilot!A:E,5,0)","v":" "},{"$f":"VLOOKUP(B38,Pilot!A:F,6,0)","v":" "},24,null,66,"-",{"$f":"IF(COUNTIF('N PMČR 2024'!B:B,B38)=0,\"-\",COUNTIF('N PMČR 2024'!B:B,B38))","v":6},{"$f":"IF(ISERROR(VLOOKUP(B38,'N PMČR 2024'!B:G,6,0)),\"-\",VLOOKUP(B38,'N PMČR 2024'!B:G,6,0))","v":"-"},{"$f":"IF(COUNTIF('N PMČRj 2024'!B:B,B38)=0,\"-\",COUNTIF('N PMČRj 2024'!B:B,B38))","v":33},{"$f":"IF(ISERROR(VLOOKUP(B38,'N PMČRj 2024'!B:G,6,0)),\"-\",VLOOKUP(B38,'N PMČRj 2024'!B:G,6,0))","v":18}]
[25,"-",{"$f":"VLOOKUP(B39,Pilot!A:C,3,0)","v":" "},{"$f":"VLOOKUP(B39,Pilot!A:C,2,0)","v":" "},{"$f":"VLOOKUP(B39,Pilot!A:E,5,0)","v":" "},{"$f":"VLOOKUP(B39,Pilot!A:F,6,0)","v":" "},25,null,66,"-",{"$f":"IF(COUNTIF('N PMČR 2024'!B:B,B39)=0,\"-\",COUNTIF('N PMČR 2024'!B:B,B39))","v":6},{"$f":"IF(ISERROR(VLOOKUP(B39,'N PMČR 2024'!B:G,6,0)),\"-\",VLOOKUP(B39,'N PMČR 2024'!B:G,6,0))","v":"-"},{"$f":"IF(COUNTIF('N PMČRj 2024'!B:B,B39)=0,\"-\",COUNTIF('N PMČRj 2024'!B:B,B39))","v":33},{"$f":"IF(ISERROR(VLOOKUP(B39,'N PMČRj 2024'!B:G,6,0)),\"-\",VLOOKUP(B39,'N PMČRj 2024'!B:G,6,0))","v":18}]
[26,"-",{"$f":"VLOOKUP(B40,Pilot!A:C,3,0)","v":" "},{"$f":"VLOOKUP(B40,Pilot!A:C,2,0)","v":" "},{"$f":"VLOOKUP(B40,Pilot!A:E,5,0)","v":" "},{"$f":"VLOOKUP(B40,Pilot!A:F,6,0)","v":" "},26,null,66,"-",{"$f":"IF(COUNTIF('N PMČR 2024'!B:B,B40)=0,\"-\",COUNTIF('N PMČR 2024'!B:B,B40))","v":6},{"$f":"IF(ISERROR(VLOOKUP(B40,'N PMČR 2024'!B:G,6,0)),\"-\",VLOOKUP(B40,'N PMČR 2024'!B:G,6,0))","v":"-"},{"$f":"IF(COUNTIF('N PMČRj 2024'!B:B,B40)=0,\"-\",COUNTIF('N PMČRj 2024'!B:B,B40))","v":33},{"$f":"IF(ISERROR(VLOOKUP(B40,'N PMČRj 2024'!B:G,6,0)),\"-\",VLOOKUP(B40,'N PMČRj 2024'!B:G,6,0))","v":18}]
[27,"-",{"$f":"VLOOKUP(B41,Pilot!A:C,3,0)","v":" "},{"$f":"VLOOKUP(B41,Pilot!A:C,2,0)","v":" "},{"$f":"VLOOKUP(B41,Pilot!A:E,5,0)","v":" "},{"$f":"VLOOKUP(B41,Pilot!A:F,6,0)","v":" "},27,null,66,"-",{"$f":"IF(COUNTIF('N PMČR 2024'!B:B,B41)=0,\"-\",COUNTIF('N PMČR 2024'!B:B,B41))","v":6},{"$f":"IF(ISERROR(VLOOKUP(B41,'N PMČR 2024'!B:G,6,0)),\"-\",VLOOKUP(B41,'N PMČR 2024'!B:G,6,0))","v":"-"},{"$f":"IF(COUNTIF('N PMČRj 2024'!B:B,B41)=0,\"-\",COUNTIF('N PMČRj 2024'!B:B,B41))","v":33},{"$f":"IF(ISERROR(VLOOKUP(B41,'N PMČRj 2024'!B:G,6,0)),\"-\",VLOOKUP(B41,'N PMČRj 2024'!B:G,6,0))","v":18}]
[28,"-",{"$f":"VLOOKUP(B42,Pilot!A:C,3,0)","v":" "},{"$f":"VLOOKUP(B42,Pilot!A:C,2,0)","v":" "},{"$f":"VLOOKUP(B42,Pilot!A:E,5,0)","v":" "},{"$f":"VLOOKUP(B42,Pilot!A:F,6,0)","v":" "},28,null,66,"-",{"$f":"IF(COUNTIF('N PMČR 2024'!B:B,B42)=0,\"-\",COUNTIF('N PMČR 2024'!B:B,B42))","v":6},{"$f":"IF(ISERROR(VLOOKUP(B42,'N PMČR 2024'!B:G,6,0)),\"-\",VLOOKUP(B42,'N PMČR 2024'!B:G,6,0))","v":"-"},{"$f":"IF(COUNTIF('N PMČRj 2024'!B:B,B42)=0,\"-\",COUNTIF('N PMČRj 2024'!B:B,B42))","v":33},{"$f":"IF(ISERROR(VLOOKUP(B42,'N PMČRj 2024'!B:G,6,0)),\"-\",VLOOKUP(B42,'N PMČRj 2024'!B:G,6,0))","v":18}]
[29,"-",{"$f":"VLOOKUP(B43,Pilot!A:C,3,0)","v":" "},{"$f":"VLOOKUP(B43,Pilot!A:C,2,0)","v":" "},{"$f":"VLOOKUP(B43,Pilot!A:E,5,0)","v":" "},{"$f":"VLOOKUP(B43,Pilot!A:F,6,0)","v":" "},29,null,66,"-",{"$f":"IF(COUNTIF('N PMČR 2024'!B:B,B43)=0,\"-\",COUNTIF('N PMČR 2024'!B:B,B43))","v":6},{"$f":"IF(ISERROR(VLOOKUP(B43,'N PMČR 2024'!B:G,6,0)),\"-\",VLOOKUP(B43,'N PMČR 2024'!B:G,6,0))","v":"-"},{"$f":"IF(COUNTIF('N PMČRj 2024'!B:B,B43)=0,\"-\",COUNTIF('N PMČRj 2024'!B:B,B43))","v":33},{"$f":"IF(ISERROR(VLOOKUP(B43,'N PMČRj 2024'!B:G,6,0)),\"-\",VLOOKUP(B43,'N PMČRj 2024'!B:G,6,0))","v":18}]
[30,"-",{"$f":"VLOOKUP(B44,Pilot!A:C,3,0)","v":" "},{"$f":"VLOOKUP(B44,Pilot!A:C,2,0)","v":" "},{"$f":"VLOOKUP(B44,Pilot!A:E,5,0)","v":" "},{"$f":"VLOOKUP(B44,Pilot!A:F,6,0)","v":" "},{"$f":"A44","v":30},null,66,"-",{"$f":"IF(COUNTIF('N PMČR 2024'!B:B,B44)=0,\"-\",COUNTIF('N PMČR 2024'!B:B,B44))","v":6},{"$f":"IF(ISERROR(VLOOKUP(B44,'N PMČR 2024'!B:G,6,0)),\"-\",VLOOKUP(B44,'N PMČR 2024'!B:G,6,0))","v":"-"},{"$f":"IF(COUNTIF('N PMČRj 2024'!B:B,B44)=0,\"-\",COUNTIF('N PMČRj 2024'!B:B,B44))","v":33},{"$f":"IF(ISERROR(VLOOKUP(B44,'N PMČRj 2024'!B:G,6,0)),\"-\",VLOOKUP(B44,'N PMČRj 2024'!B:G,6,0))","v":18}]
[31,"-",{"$f":"VLOOKUP(B45,Pilot!A:C,3,0)","v":" "},{"$f":"VLOOKUP(B45,Pilot!A:C,2,0)","v":" "},{"$f":"VLOOKUP(B45,Pilot!A:E,5,0)","v":" "},{"$f":"VLOOKUP(B45,Pilot!A:F,6,0)","v":" "},31,null,66,"-",{"$f":"IF(COUNTIF('N PMČR 2024'!B:B,B45)=0,\"-\",COUNTIF('N PMČR 2024'!B:B,B45))","v":6},{"$f":"IF(ISERROR(VLOOKUP(B45,'N PMČR 2024'!B:G,6,0)),\"-\",VLOOKUP(B45,'N PMČR 2024'!B:G,6,0))","v":"-"},{"$f":"IF(COUNTIF('N PMČRj 2024'!B:B,B45)=0,\"-\",COUNTIF('N PMČRj 2024'!B:B,B45))","v":33},{"$f":"IF(ISERROR(VLOOKUP(B45,'N PMČRj 2024'!B:G,6,0)),\"-\",VLOOKUP(B45,'N PMČRj 2024'!B:G,6,0))","v":18}]
[32,"-",{"$f":"VLOOKUP(B46,Pilot!A:C,3,0)","v":" "},{"$f":"VLOOKUP(B46,Pilot!A:C,2,0)","v":" "},{"$f":"VLOOKUP(B46,Pilot!A:E,5,0)","v":" "},{"$f":"VLOOKUP(B46,Pilot!A:F,6,0)","v":" "},32,null,66,"-",{"$f":"IF(COUNTIF('N PMČR 2024'!B:B,B46)=0,\"-\",COUNTIF('N PMČR 2024'!B:B,B46))","v":6},{"$f":"IF(ISERROR(VLOOKUP(B46,'N PMČR 2024'!B:G,6,0)),\"-\",VLOOKUP(B46,'N PMČR 2024'!B:G,6,0))","v":"-"},{"$f":"IF(COUNTIF('N PMČRj 2024'!B:B,B46)=0,\"-\",COUNTIF('N PMČRj 2024'!B:B,B46))","v":33},{"$f":"IF(ISERROR(VLOOKUP(B46,'N PMČRj 2024'!B:G,6,0)),\"-\",VLOOKUP(B46,'N PMČRj 2024'!B:G,6,0))","v":18}]
[33,"-",{"$f":"VLOOKUP(B47,Pilot!A:C,3,0)","v":" "},{"$f":"VLOOKUP(B47,Pilot!A:C,2,0)","v":" "},{"$f":"VLOOKUP(B47,Pilot!A:E,5,0)","v":" "},{"$f":"VLOOKUP(B47,Pilot!A:F,6,0)","v":" "},33,null,66,"-",{"$f":"IF(COUNTIF('N PMČR 2024'!B:B,B47)=0,\"-\",COUNTIF('N PMČR 2024'!B:B,B47))","v":6},{"$f":"IF(ISERROR(VLOOKUP(B47,'N PMČR 2024'!B:G,6,0)),\"-\",VLOOKUP(B47,'N PMČR 2024'!B:G,6,0))","v":"-"},{"$f":"IF(COUNTIF('N PMČRj 2024'!B:B,B47)=0,\"-\",COUNTIF('N PMČRj 2024'!B:B,B47))","v":33},{"$f":"IF(ISERROR(VLOOKUP(B47,'N PMČRj 2024'!B:G,6,0)),\"-\",VLOOKUP(B47,'N PMČRj 2024'!B:G,6,0))","v":18}]
[34,"-",{"$f":"VLOOKUP(B48,Pilot!A:C,3,0)","v":" "},{"$f":"VLOOKUP(B48,Pilot!A:C,2,0)","v":" "},{"$f":"VLOOKUP(B48,Pilot!A:E,5,0)","v":" "},{"$f":"VLOOKUP(B48,Pilot!A:F,6,0)","v":" "},34,null,66,"-",{"$f":"IF(COUNTIF('N PMČR 2024'!B:B,B48)=0,\"-\",COUNTIF('N PMČR 2024'!B:B,B48))","v":6},{"$f":"IF(ISERROR(VLOOKUP(B48,'N PMČR 2024'!B:G,6,0)),\"-\",VLOOKUP(B48,'N PMČR 2024'!B:G,6,0))","v":"-"},{"$f":"IF(COUNTIF('N PMČRj 2024'!B:B,B48)=0,\"-\",COUNTIF('N PMČRj 2024'!B:B,B48))","v":33},{"$f":"IF(ISERROR(VLOOKUP(B48,'N PMČRj 2024'!B:G,6,0)),\"-\",VLOOKUP(B48,'N PMČRj 2024'!B:G,6,0))","v":18}]
[35,"-",{"$f":"VLOOKUP(B49,Pilot!A:C,3,0)","v":" "},{"$f":"VLOOKUP(B49,Pilot!A:C,2,0)","v":" "},{"$f":"VLOOKUP(B49,Pilot!A:E,5,0)","v":" "},{"$f":"VLOOKUP(B49,Pilot!A:F,6,0)","v":" "},35,null,66,"-",{"$f":"IF(COUNTIF('N PMČR 2024'!B:B,B49)=0,\"-\",COUNTIF('N PMČR 2024'!B:B,B49))","v":6},{"$f":"IF(ISERROR(VLOOKUP(B49,'N PMČR 2024'!B:G,6,0)),\"-\",VLOOKUP(B49,'N PMČR 2024'!B:G,6,0))","v":"-"},{"$f":"IF(COUNTIF('N PMČRj 2024'!B:B,B49)=0,\"-\",COUNTIF('N PMČRj 2024'!B:B,B49))","v":33},{"$f":"IF(ISERROR(VLOOKUP(B49,'N PMČRj 2024'!B:G,6,0)),\"-\",VLOOKUP(B49,'N PMČRj 2024'!B:G,6,0))","v":18}]
[36,"-",{"$f":"VLOOKUP(B50,Pilot!A:C,3,0)","v":" "},{"$f":"VLOOKUP(B50,Pilot!A:C,2,0)","v":" "},{"$f":"VLOOKUP(B50,Pilot!A:E,5,0)","v":" "},{"$f":"VLOOKUP(B50,Pilot!A:F,6,0)","v":" "},{"$f":"A50","v":36},null,66,"-",{"$f":"IF(COUNTIF('N PMČR 2024'!B:B,B50)=0,\"-\",COUNTIF('N PMČR 2024'!B:B,B50))","v":6},{"$f":"IF(ISERROR(VLOOKUP(B50,'N PMČR 2024'!B:G,6,0)),\"-\",VLOOKUP(B50,'N PMČR 2024'!B:G,6,0))","v":"-"},{"$f":"IF(COUNTIF('N PMČRj 2024'!B:B,B50)=0,\"-\",COUNTIF('N PMČRj 2024'!B:B,B50))","v":33},{"$f":"IF(ISERROR(VLOOKUP(B50,'N PMČRj 2024'!B:G,6,0)),\"-\",VLOOKUP(B50,'N PMČRj 2024'!B:G,6,0))","v":18}]
[37,"-",{"$f":"VLOOKUP(B51,Pilot!A:C,3,0)","v":" "},{"$f":"VLOOKUP(B51,Pilot!A:C,2,0)","v":" "},{"$f":"VLOOKUP(B51,Pilot!A:E,5,0)","v":" "},{"$f":"VLOOKUP(B51,Pilot!A:F,6,0)","v":" "},37,null,66,"-",{"$f":"IF(COUNTIF('N PMČR 2024'!B:B,B51)=0,\"-\",COUNTIF('N PMČR 2024'!B:B,B51))","v":6},{"$f":"IF(ISERROR(VLOOKUP(B51,'N PMČR 2024'!B:G,6,0)),\"-\",VLOOKUP(B51,'N PMČR 2024'!B:G,6,0))","v":"-"},{"$f":"IF(COUNTIF('N PMČRj 2024'!B:B,B51)=0,\"-\",COUNTIF('N PMČRj 2024'!B:B,B51))","v":33},{"$f":"IF(ISERROR(VLOOKUP(B51,'N PMČRj 2024'!B:G,6,0)),\"-\",VLOOKUP(B51,'N PMČRj 2024'!B:G,6,0))","v":18}]
[38,"-",{"$f":"VLOOKUP(B52,Pilot!A:C,3,0)","v":" "},{"$f":"VLOOKUP(B52,Pilot!A:C,2,0)","v":" "},{"$f":"VLOOKUP(B52,Pilot!A:E,5,0)","v":" "},{"$f":"VLOOKUP(B52,Pilot!A:F,6,0)","v":" "},38,null,66,"-",{"$f":"IF(COUNTIF('N PMČR 2024'!B:B,B52)=0,\"-\",COUNTIF('N PMČR 2024'!B:B,B52))","v":6},{"$f":"IF(ISERROR(VLOOKUP(B52,'N PMČR 2024'!B:G,6,0)),\"-\",VLOOKUP(B52,'N PMČR 2024'!B:G,6,0))","v":"-"},{"$f":"IF(COUNTIF('N PMČRj 2024'!B:B,B52)=0,\"-\",COUNTIF('N PMČRj 2024'!B:B,B52))","v":33},{"$f":"IF(ISERROR(VLOOKUP(B52,'N PMČRj 2024'!B:G,6,0)),\"-\",VLOOKUP(B52,'N PMČRj 2024'!B:G,6,0))","v":18}]
[39,"-",{"$f":"VLOOKUP(B53,Pilot!A:C,3,0)","v":" "},{"$f":"VLOOKUP(B53,Pilot!A:C,2,0)","v":" "},{"$f":"VLOOKUP(B53,Pilot!A:E,5,0)","v":" "},{"$f":"VLOOKUP(B53,Pilot!A:F,6,0)","v":" "},39,null,66,"-",{"$f":"IF(COUNTIF('N PMČR 2024'!B:B,B53)=0,\"-\",COUNTIF('N PMČR 2024'!B:B,B53))","v":6},{"$f":"IF(ISERROR(VLOOKUP(B53,'N PMČR 2024'!B:G,6,0)),\"-\",VLOOKUP(B53,'N PMČR 2024'!B:G,6,0))","v":"-"},{"$f":"IF(COUNTIF('N PMČRj 2024'!B:B,B53)=0,\"-\",COUNTIF('N PMČRj 2024'!B:B,B53))","v":33},{"$f":"IF(ISERROR(VLOOKUP(B53,'N PMČRj 2024'!B:G,6,0)),\"-\",VLOOKUP(B53,'N PMČRj 2024'!B:G,6,0))","v":18}]
[40,"-",{"$f":"VLOOKUP(B54,Pilot!A:C,3,0)","v":" "},{"$f":"VLOOKUP(B54,Pilot!A:C,2,0)","v":" "},{"$f":"VLOOKUP(B54,Pilot!A:E,5,0)","v":" "},{"$f":"VLOOKUP(B54,Pilot!A:F,6,0)","v":" "},40,null,66,"-",{"$f":"IF(COUNTIF('N PMČR 2024'!B:B,B54)=0,\"-\",COUNTIF('N PMČR 2024'!B:B,B54))","v":6},{"$f":"IF(ISERROR(VLOOKUP(B54,'N PMČR 2024'!B:G,6,0)),\"-\",VLOOKUP(B54,'N PMČR 2024'!B:G,6,0))","v":"-"},{"$f":"IF(COUNTIF('N PMČRj 2024'!B:B,B54)=0,\"-\",COUNTIF('N PMČRj 2024'!B:B,B54))","v":33},{"$f":"IF(ISERROR(VLOOKUP(B54,'N PMČRj 2024'!B:G,6,0)),\"-\",VLOOKUP(B54,'N PMČRj 2024'!B:G,6,0))","v":18}]
[41,"-",{"$f":"VLOOKUP(B55,Pilot!A:C,3,0)","v":" "},{"$f":"VLOOKUP(B55,Pilot!A:C,2,0)","v":" "},{"$f":"VLOOKUP(B55,Pilot!A:E,5,0)","v":" "},{"$f":"VLOOKUP(B55,Pilot!A:F,6,0)","v":" "},{"$f":"A55","v":41},null,66,"-",{"$f":"IF(COUNTIF('N PMČR 2024'!B:B,B55)=0,\"-\",COUNTIF('N PMČR 2024'!B:B,B55))","v":6},{"$f":"IF(ISERROR(VLOOKUP(B55,'N PMČR 2024'!B:G,6,0)),\"-\",VLOOKUP(B55,'N PMČR 2024'!B:G,6,0))","v":"-"},{"$f":"IF(COUNTIF('N PMČRj 2024'!B:B,B55)=0,\"-\",COUNTIF('N PMČRj 2024'!B:B,B55))","v":33},{"$f":"IF(ISERROR(VLOOKUP(B55,'N PMČRj 2024'!B:G,6,0)),\"-\",VLOOKUP(B55,'N PMČRj 2024'!B:G,6,0))","v":18}]
[42,"-",{"$f":"VLOOKUP(B56,Pilot!A:C,3,0)","v":" "},{"$f":"VLOOKUP(B56,Pilot!A:C,2,0)","v":" "},{"$f":"VLOOKUP(B56,Pilot!A:E,5,0)","v":" "},{"$f":"VLOOKUP(B56,Pilot!A:F,6,0)","v":" "},42,null,66,"-",{"$f":"IF(COUNTIF('N PMČR 2024'!B:B,B56)=0,\"-\",COUNTIF('N PMČR 2024'!B:B,B56))","v":6},{"$f":"IF(ISERROR(VLOOKUP(B56,'N PMČR 2024'!B:G,6,0)),\"-\",VLOOKUP(B56,'N PMČR 2024'!B:G,6,0))","v":"-"},{"$f":"IF(COUNTIF('N PMČRj 2024'!B:B,B56)=0,\"-\",COUNTIF('N PMČRj 2024'!B:B,B56))","v":33},{"$f":"IF(ISERROR(VLOOKUP(B56,'N PMČRj 2024'!B:G,6,0)),\"-\",VLOOKUP(B56,'N PMČRj 2024'!B:G,6,0))","v":18}]
[43,"-",{"$f":"VLOOKUP(B57,Pilot!A:C,3,0)","v":" "},{"$f":"VLOOKUP(B57,Pilot!A:C,2,0)","v":" "},{"$f":"VLOOKUP(B57,Pilot!A:E,5,0)","v":" "},{"$f":"VLOOKUP(B57,Pilot!A:F,6,0)","v":" "},43,null,{"$f":"COUNTIF(B:B,B57)","v":66},{"$f":"IF(ISERROR(VLOOKUP(B57,B:G,6,0)),\"-\",VLOOKUP(B57,B:G,6,0))","v":"-"},{"$f":"IF(COUNTIF('N PMČR 2024'!B:B,B57)=0,\"-\",COUNTIF('N PMČR 2024'!B:B,B57))","v":6},{"$f":"IF(ISERROR(VLOOKUP(B57,'N PMČR 2024'!B:G,6,0)),\"-\",VLOOKUP(B57,'N PMČR 2024'!B:G,6,0))","v":"-"},{"$f":"IF(COUNTIF('N PMČRj 2024'!B:B,B57)=0,\"-\",COUNTIF('N PMČRj 2024'!B:B,B57))","v":33},{"$f":"IF(ISERROR(VLOOKUP(B57,'N PMČRj 2024'!B:G,6,0)),\"-\",VLOOKUP(B57,'N PMČRj 2024'!B:G,6,0))","v":18}]
[44,"-",{"$f":"VLOOKUP(B58,Pilot!A:C,3,0)","v":" "},{"$f":"VLOOKUP(B58,Pilot!A:C,2,0)","v":" "},{"$f":"VLOOKUP(B58,Pilot!A:E,5,0)","v":" "},{"$f":"VLOOKUP(B58,Pilot!A:F,6,0)","v":" "},44,null,66,"-",{"$f":"IF(COUNTIF('N PMČR 2024'!B:B,B58)=0,\"-\",COUNTIF('N PMČR 2024'!B:B,B58))","v":6},{"$f":"IF(ISERROR(VLOOKUP(B58,'N PMČR 2024'!B:G,6,0)),\"-\",VLOOKUP(B58,'N PMČR 2024'!B:G,6,0))","v":"-"},{"$f":"IF(COUNTIF('N PMČRj 2024'!B:B,B58)=0,\"-\",COUNTIF('N PMČRj 2024'!B:B,B58))","v":33},{"$f":"IF(ISERROR(VLOOKUP(B58,'N PMČRj 2024'!B:G,6,0)),\"-\",VLOOKUP(B58,'N PMČRj 2024'!B:G,6,0))","v":18}]
[45,"-",{"$f":"VLOOKUP(B59,Pilot!A:C,3,0)","v":" "},{"$f":"VLOOKUP(B59,Pilot!A:C,2,0)","v":" "},{"$f":"VLOOKUP(B59,Pilot!A:E,5,0)","v":" "},{"$f":"VLOOKUP(B59,Pilot!A:F,6,0)","v":" "},45,null,66,"-",{"$f":"IF(COUNTIF('N PMČR 2024'!B:B,B59)=0,\"-\",COUNTIF('N PMČR 2024'!B:B,B59))","v":6},{"$f":"IF(ISERROR(VLOOKUP(B59,'N PMČR 2024'!B:G,6,0)),\"-\",VLOOKUP(B59,'N PMČR 2024'!B:G,6,0))","v":"-"},{"$f":"IF(COUNTIF('N PMČRj 2024'!B:B,B59)=0,\"-\",COUNTIF('N PMČRj 2024'!B:B,B59))","v":33},{"$f":"IF(ISERROR(VLOOKUP(B59,'N PMČRj 2024'!B:G,6,0)),\"-\",VLOOKUP(B59,'N PMČRj 2024'!B:G,6,0))","v":18}]
[46,"-",{"$f":"VLOOKUP(B60,Pilot!A:C,3,0)","v":" "},{"$f":"VLOOKUP(B60,Pilot!A:C,2,0)","v":" "},{"$f":"VLOOKUP(B60,Pilot!A:E,5,0)","v":" "},{"$f":"VLOOKUP(B60,Pilot!A:F,6,0)","v":" "},46,null,66,"-",{"$f":"IF(COUNTIF('N PMČR 2024'!B:B,B60)=0,\"-\",COUNTIF('N PMČR 2024'!B:B,B60))","v":6},{"$f":"IF(ISERROR(VLOOKUP(B60,'N PMČR 2024'!B:G,6,0)),\"-\",VLOOKUP(B60,'N PMČR 2024'!B:G,6,0))","v":"-"},{"$f":"IF(COUNTIF('N PMČRj 2024'!B:B,B60)=0,\"-\",COUNTIF('N PMČRj 2024'!B:B,B60))","v":33},{"$f":"IF(ISERROR(VLOOKUP(B60,'N PMČRj 2024'!B:G,6,0)),\"-\",VLOOKUP(B60,'N PMČRj 2024'!B:G,6,0))","v":18}]
[47,"-",{"$f":"VLOOKUP(B61,Pilot!A:C,3,0)","v":" "},{"$f":"VLOOKUP(B61,Pilot!A:C,2,0)","v":" "},{"$f":"VLOOKUP(B61,Pilot!A:E,5,0)","v":" "},{"$f":"VLOOKUP(B61,Pilot!A:F,6,0)","v":" "},47,null,66,"-",{"$f":"IF(COUNTIF('N PMČR 2024'!B:B,B61)=0,\"-\",COUNTIF('N PMČR 2024'!B:B,B61))","v":6},{"$f":"IF(ISERROR(VLOOKUP(B61,'N PMČR 2024'!B:G,6,0)),\"-\",VLOOKUP(B61,'N PMČR 2024'!B:G,6,0))","v":"-"},{"$f":"IF(COUNTIF('N PMČRj 2024'!B:B,B61)=0,\"-\",COUNTIF('N PMČRj 2024'!B:B,B61))","v":33},{"$f":"IF(ISERROR(VLOOKUP(B61,'N PMČRj 2024'!B:G,6,0)),\"-\",VLOOKUP(B61,'N PMČRj 2024'!B:G,6,0))","v":18}]
[48,"-",{"$f":"VLOOKUP(B62,Pilot!A:C,3,0)","v":" "},{"$f":"VLOOKUP(B62,Pilot!A:C,2,0)","v":" "},{"$f":"VLOOKUP(B62,Pilot!A:E,5,0)","v":" "},{"$f":"VLOOKUP(B62,Pilot!A:F,6,0)","v":" "},48,null,66,"-",{"$f":"IF(COUNTIF('N PMČR 2024'!B:B,B62)=0,\"-\",COUNTIF('N PMČR 2024'!B:B,B62))","v":6},{"$f":"IF(ISERROR(VLOOKUP(B62,'N PMČR 2024'!B:G,6,0)),\"-\",VLOOKUP(B62,'N PMČR 2024'!B:G,6,0))","v":"-"},{"$f":"IF(COUNTIF('N PMČRj 2024'!B:B,B62)=0,\"-\",COUNTIF('N PMČRj 2024'!B:B,B62))","v":33},{"$f":"IF(ISERROR(VLOOKUP(B62,'N PMČRj 2024'!B:G,6,0)),\"-\",VLOOKUP(B62,'N PMČRj 2024'!B:G,6,0))","v":18}]
[49,"-",{"$f":"VLOOKUP(B63,Pilot!A:C,3,0)","v":" "},{"$f":"VLOOKUP(B63,Pilot!A:C,2,0)","v":" "},{"$f":"VLOOKUP(B63,Pilot!A:E,5,0)","v":" "},{"$f":"VLOOKUP(B63,Pilot!A:F,6,0)","v":" "},49,null,66,"-",{"$f":"IF(COUNTIF('N PMČR 2024'!B:B,B63)=0,\"-\",COUNTIF('N PMČR 2024'!B:B,B63))","v":6},{"$f":"IF(ISERROR(VLOOKUP(B63,'N PMČR 2024'!B:G,6,0)),\"-\",VLOOKUP(B63,'N PMČR 2024'!B:G,6,0))","v":"-"},{"$f":"IF(COUNTIF('N PMČRj 2024'!B:B,B63)=0,\"-\",COUNTIF('N PMČRj 2024'!B:B,B63))","v":33},{"$f":"IF(ISERROR(VLOOKUP(B63,'N PMČRj 2024'!B:G,6,0)),\"-\",VLOOKUP(B63,'N PMČRj 2024'!B:G,6,0))","v":18}]
[50,"-",{"$f":"VLOOKUP(B64,Pilot!A:C,3,0)","v":" "},{"$f":"VLOOKUP(B64,Pilot!A:C,2,0)","v":" "},{"$f":"VLOOKUP(B64,Pilot!A:E,5,0)","v":" "},{"$f":"VLOOKUP(B64,Pilot!A:F,6,0)","v":" "},50,null,66,"-",{"$f":"IF(COUNTIF('N PMČR 2024'!B:B,B64)=0,\"-\",COUNTIF('N PMČR 2024'!B:B,B64))","v":6},{"$f":"IF(ISERROR(VLOOKUP(B64,'N PMČR 2024'!B:G,6,0)),\"-\",VLOOKUP(B64,'N PMČR 2024'!B:G,6,0))","v":"-"},{"$f":"IF(COUNTIF('N PMČRj 2024'!B:B,B64)=0,\"-\",COUNTIF('N PMČRj 2024'!B:B,B64))","v":33},{"$f":"IF(ISERROR(VLOOKUP(B64,'N PMČRj 2024'!B:G,6,0)),\"-\",VLOOKUP(B64,'N PMČRj 2024'!B:G,6,0))","v":18}]
[51,"-",{"$f":"VLOOKUP(B65,Pilot!A:C,3,0)","v":" "},{"$f":"VLOOKUP(B65,Pilot!A:C,2,0)","v":" "},{"$f":"VLOOKUP(B65,Pilot!A:E,5,0)","v":" "},{"$f":"VLOOKUP(B65,Pilot!A:F,6,0)","v":" "},51,null,66,"-",{"$f":"IF(COUNTIF('N PMČR 2024'!B:B,B65)=0,\"-\",COUNTIF('N PMČR 2024'!B:B,B65))","v":6},{"$f":"IF(ISERROR(VLOOKUP(B65,'N PMČR 2024'!B:G,6,0)),\"-\",VLOOKUP(B65,'N PMČR 2024'!B:G,6,0))","v":"-"},{"$f":"IF(COUNTIF('N PMČRj 2024'!B:B,B65)=0,\"-\",COUNTIF('N PMČRj 2024'!B:B,B65))","v":33},{"$f":"IF(ISERROR(VLOOKUP(B65,'N PMČRj 2024'!B:G,6,0)),\"-\",VLOOKUP(B65,'N PMČRj 2024'!B:G,6,0))","v":18}]
[52,"-",{"$f":"VLOOKUP(B66,Pilot!A:C,3,0)","v":" "},{"$f":"VLOOKUP(B66,Pilot!A:C,2,0)","v":" "},{"$f":"VLOOKUP(B66,Pilot!A:E,5,0)","v":" "},{"$f":"VLOOKUP(B66,Pilot!A:F,6,0)","v":" "},52,null,66,"-",{"$f":"IF(COUNTIF('N PMČR 2024'!B:B,B66)=0,\"-\",COUNTIF('N PMČR 2024'!B:B,B66))","v":6},{"$f":"IF(ISERROR(VLOOKUP(B66,'N PMČR 2024'!B:G,6,0)),\"-\",VLOOKUP(B66,'N PMČR 2024'!B:G,6,0))","v":"-"},{"$f":"IF(COUNTIF('N PMČRj 2024'!B:B,B66)=0,\"-\",COUNTIF('N PMČRj 2024'!B:B,B66))","v":33},{"$f":"IF(ISERROR(VLOOKUP(B66,'N PMČRj 2024'!B:G,6,0)),\"-\",VLOOKUP(B66,'N PMČRj 2024'!B:G,6,0))","v":18}]
[53,"-",{"$f":"VLOOKUP(B67,Pilot!A:C,3,0)","v":" "},{"$f":"VLOOKUP(B67,Pilot!A:C,2,0)","v":" "},{"$f":"VLOOKUP(B67,Pilot!A:E,5,0)","v":" "},{"$f":"VLOOKUP(B67,Pilot!A:F,6,0)","v":" "},53,null,66,"-",{"$f":"IF(COUNTIF('N PMČR 2024'!B:B,B67)=0,\"-\",COUNTIF('N PMČR 2024'!B:B,B67))","v":6},{"$f":"IF(ISERROR(VLOOKUP(B67,'N PMČR 2024'!B:G,6,0)),\"-\",VLOOKUP(B67,'N PMČR 2024'!B:G,6,0))","v":"-"},{"$f":"IF(COUNTIF('N PMČRj 2024'!B:B,B67)=0,\"-\",COUNTIF('N PMČRj 2024'!B:B,B67))","v":33},{"$f":"IF(ISERROR(VLOOKUP(B67,'N PMČRj 2024'!B:G,6,0)),\"-\",VLOOKUP(B67,'N PMČRj 2024'!B:G,6,0))","v":18}]
[54,"-",{"$f":"VLOOKUP(B68,Pilot!A:C,3,0)","v":" "},{"$f":"VLOOKUP(B68,Pilot!A:C,2,0)","v":" "},{"$f":"VLOOKUP(B68,Pilot!A:E,5,0)","v":" "},{"$f":"VLOOKUP(B68,Pilot!A:F,6,0)","v":" "},54,null,66,"-",{"$f":"IF(COUNTIF('N PMČR 2024'!B:B,B68)=0,\"-\",COUNTIF('N PMČR 2024'!B:B,B68))","v":6},{"$f":"IF(ISERROR(VLOOKUP(B68,'N PMČR 2024'!B:G,6,0)),\"-\",VLOOKUP(B68,'N PMČR 2024'!B:G,6,0))","v":"-"},{"$f":"IF(COUNTIF('N PMČRj 2024'!B:B,B68)=0,\"-\",COUNTIF('N PMČRj 2024'!B:B,B68))","v":33},{"$f":"IF(ISERROR(VLOOKUP(B68,'N PMČRj 2024'!B:G,6,0)),\"-\",VLOOKUP(B68,'N PMČRj 2024'!B:G,6,0))","v":18}]
[55,"-",{"$f":"VLOOKUP(B69,Pilot!A:C,3,0)","v":" "},{"$f":"VLOOKUP(B69,Pilot!A:C,2,0)","v":" "},{"$f":"VLOOKUP(B69,Pilot!A:E,5,0)","v":" "},{"$f":"VLOOKUP(B69,Pilot!A:F,6,0)","v":" "},{"$f":"A69","v":55},null,66,"-",{"$f":"IF(COUNTIF('N PMČR 2024'!B:B,B69)=0,\"-\",COUNTIF('N PMČR 2024'!B:B,B69))","v":6},{"$f":"IF(ISERROR(VLOOKUP(B69,'N PMČR 2024'!B:G,6,0)),\"-\",VLOOKUP(B69,'N PMČR 2024'!B:G,6,0))","v":"-"},{"$f":"IF(COUNTIF('N PMČRj 2024'!B:B,B69)=0,\"-\",COUNTIF('N PMČRj 2024'!B:B,B69))","v":33},{"$f":"IF(ISERROR(VLOOKUP(B69,'N PMČRj 2024'!B:G,6,0)),\"-\",VLOOKUP(B69,'N PMČRj 2024'!B:G,6,0))","v":18}]
[56,"-",{"$f":"VLOOKUP(B70,Pilot!A:C,3,0)","v":" "},{"$f":"VLOOKUP(B70,Pilot!A:C,2,0)","v":" "},{"$f":"VLOOKUP(B70,Pilot!A:E,5,0)","v":" "},{"$f":"VLOOKUP(B70,Pilot!A:F,6,0)","v":" "},56,null,66,"-",{"$f":"IF(COUNTIF('N PMČR 2024'!B:B,B70)=0,\"-\",COUNTIF('N PMČR 2024'!B:B,B70))","v":6},{"$f":"IF(ISERROR(VLOOKUP(B70,'N PMČR 2024'!B:G,6,0)),\"-\",VLOOKUP(B70,'N PMČR 2024'!B:G,6,0))","v":"-"},{"$f":"IF(COUNTIF('N PMČRj 2024'!B:B,B70)=0,\"-\",COUNTIF('N PMČRj 2024'!B:B,B70))","v":33},{"$f":"IF(ISERROR(VLOOKUP(B70,'N PMČRj 2024'!B:G,6,0)),\"-\",VLOOKUP(B70,'N PMČRj 2024'!B:G,6,0))","v":18}]
[57,"-",{"$f":"VLOOKUP(B71,Pilot!A:C,3,0)","v":" "},{"$f":"VLOOKUP(B71,Pilot!A:C,2,0)","v":" "},{"$f":"VLOOKUP(B71,Pilot!A:E,5,0)","v":" "},{"$f":"VLOOKUP(B71,Pilot!A:F,6,0)","v":" "},57,null,66,"-",{"$f":"IF(COUNTIF('N PMČR 2024'!B:B,B71)=0,\"-\",COUNTIF('N PMČR 2024'!B:B,B71))","v":6},{"$f":"IF(ISERROR(VLOOKUP(B71,'N PMČR 2024'!B:G,6,0)),\"-\",VLOOKUP(B71,'N PMČR 2024'!B:G,6,0))","v":"-"},{"$f":"IF(COUNTIF('N PMČRj 2024'!B:B,B71)=0,\"-\",COUNTIF('N PMČRj 2024'!B:B,B71))","v":33},{"$f":"IF(ISERROR(VLOOKUP(B71,'N PMČRj 2024'!B:G,6,0)),\"-\",VLOOKUP(B71,'N PMČRj 2024'!B:G,6,0))","v":18}]
[58,"-",{"$f":"VLOOKUP(B72,Pilot!A:C,3,0)","v":" "},{"$f":"VLOOKUP(B72,Pilot!A:C,2,0)","v":" "},{"$f":"VLOOKUP(B72,Pilot!A:E,5,0)","v":" "},{"$f":"VLOOKUP(B72,Pilot!A:F,6,0)","v":" "},58,null,66,"-",{"$f":"IF(COUNTIF('N PMČR 2024'!B:B,B72)=0,\"-\",COUNTIF('N PMČR 2024'!B:B,B72))","v":6},{"$f":"IF(ISERROR(VLOOKUP(B72,'N PMČR 2024'!B:G,6,0)),\"-\",VLOOKUP(B72,'N PMČR 2024'!B:G,6,0))","v":"-"},{"$f":"IF(COUNTIF('N PMČRj 2024'!B:B,B72)=0,\"-\",COUNTIF('N PMČRj 2024'!B:B,B72))","v":33},{"$f":"IF(ISERROR(VLOOKUP(B72,'N PMČRj 2024'!B:G,6,0)),\"-\",VLOOKUP(B72,'N PMČRj 2024'!B:G,6,0))","v":18}]
[59,"-",{"$f":"VLOOKUP(B73,Pilot!A:C,3,0)","v":" "},{"$f":"VLOOKUP(B73,Pilot!A:C,2,0)","v":" "},{"$f":"VLOOKUP(B73,Pilot!A:E,5,0)","v":" "},{"$f":"VLOOKUP(B73,Pilot!A:F,6,0)","v":" "},59,null,66,"-",{"$f":"IF(COUNTIF('N PMČR 2024'!B:B,B73)=0,\"-\",COUNTIF('N PMČR 2024'!B:B,B73))","v":6},{"$f":"IF(ISERROR(VLOOKUP(B73,'N PMČR 2024'!B:G,6,0)),\"-\",VLOOKUP(B73,'N PMČR 2024'!B:G,6,0))","v":"-"},{"$f":"IF(COUNTIF('N PMČRj 2024'!B:B,B73)=0,\"-\",COUNTIF('N PMČRj 2024'!B:B,B73))","v":33},{"$f":"IF(ISERROR(VLOOKUP(B73,'N PMČRj 2024'!B:G,6,0)),\"-\",VLOOKUP(B73,'N PMČRj 2024'!B:G,6,0))","v":18}]
[60,"-",{"$f":"VLOOKUP(B74,Pilot!A:C,3,0)","v":" "},{"$f":"VLOOKUP(B74,Pilot!A:C,2,0)","v":" "},{"$f":"VLOOKUP(B74,Pilot!A:E,5,0)","v":" "},{"$f":"VLOOKUP(B74,Pilot!A:F,6,0)","v":" "},60,null,66,"-",{"$f":"IF(COUNTIF('N PMČR 2024'!B:B,B74)=0,\"-\",COUNTIF('N PMČR 2024'!B:B,B74))","v":6},{"$f":"IF(ISERROR(VLOOKUP(B74,'N PMČR 2024'!B:G,6,0)),\"-\",VLOOKUP(B74,'N PMČR 2024'!B:G,6,0))","v":"-"},{"$f":"IF(COUNTIF('N PMČRj 2024'!B:B,B74)=0,\"-\",COUNTIF('N PMČRj 2024'!B:B,B74))","v":33},{"$f":"IF(ISERROR(VLOOKUP(B74,'N PMČRj 2024'!B:G,6,0)),\"-\",VLOOKUP(B74,'N PMČRj 2024'!B:G,6,0))","v":18}]
["N1","-",{"$f":"VLOOKUP(B75,Pilot!A:C,3,0)","v":" "},{"$f":"VLOOKUP(B75,Pilot!A:C,2,0)","v":" "},{"$f":"VLOOKUP(B75,Pilot!A:E,5,0)","v":" "},{"$f":"VLOOKUP(B75,Pilot!A:F,6,0)","v":" "},"N1",null,66,"-",{"$f":"IF(COUNTIF('N PMČR 2024'!B:B,B75)=0,\"-\",COUNTIF('N PMČR 2024'!B:B,B75))","v":6},{"$f":"IF(ISERROR(VLOOKUP(B75,'N PMČR 2024'!B:G,6,0)),\"-\",VLOOKUP(B75,'N PMČR 2024'!B:G,6,0))","v":"-"},{"$f":"IF(COUNTIF('N PMČRj 2024'!B:B,B75)=0,\"-\",COUNTIF('N PMČRj 2024'!B:B,B75))","v":33},{"$f":"IF(ISERROR(VLOOKUP(B75,'N PMČRj 2024'!B:G,6,0)),\"-\",VLOOKUP(B75,'N PMČRj 2024'!B:G,6,0))","v":18}]
["N2","-",{"$f":"VLOOKUP(B76,Pilot!A:C,3,0)","v":" "},{"$f":"VLOOKUP(B76,Pilot!A:C,2,0)","v":" "},{"$f":"VLOOKUP(B76,Pilot!A:E,5,0)","v":" "},{"$f":"VLOOKUP(B76,Pilot!A:F,6,0)","v":" "},"N2",null,66,"-",{"$f":"IF(COUNTIF('N PMČR 2024'!B:B,B76)=0,\"-\",COUNTIF('N PMČR 2024'!B:B,B76))","v":6},{"$f":"IF(ISERROR(VLOOKUP(B76,'N PMČR 2024'!B:G,6,0)),\"-\",VLOOKUP(B76,'N PMČR 2024'!B:G,6,0))","v":"-"},{"$f":"IF(COUNTIF('N PMČRj 2024'!B:B,B76)=0,\"-\",COUNTIF('N PMČRj 2024'!B:B,B76))","v":33},{"$f":"IF(ISERROR(VLOOKUP(B76,'N PMČRj 2024'!B:G,6,0)),\"-\",VLOOKUP(B76,'N PMČRj 2024'!B:G,6,0))","v":18}]
["N3","-",{"$f":"VLOOKUP(B77,Pilot!A:C,3,0)","v":" "},{"$f":"VLOOKUP(B77,Pilot!A:C,2,0)","v":" "},{"$f":"VLOOKUP(B77,Pilot!A:E,5,0)","v":" "},{"$f":"VLOOKUP(B77,Pilot!A:F,6,0)","v":" "},"N3",null,66,"-",{"$f":"IF(COUNTIF('N PMČR 2024'!B:B,B77)=0,\"-\",COUNTIF('N PMČR 2024'!B:B,B77))","v":6},{"$f":"IF(ISERROR(VLOOKUP(B77,'N PMČR 2024'!B:G,6,0)),\"-\",VLOOKUP(B77,'N PMČR 2024'!B:G,6,0))","v":"-"},{"$f":"IF(COUNTIF('N PMČRj 2024'!B:B,B77)=0,\"-\",COUNTIF('N PMČRj 2024'!B:B,B77))","v":33},{"$f":"IF(ISERROR(VLOOKUP(B77,'N PMČRj 2024'!B:G,6,0)),\"-\",VLOOKUP(B77,'N PMČRj 2024'!B:G,6,0))","v":18}]
["N4","-",{"$f":"VLOOKUP(B78,Pilot!A:C,3,0)","v":" "},{"$f":"VLOOKUP(B78,Pilot!A:C,2,0)","v":" "},{"$f":"VLOOKUP(B78,Pilot!A:E,5,0)","v":" "},{"$f":"VLOOKUP(B78,Pilot!A:F,6,0)","v":" "},"N4",null,66,"-",{"$f":"IF(COUNTIF('N PMČR 2024'!B:B,B78)=0,\"-\",COUNTIF('N PMČR 2024'!B:B,B78))","v":6},{"$f":"IF(ISERROR(VLOOKUP(B78,'N PMČR 2024'!B:G,6,0)),\"-\",VLOOKUP(B78,'N PMČR 2024'!B:G,6,0))","v":"-"},{"$f":"IF(COUNTIF('N PMČRj 2024'!B:B,B78)=0,\"-\",COUNTIF('N PMČRj 2024'!B:B,B78))","v":33},{"$f":"IF(ISERROR(VLOOKUP(B78,'N PMČRj 2024'!B:G,6,0)),\"-\",VLOOKUP(B78,'N PMČRj 2024'!B:G,6,0))","v":18}]
["N5","-",{"$f":"VLOOKUP(B79,Pilot!A:C,3,0)","v":" "},{"$f":"VLOOKUP(B79,Pilot!A:C,2,0)","v":" "},{"$f":"VLOOKUP(B79,Pilot!A:E,5,0)","v":" "},{"$f":"VLOOKUP(B79,Pilot!A:F,6,0)","v":" "},"N5",null,66,"-",{"$f":"IF(COUNTIF('N PMČR 2024'!B:B,B79)=0,\"-\",COUNTIF('N PMČR 2024'!B:B,B79))","v":6},{"$f":"IF(ISERROR(VLOOKUP(B79,'N PMČR 2024'!B:G,6,0)),\"-\",VLOOKUP(B79,'N PMČR 2024'!B:G,6,0))","v":"-"},{"$f":"IF(COUNTIF('N PMČRj 2024'!B:B,B79)=0,\"-\",COUNTIF('N PMČRj 2024'!B:B,B79))","v":33},{"$f":"IF(ISERROR(VLOOKUP(B79,'N PMČRj 2024'!B:G,6,0)),\"-\",VLOOKUP(B79,'N PMČRj 2024'!B:G,6,0))","v":18}]
["N6","-",{"$f":"VLOOKUP(B80,Pilot!A:C,3,0)","v":" "},{"$f":"VLOOKUP(B80,Pilot!A:C,2,0)","v":" "},{"$f":"VLOOKUP(B80,Pilot!A:E,5,0)","v":" "},{"$f":"VLOOKUP(B80,Pilot!A:F,6,0)","v":" "},"N6",null,66,"-",{"$f":"IF(COUNTIF('N PMČR 2024'!B:B,B80)=0,\"-\",COUNTIF('N PMČR 2024'!B:B,B80))","v":6},{"$f":"IF(ISERROR(VLOOKUP(B80,'N PMČR 2024'!B:G,6,0)),\"-\",VLOOKUP(B80,'N PMČR 2024'!B:G,6,0))","v":"-"},{"$f":"IF(COUNTIF('N PMČRj 2024'!B:B,B80)=0,\"-\",COUNTIF('N PMČRj 2024'!B:B,B80))","v":33},{"$f":"IF(ISERROR(VLOOKUP(B80,'N PMČRj 2024'!B:G,6,0)),\"-\",VLOOKUP(B80,'N PMČRj 2024'!B:G,6,0))","v":18}]
["N7","-",{"$f":"VLOOKUP(B81,Pilot!A:C,3,0)","v":" "},{"$f":"VLOOKUP(B81,Pilot!A:C,2,0)","v":" "},{"$f":"VLOOKUP(B81,Pilot!A:E,5,0)","v":" "},{"$f":"VLOOKUP(B81,Pilot!A:F,6,0)","v":" "},"N7",null,66,"-",{"$f":"IF(COUNTIF('N PMČR 2024'!B:B,B81)=0,\"-\",COUNTIF('N PMČR 2024'!B:B,B81))","v":6},{"$f":"IF(ISERROR(VLOOKUP(B81,'N PMČR 2024'!B:G,6,0)),\"-\",VLOOKUP(B81,'N PMČR 2024'!B:G,6,0))","v":"-"},{"$f":"IF(COUNTIF('N PMČRj 2024'!B:B,B81)=0,\"-\",COUNTIF('N PMČRj 2024'!B:B,B81))","v":33},{"$f":"IF(ISERROR(VLOOKUP(B81,'N PMČRj 2024'!B:G,6,0)),\"-\",VLOOKUP(B81,'N PMČRj 2024'!B:G,6,0))","v":18}]
["N8","-",{"$f":"VLOOKUP(B82,Pilot!A:C,3,0)","v":" "},{"$f":"VLOOKUP(B82,Pilot!A:C,2,0)","v":" "},{"$f":"VLOOKUP(B82,Pilot!A:E,5,0)","v":" "},{"$f":"VLOOKUP(B82,Pilot!A:F,6,0)","v":" "},"N8",null,66,"-",{"$f":"IF(COUNTIF('N PMČR 2024'!B:B,B82)=0,\"-\",COUNTIF('N PMČR 2024'!B:B,B82))","v":6},{"$f":"IF(ISERROR(VLOOKUP(B82,'N PMČR 2024'!B:G,6,0)),\"-\",VLOOKUP(B82,'N PMČR 2024'!B:G,6,0))","v":"-"},{"$f":"IF(COUNTIF('N PMČRj 2024'!B:B,B82)=0,\"-\",COUNTIF('N PMČRj 2024'!B:B,B82))","v":33},{"$f":"IF(ISERROR(VLOOKUP(B82,'N PMČRj 2024'!B:G,6,0)),\"-\",VLOOKUP(B82,'N PMČRj 2024'!B:G,6,0))","v":18}]
["N9","-",{"$f":"VLOOKUP(B83,Pilot!A:C,3,0)","v":" "},{"$f":"VLOOKUP(B83,Pilot!A:C,2,0)","v":" "},{"$f":"VLOOKUP(B83,Pilot!A:E,5,0)","v":" "},{"$f":"VLOOKUP(B83,Pilot!A:F,6,0)","v":" "},"N9",null,66,"-",{"$f":"IF(COUNTIF('N PMČR 2024'!B:B,B83)=0,\"-\",COUNTIF('N PMČR 2024'!B:B,B83))","v":6},{"$f":"IF(ISERROR(VLOOKUP(B83,'N PMČR 2024'!B:G,6,0)),\"-\",VLOOKUP(B83,'N PMČR 2024'!B:G,6,0))","v":"-"},{"$f":"IF(COUNTIF('N PMČRj 2024'!B:B,B83)=0,\"-\",COUNTIF('N PMČRj 2024'!B:B,B83))","v":33},{"$f":"IF(ISERROR(VLOOKUP(B83,'N PMČRj 2024'!B:G,6,0)),\"-\",VLOOKUP(B83,'N PMČRj 2024'!B:G,6,0))","v":18}]
["N10","-",{"$f":"VLOOKUP(B84,Pilot!A:C,3,0)","v":" "},{"$f":"VLOOKUP(B84,Pilot!A:C,2,0)","v":" "},{"$f":"VLOOKUP(B84,Pilot!A:E,5,0)","v":" "},{"$f":"VLOOKUP(B84,Pilot!A:F,6,0)","v":" "},{"$f":"A84","v":"N10"},null,66,"-",{"$f":"IF(COUNTIF('N PMČR 2024'!B:B,B84)=0,\"-\",COUNTIF('N PMČR 2024'!B:B,B84))","v":6},{"$f":"IF(ISERROR(VLOOKUP(B84,'N PMČR 2024'!B:G,6,0)),\"-\",VLOOKUP(B84,'N PMČR 2024'!B:G,6,0))","v":"-"},{"$f":"IF(COUNTIF('N PMČRj 2024'!B:B,B84)=0,\"-\",COUNTIF('N PMČRj 2024'!B:B,B84))","v":33},{"$f":"IF(ISERROR(VLOOKUP(B84,'N PMČRj 2024'!B:G,6,0)),\"-\",VLOOKUP(B84,'N PMČRj 2024'!B:G,6,0))","v":18}]
[null,"Další soutěžící může navrhnout PK podle jiných kritérií dle odstavce 9. SŘ:"]
[{"$f":"MAX(A8:A85)+1","v":61},"-",{"$f":"VLOOKUP(B86,Pilot!A:C,3,0)","v":" "},{"$f":"VLOOKUP(B86,Pilot!A:C,2,0)","v":" "},{"$f":"VLOOKUP(B86,Pilot!A:E,5,0)","v":" "},{"$f":"VLOOKUP(B86,Pilot!A:F,6,0)","v":" "},{"$f":"A86","v":61},null,{"$f":"COUNTIF(B:B,B86)","v":66},{"$f":"IF(ISERROR(VLOOKUP(B86,B:G,6,0)),\"-\",VLOOKUP(B86,B:G,6,0))","v":"-"},{"$f":"IF(COUNTIF('N PMČR 2024'!B:B,B86)=0,\"-\",COUNTIF('N PMČR 2024'!B:B,B86))","v":6},{"$f":"IF(ISERROR(VLOOKUP(B86,'N PMČR 2024'!B:G,6,0)),\"-\",VLOOKUP(B86,'N PMČR 2024'!B:G,6,0))","v":"-"},{"$f":"IF(COUNTIF('N PMČRj 2024'!B:B,B86)=0,\"-\",COUNTIF('N PMČRj 2024'!B:B,B86))","v":33},{"$f":"IF(ISERROR(VLOOKUP(B86,'N PMČRj 2024'!B:G,6,0)),\"-\",VLOOKUP(B86,'N PMČRj 2024'!B:G,6,0))","v":18}]
[{"$f":"A86+1","v":62},"-",{"$f":"VLOOKUP(B87,Pilot!A:C,3,0)","v":" "},{"$f":"VLOOKUP(B87,Pilot!A:C,2,0)","v":" "},{"$f":"VLOOKUP(B87,Pilot!A:E,5,0)","v":" "},{"$f":"VLOOKUP(B87,Pilot!A:F,6,0)","v":" "},{"$f":"A87","v":62},null,{"$f":"COUNTIF(B:B,B87)","v":66},{"$f":"IF(ISERROR(VLOOKUP(B87,B:G,6,0)),\"-\",VLOOKUP(B87,B:G,6,0))","v":"-"},{"$f":"IF(COUNTIF('N PMČR 2024'!B:B,B87)=0,\"-\",COUNTIF('N PMČR 2024'!B:B,B87))","v":6},{"$f":"IF(ISERROR(VLOOKUP(B87,'N PMČR 2024'!B:G,6,0)),\"-\",VLOOKUP(B87,'N PMČR 2024'!B:G,6,0))","v":"-"},{"$f":"IF(COUNTIF('N PMČRj 2024'!B:B,B87)=0,\"-\",COUNTIF('N PMČRj 2024'!B:B,B87))","v":33},{"$f":"IF(ISERROR(VLOOKUP(B87,'N PMČRj 2024'!B:G,6,0)),\"-\",VLOOKUP(B87,'N PMČRj 2024'!B:G,6,0))","v":18}]
[{"$f":"A87+1","v":63},"-",{"$f":"VLOOKUP(B88,Pilot!A:C,3,0)","v":" "},{"$f":"VLOOKUP(B88,Pilot!A:C,2,0)","v":" "},{"$f":"VLOOKUP(B88,Pilot!A:E,5,0)","v":" "},{"$f":"VLOOKUP(B88,Pilot!A:F,6,0)","v":" "},{"$f":"A88","v":63},null,{"$f":"COUNTIF(B:B,B88)","v":66},{"$f":"IF(ISERROR(VLOOKUP(B88,B:G,6,0)),\"-\",VLOOKUP(B88,B:G,6,0))","v":"-"},{"$f":"IF(COUNTIF('N PMČR 2024'!B:B,B88)=0,\"-\",COUNTIF('N PMČR 2024'!B:B,B88))","v":6},{"$f":"IF(ISERROR(VLOOKUP(B88,'N PMČR 2024'!B:G,6,0)),\"-\",VLOOKUP(B88,'N PMČR 2024'!B:G,6,0))","v":"-"},{"$f":"IF(COUNTIF('N PMČRj 2024'!B:B,B88)=0,\"-\",COUNTIF('N PMČRj 2024'!B:B,B88))","v":33},{"$f":"IF(ISERROR(VLOOKUP(B88,'N PMČRj 2024'!B:G,6,0)),\"-\",VLOOKUP(B88,'N PMČRj 2024'!B:G,6,0))","v":18}]
[64,"-",{"$f":"VLOOKUP(B89,Pilot!A:C,3,0)","v":" "},{"$f":"VLOOKUP(B89,Pilot!A:C,2,0)","v":" "},{"$f":"VLOOKUP(B89,Pilot!A:E,5,0)","v":" "},{"$f":"VLOOKUP(B89,Pilot!A:F,6,0)","v":" "},{"$f":"A89","v":64},null,{"$f":"COUNTIF(B:B,B89)","v":66},{"$f":"IF(ISERROR(VLOOKUP(B89,B:G,6,0)),\"-\",VLOOKUP(B89,B:G,6,0))","v":"-"},{"$f":"IF(COUNTIF('N PMČR 2024'!B:B,B89)=0,\"-\",COUNTIF('N PMČR 2024'!B:B,B89))","v":6},{"$f":"IF(ISERROR(VLOOKUP(B89,'N PMČR 2024'!B:G,6,0)),\"-\",VLOOKUP(B89,'N PMČR 2024'!B:G,6,0))","v":"-"},{"$f":"IF(COUNTIF('N PMČRj 2024'!B:B,B89)=0,\"-\",COUNTIF('N PMČRj 2024'!B:B,B89))","v":33},{"$f":"IF(ISERROR(VLOOKUP(B89,'N PMČRj 2024'!B:G,6,0)),\"-\",VLOOKUP(B89,'N PMČRj 2024'!B:G,6,0))","v":18}]
[65,"-",{"$f":"VLOOKUP(B90,Pilot!A:C,3,0)","v":" "},{"$f":"VLOOKUP(B90,Pilot!A:C,2,0)","v":" "},{"$f":"VLOOKUP(B90,Pilot!A:E,5,0)","v":" "},{"$f":"VLOOKUP(B90,Pilot!A:F,6,0)","v":" "},{"$f":"A90","v":65},null,{"$f":"COUNTIF(B:B,B90)","v":66},{"$f":"IF(ISERROR(VLOOKUP(B90,B:G,6,0)),\"-\",VLOOKUP(B90,B:G,6,0))","v":"-"},{"$f":"IF(COUNTIF('N PMČR 2024'!B:B,B90)=0,\"-\",COUNTIF('N PMČR 2024'!B:B,B90))","v":6},{"$f":"IF(ISERROR(VLOOKUP(B90,'N PMČR 2024'!B:G,6,0)),\"-\",VLOOKUP(B90,'N PMČR 2024'!B:G,6,0))","v":"-"},{"$f":"IF(COUNTIF('N PMČRj 2024'!B:B,B90)=0,\"-\",COUNTIF('N PMČRj 2024'!B:B,B90))","v":33},{"$f":"IF(ISERROR(VLOOKUP(B90,'N PMČRj 2024'!B:G,6,0)),\"-\",VLOOKUP(B90,'N PMČRj 2024'!B:G,6,0))","v":18}]