{"text_format":"1","workbook":"xlsx","n_sheets":15,"sheets":["Zmeny","Soutez","Kp","Pilot","Region","Temp","Data","Zebrik G","Zebrik W","KB PMRg 2023","KB PMRg 2024","KB PMRg 2025","KB RPS 2025","N PMČR 2026","N PMČRj 2026"],"not_rendered":{"charts":0,"images":0,"macros":1,"external_links":1,"defined_names":42,"comments":3,"pivot_tables":2},"unopened":[],"bounds":{"document_bytes":16777216,"sheet_cells":100000,"rows_first":2000,"rows_last":500,"rows_between":2000,"halvings":0,"cell_chars":16384,"cell_head_chars":4096},"cells_cut":0,"cells_raw":0,"read":"whole","date_system":"1900"}

{"sheet":"Zmeny","index":0,"n_rows":5,"n_cols":3,"rows_kept":5,"cut":false,"hidden":false,"merged":[[0,1,0,2]]}
[null,"Změna"]
["Datum","Rev","Popis"]
["2025-12-07","00","První draft"]
["2025-12-13","01","Doplněny chybějící koeficienty soutěží, rozšířen W/RV 2026"]
["2025-12-21","02","Opraveny chyby, odstraněny HOP 2025"]

{"sheet":"Soutez","index":1,"n_rows":137,"n_cols":15,"rows_kept":137,"cut":false,"hidden":false,"merged":[]}
["Soutěž","Stát","Rok","Místo","Termín","Poč. disc.","Poč. pilotů","Ki","Kn1","Kn2","Kp","Kinp","dKinp","Poznámka","Results"]
["Zařazené soutěže 2023:"]
["SGP Final 2023","IT",2023,"Pavullo","16.4.-27.4.23",4,19,1,3.5000000000000003E-2,0.03,{"$f":"VLOOKUP(F3,Kp!$A$4:$B$24,2,FALSE)","v":0},{"$f":"IF(H3=0,0,IF(OR(F3=0,F3=1,F3=2),0,IF(G3<10,0,SUM(H3:K3))))","v":1.0649999999999999},{"$f":"L3-H3","v":6.4999999999999947E-2},null,"https://sgpfinal23.sgp.aero/results"]
["FCC Gliding 2023 - Klub","SK",2023,"Prievidza","16.4.-27.4.23",7,21,0.9,0.01,0.01,{"$f":"VLOOKUP(F4,Kp!$A$4:$B$24,2,FALSE)","v":1.4999999999999999E-2},0.93500000000000005,3.5000000000000031E-2,null,"https://www.soaringspot.com/cs/fcc-gliding-2023-prievidza-2023/results/club"]
["FCC Gliding 2023 - Kombi 15m","SK",2023,"Prievidza","16.4.-27.4.23",7,31,0.9,0.05,0.02,{"$f":"VLOOKUP(F5,Kp!$A$4:$B$24,2,FALSE)","v":1.4999999999999999E-2},0.9850000000000001,8.5000000000000075E-2,null,"https://www.soaringspot.com/cs/fcc-gliding-2023-prievidza-2023/results/15m"]
["FCC Gliding 2023 - Kombi Open","SK",2023,"Prievidza","16.4.-27.4.23",7,39,0.9,0.02,0.02,{"$f":"VLOOKUP(F6,Kp!$A$4:$B$24,2,FALSE)","v":1.4999999999999999E-2},0.95500000000000007,5.5000000000000049E-2,null,"https://www.soaringspot.com/cs/fcc-gliding-2023-prievidza-2023/results/combi"]
["Fatraglide 2023 - Klub","SK",2023,"Martin","29.4.-6.5.23",4,19,0.75,5.0000000000000001E-3,0,{"$f":"VLOOKUP(F7,Kp!$A$4:$B$24,2,FALSE)","v":0},0.755,5.0000000000000044E-3,null,"https://www.soaringspot.com/cs/21-fatraglide-2023-martin-2023/results/klubova-trieda"]
["Fatraglide 2023 - Kombi","SK",2023,"Martin","29.4.-6.5.23",4,15,0.75,5.0000000000000001E-3,0,{"$f":"VLOOKUP(F8,Kp!$A$4:$B$24,2,FALSE)","v":0},0.755,5.0000000000000044E-3,null,"https://www.soaringspot.com/cs/21-fatraglide-2023-martin-2023/results/kombi-trieda"]
["AZ Cup 2023 - Klub","CZ",2023,"Zbraslavice","25.5.-3.6.23",9,27,0.9,0.02,0.01,{"$f":"VLOOKUP(F9,Kp!$A$4:$B$24,2,FALSE)","v":2.5000000000000001E-2},0.95500000000000007,5.5000000000000049E-2,null,"https://www.soaringspot.com/en_gb/azcup/results/klub"]
["AZ Cup 2023 - Kombi ","CZ",2023,"Zbraslavice","25.5.-3.6.23",9,32,0.9,4.4999999999999998E-2,0.03,{"$f":"VLOOKUP(F10,Kp!$A$4:$B$24,2,FALSE)","v":2.5000000000000001E-2},1,9.9999999999999978E-2,null,"https://www.soaringspot.com/en_gb/azcup/results/kombi"]
["FL 2023 - Kombi","CZ",2023,"Frýdlant n/Ostr.","30.6.-9.7.23",7,11,0.9,0,0,{"$f":"VLOOKUP(F11,Kp!$A$4:$B$24,2,FALSE)","v":1.4999999999999999E-2},0.91500000000000004,1.5000000000000013E-2,null,"https://www.soaringspot.com/cs/fl-2023-frydlant-2023/results/fl-kombi"]
["FL 2023 - Klub","CZ",2023,"Frýdlant n/Ostr.","30.6.-9.7.23",7,9,0,0,0,{"$f":"VLOOKUP(F12,Kp!$A$4:$B$24,2,FALSE)","v":1.4999999999999999E-2},0,0,null,"https://www.soaringspot.com/cs/fl-2023-frydlant-2023/results/fl-klub"]
["JPJ 2023 - Klub","CZ",2023,"Šumperk","6.5.-13.5.23",4,40,0.9,5.0000000000000001E-3,0,{"$f":"VLOOKUP(F13,Kp!$A$4:$B$24,2,FALSE)","v":0},0.90500000000000003,5.0000000000000044E-3,null,"https://www.soaringspot.com/cs/jpj2023/results/klubova-trida"]
["JPJ 2023 - Kombi","CZ",2023,"Šumperk","6.5.-13.5.23",4,19,0.9,5.0000000000000001E-3,0.01,{"$f":"VLOOKUP(F14,Kp!$A$4:$B$24,2,FALSE)","v":0},0.91500000000000004,1.5000000000000013E-2,null,"https://www.soaringspot.com/cs/jpj2023/results/kombi-trida"]
["Alpe Adria Cup 2023 - 113","AT",2023,"Feldkirchen","10.6.-17.6.23",5,17,0.75,0,0,{"$f":"VLOOKUP(F15,Kp!$A$4:$B$24,2,FALSE)","v":5.0000000000000001E-3},{"$f":"IF(H15=0,0,IF(OR(F15=0,F15=1,F15=2),0,IF(G15<10,0,SUM(H15:K15))))","v":0.755},{"$f":"L15-H15","v":5.0000000000000044E-3},null,"https://www.soaringspot.com/en_gb/aac2023/results/113er"]
["Alpe Adria Cup 2023 - Kombi Open","AT",2023,"Feldkirchen","10.6.-17.6.23",5,24,0.75,0,0,{"$f":"VLOOKUP(F16,Kp!$A$4:$B$24,2,FALSE)","v":5.0000000000000001E-3},{"$f":"IF(H16=0,0,IF(OR(F16=0,F16=1,F16=2),0,IF(G16<10,0,SUM(H16:K16))))","v":0.755},{"$f":"L16-H16","v":5.0000000000000044E-3},null,"https://www.soaringspot.com/en_gb/aac2023/results/offene"]
["PMRg 2023 - Klub","CZ",2023,"Hosín","1.7.-15.7.23",10,13,0.9,0,0,{"$f":"VLOOKUP(F17,Kp!$A$4:$B$24,2,FALSE)","v":0.03},0.93,3.0000000000000027E-2,null,"https://www.soaringspot.com/cs/plachtarske-mistrovstvi-regionu-cr-2023-hosin-2023/results/klub"]
["PMRg, PMČRj 2023 - Kombi","CZ",2023,"Hosín","1.7.-15.7.23",10,11,0.9,0.02,0,{"$f":"VLOOKUP(F18,Kp!$A$4:$B$24,2,FALSE)","v":0.03},0.95000000000000007,5.0000000000000044E-2,null,"https://www.soaringspot.com/cs/plachtarske-mistrovstvi-regionu-cr-2023-hosin-2023/results/kombi"]
["PMČRj 2023 - Klub","CZ",2023,"Hosín","1.7.-15.7.23",10,25,0.9,0.01,0,{"$f":"VLOOKUP(F19,Kp!$A$4:$B$24,2,FALSE)","v":0.03},0.94000000000000006,4.0000000000000036E-2,null,"https://www.soaringspot.com/en_gb/plachtarske-mistrovstvi-cr-junioru-2023-hosin-2023/results/klub"]
["WWGC 2023 - Klub","SP",2023,"Garray","2.7.-14.7.23",8,19,1,1.4999999999999999E-2,0.01,{"$f":"VLOOKUP(F20,Kp!$A$4:$B$24,2,FALSE)","v":0.02},1.0449999999999999,4.4999999999999929E-2,null,"https://www.soaringspot.com/cs/12th-fai-womens-world-gliding-championship-garray-2023/results/club"]
["WWGC 2023 - Std","SP",2023,"Garray","2.7.-14.7.23",10,16,1,1.4999999999999999E-2,0.01,{"$f":"VLOOKUP(F21,Kp!$A$4:$B$24,2,FALSE)","v":0.03},1.0549999999999999,5.4999999999999938E-2,null,"https://www.soaringspot.com/cs/12th-fai-womens-world-gliding-championship-garray-2023/results/standard"]
["WWGC 2023 - 18m","SP",2023,"Garray","2.7.-14.7.23",10,12,1,0.01,"0, 03",{"$f":"VLOOKUP(F22,Kp!$A$4:$B$24,2,FALSE)","v":0.03},1.04,4.0000000000000036E-2,null,"https://www.soaringspot.com/cs/12th-fai-womens-world-gliding-championship-garray-2023/results/18-meter"]
["Safari Cup 2023 - Klub","CZ",2023,"Dvůr Králové","2.7.-15.7.23",9,25,0.75,0,0,{"$f":"VLOOKUP(F23,Kp!$A$4:$B$24,2,FALSE)","v":2.5000000000000001E-2},{"$f":"IF(H23=0,0,IF(OR(F23=0,F23=1,F23=2),0,IF(G23<10,0,SUM(H23:K23))))","v":0.77500000000000002},{"$f":"L23-H23","v":2.5000000000000022E-2},null,"https://www.soaringspot.com/en_gb/safari-and-blanik-cup-dvur-kralove-nad-labem-2023/results/dvousedadlovky"]
["Safari Cup 2023 - Kombi","CZ",2023,"Dvůr Králové","2.7.-15.7.23",9,10,0.75,0,0,{"$f":"VLOOKUP(F24,Kp!$A$4:$B$24,2,FALSE)","v":2.5000000000000001E-2},{"$f":"IF(H24=0,0,IF(OR(F24=0,F24=1,F24=2),0,IF(G24<10,0,SUM(H24:K24))))","v":0.77500000000000002},{"$f":"L24-H24","v":2.5000000000000022E-2},null,"https://www.soaringspot.com/en_gb/safari-and-blanik-cup-dvur-kralove-nad-labem-2023/results/unknown"]
["Toužim Cup 2023 - Klub","CZ",2023,"Toužim","8.7.-16.7.23",6,18,0.9,5.0000000000000001E-3,0,{"$f":"VLOOKUP(F25,Kp!$A$4:$B$24,2,FALSE)","v":0.01},{"$f":"IF(H25=0,0,IF(OR(F25=0,F25=1,F25=2),0,IF(G25<10,0,SUM(H25:K25))))","v":0.91500000000000004},{"$f":"L25-H25","v":1.5000000000000013E-2},null,"https://www.soaringspot.com/en_gb/tcup2023/results/klub"]
["Toužim Cup 2023 - Kombi","CZ",2023,"Toužim","8.7.-16.7.23",6,26,0.9,1.4999999999999999E-2,0,{"$f":"VLOOKUP(F26,Kp!$A$4:$B$24,2,FALSE)","v":0.01},0.92500000000000004,2.5000000000000022E-2,null,"https://www.soaringspot.com/en_gb/tcup2023/results/kombi"]
["PMSR 2023 - Kombi Open","SK",2023,"Prievidza","9.7.-22.7.23",10,14,0.9,0.02,0,{"$f":"VLOOKUP(F27,Kp!$A$4:$B$24,2,FALSE)","v":0.03},{"$f":"IF(H27=0,0,IF(OR(F27=0,F27=1,F27=2),0,IF(G27<10,0,SUM(H27:K27))))","v":0.95000000000000007},{"$f":"L27-H27","v":5.0000000000000044E-2},null,"https://www.soaringspot.com/cs/slovak-gliding-nationals-pmsr-2023-prievidza-2023/results/kombi-b"]
["Cirrus GP 2023 - Klub","CZ",2023,"Křižanov","15.7.-22.7.23",5,12,0.75,0,0,{"$f":"VLOOKUP(F28,Kp!$A$4:$B$24,2,FALSE)","v":5.0000000000000001E-3},0.755,5.0000000000000044E-3,null,"https://www.soaringspot.com/en_gb/cgp2023/results/cirrus-grand-prix"]
["Cirrus GP 2023 - Kombi 15m","CZ",2023,"Křižanov","15.7.-22.7.23",4,9,0,0,0,{"$f":"VLOOKUP(F29,Kp!$A$4:$B$24,2,FALSE)","v":0},{"$f":"IF(H29=0,0,IF(OR(F29=0,F29=1,F29=2),0,IF(G29<10,0,SUM(H29:K29))))","v":0},{"$f":"L29-H29","v":0},null,"https://www.soaringspot.com/en_gb/cgp2023/results/15m-grand-prix"]
["PPV 2023 - Klub","CZ",2023,"Havlíčkův Brod","22.7-30.7.23",4,42,0.9,0,0,{"$f":"VLOOKUP(F30,Kp!$A$4:$B$24,2,FALSE)","v":0},0.9,0,null,"https://www.soaringspot.com/en_gb/ppv2023-lkhb/results/klub"]
["PPV 2023 - Kombi","CZ",2023,"Havlíčkův Brod","22.7-30.7.23",4,19,0.9,0.02,0,{"$f":"VLOOKUP(F31,Kp!$A$4:$B$24,2,FALSE)","v":0},0.92,2.0000000000000018E-2,null,"https://www.soaringspot.com/en_gb/ppv2023-lkhb/results/kombi"]
["EGC 2023 - 18m","PL",2023,"Leszno","26.7.-11.8.23",7,36,1,0.06,0.02,{"$f":"VLOOKUP(F32,Kp!$A$4:$B$24,2,FALSE)","v":1.4999999999999999E-2},1.095,9.4999999999999973E-2,null,"https://www.soaringspot.com/cs/egc2023/results/18m"]
["EGC 2023 - Open","PL",2023,"Leszno","26.7.-11.8.23",8,15,1,0.03,0.01,{"$f":"VLOOKUP(F33,Kp!$A$4:$B$24,2,FALSE)","v":0.02},{"$f":"IF(H33=0,0,IF(OR(F33=0,F33=1,F33=2),0,IF(G33<10,0,SUM(H33:K33))))","v":1.06},{"$f":"L33-H33","v":6.0000000000000053E-2},null,"https://www.soaringspot.com/cs/egc2023/results/open"]
["EGC 2023 - Duo 20m","PL",2023,"Leszno","26.7.-11.8.23",8,22,1,3.5000000000000003E-2,0.03,{"$f":"VLOOKUP(F34,Kp!$A$4:$B$24,2,FALSE)","v":0.02},1.085,8.4999999999999964E-2,null,"https://www.soaringspot.com/cs/egc2023/results/20m-multi-seat"]
["JEGC 2023 - Klub","DK",2023,"Arnborg","29.7.-12.8.23",4,36,1,0.01,0.01,{"$f":"VLOOKUP(F35,Kp!$A$4:$B$24,2,FALSE)","v":0},1.02,2.0000000000000018E-2,null,"https://www.soaringspot.com/cs/6th-fai-junior-european-gliding-championship-2023/results/club"]
["JEGC 2023 - Std","DK",2023,"Arnborg","29.7.-12.8.23",4,20,1,0,0.02,{"$f":"VLOOKUP(F36,Kp!$A$4:$B$24,2,FALSE)","v":0},1.02,2.0000000000000018E-2,null,"https://www.soaringspot.com/cs/6th-fai-junior-european-gliding-championship-2023/results/standard"]
["PMČR 2023 - Klub","CZ",2023,"Moravská Třebová","14.8.-25.8.23",9,16,1,1.4999999999999999E-2,0.01,{"$f":"VLOOKUP(F37,Kp!$A$4:$B$24,2,FALSE)","v":2.5000000000000001E-2},1.0499999999999998,4.9999999999999822E-2,null,"https://www.soaringspot.com/en_gb/plachtarske-mistrovstvi-cr-2023-moravska-trebova-2023/results/klubova-trida"]
["PMČR 2023 - Kombi 15m","CZ",2023,"Moravská Třebová","14.8.-25.8.23",9,10,1,0.02,0,{"$f":"VLOOKUP(F38,Kp!$A$4:$B$24,2,FALSE)","v":2.5000000000000001E-2},1.0449999999999999,4.4999999999999929E-2,null,"https://www.soaringspot.com/en_gb/plachtarske-mistrovstvi-cr-2023-moravska-trebova-2023/results/kombi-15m"]
["PMČR 2023 - Kombi Open","CZ",2023,"Moravská Třebová","14.8.-25.8.23",9,11,1,2.5000000000000001E-2,0.01,{"$f":"VLOOKUP(F39,Kp!$A$4:$B$24,2,FALSE)","v":2.5000000000000001E-2},1.0599999999999998,5.9999999999999831E-2,null,"https://www.soaringspot.com/en_gb/plachtarske-mistrovstvi-cr-2023-moravska-trebova-2023/results/kombi-open"]
["WGC 2023 - Klub","AU",2023,"Narromine","2.12.-17.12.23",10,30,1,0.05,0.03,{"$f":"VLOOKUP(F40,Kp!$A$4:$B$24,2,FALSE)","v":0.03},1.1100000000000001,0.1100000000000001,null,"https://www.soaringspot.com/cs/37th-fai-world-gliding-championships-narromine-2023/results/club"]
["WGC 2023 - Std","AU",2023,"Narromine","2.12.-17.12.23",10,21,1,4.4999999999999998E-2,0.03,{"$f":"VLOOKUP(F41,Kp!$A$4:$B$24,2,FALSE)","v":0.03},1.105,0.10499999999999998,null,"https://www.soaringspot.com/cs/37th-fai-world-gliding-championships-narromine-2023/results/standard"]
["WGC 2023 - 15m","AU",2023,"Narromine","2.12.-17.12.23",10,27,1,6.5000000000000002E-2,0.03,{"$f":"VLOOKUP(F42,Kp!$A$4:$B$24,2,FALSE)","v":0.03},1.125,0.125,null,"https://www.soaringspot.com/cs/37th-fai-world-gliding-championships-narromine-2023/results/15m"]
["Zařazené soutěže 2024:"]
["Podbrdský pohár 2024 - Kombi","CZ",2024,"Letkov","27.4.-4.5.24",3,10,0.75,0,0,{"$f":"VLOOKUP(F44,Kp!$A$4:$B$24,2,FALSE)","v":-0.02},{"$f":"IF(H44=0,0,IF(OR(F44=0,F44=1,F44=2),0,IF(G44<10,0,SUM(H44:K44))))","v":0.73},{"$f":"L44-H44","v":-2.0000000000000018E-2},null,"https://www.soaringspot.com/en_gb/pp2024/results/kombi"]
["JPJ 2024 - Klub","CZ",2024,"Šumperk","4.5.-11.5.24",4,32,0.9,0,0,{"$f":"VLOOKUP(F45,Kp!$A$4:$B$24,2,FALSE)","v":0},0.9,0,null,"https://www.soaringspot.com/en_gb/jpj2024/results/klubova-trida"]
["JPJ 2024 - Kombi","CZ",2024,"Šumperk","4.5.-11.5.24",5,24,0.9,0.01,0.01,{"$f":"VLOOKUP(F46,Kp!$A$4:$B$24,2,FALSE)","v":5.0000000000000001E-3},0.92500000000000004,2.5000000000000022E-2,null,"https://www.soaringspot.com/en_gb/jpj2024/results/kombi-trida"]
["AZ Cup 2024 - Klub","CZ",2024,"Zbraslavice","24.5.-1.6.24",3,28,0.9,0.02,0.02,{"$f":"VLOOKUP(F47,Kp!$A$4:$B$24,2,FALSE)","v":-0.02},0.92,2.0000000000000018E-2,null,"https://www.soaringspot.com/en_gb/az-cup-2024-zbraslavice-2024/results/club"]
["AZ Cup 2024 - Kombi 15m","CZ",2024,"Zbraslavice","24.5.-1.6.24",3,15,0.9,1.4999999999999999E-2,0.03,{"$f":"VLOOKUP(F48,Kp!$A$4:$B$24,2,FALSE)","v":-0.02},0.92500000000000004,2.5000000000000022E-2,null,"https://www.soaringspot.com/en_gb/az-cup-2024-zbraslavice-2024/results/klub"]
["AZ Cup 2024 - Kombi Open","CZ",2024,"Zbraslavice","24.5.-1.6.24",2,39,0,0,0,{"$f":"VLOOKUP(F49,Kp!$A$4:$B$24,2,FALSE)","v":0},0,0,null,"https://www.soaringspot.com/en_gb/az-cup-2024-zbraslavice-2024/results/open-mixed"]
["PMČR 2024 - Klub","CZ",2024,"Toužim","8.6.-21.6.24",6,27,1,0.03,0.02,{"$f":"VLOOKUP(F50,Kp!$A$4:$B$24,2,FALSE)","v":0.01},1.06,6.0000000000000053E-2,null,"https://www.soaringspot.com/en_gb/plachtarske-mistrovstvi-cr-2024-touzim-2024/results/klub"]
["PMČR 2024 - Kombi 15m","CZ",2024,"Toužim","8.6.-21.6.24",6,11,1,2.5000000000000001E-2,0.01,{"$f":"VLOOKUP(F51,Kp!$A$4:$B$24,2,FALSE)","v":0.01},1.0449999999999999,4.4999999999999929E-2,null,"https://www.soaringspot.com/en_gb/plachtarske-mistrovstvi-cr-2024-touzim-2024/results/15m"]
["PMČR 2024 - Kombi Open","CZ",2024,"Toužim","8.6.-21.6.24",6,21,1,0.05,0.03,{"$f":"VLOOKUP(F52,Kp!$A$4:$B$24,2,FALSE)","v":0.01},1.0900000000000001,9.000000000000008E-2,null,"https://www.soaringspot.com/en_gb/plachtarske-mistrovstvi-cr-2024-touzim-2024/results/open"]
["PMRg 2024 - Klub","CZ",2024,"Hodkovice","27.6.-6.7.24",3,23,0.9,0,0,{"$f":"VLOOKUP(F53,Kp!$A$4:$B$24,2,FALSE)","v":-0.02},{"$f":"IF(H53=0,0,IF(OR(F53=0,F53=1,F53=2),0,IF(G53<10,0,SUM(H53:K53))))","v":0.88},{"$f":"L53-H53","v":-2.0000000000000018E-2},null,"https://www.soaringspot.com/en_gb/mistrovstvi-ceske-republiky-regionu-2024-hodkovice/results/klubova-trida"]
["PMRg 2024 - Kombi","CZ",2024,"Hodkovice","27.6.-6.7.24",3,10,0.9,0.02,0,{"$f":"VLOOKUP(F54,Kp!$A$4:$B$24,2,FALSE)","v":-0.02},{"$f":"IF(H54=0,0,IF(OR(F54=0,F54=1,F54=2),0,IF(G54<10,0,SUM(H54:K54))))","v":0.9},{"$f":"L54-H54","v":0},null,"https://www.soaringspot.com/en_gb/mistrovstvi-ceske-republiky-regionu-2024-hodkovice/results/kombi-open"]
["PMČRj 2024 - Klub","CZ",2024,"Hodkovice","27.6.-6.7.24",3,34,0.9,0.01,0.02,{"$f":"VLOOKUP(F55,Kp!$A$4:$B$24,2,FALSE)","v":-0.02},0.91,1.0000000000000009E-2,null,"https://www.soaringspot.com/en_gb/plachtarske-mistrovstvi-cr-junioru-2024-hodkovice/results/klubova-trida"]
["FL 2024 - Klub","CZ",2024,"Frýdlant n/Ostr.","28.6.-6.7.24",5,16,0.75,0,0,{"$f":"VLOOKUP(F56,Kp!$A$4:$B$24,2,FALSE)","v":5.0000000000000001E-3},{"$f":"IF(H56=0,0,IF(OR(F56=0,F56=1,F56=2),0,IF(G56<10,0,SUM(H56:K56))))","v":0.755},{"$f":"L56-H56","v":5.0000000000000044E-3},null,"https://www.soaringspot.com/en_gb/fl-2024-frydlant-2024/results/fl-klub"]
["FL 2024 - Kombi","CZ",2024,"Frýdlant n/Ostr.","28.6.-6.7.24",3,7,0,0.01,0,{"$f":"VLOOKUP(F57,Kp!$A$4:$B$24,2,FALSE)","v":-0.02},0,0,null,"https://www.soaringspot.com/en_gb/fl-2024-frydlant-2024/results/fl-kombi"]
["Safari Cup 2024 - Klub","CZ",2024,"Dvůr Králové","4.7.-14.7.24",3,27,0.75,0,0,{"$f":"VLOOKUP(F58,Kp!$A$4:$B$24,2,FALSE)","v":-0.02},{"$f":"IF(H58=0,0,IF(OR(F58=0,F58=1,F58=2),0,IF(G58<10,0,SUM(H58:K58))))","v":0.73},{"$f":"L58-H58","v":-2.0000000000000018E-2},null,"https://www.soaringspot.com/en_gb/safari-2024-dvur-kralove-nad-labem-2024/results/klub"]
["Safari Cup 2024 - Kombi","CZ",2024,"Dvůr Králové","4.7.-14.7.24",4,10,0.75,0,0,{"$f":"VLOOKUP(F59,Kp!$A$4:$B$24,2,FALSE)","v":0},{"$f":"IF(H59=0,0,IF(OR(F59=0,F59=1,F59=2),0,IF(G59<10,0,SUM(H59:K59))))","v":0.75},{"$f":"L59-H59","v":0},null,"https://www.soaringspot.com/en_gb/safari-2024-dvur-kralove-nad-labem-2024/results/volna"]
["Toužim Cup 2024 - Klub","CZ",2024,"Toužim","5.7.-13.7.24",4,23,0.9,0.01,0,{"$f":"VLOOKUP(F60,Kp!$A$4:$B$24,2,FALSE)","v":0},{"$f":"IF(H60=0,0,IF(OR(F60=0,F60=1,F60=2),0,IF(G60<10,0,SUM(H60:K60))))","v":0.91},{"$f":"L60-H60","v":1.0000000000000009E-2},null,"https://www.soaringspot.com/en_gb/tcup2024/results/klub"]
["Toužim Cup 2024 - Kombi","CZ",2024,"Toužim","5.7.-13.7.24",4,32,0.9,1.4999999999999999E-2,0,{"$f":"VLOOKUP(F61,Kp!$A$4:$B$24,2,FALSE)","v":0},{"$f":"IF(H61=0,0,IF(OR(F61=0,F61=1,F61=2),0,IF(G61<10,0,SUM(H61:K61))))","v":0.91500000000000004},{"$f":"L61-H61","v":1.5000000000000013E-2},null,"https://www.soaringspot.com/en_gb/tcup2024/results/kombi"]
["PPV 2024 - Klub","CZ",2024,"Havlíčkův Brod","20.7.-27.7.24",6,30,0.9,0.05,0,{"$f":"VLOOKUP(F62,Kp!$A$4:$B$24,2,FALSE)","v":0.01},{"$f":"IF(H62=0,0,IF(OR(F62=0,F62=1,F62=2),0,IF(G62<10,0,SUM(H62:K62))))","v":0.96000000000000008},{"$f":"L62-H62","v":6.0000000000000053E-2},null,"https://www.soaringspot.com/en_gb/plachtarsky-pohar-vysociny-2024-havlickuv-brod-2024/results/klubova-trida"]
["PPV 2024 - Kombi","CZ",2024,"Havlíčkův Brod","20.7.-27.7.24",6,31,0.9,1.4999999999999999E-2,0,{"$f":"VLOOKUP(F63,Kp!$A$4:$B$24,2,FALSE)","v":0.01},0.92500000000000004,2.5000000000000022E-2,null,"https://www.soaringspot.com/en_gb/plachtarsky-pohar-vysociny-2024-havlickuv-brod-2024/results/kombinovana-trida"]
["Pohár Českého Ráje 2024 - Klub","CZ",2024,"Jičín","26.7.-3.8.24",3,14,0.75,0,0,{"$f":"VLOOKUP(F64,Kp!$A$4:$B$24,2,FALSE)","v":-0.02},{"$f":"IF(H64=0,0,IF(OR(F64=0,F64=1,F64=2),0,IF(G64<10,0,SUM(H64:K64))))","v":0.73},{"$f":"L64-H64","v":-2.0000000000000018E-2},null,"https://www.soaringspot.com/en_gb/pohar-ceskeho-raje-2024-jicin-2024/results/club"]
["Ranský pohár 2024 - Klub","CZ",2024,"Raná","27.7.-3.8.24",7,22,0.75,0,0,{"$f":"VLOOKUP(F65,Kp!$A$4:$B$24,2,FALSE)","v":1.4999999999999999E-2},{"$f":"IF(H65=0,0,IF(OR(F65=0,F65=1,F65=2),0,IF(G65<10,0,SUM(H65:K65))))","v":0.76500000000000001},{"$f":"L65-H65","v":1.5000000000000013E-2},null,"https://www.soaringspot.com/en_gb/ransky-pohar-2024-rana-loumy-2024/results/combi"]
["Rakovnická Dlaždice 2024 - Kombi","CZ",2024,"Rakovník","3.8.-10.8.24",5,20,0.75,0,0,{"$f":"VLOOKUP(F66,Kp!$A$4:$B$24,2,FALSE)","v":5.0000000000000001E-3},{"$f":"IF(H66=0,0,IF(OR(F66=0,F66=1,F66=2),0,IF(G66<10,0,SUM(H66:K66))))","v":0.755},{"$f":"L66-H66","v":5.0000000000000044E-3},null,"https://www.soaringspot.com/en_gb/rakovnicka-dlazdice-2024-rakovnik-2024/results/club"]
["EGC 2024 - Klub","CZ",2024,"Tábor","3.8.-17.8.24",11,40,1,0.05,0.02,{"$f":"VLOOKUP(F67,Kp!$A$4:$B$24,2,FALSE)","v":0.03},{"$f":"IF(H67=0,0,IF(OR(F67=0,F67=1,F67=2),0,IF(G67<10,0,SUM(H67:K67))))","v":1.1000000000000001},{"$f":"L67-H67","v":0.10000000000000009},null,"https://www.soaringspot.com/en_gb/22nd-fai-european-gliding-championships-tabor-2024/results/club"]
["EGC 2024 - Std","CZ",2024,"Tábor","3.8.-17.8.24",11,33,1,6.5000000000000002E-2,0.03,{"$f":"VLOOKUP(F68,Kp!$A$4:$B$24,2,FALSE)","v":0.03},{"$f":"IF(H68=0,0,IF(OR(F68=0,F68=1,F68=2),0,IF(G68<10,0,SUM(H68:K68))))","v":1.125},{"$f":"L68-H68","v":0.125},null,"https://www.soaringspot.com/en_gb/22nd-fai-european-gliding-championships-tabor-2024/results/standard"]
["EGC 2024 - 15m","CZ",2024,"Tábor","3.8.-17.8.24",11,27,1,0.03,0.03,{"$f":"VLOOKUP(F69,Kp!$A$4:$B$24,2,FALSE)","v":0.03},1.0900000000000001,9.000000000000008E-2,null,"https://www.soaringspot.com/en_gb/22nd-fai-european-gliding-championships-tabor-2024/results/15-meter"]
["GGP MB 2024 - Klub GP","CZ",2024,"Mladá Boleslav","24.8.-31.8.24",3,12,0.9,0,0,{"$f":"VLOOKUP(F70,Kp!$A$4:$B$24,2,FALSE)","v":-0.02},{"$f":"IF(H70=0,0,IF(OR(F70=0,F70=1,F70=2),0,IF(G70<10,0,SUM(H70:K70))))","v":0.88},{"$f":"L70-H70","v":-2.0000000000000018E-2},null,"https://www.soaringspot.com/en_gb/ggp2024/results/club-gp"]
["GGP MB 2024 - Pohár MV - Kombi","CZ",2024,"Mladá Boleslav","24.8.-31.8.24",3,13,0.75,1.4999999999999999E-2,0,{"$f":"VLOOKUP(F71,Kp!$A$4:$B$24,2,FALSE)","v":-0.02},{"$f":"IF(H71=0,0,IF(OR(F71=0,F71=1,F71=2),0,IF(G71<10,0,SUM(H71:K71))))","v":0.745},{"$f":"L71-H71","v":-5.0000000000000044E-3},null,"https://www.soaringspot.com/en_gb/ggp2024/results/pohar-metodeje-vlach"]
["JWGC 2024 - Klub","PL",2024,"Ostrow Wielkopolski","14.7.-26.7.24",11,44,1,0.01,0.03,{"$f":"VLOOKUP(F72,Kp!$A$4:$B$24,2,FALSE)","v":0.03},{"$f":"IF(H72=0,0,IF(OR(F72=0,F72=1,F72=2),0,IF(G72<10,0,SUM(H72:K72))))","v":1.07},{"$f":"L72-H72","v":7.0000000000000062E-2},null,"https://www.soaringspot.com/en_gb/jwgc2024/results/club"]
["JWGC 2024 - Std","PL",2024,"Ostrow Wielkopolski","14.7.-26.7.24",11,23,1,0.03,0.03,{"$f":"VLOOKUP(F73,Kp!$A$4:$B$24,2,FALSE)","v":0.03},1.0900000000000001,9.000000000000008E-2,null,"https://www.soaringspot.com/en_gb/jwgc2024/results/standard"]
["Pribina Cup 2024 - Klub","SK",2024,"Nitra","29.3.-6.4.24",6,11,0.9,5.0000000000000001E-3,0,{"$f":"VLOOKUP(F74,Kp!$A$4:$B$24,2,FALSE)","v":0.01},{"$f":"IF(H74=0,0,IF(OR(F74=0,F74=1,F74=2),0,IF(G74<10,0,SUM(H74:K74))))","v":0.91500000000000004},{"$f":"L74-H74","v":1.5000000000000013E-2},null,"https://www.soaringspot.com/en_gb/pribina-cup-2024-nitra-2024/results/15-meter"]
["Pribina Cup 2024 - Kombi Open","SK",2024,"Nitra","29.3.-6.4.24",6,21,0.9,0.03,0.01,{"$f":"VLOOKUP(F75,Kp!$A$4:$B$24,2,FALSE)","v":0.01},{"$f":"IF(H75=0,0,IF(OR(F75=0,F75=1,F75=2),0,IF(G75<10,0,SUM(H75:K75))))","v":0.95000000000000007},{"$f":"L75-H75","v":5.0000000000000044E-2},null,"https://www.soaringspot.com/en_gb/pribina-cup-2024-nitra-2024/results/open"]
["Fatraglide 2024 - Klub","SK",2024,"Martin","28.4.-7.5.24",7,29,0.75,0,0,{"$f":"VLOOKUP(F76,Kp!$A$4:$B$24,2,FALSE)","v":1.4999999999999999E-2},{"$f":"IF(H76=0,0,IF(OR(F76=0,F76=1,F76=2),0,IF(G76<10,0,SUM(H76:K76))))","v":0.76500000000000001},{"$f":"L76-H76","v":1.5000000000000013E-2},null,"https://www.soaringspot.com/en_gb/fatraglide24/results/club"]
["Fatraglide 2024 - Kombi","SK",2024,"Martin","28.4.-7.5.24",7,28,0.75,0,0,{"$f":"VLOOKUP(F77,Kp!$A$4:$B$24,2,FALSE)","v":1.4999999999999999E-2},{"$f":"IF(H77=0,0,IF(OR(F77=0,F77=1,F77=2),0,IF(G77<10,0,SUM(H77:K77))))","v":0.76500000000000001},{"$f":"L77-H77","v":1.5000000000000013E-2},null,"https://www.soaringspot.com/en_gb/fatraglide24/results/combi"]
["PMSR 2024 - Kombi","SK",2024,"Prievidza","23.6.-6.7.24",8,20,0.9,5.0000000000000001E-3,0.01,{"$f":"VLOOKUP(F78,Kp!$A$4:$B$24,2,FALSE)","v":0.02},{"$f":"IF(H78=0,0,IF(OR(F78=0,F78=1,F78=2),0,IF(G78<10,0,SUM(H78:K78))))","v":0.93500000000000005},{"$f":"L78-H78","v":3.5000000000000031E-2},null,"https://www.soaringspot.com/en_gb/slovak-gliding-nationals-pmsr-2024-pre-jegc2025-prievidza/results/kombi"]
["Lilienthal Glide 2024 - Duo 20m","DE",2024,"Lüsse","3.8.-11.8.24",5,28,0.75,5.0000000000000001E-3,0,{"$f":"VLOOKUP(F79,Kp!$A$4:$B$24,2,FALSE)","v":5.0000000000000001E-3},{"$f":"IF(H79=0,0,IF(OR(F79=0,F79=1,F79=2),0,IF(G79<10,0,SUM(H79:K79))))","v":0.76},{"$f":"L79-H79","v":1.0000000000000009E-2},null,"https://www.soaringspot.com/en_gb/lilienthal-glide-2024/results/doppelsitzer-klasse"]
["Hahnweide 2024 - Duo 20m","DE",2024,"Hahnweide","4.5.-11.5.24",4,20,0.9,0.03,0,{"$f":"VLOOKUP(F80,Kp!$A$4:$B$24,2,FALSE)","v":0},0.93,3.0000000000000027E-2,null,"https://www.soaringspot.com/en_gb/56-hww/results/dosi"]
["WGC 2024 - 18m","US",2024,"Uvalde","18.8.-31.8.24",11,32,1,7.4999999999999997E-2,0.03,{"$f":"VLOOKUP(F81,Kp!$A$4:$B$24,2,FALSE)","v":0.03},{"$f":"IF(H81=0,0,IF(OR(F81=0,F81=1,F81=2),0,IF(G81<10,0,SUM(H81:K81))))","v":1.135},{"$f":"L81-H81","v":0.13500000000000001},null,"https://www.soaringspot.com/en_gb/38th-fai-world-gliding-championship-uvalde-garner-field-2024/results/18-meter"]
["WGC 2024 - Duo 20m","US",2024,"Uvalde","18.8.-31.8.24",11,16,1,0.02,3.5000000000000003E-2,{"$f":"VLOOKUP(F82,Kp!$A$4:$B$24,2,FALSE)","v":0.03},1.085,8.4999999999999964E-2,null,"https://www.soaringspot.com/en_gb/38th-fai-world-gliding-championship-uvalde-garner-field-2024/results/double-seater"]
["WGC 2024 - Open","US",2024,"Uvalde","18.8.-31.8.24",12,17,1,0.03,0.03,{"$f":"VLOOKUP(F83,Kp!$A$4:$B$24,2,FALSE)","v":0.03},1.0900000000000001,9.000000000000008E-2,null,"https://www.soaringspot.com/en_gb/38th-fai-world-gliding-championship-uvalde-garner-field-2024/results/open"]
["Zařazené soutěže 2025:"]
["AZ Cup 2025 - Klub","CZ",2025,"Zbraslavice","17.4.-26.4.25",4,27,0.9,0.02,0.01,{"$f":"VLOOKUP(F85,Kp!$A$4:$B$24,2,FALSE)","v":0},{"$f":"IF(H85=0,0,IF(OR(F85=0,F85=1,F85=2),0,IF(G85<10,0,SUM(H85:K85))))","v":0.93},{"$f":"L85-H85","v":3.0000000000000027E-2},null,"https://www.soaringspot.com/en_gb/az-cup-2025-zbraslavice-2025/results/club"]
["AZ Cup 2025 - Kombi 15m","CZ",2025,"Zbraslavice","17.4.-26.4.25",5,16,0.9,3.5000000000000003E-2,0.02,{"$f":"VLOOKUP(F86,Kp!$A$4:$B$24,2,FALSE)","v":5.0000000000000001E-3},{"$f":"IF(H86=0,0,IF(OR(F86=0,F86=1,F86=2),0,IF(G86<10,0,SUM(H86:K86))))","v":0.96000000000000008},{"$f":"L86-H86","v":6.0000000000000053E-2},null,"https://www.soaringspot.com/en_gb/az-cup-2025-zbraslavice-2025/results/15m-mixed"]
["AZ Cup 2025 - Kombi Open","CZ",2025,"Zbraslavice","17.4.-26.4.25",4,21,0.9,0.03,0.01,{"$f":"VLOOKUP(F87,Kp!$A$4:$B$24,2,FALSE)","v":0},0.94000000000000006,4.0000000000000036E-2,null,"https://www.soaringspot.com/en_gb/az-cup-2025-zbraslavice-2025/results/open-mixed"]
["Podbrdský pohár 2025 - Klub","CZ",2025,"Letkov","26.4.-3.5.25",5,13,0.75,0,0,{"$f":"VLOOKUP(F88,Kp!$A$4:$B$24,2,FALSE)","v":5.0000000000000001E-3},{"$f":"IF(H88=0,0,IF(OR(F88=0,F88=1,F88=2),0,IF(G88<10,0,SUM(H88:K88))))","v":0.755},{"$f":"L88-H88","v":5.0000000000000044E-3},"Více jak 1/2 soutěžících z jednoho klubu","https://www.soaringspot.com/en_gb/pp2025/results/club"]
["Podbrdský pohár 2025 - Kombi","CZ",2025,"Letkov","26.4.-3.5.25",6,15,0.75,"0.00",0,{"$f":"VLOOKUP(F89,Kp!$A$4:$B$24,2,FALSE)","v":0.01},{"$f":"IF(H89=0,0,IF(OR(F89=0,F89=1,F89=2),0,IF(G89<10,0,SUM(H89:K89))))","v":0.76},{"$f":"L89-H89","v":1.0000000000000009E-2},"Více jak 1/2 soutěžících z jednoho klubu","https://www.soaringspot.com/en_gb/pp2025/results/kombi"]
["JPJ 2025 - Klub","CZ",2025,"Šumperk","1.5.-10.5.25",6,31,0.9,0,0,{"$f":"VLOOKUP(F90,Kp!$A$4:$B$24,2,FALSE)","v":0.01},{"$f":"IF(H90=0,0,IF(OR(F90=0,F90=1,F90=2),0,IF(G90<10,0,SUM(H90:K90))))","v":0.91},{"$f":"L90-H90","v":1.0000000000000009E-2},null,"https://www.soaringspot.com/en_gb/jpj2025/results/klubova-trida"]
["JPJ 2025 - Kombi 15m","CZ",2025,"Šumperk","1.5.-10.5.25",6,11,0.9,0,0.01,{"$f":"VLOOKUP(F91,Kp!$A$4:$B$24,2,FALSE)","v":0.01},0.92,2.0000000000000018E-2,null,"https://www.soaringspot.com/en_gb/jpj2025/results/kombi-15m-trida"]
["JPJ 2025 - Kombi Open","CZ",2025,"Šumperk","1.5.-10.5.25",6,18,0.9,0,0,{"$f":"VLOOKUP(F92,Kp!$A$4:$B$24,2,FALSE)","v":0.01},0.91,1.0000000000000009E-2,null,"https://www.soaringspot.com/en_gb/jpj2025/results/kombi-trida"]
["Ulf Memorial 2025 - Klub","CZ",2025,"Raná","25.5.-31.5.25",4,11,0.75,0,0,{"$f":"VLOOKUP(F93,Kp!$A$4:$B$24,2,FALSE)","v":0},{"$f":"IF(H93=0,0,IF(OR(F93=0,F93=1,F93=2),0,IF(G93<10,0,SUM(H93:K93))))","v":0.75},{"$f":"L93-H93","v":0},"Oldtimer","https://www.soaringspot.com/en_gb/ulf-memorial-2025-rana-louny-2025/results/unknown"]
["PMČR 2025 - Klub","CZ",2025,"Havlíčkův Brod","22.5.-31.5.25",5,23,1,0.02,0.01,{"$f":"VLOOKUP(F94,Kp!$A$4:$B$24,2,FALSE)","v":5.0000000000000001E-3},{"$f":"IF(H94=0,0,IF(OR(F94=0,F94=1,F94=2),0,IF(G94<10,0,SUM(H94:K94))))","v":1.0349999999999999},{"$f":"L94-H94","v":3.499999999999992E-2},null,"https://www.soaringspot.com/en_gb/czech-gliding-championship-2025-havlickuv-brod-2025/results/club"]
["PMČR 2025 - Kombi 15m","CZ",2025,"Havlíčkův Brod","22.5.-31.5.25",6,19,1,1.4999999999999999E-2,0.03,{"$f":"VLOOKUP(F95,Kp!$A$4:$B$24,2,FALSE)","v":0.01},{"$f":"IF(H95=0,0,IF(OR(F95=0,F95=1,F95=2),0,IF(G95<10,0,SUM(H95:K95))))","v":1.0549999999999999},{"$f":"L95-H95","v":5.4999999999999938E-2},null,"https://www.soaringspot.com/en_gb/czech-gliding-championship-2025-havlickuv-brod-2025/results/15m-combi-multi-seat"]
["PMČR 2025 - Kombi Open","CZ",2025,"Havlíčkův Brod","22.5.-31.5.25",5,27,1,0.05,0,{"$f":"VLOOKUP(F96,Kp!$A$4:$B$24,2,FALSE)","v":5.0000000000000001E-3},1.0549999999999999,5.4999999999999938E-2,null,"https://www.soaringspot.com/en_gb/czech-gliding-championship-2025-havlickuv-brod-2025/results/open"]
["FL 2025 - Klub","CZ",2025,"Frýdlant n/Ostr.","14.6.-21.6.25",7,17,0.9,0,0,{"$f":"VLOOKUP(F97,Kp!$A$4:$B$24,2,FALSE)","v":1.4999999999999999E-2},{"$f":"IF(H97=0,0,IF(OR(F97=0,F97=1,F97=2),0,IF(G97<10,0,SUM(H97:K97))))","v":0.91500000000000004},{"$f":"L97-H97","v":1.5000000000000013E-2},null,"https://www.soaringspot.com/en_gb/fl2025-frydlant-2025/results/fl-klub"]
["FL 2025 - Kombi","CZ",2025,"Frýdlant n/Ostr.","14.6.-21.6.25",7,14,0.75,0,0,{"$f":"VLOOKUP(F98,Kp!$A$4:$B$24,2,FALSE)","v":1.4999999999999999E-2},0.76500000000000001,1.5000000000000013E-2,null,"https://www.soaringspot.com/en_gb/fl2025-frydlant-2025/results/fl-kombi"]
["WGC 2025 - Klub","CZ",2025,"Tábor","7.6.-21.6.25",9,42,1,6.5000000000000002E-2,0.03,{"$f":"VLOOKUP(F99,Kp!$A$4:$B$24,2,FALSE)","v":2.5000000000000001E-2},{"$f":"IF(H99=0,0,IF(OR(F99=0,F99=1,F99=2),0,IF(G99<10,0,SUM(H99:K99))))","v":1.1199999999999999},{"$f":"L99-H99","v":0.11999999999999988},null,"https://www.soaringspot.com/en_gb/39th-fai-world-gliding-championships-tabor-2025/results/club"]
["WGC 2025 - Std","CZ",2025,"Tábor","7.6.-21.6.25",9,38,1,6.5000000000000002E-2,0.03,{"$f":"VLOOKUP(F100,Kp!$A$4:$B$24,2,FALSE)","v":2.5000000000000001E-2},1.1199999999999999,0.11999999999999988,null,"https://www.soaringspot.com/en_gb/39th-fai-world-gliding-championships-tabor-2025/results/standard"]
["WGC 2025 - 15m","CZ",2025,"Tábor","7.6.-21.6.25",9,35,1,7.0000000000000007E-2,0.03,{"$f":"VLOOKUP(F101,Kp!$A$4:$B$24,2,FALSE)","v":2.5000000000000001E-2},1.125,0.125,null,"https://www.soaringspot.com/en_gb/39th-fai-world-gliding-championships-tabor-2025/results/-15-meter"]
["Safari Cup 2025 - Klub","CZ",2025,"Dvůr Králové","28.6.-12.7.25",3,29,0.75,"0.00",0,{"$f":"VLOOKUP(F102,Kp!$A$4:$B$24,2,FALSE)","v":-0.02},{"$f":"IF(H102=0,0,IF(OR(F102=0,F102=1,F102=2),0,IF(G102<10,0,SUM(H102:K102))))","v":0.73},{"$f":"L102-H102","v":-2.0000000000000018E-2},null,"https://www.soaringspot.com/en_gb/safari-cup-dvur-kralove-nad-labem-2025/results/klub"]
["Safari Cup 2025 - Kombi","CZ",2025,"Dvůr Králové","28.6.-12.7.25",5,10,0.75,0,0,{"$f":"VLOOKUP(F103,Kp!$A$4:$B$24,2,FALSE)","v":5.0000000000000001E-3},0.755,5.0000000000000044E-3,null,"https://www.soaringspot.com/en_gb/safari-cup-dvur-kralove-nad-labem-2025/results/kombi"]
["Toužim Cup 2025 - Klub","CZ",2025,"Toužim","12.7.-20.7.25",3,26,0.9,0,0,{"$f":"VLOOKUP(F104,Kp!$A$4:$B$24,2,FALSE)","v":-0.02},{"$f":"IF(H104=0,0,IF(OR(F104=0,F104=1,F104=2),0,IF(G104<10,0,SUM(H104:K104))))","v":0.88},{"$f":"L104-H104","v":-2.0000000000000018E-2},null,"https://www.soaringspot.com/en_gb/tcup2025/results/klub"]
["Toužim Cup 2025 - Kombi","CZ",2025,"Toužim","12.7.-20.7.25",4,34,0.9,0.02,0,{"$f":"VLOOKUP(F105,Kp!$A$4:$B$24,2,FALSE)","v":0},0.92,2.0000000000000018E-2,null,"https://www.soaringspot.com/en_gb/tcup2025/results/kombi"]
["PPV 2025 - Klub","CZ",2025,"Havlíčkův Brod","19.7.-26.7.25",4,31,0.9,0,0,{"$f":"VLOOKUP(F106,Kp!$A$4:$B$24,2,FALSE)","v":0},{"$f":"IF(H106=0,0,IF(OR(F106=0,F106=1,F106=2),0,IF(G106<10,0,SUM(H106:K106))))","v":0.9},{"$f":"L106-H106","v":0},null,"https://www.soaringspot.com/en_gb/plachtarsky-pohar-vysociny-2025-havlickuv-brod/results/club"]
["PPV 2025 - Kombi","CZ",2025,"Havlíčkův Brod","19.7.-26.7.25",5,28,0.9,0.01,0,{"$f":"VLOOKUP(F107,Kp!$A$4:$B$24,2,FALSE)","v":5.0000000000000001E-3},0.91500000000000004,1.5000000000000013E-2,null,"https://www.soaringspot.com/en_gb/plachtarsky-pohar-vysociny-2025-havlickuv-brod/results/combi"]
["Rakovnická Dlaždice 2025 - Klub","CZ",2025,"Rakovník","19.7.-27.7.25",3,9,0,0,0,{"$f":"VLOOKUP(F108,Kp!$A$4:$B$24,2,FALSE)","v":-0.02},{"$f":"IF(H108=0,0,IF(OR(F108=0,F108=1,F108=2),0,IF(G108<10,0,SUM(H108:K108))))","v":0},{"$f":"L108-H108","v":0},"Více jak 1/2 soutěžících z jednoho klubu, méně jak 10 bodovaných soutěžících","https://www.soaringspot.com/en_gb/rakovnicka-dlazdice-2025-rakovnik-2025/results/club"]
["Ranský pohár 2025 - Klub","CZ",2025,"Raná","26.7.-3.8.25",4,17,0.75,0,0,{"$f":"VLOOKUP(F109,Kp!$A$4:$B$24,2,FALSE)","v":0},{"$f":"IF(H109=0,0,IF(OR(F109=0,F109=1,F109=2),0,IF(G109<10,0,SUM(H109:K109))))","v":0.75},{"$f":"L109-H109","v":0},null,"https://www.soaringspot.com/en_gb/ransky-pohar-2025-rana-louny-2025/results/club"]
["PMRg 2025 - Klub","CZ",2025,"Strakonice","27.7.-8.8.25",4,10,0.9,0,0,{"$f":"VLOOKUP(F110,Kp!$A$4:$B$24,2,FALSE)","v":0},{"$f":"IF(H110=0,0,IF(OR(F110=0,F110=1,F110=2),0,IF(G110<10,0,SUM(H110:K110))))","v":0.9},{"$f":"L110-H110","v":0},"POZOR 9. a 10. soutěžící v pořadí 3 a 2 b., 7. soutěžící nejprve 3x 0 b.","https://www.soaringspot.com/en_gb/pmcrj-pmrg-2025-strakonice-2025/results/pmrg-klub"]
["PMRg 2025 - Kombi","CZ",2025,"Strakonice","27.7.-8.8.25",4,10,0.9,5.0000000000000001E-3,0.01,{"$f":"VLOOKUP(F111,Kp!$A$4:$B$24,2,FALSE)","v":0},0.91500000000000004,1.5000000000000013E-2,"POZOR 10. soutěžící v pořadí 4x 0 b.","https://www.soaringspot.com/en_gb/pmcrj-pmrg-2025-strakonice-2025/results/pmrg-kombi-mixed"]
["PMČRj 2025 - Klub","CZ",2025,"Strakonice","27.7.-8.8.25",4,27,0.9,0.01,0,{"$f":"VLOOKUP(F112,Kp!$A$4:$B$24,2,FALSE)","v":0},0.91,1.0000000000000009E-2,null,"https://www.soaringspot.com/en_gb/pmcrj-pmrg-2025-strakonice-2025/results/pmcrj-club"]
["Pohár Českého Ráje 2025 - Kombi","CZ",2025,"Jičín","1.8.-9.8.25",2,17,0,0,0,{"$f":"VLOOKUP(F113,Kp!$A$4:$B$24,2,FALSE)","v":0},{"$f":"IF(H113=0,0,IF(OR(F113=0,F113=1,F113=2),0,IF(G113<10,0,SUM(H113:K113))))","v":0},{"$f":"L113-H113","v":0},"Pouze 2 soutěžní disciplíny","https://www.soaringspot.com/en_gb/pohar-ceskeho-raje-2025-jicin-2025/results/klub-ul"]
["Cirrus GP 2025 - Klub","CZ",2025,"Hodkovice","2.8.-9.8.25",6,7,0,0,0,{"$f":"VLOOKUP(F114,Kp!$A$4:$B$24,2,FALSE)","v":0.01},{"$f":"IF(H114=0,0,IF(OR(F114=0,F114=1,F114=2),0,IF(G114<10,0,SUM(H114:K114))))","v":0},{"$f":"L114-H114","v":0},"Pouze 7 soutěžících ve třídě","https://www.soaringspot.com/en_gb/cgp2025/results/std-cirrus"]
["Cirrus GP 2025 - Kombi 15m","CZ",2025,"Hodkovice","2.8.-9.8.25",5,7,0,0,0,{"$f":"VLOOKUP(F115,Kp!$A$4:$B$24,2,FALSE)","v":5.0000000000000001E-3},{"$f":"IF(H115=0,0,IF(OR(F115=0,F115=1,F115=2),0,IF(G115<10,0,SUM(H115:K115))))","v":0},{"$f":"L115-H115","v":0},"Pouze 7 soutěžících ve třídě","https://www.soaringspot.com/en_gb/cgp2025/results/15-meter"]
["WWGC 2025 - Klub","CZ",2025,"Zbraslavice","26.7.-9.8.25",6,25,1,0.01,0.01,{"$f":"VLOOKUP(F116,Kp!$A$4:$B$24,2,FALSE)","v":0.01},1.03,3.0000000000000027E-2,null,"https://www.soaringspot.com/en_gb/13th-fai-womens-world-gliding-championship-zbraslavice-2025/results/club"]
["WWGC 2025 - Std","CZ",2025,"Zbraslavice","26.7.-9.8.25",7,14,1,5.0000000000000001E-3,0.03,{"$f":"VLOOKUP(F117,Kp!$A$4:$B$24,2,FALSE)","v":1.4999999999999999E-2},1.0499999999999998,4.9999999999999822E-2,null,"https://www.soaringspot.com/en_gb/13th-fai-womens-world-gliding-championship-zbraslavice-2025/results/standard"]
["WWGC 2025 - 18m","CZ",2025,"Zbraslavice","26.7.-9.8.25",7,11,1,5.0000000000000001E-3,0.03,{"$f":"VLOOKUP(F118,Kp!$A$4:$B$24,2,FALSE)","v":1.4999999999999999E-2},1.0499999999999998,4.9999999999999822E-2,null,"https://www.soaringspot.com/en_gb/13th-fai-womens-world-gliding-championship-zbraslavice-2025/results/18-meter"]
["HOP 2025 - Klub","CZ",2025,"Hronov","9.8.-16.8.25",5,21,0.75,0,0,{"$f":"VLOOKUP(F119,Kp!$A$4:$B$24,2,FALSE)","v":5.0000000000000001E-3},{"$f":"IF(H119=0,0,IF(OR(F119=0,F119=1,F119=2),0,IF(G119<10,0,SUM(H119:K119))))","v":0.755},{"$f":"L119-H119","v":5.0000000000000044E-3},null,"https://www.soaringspot.com/en_gb/24-hop-2025-velke-porici-2025/results/klub-hop"]
["HOP 2025 - Kombi","CZ",2025,"Hronov","9.8.-16.8.25",5,14,0.75,0,0,{"$f":"VLOOKUP(F120,Kp!$A$4:$B$24,2,FALSE)","v":5.0000000000000001E-3},{"$f":"IF(H120=0,0,IF(OR(F120=0,F120=1,F120=2),0,IF(G120<10,0,SUM(H120:K120))))","v":0.755},{"$f":"L120-H120","v":5.0000000000000044E-3},null,"https://www.soaringspot.com/en_gb/24-hop-2025-velke-porici-2025/results/kombi-mix-ppf"]
["GGP MB 2025 - Klub GP","CZ",2025,"Mladá Boleslav","16.8.-24.8.25",5,15,0.75,0,0,{"$f":"VLOOKUP(F121,Kp!$A$4:$B$24,2,FALSE)","v":5.0000000000000001E-3},{"$f":"IF(H121=0,0,IF(OR(F121=0,F121=1,F121=2),0,IF(G121<10,0,SUM(H121:K121))))","v":0.755},{"$f":"L121-H121","v":5.0000000000000044E-3},null,"https://www.soaringspot.com/en_gb/ggp2025/results/cgp"]
["GGP MB 2025 - Pohár MV - Kombi","CZ",2025,"Mladá Boleslav","16.8.-24.8.25",5,10,0.75,0,0,{"$f":"VLOOKUP(F122,Kp!$A$4:$B$24,2,FALSE)","v":5.0000000000000001E-3},0.755,5.0000000000000044E-3,null,"https://www.soaringspot.com/en_gb/ggp2025/results/pmv"]
["GGP MB 2025 - Gradient GP","CZ",2025,"Mladá Boleslav","16.8.-24.8.25",5,8,0,0,0,{"$f":"VLOOKUP(F123,Kp!$A$4:$B$24,2,FALSE)","v":5.0000000000000001E-3},0,0,"Pouze 8 soutěžících ve třídě","https://www.soaringspot.com/en_gb/ggp2025/results/ggp"]
["GGP MB 2025 - Super Klub GP","CZ",2025,"Mladá Boleslav","16.8.-24.8.25",5,4,0,0,0,{"$f":"VLOOKUP(F124,Kp!$A$4:$B$24,2,FALSE)","v":5.0000000000000001E-3},{"$f":"IF(H124=0,0,IF(OR(F124=0,F124=1,F124=2),0,IF(G124<10,0,SUM(H124:K124))))","v":0},{"$f":"L124-H124","v":0},"Pouze 8 soutěžících ve třídě","https://www.soaringspot.com/en_gb/ggp2025/results/scgp"]
["Pribina Cup 2025 - Klub","SK",2025,"Nitra","18.4.-26.4.25",5,15,0.9,5.0000000000000001E-3,0,{"$f":"VLOOKUP(F125,Kp!$A$4:$B$24,2,FALSE)","v":5.0000000000000001E-3},0.91,1.0000000000000009E-2,null,"https://www.soaringspot.com/en_gb/pribina-cup-2025-nitra-2025/results/club"]
["Pribina Cup 2025 - Kombi 15m","SK",2025,"Nitra","18.4.-26.4.25",4,18,0.9,1.4999999999999999E-2,0.01,{"$f":"VLOOKUP(F126,Kp!$A$4:$B$24,2,FALSE)","v":0},{"$f":"IF(H126=0,0,IF(OR(F126=0,F126=1,F126=2),0,IF(G126<10,0,SUM(H126:K126))))","v":0.92500000000000004},{"$f":"L126-H126","v":2.5000000000000022E-2},null,"https://www.soaringspot.com/en_gb/pribina-cup-2025-nitra-2025/results/15m"]
["Pribina Cup 2025 - Kombi Open","SK",2025,"Nitra","18.4.-26.4.25",5,19,0.9,0.02,0,{"$f":"VLOOKUP(F127,Kp!$A$4:$B$24,2,FALSE)","v":5.0000000000000001E-3},{"$f":"IF(H127=0,0,IF(OR(F127=0,F127=1,F127=2),0,IF(G127<10,0,SUM(H127:K127))))","v":0.92500000000000004},{"$f":"L127-H127","v":2.5000000000000022E-2},null,"https://www.soaringspot.com/en_gb/pribina-cup-2025-nitra-2025/results/open"]
["FCC 2025 - Klub","SK",2025,"Prievidza","27.4.-8.5.25",7,34,0.9,2.5000000000000001E-2,0,{"$f":"VLOOKUP(F128,Kp!$A$4:$B$24,2,FALSE)","v":1.4999999999999999E-2},0.94000000000000006,4.0000000000000036E-2,null,"https://www.soaringspot.com/en_gb/fcc-lzpe-2025/results/club"]
["FCC 2025 - Kombi 15m","SK",2025,"Prievidza","27.4.-8.5.25",7,35,0.9,0.04,0.02,{"$f":"VLOOKUP(F129,Kp!$A$4:$B$24,2,FALSE)","v":1.4999999999999999E-2},{"$f":"IF(H129=0,0,IF(OR(F129=0,F129=1,F129=2),0,IF(G129<10,0,SUM(H129:K129))))","v":0.97500000000000009},{"$f":"L129-H129","v":7.5000000000000067E-2},null,"https://www.soaringspot.com/en_gb/fcc-lzpe-2025/results/kombi-15m"]
["FCC 2025 - Kombi Open","SK",2025,"Prievidza","27.4.-8.5.25",8,47,0.9,3.5000000000000003E-2,0.01,{"$f":"VLOOKUP(F130,Kp!$A$4:$B$24,2,FALSE)","v":0.02},{"$f":"IF(H130=0,0,IF(OR(F130=0,F130=1,F130=2),0,IF(G130<10,0,SUM(H130:K130))))","v":0.96500000000000008},{"$f":"L130-H130","v":6.5000000000000058E-2},null,"https://www.soaringspot.com/en_gb/fcc-lzpe-2025/results/kombi-open"]
["Fatraglide 2025 - Klub","SK",2025,"Martin","28.4.-7.5.25",6,23,0.75,"0.00",0,{"$f":"VLOOKUP(F131,Kp!$A$4:$B$24,2,FALSE)","v":0.01},{"$f":"IF(H131=0,0,IF(OR(F131=0,F131=1,F131=2),0,IF(G131<10,0,SUM(H131:K131))))","v":0.76},{"$f":"L131-H131","v":1.0000000000000009E-2},null,"https://www.soaringspot.com/en_gb/fatraglide25/results/club"]
["Fatraglide 2025 - Kombi","SK",2025,"Martin","28.4.-7.5.25",6,18,0.75,"0.00",0,{"$f":"VLOOKUP(F132,Kp!$A$4:$B$24,2,FALSE)","v":0.01},{"$f":"IF(H132=0,0,IF(OR(F132=0,F132=1,F132=2),0,IF(G132<10,0,SUM(H132:K132))))","v":0.76},{"$f":"L132-H132","v":1.0000000000000009E-2},null,"https://www.soaringspot.com/en_gb/fatraglide25/results/combi"]
["JEGC 2025 - Klub","SK",2025,"Prievidza","5.7.-19.7.25",8,28,1,1.4999999999999999E-2,0.01,{"$f":"VLOOKUP(F133,Kp!$A$4:$B$24,2,FALSE)","v":0.02},{"$f":"IF(H133=0,0,IF(OR(F133=0,F133=1,F133=2),0,IF(G133<10,0,SUM(H133:K133))))","v":1.0449999999999999},{"$f":"L133-H133","v":4.4999999999999929E-2},null,"https://www.soaringspot.com/en_gb/7th-fai-junior-european-gliding-championships-prievidza-2025/results/unknown"]
["JEGC 2025 - Std","SK",2025,"Prievidza","5.7.-19.7.25",8,19,1,5.0000000000000001E-3,0.02,{"$f":"VLOOKUP(F134,Kp!$A$4:$B$24,2,FALSE)","v":0.02},{"$f":"IF(H134=0,0,IF(OR(F134=0,F134=1,F134=2),0,IF(G134<10,0,SUM(H134:K134))))","v":1.0449999999999999},{"$f":"L134-H134","v":4.4999999999999929E-2},null,"https://www.soaringspot.com/en_gb/7th-fai-junior-european-gliding-championships-prievidza-2025/results/standard"]
["EGC 2025 - 18m","HU",2025,"Békéscsaba","27.7.-8.8.25",8,11,1,7.4999999999999997E-2,0.03,{"$f":"VLOOKUP(F135,Kp!$A$4:$B$24,2,FALSE)","v":0.02},{"$f":"IF(H135=0,0,IF(OR(F135=0,F135=1,F135=2),0,IF(G135<10,0,SUM(H135:K135))))","v":1.125},{"$f":"L135-H135","v":0.125},null,"https://www.soaringspot.com/en_gb/23rd-fai-european-gliding-championships-bekescsaba-2025/results/18-meter"]
["EGC 2025 - Open","HU",2025,"Békéscsaba","27.7.-8.8.25",8,13,1,0.03,0.03,{"$f":"VLOOKUP(F136,Kp!$A$4:$B$24,2,FALSE)","v":0.02},{"$f":"IF(H136=0,0,IF(OR(F136=0,F136=1,F136=2),0,IF(G136<10,0,SUM(H136:K136))))","v":1.08},{"$f":"L136-H136","v":8.0000000000000071E-2},null,"https://www.soaringspot.com/en_gb/23rd-fai-european-gliding-championships-bekescsaba-2025/results/open"]
["EGC 2025 - Duo 20m","HU",2025,"Békéscsaba","27.7.-8.8.25",16,11,1,0.02,0.03,{"$f":"VLOOKUP(F137,Kp!$A$4:$B$24,2,FALSE)","v":0.03},{"$f":"IF(H137=0,0,IF(OR(F137=0,F137=1,F137=2),0,IF(G137<10,0,SUM(H137:K137))))","v":1.08},{"$f":"L137-H137","v":8.0000000000000071E-2},null,"https://www.soaringspot.com/en_gb/23rd-fai-european-gliding-championships-bekescsaba-2025/results/double-seater"]

{"sheet":"Kp","index":2,"n_rows":24,"n_cols":2,"rows_kept":24,"cut":false,"hidden":true,"merged":[]}
["Korekce na počet platných disciplín"]
[]
["Počet platných disciplín","Korekce Kp"]
[0,0]
[1,0]
[2,0]
[3,-0.02]
[4,0]
[5,5.0000000000000001E-3]
[6,0.01]
[7,1.4999999999999999E-2]
[8,0.02]
[9,2.5000000000000001E-2]
[10,0.03]
[11,0.03]
[12,0.03]
[13,0.03]
[14,0.03]
[15,0.03]
[16,0.03]
[17,0.03]
[18,0.03]
[19,0.03]
[20,0.03]

{"sheet":"Pilot","index":3,"n_rows":1085,"n_cols":17,"rows_kept":1085,"cut":false,"hidden":false,"merged":[]}
["Jmeno","Rok nar.","Aeroklub","Region","M/F","Junior v roce",2026,"Hranice pro juniory:\n/ Poznámka:",{"$f":"G1-25","v":2001},"Počet Jun:",{"$f":"COUNTIF(F2:F2251,\"Junior v roce \"&G1)","v":60},"Počet F:",{"$f":"COUNTIF(E2:E2251,\"F\")","v":81},"Počet M:",{"$f":"COUNTIF(E2:E2251,\"M\")","v":1002},"Počet celk:",{"$f":"COUNTIF(A2:A2251,\"<>\")","v":1084}]
["-"," "," ","Region"," "," "]
["Adam Hepal",2004,"Moravská Třebová",{"$f":"VLOOKUP(C3,Region,2,0)","v":"CZ/M"},"M",{"$f":"IF(A3=\"(prázdné)\",\"\",IF(($G$1-B3)>25,\"\",\"Junior v roce \"&$G$1))","v":"Junior v roce 2026"},null,"Kolín do 2022"]
["Adam Jandora",1992,"Medlánky",{"$f":"VLOOKUP(C4,Region,2,0)","v":"CZ/M"},"M",{"$f":"IF(A4=\"(prázdné)\",\"\",IF(($G$1-B4)>25,\"\",\"Junior v roce \"&$G$1))","v":""}]
["Adam Laburda",2005,"Raná",{"$f":"VLOOKUP(C5,Region,2,0)","v":"CZ/C2"},"M",{"$f":"IF(A5=\"(prázdné)\",\"\",IF(($G$1-B5)>25,\"\",\"Junior v roce \"&$G$1))","v":"Junior v roce 2026"}]
["Adam Olejar",1991,"Medlánky","CZ/M","M",{"$f":"IF(A6=\"(prázdné)\",\"\",IF(($G$1-B6)>25,\"\",\"Junior v roce \"&$G$1))","v":""}]
["Adam Pergner",2002,"Rakovník",{"$f":"VLOOKUP(C7,Region,2,0)","v":"CZ/C1"},"M",{"$f":"IF(A7=\"(prázdné)\",\"\",IF(($G$1-B7)>25,\"\",\"Junior v roce \"&$G$1))","v":"Junior v roce 2026"}]
["Adam Sostaric",1991,"Chrudim","CZ/C2","M",""]
["Adam Sugl",1987,"Vyškov","CZ/M","M",""]
["Adela Vachova",2007,"Hodkovice","CZ/C2","F","Junior v roce 2026"]
["Albert Schneider",1967,"Hranice",{"$f":"VLOOKUP(C11,Region,2,0)","v":"CZ/M"},"M",""]
["Alena Netusilova",1970,"Zbraslavice","CZ/C1","F",""]
["Ales Cervenka",1981,"Soběslav","CZ/C1","M",""]
["Ales Hajek",1958,"Mladá Boleslav","CZ/C1","M",""]
["Ales Hala",1994,"Tábor","CZ/C1","M",""]
["Ales Holoubek",1966,"Jičín","CZ/C2","M",""]
["Ales Nestrojil",1980,"Medlánky",{"$f":"VLOOKUP(C17,Region,2,0)","v":"CZ/M"},"M",{"$f":"IF(A17=\"(prázdné)\",\"\",IF(($G$1-B17)>25,\"\",\"Junior v roce \"&$G$1))","v":""}]
["Ales Sokolik",1973,"Strakonice",{"$f":"VLOOKUP(C18,Region,2,0)","v":"CZ/C1"},"M",{"$f":"IF(A18=\"(prázdné)\",\"\",IF(($G$1-B18)>25,\"\",\"Junior v roce \"&$G$1))","v":""}]
["Ales Tresl",1958,"Raná","CZ/C2","M",""]
["Ales Valenta",1973,"Hořice",{"$f":"VLOOKUP(C20,Region,2,0)","v":"CZ/C2"},"M",{"$f":"IF(A20=\"(prázdné)\",\"\",IF(($G$1-B20)>25,\"\",\"Junior v roce \"&$G$1))","v":""}]
["Ales Vorac",1985,"Křižanov","CZ/M","M",""]
["Ales Vyhnal",1989,"Kralupy","CZ/C1","M",""]
["Alex Gulich",2005,"Slaný",{"$f":"VLOOKUP(C23,Region,2,0)","v":"CZ/C1"},"M","Junior v roce 2026"]
["Alexander Nerandzic",1966,"Raná","CZ/C2","M",""]
["Alois Cmajdalka",1963,"Kunovice","CZ/M","M",""]
["Alois Sohr",1939,"Hranice","CZ/M","M",""]
["Andrea Bensova",1978,"Zbraslavice","CZ/C1","F",""]
["Aneta Prachtova",1991,"Kralupy","CZ/C1","F",""]
["Anna Bordovska",1989,"Mladá Boleslav","CZ/C1","F",""]
["Anna Lanzendorfova",2005,"Letkov",{"$f":"VLOOKUP(C30,Region,2,0)","v":"CZ/C1"},"F",{"$f":"IF(A30=\"(prázdné)\",\"\",IF(($G$1-B30)>25,\"\",\"Junior v roce \"&$G$1))","v":"Junior v roce 2026"}]
["Antonin Bordovsky",1951,"Krnov","CZ/M","M",""]
["Antonin Bruna",1945,"GAC Benešov","CZ/C1","M",""]
["Antonin Burger",1943,"Panenský Týnec","CZ/C1","M",""]
["Antonin Klika",1964,"Beroun",{"$f":"VLOOKUP(C34,Region,2,0)","v":"CZ/C1"},"M",{"$f":"IF(A34=\"(prázdné)\",\"\",IF(($G$1-B34)>25,\"\",\"Junior v roce \"&$G$1))","v":""}]
["Antonin Konicek",1973,"Kunovice","CZ/M","M",""]
["Antonin Kutalek",1943,"Zábřeh","CZ/M","M",""]
["Antonin Novotny",1972,"Luhačovice","CZ/M","M",""]
["Antonin Otrusina",1948,"Křižanov","CZ/M","M",""]
["Antonin Pilat",1971,"Vyškov","CZ/M","M",""]
["Antonin Teichmann",1965,"Hronov","CZ/C2","M",""]
["Barbora Kubickova",1993,"Medlánky","CZ/M","F",""]
["Barbora Moravcova",1994,"Zbraslavice","CZ/C1","F",""]
["Barbora Nahodilova",1989,"Hosín","CZ/C1","F",""]
["Beat Albrecht",1953,"Šumperk",{"$f":"VLOOKUP(C44,Region,2,0)","v":"CZ/M"},"M",{"$f":"IF(A44=\"(prázdné)\",\"\",IF(($G$1-B44)>25,\"\",\"Junior v roce \"&$G$1))","v":""}]
["Bedrich Honzicek",1972,"Letňany",{"$f":"VLOOKUP(C45,Region,2,0)","v":"CZ/C1"},"M",""]
["Bedrich Prochazka",1957,"Rakovník","CZ/C1","M",""]
["Bohdan Sebestik",1957,"Kroměříž","CZ/M","M",""]
["Bohumil Kunc",1983,"Kunovice","CZ/M","M",""]
["Bohumil Rikal",1946,"Hronov","CZ/C2","M",""]
["Bohumil Svec",1985,"Roudnice","CZ/C2","M",""]
["Bohumir Zajdl",1950,"Dvůr Králové","CZ/C2","M",""]
["Bohus Marcinik",1947,"Příbram","CZ/C1","M",""]
["Boris Bachraty",1974,"Kyjov","CZ/M","M","",null,"Dříve Břeclav"]
["Boris Guic",1966,"Zbraslavice",{"$f":"VLOOKUP(C54,Region,2,0)","v":"CZ/C1"},"M",{"$f":"IF(A54=\"(prázdné)\",\"\",IF(($G$1-B54)>25,\"\",\"Junior v roce \"&$G$1))","v":""}]
["Bronislav Smatana",1970,"Zbraslavice","CZ/C1","M",""]
["Carsten Tietz",1966,"Hronov",{"$f":"VLOOKUP(C56,Region,2,0)","v":"CZ/C2"},"M",""]
["Christof Madoery",1958,"Šumperk",{"$f":"VLOOKUP(C57,Region,2,0)","v":"CZ/M"},"M",""]
["Dalibor Bucha",1973,"Hranice",{"$f":"VLOOKUP(C58,Region,2,0)","v":"CZ/M"},"M",{"$f":"IF(A58=\"(prázdné)\",\"\",IF(($G$1-B58)>25,\"\",\"Junior v roce \"&$G$1))","v":""}]
["Dalibor Daricek",1993,"Kunovice","CZ/M","M",""]
["Dalibor Fencl",1966,"Zbraslavice","CZ/C1","M",""]
["Dalibor Pek",1968,"Raná","CZ/C2","M",""]
["Dana Novakova",1965,"Mladá Boleslav","CZ/C1","F",""]
["Danes Grula",1961,"Medlánky","CZ/M","M",""]
["Daniel Adamec",1977,"Hranice","CZ/M","M",""]
["Daniel Brichta",1962,"GAC Benešov",{"$f":"VLOOKUP(C65,Region,2,0)","v":"CZ/C1"},"M",""]
["Daniel Devecka",1981,"Vlašim",{"$f":"VLOOKUP(C66,Region,2,0)","v":"CZ/C1"},"M",{"$f":"IF(A66=\"(prázdné)\",\"\",IF(($G$1-B66)>25,\"\",\"Junior v roce \"&$G$1))","v":""}]
["Daniel Dvorak",1980,"Letkov","CZ/C1","M",""]
["Daniel Krasnicky",1984,"Příbram","CZ/C1","M",""]
["Daniel Marek",1983,"Hosín",{"$f":"VLOOKUP(C69,Region,2,0)","v":"CZ/C1"},"M",""]
["Daniel Moravek",1973,"Hodkovice","CZ/C2","M",""]
["Daniel Novak",1971,"Letkov","CZ/C1","M",""]
["Daniel Ryba",1994,"Dvůr Králové","CZ/C2","M",""]
["Daniel Sirmer",2005,"Jihlava",{"$f":"VLOOKUP(C73,Region,2,0)","v":"CZ/M"},"M","Junior v roce 2026"]
["Daniel Suchy",1995,"Hranice","CZ/M","M",""]
["Daniela Frankova",1997,"Jaroměř","CZ/C2","M",""]
["Daniela Stepankova",1988,"Hosín","CZ/C1","F",""]
["David Benda",1974,"Letňany",{"$f":"VLOOKUP(C77,Region,2,0)","v":"CZ/C1"},"M",{"$f":"IF(A77=\"(prázdné)\",\"\",IF(($G$1-B77)>25,\"\",\"Junior v roce \"&$G$1))","v":""}]
["David Brunclik",2006,"Zbraslavice",{"$f":"VLOOKUP(C78,Region,2,0)","v":"CZ/C1"},"M","Junior v roce 2026"]
["David Cisar",1987,"Křižanov","CZ/M","M",""]
["David Kaspar",1993,"Jaroměř",{"$f":"VLOOKUP(C80,Region,2,0)","v":"CZ/C2"},"M",""]
["David Kraus",1990,"Olomouc",{"$f":"VLOOKUP(C81,Region,2,0)","v":"CZ/M"},"M",{"$f":"IF(A81=\"(prázdné)\",\"\",IF(($G$1-B81)>25,\"\",\"Junior v roce \"&$G$1))","v":""}]
["David Krcil",1976,"Raná",{"$f":"VLOOKUP(C82,Region,2,0)","v":"CZ/C2"},"M",""]
["David Londa",1973,"Mladá Boleslav","CZ/C1","M",""]
["David Mach",1994,"Hronov","CZ/C2","M",""]
["David Marek",1991,"Křižanov","CZ/M","M",""]
["David Nenicka",2005,"Hranice",{"$f":"VLOOKUP(C86,Region,2,0)","v":"CZ/M"},"M",{"$f":"IF(A86=\"(prázdné)\",\"\",IF(($G$1-B86)>25,\"\",\"Junior v roce \"&$G$1))","v":"Junior v roce 2026"}]
["David Novotny",1984,"Polička","CZ/C2","M",""]
["David Popovsky",1976,"Rakovník","CZ/C1","M",{"$f":"IF(A88=\"(prázdné)\",\"\",IF(($G$1-B88)>25,\"\",\"Junior v roce \"&$G$1))","v":""}]
["David Prihoda",1994,"Hranice","CZ/M","M",""]
["David Rozporka",1994,"Hronov","CZ/C2","M",""]
["David Rytina",1983,"Zbraslavice","CZ/C1","M",""]
["David Riha",1983,"Vlašim","CZ/C1","M",""]
["David Sachl",1978,"Kralupy","CZ/C1","M",""]
["David Tejnora",1982,"Jaroměř","CZ/C2","M",""]
["David Trnecka",1979,"Medlánky","CZ/M","M",""]
["David Vrchota",1976,"Jaroměř",{"$f":"VLOOKUP(C96,Region,2,0)","v":"CZ/C2"},"M",""]
["David Zapletal",1970,"Mladá Boleslav","CZ/C1","M",""]
["David Zatecka",1993,"GAC Benešov",{"$f":"VLOOKUP(C98,Region,2,0)","v":"CZ/C1"},"M",""]
["Dusan Gadas",1960,"Hranice","CZ/M","M",""]
["Dusan Kmet",1972,"Křižanov","CZ/M","M",""]
["Dusan Patocka",1972,"Vrchlabí",{"$f":"VLOOKUP(C101,Region,2,0)","v":"CZ/C2"},"M",{"$f":"IF(A101=\"(prázdné)\",\"\",IF(($G$1-B101)>25,\"\",\"Junior v roce \"&$G$1))","v":""}]
["Dusan Sys",1977,"Šumperk","CZ/M","M",""]
["Dusan Zerzan",1970,"Šumperk","CZ/M","M",""]
["Eduard Niko",1988,"Zbraslavice",{"$f":"VLOOKUP(C104,Region,2,0)","v":"CZ/C1"},"M",{"$f":"IF(A104=\"(prázdné)\",\"\",IF(($G$1-B104)>25,\"\",\"Junior v roce \"&$G$1))","v":""}]
["Eduard Svoboda",1957,"Raná","CZ/C2","M",""]
["Eliska Bohunovska",2001,"Hranice",{"$f":"VLOOKUP(C106,Region,2,0)","v":"CZ/M"},"F","Junior v roce 2026"]
["Eliska Kudejova",2006,"Strakonice",{"$f":"VLOOKUP(C107,Region,2,0)","v":"CZ/C1"},"F",{"$f":"IF(A107=\"(prázdné)\",\"\",IF(($G$1-B107)>25,\"\",\"Junior v roce \"&$G$1))","v":"Junior v roce 2026"}]
["Eva Cerna",1964,"Příbram","CZ/C1","F",""]
["Eva Klapkova",1993,"Raná",{"$f":"VLOOKUP(C109,Region,2,0)","v":"CZ/C2"},"F",{"$f":"IF(A109=\"(prázdné)\",\"\",IF(($G$1-B109)>25,\"\",\"Junior v roce \"&$G$1))","v":""}]
["Evzen Skala",1954,"Vrchlabí","CZ/C2","M",""]
["Fabian Curda",2004,"Zábřeh",{"$f":"VLOOKUP(C111,Region,2,0)","v":"CZ/M"},"M","Junior v roce 2026"]
["Filip Borůvka",2004,"Nové Město nad Metují",{"$f":"VLOOKUP(C112,Region,2,0)","v":"CZ/C2"},"M",{"$f":"IF(A112=\"(prázdné)\",\"\",IF(($G$1-B112)>25,\"\",\"Junior v roce \"&$G$1))","v":"Junior v roce 2026"}]
["Filip Graf",1981,"Křižanov","CZ/M","M",""]
["Filip Malik",2001,"Letňany",{"$f":"VLOOKUP(C114,Region,2,0)","v":"CZ/C1"},"M","Junior v roce 2026"]
["Filip Mrstny",2006,"Beroun",{"$f":"VLOOKUP(C115,Region,2,0)","v":"CZ/C1"},"M","Junior v roce 2026"]
["Filip Neumann",1977,"GAC Benešov","CZ/C1","M",""]
["Filip Riabec",2006,"Broumov",{"$f":"VLOOKUP(C117,Region,2,0)","v":"CZ/C2"},"M",{"$f":"IF(A117=\"(prázdné)\",\"\",IF(($G$1-B117)>25,\"\",\"Junior v roce \"&$G$1))","v":"Junior v roce 2026"}]
["Filip Sklenar",1990,"Žamberk","CZ/C2","M",""]
["Filip Sirc",1993,"Letňany","CZ/C1","M",""]
["Filip Vita",2001,"Kroměříž","CZ/M","M","Junior v roce 2026"]
["Frantisek Brozman",1960,"Tachov","CZ/C1","M",""]
["Frantisek Filandr",1956,"Most","CZ/C2","M",""]
["Frantisek Hubacek",1978,"Točná","CZ/C1","M",""]
["Frantisek Komarek",1985,"Zbraslavice","CZ/C1","M",""]
["Frantisek Kriz",1961,"Toužim","CZ/C1","M",""]
["Frantisek Marek",1960,"Křižanov","CZ/M","M",""]
["Frantisek Matousek",1937,"Nové Město nad Metují","CZ/C2","M",""]
["Frantisek Myska",1968,"Most","CZ/C2","M",""]
["Frantisek Pycha",1972,"Chrudim","CZ/C2","M",""]
["Frantisek Soucek",1945,"Dvůr Králové","CZ/C2","M",""]
["Frantisek Sindelar",1954,"Kralupy","CZ/C1","M",""]
["Frantisek Suna",1983,"Hosín",{"$f":"VLOOKUP(C132,Region,2,0)","v":"CZ/C1"},"M",""]
["Frantisek Vancura",1966,"Hranice","CZ/M","M",""]
["Gabriela Cervena",1966,"Jaroměř","CZ/C2","F",""]
["Gustav Vrbacky",1933,"Medlánky","CZ/M","M",""]
["Hana Treslova",1991,"Raná","CZ/C2","F",""]
["Hana Vokrinkova",1958,"Hodkovice","CZ/C2","F",""]
["Hynek Pokorny",1991,"Letňany","CZ/C1","M",""]
["Christof Madory",1958,"Šumperk","CZ/M","M",""]
["Ilja Kopacek",1943,"Jičín",{"$f":"VLOOKUP(C140,Region,2,0)","v":"CZ/C2"},"M",""]
["Ivan Filakovsky",1965,"Medlánky","CZ/M","M",""]
["Ivan Harasta 65",1965,"Toužim","CZ/C1","M",""]
["Ivan Harasta 98",1998,"Toužim","CZ/C1","M",""]
["Ivan Kuzelka",1945,"Havlíčkův Brod","CZ/C2","M",""]
["Ivan Ladr",1940,"Dvůr Králové","CZ/C2","M",""]
["Ivan Morkovsky",2008,"Polička",{"$f":"VLOOKUP(C146,Region,2,0)","v":"CZ/C2"},"M",{"$f":"IF(A146=\"(prázdné)\",\"\",IF(($G$1-B146)>25,\"\",\"Junior v roce \"&$G$1))","v":"Junior v roce 2026"}]
["Ivan Novak",1962,"Mladá Boleslav","CZ/C1","M",""]
["Ivan Tvrdik",1997,"Letňany","CZ/C1","M",""]
["Ivo Burda",1962,"Zbraslavice","CZ/C1","M",""]
["Ivo Nezval",1964,"Šumperk","CZ/M","M",""]
["Ivo Vudarcik",1994,"Rakovník","CZ/C1","M",""]
["Jacek Kerum",1943,"Příbram","CZ/C1","M",""]
["Jakub Brotanek",1985,"Roudnice","CZ/C2","M",""]
["Jakub Hlavacek",1991,"Letkov","CZ/C1","M",""]
["Jakub Jezek",2002,"Ústí nad Orlicí",{"$f":"VLOOKUP(C155,Region,2,0)","v":"CZ/C2"},"M",{"$f":"IF(A155=\"(prázdné)\",\"\",IF(($G$1-B155)>25,\"\",\"Junior v roce \"&$G$1))","v":"Junior v roce 2026"}]
["Jakub Kmosek",1978,"Zbraslavice","CZ/C1","M",""]
["Jakub Kohn",1992,"Prostějov","CZ/M","M",""]
["Jakub Koudelka",2000,"Křižanov",{"$f":"VLOOKUP(C158,Region,2,0)","v":"CZ/M"},"M",""]
["Jakub Malik",1999,"Letňany","CZ/C1","M",""]
["Jakub Michalicka",1993,"Rakovník","CZ/C1","M",""]
["Jakub Safar",1990,"Olomouc",{"$f":"VLOOKUP(C161,Region,2,0)","v":"CZ/M"},"M",{"$f":"IF(A161=\"(prázdné)\",\"\",IF(($G$1-B161)>25,\"\",\"Junior v roce \"&$G$1))","v":""}]
["Jakub Sachl",2006,"Kralupy",{"$f":"VLOOKUP(C162,Region,2,0)","v":"CZ/C1"},"M",{"$f":"IF(A162=\"(prázdné)\",\"\",IF(($G$1-B162)>25,\"\",\"Junior v roce \"&$G$1))","v":"Junior v roce 2026"}]
["Jakub Spanger",2002,"Jeseník",{"$f":"VLOOKUP(C163,Region,2,0)","v":"CZ/M"},"M","Junior v roce 2026"]
["Jakub Tiller",1987,"Broumov","CZ/C2","M",""]
["Jakub Vimr",1975,"GAC Benešov","CZ/C1","M",{"$f":"IF(A165=\"(prázdné)\",\"\",IF(($G$1-B165)>25,\"\",\"Junior v roce \"&$G$1))","v":""}]
["Jakub Vlk",1986,"GAC Benešov",{"$f":"VLOOKUP(C166,Region,2,0)","v":"CZ/C1"},"M",{"$f":"IF(A166=\"(prázdné)\",\"\",IF(($G$1-B166)>25,\"\",\"Junior v roce \"&$G$1))","v":""}]
["Jan Adam",2002,"Podhořany",{"$f":"VLOOKUP(C167,Region,2,0)","v":"CZ/C2"},"M","Junior v roce 2026"]
["Jan Bejdl",1978,"Zbraslavice",{"$f":"VLOOKUP(C168,Region,2,0)","v":"CZ/C1"},"M",""]
["Jan Belina",1979,"Hořice","CZ/C2","M",""]
["Jan Beran",1999,"Kladno",{"$f":"VLOOKUP(C170,Region,2,0)","v":"CZ/C1"},"M",""]
["Jan Beranek",1976,"Jihlava","CZ/M","M",""]
["Jan Blaha",1983,"Kyjov",{"$f":"VLOOKUP(C172,Region,2,0)","v":"CZ/M"},"M",{"$f":"IF(A172=\"(prázdné)\",\"\",IF(($G$1-B172)>25,\"\",\"Junior v roce \"&$G$1))","v":""}]
["Jan Boruvka",1984,"Jičín","CZ/C2","M",""]
["Jan Camr",2002,"Jaroměř",{"$f":"VLOOKUP(C174,Region,2,0)","v":"CZ/C2"},"M","Junior v roce 2026"]
["Jan Cerveny",1984,"Jaroměř","CZ/C2","M",""]
["Jan Cibulka",2002,"Letňany",{"$f":"VLOOKUP(C176,Region,2,0)","v":"CZ/C1"},"M","Junior v roce 2026"]
["Jan Dersak 69",1969,"Kralupy","CZ/C1","M",""]
["Jan Dersak 92",1992,"Kralupy","CZ/C1","M",""]
["Jan Drahota",1988,"Rakovník","CZ/C1","M",""]
["Jan Drbohlav",1999,"Hodkovice",{"$f":"VLOOKUP(C180,Region,2,0)","v":"CZ/C2"},"M",""]
["Jan Florian",1992,"Zbraslavice","CZ/C1","M",""]
["Jan Habermann",1975,"Vlašim",{"$f":"VLOOKUP(C182,Region,2,0)","v":"CZ/C1"},"M",""]
["Jan Hejret",1976,"Jaroměř","CZ/C2","M",""]
["Jan Heroudek",1970,"Rakovník",{"$f":"VLOOKUP(C184,Region,2,0)","v":"CZ/C1"},"M",""]
["Jan Hirs",1975,"Strakonice",{"$f":"VLOOKUP(C185,Region,2,0)","v":"CZ/C1"},"M",{"$f":"IF(A185=\"(prázdné)\",\"\",IF(($G$1-B185)>25,\"\",\"Junior v roce \"&$G$1))","v":""}]
["Jan Hlavacek 65",1965,"Rakovník","CZ/C1","M",""]
["Jan Hlavacek 04",2004,"Hosín",{"$f":"VLOOKUP(C187,Region,2,0)","v":"CZ/C1"},"M",{"$f":"IF(A187=\"(prázdné)\",\"\",IF(($G$1-B187)>25,\"\",\"Junior v roce \"&$G$1))","v":"Junior v roce 2026"}]
["Jan Horak",1971,"Zbraslavice","CZ/C1","M",""]
["Jan Horky",1968,"Medlánky","CZ/M","M",""]
["Jan Hrbatsch",1989,"Hodkovice","CZ/C2","M",""]
["Jan Hruska",1988,"Tábor","CZ/C1","M",""]
["Jan Hybner",1977,"Liberec",{"$f":"VLOOKUP(C192,Region,2,0)","v":"CZ/C2"},"M",""]
["Jan Jicha",1984,"Podhořany","CZ/C2","M",""]
["Jan Jindra",1981,"Roudnice","CZ/C2","M",""]
["Jan Kantor",1983,"Letňany","CZ/C1","M",""]
["Jan Kapralek",1991,"Kladno","CZ/C1","M",""]
["Jan Karabec",2000,"Podhořany",{"$f":"VLOOKUP(C197,Region,2,0)","v":"CZ/C2"},"M",""]
["Jan Karas",1985,"Jihlava","CZ/M","M",""]
["Jan Karnik",1976,"Letkov",{"$f":"VLOOKUP(C199,Region,2,0)","v":"CZ/C1"},"M",""]
["Jan Kaspar",1994,"Letňany",{"$f":"VLOOKUP(C200,Region,2,0)","v":"CZ/C1"},"M",""]
["Jan Kohout",1970,"Žamberk","CZ/C2","M",""]
["Jan Konecny",1972,"Rakovník","CZ/C1","M",""]
["Jan Kostka",1996,"Kladno","CZ/C1","M",""]
["Jan Kotan",1982,"Letňany","CZ/C1","M",""]
["Jan Kralik",1991,"Letkov","CZ/C1","M",""]
["Jan Kristof",1962,"Frýdlant","CZ/M","M",""]
["Jan Kulistak",1990,"Kunovice","CZ/M","M",""]
["Jan Lancdorf",1988,"Panenský Týnec","CZ/C1","M",""]
["Jan Louda",1986,"Mladá Boleslav","CZ/C1","M",""]
["Jan Manhal",1990,"Letkov",{"$f":"VLOOKUP(C210,Region,2,0)","v":"CZ/C1"},"M",{"$f":"IF(A210=\"(prázdné)\",\"\",IF(($G$1-B210)>25,\"\",\"Junior v roce \"&$G$1))","v":""}]
["Jan Mareth",1979,"Frýdlant","CZ/M","M",""]
["Jan Masek",1977,"Kladno","CZ/C1","M",""]
["Jan Matejovsky",1972,"Hranice","CZ/M","M",""]
["Jan Merta",1952,"Šumperk","CZ/M","M",""]
["Jan Mittner",1986,"Zbraslavice",{"$f":"VLOOKUP(C215,Region,2,0)","v":"CZ/C1"},"M",""]
["Jan Moravec",1979,"Zábřeh","CZ/M","M",""]
["Jan Mrozek",1982,"Frýdlant",{"$f":"VLOOKUP(C217,Region,2,0)","v":"CZ/M"},"M",""]
["Jan Muknsnabl",1992,"Letkov",{"$f":"VLOOKUP(C218,Region,2,0)","v":"CZ/C1"},"M",{"$f":"IF(A218=\"(prázdné)\",\"\",IF(($G$1-B218)>25,\"\",\"Junior v roce \"&$G$1))","v":""}]
["Jan Nyc",1943,"Dvůr Králové",{"$f":"VLOOKUP(C219,Region,2,0)","v":"CZ/C2"},"M",""]
["Jan Obrucnik",1991,"Kralupy","CZ/C1","M",""]
["Jan Oscatka",1990,"Jaroměř",{"$f":"VLOOKUP(C221,Region,2,0)","v":"CZ/C2"},"M",""]
["Jan Otrusina",1976,"Křižanov","CZ/M","M",""]
["Jan Ourada",1978,"Točná","CZ/C1","M",""]
["Jan Pavlik",1987,"Křižanov","CZ/M","M",""]
["Jan Pazour",1979,"Dvůr Králové",{"$f":"VLOOKUP(C225,Region,2,0)","v":"CZ/C2"},"M",""]
["Jan Platenik",1981,"Krnov","CZ/M","M",""]
["Jan Plechac",1966,"Slaný",{"$f":"VLOOKUP(C227,Region,2,0)","v":"CZ/C1"},"M",{"$f":"IF(A227=\"(prázdné)\",\"\",IF(($G$1-B227)>25,\"\",\"Junior v roce \"&$G$1))","v":""}]
["Jan Podhrazsky",1976,"Šumperk","CZ/M","M",""]
["Jan Pokluda",1973,"Šumperk","CZ/M","M",""]
["Jan Pubec",1979,"Plzeň Bory","CZ/C1","M",""]
["Jan Ratz",1987,"Zbraslavice","CZ/C1","M",""]
["Jan Rensa",1980,"Polička","CZ/C2","M",""]
["Jan Rolinek",1973,"Luhačovice","CZ/M","M",""]
["Jan Rott",1962,"Hronov","CZ/C2","M",""]
["Jan Repka",1959,"Liberec","CZ/C2","M",""]
["Jan Seifert",1948,"Raná","CZ/C2","M",""]
["Jan Simon",1970,"Kralupy","CZ/C1","M",""]
["Jan Sindelar",1946,"Kunovice","CZ/M","M",{"$f":"IF(A238=\"(prázdné)\",\"\",IF(($G$1-B238)>25,\"\",\"Junior v roce \"&$G$1))","v":""}]
["Jan Smaha",1958,"Česká Lípa","CZ/C2","M",""]
["Jan Smekal",1976,"Zbraslavice",{"$f":"VLOOKUP(C240,Region,2,0)","v":"CZ/C1"},"M",""]
["Jan Sobotka",1973,"Vyškov",{"$f":"VLOOKUP(C241,Region,2,0)","v":"CZ/M"},"M",""]
["Jan Sobek",2004,"Hranice",{"$f":"VLOOKUP(C242,Region,2,0)","v":"CZ/M"},"M",{"$f":"IF(A242=\"(prázdné)\",\"\",IF(($G$1-B242)>25,\"\",\"Junior v roce \"&$G$1))","v":"Junior v roce 2026"}]
["Jan Sponer",1988,"Medlánky","CZ/M","M",""]
["Jan Stastny",2003,"Medlánky",{"$f":"VLOOKUP(C244,Region,2,0)","v":"CZ/M"},"M","Junior v roce 2026"]
["Jan Stepan",1991,"Hronov","CZ/C2","M",""]
["Jan Sustr 76",1976,"Raná","CZ/C2","M",""]
["Jan Sustr 77",1977,"Staňkov","CZ/C1","M",""]
["Jan Svarc",1977,"Raná","CZ/C2","M",""]
["Jan Svestka",2005,"Křižanov",{"$f":"VLOOKUP(C249,Region,2,0)","v":"CZ/M"},"M",{"$f":"IF(A249=\"(prázdné)\",\"\",IF(($G$1-B249)>25,\"\",\"Junior v roce \"&$G$1))","v":"Junior v roce 2026"}]
["Jan Terrich",1978,"Liberec","CZ/C2","M",""]
["Jan Tomasek",1970,"Dvůr Králové","CZ/C2","M",""]
["Jan Turek",1987,"Toužim","CZ/C1","M",""]
["Jan Vacik",1977,"Staňkov",{"$f":"VLOOKUP(C253,Region,2,0)","v":"CZ/C1"},"M",{"$f":"IF(A253=\"(prázdné)\",\"\",IF(($G$1-B253)>25,\"\",\"Junior v roce \"&$G$1))","v":""}]
["Jan Vavrin",1987,"Vysoké Mýto","CZ/C2","M",""]
["Jan Viskot",1995,"Břeclav","CZ/M","M",""]
["Jan Vozeh",1995,"Rakovník","CZ/C1","M",""]
["Jan Zahradka",1981,"Hodkovice","CZ/C2","M",""]
["Jan Zapletal",1997,"Břeclav","CZ/M","M",""]
["Jan Zdvorak",1980,"Roudnice","CZ/C2","M",""]
["Jan Zezula",1979,"Letňany","CZ/C1","M",""]
["Jan Zona",1965,"Kroměříž","CZ/M","M",""]
["Jan Zanda",1983,"Letkov","CZ/C1","M",""]
["Jana Dvorakova",1953,"Raná","CZ/C2","F",""]
["Jana Kantorova",1980,"Hosín","CZ/C1","F",""]
["Jana Krejcova",1972,"Křižanov","CZ/M","F",""]
["Jana Mezerova",1975,"Raná","CZ/C2","F",""]
["Jana Treslova",1963,"Raná","CZ/C2","F",""]
["Jana Veprekova",1961,"Dvůr Králové","CZ/C2","F",""]
["Jarmila Zatykova",1959,"Kralupy","CZ/C1","F",""]
["Jaromir Hammer",1965,"Křižanov","CZ/M","M",""]
["Jaromir Hendrych",1954,"Raná","CZ/C2","M",""]
["Jaromir Jedlicka",1972,"Letňany","CZ/C1","M",""]
["Jaromir Macoun",1999,"Jičín","CZ/C2","M",""]
["Jaromir Pauer",1974,"Hosín",{"$f":"VLOOKUP(C274,Region,2,0)","v":"CZ/C1"},"M",""]
["Jaromir Prokes",1984,"Tábor","CZ/C1","M",""]
["Jaromir Simunek",1975,"Rakovník",{"$f":"VLOOKUP(C276,Region,2,0)","v":"CZ/C1"},"M",{"$f":"IF(A276=\"(prázdné)\",\"\",IF(($G$1-B276)>25,\"\",\"Junior v roce \"&$G$1))","v":""}]
["Jaromir Vlk",1959,"Šumperk","CZ/M","M",""]
["Jaroslav Bocek",1962,"Turnov","CZ/C2","M",""]
["Jaroslav Buryan",1953,"Zábřeh","CZ/M","M",""]
["Jaroslav Cempirek 51",1951,"Jindřichův Hradec","CZ/C1","M",""]
["Jaroslav Cempirek 77",1977,"Jihlava",{"$f":"VLOOKUP(C281,Region,2,0)","v":"CZ/M"},"M",""]
["Jaroslav Cejka",1952,"Letkov","CZ/C1","M",""]
["Jaroslav Deml",1986,"Hořice","CZ/C2","M",""]
["Jaroslav Dvorak",1980,"Letkov",{"$f":"VLOOKUP(C284,Region,2,0)","v":"CZ/C1"},"M",{"$f":"IF(A284=\"(prázdné)\",\"\",IF(($G$1-B284)>25,\"\",\"Junior v roce \"&$G$1))","v":""}]
["Jaroslav Florian",1977,"Medlánky","CZ/M","M",""]
["Jaroslav Hendrych",1946,"Příbram","CZ/C1","M",""]
["Jaroslav Hot",1965,"Toužim","CZ/C1","M",""]
["Jaroslav Juracka",1971,"Křižanov","CZ/M","M",""]
["Jaroslav Kacer",1978,"Raná","CZ/C2","M",""]
["Jaroslav Kares",1962,"Olomouc","CZ/M","M",""]
["Jaroslav Koudelka 95",1995,"Hosín",{"$f":"VLOOKUP(C291,Region,2,0)","v":"CZ/C1"},"M",{"$f":"IF(A291=\"(prázdné)\",\"\",IF(($G$1-B291)>25,\"\",\"Junior v roce \"&$G$1))","v":""}]
["Jaroslav Kral",1961,"Přibyslav",{"$f":"VLOOKUP(C292,Region,2,0)","v":"CZ/C2"},"M",""]
["Jaroslav Marek",1938,"Luhačovice","CZ/M","M",""]
["Jaroslav Nedorost",1986,"Letňany",{"$f":"VLOOKUP(C294,Region,2,0)","v":"CZ/C1"},"M",""]
["Jaroslav Palicka",1992,"Frýdlant","CZ/M","M",""]
["Jaroslav Petrasek",1976,"Jičín","CZ/C2","M",""]
["Jaroslav Potmesil",1964,"Zbraslavice","CZ/C1","M",""]
["Jaroslav Rapac",1977,"Dvůr Králové","CZ/C2","M",""]
["Jaroslav Sefc",1971,"Broumov",{"$f":"VLOOKUP(C299,Region,2,0)","v":"CZ/C2"},"M",{"$f":"IF(A299=\"(prázdné)\",\"\",IF(($G$1-B299)>25,\"\",\"Junior v roce \"&$G$1))","v":""}]
["Jaroslav Sima",1972,"Chomutov","CZ/C2","M",""]
["Jaroslav Simek",1968,"Letkov","CZ/C1","M",""]
["Jaroslav Szakal",1955,"Jaroměř",{"$f":"VLOOKUP(C302,Region,2,0)","v":"CZ/C2"},"M",{"$f":"IF(A302=\"(prázdné)\",\"\",IF(($G$1-B302)>25,\"\",\"Junior v roce \"&$G$1))","v":""}]
["Jaroslav Tomana",1975,"Zbraslavice","CZ/C1","M",""]
["Jaroslav Tyls",1941,"Hronov","CZ/C2","M",""]
["Jaroslav Vancata",1985,"Raná",{"$f":"VLOOKUP(C305,Region,2,0)","v":"CZ/C2"},"M",""]
["Jaroslav Zavrel",1971,"Medlánky","CZ/M","M",""]
["Jindrich Hala",1989,"Rakovník","CZ/C1","M",""]
["Jindrich Hruska",1986,"Soběslav","CZ/C1","M",""]
["Jindrich Svorc",1978,"Letňany","CZ/C1","M",""]
["Jindriska Sloukova",1973,"Medlánky","CZ/M","F",{"$f":"IF(A310=\"(prázdné)\",\"\",IF(($G$1-B310)>25,\"\",\"Junior v roce \"&$G$1))","v":""}]
["Jirka Rybar",1958,"Hodkovice","CZ/C2","M",""]
["Jiri Balak",1978,"Zbraslavice",{"$f":"VLOOKUP(C312,Region,2,0)","v":"CZ/C1"},"M",""]
["Jiri Bartak",1978,"Letkov",{"$f":"VLOOKUP(C313,Region,2,0)","v":"CZ/C1"},"M",{"$f":"IF(A313=\"(prázdné)\",\"\",IF(($G$1-B313)>25,\"\",\"Junior v roce \"&$G$1))","v":""}]
["Jiri Bartunek",1982,"Mladá Boleslav",{"$f":"VLOOKUP(C314,Region,2,0)","v":"CZ/C1"},"M",{"$f":"IF(A314=\"(prázdné)\",\"\",IF(($G$1-B314)>25,\"\",\"Junior v roce \"&$G$1))","v":""}]
["Jiri Bastl",1944,"Turnov","CZ/C2","M",""]
["Jiri Bergman",1978,"Mladá Boleslav",{"$f":"VLOOKUP(C316,Region,2,0)","v":"CZ/C1"},"M",{"$f":"IF(A316=\"(prázdné)\",\"\",IF(($G$1-B316)>25,\"\",\"Junior v roce \"&$G$1))","v":""}]
["Jiri Bojko",1959,"Krnov","CZ/M","M",""]
["Jiri Bulanek",1983,"Rakovník",{"$f":"VLOOKUP(C318,Region,2,0)","v":"CZ/C1"},"M",{"$f":"IF(A318=\"(prázdné)\",\"\",IF(($G$1-B318)>25,\"\",\"Junior v roce \"&$G$1))","v":""}]
["Jiri Cincera",1966,"Toužim","CZ/C1","M",""]
["Jiri Dockal",1982,"Letňany","CZ/C1","M",""]
["Jiri Donat",1983,"Letňany","CZ/C1","M","",null,"Chrudim do 2022"]
["Jiri Fousek",1990,"Raná","CZ/C2","M",""]
["Jiri Hendrych",1943,"Točná","CZ/C1","M",""]
["Jiri Hodan",1959,"Zbraslavice","CZ/C1","M",""]
["Jiri Holcman",1976,"Hosín","CZ/C1","M",""]
["Jiri Horak",1971,"Kladno","CZ/C1","M",""]
["Jiri Hula",1973,"Slaný","CZ/C1","M",""]
["Jiri Janda",1966,"Letňany","CZ/C1","M",""]
["Jiri Jirmus",2003,"Tábor",{"$f":"VLOOKUP(C329,Region,2,0)","v":"CZ/C1"},"M","Junior v roce 2026"]
["Jiri Klicnar",1965,"Medlánky","CZ/M","M",""]
["Jiri Kobik",1952,"Hořice","CZ/C2","M",""]
["Jiri Kohoutek",1983,"Olomouc",{"$f":"VLOOKUP(C332,Region,2,0)","v":"CZ/M"},"M",""]
["Jiri Kokrment",1950,"Frýdlant","CZ/M","M",""]
["Jiri Koudela",1974,"Vyškov","CZ/M","M",""]
["Jiri Kratochvil",2003,"Podhořany",{"$f":"VLOOKUP(C335,Region,2,0)","v":"CZ/C2"},"M",{"$f":"IF(A335=\"(prázdné)\",\"\",IF(($G$1-B335)>25,\"\",\"Junior v roce \"&$G$1))","v":"Junior v roce 2026"}]
["Jiri Krofta",1988,"Hosín",{"$f":"VLOOKUP(C336,Region,2,0)","v":"CZ/C1"},"M",""]
["Jiri Krticka",1965,"Jaroměř","CZ/C2","M",""]
["Jiri Krzanowski",1944,"Letkov","CZ/C1","M",""]
["Jiri Kupec",1960,"Medlánky","CZ/M","M",""]
["Jiri Kusbach",1959,"Luhačovice","CZ/M","M",""]
["Jiri Kyslik",1968,"Česká Lípa","CZ/C2","M",""]
["Jiri Lenik",1947,"Raná","CZ/C2","M",""]
["Jiri Maier 66",1966,"Raná","CZ/C2","M",""]
["Jiri Maier 99",1999,"Raná","CZ/C2","M",""]
["Jiri Mlejnek",1984,"Mladá Boleslav","CZ/C1","M",""]
["Jiri Obst",1964,"Vrchlabí","CZ/C2","M",""]
["Jiri Pajer",1977,"Zbraslavice","CZ/C1","M",""]
["Jiri Pelucha",1984,"Frýdlant","CZ/M","M",""]
["Jiri Pesta",1973,"Dvůr Králové","CZ/C2","M",""]
["Jiri Peterka",1951,"Křižanov",{"$f":"VLOOKUP(C350,Region,2,0)","v":"CZ/M"},"M",""]
["Jiri Piskaty",1962,"Kunovice","CZ/M","M",""]
["Jiri Pixa",1968,"Slaný","CZ/C1","M",""]
["Jiri Prochazka",1971,"Toužim","CZ/C1","M",""]
["Jiri Prucha",1963,"Chomutov","CZ/C2","M",""]
["Jiri Skarka",1965,"Chomutov",{"$f":"VLOOKUP(C355,Region,2,0)","v":"CZ/C2"},"M",""]
["Jiri Slouka",1967,"Medlánky",{"$f":"VLOOKUP(C356,Region,2,0)","v":"CZ/M"},"M",""]
["Jiri Sohr",1960,"Šumperk",{"$f":"VLOOKUP(C357,Region,2,0)","v":"CZ/M"},"M",""]
["Jiri Steiger",1969,"Olomouc","CZ/M","M",""]
["Jiri Suchomel",1950,"Broumov",{"$f":"VLOOKUP(C359,Region,2,0)","v":"CZ/C2"},"M",""]
["Jiri Slemr",1979,"Vysoké Mýto","CZ/C2","M",""]
["Jiri Stepanek",1956,"Moravská Třebová","CZ/M","M",""]
["Jiri Tomicek",1947,"Dvůr Králové","CZ/C2","M",""]
["Jiri Valentr",1947,"Rakovník","CZ/C1","M",""]
["Jiri Vavrina",1958,"Kyjov","CZ/M","M",""]
["Jiri Veprek",1959,"Dvůr Králové",{"$f":"VLOOKUP(C365,Region,2,0)","v":"CZ/C2"},"M",{"$f":"IF(A365=\"(prázdné)\",\"\",IF(($G$1-B365)>25,\"\",\"Junior v roce \"&$G$1))","v":""}]
["Jiri Vojta",1969,"Kroměříž",{"$f":"VLOOKUP(C366,Region,2,0)","v":"CZ/M"},"M",{"$f":"IF(A366=\"(prázdné)\",\"\",IF(($G$1-B366)>25,\"\",\"Junior v roce \"&$G$1))","v":""}]
["Jiri Vokrinek",1965,"Hodkovice","CZ/C2","M",""]
["Jiri Vondracek",1989,"Kladno","CZ/C1","M",""]
["Jiri Zablatzky",1978,"Hranice","CZ/M","M",""]
["Jitka Hromkova",1985,"Šumperk","CZ/M","F",""]
["Jitka Skalova",1955,"Zbraslavice","CZ/C1","F",""]
["Jitka Zimova",1981,"Hodkovice","CZ/C2","F",""]
["Josef Andrasovsky",1954,"Jaroměř","CZ/C2","M",""]
["Josef Bacina",1976,"Vysoké Mýto","CZ/C2","M",""]
["Josef Barta",1977,"Vysoké Mýto","CZ/C2","M",""]
["Josef Beran",1982,"Slaný",{"$f":"VLOOKUP(C376,Region,2,0)","v":"CZ/C1"},"M",{"$f":"IF(A376=\"(prázdné)\",\"\",IF(($G$1-B376)>25,\"\",\"Junior v roce \"&$G$1))","v":""}]
["Josef Bostik",1963,"GAC Benešov","CZ/C1","M",""]
["Josef Busek",1967,"Hosín","CZ/C1","M",""]
["Josef Hlusek",1993,"Kunovice","CZ/M","M",""]
["Josef Kolman",1983,"Letňany","CZ/C1","M",""]
["Josef Krejsa",1938,"Hranice","CZ/M","M",""]
["Josef Kreutzer",1992,"Letkov","CZ/C1","M",{"$f":"IF(A382=\"(prázdné)\",\"\",IF(($G$1-B382)>25,\"\",\"Junior v roce \"&$G$1))","v":""}]
["Josef Linhart",1972,"Medlánky","CZ/M","M",""]
["Josef Macicek",1949,"Frýdlant","CZ/M","M",""]
["Josef Mezera",1951,"Raná","CZ/C2","M",""]
["Josef Novak",1981,"Kunovice","CZ/M","M",""]
["Josef Novotny",1983,"Přibyslav","CZ/C2","M",""]
["Josef Plechac",1942,"Hronov","CZ/C2","M",""]
["Josef Rydl",1940,"Turnov","CZ/C2","M",""]
["Josef Sedlacek",1968,"Zbraslavice","CZ/C1","M",""]
["Jozef Hartinger",1987,"Medlánky","CZ/M","M",""]
["Jurij Sikorsky",1975,"Hodkovice","CZ/C2","M",""]
["Kamil Hejda",1973,"Jičín",{"$f":"VLOOKUP(C393,Region,2,0)","v":"CZ/C2"},"M",{"$f":"IF(A393=\"(prázdné)\",\"\",IF(($G$1-B393)>25,\"\",\"Junior v roce \"&$G$1))","v":""}]
["Kamil Novak",1970,"Jaroměř","CZ/C2","M",""]
["Kamil Sohr",1973,"Šumperk","CZ/M","M",""]
["Karel Balatka",1965,"Liberec","CZ/C2","M",""]
["Karel Benes",1980,"Polička","CZ/C2","M",""]
["Karel Benisek 48",1948,"Toužim","CZ/C1","M",""]
["Karel Benisek 76",1976,"Toužim","CZ/C1","M",""]
["Karel Cerny",1943,"Beroun","CZ/C1","M",""]
["Karel Elsnic",1974,"Křižanov","CZ/M","M",""]
["Karel Ertl",1939,"LK Břeclav","CZ/M","M",""]
["Karel Grotz",1934,"Toužim","CZ/C1","M",""]
["Karel Horalek",1976,"Olomouc",{"$f":"VLOOKUP(C404,Region,2,0)","v":"CZ/M"},"M",""]
["Karel Knotek",1961,"Soběslav","CZ/C1","M",""]
["Karel Kolomaznik",1955,"Šumperk","CZ/M","M",""]
["Karel Kotlan",1957,"Medlánky","CZ/M","M",""]
["Karel Lang",1967,"Medlánky","CZ/M","M",""]
["Karel Mares",1974,"Slaný","CZ/C1","M",""]
["Karel Minarik",1965,"Hranice","CZ/M","M",""]
["Karel Mrazek",1954,"Slaný",{"$f":"VLOOKUP(C411,Region,2,0)","v":"CZ/C1"},"M",{"$f":"IF(A411=\"(prázdné)\",\"\",IF(($G$1-B411)>25,\"\",\"Junior v roce \"&$G$1))","v":""}]
["Karel Novak",1993,"Mladá Boleslav","CZ/C1","M",""]
["Karel Policky",1950,"Kolín","CZ/C1","M",""]
["Karel Stach",1963,"Letňany","CZ/C1","M",""]
["Karel Toman",1976,"Letňany","CZ/C1","M",""]
["Karel Vagenknecht",1960,"Šumperk","CZ/M","M",""]
["Karel Vladar",1972,"Hodkovice","CZ/C2","M",""]
["Katerina Dvorakova",1984,"Most","CZ/C2","F",""]
["Katerina Kardosova",1988,"Kunovice","CZ/M","F",""]
["Katerina Vancurova",2002,"Hranice",{"$f":"VLOOKUP(C420,Region,2,0)","v":"CZ/M"},"F","Junior v roce 2026"]
["Katerina Vojtova",1983,"Slaný","CZ/C1","F",""]
["Klara Teichmannova",1993,"Hronov","CZ/C2","F",""]
["Kristina Santruckova",1996,"Podhořany",{"$f":"VLOOKUP(C423,Region,2,0)","v":"CZ/C2"},"F",""]
["Krystof Mimra",1992,"Most",{"$f":"VLOOKUP(C424,Region,2,0)","v":"CZ/C2"},"M",""]
["Krystof Urban",1999,"Jindřichův Hradec","CZ/C1","M",""]
["Kuk",1900,"Dvůr Králové",{"$f":"VLOOKUP(C426,Region,2,0)","v":"CZ/C2"},"M",""]
["Ladislav Berger",1970,"Kralupy","CZ/C1","M",""]
["Ladislav Durnik",1974,"Kunovice","CZ/M","M",""]
["Ladislav Hybl",1955,"Šumperk","CZ/M","M",""]
["Ladislav Jozsa",1981,"Medlánky","CZ/M","M",""]
["Ladislav Krecbach",1985,"Jaroměř","CZ/C2","M",""]
["Ladislav Krizek",1982,"Šumperk",{"$f":"VLOOKUP(C432,Region,2,0)","v":"CZ/M"},"M",""]
["Ladislav Prokes",1954,"Vrchlabí",{"$f":"VLOOKUP(C433,Region,2,0)","v":"CZ/C2"},"M",""]
["Ladislav Valenta",1961,"Žamberk","CZ/C2","M",""]
["Ladislav Vratny",1959,"Jaroměř","CZ/C2","M",""]
["Lenka Hajkova",1982,"Raná","CZ/C2","F",""]
["Lenka Kuthanova",1960,"Tábor","CZ/C1","F",""]
["Lenka Stovickova",1963,"Hořice","CZ/C2","F",""]
["Leos Nosek",1958,"Křižanov",{"$f":"VLOOKUP(C439,Region,2,0)","v":"CZ/M"},"M",""]
["Leos Strnadek",1983,"Hodkovice","CZ/C2","M",""]
["Libor Bednarik",1972,"Kunovice","CZ/M","M",""]
["Libor Danhel",1966,"Kunovice","CZ/M","M",""]
["Libor Hyps",1988,"Chrudim","CZ/C2","M",""]
["Libor Kovarik",1966,"Mladá Boleslav","CZ/C1","M","",null,"Dříve Hosín"]
["Libor Kovarnik",1968,"Mladá Boleslav",{"$f":"VLOOKUP(C445,Region,2,0)","v":"CZ/C1"},"M",""]
["Linda Vasatova",1990,"Mladá Boleslav","CZ/C1","F",""]
["Lubomir Doupal",1975,"Kroměříž","CZ/M","M",{"$f":"IF(A447=\"(prázdné)\",\"\",IF(($G$1-B447)>25,\"\",\"Junior v roce \"&$G$1))","v":""}]
["Lubomir Mekota",1956,"Plasy",{"$f":"VLOOKUP(C448,Region,2,0)","v":"CZ/C1"},"M",{"$f":"IF(A448=\"(prázdné)\",\"\",IF(($G$1-B448)>25,\"\",\"Junior v roce \"&$G$1))","v":""}]
["Lubomir Motl",1959,"Kyjov","CZ/M","M",""]
["Lubomir Papezik",1951,"Luhačovice","CZ/M","M",""]
["Lubomir Svoboda",1959,"Letkov","CZ/C1","M",""]
["Lubomir Vrba",1955,"Toužim","CZ/C1","M",""]
["Lubor Sobek",1979,"Frýdlant","CZ/M","M",""]
["Lubor Vyhlid",1972,"Kroměříž","CZ/M","M",""]
["Lubor Zeleny",1957,"Přibyslav","CZ/C2","M",""]
["Lubos Florian",1966,"Jičín",{"$f":"VLOOKUP(C456,Region,2,0)","v":"CZ/C2"},"M",""]
["Lubos Kunc 56",1956,"Dvůr Králové","CZ/C2","M",""]
["Lubos Kunc 85",1985,"Vrchlabí","CZ/C2","M",""]
["Lubos Muknsnabl",1995,"Letkov",{"$f":"VLOOKUP(C459,Region,2,0)","v":"CZ/C1"},"M",{"$f":"IF(A459=\"(prázdné)\",\"\",IF(($G$1-B459)>25,\"\",\"Junior v roce \"&$G$1))","v":""}]
["Lubos Stiburek",1954,"Letkov","CZ/C1","M","",null,"Dříve Raná"]
["Lubos Svoboda",1959,"Letkov","CZ/C1","M",""]
["Ludek Kluger",1963,"Tábor","CZ/C1","M",""]
["Ludek Mikl",1963,"Šumperk",{"$f":"VLOOKUP(C463,Region,2,0)","v":"CZ/M"},"M","",null,"Dříve Kroměříž"]
["Ludek Souhrada",1974,"Raná","CZ/C2","M",""]
["Lukas Capek",1992,"Letňany","CZ/C1","M",""]
["Lukas Fiala",1976,"Kralupy","CZ/C1","M",""]
["Lukas Fronek",1989,"Kyjov",{"$f":"VLOOKUP(C467,Region,2,0)","v":"CZ/M"},"M",""]
["Lukas Hykl",1985,"Kolín",{"$f":"VLOOKUP(C468,Region,2,0)","v":"CZ/C1"},"M",""]
["Lukas Hynek",1979,"Dvůr Králové","CZ/C2","M",""]
["Lukas Jezek",1975,"Jičín","CZ/C2","M",""]
["Lukas Kotek",1994,"Frýdlant","CZ/M","M",""]
["Lukas Koukal",1991,"Letkov","CZ/C1","M",""]
["Lukas Kriz",2003,"Křižanov",{"$f":"VLOOKUP(C473,Region,2,0)","v":"CZ/M"},"M","Junior v roce 2026"]
["Lukas Mach",1988,"Hronov",{"$f":"VLOOKUP(C474,Region,2,0)","v":"CZ/C2"},"M",{"$f":"IF(A474=\"(prázdné)\",\"\",IF(($G$1-B474)>25,\"\",\"Junior v roce \"&$G$1))","v":""}]
["Lukas Maly",1998,"Vysoké Mýto","CZ/C2","M",""]
["Lukas Nalos",1976,"Letkov",{"$f":"VLOOKUP(C476,Region,2,0)","v":"CZ/C1"},"M",{"$f":"IF(A476=\"(prázdné)\",\"\",IF(($G$1-B476)>25,\"\",\"Junior v roce \"&$G$1))","v":""}]
["Lukas Petrzela",1987,"Olomouc",{"$f":"VLOOKUP(C477,Region,2,0)","v":"CZ/M"},"M",""]
["Lukas Plocek",1990,"Mladá Boleslav","CZ/C1","M",""]
["Lukas Popelka",1977,"Polička","CZ/C2","M",""]
["Lukas Volek",2004,"Hodkovice",{"$f":"VLOOKUP(C480,Region,2,0)","v":"CZ/C2"},"M","Junior v roce 2026"]
["Lukas Zach",1987,"Vyškov",{"$f":"VLOOKUP(C481,Region,2,0)","v":"CZ/M"},"M",""]
["Lukas Zeman",2000,"Rakovník",{"$f":"VLOOKUP(C482,Region,2,0)","v":"CZ/C1"},"M",""]
["Lukas Zemek",1994,"Letkov",{"$f":"VLOOKUP(C483,Region,2,0)","v":"CZ/C1"},"M",""]
["Lumir Motyka",1955,"Frýdlant","CZ/M","M",""]
["Marcel Skarohlid",1972,"Hodkovice","CZ/C2","M",""]
["Marek Blatak",1969,"Šumperk","CZ/M","M",""]
["Marek Csukas",1982,"Podhořany","CZ/C2","M",""]
["Marek Cacky",1971,"Kladno","CZ/C1","M",""]
["Marek Cerveny",1989,"Jaroměř","CZ/C2","M",""]
["Marek Hlavaty",1974,"Liberec",{"$f":"VLOOKUP(C490,Region,2,0)","v":"CZ/C2"},"M",{"$f":"IF(A490=\"(prázdné)\",\"\",IF(($G$1-B490)>25,\"\",\"Junior v roce \"&$G$1))","v":""}]
["Marek Kornec",1957,"Dvůr Králové","CZ/C2","M",""]
["Marek Loukota",2000,"Letkov",{"$f":"VLOOKUP(C492,Region,2,0)","v":"CZ/C1"},"M",""]
["Marek Malinsky",1985,"Chrudim","CZ/C2","M",""]
["Marek Novotny",2004,"Kladno",{"$f":"VLOOKUP(C494,Region,2,0)","v":"CZ/C1"},"M",{"$f":"IF(A494=\"(prázdné)\",\"\",IF(($G$1-B494)>25,\"\",\"Junior v roce \"&$G$1))","v":"Junior v roce 2026"}]
["Marek Novy",1973,"Roudnice","CZ/C2","M",""]
["Marek Pechanec",1970,"Luhačovice","CZ/M","M",""]
["Marek Pechar",1995,"Chrudim","CZ/C2","M",""]
["Marek Seitl",1995,"Dvůr Králové","CZ/C2","M",""]
["Marek Sild",1976,"Kunovice","CZ/M","M",""]
["Marek Simon",1998,"Kralupy",{"$f":"VLOOKUP(C500,Region,2,0)","v":"CZ/C1"},"M",""]
["Marek Svancara",1976,"GAC Benešov","CZ/C1","M",""]
["Marek Vinar",1976,"Letňany","CZ/C1","M",""]
["Marie Vesela",1999,"Staňkov","CZ/C1","F",""]
["Martin Adamec",1971,"Medlánky",{"$f":"VLOOKUP(C504,Region,2,0)","v":"CZ/M"},"M",""]
["Martin Babak",1976,"Hořice",{"$f":"VLOOKUP(C505,Region,2,0)","v":"CZ/C2"},"M",""]
["Martin Balik",1982,"Kralupy","CZ/C1","M",""]
["Martin Benesovsky",1975,"Kolín",{"$f":"VLOOKUP(C507,Region,2,0)","v":"CZ/C1"},"M",""]
["Martin Cicvarek",1966,"Liberec","CZ/C2","M",""]
["Martin Donek",1976,"Beroun","CZ/C1","M",""]
["Martin Dundr",1968,"Hořice","CZ/C2","M",""]
["Martin Ficnar",1971,"Šumperk","CZ/M","M",""]
["Martin Fric",1967,"Raná","CZ/C2","M",""]
["Martin Gedeon",1989,"Letkov","CZ/C1","M",""]
["Martin Grmela",1989,"Zbraslavice",{"$f":"VLOOKUP(C514,Region,2,0)","v":"CZ/C1"},"M",""]
["Martin Hejny",1984,"Šumperk","CZ/M","M",""]
["Martin Holik",1959,"Letňany","CZ/C1","M",""]
["Martin Horacek",1985,"Dvůr Králové","CZ/C2","M",""]
["Martin Hrivna",1978,"Zbraslavice","CZ/C1","M",{"$f":"IF(A518=\"(prázdné)\",\"\",IF(($G$1-B518)>25,\"\",\"Junior v roce \"&$G$1))","v":""}]
["Martin Chovan",1973,"Zbraslavice","CZ/C1","M",""]
["Martin Janousek",1985,"Turnov","CZ/C2","M",""]
["Martin Koci",1975,"Ústí nad Orlicí","CZ/C2","M",""]
["Martin Kozina",1970,"Křižanov",{"$f":"VLOOKUP(C522,Region,2,0)","v":"CZ/M"},"M",""]
["Martin Kriz",1968,"Přibyslav",{"$f":"VLOOKUP(C523,Region,2,0)","v":"CZ/C2"},"M",""]
["Martin Krizovic",1971,"Přibyslav","CZ/C2","M",""]
["Martin Liptak",1970,"Toužim","CZ/C1","M",""]
["Martin Marek",1967,"Roudnice","CZ/C2","M",""]
["Martin Marhefka",1975,"Kyjov","CZ/M","M",""]
["Martin Markl",1960,"Kolín","CZ/C1","M",""]
["Martin Molnar",1986,"Šumperk","CZ/M","M",""]
["Martin Nejezchleb",1979,"Plzeň Bory","CZ/C1","M",""]
["Martin Neuvirt",2001,"Přibyslav",{"$f":"VLOOKUP(C531,Region,2,0)","v":"CZ/C2"},"M",{"$f":"IF(A531=\"(prázdné)\",\"\",IF(($G$1-B531)>25,\"\",\"Junior v roce \"&$G$1))","v":"Junior v roce 2026"}]
["Martin Novak",1976,"Slaný","CZ/C1","M",""]
["Martin Pehe",1978,"Soběslav","CZ/C1","M",""]
["Martin Pekar",1973,"Šumperk","CZ/M","M",""]
["Martin Picka",1974,"Tábor","CZ/C1","M","",null,"Tábor od roku 2018, dříve Letkov"]
["Martin Piskacek",1991,"Křižanov","CZ/M","M",""]
["Martin Sehnoutka",1970,"Dvůr Králové","CZ/C2","M",""]
["Martin Skala",1985,"Vrchlabí","CZ/C2","M",""]
["Martin Soldan",2001,"Hronov",{"$f":"VLOOKUP(C539,Region,2,0)","v":"CZ/C2"},"M","Junior v roce 2026"]
["Martin Soucek",1975,"Mladá Boleslav","CZ/C1","M",""]
["Martin Stastny",2005,"Medlánky",{"$f":"VLOOKUP(C541,Region,2,0)","v":"CZ/M"},"M",{"$f":"IF(A541=\"(prázdné)\",\"\",IF(($G$1-B541)>25,\"\",\"Junior v roce \"&$G$1))","v":"Junior v roce 2026"}]
["Martin Suchy",1969,"Hranice","CZ/M","M",""]
["Martin Svacina",1965,"Frýdlant","CZ/M","M",""]
["Martin Svoboda",1989,"Letkov","CZ/C1","M",""]
["Martin Sonka",1978,"Tábor","CZ/C1","M",""]
["Martin Stepanek",1987,"Moravská Třebová","CZ/M","M",""]
["Martin Stepka",1966,"Turnov","CZ/C2","M",""]
["Martin Stransky",1964,"Jičín",{"$f":"VLOOKUP(C548,Region,2,0)","v":"CZ/C2"},"M",{"$f":"IF(A548=\"(prázdné)\",\"\",IF(($G$1-B548)>25,\"\",\"Junior v roce \"&$G$1))","v":""}]
["Martin Svarc",1981,"Olomouc","CZ/M","M",""]
["Martin Tison",2000,"Hosín",{"$f":"VLOOKUP(C550,Region,2,0)","v":"CZ/C1"},"M",""]
["Martin Urban",1971,"Frýdlant","CZ/M","M",""]
["Martin Urner",1974,"Letňany","CZ/C1","M",""]
["Martin Valenta",1969,"Toužim","CZ/C1","M",""]
["Martin Vana",1979,"Mladá Boleslav","CZ/C1","M",""]
["Martin Viteznik",1988,"Kralupy",{"$f":"VLOOKUP(C555,Region,2,0)","v":"CZ/C1"},"M",{"$f":"IF(A555=\"(prázdné)\",\"\",IF(($G$1-B555)>25,\"\",\"Junior v roce \"&$G$1))","v":""}]
["Martin Vnoucek",1972,"Vlašim","CZ/C1","M",""]
["Martin Vondracek",1967,"Hronov","CZ/C2","M",""]
["Martin Vrba",1977,"Toužim","CZ/C1","M",""]
["Martin Vyskocil",1981,"Hodkovice","CZ/C2","M",""]
["Martin Zahalka",1987,"Staňkov","CZ/C1","M",""]
["Martin Zvonicek",1972,"Raná","CZ/C2","M",""]
["Martina Bartonikova",1990,"Luhačovice","CZ/M","F",""]
["Martina Kloubova",1991,"Hodkovice","CZ/C2","F",""]
["Martina Voráčová",1988,"Křižanov","CZ/M","F","",null,"Dříve Kubátová, AK Kyjov"]
["Matej Bartos",1998,"Hodkovice",{"$f":"VLOOKUP(C565,Region,2,0)","v":"CZ/C2"},"M",""]
["Matej Dolejs",2004,"Beroun",{"$f":"VLOOKUP(C566,Region,2,0)","v":"CZ/C1"},"M",{"$f":"IF(A566=\"(prázdné)\",\"\",IF(($G$1-B566)>25,\"\",\"Junior v roce \"&$G$1))","v":"Junior v roce 2026"}]
["Matej Charouz",1993,"Hodkovice","CZ/C2","M",""]
["Matej Jelinek",1999,"Hronov",{"$f":"VLOOKUP(C568,Region,2,0)","v":"CZ/C2"},"M",""]
["Matej Kiss",1990,"Točná","CZ/C1","M",""]
["Matej Krestes",1986,"Slaný","CZ/C1","M",""]
["Matej Plch",1987,"Letkov","CZ/C1","M",""]
["Matej Rendla",2000,"Zbraslavice","CZ/C1","M",""]
["Matej Uhlik",1995,"Letkov","CZ/C1","M",""]
["Matous Schmidt",1981,"Letňany","CZ/C1","M",""]
["Matyas John",2002,"Medlánky",{"$f":"VLOOKUP(C575,Region,2,0)","v":"CZ/M"},"M",{"$f":"IF(A575=\"(prázdné)\",\"\",IF(($G$1-B575)>25,\"\",\"Junior v roce \"&$G$1))","v":"Junior v roce 2026"}]
["Michael Cernes",1997,"Letňany","CZ/C1","M",""]
["Michael Fik",1972,"Strakonice","CZ/C1","M",""]
["Michaela Houskova",1978,"Letkov","CZ/C1","F",""]
["Michaela Krizova",2001,"Přibyslav",{"$f":"VLOOKUP(C579,Region,2,0)","v":"CZ/C2"},"F","Junior v roce 2026"]
["Michaela Rendlova",2004,"Toužim",{"$f":"VLOOKUP(C580,Region,2,0)","v":"CZ/C1"},"F","Junior v roce 2026"]
["Michaela Sirmerova",2000,"Jihlava",{"$f":"VLOOKUP(C581,Region,2,0)","v":"CZ/M"},"F",""]
["MIchaela Vlacilikova",1993,"Luhačovice","CZ/M","F",""]
["Michal Budejovsky",1991,"Letkov","CZ/C1","M",""]
["Michal Buryan",1977,"Vysoké Mýto","CZ/C2","M",""]
["Michal Coufal",1999,"Jičín",{"$f":"VLOOKUP(C585,Region,2,0)","v":"CZ/C2"},"M",""]
["Michal Cupak",1991,"Medlánky","CZ/M","M",""]
["Michal Cechmanek",1978,"Kroměříž","CZ/M","M","",null,"Luhačovice do 2022"]
["Michal Drab",1969,"Letkov","CZ/C1","M",{"$f":"IF(A588=\"(prázdné)\",\"\",IF(($G$1-B588)>25,\"\",\"Junior v roce \"&$G$1))","v":""}]
["Michal Dvorak",1986,"Zbraslavice","CZ/C1","M",""]
["Michal Fortik",1976,"Točná","CZ/C1","M",""]
["Michal Hemrle",1974,"Česká Lípa",{"$f":"VLOOKUP(C591,Region,2,0)","v":"CZ/C2"},"M",""]
["Michal Janda",1972,"Broumov","CZ/C2","M",""]
["Michal Kares",1987,"Ústí nad Orlicí","CZ/C2","M",""]
["Michal Kodousek",1983,"Jaroměř","CZ/C2","M",""]
["Michal Kratochvil",1984,"Slaný","CZ/C1","M",""]
["Michal Krupicka",1975,"Most","CZ/C2","M",""]
["Michal Lesinger",1966,"Moravská Třebová","CZ/M","M",""]
["Michal Linhart",1982,"Vyškov","CZ/M","M",""]
["Michal Maly",1982,"Broumov","CZ/C2","M",""]
["Michal Marek",1982,"Křižanov","CZ/M","M",""]
["Michal Navratil",1985,"Křižanov","CZ/M","M",""]
["Michal Nutil",1966,"Náchod",{"$f":"VLOOKUP(C602,Region,2,0)","v":"CZ/C2"},"M",""]
["Michal Ondracek",1966,"Medlánky",{"$f":"VLOOKUP(C603,Region,2,0)","v":"CZ/M"},"M",""]
["Michal Posluzny",1968,"Medlánky",{"$f":"VLOOKUP(C604,Region,2,0)","v":"CZ/M"},"M",""]
["Michal Prochazka",2006,"Beroun",{"$f":"VLOOKUP(C605,Region,2,0)","v":"CZ/C1"},"M",{"$f":"IF(A605=\"(prázdné)\",\"\",IF(($G$1-B605)>25,\"\",\"Junior v roce \"&$G$1))","v":"Junior v roce 2026"}]
["Michal Rancak",1984,"Mladá Boleslav","CZ/C1","M",""]
["Michal Richter",1983,"Kolín","CZ/C1","M",""]
["Michal Sebek",1998,"Letňany","CZ/C1","M",""]
["Michal Sich",1979,"Mladá Boleslav","CZ/C1","M",""]
["Michal Stastny",1970,"Medlánky","CZ/M","M",""]
["Michal Trylc",1987,"Plasy","CZ/C1","M",""]
["Michal Vopalensky",1974,"Letňany",{"$f":"VLOOKUP(C612,Region,2,0)","v":"CZ/C1"},"M",""]
["Michal Vorlicek",1995,"Kolín",{"$f":"VLOOKUP(C613,Region,2,0)","v":"CZ/C1"},"M",{"$f":"IF(A613=\"(prázdné)\",\"\",IF(($G$1-B613)>25,\"\",\"Junior v roce \"&$G$1))","v":""}]
["Michal Vrana",1999,"Vyškov",{"$f":"VLOOKUP(C614,Region,2,0)","v":"CZ/M"},"M",""]
["Michal Vranek",1993,"Hosín",{"$f":"VLOOKUP(C615,Region,2,0)","v":"CZ/C1"},"M",""]
["Milada Moudra",1991,"Hodkovice","CZ/C2","F",""]
["Milan Bado",1975,"Kolín","CZ/C1","M",{"$f":"IF(A617=\"(prázdné)\",\"\",IF(($G$1-B617)>25,\"\",\"Junior v roce \"&$G$1))","v":""}]
["Milan Benes",1953,"Raná",{"$f":"VLOOKUP(C618,Region,2,0)","v":"CZ/C2"},"M",""]
["Milan Dvorak",1965,"Liberec","CZ/C2","M",""]
["Milan Kuk",1950,"Dvůr Králové","CZ/C2","M",""]
["Milan Meisner",1961,"Dvůr Králové","CZ/C2","M",""]
["Milan Minarik",1900,"Hranice",{"$f":"VLOOKUP(C622,Region,2,0)","v":"CZ/M"},"M",{"$f":"IF(A622=\"(prázdné)\",\"\",IF(($G$1-B622)>25,\"\",\"Junior v roce \"&$G$1))","v":""}]
["Milan Riha",1973,"Zbraslavice",{"$f":"VLOOKUP(C623,Region,2,0)","v":"CZ/C1"},"M",""]
["Milan Svoboda 34",1934,"Letkov","CZ/C1","M",""]
["Milan Svoboda 80",1980,"Havlíčkův Brod","CZ/C2","M","",null,"Dříve Chotěboř"]
["Milan Svorc",1955,"Podhořany","CZ/C2","M",""]
["Miloslav Cindr",1974,"Ústí nad Orlicí","CZ/C2","M",""]
["Miloslav Cink",1987,"Letkov","CZ/C1","M","",null,"Dříve Letkov"]
["Miloslav Fiser",1974,"Hodkovice","CZ/C2","M",""]
["Miloslav Hulmak",1963,"Hosín","CZ/C1","M",""]
["Miloslav Krch",1988,"Zbraslavice","CZ/C1","M",""]
["Milos Dedera",1956,"Jihlava","CZ/M","M",""]
["Milos Eichler",1964,"Dvůr Králové","CZ/C2","M",""]
["Milos Houha",1954,"Plzeň Bory","CZ/C1","M",""]
["Milos Hrabe",1979,"Letňany","CZ/C1","M",""]
["Milos Matejka",1956,"Beroun","CZ/C1","M",""]
["Milos Novotny",1973,"Hronov",{"$f":"VLOOKUP(C637,Region,2,0)","v":"CZ/C2"},"M",""]
["Milos Nyvlt",1963,"Hronov",{"$f":"VLOOKUP(C638,Region,2,0)","v":"CZ/C2"},"M",{"$f":"IF(A638=\"(prázdné)\",\"\",IF(($G$1-B638)>25,\"\",\"Junior v roce \"&$G$1))","v":""}]
["Milos Pajr",1966,"Jičín","CZ/C2","M",""]
["Milos Pospisil",1952,"Frýdlant","CZ/M","M",""]
["Milos Rejzl",1962,"Klatovy","CZ/C1","M",""]
["Miroslav Burdych",1973,"Nové Město nad Metují","CZ/C2","M",""]
["Miroslav Burian",1969,"Křižanov","CZ/M","M",""]
["Miroslav Cervenka",1980,"Křižanov","CZ/M","M",""]
["Miroslav Filip",1959,"Křižanov","CZ/M","M",""]
["Miroslav Horinek",1976,"Křižanov","CZ/M","M",""]
["Miroslav Jezek",1973,"Žamberk","CZ/C2","M",""]
["Miroslav Koci",1961,"Žamberk","CZ/C2","M",""]
["Miroslav Kudlacek",1986,"Polička",{"$f":"VLOOKUP(C649,Region,2,0)","v":"CZ/C2"},"M",""]
["Miroslav Kus",1970,"Strakonice",{"$f":"VLOOKUP(C650,Region,2,0)","v":"CZ/C1"},"M",{"$f":"IF(A650=\"(prázdné)\",\"\",IF(($G$1-B650)>25,\"\",\"Junior v roce \"&$G$1))","v":""}]
["Miroslav Macik",1983,"Rakovník","CZ/C1","M",""]
["Miroslav Major",1968,"Kralupy","CZ/C1","M",""]
["Miroslav Mancik",1976,"Kyjov","CZ/M","M",""]
["Miroslav Mitrus",1972,"GAC Benešov",{"$f":"VLOOKUP(C654,Region,2,0)","v":"CZ/C1"},"M",""]
["Miroslav Odlozilik",1973,"Zbraslavice","CZ/C1","M","",null,"Dříve Křižanov"]
["Miroslav Ofukany",1951,"Kolín","CZ/C1","M",""]
["Miroslav Plechac",1969,"Hronov","CZ/C2","M",""]
["Miroslav Sklenar",1964,"Žamberk","CZ/C2","M",{"$f":"IF(A658=\"(prázdné)\",\"\",IF(($G$1-B658)>25,\"\",\"Junior v roce \"&$G$1))","v":""}]
["Miroslav Streda",1945,"Vrchlabí","CZ/C2","M",""]
["Miroslav Sedivy",1974,"Letkov","CZ/C1","M",""]
["Miroslav Stepan",1955,"Žamberk","CZ/C2","M",""]
["Miroslav Trybucek",1965,"Jičín","CZ/C2","M",""]
["Monika Bezdekova",1988,"Letňany","CZ/C1","F","",null,"Dříve Bubnová"]
["Monika Jiraskova",1994,"Hronov","CZ/C2","F",""]
["Monika Klovanicova",1992,"Kunovice","CZ/M","F",""]
["Nikola Zizkovsky",1980,"Kralupy","CZ/C1","M",""]
["Oldrich Bartonik",1961,"Luhačovice","CZ/M","M",""]
["Oldrich Hlavacek",1973,"Medlánky","CZ/M","M",""]
["Oldrich Houzvicka",1975,"Frýdlant","CZ/M","M",""]
["Oldrich Kounovsky",1976,"Medlánky",{"$f":"VLOOKUP(C670,Region,2,0)","v":"CZ/M"},"M",""]
["Oldrich Slavicek",1959,"Hronov","CZ/C2","M",""]
["Oldrich Stumbauer",1992,"Prachatice",{"$f":"VLOOKUP(C672,Region,2,0)","v":"CZ/C1"},"M",""]
["Olga Mokosova",1970,"Jihlava","CZ/M","F",""]
["Ondrej Bartos",1975,"Točná","CZ/C1","M",""]
["Ondrej Belohlavek",1978,"Vysoké Mýto","CZ/C2","M",""]
["Ondrej Blaha",1976,"Letňany","CZ/C1","M",""]
["Ondrej Bordovsky",1983,"Krnov","CZ/M","M",""]
["Ondrej Dostal",null,null,"CZ","M",{"$f":"IF(A678=\"(prázdné)\",\"\",IF(($G$1-B678)>25,\"\",\"Junior v roce \"&$G$1))","v":""}]
["Ondrej Dupal",1966,"GAC Benešov","CZ/C1","M",""]
["Ondrej Dvorak 58",1958,"Raná","CZ/C2","M",""]
["Ondrej Dvorak 87",1987,"Raná","CZ/C2","M",""]
["Ondrej Dvorak 98",1998,"Mladá Boleslav","CZ/C1","M",""]
["Ondrej Hart",1990,"Letňany",{"$f":"VLOOKUP(C683,Region,2,0)","v":"CZ/C1"},"M",""]
["Ondrej Holas",1989,"Česká Lípa","CZ/C2","M",""]
["Ondrej Hurina",2003,"Zábřeh",{"$f":"VLOOKUP(C685,Region,2,0)","v":"CZ/M"},"M",{"$f":"IF(A685=\"(prázdné)\",\"\",IF(($G$1-B685)>25,\"\",\"Junior v roce \"&$G$1))","v":"Junior v roce 2026"}]
["Ondrej Jung",1976,"Zbraslavice","CZ/C1","M",""]
["Ondrej Kluger",1990,"LK Břeclav",{"$f":"VLOOKUP(C687,Region,2,0)","v":"CZ/M"},"M",""]
["Ondrej Kover",1993,"Šumperk","CZ/M","M",""]
["Ondrej Krejci",1974,"Chotěboř","CZ/C2","M",""]
["Ondrej Prazsky",1978,"Zbraslavice",{"$f":"VLOOKUP(C690,Region,2,0)","v":"CZ/C1"},"M",""]
["Ondrej Marek",1989,"Žamberk","CZ/C2","M",""]
["Ondrej Skala",1982,"Vrchlabí","CZ/C2","M",""]
["Ondrej Sindelar",1979,"Mladá Boleslav","CZ/C1","M",""]
["Ondrej Stepan",1984,"Žamberk",{"$f":"VLOOKUP(C694,Region,2,0)","v":"CZ/C2"},"M",{"$f":"IF(A694=\"(prázdné)\",\"\",IF(($G$1-B694)>25,\"\",\"Junior v roce \"&$G$1))","v":""}]
["Ondrej Supka",1994,"Kunovice","CZ/M","M",""]
["Ondrej Teichman",1984,"Dvůr Králové","CZ/C2","M",""]
["Ondrej Trkal",1991,"Vysoké Mýto","CZ/C2","M",""]
["Ondrej Valach",1986,"Točná","CZ/C1","M",""]
["Ondrej Vyskocil",1991,"Letkov","CZ/C1","M",""]
["Ondrej Zeman",1980,"Letňany","CZ/C1","M",""]
["Ota Vavrin",1947,"Vysoké Mýto","CZ/C2","M",""]
["Otakar Tucek",1947,"Raná","CZ/C2","M",""]
["Patrik Cebis",1972,"Kralupy","CZ/C1","M",""]
["Pavel Brodsky",1992,"Hořice","CZ/C2","M",""]
["Pavel Cerny",1996,"Příbram","CZ/C1","M",""]
["Pavel Derda",1952,"Dvůr Králové","CZ/C2","M",""]
["Pavel Dostal",1944,"Turnov","CZ/C2","M",""]
["Pavel Foldyna",1976,"Frýdlant","CZ/M","M",""]
["Pavel Franc",1974,"Hronov","CZ/C2","M",""]
["Pavel Haluza",1966,"Prostějov","CZ/M","M",""]
["Pavel Handl",1971,"Kroměříž",{"$f":"VLOOKUP(C711,Region,2,0)","v":"CZ/M"},"M",""]
["Pavel Hartman",1963,"Jaroměř","CZ/C2","M",""]
["Pavel Jiranek",1993,"Toužim","CZ/C1","M",""]
["Pavel Jurak",1986,"Kunovice","CZ/M","M",""]
["Pavel Jurka",1955,"Moravská Třebová","CZ/M","M",""]
["Pavel Kalous",1921,"Frýdlant","CZ/M","M",""]
["Pavel Kostkan",1952,"Dvůr Králové","CZ/C2","M",""]
["Pavel Koudelka",1973,"Křižanov","CZ/M","M",""]
["Pavel Kuriscak",1987,"Beroun",{"$f":"VLOOKUP(C719,Region,2,0)","v":"CZ/C1"},"M",""]
["Pavel Kyzivat",1973,"Zbraslavice",{"$f":"VLOOKUP(C720,Region,2,0)","v":"CZ/C1"},"M",""]
["Pavel Laznicka",1955,"Letňany","CZ/C1","M",""]
["Pavel Liska",1965,"Roudnice","CZ/C2","M",""]
["Pavel Louzecky",1957,"Přibyslav","CZ/C2","M",""]
["Pavel Melichar",1983,"Vlašim",{"$f":"VLOOKUP(C724,Region,2,0)","v":"CZ/C1"},"M",{"$f":"IF(A724=\"(prázdné)\",\"\",IF(($G$1-B724)>25,\"\",\"Junior v roce \"&$G$1))","v":""}]
["Pavel Mracek",1986,"Mladá Boleslav",{"$f":"VLOOKUP(C725,Region,2,0)","v":"CZ/C1"},"M",{"$f":"IF(A725=\"(prázdné)\",\"\",IF(($G$1-B725)>25,\"\",\"Junior v roce \"&$G$1))","v":""}]
["Pavel Nemec",1988,"Šumperk","CZ/M","M",""]
["Pavel Opat",1975,"Rakovník",{"$f":"VLOOKUP(C727,Region,2,0)","v":"CZ/C1"},"M",{"$f":"IF(A727=\"(prázdné)\",\"\",IF(($G$1-B727)>25,\"\",\"Junior v roce \"&$G$1))","v":""}]
["Pavel Paces",1972,"Kladno","CZ/C1","M",""]
["Pavel Pittner",1980,"Polička","CZ/C2","M",""]
["Pavel Rericha",1967,"Moravská Třebová","CZ/M","M",""]
["Pavel Schejbal",1967,"Vrchlabí",{"$f":"VLOOKUP(C731,Region,2,0)","v":"CZ/C2"},"M",{"$f":"IF(A731=\"(prázdné)\",\"\",IF(($G$1-B731)>25,\"\",\"Junior v roce \"&$G$1))","v":""}]
["Pavel Schor",1985,"Medlánky","CZ/M","M",""]
["Pavel Svoboda",1938,"Letňany","CZ/C1","M",""]
["Pavel Simek",1957,"Vyškov","CZ/M","M",""]
["Pavel Skrabal",1969,"Šumperk","CZ/M","M",""]
["Pavel Sulc",1976,"Hodkovice",{"$f":"VLOOKUP(C736,Region,2,0)","v":"CZ/C2"},"M",""]
["Pavel Svejkovsky",1968,"Česká Lípa",{"$f":"VLOOKUP(C737,Region,2,0)","v":"CZ/C2"},"M",""]
["Pavel Svetlik",1968,"Kunovice",{"$f":"VLOOKUP(C738,Region,2,0)","v":"CZ/M"},"M",{"$f":"IF(A738=\"(prázdné)\",\"\",IF(($G$1-B738)>25,\"\",\"Junior v roce \"&$G$1))","v":""}]
["Pavel Svrcek",1972,"Frýdlant","CZ/M","M",""]
["Pavel Trojan",1960,"Chrudim","CZ/C2","M",""]
["Pavel Trybenekr",1990,"Hořice","CZ/C2","M",""]
["Pavel Zakravsky",1979,"Hranice",{"$f":"VLOOKUP(C742,Region,2,0)","v":"CZ/M"},"M",{"$f":"IF(A742=\"(prázdné)\",\"\",IF(($G$1-B742)>25,\"\",\"Junior v roce \"&$G$1))","v":""}]
["Pavel Zima",1979,"Břeclav","CZ/M","M",""]
["Pavla Seifertova",1981,"Raná","CZ/C2","F",""]
["Pavlina Hanusova",1970,"Turnov","CZ/C2","F",""]
["Pavlina Horackova",1965,"Šumperk","CZ/M","F",""]
["Peter Kaspar",1980,"Vyškov",{"$f":"VLOOKUP(C747,Region,2,0)","v":"CZ/M"},"M",""]
["Petr Babak",1973,"Hořice",{"$f":"VLOOKUP(C748,Region,2,0)","v":"CZ/C2"},"M",""]
["Petr Baros",1974,"Hranice","CZ/M","M",""]
["Petr Bartak",1984,"Letkov","CZ/C1","M",""]
["Petr Brezina",1963,"Frýdlant","CZ/M","M",""]
["Petr Benes",1980,"Raná",{"$f":"VLOOKUP(C752,Region,2,0)","v":"CZ/C2"},"M",{"$f":"IF(A752=\"(prázdné)\",\"\",IF(($G$1-B752)>25,\"\",\"Junior v roce \"&$G$1))","v":""}]
["Petr Bezdek",1965,"Letňany","CZ/C1","M",""]
["Petr Cernicky",1974,"Toužim",{"$f":"VLOOKUP(C754,Region,2,0)","v":"CZ/C1"},"M",""]
["Petr Doubek",1974,"Kralupy","CZ/C1","M",""]
["Petr Filip",1982,"Zbraslavice","CZ/C1","M",""]
["Petr Fisar",1974,"Ústí nad Orlicí","CZ/C2","M",""]
["Petr Fousek",1958,"Zbraslavice","CZ/C1","M",""]
["Petr Frycek",1960,"Most","CZ/C2","M",""]
["Petr Gebauer",1999,"Mladá Boleslav","CZ/C1","M",""]
["Petr Gryc",1949,"Medlánky","CZ/M","M",""]
["Petr Hanacek",1962,"Jeseník","CZ/M","M",""]
["Petr Havelka",1997,"Zbraslavice",{"$f":"VLOOKUP(C763,Region,2,0)","v":"CZ/C1"},"M",""]
["Petr Havrlant",1965,"Šumperk","CZ/M","M",""]
["Petr Herold",1970,"Vlašim",{"$f":"VLOOKUP(C765,Region,2,0)","v":"CZ/C1"},"M",{"$f":"IF(A765=\"(prázdné)\",\"\",IF(($G$1-B765)>25,\"\",\"Junior v roce \"&$G$1))","v":""}]
["Petr Hodulak",1974,"Beroun","CZ/C1","M",""]
["Petr Hofman",1984,"Letňany","CZ/C1","M",""]
["Petr Homola",1974,"GAC Benešov",{"$f":"VLOOKUP(C768,Region,2,0)","v":"CZ/C1"},"M",""]
["Petr Hora",1948,"Hodkovice","CZ/C2","M",""]
["Petr Hosek",2001,"Beroun",{"$f":"VLOOKUP(C770,Region,2,0)","v":"CZ/C1"},"M","Junior v roce 2026"]
["Petr Hotovy",1958,"Česká Lípa",{"$f":"VLOOKUP(C771,Region,2,0)","v":"CZ/C2"},"M",""]
["Petr Houstek 49",1949,"Jaroměř","CZ/C2","M",""]
["Petr Houstek 79",1979,"Jaroměř","CZ/C2","M",""]
["Petr Hrebec",1972,"Točná","CZ/C1","M",""]
["Petr Humlicek",1973,"Medlánky","CZ/M","M",""]
["Petr Hybner",1951,"Liberec","CZ/C2","M",""]
["Petr Jasan",1960,"Medlánky","CZ/M","M",""]
["Petr Jedlicka",1987,"Medlánky","CZ/M","M",""]
["Petr Jiranek 63",1962,"Toužim","CZ/C1","M",""]
["Petr Jiranek 91",1991,"Toužim","CZ/C1","M",""]
["Petr Jirasek",1968,"Hronov","CZ/C2","M",""]
["Petr Kachlik",1954,"GAC Benešov","CZ/C1","M",""]
["Petr Kapounek",1977,"Kroměříž","CZ/M","M",""]
["Petr Kaufmann",1958,"Nové Město nad Metují","CZ/C2","M",""]
["Petr Kejr",1959,"Kralupy","CZ/C1","M",""]
["Petr Kolacek",1965,"Šumperk","CZ/M","M",""]
["Petr Kolomaznik",1981,"Šumperk","CZ/M","M",""]
["Petr Kotal",1975,"Točná","CZ/C1","M",""]
["Petr Koutny",1971,"Křižanov","CZ/M","M",""]
["Petr Kohr",1970,"Raná","CZ/C2","M",""]
["Petr Krejcirik",1960,"Hranice","CZ/M","M",""]
["Petr Kubik 74",1974,"Křižanov","CZ/M","M",""]
["Petr Kubik 75",1975,"Moravská Třebová","CZ/M","M",""]
["Petr Kyzivat",1970,"Jičín","CZ/C2","M",""]
["Petr Lonsky",1965,"Toužim","CZ/C1","M",""]
["Petr Los",1961,"Toužim","CZ/C1","M",{"$f":"IF(A796=\"(prázdné)\",\"\",IF(($G$1-B796)>25,\"\",\"Junior v roce \"&$G$1))","v":""}]
["Petr Macicek",1976,"Frýdlant","CZ/M","M",""]
["Petr Malcek",1965,"Letňany","CZ/C1","M",""]
["Petr Masik",2001,"Zábřeh",{"$f":"VLOOKUP(C799,Region,2,0)","v":"CZ/M"},"M",{"$f":"IF(A799=\"(prázdné)\",\"\",IF(($G$1-B799)>25,\"\",\"Junior v roce \"&$G$1))","v":"Junior v roce 2026"}]
["Petr Mitas",1993,"Kunovice","CZ/M","M",""]
["Petr Omelka",1970,"Vyškov",{"$f":"VLOOKUP(C801,Region,2,0)","v":"CZ/M"},"M",""]
["Petr Panek",1975,"Dvůr Králové","CZ/C2","M",""]
["Petr Petricka",1972,"Soběslav","CZ/C1","M",""]
["Petr Prichystal",1973,"Moravská Třebová","CZ/M","M",""]
["Petr Rajda",1970,"Křižanov","CZ/M","M",""]
["Petr Rozhon",1972,"Hosín","CZ/C1","M",""]
["Petr Rygl",1966,"Jičín","CZ/C2","M",""]
["Petr Seibrt",1974,"Náchod","CZ/C2","M",""]
["Petr Sloupensky",1959,"Ústí nad Orlicí","CZ/C2","M",""]
["Petr Starek",1974,"Zbraslavice","CZ/C1","M",""]
["Petr Striz",1980,"Točná","CZ/C1","M",""]
["Petr Svoboda",1988,"Letkov","CZ/C1","M",""]
["Petr Safar",1978,"Ústí nad Orlicí","CZ/C2","M",""]
["Petr Senkyr",1965,"Kunovice","CZ/M","M",""]
["Petr Setka",1971,"Letkov","CZ/C1","M",""]
["Petr Sindelar 45",1945,"Rakovník",{"$f":"VLOOKUP(C816,Region,2,0)","v":"CZ/C1"},"M",{"$f":"IF(A816=\"(prázdné)\",\"\",IF(($G$1-B816)>25,\"\",\"Junior v roce \"&$G$1))","v":""}]
["Petr Sindelar 80",1980,"Letkov",{"$f":"VLOOKUP(C817,Region,2,0)","v":"CZ/C1"},"M",{"$f":"IF(A817=\"(prázdné)\",\"\",IF(($G$1-B817)>25,\"\",\"Junior v roce \"&$G$1))","v":""}]
["Petr Sochor",1986,"Hosín",{"$f":"VLOOKUP(C818,Region,2,0)","v":"CZ/C1"},"M",""]
["Petr Spunar",1966,"Mladá Boleslav","CZ/C1","M",""]
["Petr Stepanek",1989,"Moravská Třebová","CZ/M","M",""]
["Petr Styblo",1975,"Letňany",{"$f":"VLOOKUP(C821,Region,2,0)","v":"CZ/C1"},"M",{"$f":"IF(A821=\"(prázdné)\",\"\",IF(($G$1-B821)>25,\"\",\"Junior v roce \"&$G$1))","v":""}]
["Petr Tax",1968,"Jičín",{"$f":"VLOOKUP(C822,Region,2,0)","v":"CZ/C2"},"M",""]
["Petr Tichy",1973,"Zbraslavice","CZ/C1","M",""]
["Petr Traeger",1983,"Vrchlabí",{"$f":"VLOOKUP(C824,Region,2,0)","v":"CZ/C2"},"M",{"$f":"IF(A824=\"(prázdné)\",\"\",IF(($G$1-B824)>25,\"\",\"Junior v roce \"&$G$1))","v":""}]
["Petr Uhrincko",1969,"Kladno","CZ/C1","M",""]
["Petr Valenta 94",1994,"Kunovice","CZ/M","M",""]
["Petr Valenta 76",1976,"Jaroměř",{"$f":"VLOOKUP(C827,Region,2,0)","v":"CZ/C2"},"M",""]
["Petr Velek",1975,"GAC Benešov",{"$f":"VLOOKUP(C828,Region,2,0)","v":"CZ/C1"},"M",""]
["Petr Vezda",1974,"Medlánky",{"$f":"VLOOKUP(C829,Region,2,0)","v":"CZ/M"},"M",""]
["Petr Vlasak",1974,"Medlánky","CZ/M","M",""]
["Petr Vodicka",1965,"Jaroměř","CZ/C2","M",""]
["Petr Weinhauer",1977,"Tábor",{"$f":"VLOOKUP(C832,Region,2,0)","v":"CZ/C1"},"M",{"$f":"IF(A832=\"(prázdné)\",\"\",IF(($G$1-B832)>25,\"\",\"Junior v roce \"&$G$1))","v":""}]
["Petr Zajic",1962,"Liberec","CZ/C2","M",""]
["Petra Benesova",1985,"Beroun","CZ/C1","F",""]
["Petra Ctibor",1991,"Medlánky",{"$f":"VLOOKUP(C835,Region,2,0)","v":"CZ/M"},"F",{"$f":"IF(A835=\"(prázdné)\",\"\",IF(($G$1-B835)>25,\"\",\"Junior v roce \"&$G$1))","v":""}]
["Petra Diepoldova",1978,"Vysoké Mýto","CZ/C2","F",""]
["Petra Piskata",1989,"Luhačovice","CZ/M","F",""]
["Petra Pinkova",1988,"Letkov","CZ/C1","F",""]
["Petra Retamozova",1990,"Kralupy","CZ/C1","F",""]
["Premek Popovsky",1966,"Kyjov","CZ/M","M",""]
["Premysl Chvoj",2003,"Zbraslavice",{"$f":"VLOOKUP(C841,Region,2,0)","v":"CZ/C1"},"M","Junior v roce 2026"]
["Premysl Muzik",1990,"Tábor","CZ/C1","M",""]
["Radek Bares",1963,"Jičín",{"$f":"VLOOKUP(C843,Region,2,0)","v":"CZ/C2"},"M",{"$f":"IF(A843=\"(prázdné)\",\"\",IF(($G$1-B843)>25,\"\",\"Junior v roce \"&$G$1))","v":""}]
["Radek Bartos",1971,"Kolín",{"$f":"VLOOKUP(C844,Region,2,0)","v":"CZ/C1"},"M",{"$f":"IF(A844=\"(prázdné)\",\"\",IF(($G$1-B844)>25,\"\",\"Junior v roce \"&$G$1))","v":""}]
["Radek Gadas",1998,"Hodkovice",{"$f":"VLOOKUP(C845,Region,2,0)","v":"CZ/C2"},"M",""]
["Radek Hamrla",1973,"Vyškov",{"$f":"VLOOKUP(C846,Region,2,0)","v":"CZ/M"},"M",""]
["Radek Hybl",1980,"Šumperk","CZ/M","M",""]
["Radek Chmela",1984,"Luhačovice","CZ/M","M",""]
["Radek Jaksa",1979,"Prostějov","CZ/M","M",""]
["Radek Krejcirik",1991,"Hranice","CZ/M","M",""]
["Radek Kucirek",1973,"Havlíčkův Brod","CZ/C2","M",""]
["Radek Laga",1997,"Kunovice",{"$f":"VLOOKUP(C852,Region,2,0)","v":"CZ/M"},"M",""]
["Radek Munzar",1976,"Jaroměř","CZ/C2","M",""]
["Radek Tobolka",1977,"Jičín",{"$f":"VLOOKUP(C854,Region,2,0)","v":"CZ/C2"},"M",""]
["Radek Trunec",1989,"Letkov","CZ/C1","M",""]
["Radek Vlcek",1982,"Šumperk","CZ/M","M",""]
["Radek Zima 78",1978,"Hodkovice","CZ/C2","M",""]
["Radek Zima 75",1975,"Břeclav","CZ/M","M",""]
["Radim Bradac",1995,"Letňany","CZ/C1","M",""]
["Radim Hahn",1972,"Zábřeh","CZ/M","M",""]
["Radim Hauptmann",1963,"Jičín","CZ/C2","M",""]
["Radim Jordan",1976,"Žamberk","CZ/C2","M",""]
["Radim Krofta",1984,"Rakovník","CZ/C1","M",""]
["Radim Malatek",1978,"Beroun","CZ/C1","M",""]
["Radim Sobek",1977,"Hranice",{"$f":"VLOOKUP(C865,Region,2,0)","v":"CZ/M"},"M",{"$f":"IF(A865=\"(prázdné)\",\"\",IF(($G$1-B865)>25,\"\",\"Junior v roce \"&$G$1))","v":""}]
["Radim Tomala",1972,"Prostějov",{"$f":"VLOOKUP(C866,Region,2,0)","v":"CZ/M"},"M",{"$f":"IF(A866=\"(prázdné)\",\"\",IF(($G$1-B866)>25,\"\",\"Junior v roce \"&$G$1))","v":""}]
["Radim Vadasz",1989,"Soběslav","CZ/C1","M",""]
["Radim Zielinski",1969,"Frýdlant","CZ/M","M",""]
["Radmila Horacek Filakovska",1963,"Dvůr Králové","CZ/C2","F",""]
["Radoslav Pur",1973,"Hosín","CZ/C1","M",""]
["Radovan Otto",1968,"Ústí nad Labem","CZ/C2","M",{"$f":"IF(A871=\"(prázdné)\",\"\",IF(($G$1-B871)>25,\"\",\"Junior v roce \"&$G$1))","v":""}]
["Radovan Sohr",1965,"Hranice","CZ/M","M","",null,"Dříve Jičín"]
["Rene Hudak",1972,"Kunovice","CZ/M","M",""]
["Rene Picha",1970,"Vlašim","CZ/C1","M",""]
["Richard Jensen",1965,"Zbraslavice","CZ/C1","M",""]
["Richard Svarovsky",1976,"Zábřeh","CZ/M","M",""]
["Richard Vlcek",1993,"Kunovice","CZ/M","M",""]
["Robert Jandera",1976,"Hodkovice","CZ/C2","M",""]
["Robert Sima",1971,"GAC Benešov","CZ/C1","M",""]
["Robin Stichenwirth",1984,"Letkov",{"$f":"VLOOKUP(C880,Region,2,0)","v":"CZ/C1"},"M",{"$f":"IF(A880=\"(prázdné)\",\"\",IF(($G$1-B880)>25,\"\",\"Junior v roce \"&$G$1))","v":""}]
["Roman Bradac",1974,"Rakovník",{"$f":"VLOOKUP(C881,Region,2,0)","v":"CZ/C1"},"M",{"$f":"IF(A881=\"(prázdné)\",\"\",IF(($G$1-B881)>25,\"\",\"Junior v roce \"&$G$1))","v":""}]
["Roman Cerny",1971,"Hranice","CZ/M","M",""]
["Roman Huszar",1963,"Letňany","CZ/C1","M",""]
["Roman Jokl",1979,"Letkov","CZ/C1","M",""]
["Roman Konarik",1976,"Luhačovice","CZ/M","M",""]
["Roman Lanzendorf",1964,"Letkov","CZ/C1","M",""]
["Roman Lengal",1987,"Břeclav",{"$f":"VLOOKUP(C887,Region,2,0)","v":"CZ/M"},"M",""]
["Roman Lukes",1979,"Přibyslav",{"$f":"VLOOKUP(C888,Region,2,0)","v":"CZ/C2"},"M",""]
["Roman Michalek",1974,"Toužim","CZ/C1","M",""]
["Roman Mracek",1980,"Letkov","CZ/C1","M",""]
["Roman Schotli",1970,"Hranice","CZ/M","M",""]
["Roman Stoklasa",1984,"Medlánky","CZ/M","M",""]
["Rostislav Broz",1968,"Vrchlabí","CZ/C2","M",""]
["Rostislav Fric",1973,"Raná","CZ/C2","M","",null,"Dříve Jičín"]
["Rostislav Konderla",1972,"Rakovník",{"$f":"VLOOKUP(C895,Region,2,0)","v":"CZ/C1"},"M",{"$f":"IF(A895=\"(prázdné)\",\"\",IF(($G$1-B895)>25,\"\",\"Junior v roce \"&$G$1))","v":""}]
["Rostislav Matl",1972,"Vyškov","CZ/M","M",""]
["Rostislav Stryk",1972,"Frýdlant","CZ/M","M",""]
["Rostislav Subert",1982,"Šumperk","CZ/M","M",""]
["Rudolf Ferbar",1969,"Moravská Třebová","CZ/M","M",""]
["Rudolf Jung",1954,"Zbraslavice","CZ/C1","M",""]
["Sabina Vitova",1998,"Kroměříž","CZ/M","F",""]
["Slavomir Piskaty 58",1958,"Kunovice","CZ/M","M",""]
["Slavomir Piskaty 84",1984,"Kunovice","CZ/M","M",""]
["Slavomir Tanglmajer",1966,"Chomutov","CZ/C2","M",""]
["Slavomir Valecko",1960,"Hranice","CZ/M","M",""]
["Sona Fortova",1980,"GAC Benešov","CZ/C1","F",""]
["Stanislav Doskocil",1978,"Medlánky","CZ/M","M",""]
["Stanislav Hanus",1970,"Vrchlabí","CZ/C2","M",""]
["Stanislav Honzatko",1952,"Slaný","CZ/C1","M",""]
["Stanislav John",1974,"Hosín",{"$f":"VLOOKUP(C910,Region,2,0)","v":"CZ/C1"},"M",""]
["Stanislav Kubicek",1960,"Medlánky","CZ/M","M",""]
["Stanislav Poslusny",1965,"GAC Benešov","CZ/C1","M",""]
["Stanislav Vrabec",1975,"Česká Lípa",{"$f":"VLOOKUP(C913,Region,2,0)","v":"CZ/C2"},"M",""]
["Stanislava Zemlickova",2000,"Vyškov",{"$f":"VLOOKUP(C914,Region,2,0)","v":"CZ/M"},"F",""]
["Svatopluk Tomsu",1973,"Jaroměř","CZ/C2","M",""]
["Sarka Lochova",1966,"Šumperk","CZ/M","F",""]
["Stefan Uher",1968,"Turnov","CZ/C2","M",""]
["Stepan Bartos",2004,"Kolín",{"$f":"VLOOKUP(C918,Region,2,0)","v":"CZ/C1"},"M",{"$f":"IF(A918=\"(prázdné)\",\"\",IF(($G$1-B918)>25,\"\",\"Junior v roce \"&$G$1))","v":"Junior v roce 2026"}]
["Stepan Capek",1960,"Jičín",{"$f":"VLOOKUP(C919,Region,2,0)","v":"CZ/C2"},"M",{"$f":"IF(A919=\"(prázdné)\",\"\",IF(($G$1-B919)>25,\"\",\"Junior v roce \"&$G$1))","v":""}]
["Stepan Filakovsky",2005,"Medlánky",{"$f":"VLOOKUP(C920,Region,2,0)","v":"CZ/M"},"M",{"$f":"IF(A920=\"(prázdné)\",\"\",IF(($G$1-B920)>25,\"\",\"Junior v roce \"&$G$1))","v":"Junior v roce 2026"}]
["Stepan Matous",1980,"Dvůr Králové","CZ/C2","M",""]
["Stepan Obrovsky",1990,"Frýdlant",{"$f":"VLOOKUP(C922,Region,2,0)","v":"CZ/M"},"M",""]
["Teodor Skoda",1998,"Hronov",{"$f":"VLOOKUP(C923,Region,2,0)","v":"CZ/C2"},"M",""]
["Tereza Jirsakova",1997,"Hronov","CZ/C2","F",""]
["Tereza Koubkova",1999,"Strakonice","CZ/C1","F",""]
["Tereza Krcilova Spalenkova",1981,"Raná",{"$f":"VLOOKUP(C926,Region,2,0)","v":"CZ/C2"},"F",""]
["Tereza Ludvikova",1997,"Jaroměř",{"$f":"VLOOKUP(C927,Region,2,0)","v":"CZ/C2"},"F",{"$f":"IF(A927=\"(prázdné)\",\"\",IF(($G$1-B927)>25,\"\",\"Junior v roce \"&$G$1))","v":""}]
["Tereza Novakova",1993,"Chrudim",{"$f":"VLOOKUP(C928,Region,2,0)","v":"CZ/C2"},"F",""]
["Tibor Hezina",2002,"Křižanov",{"$f":"VLOOKUP(C929,Region,2,0)","v":"CZ/M"},"M","Junior v roce 2026"]
["Tibor Hruza",1970,"Letkov","CZ/C1","M",""]
["Tim Raasch",2000,"Polička",{"$f":"VLOOKUP(C931,Region,2,0)","v":"CZ/C2"},"M",""]
["Tomas Barton",1982,"Hosín","CZ/C1","M",""]
["Tomas Buben",1971,"Jaroměř","CZ/C2","M",""]
["Tomas Ditrt",1969,"Podhořany","CZ/C2","M",""]
["Tomas Fiala 72",1972,"Křižanov","CZ/M","M",""]
["Tomas Fiala 77",1977,"Luhačovice","CZ/M","M",""]
["Tomas Fila",1987,"Beroun","CZ/C1","M",""]
["Tomas Flegl",1987,"Hodkovice",{"$f":"VLOOKUP(C938,Region,2,0)","v":"CZ/C2"},"M",""]
["Tomas Frinta",1970,"Hodkovice","CZ/C2","M",""]
["Tomas Hlavacek",1984,"Mladá Boleslav",{"$f":"VLOOKUP(C940,Region,2,0)","v":"CZ/C1"},"M",""]
["Tomas Hlavenka",1987,"Luhačovice","CZ/M","M",""]
["Tomas Holenda",1956,"Havlíčkův Brod",{"$f":"VLOOKUP(C942,Region,2,0)","v":"CZ/C2"},"M",{"$f":"IF(A942=\"(prázdné)\",\"\",IF(($G$1-B942)>25,\"\",\"Junior v roce \"&$G$1))","v":""}]
["Tomas Holzapfel",1975,"Mladá Boleslav","CZ/C1","M",""]
["Tomas Hulmak",1999,"Hosín","CZ/C1","M",""]
["Tomas Hynek",2002,"Dvůr Králové",{"$f":"VLOOKUP(C945,Region,2,0)","v":"CZ/C2"},"M","Junior v roce 2026"]
["Tomas Charvat",1981,"Vysoké Mýto","CZ/C2","M",""]
["Tomas Jakoubek",2000,"Hronov",{"$f":"VLOOKUP(C947,Region,2,0)","v":"CZ/C2"},"M",""]
["Tomas Jedlicka",1959,"Karlštejn","CZ/C1","M",""]
["Tomas Jilek",1995,"Raná","CZ/C2","M",""]
["Tomas Jiricny",1981,"Hodkovice","CZ/C2","M",""]
["Tomas Jung",1950,"Zbraslavice","CZ/C1","M",""]
["Tomas Knoz",2006,"Kunovice",{"$f":"VLOOKUP(C952,Region,2,0)","v":"CZ/M"},"M","Junior v roce 2026"]
["Tomas Kohout",1981,"Slaný","CZ/C1","M",""]
["Tomas Koutnik",1985,"Jaroměř","CZ/C2","M",""]
["Tomas Kovarik",1965,"Zbraslavice","CZ/C1","M",""]
["Tomas Kubac",1993,"Roudnice","CZ/C2","M",""]
["Tomas Kulhavy",2001,"Liberec",{"$f":"VLOOKUP(C957,Region,2,0)","v":"CZ/C2"},"M","Junior v roce 2026"]
["Tomas Lisec",1984,"Točná","CZ/C1","M",""]
["Tomas Magnusek",1988,"Frýdlant","CZ/M","M",""]
["Tomas Malik",1972,"Letňany","CZ/C1","M",""]
["Tomas Malinsky",1988,"Křižanov","CZ/M","M",""]
["Tomas Manasek",1980,"Kunovice","CZ/M","M",""]
["Tomas Meier",1972,"Náchod",{"$f":"VLOOKUP(C963,Region,2,0)","v":"CZ/C2"},"M",{"$f":"IF(A963=\"(prázdné)\",\"\",IF(($G$1-B963)>25,\"\",\"Junior v roce \"&$G$1))","v":""}]
["Tomas Mezera",1973,"Raná","CZ/C2","M",""]
["Tomas Michna",1989,"Šumperk","CZ/M","M",""]
["Tomas Moravec",2000,"Žamberk","CZ/C2","M",""]
["Tomas Morch",1981,"Raná","CZ/C2","M",""]
["Tomas Novak",1974,"Česká Lípa",{"$f":"VLOOKUP(C968,Region,2,0)","v":"CZ/C2"},"M",""]
["Tomas Ohera",1977,"Letňany","CZ/C1","M",""]
["Tomas Ondrusek",1994,"Letkov","CZ/C1","M",""]
["Tomas Ondrisek",1970,"Kunovice","CZ/M","M",""]
["Tomas Palata",1966,"Liberec","CZ/C2","M",""]
["Tomas Podolak",1986,"Kralupy","CZ/C1","M",""]
["Tomas Profeld",1964,"Jičín","CZ/C2","M",""]
["Tomas Prokop",1972,"Šumperk","CZ/M","M",""]
["Tomas Prikryl",1973,"Vyškov","CZ/M","M",""]
["Tomas Ptacovsky",1981,"Letňany","CZ/C1","M",""]
["Tomas Rendla",1973,"Zbraslavice","CZ/C1","M",""]
["Tomas Rysavy",1959,"Medlánky","CZ/M","M",""]
["Tomas Sedlacek",1972,"Zbraslavice","CZ/C1","M",""]
["Tomas Seifert",1972,"Raná","CZ/C2","M",""]
["Tomas Shrbeny",1968,"Točná","CZ/C1","M",""]
["Tomas Suchanek",1964,"GAC Benešov","CZ/C1","M",""]
["Tomas Talanda",1988,"Křižanov","CZ/M","M",""]
["Tomas Turek",1988,"Zbraslavice",{"$f":"VLOOKUP(C985,Region,2,0)","v":"CZ/C1"},"M",""]
["Tomas Vaclavik",1974,"Hosín",{"$f":"VLOOKUP(C986,Region,2,0)","v":"CZ/C1"},"M",""]
["Tomas Vrbsky",1964,"Letkov","CZ/C1","M",""]
["Tomas Wodeckij",1987,"Letkov",{"$f":"VLOOKUP(C988,Region,2,0)","v":"CZ/C1"},"M",{"$f":"IF(A988=\"(prázdné)\",\"\",IF(($G$1-B988)>25,\"\",\"Junior v roce \"&$G$1))","v":""}]
["Tomas Zamecnik",1988,"Zbraslavice","CZ/C1","M",""]
["Ulf Kern",1958,"Raná","CZ/C2","M",""]
["Vaclav Cerny",1949,"Slaný","CZ/C1","M",""]
["Vaclav Halek",1966,"Toužim",{"$f":"VLOOKUP(C992,Region,2,0)","v":"CZ/C1"},"M",""]
["Vaclav Hrdina",1984,"Letkov",{"$f":"VLOOKUP(C993,Region,2,0)","v":"CZ/C1"},"M",""]
["Vaclav Hruza",1965,"Břeclav","CZ/M","M",""]
["Vaclav Koudelka",1997,"Jičín","CZ/C2","M",""]
["Vaclav Krejcar",1943,"Hořice","CZ/C2","M",""]
["Vaclav Kult",1973,"Broumov","CZ/C2","M",""]
["Vaclav Kunasek",1987,"Zbraslavice","CZ/C1","M",""]
["Vaclav Kysilka",1979,"GAC Benešov",{"$f":"VLOOKUP(C999,Region,2,0)","v":"CZ/C1"},"M",""]
["Vaclav Marel",1974,"Jaroměř","CZ/C2","M",""]
["Vaclav Ochotny",1966,"Kunovice",{"$f":"VLOOKUP(C1001,Region,2,0)","v":"CZ/M"},"M",""]
["Vaclav Petru",1974,"Letňany","CZ/C1","M",""]
["Vaclav Sehnal",1962,"Kolín","CZ/C1","M",""]
["Vaclav Svoboda",1970,"Letkov","CZ/C1","M",""]
["Vaclav Trnka",1939,"Ústí nad Orlicí","CZ/C2","M",""]
["Vaclav Zeman",1984,"Zbraslavice","CZ/C1","M",""]
["Vaclav Zak",1962,"GAC Benešov","CZ/C1","M",""]
["Vera Vavrinova",1949,"Vysoké Mýto","CZ/C2","F",""]
["Veronika Ambrozova",1984,"Křižanov","CZ/M","F",""]
["Veronika Jezkova",1986,"Mladá Boleslav","CZ/C1","F",{"$f":"IF(A1010=\"(prázdné)\",\"\",IF(($G$1-B1010)>25,\"\",\"Junior v roce \"&$G$1))","v":""}]
["Veronika Mullerova",1983,"Letňany","CZ/C1","F",""]
["Viktor Tvrdik",1977,"Rakovník",{"$f":"VLOOKUP(C1012,Region,2,0)","v":"CZ/C1"},"M",{"$f":"IF(A1012=\"(prázdné)\",\"\",IF(($G$1-B1012)>25,\"\",\"Junior v roce \"&$G$1))","v":""}]
["Viktor Zimcik",1976,"Kunovice",{"$f":"VLOOKUP(C1013,Region,2,0)","v":"CZ/M"},"M",""]
["Viktorie Kusa",2004,"Letňany","CZ/C1","F","Junior v roce 2026"]
["Vilem Riha",1990,"Letňany","CZ/C1","M",""]
["Vit Grossmann",1977,"Hranice",{"$f":"VLOOKUP(C1016,Region,2,0)","v":"CZ/M"},"M",""]
["Vit Hrdlicka",1960,"Medlánky","CZ/M","M",""]
["Vit Morkovsky",2000,"Polička","CZ/C2","M",""]
["Vit Novak",1985,"Olomouc","CZ/M","M",""]
["Vit Pavelka",2004,"Moravská Třebová",{"$f":"VLOOKUP(C1020,Region,2,0)","v":"CZ/M"},"M",{"$f":"IF(A1020=\"(prázdné)\",\"\",IF(($G$1-B1020)>25,\"\",\"Junior v roce \"&$G$1))","v":"Junior v roce 2026"}]
["Vit Prokop",1987,"Medlánky",{"$f":"VLOOKUP(C1021,Region,2,0)","v":"CZ/M"},"M",""]
["Vit Rydl",1969,"Turnov","CZ/C2","M",""]
["Vit Tvrdik",2000,"Letňany","CZ/C1","M",""]
["Vit Udatny",1997,"Broumov",{"$f":"VLOOKUP(C1024,Region,2,0)","v":"CZ/C2"},"M",{"$f":"IF(A1024=\"(prázdné)\",\"\",IF(($G$1-B1024)>25,\"\",\"Junior v roce \"&$G$1))","v":""}]
["Vladimir Abraham",1962,"Raná","CZ/C2","M",""]
["Vladimir Baran",1949,"Frýdlant","CZ/M","M",""]
["Vladimir Dostal",1943,"Hronov","CZ/C2","M",""]
["Vladimir Fousek",1964,"Raná","CZ/C2","M",""]
["Vladimir Fux",1963,"Křižanov","CZ/M","M",""]
["Vladimir Hammer",2000,"Letkov",{"$f":"VLOOKUP(C1030,Region,2,0)","v":"CZ/C1"},"M",""]
["Vladimir Hampl",1970,"Dvůr Králové","CZ/C2","M",""]
["Vladimir Jirka",1965,"Zábřeh","CZ/M","M",""]
["Vladimir Kamensky",1983,"Břeclav","CZ/M","M",""]
["Vladimir Kramosil",1937,"Most","CZ/C2","M",""]
["Vladimir Maca",1982,"Jihlava","CZ/M","M",""]
["Vladimir Nemec",1976,"Jeseník","CZ/M","M",""]
["Vladimir Prihoda",1953,"Kralupy","CZ/C1","M",""]
["Vladimir Spilka",1940,"Hranice","CZ/M","M",""]
["Vladislav Cadsky",1975,"Kolín",{"$f":"VLOOKUP(C1039,Region,2,0)","v":"CZ/C1"},"M",{"$f":"IF(A1039=\"(prázdné)\",\"\",IF(($G$1-B1039)>25,\"\",\"Junior v roce \"&$G$1))","v":""}]
["Vladislav Panek",1965,"Letňany",{"$f":"VLOOKUP(C1040,Region,2,0)","v":"CZ/C1"},"M",{"$f":"IF(A1040=\"(prázdné)\",\"\",IF(($G$1-B1040)>25,\"\",\"Junior v roce \"&$G$1))","v":""}]
["Vlastislav Picka",1948,"Jindřichův Hradec","CZ/C1","M",""]
["Vojtech Bartos",1970,"Medlánky","CZ/M","M",""]
["Vojtech Bystricky",2004,"Strakonice",{"$f":"VLOOKUP(C1043,Region,2,0)","v":"CZ/C1"},"M",{"$f":"IF(A1043=\"(prázdné)\",\"\",IF(($G$1-B1043)>25,\"\",\"Junior v roce \"&$G$1))","v":"Junior v roce 2026"}]
["Vojtech Flidr",2003,"Dvůr Králové",{"$f":"VLOOKUP(C1044,Region,2,0)","v":"CZ/C2"},"M","Junior v roce 2026"]
["Vojtech Hajek",1987,"Mladá Boleslav","CZ/C1","M",""]
["Vojtech Karlik",1982,"Kunovice","CZ/M","M",""]
["Vojtech Kostejn",1974,"Česká Lípa","CZ/C2","M",""]
["Vojtech Labuda",1980,"Příbram","CZ/C1","M",""]
["Vojtech Novotny",1992,"Kralupy","CZ/C1","M",""]
["Vojtech Pavek",2000,"Medlánky",{"$f":"VLOOKUP(C1050,Region,2,0)","v":"CZ/M"},"M",{"$f":"IF(A1050=\"(prázdné)\",\"\",IF(($G$1-B1050)>25,\"\",\"Junior v roce \"&$G$1))","v":""}]
["Vojtech Petrovicky",1986,"Mladá Boleslav","CZ/C1","M",""]
["Vojtech Pivonka",1976,"Vrchlabí","CZ/C2","M",""]
["Vojtech Sehnal",1994,"Kolín","CZ/C1","M",""]
["Vojtech Stavny",1962,"Letkov","CZ/C1","M",""]
["Vojtech Svoboda",1994,"Zbraslavice",{"$f":"VLOOKUP(C1055,Region,2,0)","v":"CZ/C1"},"M",""]
["Vojtech Vach 76",1976,"Nové Město nad Metují","CZ/C2","M",""]
["Vojtech Vach 03",2003,"Vrchlabí",{"$f":"VLOOKUP(C1057,Region,2,0)","v":"CZ/C2"},"M",{"$f":"IF(A1057=\"(prázdné)\",\"\",IF(($G$1-B1057)>25,\"\",\"Junior v roce \"&$G$1))","v":"Junior v roce 2026"}]
["Vratislav Orlita",1946,"Kunovice","CZ/M","M",""]
["Vratislav Sram",1966,"Broumov","CZ/C2","M",""]
["Wolfgang Sluka",1942,"Liberec","CZ/C2","M",""]
["Yvona Vyhnankova",1963,"Olomouc","CZ/M","F",""]
["Zbynek Bican",1961,"Raná","CZ/C2","M",""]
["Zbynek Fuksa",1956,"Jičín",{"$f":"VLOOKUP(C1063,Region,2,0)","v":"CZ/C2"},"M",""]
["Zbynek Zdrahal",1965,"Medlánky","CZ/M","M",""]
["Zbynek Koudelka",1991,"Křižanov","CZ/M","M",""]
["Zbynek Kuchta",1976,"Klatovy",{"$f":"VLOOKUP(C1066,Region,2,0)","v":"CZ/C1"},"M",""]
["Zdenek Balcarek",1967,"Kroměříž","CZ/M","M",""]
["Zdenek Bohm",1963,"Kolín","CZ/C1","M",""]
["Zdenek Boruvka 54",1954,"Jičín","CZ/C2","M",""]
["Zdenek Boruvka 86",1986,"Jičín","CZ/C2","M",""]
["Zdenek Buben",1978,"Hodkovice","CZ/C2","M",""]
["Zdenek Kropac",1981,"Kladno","CZ/C1","M",""]
["Zdenek Krivanek",1967,"Kolín","CZ/C1","M",""]
["Zdenek Mach",1976,"Broumov","CZ/C2","M",""]
["Zdenek Parizek",1984,"Raná","CZ/C2","M",""]
["Zdenek Schenk",1972,"Hranice","CZ/M","M",""]
["Zdenek Setek",1980,"Kolín","CZ/C1","M",""]
["Zdenek Spacek",1980,"Přibyslav","CZ/C2","M",""]
["Zdenek Votava",2007,"Letkov",{"$f":"VLOOKUP(C1079,Region,2,0)","v":"CZ/C1"},"M","Junior v roce 2026"]
["Zdenek Zabloudil",1962,"Medlánky","CZ/M","M",""]
["Zdenek Zerzan",1968,"Šumperk",{"$f":"VLOOKUP(C1081,Region,2,0)","v":"CZ/M"},"M",""]
["Zuzana Kutilkova",1993,"Křižanov",{"$f":"VLOOKUP(C1082,Region,2,0)","v":"CZ/M"},"F",""]
["Zuzana Markesova",2001,"Medlánky",{"$f":"VLOOKUP(C1083,Region,2,0)","v":"CZ/M"},"F","Junior v roce 2026"]
["Zuzana Novakova",2001,"Hranice",{"$f":"VLOOKUP(C1084,Region,2,0)","v":"CZ/M"},"F","Junior v roce 2026"]
["Zitomir Krepinsky",1987,"Chrudim",{"$f":"VLOOKUP(C1085,Region,2,0)","v":"CZ/C2"},"M",{"$f":"IF(A1085=\"(prázdné)\",\"\",IF(($G$1-B1085)>25,\"\",\"Junior v roce \"&$G$1))","v":""}]

{"sheet":"Region","index":4,"n_rows":116,"n_cols":4,"rows_kept":116,"cut":false,"hidden":true,"merged":[]}
["Aeroklub","Region","Počet",{"$f":"C70+C37+C2","v":89}]
["Benešov","CZ/C1",{"$f":"COUNTIF(B2:B35,B2)","v":34}]
["Beroun","CZ/C1"]
["Bystřice u Benešova","CZ/C1"]
["Erpužice","CZ/C1"]
["GAC Benešov","CZ/C1"]
["Hořovice","CZ/C1"]
["Hosín","CZ/C1"]
["Jindřichův Hradec","CZ/C1"]
["Karlovy Vary","CZ/C1"]
["Karlštejn","CZ/C1"]
["Kladno","CZ/C1"]
["Klatovy","CZ/C1"]
["Kolín","CZ/C1"]
["Kralupy","CZ/C1"]
["Letkov","CZ/C1"]
["Letňany","CZ/C1"]
["Mladá Boleslav","CZ/C1"]
["Nesvačily","CZ/C1"]
["Panenský Týnec","CZ/C1"]
["Plasy","CZ/C1"]
["Plzeň Bory","CZ/C1"]
["Prachatice","CZ/C1"]
["Příbram","CZ/C1"]
["Rakovník","CZ/C1"]
["Slaný","CZ/C1"]
["Soběslav","CZ/C1"]
["Staňkov","CZ/C1"]
["Strakonice","CZ/C1"]
["Tábor","CZ/C1"]
["Tachov","CZ/C1"]
["Točná","CZ/C1"]
["Toužim","CZ/C1"]
["Vlašim","CZ/C1"]
["Zbraslavice","CZ/C1"]
["-","-"]
["Broumov","CZ/C2",{"$f":"COUNTIF(B37:B68,B37)","v":32}]
["Česká Lípa","CZ/C2"]
["Dvůr Králové","CZ/C2"]
["Havlíčkův Brod","CZ/C2"]
["Hodkovice","CZ/C2"]
["Hořice","CZ/C2"]
["Hradčany","CZ/C2"]
["Hronov","CZ/C2"]
["Chomutov","CZ/C2"]
["Chotěboř","CZ/C2"]
["Chrudim","CZ/C2"]
["Jaroměř","CZ/C2"]
["Jičín","CZ/C2"]
["Letecká společnost na Vysočině","CZ/C2"]
["Liberec","CZ/C2"]
["Mnichovo Hradiště","CZ/C2"]
["Most","CZ/C2"]
["Náchod","CZ/C2"]
["Nové Město nad Metují","CZ/C2"]
["Pardubice","CZ/C2"]
["Podhořany","CZ/C2"]
["Polička","CZ/C2"]
["Přibyslav","CZ/C2"]
["Raná","CZ/C2"]
["Roudnice","CZ/C2"]
["Skuteč","CZ/C2"]
["Turnov","CZ/C2"]
["Ústí nad Labem","CZ/C2"]
["Ústí nad Orlicí","CZ/C2"]
["Vrchlabí","CZ/C2"]
["Vysoké Mýto","CZ/C2"]
["Žamberk","CZ/C2"]
["-","-"]
["Bohuňovice","CZ/M",{"$f":"COUNTIF(B70:B92,B70)","v":23}]
["Břeclav","CZ/M"]
["LK Břeclav","CZ/M"]
["Frýdlant","CZ/M"]
["Hranice","CZ/M"]
["Jeseník","CZ/M"]
["Jihlava","CZ/M"]
["Krnov","CZ/M"]
["Kroměříž","CZ/M"]
["Křižanov","CZ/M"]
["Kunovice","CZ/M"]
["Kyjov","CZ/M"]
["Luhačovice","CZ/M"]
["Medlánky","CZ/M"]
["Moravská Třebová","CZ/M"]
["Olomouc","CZ/M"]
["Prostějov","CZ/M"]
["Slatina","CZ/M"]
["Slavičín","CZ/M"]
["Stichovice","CZ/M"]
["Šumperk","CZ/M"]
["Vyškov","CZ/M"]
["Zábřeh","CZ/M"]
[]
["Aalborg","DK"]
["Air Sympatia","SK"]
["Akaflieg Dresden","DE"]
["Bad Nauheim","DE"]
["Bratislava","SK"]
["Dánsko","DK"]
["Greiz","DE"]
["Japonsko","JP"]
["Jelenia Góra","PL"]
["Martin","SK"]
["Německo","DE"]
["Nitra","SK"]
["Novo Mesto","SI"]
["Poprad","SK"]
["Prešov","SK"]
["Prievidza","SK"]
["Rakousko","AT"]
["Ružomberok","SK"]
["SGC Martin","SK"]
["Slovinsko","SI"]
["Trenčín","SK"]
["Trnava","SK"]
["Žilina","SK"]

{"sheet":"Temp","index":5,"n_rows":2,"n_cols":19,"rows_kept":2,"cut":false,"hidden":false,"merged":[]}
["Jmeno","Rok narození","M/F","Aeroklub","Region","Soutěž","Stát","Rok","Pořadí ve třídě","Body ve třídě","Kinp","Bi","Bi×Kinp","G","W","Typ","CN","Junior","Poznámka"]
[null,{"$f":"MID(A2,2,100)","v":""}]

{"sheet":"Data","index":6,"n_rows":2796,"n_cols":19,"rows_kept":2796,"cut":false,"hidden":false,"merged":[]}
[null,null,null,null,null,null,null,null,null,null,null,null,"Počet X filtr:",{"$f":"SUBTOTAL(103,N7:N7900)","v":959},{"$f":"SUBTOTAL(103,O7:O7900)","v":65}]
["*",null,null,null,null,null,null,null,null,null,null,null,"Počet X:",{"$f":"COUNTIFS(N$7:N$7900,\"x\",$A$7:$A$7900,$A$2)","v":959},{"$f":"COUNTIFS(O$7:O$7900,\"x\",$A$7:$A$7900,$A$2)","v":65}]
[null,null,null,null,null,null,null,2024,null,null,null,null,null,{"$f":"COUNTIFS(H7:H8599,$H3,N7:N8599,\"x\",A7:A8599,$A$2)","v":344},{"$f":"COUNTIFS(H7:H8599,$H3,O7:O8599,\"x\",A7:A8599,$A$2)","v":21}]
[null,null,null,null,null,null,null,2023,null,null,null,null,null,{"$f":"COUNTIFS(H7:H8599,$H4,N7:N8599,\"x\",A7:A8599,$A$2)","v":257},{"$f":"COUNTIFS(H7:H8599,$H4,O7:O8599,\"x\",A7:A8599,$A$2)","v":15}]
[null,null,null,null,null,null,null,2022,null,null,null,null,null,{"$f":"COUNTIFS(H7:H8599,$H5,N7:N8599,\"x\",A7:A8599,$A$2)","v":0},{"$f":"COUNTIFS(H7:H8599,$H5,O7:O8599,\"x\",A7:A8599,$A$2)","v":0}]
["Jméno","Rok narození","M/F","Aeroklub","Region","Soutěž","Stát","Rok","Pořadí ve třídě","Body ve třídě","Kinp","Bi","Bi×Kinp","G","W","Typ","CN","Junior","Poznámka"]
["Jaroslav Tomana",{"$f":"VLOOKUP(A7,Pilot,2,0)","v":1975},{"$f":"VLOOKUP(A7,Pilot,5,0)","v":"M"},{"$f":"VLOOKUP(A7,Pilot,3,0)","v":"Zbraslavice"},{"$f":"VLOOKUP(A7,Pilot,4,0)","v":"CZ/C1"},"AZ Cup 2023 - Klub",{"$f":"VLOOKUP(F7,Soutez!A:B,2,FALSE)","v":"CZ"},{"$f":"VLOOKUP(F7,Soutez!A:C,3,FALSE)","v":2023},1,8564,{"$f":"VLOOKUP(F7,Soutez,12,0)","v":0.95500000000000007},{"$f":"ROUND(J7/MAX($J$7:$J$33)*10000*0.7+(MAX($I$7:$I$33)-I7)/(MAX($I$7:$I$33)-1)*10000*0.3,0)","v":10000},{"$f":"ROUND(K7*L7,0)","v":9550},null,null,"Pegase-101 BC","RT",{"$f":"IF(ISERROR(VLOOKUP(A7,Pilot,6,0)),\"Není v databázi\",VLOOKUP(A7,Pilot,6,0))","v":""}]
["Pavel Trybenekr",1990,"M","Hořice","CZ/C2","AZ Cup 2023 - Klub",{"$f":"VLOOKUP(F8,Soutez!A:B,2,FALSE)","v":"CZ"},{"$f":"VLOOKUP(F8,Soutez!A:C,3,FALSE)","v":2023},2,8430,0.95500000000000007,9775,{"$f":"ROUND(K8*L8,0)","v":9335},"x",null,"LS-4","PF",""]
["Ivan Harasta 65",1965,"M","Toužim","CZ/C1","AZ Cup 2023 - Klub",{"$f":"VLOOKUP(F9,Soutez!A:B,2,FALSE)","v":"CZ"},{"$f":"VLOOKUP(F9,Soutez!A:C,3,FALSE)","v":2023},3,8364,0.95500000000000007,9606,9174,"x",null,"LS-4B","IX",""]
["Lukas Kriz",2003,"M","Křižanov","CZ/M","AZ Cup 2023 - Klub",{"$f":"VLOOKUP(F10,Soutez!A:B,2,FALSE)","v":"CZ"},{"$f":"VLOOKUP(F10,Soutez!A:C,3,FALSE)","v":2023},4,8061,0.95500000000000007,9243,8827,null,null,"LS-4B","6L","Junior v roce 2026"]
["Mark Travner",null,null,"Aeroklub Celje",null,"AZ Cup 2023 - Klub",{"$f":"VLOOKUP(F11,Soutez!A:B,2,FALSE)","v":"CZ"},{"$f":"VLOOKUP(F11,Soutez!A:C,3,FALSE)","v":2023},5,7999,0.95500000000000007,9077,8669,null,null,"SZD-55","NX","Není v databázi"]
["David Darnady",null,"M","SGC Martin","SK","AZ Cup 2023 - Klub",{"$f":"VLOOKUP(F12,Soutez!A:B,2,FALSE)","v":"CZ"},{"$f":"VLOOKUP(F12,Soutez!A:C,3,FALSE)","v":2023},6,7968,0.95500000000000007,8936,8534,null,null,"ASW-20",311,"Není v databázi"]
["Martin Urban",{"$f":"VLOOKUP(A13,Pilot,2,0)","v":1971},{"$f":"VLOOKUP(A13,Pilot,5,0)","v":"M"},{"$f":"VLOOKUP(A13,Pilot,3,0)","v":"Frýdlant"},{"$f":"VLOOKUP(A13,Pilot,4,0)","v":"CZ/M"},"AZ Cup 2023 - Klub",{"$f":"VLOOKUP(F13,Soutez!A:B,2,FALSE)","v":"CZ"},{"$f":"VLOOKUP(F13,Soutez!A:C,3,FALSE)","v":2023},7,7764,0.95500000000000007,8654,8265,"x",null,"LS-3A","SJ",""]
["Michal Lesinger",1966,"M","Moravská Třebová","CZ/M","AZ Cup 2023 - Klub",{"$f":"VLOOKUP(F14,Soutez!A:B,2,FALSE)","v":"CZ"},{"$f":"VLOOKUP(F14,Soutez!A:C,3,FALSE)","v":2023},8,7615,0.95500000000000007,8417,8038,null,null,"ASW-20A","LL",""]
["Jan Stastny",2003,"M","Medlánky","CZ/M","AZ Cup 2023 - Klub",{"$f":"VLOOKUP(F15,Soutez!A:B,2,FALSE)","v":"CZ"},{"$f":"VLOOKUP(F15,Soutez!A:C,3,FALSE)","v":2023},9,7586,0.95500000000000007,8278,7905,null,null,"ASW-20A","CX","Junior v roce 2026"]
["Tomas Hynek",2002,"M","Dvůr Králové","CZ/C2","AZ Cup 2023 - Klub",{"$f":"VLOOKUP(F16,Soutez!A:B,2,FALSE)","v":"CZ"},{"$f":"VLOOKUP(F16,Soutez!A:C,3,FALSE)","v":2023},10,7489,0.95500000000000007,8083,7719,null,null,"ASW-20C","VW","Junior v roce 2026"]
["David Sachl",1978,"M","Kralupy","CZ/C1","AZ Cup 2023 - Klub",{"$f":"VLOOKUP(F17,Soutez!A:B,2,FALSE)","v":"CZ"},{"$f":"VLOOKUP(F17,Soutez!A:C,3,FALSE)","v":2023},11,6944,0.95500000000000007,7522,7184,"x",null,"DG-300 Elan","BK",""]
["Jan Smekal",1976,"M","Zbraslavice","CZ/C1","AZ Cup 2023 - Klub",{"$f":"VLOOKUP(F18,Soutez!A:B,2,FALSE)","v":"CZ"},{"$f":"VLOOKUP(F18,Soutez!A:C,3,FALSE)","v":2023},12,6703,0.95500000000000007,7210,6886,"x",null,"AWS-20","NW",""]
["Petr Havelka",1997,"M","Zbraslavice","CZ/C1","AZ Cup 2023 - Klub",{"$f":"VLOOKUP(F19,Soutez!A:B,2,FALSE)","v":"CZ"},{"$f":"VLOOKUP(F19,Soutez!A:C,3,FALSE)","v":2023},13,6583,0.95500000000000007,6996,6681,"x",null,"ASW-19B","PH",""]
["Viktor Becan",null,null,"ALC Lesce","SLO","AZ Cup 2023 - Klub",{"$f":"VLOOKUP(F20,Soutez!A:B,2,FALSE)","v":"CZ"},{"$f":"VLOOKUP(F20,Soutez!A:C,3,FALSE)","v":2023},14,6233,0.95500000000000007,6595,6298,null,null,"ASW-20 L WL","CP","Není v databázi"]
["Lukas Hynek",{"$f":"VLOOKUP(A21,Pilot,2,0)","v":1979},{"$f":"VLOOKUP(A21,Pilot,5,0)","v":"M"},{"$f":"VLOOKUP(A21,Pilot,3,0)","v":"Dvůr Králové"},{"$f":"VLOOKUP(A21,Pilot,4,0)","v":"CZ/C2"},"AZ Cup 2023 - Klub",{"$f":"VLOOKUP(F21,Soutez!A:B,2,FALSE)","v":"CZ"},{"$f":"VLOOKUP(F21,Soutez!A:C,3,FALSE)","v":2023},15,6125,0.95500000000000007,6391,6103,null,null,"DG-200","HL",""]
["Frantisek Komarek",1985,"M","Zbraslavice","CZ/C1","AZ Cup 2023 - Klub",{"$f":"VLOOKUP(F22,Soutez!A:B,2,FALSE)","v":"CZ"},{"$f":"VLOOKUP(F22,Soutez!A:C,3,FALSE)","v":2023},16,5966,0.95500000000000007,6146,{"$f":"ROUND(K22*L22,0)","v":5869},"x",null,"ASW-19B","PM",""]
["Martin Kriz",1968,"M","Přibyslav","CZ/C2","AZ Cup 2023 - Klub",{"$f":"VLOOKUP(F23,Soutez!A:B,2,FALSE)","v":"CZ"},{"$f":"VLOOKUP(F23,Soutez!A:C,3,FALSE)","v":2023},17,5839,0.95500000000000007,5926,5659,null,null,"ASW-20",67,""]
["David Vrchota",1976,"M","Jaroměř","CZ/C2","AZ Cup 2023 - Klub",{"$f":"VLOOKUP(F24,Soutez!A:B,2,FALSE)","v":"CZ"},{"$f":"VLOOKUP(F24,Soutez!A:C,3,FALSE)","v":2023},18,5791,0.95500000000000007,5772,5512,null,null,"Std.Cirrus 16m","CO",""]
["Vaclav Sehnal",1962,"M","Kolín","CZ/C1","AZ Cup 2023 - Klub",{"$f":"VLOOKUP(F25,Soutez!A:B,2,FALSE)","v":"CZ"},{"$f":"VLOOKUP(F25,Soutez!A:C,3,FALSE)","v":2023},19,5493,0.95500000000000007,5413,5169,"x",null,"JANTAR STD2","VS",""]
["Petr Vodicka",1965,"M","Jaroměř","CZ/C2","AZ Cup 2023 - Klub",{"$f":"VLOOKUP(F26,Soutez!A:B,2,FALSE)","v":"CZ"},{"$f":"VLOOKUP(F26,Soutez!A:C,3,FALSE)","v":2023},20,5043,0.95500000000000007,4930,4708,"x",null,"JANUS B","BV",""]
["Tomas Zamecnik",1988,"M","Zbraslavice","CZ/C1","AZ Cup 2023 - Klub",{"$f":"VLOOKUP(F27,Soutez!A:B,2,FALSE)","v":"CZ"},{"$f":"VLOOKUP(F27,Soutez!A:C,3,FALSE)","v":2023},21,4797,0.95500000000000007,4613,4405,"x",null,"ASW-19B","O2",""]
["Ales Holoubek",1966,"M","Jičín","CZ/C2","AZ Cup 2023 - Klub",{"$f":"VLOOKUP(F28,Soutez!A:B,2,FALSE)","v":"CZ"},{"$f":"VLOOKUP(F28,Soutez!A:C,3,FALSE)","v":2023},22,4506,0.95500000000000007,4260,4068,"x",null,"ASW-15B","T",""]
["Jan Kristof",1962,"M","Frýdlant","CZ/M","AZ Cup 2023 - Klub",{"$f":"VLOOKUP(F29,Soutez!A:B,2,FALSE)","v":"CZ"},{"$f":"VLOOKUP(F29,Soutez!A:C,3,FALSE)","v":2023},23,3381,0.95500000000000007,3225,3080,"x",null,"LS-3","TX",""]
["Petr Brezina",1963,"M","Frýdlant","CZ/M","AZ Cup 2023 - Klub",{"$f":"VLOOKUP(F30,Soutez!A:B,2,FALSE)","v":"CZ"},{"$f":"VLOOKUP(F30,Soutez!A:C,3,FALSE)","v":2023},24,3327,0.95500000000000007,3066,2928,"x",null,"DG-200","AK",""]
["David Popovsky",1976,"M","Rakovník","CZ/C1","AZ Cup 2023 - Klub",{"$f":"VLOOKUP(F31,Soutez!A:B,2,FALSE)","v":"CZ"},{"$f":"VLOOKUP(F31,Soutez!A:C,3,FALSE)","v":2023},25,2248,0.95500000000000007,2068,1975,"x",null,"ASW-24",76,""]
["Vladimir Hammer",2000,"M","Letkov","CZ/C1","AZ Cup 2023 - Klub",{"$f":"VLOOKUP(F32,Soutez!A:B,2,FALSE)","v":"CZ"},{"$f":"VLOOKUP(F32,Soutez!A:C,3,FALSE)","v":2023},26,1910,0.95500000000000007,1677,1602,null,null,"DISCUS B","SJI",""]
["Jiri Hodan",1959,"M","Zbraslavice","CZ/C1","AZ Cup 2023 - Klub",{"$f":"VLOOKUP(F33,Soutez!A:B,2,FALSE)","v":"CZ"},{"$f":"VLOOKUP(F33,Soutez!A:C,3,FALSE)","v":2023},27,1627,0.95500000000000007,1330,1270,"x",null,"ASTIR G103 III","RB",""]
["Radek Krejcirik",{"$f":"VLOOKUP(A34,Pilot,2,0)","v":1991},{"$f":"VLOOKUP(A34,Pilot,5,0)","v":"M"},{"$f":"VLOOKUP(A34,Pilot,3,0)","v":"Hranice"},{"$f":"VLOOKUP(A34,Pilot,4,0)","v":"CZ/M"},"AZ Cup 2023 - Kombi ",{"$f":"VLOOKUP(F34,Soutez!A:B,2,FALSE)","v":"CZ"},{"$f":"VLOOKUP(F34,Soutez!A:C,3,FALSE)","v":2023},1,8289,1,{"$f":"ROUND(J34/MAX($J$34:$J$65)*10000*0.7+(MAX($I$34:$I$65)-I34)/(MAX($I$34:$I$65)-1)*10000*0.3,0)","v":10000},{"$f":"ROUND(K34*L34,0)","v":10000},null,null,"AS-33 ES",12,""]
["Petr Krejcirik",1960,"M","Hranice","CZ/M","AZ Cup 2023 - Kombi ",{"$f":"VLOOKUP(F35,Soutez!A:B,2,FALSE)","v":"CZ"},{"$f":"VLOOKUP(F35,Soutez!A:C,3,FALSE)","v":2023},2,7812,1,9500,{"$f":"ROUND(K35*L35,0)","v":9500},"x",null,"JS3 18m","VB",""]
["Radek Kucirek",1973,"M","Havlíčkův Brod","CZ/C2","AZ Cup 2023 - Kombi ",{"$f":"VLOOKUP(F36,Soutez!A:B,2,FALSE)","v":"CZ"},{"$f":"VLOOKUP(F36,Soutez!A:C,3,FALSE)","v":2023},3,7722,1,9328,9328,null,null,"EB-28 Edition","NA",""]
["Petr Tichy",1973,"M","Zbraslavice","CZ/C1","AZ Cup 2023 - Kombi ",{"$f":"VLOOKUP(F37,Soutez!A:B,2,FALSE)","v":"CZ"},{"$f":"VLOOKUP(F37,Soutez!A:C,3,FALSE)","v":2023},4,7613,1,9139,9139,null,null,"JS1-C 21m","JX",""]
["Vladimir Foltin",null,null,"Nitra SK",null,"AZ Cup 2023 - Kombi ",{"$f":"VLOOKUP(F38,Soutez!A:B,2,FALSE)","v":"CZ"},{"$f":"VLOOKUP(F38,Soutez!A:C,3,FALSE)","v":2023},5,7551,1,8990,8990,null,null,"JS3 18m",3,"Není v databázi"]
["Ivan Novak",{"$f":"VLOOKUP(A39,Pilot,2,0)","v":1962},{"$f":"VLOOKUP(A39,Pilot,5,0)","v":"M"},{"$f":"VLOOKUP(A39,Pilot,3,0)","v":"Mladá Boleslav"},{"$f":"VLOOKUP(A39,Pilot,4,0)","v":"CZ/C1"},"AZ Cup 2023 - Kombi ",{"$f":"VLOOKUP(F39,Soutez!A:B,2,FALSE)","v":"CZ"},{"$f":"VLOOKUP(F39,Soutez!A:C,3,FALSE)","v":2023},6,7383,1,8751,8751,"x",null,"ASG-29E","QZ",""]
["Ondrej Dupal",1966,"M","GAC Benešov","CZ/C1","AZ Cup 2023 - Kombi ",{"$f":"VLOOKUP(F40,Soutez!A:B,2,FALSE)","v":"CZ"},{"$f":"VLOOKUP(F40,Soutez!A:C,3,FALSE)","v":2023},7,7369,1,8642,8642,null,null,"ASG-29E","GO",""]
["Danes Grula",1961,"M","Medlánky","CZ/M","AZ Cup 2023 - Kombi ",{"$f":"VLOOKUP(F41,Soutez!A:B,2,FALSE)","v":"CZ"},{"$f":"VLOOKUP(F41,Soutez!A:C,3,FALSE)","v":2023},8,7240,1,8437,8437,"x",null,"ASG-32 MI","DX",""]
["Jan Boruvka",1984,"M","Jičín","CZ/C2","AZ Cup 2023 - Kombi ",{"$f":"VLOOKUP(F42,Soutez!A:B,2,FALSE)","v":"CZ"},{"$f":"VLOOKUP(F42,Soutez!A:C,3,FALSE)","v":2023},9,7221,1,8324,8324,null,null,"VENTUS C 17.6m","EG",""]
["Jan Kantor",1983,"M","Letňany","CZ/C1","AZ Cup 2023 - Kombi ",{"$f":"VLOOKUP(F43,Soutez!A:B,2,FALSE)","v":"CZ"},{"$f":"VLOOKUP(F43,Soutez!A:C,3,FALSE)","v":2023},10,7032,1,8068,8068,null,null,"ASG-29E","QX",""]
["Alena Netusilova",1970,"F","Zbraslavice","CZ/C1","AZ Cup 2023 - Kombi ",{"$f":"VLOOKUP(F44,Soutez!A:B,2,FALSE)","v":"CZ"},{"$f":"VLOOKUP(F44,Soutez!A:C,3,FALSE)","v":2023},11,6631,1,7632,7632,"x",null,"JS3 18m","ZE",""]
["Karel Novak",1993,"M","Mladá Boleslav","CZ/C1","AZ Cup 2023 - Kombi ",{"$f":"VLOOKUP(F45,Soutez!A:B,2,FALSE)","v":"CZ"},{"$f":"VLOOKUP(F45,Soutez!A:C,3,FALSE)","v":2023},12,6481,1,7409,7409,null,null,"VENTUS 2A 15m","AX",""]
["Petr Starek",1974,"M","Zbraslavice","CZ/C1","AZ Cup 2023 - Kombi ",{"$f":"VLOOKUP(F46,Soutez!A:B,2,FALSE)","v":"CZ"},{"$f":"VLOOKUP(F46,Soutez!A:C,3,FALSE)","v":2023},13,6292,1,7152,7152,"x",null,"HPH 304 JS",66,""]
["Michal Posluzny",1968,"M","Medlánky","CZ/M","AZ Cup 2023 - Kombi ",{"$f":"VLOOKUP(F47,Soutez!A:B,2,FALSE)","v":"CZ"},{"$f":"VLOOKUP(F47,Soutez!A:C,3,FALSE)","v":2023},14,6275,1,7041,7041,"x",null,"JS3 18m","QX1",""]
["Jan Kotan",1982,"M","Letňany","CZ/C1","AZ Cup 2023 - Kombi ",{"$f":"VLOOKUP(F48,Soutez!A:B,2,FALSE)","v":"CZ"},{"$f":"VLOOKUP(F48,Soutez!A:C,3,FALSE)","v":2023},15,6231,1,6907,6907,null,null,"VENTUS 2BX 15m","YA",""]
["Hana Treslova",1991,"F","Raná","CZ/C2","AZ Cup 2023 - Kombi ",{"$f":"VLOOKUP(F49,Soutez!A:B,2,FALSE)","v":"CZ"},{"$f":"VLOOKUP(F49,Soutez!A:C,3,FALSE)","v":2023},16,6193,1,6778,6778,null,null,"JS3 18m","XM",""]
["Radek Zima 78",1978,"M","Hodkovice","CZ/C2","AZ Cup 2023 - Kombi ",{"$f":"VLOOKUP(F50,Soutez!A:B,2,FALSE)","v":"CZ"},{"$f":"VLOOKUP(F50,Soutez!A:C,3,FALSE)","v":2023},17,6150,1,6645,6645,"x",null,"ASG-29E","XZ",""]
["Jan Dersak 69",1969,"M","Kralupy","CZ/C1","AZ Cup 2023 - Kombi ",{"$f":"VLOOKUP(F51,Soutez!A:B,2,FALSE)","v":"CZ"},{"$f":"VLOOKUP(F51,Soutez!A:C,3,FALSE)","v":2023},18,6043,1,6458,6458,null,null,"HPH 304 MS","DJ",""]
["Zdenek Boruvka 86",1986,"M","Jičín","CZ/C2","AZ Cup 2023 - Kombi ",{"$f":"VLOOKUP(F52,Soutez!A:B,2,FALSE)","v":"CZ"},{"$f":"VLOOKUP(F52,Soutez!A:C,3,FALSE)","v":2023},19,5812,1,6166,6166,null,null,"VENTUS C 17.6m","VV",""]
["Jan Ratz",1987,"M","Zbraslavice","CZ/C1","AZ Cup 2023 - Kombi ",{"$f":"VLOOKUP(F53,Soutez!A:B,2,FALSE)","v":"CZ"},{"$f":"VLOOKUP(F53,Soutez!A:C,3,FALSE)","v":2023},20,5793,1,6053,6053,null,null,"LS-8 18m","FX",""]
["Jaroslav Potmesil",1964,"M","Zbraslavice","CZ/C1","AZ Cup 2023 - Kombi ",{"$f":"VLOOKUP(F54,Soutez!A:B,2,FALSE)","v":"CZ"},{"$f":"VLOOKUP(F54,Soutez!A:C,3,FALSE)","v":2023},21,5522,1,5728,5728,"x",null,"HpH 304 JS","JT",""]
["Richard Jensen",1965,"M","Zbraslavice","CZ/C1","AZ Cup 2023 - Kombi ",{"$f":"VLOOKUP(F55,Soutez!A:B,2,FALSE)","v":"CZ"},{"$f":"VLOOKUP(F55,Soutez!A:C,3,FALSE)","v":2023},22,5494,1,5607,{"$f":"ROUND(K55*L55,0)","v":5607},"x",null,"ASG-29E","AJ",""]
["Ivo Burda",1962,"M","Zbraslavice","CZ/C1","AZ Cup 2023 - Kombi ",{"$f":"VLOOKUP(F56,Soutez!A:B,2,FALSE)","v":"CZ"},{"$f":"VLOOKUP(F56,Soutez!A:C,3,FALSE)","v":2023},23,5179,1,5245,5245,"x",null,"VENTUS 2CXM 18m","IB",""]
["Karel Krobath",null,null,"FRA",null,"AZ Cup 2023 - Kombi ",{"$f":"VLOOKUP(F57,Soutez!A:B,2,FALSE)","v":"CZ"},{"$f":"VLOOKUP(F57,Soutez!A:C,3,FALSE)","v":2023},24,5077,1,5062,5062,null,null,"HPH TWINSHARK","Q","Není v databázi"]
["Jana Treslova",{"$f":"VLOOKUP(A58,Pilot,2,0)","v":1963},{"$f":"VLOOKUP(A58,Pilot,5,0)","v":"F"},{"$f":"VLOOKUP(A58,Pilot,3,0)","v":"Raná"},{"$f":"VLOOKUP(A58,Pilot,4,0)","v":"CZ/C2"},"AZ Cup 2023 - Kombi ",{"$f":"VLOOKUP(F58,Soutez!A:B,2,FALSE)","v":"CZ"},{"$f":"VLOOKUP(F58,Soutez!A:C,3,FALSE)","v":2023},25,4996,1,4897,4897,null,null,"LS-8 15m","W8",{"$f":"IF(ISERROR(VLOOKUP(A58,Pilot,6,0)),\"Není v databázi\",VLOOKUP(A58,Pilot,6,0))","v":""}]
["Zdenek Boruvka 54",1954,"M","Jičín","CZ/C2","AZ Cup 2023 - Kombi ",{"$f":"VLOOKUP(F59,Soutez!A:B,2,FALSE)","v":"CZ"},{"$f":"VLOOKUP(F59,Soutez!A:C,3,FALSE)","v":2023},26,4591,1,4458,4458,null,null,"LS-8 15m","ZB",""]
["Michaela Rendlova",2004,"F","Toužim","CZ/C1","AZ Cup 2023 - Kombi ",{"$f":"VLOOKUP(F60,Soutez!A:B,2,FALSE)","v":"CZ"},{"$f":"VLOOKUP(F60,Soutez!A:C,3,FALSE)","v":2023},27,4175,1,4010,4010,null,null,"AS-33 ES","EA","Junior v roce 2026"]
["Dana Novakova",1965,"F","Mladá Boleslav","CZ/C1","AZ Cup 2023 - Kombi ",{"$f":"VLOOKUP(F61,Soutez!A:B,2,FALSE)","v":"CZ"},{"$f":"VLOOKUP(F61,Soutez!A:C,3,FALSE)","v":2023},28,3989,1,3756,3756,null,null,"LS-8 15m","ID",""]
["Tomas Suchanek",1964,"M","GAC Benešov","CZ/C1","AZ Cup 2023 - Kombi ",{"$f":"VLOOKUP(F62,Soutez!A:B,2,FALSE)","v":"CZ"},{"$f":"VLOOKUP(F62,Soutez!A:C,3,FALSE)","v":2023},29,3678,1,3396,3396,null,null,"LS-8 18m","JB",""]
["Matous Schmidt",1981,"M","Letňany","CZ/C1","AZ Cup 2023 - Kombi ",{"$f":"VLOOKUP(F63,Soutez!A:B,2,FALSE)","v":"CZ"},{"$f":"VLOOKUP(F63,Soutez!A:C,3,FALSE)","v":2023},30,2152,1,2011,2011,"x",null,"VENTUS C 17.6m","UC",""]
["Pavel Svrcek",1972,"M","Frýdlant","CZ/M","AZ Cup 2023 - Kombi ",{"$f":"VLOOKUP(F64,Soutez!A:B,2,FALSE)","v":"CZ"},{"$f":"VLOOKUP(F64,Soutez!A:C,3,FALSE)","v":2023},31,1862,1,1669,1669,"x",null,"DG-400","PS",""]
["Tomas Rendla",1973,"M","Zbraslavice","CZ/C1","AZ Cup 2023 - Kombi ",{"$f":"VLOOKUP(F65,Soutez!A:B,2,FALSE)","v":"CZ"},{"$f":"VLOOKUP(F65,Soutez!A:C,3,FALSE)","v":2023},32,498,1,421,421,null,null,"HPH TWINSHARK","LK",""]
["Rostislav Stryk",{"$f":"VLOOKUP(A66,Pilot,2,0)","v":1972},{"$f":"VLOOKUP(A66,Pilot,5,0)","v":"M"},{"$f":"VLOOKUP(A66,Pilot,3,0)","v":"Frýdlant"},{"$f":"VLOOKUP(A66,Pilot,4,0)","v":"CZ/M"},"FL 2023 - Klub",{"$f":"VLOOKUP(F66,Soutez!A:B,2,FALSE)","v":"CZ"},{"$f":"VLOOKUP(F66,Soutez!A:C,3,FALSE)","v":2023},1,4451,0,{"$f":"ROUND(J66/MAX($J$66:$J$76)*10000*0.7+(MAX($I$66:$I$76)-I66)/(MAX($I$66:$I$76)-1)*10000*0.3,0)","v":10000},{"$f":"ROUND(K66*L66,0)","v":0},null,null,"Std. Cirrus",22,""]
["David Sachl",1978,"M","Kralupy","CZ/C1","FL 2023 - Klub",{"$f":"VLOOKUP(F67,Soutez!A:B,2,FALSE)","v":"CZ"},{"$f":"VLOOKUP(F67,Soutez!A:C,3,FALSE)","v":2023},2,4106,0,9124,{"$f":"ROUND(K67*L67,0)","v":0},null,null,"DG 300 WL","BK",""]
["Jan Kristof",{"$f":"VLOOKUP(A68,Pilot,2,0)","v":1962},{"$f":"VLOOKUP(A68,Pilot,5,0)","v":"M"},{"$f":"VLOOKUP(A68,Pilot,3,0)","v":"Frýdlant"},{"$f":"VLOOKUP(A68,Pilot,4,0)","v":"CZ/M"},"FL 2023 - Klub",{"$f":"VLOOKUP(F68,Soutez!A:B,2,FALSE)","v":"CZ"},{"$f":"VLOOKUP(F68,Soutez!A:C,3,FALSE)","v":2023},3,3573,0,7953,0,null,null,"LS 3","TX",""]
["Petr Brezina",{"$f":"VLOOKUP(A69,Pilot,2,0)","v":1963},{"$f":"VLOOKUP(A69,Pilot,5,0)","v":"M"},{"$f":"VLOOKUP(A69,Pilot,3,0)","v":"Frýdlant"},{"$f":"VLOOKUP(A69,Pilot,4,0)","v":"CZ/M"},"FL 2023 - Klub",{"$f":"VLOOKUP(F69,Soutez!A:B,2,FALSE)","v":"CZ"},{"$f":"VLOOKUP(F69,Soutez!A:C,3,FALSE)","v":2023},4,2743,0,6314,0,null,null,"DG 200","AK",""]
["Jan Mareth",1979,"M","Frýdlant","CZ/M","FL 2023 - Klub",{"$f":"VLOOKUP(F70,Soutez!A:B,2,FALSE)","v":"CZ"},{"$f":"VLOOKUP(F70,Soutez!A:C,3,FALSE)","v":2023},5,2191,0,5112,0,null,null,"ASW 15 B","PA",""]
["Adam Sugl",1987,"M","Vyškov","CZ/M","FL 2023 - Klub",{"$f":"VLOOKUP(F71,Soutez!A:B,2,FALSE)","v":"CZ"},{"$f":"VLOOKUP(F71,Soutez!A:C,3,FALSE)","v":2023},6,1920,{"$f":"VLOOKUP(F71,Soutez,12,0)","v":0},4353,0,null,null,"Std. Cirrus","GT",""]
["Jan Sustr 76",{"$f":"VLOOKUP(A72,Pilot,2,0)","v":1976},{"$f":"VLOOKUP(A72,Pilot,5,0)","v":"M"},{"$f":"VLOOKUP(A72,Pilot,3,0)","v":"Raná"},{"$f":"VLOOKUP(A72,Pilot,4,0)","v":"CZ/C2"},"FL 2023 - Klub",{"$f":"VLOOKUP(F72,Soutez!A:B,2,FALSE)","v":"CZ"},{"$f":"VLOOKUP(F72,Soutez!A:C,3,FALSE)","v":2023},7,501,0,1788,0,null,null,"DG 300","WL",""]
["Stepan Obrovsky",1990,"M","Frýdlant","CZ/M","FL 2023 - Klub",{"$f":"VLOOKUP(F73,Soutez!A:B,2,FALSE)","v":"CZ"},{"$f":"VLOOKUP(F73,Soutez!A:C,3,FALSE)","v":2023},8,419,0,1326,0,null,null,"LS 1-f","EM",""]
["Jan Mrozek",{"$f":"VLOOKUP(A74,Pilot,2,0)","v":1982},{"$f":"VLOOKUP(A74,Pilot,5,0)","v":"M"},{"$f":"VLOOKUP(A74,Pilot,3,0)","v":"Frýdlant"},{"$f":"VLOOKUP(A74,Pilot,4,0)","v":"CZ/M"},"FL 2023 - Klub",{"$f":"VLOOKUP(F74,Soutez!A:B,2,FALSE)","v":"CZ"},{"$f":"VLOOKUP(F74,Soutez!A:C,3,FALSE)","v":2023},9,285,0,782,{"$f":"ROUND(K74*L74,0)","v":0},null,null,"Std. Cirrus","E",""]
["Ludek Mikl",1963,"M","Šumperk","CZ/M","FL 2023 - Klub",{"$f":"VLOOKUP(F75,Soutez!A:B,2,FALSE)","v":"CZ"},{"$f":"VLOOKUP(F75,Soutez!A:C,3,FALSE)","v":2023},10,0,0,0,0,null,null,"Std. Cirrus",16,""]
["Jiri Koudela",1974,"M","Vyškov","CZ/M","FL 2023 - Klub",{"$f":"VLOOKUP(F76,Soutez!A:B,2,FALSE)","v":"CZ"},{"$f":"VLOOKUP(F76,Soutez!A:C,3,FALSE)","v":2023},10,0,0,0,0,null,null,"ASW 19 B","JK",""]
["Frantisek Vancura",{"$f":"VLOOKUP(A77,Pilot,2,0)","v":1966},{"$f":"VLOOKUP(A77,Pilot,5,0)","v":"M"},{"$f":"VLOOKUP(A77,Pilot,3,0)","v":"Hranice"},{"$f":"VLOOKUP(A77,Pilot,4,0)","v":"CZ/M"},"FL 2023 - Kombi",{"$f":"VLOOKUP(F77,Soutez!A:B,2,FALSE)","v":"CZ"},{"$f":"VLOOKUP(F77,Soutez!A:C,3,FALSE)","v":2023},1,4392,0.91500000000000004,{"$f":"ROUND(J77/MAX($J$77:$J$89)*10000*0.7+(MAX($I$77:$I$89)-I77)/(MAX($I$77:$I$89)-1)*10000*0.3,0)","v":10000},{"$f":"ROUND(K77*L77,0)","v":9150},"x",null,"Nimbus 3T 24.5m","A1",""]
["Pavel Foldyna",1976,"M","Frýdlant","CZ/M","FL 2023 - Kombi",{"$f":"VLOOKUP(F78,Soutez!A:B,2,FALSE)","v":"CZ"},{"$f":"VLOOKUP(F78,Soutez!A:C,3,FALSE)","v":2023},2,4239,0.91500000000000004,9483,{"$f":"ROUND(K78*L78,0)","v":8677},"x",null,"Arcus M","FJ",""]
["Martin Suchy",1969,"M","Hranice","CZ/M","FL 2023 - Kombi",{"$f":"VLOOKUP(F79,Soutez!A:B,2,FALSE)","v":"CZ"},{"$f":"VLOOKUP(F79,Soutez!A:C,3,FALSE)","v":2023},3,3820,0.91500000000000004,8543,7817,"x",null,"DG 500M 22m","T1",""]
["Zdenek Balcarek",1967,"M","Kroměříž","CZ/M","FL 2023 - Kombi",{"$f":"VLOOKUP(F80,Soutez!A:B,2,FALSE)","v":"CZ"},{"$f":"VLOOKUP(F80,Soutez!A:C,3,FALSE)","v":2023},4,3689,0.91500000000000004,8061,7376,null,null,"Discus b","AI",""]
["Michal Cechmanek",1978,"M","Kroměříž","CZ/M","FL 2023 - Kombi",{"$f":"VLOOKUP(F81,Soutez!A:B,2,FALSE)","v":"CZ"},{"$f":"VLOOKUP(F81,Soutez!A:C,3,FALSE)","v":2023},5,3365,0.91500000000000004,7272,6654,null,null,"ASW 20","MK",""]
["Vladimir Jirka",{"$f":"VLOOKUP(A82,Pilot,2,0)","v":1965},{"$f":"VLOOKUP(A82,Pilot,5,0)","v":"M"},{"$f":"VLOOKUP(A82,Pilot,3,0)","v":"Zábřeh"},{"$f":"VLOOKUP(A82,Pilot,4,0)","v":"CZ/M"},"FL 2023 - Kombi",{"$f":"VLOOKUP(F82,Soutez!A:B,2,FALSE)","v":"CZ"},{"$f":"VLOOKUP(F82,Soutez!A:C,3,FALSE)","v":2023},6,3074,0.91500000000000004,6536,5980,"x",null,"HpH 304 TS Twin Shark",11,""]
["Lumir Motyka",{"$f":"VLOOKUP(A83,Pilot,2,0)","v":1955},{"$f":"VLOOKUP(A83,Pilot,5,0)","v":"M"},{"$f":"VLOOKUP(A83,Pilot,3,0)","v":"Frýdlant"},{"$f":"VLOOKUP(A83,Pilot,4,0)","v":"CZ/M"},"FL 2023 - Kombi",{"$f":"VLOOKUP(F83,Soutez!A:B,2,FALSE)","v":"CZ"},{"$f":"VLOOKUP(F83,Soutez!A:C,3,FALSE)","v":2023},7,2960,0.91500000000000004,6081,5564,"x",null,"LAK-12","DE",""]
["Zdenek Schenk",1972,"M","Hranice","CZ/M","FL 2023 - Kombi",{"$f":"VLOOKUP(F84,Soutez!A:B,2,FALSE)","v":"CZ"},{"$f":"VLOOKUP(F84,Soutez!A:C,3,FALSE)","v":2023},8,2053,0.91500000000000004,4363,3992,null,null,"duo discus","OK",""]
["Milos Matejka",1956,"M","Beroun","CZ/C1","FL 2023 - Kombi",{"$f":"VLOOKUP(F85,Soutez!A:B,2,FALSE)","v":"CZ"},{"$f":"VLOOKUP(F85,Soutez!A:C,3,FALSE)","v":2023},9,1890,0.91500000000000004,3830,{"$f":"ROUND(K85*L85,0)","v":3504},"x",null,"Discus b WL","SH",""]
["Antonin Kutalek",1943,"M","Zábřeh","CZ/M","FL 2023 - Kombi",{"$f":"VLOOKUP(F86,Soutez!A:B,2,FALSE)","v":"CZ"},{"$f":"VLOOKUP(F86,Soutez!A:C,3,FALSE)","v":2023},10,1368,0.91500000000000004,2726,2494,null,null,"LAK 17A","GL",""]
["Jaroslav Buryan",1953,"M","Zábřeh","CZ/M","FL 2023 - Kombi",{"$f":"VLOOKUP(F87,Soutez!A:B,2,FALSE)","v":"CZ"},{"$f":"VLOOKUP(F87,Soutez!A:C,3,FALSE)","v":2023},11,1278,0.91500000000000004,2310,2114,null,null,"ASW 20 WL","NS",""]
["Pavel Handl",1971,"M","Kroměříž","CZ/M","FL 2023 - Kombi",{"$f":"VLOOKUP(F88,Soutez!A:B,2,FALSE)","v":"CZ"},{"$f":"VLOOKUP(F88,Soutez!A:C,3,FALSE)","v":2023},12,0,0.91500000000000004,0,0,null,null,"Ventus 2c 18m","VJ",""]
["Roman Cerny",1971,"M","Hranice","CZ/M","FL 2023 - Kombi",{"$f":"VLOOKUP(F89,Soutez!A:B,2,FALSE)","v":"CZ"},{"$f":"VLOOKUP(F89,Soutez!A:C,3,FALSE)","v":2023},12,0,0.91500000000000004,0,0,null,null,"Nimbus 3 25.5m","RF",""]
["Josef Novotny",{"$f":"VLOOKUP(A90,Pilot,2,0)","v":1983},{"$f":"VLOOKUP(A90,Pilot,5,0)","v":"M"},{"$f":"VLOOKUP(A90,Pilot,3,0)","v":"Přibyslav"},{"$f":"VLOOKUP(A90,Pilot,4,0)","v":"CZ/C2"},"JPJ 2023 - Klub",{"$f":"VLOOKUP(F90,Soutez!A:B,2,FALSE)","v":"CZ"},{"$f":"VLOOKUP(F90,Soutez!A:C,3,FALSE)","v":2023},1,2829,0.90500000000000003,{"$f":"ROUND(J90/MAX($J$90:$J$129)*10000*0.7+(MAX($I$90:$I$129)-I90)/(MAX($I$90:$I$129)-1)*10000*0.3,0)","v":10000},{"$f":"ROUND(K90*L90,0)","v":9050},"x",null,"Std. Cirrus","AW",""]
["Lukas Kriz",2003,"M","Křižanov","CZ/M","JPJ 2023 - Klub",{"$f":"VLOOKUP(F91,Soutez!A:B,2,FALSE)","v":"CZ"},{"$f":"VLOOKUP(F91,Soutez!A:C,3,FALSE)","v":2023},2,2819,0.90500000000000003,9898,{"$f":"ROUND(K91*L91,0)","v":8958},null,null,"LS-4","6L","Junior v roce 2026"]
["Jindrich Svorc",1978,"M","Letňany","CZ/C1","JPJ 2023 - Klub",{"$f":"VLOOKUP(F92,Soutez!A:B,2,FALSE)","v":"CZ"},{"$f":"VLOOKUP(F92,Soutez!A:C,3,FALSE)","v":2023},3,2794,0.90500000000000003,9760,8833,"x",null,"Std. Cirrus","IMI",""]
["Rene Hudak",1972,"M","Kunovice","CZ/M","JPJ 2023 - Klub",{"$f":"VLOOKUP(F93,Soutez!A:B,2,FALSE)","v":"CZ"},{"$f":"VLOOKUP(F93,Soutez!A:C,3,FALSE)","v":2023},4,2696,0.90500000000000003,9440,8543,"x",null,"Std. Cirrus WL","NK",""]
["Michal Cechmanek",1978,"M","Kroměříž","CZ/M","JPJ 2023 - Klub",{"$f":"VLOOKUP(F94,Soutez!A:B,2,FALSE)","v":"CZ"},{"$f":"VLOOKUP(F94,Soutez!A:C,3,FALSE)","v":2023},5,2643,0.90500000000000003,9232,8355,"x",null,"ASW-20 (A)+L+F 15m","MK",""]
["Jiri Prochazka",1971,"M","Toužim","CZ/C1","JPJ 2023 - Klub",{"$f":"VLOOKUP(F95,Soutez!A:B,2,FALSE)","v":"CZ"},{"$f":"VLOOKUP(F95,Soutez!A:C,3,FALSE)","v":2023},6,2624,0.90500000000000003,9108,8243,"x",null,"Janus CM pevný podv.","J59",""]
["Zdenek Balcarek",1967,"M","Kroměříž","CZ/M","JPJ 2023 - Klub",{"$f":"VLOOKUP(F96,Soutez!A:B,2,FALSE)","v":"CZ"},{"$f":"VLOOKUP(F96,Soutez!A:C,3,FALSE)","v":2023},7,2581,0.90500000000000003,8925,8077,"x",null,"Discus b","AI",""]
["Josef Novak",1981,"M","Kunovice","CZ/M","JPJ 2023 - Klub",{"$f":"VLOOKUP(F97,Soutez!A:B,2,FALSE)","v":"CZ"},{"$f":"VLOOKUP(F97,Soutez!A:C,3,FALSE)","v":2023},8,2576,0.90500000000000003,8836,7997,"x",null,"Discus CS","CS",""]
["Antonin Novotny",1972,"M","Luhačovice","CZ/M","JPJ 2023 - Klub",{"$f":"VLOOKUP(F98,Soutez!A:B,2,FALSE)","v":"CZ"},{"$f":"VLOOKUP(F98,Soutez!A:C,3,FALSE)","v":2023},9,2558,0.90500000000000003,8714,7886,"x",null,"Std. Cirrus","SJ",""]
["Jaroslav Buryan",1953,"M","Zábřeh","CZ/M","JPJ 2023 - Klub",{"$f":"VLOOKUP(F99,Soutez!A:B,2,FALSE)","v":"CZ"},{"$f":"VLOOKUP(F99,Soutez!A:C,3,FALSE)","v":2023},10,2553,0.90500000000000003,8625,7806,"x",null,"ASW-20 (A)+L+F 15m","NS",""]
["Rostislav Stryk",1972,"M","Frýdlant","CZ/M","JPJ 2023 - Klub",{"$f":"VLOOKUP(F100,Soutez!A:B,2,FALSE)","v":"CZ"},{"$f":"VLOOKUP(F100,Soutez!A:C,3,FALSE)","v":2023},11,2483,0.90500000000000003,8375,7579,"x",null,"Std. Cirrus",22,""]
["Martin Urner",1974,"M","Letňany","CZ/C1","JPJ 2023 - Klub",{"$f":"VLOOKUP(F101,Soutez!A:B,2,FALSE)","v":"CZ"},{"$f":"VLOOKUP(F101,Soutez!A:C,3,FALSE)","v":2023},12,2428,0.90500000000000003,8162,7387,"x",null,"ASW-15B","JJ",""]
["Martin Kriz",1968,"M","Přibyslav","CZ/C2","JPJ 2023 - Klub",{"$f":"VLOOKUP(F102,Soutez!A:B,2,FALSE)","v":"CZ"},{"$f":"VLOOKUP(F102,Soutez!A:C,3,FALSE)","v":2023},13,2354,0.90500000000000003,7902,7151,"x",null,"ASW-20 (A)+L+F 15m",67,""]
["Jan Zezula",1979,"M","Letňany","CZ/C1","JPJ 2023 - Klub",{"$f":"VLOOKUP(F103,Soutez!A:B,2,FALSE)","v":"CZ"},{"$f":"VLOOKUP(F103,Soutez!A:C,3,FALSE)","v":2023},14,2331,0.90500000000000003,7768,7030,"x",null,"ASW-19B","HD",""]
["Jan Podhrazsky",1976,"M","Šumperk","CZ/M","JPJ 2023 - Klub",{"$f":"VLOOKUP(F104,Soutez!A:B,2,FALSE)","v":"CZ"},{"$f":"VLOOKUP(F104,Soutez!A:C,3,FALSE)","v":2023},15,2284,0.90500000000000003,7575,6855,"x",null,"Discus b","SJP",""]
["Martin Ficnar",1971,"M","Šumperk","CZ/M","JPJ 2023 - Klub",{"$f":"VLOOKUP(F105,Soutez!A:B,2,FALSE)","v":"CZ"},{"$f":"VLOOKUP(F105,Soutez!A:C,3,FALSE)","v":2023},16,2282,0.90500000000000003,7493,6781,"x",null,"LS-3a 15m","S20",""]
["Radim Sobek",1977,"M","Hranice","CZ/M","JPJ 2023 - Klub",{"$f":"VLOOKUP(F106,Soutez!A:B,2,FALSE)","v":"CZ"},{"$f":"VLOOKUP(F106,Soutez!A:C,3,FALSE)","v":2023},17,2235,0.90500000000000003,7299,6606,null,null,"TST-10M Atlas",7,""]
["Petr Havrlant",1965,"M","Šumperk","CZ/M","JPJ 2023 - Klub",{"$f":"VLOOKUP(F107,Soutez!A:B,2,FALSE)","v":"CZ"},{"$f":"VLOOKUP(F107,Soutez!A:C,3,FALSE)","v":2023},18,2223,0.90500000000000003,7193,6510,"x",null,"ASW-15B","Q1",""]
["Martin Svarc",1981,"M","Olomouc","CZ/M","JPJ 2023 - Klub",{"$f":"VLOOKUP(F108,Soutez!A:B,2,FALSE)","v":"CZ"},{"$f":"VLOOKUP(F108,Soutez!A:C,3,FALSE)","v":2023},19,2219,0.90500000000000003,7106,6431,"x",null,"DG-101 G","HE",""]
["Karel Horalek",1976,"M","Olomouc","CZ/M","JPJ 2023 - Klub",{"$f":"VLOOKUP(F109,Soutez!A:B,2,FALSE)","v":"CZ"},{"$f":"VLOOKUP(F109,Soutez!A:C,3,FALSE)","v":2023},20,2139,0.90500000000000003,6831,6182,"x",null,"LS-3 15m","Y1",""]
["Stepan Obrovsky",1990,"M","Frýdlant","CZ/M","JPJ 2023 - Klub",{"$f":"VLOOKUP(F110,Soutez!A:B,2,FALSE)","v":"CZ"},{"$f":"VLOOKUP(F110,Soutez!A:C,3,FALSE)","v":2023},21,1956,0.90500000000000003,6301,5702,"x",null,"LS-1f","EM",""]
["Jakub Kohn",1992,"M","Prostějov","CZ/M","JPJ 2023 - Klub",{"$f":"VLOOKUP(F111,Soutez!A:B,2,FALSE)","v":"CZ"},{"$f":"VLOOKUP(F111,Soutez!A:C,3,FALSE)","v":2023},22,1950,0.90500000000000003,6210,{"$f":"ROUND(K111*L111,0)","v":5620},"x",null,"ASW-15B","FK",""]
["Martin Hejny",1984,"M","Šumperk","CZ/M","JPJ 2023 - Klub",{"$f":"VLOOKUP(F112,Soutez!A:B,2,FALSE)","v":"CZ"},{"$f":"VLOOKUP(F112,Soutez!A:C,3,FALSE)","v":2023},23,1945,0.90500000000000003,6120,5539,"x",null,"ASW-19B","B8",""]
["Petr Lonsky",1965,"M","Toužim","CZ/C1","JPJ 2023 - Klub",{"$f":"VLOOKUP(F113,Soutez!A:B,2,FALSE)","v":"CZ"},{"$f":"VLOOKUP(F113,Soutez!A:C,3,FALSE)","v":2023},24,1887,0.90500000000000003,5900,5340,null,null,"Cirrus","JP",""]
["Jan Florian",1992,"M","Zbraslavice","CZ/C1","JPJ 2023 - Klub",{"$f":"VLOOKUP(F114,Soutez!A:B,2,FALSE)","v":"CZ"},{"$f":"VLOOKUP(F114,Soutez!A:C,3,FALSE)","v":2023},25,1863,0.90500000000000003,5764,5216,null,null,"Std. Cirrus","C1",""]
["Jiri Koudela",1974,"M","Vyškov","CZ/M","JPJ 2023 - Klub",{"$f":"VLOOKUP(F115,Soutez!A:B,2,FALSE)","v":"CZ"},{"$f":"VLOOKUP(F115,Soutez!A:C,3,FALSE)","v":2023},26,1802,0.90500000000000003,5536,5010,null,null,"ASW-19B","JK",""]
["Radim Tomala",1972,"M","Prostějov","CZ/M","JPJ 2023 - Klub",{"$f":"VLOOKUP(F116,Soutez!A:B,2,FALSE)","v":"CZ"},{"$f":"VLOOKUP(F116,Soutez!A:C,3,FALSE)","v":2023},27,1640,0.90500000000000003,5058,4577,null,null,"Std. Cirrus","RT",""]
["Roman Schotli",1970,"M","Hranice","CZ/M","JPJ 2023 - Klub",{"$f":"VLOOKUP(F117,Soutez!A:B,2,FALSE)","v":"CZ"},{"$f":"VLOOKUP(F117,Soutez!A:C,3,FALSE)","v":2023},28,1591,0.90500000000000003,4860,4398,"x",null,"ASW-19B",19,""]
["Petr Masik",2001,"M","Zábřeh","CZ/M","JPJ 2023 - Klub",{"$f":"VLOOKUP(F118,Soutez!A:B,2,FALSE)","v":"CZ"},{"$f":"VLOOKUP(F118,Soutez!A:C,3,FALSE)","v":2023},29,1590,0.90500000000000003,4780,4326,null,null,"Std. Cirrus","MJ","Junior v roce 2026"]
["Jaromir Vlk",1959,"M","Šumperk","CZ/M","JPJ 2023 - Klub",{"$f":"VLOOKUP(F119,Soutez!A:B,2,FALSE)","v":"CZ"},{"$f":"VLOOKUP(F119,Soutez!A:C,3,FALSE)","v":2023},30,1492,0.90500000000000003,4461,4037,"x",null,"ASW-15B","R5",{"$f":"IF(ISERROR(VLOOKUP(A119,Pilot,6,0)),\"Není v databázi\",VLOOKUP(A119,Pilot,6,0))","v":""}]
["Petr Kolomaznik",1981,"M","Šumperk","CZ/M","JPJ 2023 - Klub",{"$f":"VLOOKUP(F120,Soutez!A:B,2,FALSE)","v":"CZ"},{"$f":"VLOOKUP(F120,Soutez!A:C,3,FALSE)","v":2023},31,1162,0.90500000000000003,3568,3229,"x",null,"Discus CS","VE",""]
["Adam Sugl",1987,"M","Vyškov","CZ/M","JPJ 2023 - Klub",{"$f":"VLOOKUP(F121,Soutez!A:B,2,FALSE)","v":"CZ"},{"$f":"VLOOKUP(F121,Soutez!A:C,3,FALSE)","v":2023},32,1034,0.90500000000000003,3174,2872,null,null,"Std. Cirrus","GT",""]
["Yvona Vyhnankova",1963,"F","Olomouc","CZ/M","JPJ 2023 - Klub",{"$f":"VLOOKUP(F122,Soutez!A:B,2,FALSE)","v":"CZ"},{"$f":"VLOOKUP(F122,Soutez!A:C,3,FALSE)","v":2023},33,632,0.90500000000000003,2102,1902,null,null,"ASW-15","YZ",""]
["Jan Sobotka",{"$f":"VLOOKUP(A123,Pilot,2,0)","v":1973},{"$f":"VLOOKUP(A123,Pilot,5,0)","v":"M"},{"$f":"VLOOKUP(A123,Pilot,3,0)","v":"Vyškov"},{"$f":"VLOOKUP(A123,Pilot,4,0)","v":"CZ/M"},"JPJ 2023 - Klub",{"$f":"VLOOKUP(F123,Soutez!A:B,2,FALSE)","v":"CZ"},{"$f":"VLOOKUP(F123,Soutez!A:C,3,FALSE)","v":2023},34,498,0.90500000000000003,1694,1533,"x",null,"LS-1f","DP",""]
["Albert Schneider",1967,"M","Hranice","CZ/M","JPJ 2023 - Klub",{"$f":"VLOOKUP(F124,Soutez!A:B,2,FALSE)","v":"CZ"},{"$f":"VLOOKUP(F124,Soutez!A:C,3,FALSE)","v":2023},34,498,0.90500000000000003,1694,1533,"x",null,"Mini-Nimbus c","I",""]
["Radek Jaksa",1979,"M","Prostějov","CZ/M","JPJ 2023 - Klub",{"$f":"VLOOKUP(F125,Soutez!A:B,2,FALSE)","v":"CZ"},{"$f":"VLOOKUP(F125,Soutez!A:C,3,FALSE)","v":2023},36,325,0.90500000000000003,1112,1006,"x",null,"Std. Cirrus","ER",""]
["Lukas Zach",1987,"M","Vyškov","CZ/M","JPJ 2023 - Klub",{"$f":"VLOOKUP(F126,Soutez!A:B,2,FALSE)","v":"CZ"},{"$f":"VLOOKUP(F126,Soutez!A:C,3,FALSE)","v":2023},37,306,0.90500000000000003,988,894,"x",null,"G-102 Astir CS 77","AS",""]
["Michal Linhart",1982,"M","Vyškov","CZ/M","JPJ 2023 - Klub",{"$f":"VLOOKUP(F127,Soutez!A:B,2,FALSE)","v":"CZ"},{"$f":"VLOOKUP(F127,Soutez!A:C,3,FALSE)","v":2023},38,304,0.90500000000000003,906,820,"x",null,"DG-1001S 18m",66,""]
["Petr Omelka",1970,"M","Vyškov","CZ/M","JPJ 2023 - Klub",{"$f":"VLOOKUP(F128,Soutez!A:B,2,FALSE)","v":"CZ"},{"$f":"VLOOKUP(F128,Soutez!A:C,3,FALSE)","v":2023},39,298,0.90500000000000003,814,737,null,null,"DG-400 15m","MR",""]
["Ludek Mikl",1963,"M","Šumperk","CZ/M","JPJ 2023 - Klub",{"$f":"VLOOKUP(F129,Soutez!A:B,2,FALSE)","v":"CZ"},{"$f":"VLOOKUP(F129,Soutez!A:C,3,FALSE)","v":2023},40,59,0.90500000000000003,146,132,"x",null,"Std. Cirrus",16,""]
["Jiri Steiger",{"$f":"VLOOKUP(A130,Pilot,2,0)","v":1969},{"$f":"VLOOKUP(A130,Pilot,5,0)","v":"M"},{"$f":"VLOOKUP(A130,Pilot,3,0)","v":"Olomouc"},{"$f":"VLOOKUP(A130,Pilot,4,0)","v":"CZ/M"},"JPJ 2023 - Kombi",{"$f":"VLOOKUP(F130,Soutez!A:B,2,FALSE)","v":"CZ"},{"$f":"VLOOKUP(F130,Soutez!A:C,3,FALSE)","v":2023},1,2757,0.91500000000000004,{"$f":"ROUND(J130/MAX($J$130:$J$148)*10000*0.7+(MAX($I$130:$I$148)-I130)/(MAX($I$130:$I$148)-1)*10000*0.3,0)","v":10000},{"$f":"ROUND(K130*L130,0)","v":9150},"x",null,"Ventus 3M 18m","JS",""]
["Radek Hybl",1980,"M","Šumperk","CZ/M","JPJ 2023 - Kombi",{"$f":"VLOOKUP(F131,Soutez!A:B,2,FALSE)","v":"CZ"},{"$f":"VLOOKUP(F131,Soutez!A:C,3,FALSE)","v":2023},2,2733,0.91500000000000004,9772,{"$f":"ROUND(K131*L131,0)","v":8941},"x",null,"Ventus cm 17,6m","IHH",""]
["Frantisek Vancura",1966,"M","Hranice","CZ/M","JPJ 2023 - Kombi",{"$f":"VLOOKUP(F132,Soutez!A:B,2,FALSE)","v":"CZ"},{"$f":"VLOOKUP(F132,Soutez!A:C,3,FALSE)","v":2023},3,2597,0.91500000000000004,9260,8473,null,null,"Nimbus 3T 24,5m WL 750kg","A1",""]
["Jan Simon",1970,"M","Kralupy","CZ/C1","JPJ 2023 - Kombi",{"$f":"VLOOKUP(F133,Soutez!A:B,2,FALSE)","v":"CZ"},{"$f":"VLOOKUP(F133,Soutez!A:C,3,FALSE)","v":2023},4,2254,0.91500000000000004,8223,7524,"x",null,"Duo Discus T 700kg","ZS",""]
["Zdenek Boruvka 54",1954,"M","Jičín","CZ/C2","JPJ 2023 - Kombi",{"$f":"VLOOKUP(F134,Soutez!A:B,2,FALSE)","v":"CZ"},{"$f":"VLOOKUP(F134,Soutez!A:C,3,FALSE)","v":2023},5,2251,0.91500000000000004,8049,7365,"x",null,"LS-8 15m","ZB",""]
["Zdenek Schenk",{"$f":"VLOOKUP(A135,Pilot,2,0)","v":1972},{"$f":"VLOOKUP(A135,Pilot,5,0)","v":"M"},{"$f":"VLOOKUP(A135,Pilot,3,0)","v":"Hranice"},{"$f":"VLOOKUP(A135,Pilot,4,0)","v":"CZ/M"},"JPJ 2023 - Kombi",{"$f":"VLOOKUP(F135,Soutez!A:B,2,FALSE)","v":"CZ"},{"$f":"VLOOKUP(F135,Soutez!A:C,3,FALSE)","v":2023},6,2164,{"$f":"VLOOKUP(F135,Soutez,12,0)","v":0.91500000000000004},7661,7010,"x",null,"Ventus cm 17,6m","ŠNeK",""]
["Pavel Haluza",1966,"M","Prostějov","CZ/M","JPJ 2023 - Kombi",{"$f":"VLOOKUP(F136,Soutez!A:B,2,FALSE)","v":"CZ"},{"$f":"VLOOKUP(F136,Soutez!A:C,3,FALSE)","v":2023},7,1956,0.91500000000000004,6966,6374,"x",null,"Nimbus 2b","HT",""]
["Olga Mokosova",1970,"F","Jihlava","CZ/M","JPJ 2023 - Kombi",{"$f":"VLOOKUP(F137,Soutez!A:B,2,FALSE)","v":"CZ"},{"$f":"VLOOKUP(F137,Soutez!A:C,3,FALSE)","v":2023},8,1774,0.91500000000000004,6338,5799,"x","x","LS-6c 18m WL","MM",""]
["Beat Albrecht",1953,"M","Šumperk","CZ/M","JPJ 2023 - Kombi",{"$f":"VLOOKUP(F138,Soutez!A:B,2,FALSE)","v":"CZ"},{"$f":"VLOOKUP(F138,Soutez!A:C,3,FALSE)","v":2023},9,1661,0.91500000000000004,5884,5384,"x",null,"LS-8-18 18m","GL",""]
["Jan Dersak 69",{"$f":"VLOOKUP(A139,Pilot,2,0)","v":1969},{"$f":"VLOOKUP(A139,Pilot,5,0)","v":"M"},{"$f":"VLOOKUP(A139,Pilot,3,0)","v":"Kralupy"},{"$f":"VLOOKUP(A139,Pilot,4,0)","v":"CZ/C1"},"JPJ 2023 - Kombi",{"$f":"VLOOKUP(F139,Soutez!A:B,2,FALSE)","v":"CZ"},{"$f":"VLOOKUP(F139,Soutez!A:C,3,FALSE)","v":2023},10,1645,0.91500000000000004,5677,5194,null,null,"HpH 304MS SHARK 18m 600kg","DJ",""]
["Tomas Prikryl",{"$f":"VLOOKUP(A140,Pilot,2,0)","v":1973},{"$f":"VLOOKUP(A140,Pilot,5,0)","v":"M"},{"$f":"VLOOKUP(A140,Pilot,3,0)","v":"Vyškov"},{"$f":"VLOOKUP(A140,Pilot,4,0)","v":"CZ/M"},"JPJ 2023 - Kombi",{"$f":"VLOOKUP(F140,Soutez!A:B,2,FALSE)","v":"CZ"},{"$f":"VLOOKUP(F140,Soutez!A:C,3,FALSE)","v":2023},11,1632,0.91500000000000004,5477,5011,"x",null,"Ventus 2cm 18m 525kg","FN",""]
["Miroslav Sklenar",1964,"M","Žamberk","CZ/C2","JPJ 2023 - Kombi",{"$f":"VLOOKUP(F141,Soutez!A:B,2,FALSE)","v":"CZ"},{"$f":"VLOOKUP(F141,Soutez!A:C,3,FALSE)","v":2023},12,1559,0.91500000000000004,5125,4689,"x",null,"Duo Discus 700kg","VP",""]
["Lukas Petrzela",1987,"M","Olomouc","CZ/M","JPJ 2023 - Kombi",{"$f":"VLOOKUP(F142,Soutez!A:B,2,FALSE)","v":"CZ"},{"$f":"VLOOKUP(F142,Soutez!A:C,3,FALSE)","v":2023},13,1282,0.91500000000000004,4255,{"$f":"ROUND(K142*L142,0)","v":3893},"x",null,"Nimbus 2b","MT",""]
["Antonin Kutalek",1943,"M","Zábřeh","CZ/M","JPJ 2023 - Kombi",{"$f":"VLOOKUP(F143,Soutez!A:B,2,FALSE)","v":"CZ"},{"$f":"VLOOKUP(F143,Soutez!A:C,3,FALSE)","v":2023},14,1187,0.91500000000000004,3847,3520,"x",null,"LAK-17AT 18m","GLK",""]
["Miroslav Koci",1961,"M","Žamberk","CZ/C2","JPJ 2023 - Kombi",{"$f":"VLOOKUP(F144,Soutez!A:B,2,FALSE)","v":"CZ"},{"$f":"VLOOKUP(F144,Soutez!A:C,3,FALSE)","v":2023},15,1186,0.91500000000000004,3678,3365,null,null,"Ventus 2cxm 18m 565kg","E8",""]
["Vit Grossmann",1977,"M","Hranice","CZ/M","JPJ 2023 - Kombi",{"$f":"VLOOKUP(F145,Soutez!A:B,2,FALSE)","v":"CZ"},{"$f":"VLOOKUP(F145,Soutez!A:C,3,FALSE)","v":2023},16,1012,0.91500000000000004,3069,2808,"x",null,"Duo Discus 700kg","OK",""]
["Tomas Profeld",1964,"M","Jičín","CZ/C2","JPJ 2023 - Kombi",{"$f":"VLOOKUP(F146,Soutez!A:B,2,FALSE)","v":"CZ"},{"$f":"VLOOKUP(F146,Soutez!A:C,3,FALSE)","v":2023},17,861,0.91500000000000004,2519,2305,"x",null,"Ventus 2cm 18m 525kg","OZ",""]
["Vladimir Spilka",1940,"M","Hranice","CZ/M","JPJ 2023 - Kombi",{"$f":"VLOOKUP(F147,Soutez!A:B,2,FALSE)","v":"CZ"},{"$f":"VLOOKUP(F147,Soutez!A:C,3,FALSE)","v":2023},18,548,0.91500000000000004,1558,1426,"x",null,"Nimbus 2b","AY",""]
["Pavel Handl",1971,"M","Kroměříž","CZ/M","JPJ 2023 - Kombi",{"$f":"VLOOKUP(F148,Soutez!A:B,2,FALSE)","v":"CZ"},{"$f":"VLOOKUP(F148,Soutez!A:C,3,FALSE)","v":2023},19,217,0.91500000000000004,551,504,"x",null,"Ventus 2cm 18m 525kg","VJ",""]
["Pavel Rericha",{"$f":"VLOOKUP(A149,Pilot,2,0)","v":1967},{"$f":"VLOOKUP(A149,Pilot,5,0)","v":"M"},{"$f":"VLOOKUP(A149,Pilot,3,0)","v":"Moravská Třebová"},{"$f":"VLOOKUP(A149,Pilot,4,0)","v":"CZ/M"},"PMRg 2023 - Klub",{"$f":"VLOOKUP(F149,Soutez!A:B,2,FALSE)","v":"CZ"},{"$f":"VLOOKUP(F149,Soutez!A:C,3,FALSE)","v":2023},1,8730,0.93,{"$f":"ROUND(J149/MAX($J$149:$J$162)*10000*0.7+(MAX($I$149:$I$162)-I149)/(MAX($I$149:$I$162)-1)*10000*0.3,0)","v":10000},{"$f":"ROUND(K149*L149,0)","v":9300},"x",null,"ASW-19B","NO",""]
["Jan Louda",1986,"M","Mladá Boleslav","CZ/C1","PMRg 2023 - Klub",{"$f":"VLOOKUP(F150,Soutez!A:B,2,FALSE)","v":"CZ"},{"$f":"VLOOKUP(F150,Soutez!A:C,3,FALSE)","v":2023},2,8448,0.93,9543,{"$f":"ROUND(K150*L150,0)","v":8875},"x",null,"ASW-19","XS",""]
["Marek Svancara",1976,"M","GAC Benešov","CZ/C1","PMRg 2023 - Klub",{"$f":"VLOOKUP(F151,Soutez!A:B,2,FALSE)","v":"CZ"},{"$f":"VLOOKUP(F151,Soutez!A:C,3,FALSE)","v":2023},3,7660,0.93,8681,8073,"x",null,"Std. Cirrus","GT",""]
["Jan Smaha",1958,"M","Česká Lípa","CZ/C2","PMRg 2023 - Klub",{"$f":"VLOOKUP(F152,Soutez!A:B,2,FALSE)","v":"CZ"},{"$f":"VLOOKUP(F152,Soutez!A:C,3,FALSE)","v":2023},4,7225,0.93,8101,7534,"x",null,"ASW-15B","CW",""]
["Petr Rozhon",1972,"M","Hosín","CZ/C1","PMRg 2023 - Klub",{"$f":"VLOOKUP(F153,Soutez!A:B,2,FALSE)","v":"CZ"},{"$f":"VLOOKUP(F153,Soutez!A:C,3,FALSE)","v":2023},5,5980,0.93,6872,6391,"x",null,"VSO-10",9,""]
["Pavel Koudelka",1973,"M","Křižanov","CZ/M","PMRg 2023 - Klub",{"$f":"VLOOKUP(F154,Soutez!A:B,2,FALSE)","v":"CZ"},{"$f":"VLOOKUP(F154,Soutez!A:C,3,FALSE)","v":2023},6,5915,0.93,6589,6128,"x",null,"STD. Cirrus","ZL",""]
["Jiri Krofta",1988,"M","Hosín","CZ/C1","PMRg 2023 - Klub",{"$f":"VLOOKUP(F155,Soutez!A:B,2,FALSE)","v":"CZ"},{"$f":"VLOOKUP(F155,Soutez!A:C,3,FALSE)","v":2023},7,5909,0.93,6353,5908,"x",null,"Std. Cirrus","UY",""]
["Michal Vranek",1993,"M","Hosín","CZ/C1","PMRg 2023 - Klub",{"$f":"VLOOKUP(F156,Soutez!A:B,2,FALSE)","v":"CZ"},{"$f":"VLOOKUP(F156,Soutez!A:C,3,FALSE)","v":2023},8,5599,0.93,5874,5463,"x",null,"DG-100","8W",""]
["Miloslav Hulmak",1963,"M","Hosín","CZ/C1","PMRg 2023 - Klub",{"$f":"VLOOKUP(F157,Soutez!A:B,2,FALSE)","v":"CZ"},{"$f":"VLOOKUP(F157,Soutez!A:C,3,FALSE)","v":2023},9,4969,0.93,5138,4778,null,null,"ASW-15B","HH",""]
["Daniel Marek",{"$f":"VLOOKUP(A158,Pilot,2,0)","v":1983},{"$f":"VLOOKUP(A158,Pilot,5,0)","v":"M"},{"$f":"VLOOKUP(A158,Pilot,3,0)","v":"Hosín"},{"$f":"VLOOKUP(A158,Pilot,4,0)","v":"CZ/C1"},"PMRg 2023 - Klub",{"$f":"VLOOKUP(F158,Soutez!A:B,2,FALSE)","v":"CZ"},{"$f":"VLOOKUP(F158,Soutez!A:C,3,FALSE)","v":2023},10,4846,0.93,4809,4472,"x",null,"Std. Cirrus","XII",""]
["Frantisek Suna",1983,"M","Hosín","CZ/C1","PMRg 2023 - Klub",{"$f":"VLOOKUP(F159,Soutez!A:B,2,FALSE)","v":"CZ"},{"$f":"VLOOKUP(F159,Soutez!A:C,3,FALSE)","v":2023},11,4331,0.93,4165,{"$f":"ROUND(K159*L159,0)","v":3873},null,null,"DG-100",78,""]
["Radoslav Pur",1973,"M","Hosín","CZ/C1","PMRg 2023 - Klub",{"$f":"VLOOKUP(F160,Soutez!A:B,2,FALSE)","v":"CZ"},{"$f":"VLOOKUP(F160,Soutez!A:C,3,FALSE)","v":2023},12,3358,0.93,3154,2933,null,null,"DG-200","EK",""]
["Jiri Holcman",1976,"M","Hosín","CZ/C1","PMRg 2023 - Klub",{"$f":"VLOOKUP(F161,Soutez!A:B,2,FALSE)","v":"CZ"},{"$f":"VLOOKUP(F161,Soutez!A:C,3,FALSE)","v":2023},13,2234,0.93,2022,1880,null,null,"ASW-19","BO",""]
["Petr Sochor",1986,"M","Hosín","CZ/C1","PMRg 2023 - Klub",{"$f":"VLOOKUP(F162,Soutez!A:B,2,FALSE)","v":"CZ"},{"$f":"VLOOKUP(F162,Soutez!A:C,3,FALSE)","v":2023},14,0,0.93,0,0,null,null,"ASW-15B","6Y",""]
["Lukas Kriz",{"$f":"VLOOKUP(A163,Pilot,2,0)","v":2003},{"$f":"VLOOKUP(A163,Pilot,5,0)","v":"M"},{"$f":"VLOOKUP(A163,Pilot,3,0)","v":"Křižanov"},{"$f":"VLOOKUP(A163,Pilot,4,0)","v":"CZ/M"},"PMRg, PMČRj 2023 - Kombi",{"$f":"VLOOKUP(F163,Soutez!A:B,2,FALSE)","v":"CZ"},{"$f":"VLOOKUP(F163,Soutez!A:C,3,FALSE)","v":2023},1,9417,0.95000000000000007,{"$f":"ROUND(J163/MAX($J$163:$J$173)*10000*0.7+(MAX($I$163:$I$173)-I163)/(MAX($I$163:$I$173)-1)*10000*0.3,0)","v":10000},{"$f":"ROUND(K163*L163,0)","v":9500},null,null,"LS 8 15m","AU","Junior v roce 2026"]
["Jaromir Macoun",1999,"M","Jičín","CZ/C2","PMRg, PMČRj 2023 - Kombi",{"$f":"VLOOKUP(F164,Soutez!A:B,2,FALSE)","v":"CZ"},{"$f":"VLOOKUP(F164,Soutez!A:C,3,FALSE)","v":2023},2,9221,0.95000000000000007,9554,{"$f":"ROUND(K164*L164,0)","v":9076},null,null,"LS 8A","EU",""]
["Josef Busek",1967,"M","Hosín","CZ/C1","PMRg, PMČRj 2023 - Kombi",{"$f":"VLOOKUP(F165,Soutez!A:B,2,FALSE)","v":"CZ"},{"$f":"VLOOKUP(F165,Soutez!A:C,3,FALSE)","v":2023},3,8601,0.95000000000000007,8793,8353,"x",null,"Duo Discus","BB",""]
["Theo Manfredi",null,null,"Association Aéronautique du Val d\\'Oise",null,"PMRg, PMČRj 2023 - Kombi",{"$f":"VLOOKUP(F166,Soutez!A:B,2,FALSE)","v":"CZ"},{"$f":"VLOOKUP(F166,Soutez!A:C,3,FALSE)","v":2023},4,7258,0.95000000000000007,7495,7120,null,null,"LAK-17A WL 15m","LE","Není v databázi"]
["Jaromir Pauer",{"$f":"VLOOKUP(A167,Pilot,2,0)","v":1974},{"$f":"VLOOKUP(A167,Pilot,5,0)","v":"M"},{"$f":"VLOOKUP(A167,Pilot,3,0)","v":"Hosín"},{"$f":"VLOOKUP(A167,Pilot,4,0)","v":"CZ/C1"},"PMRg, PMČRj 2023 - Kombi",{"$f":"VLOOKUP(F167,Soutez!A:B,2,FALSE)","v":"CZ"},{"$f":"VLOOKUP(F167,Soutez!A:C,3,FALSE)","v":2023},5,6880,0.95000000000000007,6914,6568,"x",null,"Ventus B 16.6m WL","7F",""]
["Michael Fik",1972,"M","Strakonice","CZ/C1","PMRg, PMČRj 2023 - Kombi",{"$f":"VLOOKUP(F168,Soutez!A:B,2,FALSE)","v":"CZ"},{"$f":"VLOOKUP(F168,Soutez!A:C,3,FALSE)","v":2023},6,6702,0.95000000000000007,6482,6158,"x",null,"Ventus 2c","ZR",""]
["Karel Mares",1974,"M","Slaný","CZ/C1","PMRg, PMČRj 2023 - Kombi",{"$f":"VLOOKUP(F169,Soutez!A:B,2,FALSE)","v":"CZ"},{"$f":"VLOOKUP(F169,Soutez!A:C,3,FALSE)","v":2023},7,5894,0.95000000000000007,5581,5302,"x",null,"Duo Discus XT","DD",""]
["Radek Zima 78",1978,"M","Hodkovice","CZ/C2","PMRg, PMČRj 2023 - Kombi",{"$f":"VLOOKUP(F170,Soutez!A:B,2,FALSE)","v":"CZ"},{"$f":"VLOOKUP(F170,Soutez!A:C,3,FALSE)","v":2023},8,5577,0.95000000000000007,5046,4794,null,null,"DG 500 22m","YA",""]
["Peter Janoska",null,null,"Nitra",null,"PMRg, PMČRj 2023 - Kombi",{"$f":"VLOOKUP(F171,Soutez!A:B,2,FALSE)","v":"CZ"},{"$f":"VLOOKUP(F171,Soutez!A:C,3,FALSE)","v":2023},9,4662,0.95000000000000007,4065,{"$f":"ROUND(K171*L171,0)","v":3862},null,null,"LS 6C /17,5m","N6","Není v databázi"]
["Michal Hemrle",{"$f":"VLOOKUP(A172,Pilot,2,0)","v":1974},{"$f":"VLOOKUP(A172,Pilot,5,0)","v":"M"},{"$f":"VLOOKUP(A172,Pilot,3,0)","v":"Česká Lípa"},{"$f":"VLOOKUP(A172,Pilot,4,0)","v":"CZ/C2"},"PMRg, PMČRj 2023 - Kombi",{"$f":"VLOOKUP(F172,Soutez!A:B,2,FALSE)","v":"CZ"},{"$f":"VLOOKUP(F172,Soutez!A:C,3,FALSE)","v":2023},10,4036,0.95000000000000007,3300,3135,null,null,"ASG 29 Es 18m","ET",""]
["Tomas Vaclavik",{"$f":"VLOOKUP(A173,Pilot,2,0)","v":1974},{"$f":"VLOOKUP(A173,Pilot,5,0)","v":"M"},{"$f":"VLOOKUP(A173,Pilot,3,0)","v":"Hosín"},{"$f":"VLOOKUP(A173,Pilot,4,0)","v":"CZ/C1"},"PMRg, PMČRj 2023 - Kombi",{"$f":"VLOOKUP(F173,Soutez!A:B,2,FALSE)","v":"CZ"},{"$f":"VLOOKUP(F173,Soutez!A:C,3,FALSE)","v":2023},11,1238,0.95000000000000007,920,874,"x",null,"LAK-12",12,""]
["Vit Morkovsky",{"$f":"VLOOKUP(A174,Pilot,2,0)","v":2000},{"$f":"VLOOKUP(A174,Pilot,5,0)","v":"M"},{"$f":"VLOOKUP(A174,Pilot,3,0)","v":"Polička"},{"$f":"VLOOKUP(A174,Pilot,4,0)","v":"CZ/C2"},"PMČRj 2023 - Klub",{"$f":"VLOOKUP(F174,Soutez!A:B,2,FALSE)","v":"CZ"},{"$f":"VLOOKUP(F174,Soutez!A:C,3,FALSE)","v":2023},1,8171,0.94000000000000006,{"$f":"ROUND(J174/MAX($J$174:$J$198)*10000*0.7+(MAX($I$174:$I$198)-I174)/(MAX($I$174:$I$198)-1)*10000*0.3,0)","v":10000},{"$f":"ROUND(K174*L174,0)","v":9400},"x",null,"ASW 24 WL /no TN8","SM",""]
["Jan Stastny",2003,"M","Medlánky","CZ/M","PMČRj 2023 - Klub",{"$f":"VLOOKUP(F175,Soutez!A:B,2,FALSE)","v":"CZ"},{"$f":"VLOOKUP(F175,Soutez!A:C,3,FALSE)","v":2023},2,8092,0.94000000000000006,9807,{"$f":"ROUND(K175*L175,0)","v":9219},null,null,"ASW-20 A L","CP","Junior v roce 2026"]
["Alexandre Fierain",null,null,"Abbeville",null,"PMČRj 2023 - Klub",{"$f":"VLOOKUP(F176,Soutez!A:B,2,FALSE)","v":"CZ"},{"$f":"VLOOKUP(F176,Soutez!A:C,3,FALSE)","v":2023},3,7868,0.94000000000000006,9490,8921,null,null,"ASW-20 A WL","WE","Není v databázi"]
["Vladimir Hammer",{"$f":"VLOOKUP(A177,Pilot,2,0)","v":2000},{"$f":"VLOOKUP(A177,Pilot,5,0)","v":"M"},{"$f":"VLOOKUP(A177,Pilot,3,0)","v":"Letkov"},{"$f":"VLOOKUP(A177,Pilot,4,0)","v":"CZ/C1"},"PMČRj 2023 - Klub",{"$f":"VLOOKUP(F177,Soutez!A:B,2,FALSE)","v":"CZ"},{"$f":"VLOOKUP(F177,Soutez!A:C,3,FALSE)","v":2023},4,7641,0.94000000000000006,9171,8621,"x",null,"ASW-20A","WX",""]
["Tomas Hynek",2002,"M","Dvůr Králové","CZ/C2","PMČRj 2023 - Klub",{"$f":"VLOOKUP(F178,Soutez!A:B,2,FALSE)","v":"CZ"},{"$f":"VLOOKUP(F178,Soutez!A:C,3,FALSE)","v":2023},5,7465,0.94000000000000006,8895,8361,"x",null,"ASW-20 C L","VW","Junior v roce 2026"]
["Jan Beran",1999,"M","Kladno","CZ/C1","PMČRj 2023 - Klub",{"$f":"VLOOKUP(F179,Soutez!A:B,2,FALSE)","v":"CZ"},{"$f":"VLOOKUP(F179,Soutez!A:C,3,FALSE)","v":2023},6,7359,0.94000000000000006,8679,8158,"x",null,"ASW-19B","HB",{"$f":"IF(ISERROR(VLOOKUP(A179,Pilot,6,0)),\"Není v databázi\",VLOOKUP(A179,Pilot,6,0))","v":""}]
["Victor Mallick",null,null,"Sarreguemines",null,"PMČRj 2023 - Klub",{"$f":"VLOOKUP(F180,Soutez!A:B,2,FALSE)","v":"CZ"},{"$f":"VLOOKUP(F180,Soutez!A:C,3,FALSE)","v":2023},7,7077,0.94000000000000006,8313,7814,null,null,"LS-8 A","ZZ","Není v databázi"]
["Lukas Maly",{"$f":"VLOOKUP(A181,Pilot,2,0)","v":1998},{"$f":"VLOOKUP(A181,Pilot,5,0)","v":"M"},{"$f":"VLOOKUP(A181,Pilot,3,0)","v":"Vysoké Mýto"},{"$f":"VLOOKUP(A181,Pilot,4,0)","v":"CZ/C2"},"PMČRj 2023 - Klub",{"$f":"VLOOKUP(F181,Soutez!A:B,2,FALSE)","v":"CZ"},{"$f":"VLOOKUP(F181,Soutez!A:C,3,FALSE)","v":2023},8,6831,0.94000000000000006,7977,7498,"x",null,"Discus cs",65,""]
["Gaël Pischedda",null,null,"Vinon",null,"PMČRj 2023 - Klub",{"$f":"VLOOKUP(F182,Soutez!A:B,2,FALSE)","v":"CZ"},{"$f":"VLOOKUP(F182,Soutez!A:C,3,FALSE)","v":2023},9,6802,0.94000000000000006,7827,7357,null,null,"LS 4",73,"Není v databázi"]
["Stepan Bartos",{"$f":"VLOOKUP(A183,Pilot,2,0)","v":2004},{"$f":"VLOOKUP(A183,Pilot,5,0)","v":"M"},{"$f":"VLOOKUP(A183,Pilot,3,0)","v":"Kolín"},{"$f":"VLOOKUP(A183,Pilot,4,0)","v":"CZ/C1"},"PMČRj 2023 - Klub",{"$f":"VLOOKUP(F183,Soutez!A:B,2,FALSE)","v":"CZ"},{"$f":"VLOOKUP(F183,Soutez!A:C,3,FALSE)","v":2023},10,6690,0.94000000000000006,7606,7150,null,null,"DG-300 ELAN WL RG","DG","Junior v roce 2026"]
["Stepan Filakovsky",{"$f":"VLOOKUP(A184,Pilot,2,0)","v":2005},{"$f":"VLOOKUP(A184,Pilot,5,0)","v":"M"},{"$f":"VLOOKUP(A184,Pilot,3,0)","v":"Medlánky"},{"$f":"VLOOKUP(A184,Pilot,4,0)","v":"CZ/M"},"PMČRj 2023 - Klub",{"$f":"VLOOKUP(F184,Soutez!A:B,2,FALSE)","v":"CZ"},{"$f":"VLOOKUP(F184,Soutez!A:C,3,FALSE)","v":2023},11,6270,0.94000000000000006,7121,6694,null,null,"LS-1 F","FD","Junior v roce 2026"]
["Theo Napoleon",null,null,"AVCASA",null,"PMČRj 2023 - Klub",{"$f":"VLOOKUP(F185,Soutez!A:B,2,FALSE)","v":"CZ"},{"$f":"VLOOKUP(F185,Soutez!A:C,3,FALSE)","v":2023},12,6077,0.94000000000000006,6831,6421,null,null,"ASW-24 WL /w TN8",57,"Není v databázi"]
["Matej Bartos",{"$f":"VLOOKUP(A186,Pilot,2,0)","v":1998},{"$f":"VLOOKUP(A186,Pilot,5,0)","v":"M"},{"$f":"VLOOKUP(A186,Pilot,3,0)","v":"Hodkovice"},{"$f":"VLOOKUP(A186,Pilot,4,0)","v":"CZ/C2"},"PMČRj 2023 - Klub",{"$f":"VLOOKUP(F186,Soutez!A:B,2,FALSE)","v":"CZ"},{"$f":"VLOOKUP(F186,Soutez!A:C,3,FALSE)","v":2023},13,5505,0.94000000000000006,6216,5843,"x",null,"ASW-19B","XP",""]
["Vojtech Vach 03",{"$f":"VLOOKUP(A187,Pilot,2,0)","v":2003},{"$f":"VLOOKUP(A187,Pilot,5,0)","v":"M"},{"$f":"VLOOKUP(A187,Pilot,3,0)","v":"Vrchlabí"},{"$f":"VLOOKUP(A187,Pilot,4,0)","v":"CZ/C2"},"PMČRj 2023 - Klub",{"$f":"VLOOKUP(F187,Soutez!A:B,2,FALSE)","v":"CZ"},{"$f":"VLOOKUP(F187,Soutez!A:C,3,FALSE)","v":2023},14,5481,0.94000000000000006,6071,{"$f":"ROUND(K187*L187,0)","v":5707},null,null,"Std. Cirrus","YU","Junior v roce 2026"]
["Petr Masik",2001,"M","Zábřeh","CZ/M","PMČRj 2023 - Klub",{"$f":"VLOOKUP(F188,Soutez!A:B,2,FALSE)","v":"CZ"},{"$f":"VLOOKUP(F188,Soutez!A:C,3,FALSE)","v":2023},15,5335,0.94000000000000006,5820,5471,null,null,"Std.Cirrus","MJ","Junior v roce 2026"]
["Tibor Hezina",2002,"M","Křižanov","CZ/M","PMČRj 2023 - Klub",{"$f":"VLOOKUP(F189,Soutez!A:B,2,FALSE)","v":"CZ"},{"$f":"VLOOKUP(F189,Soutez!A:C,3,FALSE)","v":2023},16,5147,0.94000000000000006,5534,5202,"x",null,"Std. Cirrus","IJ","Junior v roce 2026"]
["Katerina Vancurova",2002,"F","Hranice","CZ/M","PMČRj 2023 - Klub",{"$f":"VLOOKUP(F190,Soutez!A:B,2,FALSE)","v":"CZ"},{"$f":"VLOOKUP(F190,Soutez!A:C,3,FALSE)","v":2023},17,5082,0.94000000000000006,5354,5033,"x","x","Discus cs","HD","Junior v roce 2026"]
["Martin Stastny",2005,"M","Medlánky","CZ/M","PMČRj 2023 - Klub",{"$f":"VLOOKUP(F191,Soutez!A:B,2,FALSE)","v":"CZ"},{"$f":"VLOOKUP(F191,Soutez!A:C,3,FALSE)","v":2023},18,5021,0.94000000000000006,5176,4865,"x",null,"Std. Cirrus","CX","Junior v roce 2026"]
["Jan Svestka",2005,"M","Křižanov","CZ/M","PMČRj 2023 - Klub",{"$f":"VLOOKUP(F192,Soutez!A:B,2,FALSE)","v":"CZ"},{"$f":"VLOOKUP(F192,Soutez!A:C,3,FALSE)","v":2023},19,4989,0.94000000000000006,5024,4723,"x",null,"Std. Cirrus","EJ","Junior v roce 2026"]
["Eliska Kudejova",{"$f":"VLOOKUP(A193,Pilot,2,0)","v":2006},{"$f":"VLOOKUP(A193,Pilot,5,0)","v":"F"},{"$f":"VLOOKUP(A193,Pilot,3,0)","v":"Strakonice"},{"$f":"VLOOKUP(A193,Pilot,4,0)","v":"CZ/C1"},"PMČRj 2023 - Klub",{"$f":"VLOOKUP(F193,Soutez!A:B,2,FALSE)","v":"CZ"},{"$f":"VLOOKUP(F193,Soutez!A:C,3,FALSE)","v":2023},20,4572,0.94000000000000006,4542,4269,null,null,"DG-101","JL","Junior v roce 2026"]
["Tim Raasch",2000,"M","Polička","CZ/C2","PMČRj 2023 - Klub",{"$f":"VLOOKUP(F194,Soutez!A:B,2,FALSE)","v":"CZ"},{"$f":"VLOOKUP(F194,Soutez!A:C,3,FALSE)","v":2023},21,4232,0.94000000000000006,4126,3878,"x",null,"ASW-28","RC",""]
["Fabian Curda",2004,"M","Zábřeh","CZ/M","PMČRj 2023 - Klub",{"$f":"VLOOKUP(F195,Soutez!A:B,2,FALSE)","v":"CZ"},{"$f":"VLOOKUP(F195,Soutez!A:C,3,FALSE)","v":2023},22,3996,0.94000000000000006,3798,3570,null,null,"DG-300 ELAN RG","U7","Junior v roce 2026"]
["Adam Hepal",{"$f":"VLOOKUP(A196,Pilot,2,0)","v":2004},{"$f":"VLOOKUP(A196,Pilot,5,0)","v":"M"},{"$f":"VLOOKUP(A196,Pilot,3,0)","v":"Moravská Třebová"},{"$f":"VLOOKUP(A196,Pilot,4,0)","v":"CZ/M"},"PMČRj 2023 - Klub",{"$f":"VLOOKUP(F196,Soutez!A:B,2,FALSE)","v":"CZ"},{"$f":"VLOOKUP(F196,Soutez!A:C,3,FALSE)","v":2023},23,3519,0.94000000000000006,3265,3069,null,null,"ASW-19B","AE","Junior v roce 2026"]
["Vojtech Pavek",2000,"M","Medlánky","CZ/M","PMČRj 2023 - Klub",{"$f":"VLOOKUP(F197,Soutez!A:B,2,FALSE)","v":"CZ"},{"$f":"VLOOKUP(F197,Soutez!A:C,3,FALSE)","v":2023},24,3425,0.94000000000000006,3059,2875,null,null,"Std.Cirrus","MP",""]
["Marie Vesela",{"$f":"VLOOKUP(A198,Pilot,2,0)","v":1999},{"$f":"VLOOKUP(A198,Pilot,5,0)","v":"F"},{"$f":"VLOOKUP(A198,Pilot,3,0)","v":"Staňkov"},{"$f":"VLOOKUP(A198,Pilot,4,0)","v":"CZ/C1"},"PMČRj 2023 - Klub",{"$f":"VLOOKUP(F198,Soutez!A:B,2,FALSE)","v":"CZ"},{"$f":"VLOOKUP(F198,Soutez!A:C,3,FALSE)","v":2023},25,597,0.94000000000000006,511,480,"x","x","Discus B","IJK",""]
["Radim Sobek",{"$f":"VLOOKUP(A199,Pilot,2,0)","v":1977},{"$f":"VLOOKUP(A199,Pilot,5,0)","v":"M"},{"$f":"VLOOKUP(A199,Pilot,3,0)","v":"Hranice"},{"$f":"VLOOKUP(A199,Pilot,4,0)","v":"CZ/M"},"Safari Cup 2023 - Klub",{"$f":"VLOOKUP(F199,Soutez!A:B,2,FALSE)","v":"CZ"},{"$f":"VLOOKUP(F199,Soutez!A:C,3,FALSE)","v":2023},1,6949,{"$f":"VLOOKUP(F199,Soutez,12,0)","v":0.77500000000000002},{"$f":"ROUND(J199/MAX($J$199:$J$223)*10000*0.7+(MAX($I$199:$I$223)-I199)/(MAX($I$199:$I$223)-1)*10000*0.3,0)","v":10000},{"$f":"ROUND(K199*L199,0)","v":7750},"x",null,"TST-10M Atlas",7,""]
["Tomas Kulhavy",2001,"M","Liberec","CZ/C2","Safari Cup 2023 - Klub",{"$f":"VLOOKUP(F200,Soutez!A:B,2,FALSE)","v":"CZ"},{"$f":"VLOOKUP(F200,Soutez!A:C,3,FALSE)","v":2023},2,6770,0.77500000000000002,9695,{"$f":"ROUND(K200*L200,0)","v":7514},"x",null,"HpH 304cz 15m","IH","Junior v roce 2026"]
["Marek Kornec",1957,"M","Dvůr Králové","CZ/C2","Safari Cup 2023 - Klub",{"$f":"VLOOKUP(F201,Soutez!A:B,2,FALSE)","v":"CZ"},{"$f":"VLOOKUP(F201,Soutez!A:C,3,FALSE)","v":2023},3,6638,0.77500000000000002,9437,7314,"x",null,"SZD-48 Jantar std. 3","JM",""]
["Vojtech Pivonka",{"$f":"VLOOKUP(A202,Pilot,2,0)","v":1976},{"$f":"VLOOKUP(A202,Pilot,5,0)","v":"M"},{"$f":"VLOOKUP(A202,Pilot,3,0)","v":"Vrchlabí"},{"$f":"VLOOKUP(A202,Pilot,4,0)","v":"CZ/C2"},"Safari Cup 2023 - Klub",{"$f":"VLOOKUP(F202,Soutez!A:B,2,FALSE)","v":"CZ"},{"$f":"VLOOKUP(F202,Soutez!A:C,3,FALSE)","v":2023},4,6609,0.77500000000000002,9283,7194,"x",null,"G-103 Twin Astir dvojí (zatahovací podvozek)",5,""]
["Filip Mrstny",2006,"M","Beroun","CZ/C1","Safari Cup 2023 - Klub",{"$f":"VLOOKUP(F203,Soutez!A:B,2,FALSE)","v":"CZ"},{"$f":"VLOOKUP(F203,Soutez!A:C,3,FALSE)","v":2023},5,6508,0.77500000000000002,9056,7018,"x",null,"VSO-10","B1","Junior v roce 2026"]
["Wolfgang Sluka",{"$f":"VLOOKUP(A204,Pilot,2,0)","v":1942},{"$f":"VLOOKUP(A204,Pilot,5,0)","v":"M"},{"$f":"VLOOKUP(A204,Pilot,3,0)","v":"Liberec"},{"$f":"VLOOKUP(A204,Pilot,4,0)","v":"CZ/C2"},"Safari Cup 2023 - Klub",{"$f":"VLOOKUP(F204,Soutez!A:B,2,FALSE)","v":"CZ"},{"$f":"VLOOKUP(F204,Soutez!A:C,3,FALSE)","v":2023},6,6419,0.77500000000000002,8841,6852,"x",null,"Std. Cirrus","KA",""]
["Jaroslav Sima",1972,"M","Chomutov","CZ/C2","Safari Cup 2023 - Klub",{"$f":"VLOOKUP(F205,Soutez!A:B,2,FALSE)","v":"CZ"},{"$f":"VLOOKUP(F205,Soutez!A:C,3,FALSE)","v":2023},7,6395,0.77500000000000002,8692,6736,"x",null,"G-104 Speed Astir II","V2",""]
["Petr Lonsky",1965,"M","Toužim","CZ/C1","Safari Cup 2023 - Klub",{"$f":"VLOOKUP(F206,Soutez!A:B,2,FALSE)","v":"CZ"},{"$f":"VLOOKUP(F206,Soutez!A:C,3,FALSE)","v":2023},8,6189,0.77500000000000002,8359,6478,"x",null,"Cirrus VTC","JP",""]
["Jan Hybner",1977,"M","Liberec","CZ/C2","Safari Cup 2023 - Klub",{"$f":"VLOOKUP(F207,Soutez!A:B,2,FALSE)","v":"CZ"},{"$f":"VLOOKUP(F207,Soutez!A:C,3,FALSE)","v":2023},9,6042,0.77500000000000002,8086,6267,"x",null,"HpH 304cz 15m","LB",""]
["Ondrej Teichman",1984,"M","Dvůr Králové","CZ/C2","Safari Cup 2023 - Klub",{"$f":"VLOOKUP(F208,Soutez!A:B,2,FALSE)","v":"CZ"},{"$f":"VLOOKUP(F208,Soutez!A:C,3,FALSE)","v":2023},10,5807,0.77500000000000002,7725,5987,"x",null,"Cirruc VTC","VTC",""]
["Martin Cicvarek",{"$f":"VLOOKUP(A209,Pilot,2,0)","v":1966},{"$f":"VLOOKUP(A209,Pilot,5,0)","v":"M"},{"$f":"VLOOKUP(A209,Pilot,3,0)","v":"Liberec"},{"$f":"VLOOKUP(A209,Pilot,4,0)","v":"CZ/C2"},"Safari Cup 2023 - Klub",{"$f":"VLOOKUP(F209,Soutez!A:B,2,FALSE)","v":"CZ"},{"$f":"VLOOKUP(F209,Soutez!A:C,3,FALSE)","v":2023},11,5594,0.77500000000000002,7385,5723,"x",null,"KKB 15E+ (FES)","AC",""]
["Krzysztof Pienkowski",null,null,null,null,"Safari Cup 2023 - Klub",{"$f":"VLOOKUP(F210,Soutez!A:B,2,FALSE)","v":"CZ"},{"$f":"VLOOKUP(F210,Soutez!A:C,3,FALSE)","v":2023},12,5184,0.77500000000000002,6847,{"$f":"ROUND(K210*L210,0)","v":5306},null,null,"LS-4","KP","Není v databázi"]
["Karel Policky",{"$f":"VLOOKUP(A211,Pilot,2,0)","v":1950},{"$f":"VLOOKUP(A211,Pilot,5,0)","v":"M"},{"$f":"VLOOKUP(A211,Pilot,3,0)","v":"Kolín"},{"$f":"VLOOKUP(A211,Pilot,4,0)","v":"CZ/C1"},"Safari Cup 2023 - Klub",{"$f":"VLOOKUP(F211,Soutez!A:B,2,FALSE)","v":"CZ"},{"$f":"VLOOKUP(F211,Soutez!A:C,3,FALSE)","v":2023},13,4870,0.77500000000000002,6406,4965,"x",null,"VSO-10",93,""]
["Alex Gulich",2005,"M","Slaný","CZ/C1","Safari Cup 2023 - Klub",{"$f":"VLOOKUP(F212,Soutez!A:B,2,FALSE)","v":"CZ"},{"$f":"VLOOKUP(F212,Soutez!A:C,3,FALSE)","v":2023},14,4466,0.77500000000000002,5874,4552,null,null,"VSO-10",56,"Junior v roce 2026"]
["Aleksander Jedrosz",null,null,null,null,"Safari Cup 2023 - Klub",{"$f":"VLOOKUP(F213,Soutez!A:B,2,FALSE)","v":"CZ"},{"$f":"VLOOKUP(F213,Soutez!A:C,3,FALSE)","v":2023},15,3785,0.77500000000000002,5063,3924,null,null,"Centrair C-101A Pegase","AJ","Není v databázi"]
["Leos Nosek",{"$f":"VLOOKUP(A214,Pilot,2,0)","v":1958},{"$f":"VLOOKUP(A214,Pilot,5,0)","v":"M"},{"$f":"VLOOKUP(A214,Pilot,3,0)","v":"Křižanov"},{"$f":"VLOOKUP(A214,Pilot,4,0)","v":"CZ/M"},"Safari Cup 2023 - Klub",{"$f":"VLOOKUP(F214,Soutez!A:B,2,FALSE)","v":"CZ"},{"$f":"VLOOKUP(F214,Soutez!A:C,3,FALSE)","v":2023},16,3582,0.77500000000000002,4733,3668,"x",null,"G-104 Speed Astir II b","LE",""]
["Martin Benesovsky",1975,"M","Kolín","CZ/C1","Safari Cup 2023 - Klub",{"$f":"VLOOKUP(F215,Soutez!A:B,2,FALSE)","v":"CZ"},{"$f":"VLOOKUP(F215,Soutez!A:C,3,FALSE)","v":2023},17,3240,0.77500000000000002,4264,3305,"x",null,"G-104 Speed Astir II b","M2",""]
["Ryszard Bendkowski",null,null,null,null,"Safari Cup 2023 - Klub",{"$f":"VLOOKUP(F216,Soutez!A:B,2,FALSE)","v":"CZ"},{"$f":"VLOOKUP(F216,Soutez!A:C,3,FALSE)","v":2023},18,3027,0.77500000000000002,3924,3041,null,null,"SZD-48 Jantar Std. 2","Fili","Není v databázi"]
["Jerzy Mikolajczyk",null,null,null,null,"Safari Cup 2023 - Klub",{"$f":"VLOOKUP(F217,Soutez!A:B,2,FALSE)","v":"CZ"},{"$f":"VLOOKUP(F217,Soutez!A:C,3,FALSE)","v":2023},19,2930,0.77500000000000002,3702,2869,null,null,"LS-4","YL","Není v databázi"]
["Martin Markl",{"$f":"VLOOKUP(A218,Pilot,2,0)","v":1960},{"$f":"VLOOKUP(A218,Pilot,5,0)","v":"M"},{"$f":"VLOOKUP(A218,Pilot,3,0)","v":"Kolín"},{"$f":"VLOOKUP(A218,Pilot,4,0)","v":"CZ/C1"},"Safari Cup 2023 - Klub",{"$f":"VLOOKUP(F218,Soutez!A:B,2,FALSE)","v":"CZ"},{"$f":"VLOOKUP(F218,Soutez!A:C,3,FALSE)","v":2023},20,2808,0.77500000000000002,3454,2677,"x",null,"ASK 21","AK",""]
["Krzystof Kostka",null,null,null,null,"Safari Cup 2023 - Klub",{"$f":"VLOOKUP(F219,Soutez!A:B,2,FALSE)","v":"CZ"},{"$f":"VLOOKUP(F219,Soutez!A:C,3,FALSE)","v":2023},21,2340,0.77500000000000002,2857,2214,null,null,"DG 300","N5","Není v databázi"]
["Vladislav Cadsky",{"$f":"VLOOKUP(A220,Pilot,2,0)","v":1975},{"$f":"VLOOKUP(A220,Pilot,5,0)","v":"M"},{"$f":"VLOOKUP(A220,Pilot,3,0)","v":"Kolín"},{"$f":"VLOOKUP(A220,Pilot,4,0)","v":"CZ/C1"},"Safari Cup 2023 - Klub",{"$f":"VLOOKUP(F220,Soutez!A:B,2,FALSE)","v":"CZ"},{"$f":"VLOOKUP(F220,Soutez!A:C,3,FALSE)","v":2023},22,2184,0.77500000000000002,2575,1996,"x",null,"G-102 Astir Jeans","VI",""]
["Pavel Derda",1952,"M","Dvůr Králové","CZ/C2","Safari Cup 2023 - Klub",{"$f":"VLOOKUP(F221,Soutez!A:B,2,FALSE)","v":"CZ"},{"$f":"VLOOKUP(F221,Soutez!A:C,3,FALSE)","v":2023},23,909,0.77500000000000002,1166,904,"x",null,"Cirrus VTC","VE",""]
["Karel Ertl",1939,"M","LK Břeclav","CZ/M","Safari Cup 2023 - Klub",{"$f":"VLOOKUP(F222,Soutez!A:B,2,FALSE)","v":"CZ"},{"$f":"VLOOKUP(F222,Soutez!A:C,3,FALSE)","v":2023},24,717,0.77500000000000002,847,656,"x",null,"TST-10M Atlas","KE",""]
["Jiri Tomicek",1947,"M","Dvůr Králové","CZ/C2","Safari Cup 2023 - Klub",{"$f":"VLOOKUP(F223,Soutez!A:B,2,FALSE)","v":"CZ"},{"$f":"VLOOKUP(F223,Soutez!A:C,3,FALSE)","v":2023},25,140,0.77500000000000002,141,109,"x",null,"G-103 Twin Astir dvojí (zatahovací podvozek)","W4",""]
["Lukas Hynek",{"$f":"VLOOKUP(A224,Pilot,2,0)","v":1979},{"$f":"VLOOKUP(A224,Pilot,5,0)","v":"M"},{"$f":"VLOOKUP(A224,Pilot,3,0)","v":"Dvůr Králové"},{"$f":"VLOOKUP(A224,Pilot,4,0)","v":"CZ/C2"},"Safari Cup 2023 - Kombi",{"$f":"VLOOKUP(F224,Soutez!A:B,2,FALSE)","v":"CZ"},{"$f":"VLOOKUP(F224,Soutez!A:C,3,FALSE)","v":2023},1,7820,0.77500000000000002,{"$f":"ROUND(J224/MAX($J$224:$J$233)*10000*0.7+(MAX($I$224:$I$233)-I224)/(MAX($I$224:$I$233)-1)*10000*0.3,0)","v":10000},{"$f":"ROUND(K224*L224,0)","v":7750},"x",null,"DG 200 17m","HL",""]
["Radek Bares",1963,"M","Jičín","CZ/C2","Safari Cup 2023 - Kombi",{"$f":"VLOOKUP(F225,Soutez!A:B,2,FALSE)","v":"CZ"},{"$f":"VLOOKUP(F225,Soutez!A:C,3,FALSE)","v":2023},2,6855,0.77500000000000002,{"$f":"ROUND(J225/MAX($J$224:$J$233)*10000*0.7+(MAX($I$224:$I$233)-I225)/(MAX($I$224:$I$233)-1)*10000*0.3,0)","v":8803},{"$f":"ROUND(K225*L225,0)","v":6822},"x",null,"Ventus c 17.6m","GE",""]
["Jan Pazour",{"$f":"VLOOKUP(A226,Pilot,2,0)","v":1979},{"$f":"VLOOKUP(A226,Pilot,5,0)","v":"M"},{"$f":"VLOOKUP(A226,Pilot,3,0)","v":"Dvůr Králové"},{"$f":"VLOOKUP(A226,Pilot,4,0)","v":"CZ/C2"},"Safari Cup 2023 - Kombi",{"$f":"VLOOKUP(F226,Soutez!A:B,2,FALSE)","v":"CZ"},{"$f":"VLOOKUP(F226,Soutez!A:C,3,FALSE)","v":2023},3,6731,0.77500000000000002,8359,6478,"x",null,"ASW-20 L +FL 16,6m","JP",""]
["Tomas Ditrt",1969,"M","Podhořany","CZ/C2","Safari Cup 2023 - Kombi",{"$f":"VLOOKUP(F227,Soutez!A:B,2,FALSE)","v":"CZ"},{"$f":"VLOOKUP(F227,Soutez!A:C,3,FALSE)","v":2023},4,6655,0.77500000000000002,7957,6167,"x",null,"HpH 304MS SHARK 18m -560 kg","TDi",""]
["Ladislav Prokes",1954,"M","Vrchlabí","CZ/C2","Safari Cup 2023 - Kombi",{"$f":"VLOOKUP(F228,Soutez!A:B,2,FALSE)","v":"CZ"},{"$f":"VLOOKUP(F228,Soutez!A:C,3,FALSE)","v":2023},5,6488,0.77500000000000002,7474,5792,"x",null,"Discus CS","VR",""]
["Milan Meisner",1961,"M","Dvůr Králové","CZ/C2","Safari Cup 2023 - Kombi",{"$f":"VLOOKUP(F229,Soutez!A:B,2,FALSE)","v":"CZ"},{"$f":"VLOOKUP(F229,Soutez!A:C,3,FALSE)","v":2023},6,5636,0.77500000000000002,6378,4943,"x",null,"LAK-17B FES 18m","TF",""]
["Slavomir Tanglmajer",1966,"M","Chomutov","CZ/C2","Safari Cup 2023 - Kombi",{"$f":"VLOOKUP(F230,Soutez!A:B,2,FALSE)","v":"CZ"},{"$f":"VLOOKUP(F230,Soutez!A:C,3,FALSE)","v":2023},7,4640,0.77500000000000002,5153,3994,"x",null,"DG 400 17m","ST",""]
["Petr Omelka",1970,"M","Vyškov","CZ/M","Safari Cup 2023 - Kombi",{"$f":"VLOOKUP(F231,Soutez!A:B,2,FALSE)","v":"CZ"},{"$f":"VLOOKUP(F231,Soutez!A:C,3,FALSE)","v":2023},8,2014,0.77500000000000002,2469,1913,null,null,"DG 400 17m","MR",""]
["Jiri Veprek",1959,"M","Dvůr Králové","CZ/C2","Safari Cup 2023 - Kombi",{"$f":"VLOOKUP(F232,Soutez!A:B,2,FALSE)","v":"CZ"},{"$f":"VLOOKUP(F232,Soutez!A:C,3,FALSE)","v":2023},9,806,0.77500000000000002,1055,818,"x",null,"HpH 304cz 17,4m","KN",""]
["Josef Plechac",1942,"M","Hronov","CZ/C2","Safari Cup 2023 - Kombi",{"$f":"VLOOKUP(F233,Soutez!A:B,2,FALSE)","v":"CZ"},{"$f":"VLOOKUP(F233,Soutez!A:C,3,FALSE)","v":2023},10,11,0.77500000000000002,10,8,"x",null,"Nimbus 2M","PM",""]
["Michal Lesinger",{"$f":"VLOOKUP(A234,Pilot,2,0)","v":1966},{"$f":"VLOOKUP(A234,Pilot,5,0)","v":"M"},{"$f":"VLOOKUP(A234,Pilot,3,0)","v":"Moravská Třebová"},{"$f":"VLOOKUP(A234,Pilot,4,0)","v":"CZ/M"},"Toužim Cup 2023 - Klub",{"$f":"VLOOKUP(F234,Soutez!A:B,2,FALSE)","v":"CZ"},{"$f":"VLOOKUP(F234,Soutez!A:C,3,FALSE)","v":2023},1,4561,0.91500000000000004,{"$f":"ROUND(J234/MAX($J$234:$J$252)*10000*0.7+(MAX($I$234:$I$252)-I234)/(MAX($I$234:$I$252)-1)*10000*0.3,0)","v":10000},{"$f":"ROUND(K234*L234,0)","v":9150},null,null,"ASW-20 (A)+L+F /15m","LL",""]
["Roman Jokl",1979,"M","Letkov","CZ/C1","Toužim Cup 2023 - Klub",{"$f":"VLOOKUP(F235,Soutez!A:B,2,FALSE)","v":"CZ"},{"$f":"VLOOKUP(F235,Soutez!A:C,3,FALSE)","v":2023},2,4442,0.91500000000000004,9651,{"$f":"ROUND(K235*L235,0)","v":8831},"x",null,"ASW-19B","JL",""]
["Lukas Koukal",1991,"M","Letkov","CZ/C1","Toužim Cup 2023 - Klub",{"$f":"VLOOKUP(F236,Soutez!A:B,2,FALSE)","v":"CZ"},{"$f":"VLOOKUP(F236,Soutez!A:C,3,FALSE)","v":2023},3,4434,0.91500000000000004,9472,8667,"x",null,"ASW-15B","T1",""]
["Michal Cupak",1991,"M","Medlánky","CZ/M","Toužim Cup 2023 - Klub",{"$f":"VLOOKUP(F237,Soutez!A:B,2,FALSE)","v":"CZ"},{"$f":"VLOOKUP(F237,Soutez!A:C,3,FALSE)","v":2023},4,4257,0.91500000000000004,9033,8265,"x",null,"Std. Cirrus","A7",""]
["Lukas Plocek",1990,"M","Mladá Boleslav","CZ/C1","Toužim Cup 2023 - Klub",{"$f":"VLOOKUP(F238,Soutez!A:B,2,FALSE)","v":"CZ"},{"$f":"VLOOKUP(F238,Soutez!A:C,3,FALSE)","v":2023},5,4146,0.91500000000000004,8696,7957,"x",null,"ASW-19B","AH",""]
["Daniel Dvorak",1980,"M","Letkov","CZ/C1","Toužim Cup 2023 - Klub",{"$f":"VLOOKUP(F239,Soutez!A:B,2,FALSE)","v":"CZ"},{"$f":"VLOOKUP(F239,Soutez!A:C,3,FALSE)","v":2023},6,4100,0.91500000000000004,8459,7740,"x",null,"Std. Cirrus","LD",""]
["Michal Drab",1969,"M","Letkov","CZ/C1","Toužim Cup 2023 - Klub",{"$f":"VLOOKUP(F240,Soutez!A:B,2,FALSE)","v":"CZ"},{"$f":"VLOOKUP(F240,Soutez!A:C,3,FALSE)","v":2023},7,3427,0.91500000000000004,7260,6643,"x",null,"LS-1c","S3",{"$f":"IF(ISERROR(VLOOKUP(A240,Pilot,6,0)),\"Není v databázi\",VLOOKUP(A240,Pilot,6,0))","v":""}]
["Jan Zanda",1983,"M","Letkov","CZ/C1","Toužim Cup 2023 - Klub",{"$f":"VLOOKUP(F241,Soutez!A:B,2,FALSE)","v":"CZ"},{"$f":"VLOOKUP(F241,Soutez!A:C,3,FALSE)","v":2023},8,3401,0.91500000000000004,7053,6453,"x",null,"LS-1c","AN",""]
["Jan Muknsnabl",{"$f":"VLOOKUP(A242,Pilot,2,0)","v":1992},{"$f":"VLOOKUP(A242,Pilot,5,0)","v":"M"},{"$f":"VLOOKUP(A242,Pilot,3,0)","v":"Letkov"},{"$f":"VLOOKUP(A242,Pilot,4,0)","v":"CZ/C1"},"Toužim Cup 2023 - Klub",{"$f":"VLOOKUP(F242,Soutez!A:B,2,FALSE)","v":"CZ"},{"$f":"VLOOKUP(F242,Soutez!A:C,3,FALSE)","v":2023},9,3179,0.91500000000000004,6546,5990,"x",null,"Std. Cirrus","SB",""]
["Jiri Prochazka",1971,"M","Toužim","CZ/C1","Toužim Cup 2023 - Klub",{"$f":"VLOOKUP(F243,Soutez!A:B,2,FALSE)","v":"CZ"},{"$f":"VLOOKUP(F243,Soutez!A:C,3,FALSE)","v":2023},10,3142,0.91500000000000004,6322,5785,null,null,"Janus CM (FG) (fix gear=pevný podvozek)","J59",""]
["Rudolf Jung",1954,"M","Zbraslavice","CZ/C1","Toužim Cup 2023 - Klub",{"$f":"VLOOKUP(F244,Soutez!A:B,2,FALSE)","v":"CZ"},{"$f":"VLOOKUP(F244,Soutez!A:C,3,FALSE)","v":2023},11,2801,0.91500000000000004,5632,{"$f":"ROUND(K244*L244,0)","v":5153},"x",null,"G-103 Twin III dvojí (pevný podvozek)","TO",""]
["Martin Valenta",1969,"M","Toužim","CZ/C1","Toužim Cup 2023 - Klub",{"$f":"VLOOKUP(F245,Soutez!A:B,2,FALSE)","v":"CZ"},{"$f":"VLOOKUP(F245,Soutez!A:C,3,FALSE)","v":2023},12,2284,0.91500000000000004,4672,4275,"x",null,"G-104 Speed Astir II b","Y3",""]
["Martin Fric",1967,"M","Raná","CZ/C2","Toužim Cup 2023 - Klub",{"$f":"VLOOKUP(F246,Soutez!A:B,2,FALSE)","v":"CZ"},{"$f":"VLOOKUP(F246,Soutez!A:C,3,FALSE)","v":2023},13,2146,0.91500000000000004,4294,3929,"x",null,"DG-100","E2",""]
["Tomas Jung",{"$f":"VLOOKUP(A247,Pilot,2,0)","v":1950},{"$f":"VLOOKUP(A247,Pilot,5,0)","v":"M"},{"$f":"VLOOKUP(A247,Pilot,3,0)","v":"Zbraslavice"},{"$f":"VLOOKUP(A247,Pilot,4,0)","v":"CZ/C1"},"Toužim Cup 2023 - Klub",{"$f":"VLOOKUP(F247,Soutez!A:B,2,FALSE)","v":"CZ"},{"$f":"VLOOKUP(F247,Soutez!A:C,3,FALSE)","v":2023},14,2131,0.91500000000000004,4104,3755,"x",null,"ASW-19B","O2",""]
["Tomas Seifert",1972,"M","Raná","CZ/C2","Toužim Cup 2023 - Klub",{"$f":"VLOOKUP(F248,Soutez!A:B,2,FALSE)","v":"CZ"},{"$f":"VLOOKUP(F248,Soutez!A:C,3,FALSE)","v":2023},15,2026,0.91500000000000004,3776,3455,"x",null,"ASW-15B","MC",""]
["Jaroslav Hot",1965,"M","Toužim","CZ/C1","Toužim Cup 2023 - Klub",{"$f":"VLOOKUP(F249,Soutez!A:B,2,FALSE)","v":"CZ"},{"$f":"VLOOKUP(F249,Soutez!A:C,3,FALSE)","v":2023},16,1962,0.91500000000000004,3511,3213,"x",null,"Pik-20D","HJ",""]
["Petr Cernicky",1974,"M","Toužim","CZ/C1","Toužim Cup 2023 - Klub",{"$f":"VLOOKUP(F250,Soutez!A:B,2,FALSE)","v":"CZ"},{"$f":"VLOOKUP(F250,Soutez!A:C,3,FALSE)","v":2023},17,623,0.91500000000000004,1289,1179,"x",null,"G-102 Astir cs","LS",""]
["Frantisek Brozman",1960,"M","Tachov","CZ/C1","Toužim Cup 2023 - Klub",{"$f":"VLOOKUP(F251,Soutez!A:B,2,FALSE)","v":"CZ"},{"$f":"VLOOKUP(F251,Soutez!A:C,3,FALSE)","v":2023},18,323,0.91500000000000004,662,606,"x",null,"G-102 Astir Jeans","FB",""]
["Jan Sustr 76",{"$f":"VLOOKUP(A252,Pilot,2,0)","v":1976},{"$f":"VLOOKUP(A252,Pilot,5,0)","v":"M"},{"$f":"VLOOKUP(A252,Pilot,3,0)","v":"Raná"},{"$f":"VLOOKUP(A252,Pilot,4,0)","v":"CZ/C2"},"Toužim Cup 2023 - Klub",{"$f":"VLOOKUP(F252,Soutez!A:B,2,FALSE)","v":"CZ"},{"$f":"VLOOKUP(F252,Soutez!A:C,3,FALSE)","v":2023},19,0,0.91500000000000004,0,{"$f":"ROUND(K252*L252,0)","v":0},null,null,"DG-300 Club ELAN","WL",""]
["Pavel Jiranek",{"$f":"VLOOKUP(A253,Pilot,2,0)","v":1993},{"$f":"VLOOKUP(A253,Pilot,5,0)","v":"M"},{"$f":"VLOOKUP(A253,Pilot,3,0)","v":"Toužim"},{"$f":"VLOOKUP(A253,Pilot,4,0)","v":"CZ/C1"},"Toužim Cup 2023 - Kombi",{"$f":"VLOOKUP(F253,Soutez!A:B,2,FALSE)","v":"CZ"},{"$f":"VLOOKUP(F253,Soutez!A:C,3,FALSE)","v":2023},1,5185,0.92500000000000004,{"$f":"ROUND(J253/MAX($J$253:$J$278)*10000*0.7+(MAX($I$253:$I$278)-I253)/(MAX($I$253:$I$278)-1)*10000*0.3,0)","v":10000},{"$f":"ROUND(K253*L253,0)","v":9250},"x",null,"Ventus c /17,6m","CS",""]
["Martin Hrivna",1978,"M","Zbraslavice","CZ/C1","Toužim Cup 2023 - Kombi",{"$f":"VLOOKUP(F254,Soutez!A:B,2,FALSE)","v":"CZ"},{"$f":"VLOOKUP(F254,Soutez!A:C,3,FALSE)","v":2023},2,5142,0.92500000000000004,9822,{"$f":"ROUND(K254*L254,0)","v":9085},null,null,"ASG-29E /18m","NX",""]
["Jan Viskot",1995,"M","Břeclav","CZ/M","Toužim Cup 2023 - Kombi",{"$f":"VLOOKUP(F255,Soutez!A:B,2,FALSE)","v":"CZ"},{"$f":"VLOOKUP(F255,Soutez!A:C,3,FALSE)","v":2023},3,5119,0.92500000000000004,9671,8946,"x",null,"Discus 2a /15m","GX",""]
["Tomas Rendla",1973,"M","Zbraslavice","CZ/C1","Toužim Cup 2023 - Kombi",{"$f":"VLOOKUP(F256,Soutez!A:B,2,FALSE)","v":"CZ"},{"$f":"VLOOKUP(F256,Soutez!A:C,3,FALSE)","v":2023},4,4971,0.92500000000000004,9351,8650,null,null,"Arcus 20 M 800kg","EY",""]
["Petr Hotovy",1958,"M","Česká Lípa","CZ/C2","Toužim Cup 2023 - Kombi",{"$f":"VLOOKUP(F257,Soutez!A:B,2,FALSE)","v":"CZ"},{"$f":"VLOOKUP(F257,Soutez!A:C,3,FALSE)","v":2023},5,4844,0.92500000000000004,9060,8381,null,null,"JS1-BTJ 18","IGC",""]
["Martin Zahalka",1987,"M","Staňkov","CZ/C1","Toužim Cup 2023 - Kombi",{"$f":"VLOOKUP(F258,Soutez!A:B,2,FALSE)","v":"CZ"},{"$f":"VLOOKUP(F258,Soutez!A:C,3,FALSE)","v":2023},6,4689,0.92500000000000004,8730,8075,"x",null,"DG-400 17m","FF",""]
["Vratislav Sram",1966,"M","Broumov","CZ/C2","Toužim Cup 2023 - Kombi",{"$f":"VLOOKUP(F259,Soutez!A:B,2,FALSE)","v":"CZ"},{"$f":"VLOOKUP(F259,Soutez!A:C,3,FALSE)","v":2023},7,4647,0.92500000000000004,8554,7912,"x",null,"Nimbus 4DM",7,""]
["Ivan Harasta 65",1965,"M","Toužim","CZ/C1","Toužim Cup 2023 - Kombi",{"$f":"VLOOKUP(F260,Soutez!A:B,2,FALSE)","v":"CZ"},{"$f":"VLOOKUP(F260,Soutez!A:C,3,FALSE)","v":2023},8,4475,0.92500000000000004,8201,7586,null,null,"Ventus 2a /15m","AX",""]
["Jan Dersak 69",{"$f":"VLOOKUP(A261,Pilot,2,0)","v":1969},{"$f":"VLOOKUP(A261,Pilot,5,0)","v":"M"},{"$f":"VLOOKUP(A261,Pilot,3,0)","v":"Kralupy"},{"$f":"VLOOKUP(A261,Pilot,4,0)","v":"CZ/C1"},"Toužim Cup 2023 - Kombi",{"$f":"VLOOKUP(F261,Soutez!A:B,2,FALSE)","v":"CZ"},{"$f":"VLOOKUP(F261,Soutez!A:C,3,FALSE)","v":2023},9,4453,0.92500000000000004,8052,7448,null,null,"HpH 304MS SHARK","DJ",""]
["Petr Bartak",{"$f":"VLOOKUP(A262,Pilot,2,0)","v":1984},{"$f":"VLOOKUP(A262,Pilot,5,0)","v":"M"},{"$f":"VLOOKUP(A262,Pilot,3,0)","v":"Letkov"},{"$f":"VLOOKUP(A262,Pilot,4,0)","v":"CZ/C1"},"Toužim Cup 2023 - Kombi",{"$f":"VLOOKUP(F262,Soutez!A:B,2,FALSE)","v":"CZ"},{"$f":"VLOOKUP(F262,Soutez!A:C,3,FALSE)","v":2023},10,4452,0.92500000000000004,7930,7335,"x",null,"LS-6c /18m WL","BL",""]
["Frantisek Myska",1968,"M","Most","CZ/C2","Toužim Cup 2023 - Kombi",{"$f":"VLOOKUP(F263,Soutez!A:B,2,FALSE)","v":"CZ"},{"$f":"VLOOKUP(F263,Soutez!A:C,3,FALSE)","v":2023},11,4089,{"$f":"VLOOKUP(F263,Soutez,12,0)","v":0.92500000000000004},7320,6771,"x",null,"Ventus bt /16,6m","SK",""]
["Petr Jiranek 91",1991,"M","Toužim","CZ/C1","Toužim Cup 2023 - Kombi",{"$f":"VLOOKUP(F264,Soutez!A:B,2,FALSE)","v":"CZ"},{"$f":"VLOOKUP(F264,Soutez!A:C,3,FALSE)","v":2023},12,3958,0.92500000000000004,7023,6496,"x",null,"Ventus c /17,6m","PC",""]
["Jan Florian",{"$f":"VLOOKUP(A265,Pilot,2,0)","v":1992},{"$f":"VLOOKUP(A265,Pilot,5,0)","v":"M"},{"$f":"VLOOKUP(A265,Pilot,3,0)","v":"Zbraslavice"},{"$f":"VLOOKUP(A265,Pilot,4,0)","v":"CZ/C1"},"Toužim Cup 2023 - Kombi",{"$f":"VLOOKUP(F265,Soutez!A:B,2,FALSE)","v":"CZ"},{"$f":"VLOOKUP(F265,Soutez!A:C,3,FALSE)","v":2023},13,3852,0.92500000000000004,6760,6253,"x",null,"Ventus c /17,6m","LSI",""]
["Roman Lanzendorf",1964,"M","Letkov","CZ/C1","Toužim Cup 2023 - Kombi",{"$f":"VLOOKUP(F266,Soutez!A:B,2,FALSE)","v":"CZ"},{"$f":"VLOOKUP(F266,Soutez!A:C,3,FALSE)","v":2023},14,3707,0.92500000000000004,6445,5962,"x",null,"Duo Discus T (700kg)","ZS",""]
["Vaclav Svoboda",1970,"M","Letkov","CZ/C1","Toužim Cup 2023 - Kombi",{"$f":"VLOOKUP(F267,Soutez!A:B,2,FALSE)","v":"CZ"},{"$f":"VLOOKUP(F267,Soutez!A:C,3,FALSE)","v":2023},15,3687,0.92500000000000004,6298,5826,"x",null,"LS-8-18 /18m",301,""]
["Karl Schiffleithner",null,null,"SFC Tulln",null,"Toužim Cup 2023 - Kombi",{"$f":"VLOOKUP(F268,Soutez!A:B,2,FALSE)","v":"CZ"},{"$f":"VLOOKUP(F268,Soutez!A:C,3,FALSE)","v":2023},16,3679,0.92500000000000004,6167,5704,null,null,"Duo Discus (700 kg)","MM","Není v databázi"]
["Zdenek Schenk",{"$f":"VLOOKUP(A269,Pilot,2,0)","v":1972},{"$f":"VLOOKUP(A269,Pilot,5,0)","v":"M"},{"$f":"VLOOKUP(A269,Pilot,3,0)","v":"Hranice"},{"$f":"VLOOKUP(A269,Pilot,4,0)","v":"CZ/M"},"Toužim Cup 2023 - Kombi",{"$f":"VLOOKUP(F269,Soutez!A:B,2,FALSE)","v":"CZ"},{"$f":"VLOOKUP(F269,Soutez!A:C,3,FALSE)","v":2023},17,3655,0.92500000000000004,6014,5563,null,null,"Ventus cm /17,6m","ŠNeK",""]
["Jakub Hlavacek",{"$f":"VLOOKUP(A270,Pilot,2,0)","v":1991},{"$f":"VLOOKUP(A270,Pilot,5,0)","v":"M"},{"$f":"VLOOKUP(A270,Pilot,3,0)","v":"Letkov"},{"$f":"VLOOKUP(A270,Pilot,4,0)","v":"CZ/C1"},"Toužim Cup 2023 - Kombi",{"$f":"VLOOKUP(F270,Soutez!A:B,2,FALSE)","v":"CZ"},{"$f":"VLOOKUP(F270,Soutez!A:C,3,FALSE)","v":2023},18,3519,0.92500000000000004,5711,5283,"x",null,"LS-8-18 /15m","EJ",""]
["Vit Prokop",1987,"M","Medlánky","CZ/M","Toužim Cup 2023 - Kombi",{"$f":"VLOOKUP(F271,Soutez!A:B,2,FALSE)","v":"CZ"},{"$f":"VLOOKUP(F271,Soutez!A:C,3,FALSE)","v":2023},19,2886,0.92500000000000004,4736,4381,"x",null,"Ventus c /17,6m","PD",""]
["David Zapletal",1970,"M","Mladá Boleslav","CZ/C1","Toužim Cup 2023 - Kombi",{"$f":"VLOOKUP(F272,Soutez!A:B,2,FALSE)","v":"CZ"},{"$f":"VLOOKUP(F272,Soutez!A:C,3,FALSE)","v":2023},20,2715,0.92500000000000004,4385,{"$f":"ROUND(K272*L272,0)","v":4056},null,null,"Ventus c /17,6m","PUP",""]
["Milos Pajr",1966,"M","Jičín","CZ/C2","Toužim Cup 2023 - Kombi",{"$f":"VLOOKUP(F273,Soutez!A:B,2,FALSE)","v":"CZ"},{"$f":"VLOOKUP(F273,Soutez!A:C,3,FALSE)","v":2023},21,2574,0.92500000000000004,4075,3769,"x",null,"HpH 304MS SHARK","No Name",""]
["Petr Jiranek 63",1962,"M","Toužim","CZ/C1","Toužim Cup 2023 - Kombi",{"$f":"VLOOKUP(F274,Soutez!A:B,2,FALSE)","v":"CZ"},{"$f":"VLOOKUP(F274,Soutez!A:C,3,FALSE)","v":2023},22,2425,0.92500000000000004,3754,3472,null,null,"Ventus cm /17,6m","PJ",""]
["Jaroslav Sefc",{"$f":"VLOOKUP(A275,Pilot,2,0)","v":1971},{"$f":"VLOOKUP(A275,Pilot,5,0)","v":"M"},{"$f":"VLOOKUP(A275,Pilot,3,0)","v":"Broumov"},{"$f":"VLOOKUP(A275,Pilot,4,0)","v":"CZ/C2"},"Toužim Cup 2023 - Kombi",{"$f":"VLOOKUP(F275,Soutez!A:B,2,FALSE)","v":"CZ"},{"$f":"VLOOKUP(F275,Soutez!A:C,3,FALSE)","v":2023},23,2013,0.92500000000000004,3078,2847,"x",null,"ASH 26 E WL","SBI",""]
["Antonin Kutalek",{"$f":"VLOOKUP(A276,Pilot,2,0)","v":1943},{"$f":"VLOOKUP(A276,Pilot,5,0)","v":"M"},{"$f":"VLOOKUP(A276,Pilot,3,0)","v":"Zábřeh"},{"$f":"VLOOKUP(A276,Pilot,4,0)","v":"CZ/M"},"Toužim Cup 2023 - Kombi",{"$f":"VLOOKUP(F276,Soutez!A:B,2,FALSE)","v":"CZ"},{"$f":"VLOOKUP(F276,Soutez!A:C,3,FALSE)","v":2023},24,1516,0.92500000000000004,2287,2115,null,null,"LAK 17 AT 18m","GL",""]
["Roman Michalek",1974,"M","Toužim","CZ/C1","Toužim Cup 2023 - Kombi",{"$f":"VLOOKUP(F277,Soutez!A:B,2,FALSE)","v":"CZ"},{"$f":"VLOOKUP(F277,Soutez!A:C,3,FALSE)","v":2023},25,1307,0.92500000000000004,1885,1744,"x",null,"DG-400 17m","TK",""]
["Frantisek Kriz",1961,"M","Toužim","CZ/C1","Toužim Cup 2023 - Kombi",{"$f":"VLOOKUP(F278,Soutez!A:B,2,FALSE)","v":"CZ"},{"$f":"VLOOKUP(F278,Soutez!A:C,3,FALSE)","v":2023},26,978,0.92500000000000004,1320,1221,"x",null,"DG-400 17m","FK",""]
["Michal Navratil",{"$f":"VLOOKUP(A279,Pilot,2,0)","v":1985},{"$f":"VLOOKUP(A279,Pilot,5,0)","v":"M"},{"$f":"VLOOKUP(A279,Pilot,3,0)","v":"Křižanov"},{"$f":"VLOOKUP(A279,Pilot,4,0)","v":"CZ/M"},"Cirrus GP 2023 - Klub",{"$f":"VLOOKUP(F279,Soutez!A:B,2,FALSE)","v":"CZ"},{"$f":"VLOOKUP(F279,Soutez!A:C,3,FALSE)","v":2023},1,27,{"$f":"VLOOKUP(F279,Soutez,12,0)","v":0.755},{"$f":"ROUND((MAX($I$279:$I$290)-I279)/(MAX($I$279:$I$290)-1)*10000,0)","v":10000},{"$f":"ROUND(K279*L279,0)","v":7550},"x",null,"Std. Cirrus","IJ",""]
["Jiri Hula",1973,"M","Slaný","CZ/C1","Cirrus GP 2023 - Klub",{"$f":"VLOOKUP(F280,Soutez!A:B,2,FALSE)","v":"CZ"},{"$f":"VLOOKUP(F280,Soutez!A:C,3,FALSE)","v":2023},2,22,{"$f":"VLOOKUP(F280,Soutez,12,0)","v":0.755},9000,{"$f":"ROUND(K280*L280,0)","v":6795},"x",null,"Std. Cirrus","IT",""]
["Jiri Fousek",{"$f":"VLOOKUP(A281,Pilot,2,0)","v":1990},{"$f":"VLOOKUP(A281,Pilot,5,0)","v":"M"},{"$f":"VLOOKUP(A281,Pilot,3,0)","v":"Raná"},{"$f":"VLOOKUP(A281,Pilot,4,0)","v":"CZ/C2"},"Cirrus GP 2023 - Klub",{"$f":"VLOOKUP(F281,Soutez!A:B,2,FALSE)","v":"CZ"},{"$f":"VLOOKUP(F281,Soutez!A:C,3,FALSE)","v":2023},3,20,0.755,8000,6040,null,null,"Std. Cirrus","LW",""]
["Katerina Vojtova",1983,"F","Slaný","CZ/C1","Cirrus GP 2023 - Klub",{"$f":"VLOOKUP(F282,Soutez!A:B,2,FALSE)","v":"CZ"},{"$f":"VLOOKUP(F282,Soutez!A:C,3,FALSE)","v":2023},4,13,0.755,7000,5285,null,null,"Std. Cirrus","KAC",""]
["Jan Hruska",1988,"M","Tábor","CZ/C1","Cirrus GP 2023 - Klub",{"$f":"VLOOKUP(F283,Soutez!A:B,2,FALSE)","v":"CZ"},{"$f":"VLOOKUP(F283,Soutez!A:C,3,FALSE)","v":2023},5,12,{"$f":"VLOOKUP(F283,Soutez,12,0)","v":0.755},6000,4530,null,null,"Std. Cirrus","IMI",""]
["Jan Hejret",1976,"M","Jaroměř","CZ/C2","Cirrus GP 2023 - Klub",{"$f":"VLOOKUP(F284,Soutez!A:B,2,FALSE)","v":"CZ"},{"$f":"VLOOKUP(F284,Soutez!A:C,3,FALSE)","v":2023},6,9,0.755,5000,3775,"x",null,"Std. cirrus","GO",""]
["Jan Sponer",1988,"M","Medlánky","CZ/M","Cirrus GP 2023 - Klub",{"$f":"VLOOKUP(F285,Soutez!A:B,2,FALSE)","v":"CZ"},{"$f":"VLOOKUP(F285,Soutez!A:C,3,FALSE)","v":2023},6,9,0.755,5000,{"$f":"ROUND(K285*L285,0)","v":3775},null,null,"Std. Cirrus","EX",""]
["Jan Platenik",1981,"M","Krnov","CZ/M","Cirrus GP 2023 - Klub",{"$f":"VLOOKUP(F286,Soutez!A:B,2,FALSE)","v":"CZ"},{"$f":"VLOOKUP(F286,Soutez!A:C,3,FALSE)","v":2023},8,7,0.755,3000,2265,"x",null,"Std. Cirrus","SX",""]
["Matej Krestes",1986,"M","Slaný","CZ/C1","Cirrus GP 2023 - Klub",{"$f":"VLOOKUP(F287,Soutez!A:B,2,FALSE)","v":"CZ"},{"$f":"VLOOKUP(F287,Soutez!A:C,3,FALSE)","v":2023},9,6,0.755,2000,1510,"x",null,"Std. Cirrus","CON",""]
["Vojtech Hajek",1987,"M","Mladá Boleslav","CZ/C1","Cirrus GP 2023 - Klub",{"$f":"VLOOKUP(F288,Soutez!A:B,2,FALSE)","v":"CZ"},{"$f":"VLOOKUP(F288,Soutez!A:C,3,FALSE)","v":2023},10,5,0.755,1000,755,null,null,"Std. Cirrus","BB",""]
["Jan Zahradka",1981,"M","Hodkovice","CZ/C2","Cirrus GP 2023 - Klub",{"$f":"VLOOKUP(F289,Soutez!A:B,2,FALSE)","v":"CZ"},{"$f":"VLOOKUP(F289,Soutez!A:C,3,FALSE)","v":2023},11,1,0.755,0,0,null,null,"Std. Cirrus","AR",""]
["Martin Piskacek",1991,"M","Křižanov","CZ/M","Cirrus GP 2023 - Klub",{"$f":"VLOOKUP(F290,Soutez!A:B,2,FALSE)","v":"CZ"},{"$f":"VLOOKUP(F290,Soutez!A:C,3,FALSE)","v":2023},11,1,0.755,0,0,null,null,"Std. Cirrus",75,""]
["Radek Krejcirik",{"$f":"VLOOKUP(A291,Pilot,2,0)","v":1991},{"$f":"VLOOKUP(A291,Pilot,5,0)","v":"M"},{"$f":"VLOOKUP(A291,Pilot,3,0)","v":"Hranice"},{"$f":"VLOOKUP(A291,Pilot,4,0)","v":"CZ/M"},"Cirrus GP 2023 - Kombi 15m",{"$f":"VLOOKUP(F291,Soutez!A:B,2,FALSE)","v":"CZ"},{"$f":"VLOOKUP(F291,Soutez!A:C,3,FALSE)","v":2023},1,21,{"$f":"VLOOKUP(F291,Soutez,12,0)","v":0},{"$f":"ROUND((MAX($I$291:$I$299)-I291)/(MAX($I$291:$I$299)-1)*10000,0)","v":10000},{"$f":"ROUND(K291*L291,0)","v":0},null,null,"AS 33 15m",12,""]
["Jan Pavlik",1987,"M","Křižanov","CZ/M","Cirrus GP 2023 - Kombi 15m",{"$f":"VLOOKUP(F292,Soutez!A:B,2,FALSE)","v":"CZ"},{"$f":"VLOOKUP(F292,Soutez!A:C,3,FALSE)","v":2023},2,19,0,8750,{"$f":"ROUND(K292*L292,0)","v":0},null,null,"Ventus c 15m","EB",""]
["Ondrej Bordovsky",1983,"M","Krnov","CZ/M","Cirrus GP 2023 - Kombi 15m",{"$f":"VLOOKUP(F293,Soutez!A:B,2,FALSE)","v":"CZ"},{"$f":"VLOOKUP(F293,Soutez!A:C,3,FALSE)","v":2023},3,18,0,7500,0,null,null,"Ventus c 15m","AD",""]
["Radek Zima 78",1978,"M","Hodkovice","CZ/C2","Cirrus GP 2023 - Kombi 15m",{"$f":"VLOOKUP(F294,Soutez!A:B,2,FALSE)","v":"CZ"},{"$f":"VLOOKUP(F294,Soutez!A:C,3,FALSE)","v":2023},4,15,0,6250,0,null,null,"asg 29 15m","XZ",""]
["Pavel Jiranek",{"$f":"VLOOKUP(A295,Pilot,2,0)","v":1993},{"$f":"VLOOKUP(A295,Pilot,5,0)","v":"M"},{"$f":"VLOOKUP(A295,Pilot,3,0)","v":"Toužim"},{"$f":"VLOOKUP(A295,Pilot,4,0)","v":"CZ/C1"},"Cirrus GP 2023 - Kombi 15m",{"$f":"VLOOKUP(F295,Soutez!A:B,2,FALSE)","v":"CZ"},{"$f":"VLOOKUP(F295,Soutez!A:C,3,FALSE)","v":2023},4,15,0,6250,0,null,null,"Ventus c 15m","CS",""]
["Petr Jiranek 91",1991,"M","Toužim","CZ/C1","Cirrus GP 2023 - Kombi 15m",{"$f":"VLOOKUP(F296,Soutez!A:B,2,FALSE)","v":"CZ"},{"$f":"VLOOKUP(F296,Soutez!A:C,3,FALSE)","v":2023},6,10,0,3750,0,null,null,"Ventus c 15m","PC",""]
["Michal Kratochvil",{"$f":"VLOOKUP(A297,Pilot,2,0)","v":1984},{"$f":"VLOOKUP(A297,Pilot,5,0)","v":"M"},{"$f":"VLOOKUP(A297,Pilot,3,0)","v":"Slaný"},{"$f":"VLOOKUP(A297,Pilot,4,0)","v":"CZ/C1"},"Cirrus GP 2023 - Kombi 15m",{"$f":"VLOOKUP(F297,Soutez!A:B,2,FALSE)","v":"CZ"},{"$f":"VLOOKUP(F297,Soutez!A:C,3,FALSE)","v":2023},7,9,0,2500,0,null,null,"Ventus b 15m","MK",""]
["Jan Viskot",1995,"M","Břeclav","CZ/M","Cirrus GP 2023 - Kombi 15m",{"$f":"VLOOKUP(F298,Soutez!A:B,2,FALSE)","v":"CZ"},{"$f":"VLOOKUP(F298,Soutez!A:C,3,FALSE)","v":2023},8,6,0,1250,{"$f":"ROUND(K298*L298,0)","v":0},null,null,"Discus 2a","GX",""]
["Matous Schmidt",1981,"M","Letňany","CZ/C1","Cirrus GP 2023 - Kombi 15m",{"$f":"VLOOKUP(F299,Soutez!A:B,2,FALSE)","v":"CZ"},{"$f":"VLOOKUP(F299,Soutez!A:C,3,FALSE)","v":2023},9,3,0,0,0,null,null,"Ventus c 15m","UC",""]
["Ivan Harasta 65",{"$f":"VLOOKUP(A300,Pilot,2,0)","v":1965},{"$f":"VLOOKUP(A300,Pilot,5,0)","v":"M"},{"$f":"VLOOKUP(A300,Pilot,3,0)","v":"Toužim"},{"$f":"VLOOKUP(A300,Pilot,4,0)","v":"CZ/C1"},"PPV 2023 - Klub",{"$f":"VLOOKUP(F300,Soutez!A:B,2,FALSE)","v":"CZ"},{"$f":"VLOOKUP(F300,Soutez!A:C,3,FALSE)","v":2023},1,2583,0.9,{"$f":"ROUND(J300/MAX($J$300:$J$343)*10000*0.7+(MAX($I$300:$I$343)-I300)/(MAX($I$300:$I$343)-1)*10000*0.3,0)","v":10000},{"$f":"ROUND(K300*L300,0)","v":9000},null,null,"LS 1-d","CL",{"$f":"IF(ISERROR(VLOOKUP(A300,Pilot,6,0)),\"Není v databázi\",VLOOKUP(A300,Pilot,6,0))","v":""}]
["Hana Treslova",{"$f":"VLOOKUP(A301,Pilot,2,0)","v":1991},{"$f":"VLOOKUP(A301,Pilot,5,0)","v":"F"},{"$f":"VLOOKUP(A301,Pilot,3,0)","v":"Raná"},{"$f":"VLOOKUP(A301,Pilot,4,0)","v":"CZ/C2"},"PPV 2023 - Klub",{"$f":"VLOOKUP(F301,Soutez!A:B,2,FALSE)","v":"CZ"},{"$f":"VLOOKUP(F301,Soutez!A:C,3,FALSE)","v":2023},2,2462,0.9,9601,{"$f":"ROUND(K301*L301,0)","v":8641},null,null,"Std. Cirrus","CI",""]
["Jakub Malik",1999,"M","Letňany","CZ/C1","PPV 2023 - Klub",{"$f":"VLOOKUP(F302,Soutez!A:B,2,FALSE)","v":"CZ"},{"$f":"VLOOKUP(F302,Soutez!A:C,3,FALSE)","v":2023},3,2432,0.9,9448,8503,"x",null,"Discus b","DP",""]
["Petr Hofman",1984,"M","Letňany","CZ/C1","PPV 2023 - Klub",{"$f":"VLOOKUP(F303,Soutez!A:B,2,FALSE)","v":"CZ"},{"$f":"VLOOKUP(F303,Soutez!A:C,3,FALSE)","v":2023},4,2413,0.9,9325,8393,"x",null,"ASW 15 B","MA",""]
["Lukas Capek",1992,"M","Letňany","CZ/C1","PPV 2023 - Klub",{"$f":"VLOOKUP(F304,Soutez!A:B,2,FALSE)","v":"CZ"},{"$f":"VLOOKUP(F304,Soutez!A:C,3,FALSE)","v":2023},5,2404,0.9,9229,8306,null,null,"Mosquito","LC",""]
["Jindrich Svorc",1978,"M","Letňany","CZ/C1","PPV 2023 - Klub",{"$f":"VLOOKUP(F305,Soutez!A:B,2,FALSE)","v":"CZ"},{"$f":"VLOOKUP(F305,Soutez!A:C,3,FALSE)","v":2023},6,2331,0.9,8960,8064,null,null,"Std. Cirrus","IMI",""]
["Jan Hruska",1988,"M","Tábor","CZ/C1","PPV 2023 - Klub",{"$f":"VLOOKUP(F306,Soutez!A:B,2,FALSE)","v":"CZ"},{"$f":"VLOOKUP(F306,Soutez!A:C,3,FALSE)","v":2023},7,2326,0.9,8875,7988,"x",null,"ASW 15 B","LF",""]
["Vaclav Marel",1974,"M","Jaroměř","CZ/C2","PPV 2023 - Klub",{"$f":"VLOOKUP(F307,Soutez!A:B,2,FALSE)","v":"CZ"},{"$f":"VLOOKUP(F307,Soutez!A:C,3,FALSE)","v":2023},8,2320,0.9,8787,7908,"x",null,"Std. Cirrus","IF",""]
["Josef Kolman",1983,"M","Letňany","CZ/C1","PPV 2023 - Klub",{"$f":"VLOOKUP(F308,Soutez!A:B,2,FALSE)","v":"CZ"},{"$f":"VLOOKUP(F308,Soutez!A:C,3,FALSE)","v":2023},9,2299,0.9,8659,7793,"x",null,"ASW 15 B","BA4",""]
["Pavel Liska",1965,"M","Roudnice","CZ/C2","PPV 2023 - Klub",{"$f":"VLOOKUP(F309,Soutez!A:B,2,FALSE)","v":"CZ"},{"$f":"VLOOKUP(F309,Soutez!A:C,3,FALSE)","v":2023},10,2254,0.9,8466,7619,"x",null,"ASW 19 B","RCE",""]
["David Vrchota",1976,"M","Jaroměř","CZ/C2","PPV 2023 - Klub",{"$f":"VLOOKUP(F310,Soutez!A:B,2,FALSE)","v":"CZ"},{"$f":"VLOOKUP(F310,Soutez!A:C,3,FALSE)","v":2023},11,2121,0.9,8034,7231,"x",null,"Janus B","BV",""]
["Milan Svoboda 80",{"$f":"VLOOKUP(A311,Pilot,2,0)","v":1980},{"$f":"VLOOKUP(A311,Pilot,5,0)","v":"M"},{"$f":"VLOOKUP(A311,Pilot,3,0)","v":"Havlíčkův Brod"},{"$f":"VLOOKUP(A311,Pilot,4,0)","v":"CZ/C2"},"PPV 2023 - Klub",{"$f":"VLOOKUP(F311,Soutez!A:B,2,FALSE)","v":"CZ"},{"$f":"VLOOKUP(F311,Soutez!A:C,3,FALSE)","v":2023},12,2112,0.9,7938,7144,null,null,"VT-16 Orlic 2",46,""]
["Martin Urner",1974,"M","Letňany","CZ/C1","PPV 2023 - Klub",{"$f":"VLOOKUP(F312,Soutez!A:B,2,FALSE)","v":"CZ"},{"$f":"VLOOKUP(F312,Soutez!A:C,3,FALSE)","v":2023},13,2062,0.9,7731,6958,null,null,"ASW 15 B","JJ",""]
["Miloslav Hulmak",1963,"M","Hosín","CZ/C1","PPV 2023 - Klub",{"$f":"VLOOKUP(F313,Soutez!A:B,2,FALSE)","v":"CZ"},{"$f":"VLOOKUP(F313,Soutez!A:C,3,FALSE)","v":2023},14,2024,0.9,7557,6801,"x",null,"ASW 15 B","HH",""]
["David Tejnora",1982,"M","Jaroměř","CZ/C2","PPV 2023 - Klub",{"$f":"VLOOKUP(F314,Soutez!A:B,2,FALSE)","v":"CZ"},{"$f":"VLOOKUP(F314,Soutez!A:C,3,FALSE)","v":2023},15,2013,0.9,7455,6710,"x",null,"Std. Cirrus",17,""]
["Jiri Slemr",1979,"M","Vysoké Mýto","CZ/C2","PPV 2023 - Klub",{"$f":"VLOOKUP(F315,Soutez!A:B,2,FALSE)","v":"CZ"},{"$f":"VLOOKUP(F315,Soutez!A:C,3,FALSE)","v":2023},16,1984,0.9,7305,6575,"x",null,"Discus CS",65,""]
["Vojtech Hajek",1987,"M","Mladá Boleslav","CZ/C1","PPV 2023 - Klub",{"$f":"VLOOKUP(F316,Soutez!A:B,2,FALSE)","v":"CZ"},{"$f":"VLOOKUP(F316,Soutez!A:C,3,FALSE)","v":2023},17,1869,0.9,6922,6230,"x",null,"Std. Cirrus","BB",""]
["Radek Zima 75",1975,"M","Břeclav","CZ/M","PPV 2023 - Klub",{"$f":"VLOOKUP(F317,Soutez!A:B,2,FALSE)","v":"CZ"},{"$f":"VLOOKUP(F317,Soutez!A:C,3,FALSE)","v":2023},18,1777,0.9,6601,5941,"x",null,"DG 100","M",""]
["Tereza Ludvikova",{"$f":"VLOOKUP(A318,Pilot,2,0)","v":1997},{"$f":"VLOOKUP(A318,Pilot,5,0)","v":"F"},{"$f":"VLOOKUP(A318,Pilot,3,0)","v":"Jaroměř"},{"$f":"VLOOKUP(A318,Pilot,4,0)","v":"CZ/C2"},"PPV 2023 - Klub",{"$f":"VLOOKUP(F318,Soutez!A:B,2,FALSE)","v":"CZ"},{"$f":"VLOOKUP(F318,Soutez!A:C,3,FALSE)","v":2023},19,1734,0.9,6413,5772,"x","x","Std. Cirrus","GO",""]
["Frantisek Suna",1983,"M","Hosín","CZ/C1","PPV 2023 - Klub",{"$f":"VLOOKUP(F319,Soutez!A:B,2,FALSE)","v":"CZ"},{"$f":"VLOOKUP(F319,Soutez!A:C,3,FALSE)","v":2023},20,1605,0.9,5992,5393,"x",null,"DG 100",78,""]
["Petr Rozhon",1972,"M","Hosín","CZ/C1","PPV 2023 - Klub",{"$f":"VLOOKUP(F320,Soutez!A:B,2,FALSE)","v":"CZ"},{"$f":"VLOOKUP(F320,Soutez!A:C,3,FALSE)","v":2023},21,1525,0.9,5704,{"$f":"ROUND(K320*L320,0)","v":5134},null,null,"VSO-10",9,""]
["Lukas Hykl",1985,"M","Kolín","CZ/C1","PPV 2023 - Klub",{"$f":"VLOOKUP(F321,Soutez!A:B,2,FALSE)","v":"CZ"},{"$f":"VLOOKUP(F321,Soutez!A:C,3,FALSE)","v":2023},22,1361,0.9,5188,4669,"x",null,"Discus b WL","LD",""]
["Jiri Holcman",1976,"M","Hosín","CZ/C1","PPV 2023 - Klub",{"$f":"VLOOKUP(F322,Soutez!A:B,2,FALSE)","v":"CZ"},{"$f":"VLOOKUP(F322,Soutez!A:C,3,FALSE)","v":2023},23,1335,0.9,5046,4541,"x",null,"ASW 19","BO",""]
["Radoslav Pur",1973,"M","Hosín","CZ/C1","PPV 2023 - Klub",{"$f":"VLOOKUP(F323,Soutez!A:B,2,FALSE)","v":"CZ"},{"$f":"VLOOKUP(F323,Soutez!A:C,3,FALSE)","v":2023},24,1325,0.9,4948,4453,"x",null,"DG 200","EK",""]
["Petr Styblo",{"$f":"VLOOKUP(A324,Pilot,2,0)","v":1975},{"$f":"VLOOKUP(A324,Pilot,5,0)","v":"M"},{"$f":"VLOOKUP(A324,Pilot,3,0)","v":"Letňany"},{"$f":"VLOOKUP(A324,Pilot,4,0)","v":"CZ/C1"},"PPV 2023 - Klub",{"$f":"VLOOKUP(F324,Soutez!A:B,2,FALSE)","v":"CZ"},{"$f":"VLOOKUP(F324,Soutez!A:C,3,FALSE)","v":2023},25,1283,0.9,4763,4287,"x",null,"g 102 Astir CS","PJ",""]
["Jiri Janda",1966,"M","Letňany","CZ/C1","PPV 2023 - Klub",{"$f":"VLOOKUP(F325,Soutez!A:B,2,FALSE)","v":"CZ"},{"$f":"VLOOKUP(F325,Soutez!A:C,3,FALSE)","v":2023},26,1164,0.9,4369,3932,"x",null,"ASW 20","TA",""]
["David Benda",{"$f":"VLOOKUP(A326,Pilot,2,0)","v":1974},{"$f":"VLOOKUP(A326,Pilot,5,0)","v":"M"},{"$f":"VLOOKUP(A326,Pilot,3,0)","v":"Letňany"},{"$f":"VLOOKUP(A326,Pilot,4,0)","v":"CZ/C1"},"PPV 2023 - Klub",{"$f":"VLOOKUP(F326,Soutez!A:B,2,FALSE)","v":"CZ"},{"$f":"VLOOKUP(F326,Soutez!A:C,3,FALSE)","v":2023},27,1162,0.9,4292,3863,"x",null,"G 102 Astir CS","PD",""]
["Michal Vranek",1993,"M","Hosín","CZ/C1","PPV 2023 - Klub",{"$f":"VLOOKUP(F327,Soutez!A:B,2,FALSE)","v":"CZ"},{"$f":"VLOOKUP(F327,Soutez!A:C,3,FALSE)","v":2023},28,1128,0.9,4128,3715,null,null,"DG 100","8W",""]
["Filip Sirc",1993,"M","Letňany","CZ/C1","PPV 2023 - Klub",{"$f":"VLOOKUP(F328,Soutez!A:B,2,FALSE)","v":"CZ"},{"$f":"VLOOKUP(F328,Soutez!A:C,3,FALSE)","v":2023},29,1081,0.9,3930,3537,"x",null,"ASW 19","WT",""]
["Vaclav Petru",1974,"M","Letňany","CZ/C1","PPV 2023 - Klub",{"$f":"VLOOKUP(F329,Soutez!A:B,2,FALSE)","v":"CZ"},{"$f":"VLOOKUP(F329,Soutez!A:C,3,FALSE)","v":2023},30,1075,0.9,3842,3458,"x",null,"Alpin T","AI",""]
["Filip Malik",2001,"M","Letňany","CZ/C1","PPV 2023 - Klub",{"$f":"VLOOKUP(F330,Soutez!A:B,2,FALSE)","v":"CZ"},{"$f":"VLOOKUP(F330,Soutez!A:C,3,FALSE)","v":2023},31,1051,0.9,3705,3335,"x",null,"VSO-10","L5","Junior v roce 2026"]
["Petr Malcek",1965,"M","Letňany","CZ/C1","PPV 2023 - Klub",{"$f":"VLOOKUP(F331,Soutez!A:B,2,FALSE)","v":"CZ"},{"$f":"VLOOKUP(F331,Soutez!A:C,3,FALSE)","v":2023},32,1039,0.9,3601,3241,"x",null,"G 103 Twin Astir",null,""]
["Jiri Donat",{"$f":"VLOOKUP(A332,Pilot,2,0)","v":1983},{"$f":"VLOOKUP(A332,Pilot,5,0)","v":"M"},{"$f":"VLOOKUP(A332,Pilot,3,0)","v":"Letňany"},{"$f":"VLOOKUP(A332,Pilot,4,0)","v":"CZ/C1"},"PPV 2023 - Klub",{"$f":"VLOOKUP(F332,Soutez!A:B,2,FALSE)","v":"CZ"},{"$f":"VLOOKUP(F332,Soutez!A:C,3,FALSE)","v":2023},33,902,0.9,3159,2843,"x",null,"Std. Cirrus WL","JE",""]
["Yvona Vyhnankova",1963,"F","Olomouc","CZ/M","PPV 2023 - Klub",{"$f":"VLOOKUP(F333,Soutez!A:B,2,FALSE)","v":"CZ"},{"$f":"VLOOKUP(F333,Soutez!A:C,3,FALSE)","v":2023},34,874,0.9,3011,2710,"x","x","ASW 15","YZ",""]
["Tereza Novakova",1993,"F","Chrudim","CZ/C2","PPV 2023 - Klub",{"$f":"VLOOKUP(F334,Soutez!A:B,2,FALSE)","v":"CZ"},{"$f":"VLOOKUP(F334,Soutez!A:C,3,FALSE)","v":2023},35,843,0.9,2856,2570,"x","x","Std. Cirrus","FF",""]
["Jan Zezula",1979,"M","Letňany","CZ/C1","PPV 2023 - Klub",{"$f":"VLOOKUP(F335,Soutez!A:B,2,FALSE)","v":"CZ"},{"$f":"VLOOKUP(F335,Soutez!A:C,3,FALSE)","v":2023},36,826,0.9,2738,2464,null,null,"ASW 19 B","HD",""]
["Radek Bartos",1971,"M","Kolín","CZ/C1","PPV 2023 - Klub",{"$f":"VLOOKUP(F336,Soutez!A:B,2,FALSE)","v":"CZ"},{"$f":"VLOOKUP(F336,Soutez!A:C,3,FALSE)","v":2023},37,764,0.9,2499,2249,"x",null,"DG 300 Club ELAN","DG",""]
["Tomas Holenda",1956,"M","Havlíčkův Brod","CZ/C2","PPV 2023 - Klub",{"$f":"VLOOKUP(F337,Soutez!A:B,2,FALSE)","v":"CZ"},{"$f":"VLOOKUP(F337,Soutez!A:C,3,FALSE)","v":2023},38,729,0.9,2333,2100,"x",null,"VT-16 Orlic 2","I",""]
["Martin Piskacek",1991,"M","Křižanov","CZ/M","PPV 2023 - Klub",{"$f":"VLOOKUP(F338,Soutez!A:B,2,FALSE)","v":"CZ"},{"$f":"VLOOKUP(F338,Soutez!A:C,3,FALSE)","v":2023},39,656,0.9,2063,1857,"x",null,"std. cirrus",75,""]
["Ivan Kuzelka",1945,"M","Havlíčkův Brod","CZ/C2","PPV 2023 - Klub",{"$f":"VLOOKUP(F339,Soutez!A:B,2,FALSE)","v":"CZ"},{"$f":"VLOOKUP(F339,Soutez!A:C,3,FALSE)","v":2023},40,553,0.9,1713,1542,"x",null,"VT-16 Orlic 2",null,""]
["Milos Hrabe",1979,"M","Letňany","CZ/C1","PPV 2023 - Klub",{"$f":"VLOOKUP(F340,Soutez!A:B,2,FALSE)","v":"CZ"},{"$f":"VLOOKUP(F340,Soutez!A:C,3,FALSE)","v":2023},41,552,0.9,1639,1475,"x",null,"Std. Cirrus","L8",""]
["Milan Bado",1975,"M","Kolín","CZ/C1","PPV 2023 - Klub",{"$f":"VLOOKUP(F341,Soutez!A:B,2,FALSE)","v":"CZ"},{"$f":"VLOOKUP(F341,Soutez!A:C,3,FALSE)","v":2023},42,517,0.9,1473,1326,null,null,"Std. Cirrus","FU",""]
["Petr Sochor",1986,"M","Hosín","CZ/C1","PPV 2023 - Klub",{"$f":"VLOOKUP(F342,Soutez!A:B,2,FALSE)","v":"CZ"},{"$f":"VLOOKUP(F342,Soutez!A:C,3,FALSE)","v":2023},43,0,0.9,0,0,null,null,"ASW 15 B","6Y",""]
["Lubomir Doupal",1975,"M","Kroměříž","CZ/M","PPV 2023 - Klub",{"$f":"VLOOKUP(F343,Soutez!A:B,2,FALSE)","v":"CZ"},{"$f":"VLOOKUP(F343,Soutez!A:C,3,FALSE)","v":2023},43,0,0.9,0,0,null,null,"ASW 24 E","LD",""]
["Karel Novak",{"$f":"VLOOKUP(A344,Pilot,2,0)","v":1993},{"$f":"VLOOKUP(A344,Pilot,5,0)","v":"M"},{"$f":"VLOOKUP(A344,Pilot,3,0)","v":"Mladá Boleslav"},{"$f":"VLOOKUP(A344,Pilot,4,0)","v":"CZ/C1"},"PPV 2023 - Kombi",{"$f":"VLOOKUP(F344,Soutez!A:B,2,FALSE)","v":"CZ"},{"$f":"VLOOKUP(F344,Soutez!A:C,3,FALSE)","v":2023},1,2340,0.92,{"$f":"ROUND(J344/MAX($J$344:$J$362)*10000*0.7+(MAX($I$344:$I$362)-I344)/(MAX($I$344:$I$362)-1)*10000*0.3,0)","v":10000},{"$f":"ROUND(K344*L344,0)","v":9200},"x",null,"JS3 15m","XM",""]
["Petr Hotovy",1958,"M","Česká Lípa","CZ/C2","PPV 2023 - Kombi",{"$f":"VLOOKUP(F345,Soutez!A:B,2,FALSE)","v":"CZ"},{"$f":"VLOOKUP(F345,Soutez!A:C,3,FALSE)","v":2023},2,2334,0.92,9815,{"$f":"ROUND(K345*L345,0)","v":9030},"x",null,"JS1 18m","IGC",""]
["Ondrej Bordovsky",1983,"M","Krnov","CZ/M","PPV 2023 - Kombi",{"$f":"VLOOKUP(F346,Soutez!A:B,2,FALSE)","v":"CZ"},{"$f":"VLOOKUP(F346,Soutez!A:C,3,FALSE)","v":2023},3,2321,0.92,9610,8841,"x",null,"Ventus c 17.6m","AD",""]
["Jan Kantor",1983,"M","Letňany","CZ/C1","PPV 2023 - Kombi",{"$f":"VLOOKUP(F347,Soutez!A:B,2,FALSE)","v":"CZ"},{"$f":"VLOOKUP(F347,Soutez!A:C,3,FALSE)","v":2023},4,2256,0.92,9249,8509,"x",null,"ASG 29 E 18m","QX",""]
["Josef Busek",1967,"M","Hosín","CZ/C1","PPV 2023 - Kombi",{"$f":"VLOOKUP(F348,Soutez!A:B,2,FALSE)","v":"CZ"},{"$f":"VLOOKUP(F348,Soutez!A:C,3,FALSE)","v":2023},5,2102,0.92,8621,7931,null,null,"Duo Discus X","BB",""]
["Jan Dersak 69",{"$f":"VLOOKUP(A349,Pilot,2,0)","v":1969},{"$f":"VLOOKUP(A349,Pilot,5,0)","v":"M"},{"$f":"VLOOKUP(A349,Pilot,3,0)","v":"Kralupy"},{"$f":"VLOOKUP(A349,Pilot,4,0)","v":"CZ/C1"},"PPV 2023 - Kombi",{"$f":"VLOOKUP(F349,Soutez!A:B,2,FALSE)","v":"CZ"},{"$f":"VLOOKUP(F349,Soutez!A:C,3,FALSE)","v":2023},6,1984,0.92,8102,7454,"x",null,"HpH 304 MS Shark","DJ",""]
["Jan Boruvka",{"$f":"VLOOKUP(A350,Pilot,2,0)","v":1984},{"$f":"VLOOKUP(A350,Pilot,5,0)","v":"M"},{"$f":"VLOOKUP(A350,Pilot,3,0)","v":"Jičín"},{"$f":"VLOOKUP(A350,Pilot,4,0)","v":"CZ/C2"},"PPV 2023 - Kombi",{"$f":"VLOOKUP(F350,Soutez!A:B,2,FALSE)","v":"CZ"},{"$f":"VLOOKUP(F350,Soutez!A:C,3,FALSE)","v":2023},7,1836,0.92,7492,6893,null,null,"Ventus c 17.6m","EG",""]
["Jan Simon",1970,"M","Kralupy","CZ/C1","PPV 2023 - Kombi",{"$f":"VLOOKUP(F351,Soutez!A:B,2,FALSE)","v":"CZ"},{"$f":"VLOOKUP(F351,Soutez!A:C,3,FALSE)","v":2023},8,1818,0.92,7272,6690,null,null,"Ventus cT 17.6m","KR",""]
["Jaromir Pauer",1974,"M","Hosín","CZ/C1","PPV 2023 - Kombi",{"$f":"VLOOKUP(F352,Soutez!A:B,2,FALSE)","v":"CZ"},{"$f":"VLOOKUP(F352,Soutez!A:C,3,FALSE)","v":2023},9,1778,0.92,6985,{"$f":"ROUND(K352*L352,0)","v":6426},null,null,"Ventus b 16.6m WL","7F",""]
["Petr Babak",1973,"M","Hořice","CZ/C2","PPV 2023 - Kombi",{"$f":"VLOOKUP(F353,Soutez!A:B,2,FALSE)","v":"CZ"},{"$f":"VLOOKUP(F353,Soutez!A:C,3,FALSE)","v":2023},10,1705,0.92,6600,6072,"x",null,"Ventus 2cM 18m","LS",""]
["Marek Blatak",1969,"M","Šumperk","CZ/M","PPV 2023 - Kombi",{"$f":"VLOOKUP(F354,Soutez!A:B,2,FALSE)","v":"CZ"},{"$f":"VLOOKUP(F354,Soutez!A:C,3,FALSE)","v":2023},11,1634,0.92,6221,5723,null,null,"Duo Discus T","ZS",""]
["Ales Vyhnal",1989,"M","Kralupy","CZ/C1","PPV 2023 - Kombi",{"$f":"VLOOKUP(F355,Soutez!A:B,2,FALSE)","v":"CZ"},{"$f":"VLOOKUP(F355,Soutez!A:C,3,FALSE)","v":2023},12,1438,{"$f":"VLOOKUP(F355,Soutez,12,0)","v":0.92},5468,5031,"x",null,"Nimbus 3 22.9m","HS",""]
["Zdenek Boruvka 54",1954,"M","Jičín","CZ/C2","PPV 2023 - Kombi",{"$f":"VLOOKUP(F356,Soutez!A:B,2,FALSE)","v":"CZ"},{"$f":"VLOOKUP(F356,Soutez!A:C,3,FALSE)","v":2023},13,1385,0.92,5143,4732,null,null,"LS 8","ZB",""]
["David Zapletal",{"$f":"VLOOKUP(A357,Pilot,2,0)","v":1970},{"$f":"VLOOKUP(A357,Pilot,5,0)","v":"M"},{"$f":"VLOOKUP(A357,Pilot,3,0)","v":"Mladá Boleslav"},{"$f":"VLOOKUP(A357,Pilot,4,0)","v":"CZ/C1"},"PPV 2023 - Kombi",{"$f":"VLOOKUP(F357,Soutez!A:B,2,FALSE)","v":"CZ"},{"$f":"VLOOKUP(F357,Soutez!A:C,3,FALSE)","v":2023},14,1238,0.92,4537,4174,null,null,"Ventus c 17.6m","PUP",""]
["Zdenek Schenk",1972,"M","Hranice","CZ/M","PPV 2023 - Kombi",{"$f":"VLOOKUP(F358,Soutez!A:B,2,FALSE)","v":"CZ"},{"$f":"VLOOKUP(F358,Soutez!A:C,3,FALSE)","v":2023},15,1188,0.92,4221,3883,null,null,"Ventus cM 17.6m","ŠNeK",""]
["Michal Hemrle",1974,"M","Česká Lípa","CZ/C2","PPV 2023 - Kombi",{"$f":"VLOOKUP(F359,Soutez!A:B,2,FALSE)","v":"CZ"},{"$f":"VLOOKUP(F359,Soutez!A:C,3,FALSE)","v":2023},16,1124,0.92,3862,3553,"x",null,"ASG 29 Es 18m","ET",""]
["Tomas Ptacovsky",1981,"M","Letňany","CZ/C1","PPV 2023 - Kombi",{"$f":"VLOOKUP(F360,Soutez!A:B,2,FALSE)","v":"CZ"},{"$f":"VLOOKUP(F360,Soutez!A:C,3,FALSE)","v":2023},17,1069,0.92,3531,3249,"x",null,"Ventus c 17.6m","UC",""]
["Martin Holik",1959,"M","Letňany","CZ/C1","PPV 2023 - Kombi",{"$f":"VLOOKUP(F361,Soutez!A:B,2,FALSE)","v":"CZ"},{"$f":"VLOOKUP(F361,Soutez!A:C,3,FALSE)","v":2023},18,971,0.92,3071,2825,"x",null,"LS 6 18m","F5",""]
["Vaclav Hruza",1965,"M","Břeclav","CZ/M","PPV 2023 - Kombi",{"$f":"VLOOKUP(F362,Soutez!A:B,2,FALSE)","v":"CZ"},{"$f":"VLOOKUP(F362,Soutez!A:C,3,FALSE)","v":2023},19,787,0.92,2354,2166,null,null,"HpH 304 MS Shark","TH",""]
["Tomas Suchanek",{"$f":"VLOOKUP(A363,Pilot,2,0)","v":1964},{"$f":"VLOOKUP(A363,Pilot,5,0)","v":"M"},{"$f":"VLOOKUP(A363,Pilot,3,0)","v":"GAC Benešov"},{"$f":"VLOOKUP(A363,Pilot,4,0)","v":"CZ/C1"},"PMČR 2023 - Klub",{"$f":"VLOOKUP(F363,Soutez!A:B,2,FALSE)","v":"CZ"},{"$f":"VLOOKUP(F363,Soutez!A:C,3,FALSE)","v":2023},1,6319,1.0499999999999998,{"$f":"ROUND(J363/MAX($J$363:$J$378)*10000*0.7+(MAX($I$363:$I$378)-I363)/(MAX($I$363:$I$378)-1)*10000*0.3,0)","v":10000},{"$f":"ROUND(K363*L363,0)","v":10500},"x",null,"ASW 20L","CX",{"$f":"IF(ISERROR(VLOOKUP(A363,Pilot,6,0)),\"Není v databázi\",VLOOKUP(A363,Pilot,6,0))","v":""}]
["Jaroslav Tomana",1975,"M","Zbraslavice","CZ/C1","PMČR 2023 - Klub",{"$f":"VLOOKUP(F364,Soutez!A:B,2,FALSE)","v":"CZ"},{"$f":"VLOOKUP(F364,Soutez!A:C,3,FALSE)","v":2023},2,6057,1.0499999999999998,9510,{"$f":"ROUND(K364*L364,0)","v":9986},"x",null,"Centrair C-101BC Pegase","RT",""]
["Michal Lesinger",1966,"M","Moravská Třebová","CZ/M","PMČR 2023 - Klub",{"$f":"VLOOKUP(F365,Soutez!A:B,2,FALSE)","v":"CZ"},{"$f":"VLOOKUP(F365,Soutez!A:C,3,FALSE)","v":2023},3,6028,1.0499999999999998,9278,9742,"x",null,"ASW-20 A","LL",""]
["Pavel Trybenekr",1990,"M","Hořice","CZ/C2","PMČR 2023 - Klub",{"$f":"VLOOKUP(F366,Soutez!A:B,2,FALSE)","v":"CZ"},{"$f":"VLOOKUP(F366,Soutez!A:C,3,FALSE)","v":2023},4,5785,1.0499999999999998,8808,9248,null,null,"LS 4","PF",""]
["Edmund Schuller",null,null,"Lucenec",null,"PMČR 2023 - Klub",{"$f":"VLOOKUP(F367,Soutez!A:B,2,FALSE)","v":"CZ"},{"$f":"VLOOKUP(F367,Soutez!A:C,3,FALSE)","v":2023},5,5608,1.0499999999999998,8412,8833,null,null,"ASW 24","ZS","Není v databázi"]
["Petr Stepanek",{"$f":"VLOOKUP(A368,Pilot,2,0)","v":1989},{"$f":"VLOOKUP(A368,Pilot,5,0)","v":"M"},{"$f":"VLOOKUP(A368,Pilot,3,0)","v":"Moravská Třebová"},{"$f":"VLOOKUP(A368,Pilot,4,0)","v":"CZ/M"},"PMČR 2023 - Klub",{"$f":"VLOOKUP(F368,Soutez!A:B,2,FALSE)","v":"CZ"},{"$f":"VLOOKUP(F368,Soutez!A:C,3,FALSE)","v":2023},6,5405,1.0499999999999998,7987,8386,"x",null,"ASW-19","AE",""]
["Lukas Capek",1992,"M","Letňany","CZ/C1","PMČR 2023 - Klub",{"$f":"VLOOKUP(F369,Soutez!A:B,2,FALSE)","v":"CZ"},{"$f":"VLOOKUP(F369,Soutez!A:C,3,FALSE)","v":2023},7,5185,1.0499999999999998,7544,7921,null,null,"Mosquito","LC",""]
["Jan Kovalcik",null,null,"Bratislava",null,"PMČR 2023 - Klub",{"$f":"VLOOKUP(F370,Soutez!A:B,2,FALSE)","v":"CZ"},{"$f":"VLOOKUP(F370,Soutez!A:C,3,FALSE)","v":2023},8,4975,1.0499999999999998,7111,7467,null,null,"ASW 20","II","Není v databázi"]
["Stepan Filakovsky",{"$f":"VLOOKUP(A371,Pilot,2,0)","v":2005},{"$f":"VLOOKUP(A371,Pilot,5,0)","v":"M"},{"$f":"VLOOKUP(A371,Pilot,3,0)","v":"Medlánky"},{"$f":"VLOOKUP(A371,Pilot,4,0)","v":"CZ/M"},"PMČR 2023 - Klub",{"$f":"VLOOKUP(F371,Soutez!A:B,2,FALSE)","v":"CZ"},{"$f":"VLOOKUP(F371,Soutez!A:C,3,FALSE)","v":2023},9,4947,1.0499999999999998,6880,7224,"x",null,"LS 1f","FD","Junior v roce 2026"]
["Jan Smaha",1958,"M","Česká Lípa","CZ/C2","PMČR 2023 - Klub",{"$f":"VLOOKUP(F372,Soutez!A:B,2,FALSE)","v":"CZ"},{"$f":"VLOOKUP(F372,Soutez!A:C,3,FALSE)","v":2023},10,4766,1.0499999999999998,6480,{"$f":"ROUND(K372*L372,0)","v":6804},null,null,"ASW-15B","CW",""]
["Vojtech Vach 03",2003,"M","Vrchlabí","CZ/C2","PMČR 2023 - Klub",{"$f":"VLOOKUP(F373,Soutez!A:B,2,FALSE)","v":"CZ"},{"$f":"VLOOKUP(F373,Soutez!A:C,3,FALSE)","v":2023},11,4592,1.0499999999999998,6087,6391,"x",null,"Std. Cirrus","YU","Junior v roce 2026"]
["Petr Masik",{"$f":"VLOOKUP(A374,Pilot,2,0)","v":2001},{"$f":"VLOOKUP(A374,Pilot,5,0)","v":"M"},{"$f":"VLOOKUP(A374,Pilot,3,0)","v":"Zábřeh"},{"$f":"VLOOKUP(A374,Pilot,4,0)","v":"CZ/M"},"PMČR 2023 - Klub",{"$f":"VLOOKUP(F374,Soutez!A:B,2,FALSE)","v":"CZ"},{"$f":"VLOOKUP(F374,Soutez!A:C,3,FALSE)","v":2023},12,4033,1.0499999999999998,5268,5531,null,null,"Std. Cirrus","MJ","Junior v roce 2026"]
["Martin Stepanek",1987,"M","Moravská Třebová","CZ/M","PMČR 2023 - Klub",{"$f":"VLOOKUP(F375,Soutez!A:B,2,FALSE)","v":"CZ"},{"$f":"VLOOKUP(F375,Soutez!A:C,3,FALSE)","v":2023},13,3768,1.0499999999999998,4774,5013,"x",null,"ASW-15B","LE",""]
["Pavlina Horackova",1965,"F","Šumperk","CZ/M","PMČR 2023 - Klub",{"$f":"VLOOKUP(F376,Soutez!A:B,2,FALSE)","v":"CZ"},{"$f":"VLOOKUP(F376,Soutez!A:C,3,FALSE)","v":2023},14,3450,1.0499999999999998,4222,4433,null,null,"Jantar std. 2","SU",""]
["Fabian Curda",2004,"M","Zábřeh","CZ/M","PMČR 2023 - Klub",{"$f":"VLOOKUP(F377,Soutez!A:B,2,FALSE)","v":"CZ"},{"$f":"VLOOKUP(F377,Soutez!A:C,3,FALSE)","v":2023},15,3150,1.0499999999999998,3689,3873,"x",null,"DG-300","U7","Junior v roce 2026"]
["Adam Hepal",2004,"M","Moravská Třebová","CZ/M","PMČR 2023 - Klub",{"$f":"VLOOKUP(F378,Soutez!A:B,2,FALSE)","v":"CZ"},{"$f":"VLOOKUP(F378,Soutez!A:C,3,FALSE)","v":2023},16,2991,1.0499999999999998,3313,3479,"x",null,"ASW-19B","NO","Junior v roce 2026"]
["Jan Pavlik",{"$f":"VLOOKUP(A379,Pilot,2,0)","v":1987},{"$f":"VLOOKUP(A379,Pilot,5,0)","v":"M"},{"$f":"VLOOKUP(A379,Pilot,3,0)","v":"Křižanov"},{"$f":"VLOOKUP(A379,Pilot,4,0)","v":"CZ/M"},"PMČR 2023 - Kombi 15m",{"$f":"VLOOKUP(F379,Soutez!A:B,2,FALSE)","v":"CZ"},{"$f":"VLOOKUP(F379,Soutez!A:C,3,FALSE)","v":2023},1,5231,1.0449999999999999,{"$f":"ROUND(J379/MAX($J$379:$J$388)*10000*0.7+(MAX($I$379:$I$388)-I379)/(MAX($I$379:$I$388)-1)*10000*0.3,0)","v":10000},{"$f":"ROUND(K379*L379,0)","v":10450},"x",null,"JS3 15m","ZE",""]
["Hana Treslova",1991,"F","Raná","CZ/C2","PMČR 2023 - Kombi 15m",{"$f":"VLOOKUP(F380,Soutez!A:B,2,FALSE)","v":"CZ"},{"$f":"VLOOKUP(F380,Soutez!A:C,3,FALSE)","v":2023},2,5164,1.0449999999999999,9577,{"$f":"ROUND(K380*L380,0)","v":10008},"x","x","Ventus 2ax","AX",""]
["Pavel Louzecky",1957,"M","Přibyslav","CZ/C2","PMČR 2023 - Kombi 15m",{"$f":"VLOOKUP(F381,Soutez!A:B,2,FALSE)","v":"CZ"},{"$f":"VLOOKUP(F381,Soutez!A:C,3,FALSE)","v":2023},3,5127,1.0449999999999999,9194,9608,"x",null,"LS 8","FX",""]
["Karel Novak",1993,"M","Mladá Boleslav","CZ/C1","PMČR 2023 - Kombi 15m",{"$f":"VLOOKUP(F382,Soutez!A:B,2,FALSE)","v":"CZ"},{"$f":"VLOOKUP(F382,Soutez!A:C,3,FALSE)","v":2023},4,5035,1.0449999999999999,8738,9131,null,null,"JS3 15m","XM",""]
["Miloslav Cink",1987,"M","Letkov","CZ/C1","PMČR 2023 - Kombi 15m",{"$f":"VLOOKUP(F383,Soutez!A:B,2,FALSE)","v":"CZ"},{"$f":"VLOOKUP(F383,Soutez!A:C,3,FALSE)","v":2023},5,4152,1.0449999999999999,7223,7548,null,null,"LS-8B","JB",""]
["Jiri Stepanek",1956,"M","Moravská Třebová","CZ/M","PMČR 2023 - Kombi 15m",{"$f":"VLOOKUP(F384,Soutez!A:B,2,FALSE)","v":"CZ"},{"$f":"VLOOKUP(F384,Soutez!A:C,3,FALSE)","v":2023},6,4041,1.0449999999999999,6741,7044,"x",null,"LS 8","JW",""]
["Jana Treslova",1963,"F","Raná","CZ/C2","PMČR 2023 - Kombi 15m",{"$f":"VLOOKUP(F385,Soutez!A:B,2,FALSE)","v":"CZ"},{"$f":"VLOOKUP(F385,Soutez!A:C,3,FALSE)","v":2023},7,3577,1.0449999999999999,5787,{"$f":"ROUND(K385*L385,0)","v":6047},null,null,"LS 8","W8",""]
["Pavel Rericha",1967,"M","Moravská Třebová","CZ/M","PMČR 2023 - Kombi 15m",{"$f":"VLOOKUP(F386,Soutez!A:B,2,FALSE)","v":"CZ"},{"$f":"VLOOKUP(F386,Soutez!A:C,3,FALSE)","v":2023},8,1213,1.0449999999999999,2290,2393,null,null,"Ventus C 15m WL","MC",""]
["Dana Novakova",1965,"F","Mladá Boleslav","CZ/C1","PMČR 2023 - Kombi 15m",{"$f":"VLOOKUP(F387,Soutez!A:B,2,FALSE)","v":"CZ"},{"$f":"VLOOKUP(F387,Soutez!A:C,3,FALSE)","v":2023},9,1054,1.0449999999999999,1744,1822,null,null,"LS 8","ID",""]
["Jan Hrbatsch",1989,"M","Hodkovice","CZ/C2","PMČR 2023 - Kombi 15m",{"$f":"VLOOKUP(F388,Soutez!A:B,2,FALSE)","v":"CZ"},{"$f":"VLOOKUP(F388,Soutez!A:C,3,FALSE)","v":2023},10,102,1.0449999999999999,136,142,"x",null,"ASW 27B","MF",""]
["Radek Krejcirik",{"$f":"VLOOKUP(A389,Pilot,2,0)","v":1991},{"$f":"VLOOKUP(A389,Pilot,5,0)","v":"M"},{"$f":"VLOOKUP(A389,Pilot,3,0)","v":"Hranice"},{"$f":"VLOOKUP(A389,Pilot,4,0)","v":"CZ/M"},"PMČR 2023 - Kombi Open",{"$f":"VLOOKUP(F389,Soutez!A:B,2,FALSE)","v":"CZ"},{"$f":"VLOOKUP(F389,Soutez!A:C,3,FALSE)","v":2023},1,5348,1.0599999999999998,{"$f":"ROUND(J389/MAX($J$389:$J$399)*10000*0.7+(MAX($I$389:$I$399)-I389)/(MAX($I$389:$I$399)-1)*10000*0.3,0)","v":10000},{"$f":"ROUND(K389*L389,0)","v":10600},"x",null,"JS3 RES","Q1",""]
["Martin Hrivna",1978,"M","Zbraslavice","CZ/C1","PMČR 2023 - Kombi Open",{"$f":"VLOOKUP(F390,Soutez!A:B,2,FALSE)","v":"CZ"},{"$f":"VLOOKUP(F390,Soutez!A:C,3,FALSE)","v":2023},2,5243,1.0599999999999998,9563,{"$f":"ROUND(K390*L390,0)","v":10137},"x",null,"ASG 29 18m","NX",""]
["Radek Kucirek",1973,"M","Havlíčkův Brod","CZ/C2","PMČR 2023 - Kombi Open",{"$f":"VLOOKUP(F391,Soutez!A:B,2,FALSE)","v":"CZ"},{"$f":"VLOOKUP(F391,Soutez!A:C,3,FALSE)","v":2023},3,5205,1.0599999999999998,9213,9766,"x",null,"EB 28 edition 28,3","NA",""]
["Jiri Kusbach",1959,"M","Luhačovice","CZ/M","PMČR 2023 - Kombi Open",{"$f":"VLOOKUP(F392,Soutez!A:B,2,FALSE)","v":"CZ"},{"$f":"VLOOKUP(F392,Soutez!A:C,3,FALSE)","v":2023},4,4725,1.0599999999999998,8285,8782,"x",null,"Diana 3","B",""]
["Pavel Jiranek",1993,"M","Toužim","CZ/C1","PMČR 2023 - Kombi Open",{"$f":"VLOOKUP(F393,Soutez!A:B,2,FALSE)","v":"CZ"},{"$f":"VLOOKUP(F393,Soutez!A:C,3,FALSE)","v":2023},5,4559,1.0599999999999998,7767,8233,null,null,"Ventus c 17.6m","CS",""]
["Jan Boruvka",1984,"M","Jičín","CZ/C2","PMČR 2023 - Kombi Open",{"$f":"VLOOKUP(F394,Soutez!A:B,2,FALSE)","v":"CZ"},{"$f":"VLOOKUP(F394,Soutez!A:C,3,FALSE)","v":2023},6,4298,1.0599999999999998,7126,{"$f":"ROUND(K394*L394,0)","v":7554},null,null,"Ventus c 17.6m","EG",""]
["Zdenek Boruvka 86",1986,"M","Jičín","CZ/C2","PMČR 2023 - Kombi Open",{"$f":"VLOOKUP(F395,Soutez!A:B,2,FALSE)","v":"CZ"},{"$f":"VLOOKUP(F395,Soutez!A:C,3,FALSE)","v":2023},7,3845,1.0599999999999998,6233,6607,"x",null,"Ventus c 17,6m","VV",""]
["Lukas Benedikt",null,null,"AK Trnava",null,"PMČR 2023 - Kombi Open",{"$f":"VLOOKUP(F396,Soutez!A:B,2,FALSE)","v":"CZ"},{"$f":"VLOOKUP(F396,Soutez!A:C,3,FALSE)","v":2023},8,3270,1.0599999999999998,5180,5491,null,null,"Ventus 3f 18m","LB","Není v databázi"]
["Dusan Gadas",{"$f":"VLOOKUP(A397,Pilot,2,0)","v":1960},{"$f":"VLOOKUP(A397,Pilot,5,0)","v":"M"},{"$f":"VLOOKUP(A397,Pilot,3,0)","v":"Hranice"},{"$f":"VLOOKUP(A397,Pilot,4,0)","v":"CZ/M"},"PMČR 2023 - Kombi Open",{"$f":"VLOOKUP(F397,Soutez!A:B,2,FALSE)","v":"CZ"},{"$f":"VLOOKUP(F397,Soutez!A:C,3,FALSE)","v":2023},9,3242,1.0599999999999998,4843,5134,"x",null,"Nimbus 4DM","XXL",""]
["Radek Zima 78",1978,"M","Hodkovice","CZ/C2","PMČR 2023 - Kombi Open",{"$f":"VLOOKUP(F398,Soutez!A:B,2,FALSE)","v":"CZ"},{"$f":"VLOOKUP(F398,Soutez!A:C,3,FALSE)","v":2023},10,3200,1.0599999999999998,4488,4757,null,null,"ASG 29E","XZ",""]
["Antonin Kutalek",{"$f":"VLOOKUP(A399,Pilot,2,0)","v":1943},{"$f":"VLOOKUP(A399,Pilot,5,0)","v":"M"},{"$f":"VLOOKUP(A399,Pilot,3,0)","v":"Zábřeh"},{"$f":"VLOOKUP(A399,Pilot,4,0)","v":"CZ/M"},"PMČR 2023 - Kombi Open",{"$f":"VLOOKUP(F399,Soutez!A:B,2,FALSE)","v":"CZ"},{"$f":"VLOOKUP(F399,Soutez!A:C,3,FALSE)","v":2023},11,2100,1.0599999999999998,2749,2914,null,null,"LAK 17AT 18m WL","GL",""]
["Ferenc Tamas",null,null,"DAC 1930 (Szeged)",null,"FCC Gliding 2023 - Klub",{"$f":"VLOOKUP(F400,Soutez!A:B,2,FALSE)","v":"SK"},{"$f":"VLOOKUP(F400,Soutez!A:C,3,FALSE)","v":2023},1,5876,0.93500000000000005,{"$f":"ROUND(J400/MAX($J$400:$J$420)*10000*0.7+(MAX($I$400:$I$420)-I400)/(MAX($I$400:$I$420)-1)*10000*0.3,0)","v":10000},{"$f":"ROUND(K400*L400,0)","v":9350},null,null,"LS-3 15m WL","1A","Není v databázi"]
["Stanislaw Wujczak",null,null,"LESCZYNSKI AEROKLUB",null,"FCC Gliding 2023 - Klub",{"$f":"VLOOKUP(F401,Soutez!A:B,2,FALSE)","v":"SK"},{"$f":"VLOOKUP(F401,Soutez!A:C,3,FALSE)","v":2023},2,5706,0.93500000000000005,9647,{"$f":"ROUND(K401*L401,0)","v":9020},null,null,"Min-i Nimbus b","RX","Není v databázi"]
["Alin Simion",null,null,"Romanian Airclub",null,"FCC Gliding 2023 - Klub",{"$f":"VLOOKUP(F402,Soutez!A:B,2,FALSE)","v":"SK"},{"$f":"VLOOKUP(F402,Soutez!A:C,3,FALSE)","v":2023},3,5680,0.93500000000000005,9467,8852,null,null,"LS 4A WL","Y2","Není v databázi"]
["Marek Herbreder",null,null,"Aeroklub Warszawski\\Szybowcowy Szczecin",null,"FCC Gliding 2023 - Klub",{"$f":"VLOOKUP(F403,Soutez!A:B,2,FALSE)","v":"SK"},{"$f":"VLOOKUP(F403,Soutez!A:C,3,FALSE)","v":2023},4,5500,0.93500000000000005,9102,8510,null,null,"SZD-55 Promyk","TK","Není v databázi"]
["Martin Sabľa",null,null,"SNV",null,"FCC Gliding 2023 - Klub",{"$f":"VLOOKUP(F404,Soutez!A:B,2,FALSE)","v":"SK"},{"$f":"VLOOKUP(F404,Soutez!A:C,3,FALSE)","v":2023},5,5425,0.93500000000000005,8863,8287,null,null,"Discus b",70,"Není v databázi"]
["Slavomir Piskaty 84",{"$f":"VLOOKUP(A405,Pilot,2,0)","v":1984},{"$f":"VLOOKUP(A405,Pilot,5,0)","v":"M"},{"$f":"VLOOKUP(A405,Pilot,3,0)","v":"Kunovice"},{"$f":"VLOOKUP(A405,Pilot,4,0)","v":"CZ/M"},"FCC Gliding 2023 - Klub",{"$f":"VLOOKUP(F405,Soutez!A:B,2,FALSE)","v":"SK"},{"$f":"VLOOKUP(F405,Soutez!A:C,3,FALSE)","v":2023},6,5424,0.93500000000000005,8712,8146,"x",null,"Discus b WL","KAL",""]
["Mariusz Rachwal",null,null,"Ziemi Zamojskiej",null,"FCC Gliding 2023 - Klub",{"$f":"VLOOKUP(F406,Soutez!A:B,2,FALSE)","v":"SK"},{"$f":"VLOOKUP(F406,Soutez!A:C,3,FALSE)","v":2023},7,5367,0.93500000000000005,8494,7942,null,null,"Mini Nimbus HS 7","VI","Není v databázi"]
["Petra Piskata",{"$f":"VLOOKUP(A407,Pilot,2,0)","v":1989},{"$f":"VLOOKUP(A407,Pilot,5,0)","v":"F"},{"$f":"VLOOKUP(A407,Pilot,3,0)","v":"Luhačovice"},{"$f":"VLOOKUP(A407,Pilot,4,0)","v":"CZ/M"},"FCC Gliding 2023 - Klub",{"$f":"VLOOKUP(F407,Soutez!A:B,2,FALSE)","v":"SK"},{"$f":"VLOOKUP(F407,Soutez!A:C,3,FALSE)","v":2023},8,5351,0.93500000000000005,8325,7784,"x",null,"asw20L","CX",""]
["Tudor Bajenaru",null,null,"Aeroclubul Romaniei",null,"FCC Gliding 2023 - Klub",{"$f":"VLOOKUP(F408,Soutez!A:B,2,FALSE)","v":"SK"},{"$f":"VLOOKUP(F408,Soutez!A:C,3,FALSE)","v":2023},9,5184,0.93500000000000005,7976,7458,null,null,"LS 4 WL","8M","Není v databázi"]
["Ryszard Pachla",null,null,"Czestochowski",null,"FCC Gliding 2023 - Klub",{"$f":"VLOOKUP(F409,Soutez!A:B,2,FALSE)","v":"SK"},{"$f":"VLOOKUP(F409,Soutez!A:C,3,FALSE)","v":2023},10,5142,0.93500000000000005,7776,7271,null,null,"SZD-48 Jantar std. 2 WL","L","Není v databázi"]
["Lukasz Florkowski",null,null,"Ostrowski",null,"FCC Gliding 2023 - Klub",{"$f":"VLOOKUP(F410,Soutez!A:B,2,FALSE)","v":"SK"},{"$f":"VLOOKUP(F410,Soutez!A:C,3,FALSE)","v":2023},11,5129,0.93500000000000005,7610,7115,null,null,"SZD-41A Jantar std.","ZSI","Není v databázi"]
["Attila Korom",null,null,"HUN",null,"FCC Gliding 2023 - Klub",{"$f":"VLOOKUP(F411,Soutez!A:B,2,FALSE)","v":"SK"},{"$f":"VLOOKUP(F411,Soutez!A:C,3,FALSE)","v":2023},12,4969,0.93500000000000005,7270,6797,null,null,"ASW20","MC","Není v databázi"]
["Wojciech Kubiak",null,null,"Aeroklub Krakowski",null,"FCC Gliding 2023 - Klub",{"$f":"VLOOKUP(F412,Soutez!A:B,2,FALSE)","v":"SK"},{"$f":"VLOOKUP(F412,Soutez!A:C,3,FALSE)","v":2023},13,4874,0.93500000000000005,7006,6551,null,null,"SZD-55","W07","Není v databázi"]
["Peter Gonczi",null,null,"Malév",null,"FCC Gliding 2023 - Klub",{"$f":"VLOOKUP(F413,Soutez!A:B,2,FALSE)","v":"SK"},{"$f":"VLOOKUP(F413,Soutez!A:C,3,FALSE)","v":2023},14,4554,0.93500000000000005,6475,6054,null,null,"Janus C (FG)","DD","Není v databázi"]
["Andrzej Ogonowski",null,null,"Aeroclub Nadwislanski",null,"FCC Gliding 2023 - Klub",{"$f":"VLOOKUP(F414,Soutez!A:B,2,FALSE)","v":"SK"},{"$f":"VLOOKUP(F414,Soutez!A:C,3,FALSE)","v":2023},15,4552,0.93500000000000005,6323,{"$f":"ROUND(K414*L414,0)","v":5912},null,null,"LS-4","OG","Není v databázi"]
["Aleksandar Diklic",null,null,"Zrenjanin",null,"FCC Gliding 2023 - Klub",{"$f":"VLOOKUP(F415,Soutez!A:B,2,FALSE)","v":"SK"},{"$f":"VLOOKUP(F415,Soutez!A:C,3,FALSE)","v":2023},16,3496,0.93500000000000005,4915,4596,null,null,"DG-100",30,"Není v databázi"]
["Christoph Matkowski",null,null,"Gliwice",null,"FCC Gliding 2023 - Klub",{"$f":"VLOOKUP(F416,Soutez!A:B,2,FALSE)","v":"SK"},{"$f":"VLOOKUP(F416,Soutez!A:C,3,FALSE)","v":2023},17,3459,0.93500000000000005,4721,4414,null,null,"LAK 17B mini FES","MA","Není v databázi"]
["Lubomir Doupal",{"$f":"VLOOKUP(A417,Pilot,2,0)","v":1975},{"$f":"VLOOKUP(A417,Pilot,5,0)","v":"M"},{"$f":"VLOOKUP(A417,Pilot,3,0)","v":"Kroměříž"},{"$f":"VLOOKUP(A417,Pilot,4,0)","v":"CZ/M"},"FCC Gliding 2023 - Klub",{"$f":"VLOOKUP(F417,Soutez!A:B,2,FALSE)","v":"SK"},{"$f":"VLOOKUP(F417,Soutez!A:C,3,FALSE)","v":2023},18,3359,0.93500000000000005,4452,4163,"x",null,"ASW 24 E WL","LU",""]
["Jerzy Mikołajczyk",null,null,"AZM",null,"FCC Gliding 2023 - Klub",{"$f":"VLOOKUP(F418,Soutez!A:B,2,FALSE)","v":"SK"},{"$f":"VLOOKUP(F418,Soutez!A:C,3,FALSE)","v":2023},19,3357,0.93500000000000005,4299,4020,null,null,"LS-4","YL","Není v databázi"]
["Peter Kassai",null,null,"MALÉV",null,"FCC Gliding 2023 - Klub",{"$f":"VLOOKUP(F419,Soutez!A:B,2,FALSE)","v":"SK"},{"$f":"VLOOKUP(F419,Soutez!A:C,3,FALSE)","v":2023},20,727,{"$f":"VLOOKUP(F419,Soutez,12,0)","v":0.93500000000000005},1016,950,null,null,"Discus b WL","7W","Není v databázi"]
["Ryszard Bendkowski",null,null,"Warszawa",null,"FCC Gliding 2023 - Klub",{"$f":"VLOOKUP(F420,Soutez!A:B,2,FALSE)","v":"SK"},{"$f":"VLOOKUP(F420,Soutez!A:C,3,FALSE)","v":2023},21,477,0.93500000000000005,568,531,null,null,"SZD-48 Jantar Std. 2","Filip","Není v databázi"]
["Sebastian Kawa",null,null,"Bialsko Biala",null,"FCC Gliding 2023 - Kombi 15m",{"$f":"VLOOKUP(F421,Soutez!A:B,2,FALSE)","v":"SK"},{"$f":"VLOOKUP(F421,Soutez!A:C,3,FALSE)","v":2023},1,5749,0.9850000000000001,{"$f":"ROUND(J421/MAX($J$421:$J$451)*10000*0.7+(MAX($I$421:$I$451)-I421)/(MAX($I$421:$I$451)-1)*10000*0.3,0)","v":10000},{"$f":"ROUND(K421*L421,0)","v":9850},null,null,"Diana 2 FES","GSS","Není v databázi"]
["Maximilian SEIS",null,null,"Polé France/AAA Bordeaux / AAVA Vinon sur Verdon",null,"FCC Gliding 2023 - Kombi 15m",{"$f":"VLOOKUP(F422,Soutez!A:B,2,FALSE)","v":"SK"},{"$f":"VLOOKUP(F422,Soutez!A:C,3,FALSE)","v":2023},2,5662,0.9850000000000001,9794,{"$f":"ROUND(K422*L422,0)","v":9647},null,null,"Discus 2a 15m","ET",{"$f":"IF(ISERROR(VLOOKUP(A422,Pilot,6,0)),\"Není v databázi\",VLOOKUP(A422,Pilot,6,0))","v":"Není v databázi"}]
["Barbora Moravcova",{"$f":"VLOOKUP(A423,Pilot,2,0)","v":1994},{"$f":"VLOOKUP(A423,Pilot,5,0)","v":"F"},{"$f":"VLOOKUP(A423,Pilot,3,0)","v":"Zbraslavice"},{"$f":"VLOOKUP(A423,Pilot,4,0)","v":"CZ/C1"},"FCC Gliding 2023 - Kombi 15m",{"$f":"VLOOKUP(F423,Soutez!A:B,2,FALSE)","v":"SK"},{"$f":"VLOOKUP(F423,Soutez!A:C,3,FALSE)","v":2023},3,5602,0.9850000000000001,9621,9477,"x",null,"LS-8 15m","JB",""]
["Julien Duboc",null,null,"Polé France,TGV Condom",null,"FCC Gliding 2023 - Kombi 15m",{"$f":"VLOOKUP(F424,Soutez!A:B,2,FALSE)","v":"SK"},{"$f":"VLOOKUP(F424,Soutez!A:C,3,FALSE)","v":2023},4,5556,0.9850000000000001,9465,9323,null,null,"Discus 2a 15m","JPA","Není v databázi"]
["Victor-Alex POP",null,null,"ROMANIAN AIRCLUB",null,"FCC Gliding 2023 - Kombi 15m",{"$f":"VLOOKUP(F425,Soutez!A:B,2,FALSE)","v":"SK"},{"$f":"VLOOKUP(F425,Soutez!A:C,3,FALSE)","v":2023},5,5504,0.9850000000000001,9302,9162,null,null,"Discus 2a 15m","YB","Není v databázi"]
["Jana Treslova",{"$f":"VLOOKUP(A426,Pilot,2,0)","v":1963},{"$f":"VLOOKUP(A426,Pilot,5,0)","v":"F"},{"$f":"VLOOKUP(A426,Pilot,3,0)","v":"Raná"},{"$f":"VLOOKUP(A426,Pilot,4,0)","v":"CZ/C2"},"FCC Gliding 2023 - Kombi 15m",{"$f":"VLOOKUP(F426,Soutez!A:B,2,FALSE)","v":"SK"},{"$f":"VLOOKUP(F426,Soutez!A:C,3,FALSE)","v":2023},6,5500,0.9850000000000001,9197,9059,"x","x","LS-8 15m","W8",""]
["Aurelien Doriat",null,null,"ACP Poitiers",null,"FCC Gliding 2023 - Kombi 15m",{"$f":"VLOOKUP(F427,Soutez!A:B,2,FALSE)","v":"SK"},{"$f":"VLOOKUP(F427,Soutez!A:C,3,FALSE)","v":2023},7,5499,0.9850000000000001,9096,8960,null,null,"LS-8 15m","P1","Není v databázi"]
["Adam Woolley",null,null,"Kingaroy Soaring Club",null,"FCC Gliding 2023 - Kombi 15m",{"$f":"VLOOKUP(F428,Soutez!A:B,2,FALSE)","v":"SK"},{"$f":"VLOOKUP(F428,Soutez!A:C,3,FALSE)","v":2023},8,5491,0.9850000000000001,8986,8851,null,null,"Discus 2ax 15m","GX","Není v databázi"]
["Dana Novakova",{"$f":"VLOOKUP(A429,Pilot,2,0)","v":1965},{"$f":"VLOOKUP(A429,Pilot,5,0)","v":"F"},{"$f":"VLOOKUP(A429,Pilot,3,0)","v":"Mladá Boleslav"},{"$f":"VLOOKUP(A429,Pilot,4,0)","v":"CZ/C1"},"FCC Gliding 2023 - Kombi 15m",{"$f":"VLOOKUP(F429,Soutez!A:B,2,FALSE)","v":"SK"},{"$f":"VLOOKUP(F429,Soutez!A:C,3,FALSE)","v":2023},9,5480,0.9850000000000001,8872,8739,"x",null,"LS-8 15m","ID",""]
["Pavel Louzecky",1957,"M","Přibyslav","CZ/C2","FCC Gliding 2023 - Kombi 15m",{"$f":"VLOOKUP(F430,Soutez!A:B,2,FALSE)","v":"SK"},{"$f":"VLOOKUP(F430,Soutez!A:C,3,FALSE)","v":2023},10,5453,0.9850000000000001,8740,8609,null,null,"LS-8 15m","FX",""]
["Maros Divok",null,null,"Spišská Nová Ves",null,"FCC Gliding 2023 - Kombi 15m",{"$f":"VLOOKUP(F431,Soutez!A:B,2,FALSE)","v":"SK"},{"$f":"VLOOKUP(F431,Soutez!A:C,3,FALSE)","v":2023},11,5442,0.9850000000000001,8626,8497,null,null,"DuoDiscus XT","SNV","Není v databázi"]
["Kevin Faur",null,null,"Aeroclub de l\\'Ariege",null,"FCC Gliding 2023 - Kombi 15m",{"$f":"VLOOKUP(F432,Soutez!A:B,2,FALSE)","v":"SK"},{"$f":"VLOOKUP(F432,Soutez!A:C,3,FALSE)","v":2023},12,5422,0.9850000000000001,8502,8374,null,null,"Ventus 2a 15m","1R","Není v databázi"]
["Lukasz Blaszczyk",null,null,"Ostrow",null,"FCC Gliding 2023 - Kombi 15m",{"$f":"VLOOKUP(F433,Soutez!A:B,2,FALSE)","v":"SK"},{"$f":"VLOOKUP(F433,Soutez!A:C,3,FALSE)","v":2023},13,5405,0.9850000000000001,8381,8255,null,null,"Discus 2a 15m","I","Není v databázi"]
["Miloslav Cink",{"$f":"VLOOKUP(A434,Pilot,2,0)","v":1987},{"$f":"VLOOKUP(A434,Pilot,5,0)","v":"M"},{"$f":"VLOOKUP(A434,Pilot,3,0)","v":"Letkov"},{"$f":"VLOOKUP(A434,Pilot,4,0)","v":"CZ/C1"},"FCC Gliding 2023 - Kombi 15m",{"$f":"VLOOKUP(F434,Soutez!A:B,2,FALSE)","v":"SK"},{"$f":"VLOOKUP(F434,Soutez!A:C,3,FALSE)","v":2023},14,5377,0.9850000000000001,8247,8123,null,null,"LS-8a 15m","EU",""]
["Piotr Jarysz",null,null,"Aeroklub Leszczyński",null,"FCC Gliding 2023 - Kombi 15m",{"$f":"VLOOKUP(F435,Soutez!A:B,2,FALSE)","v":"SK"},{"$f":"VLOOKUP(F435,Soutez!A:C,3,FALSE)","v":2023},15,5176,0.9850000000000001,7902,7783,null,null,"LS-6a 15m","BB","Není v databázi"]
["Adam Czeladzki",null,null,"Warszawski",null,"FCC Gliding 2023 - Kombi 15m",{"$f":"VLOOKUP(F436,Soutez!A:B,2,FALSE)","v":"SK"},{"$f":"VLOOKUP(F436,Soutez!A:C,3,FALSE)","v":2023},16,5153,0.9850000000000001,7774,7657,null,null,"Duo Discus XLT","POL","Není v databázi"]
["Arturas Klimasauskas",null,null,"Pociunai",null,"FCC Gliding 2023 - Kombi 15m",{"$f":"VLOOKUP(F437,Soutez!A:B,2,FALSE)","v":"SK"},{"$f":"VLOOKUP(F437,Soutez!A:C,3,FALSE)","v":2023},17,5124,0.9850000000000001,7639,7524,null,null,"Ventus 2b 15m","BX","Není v databázi"]
["Pavel Trojan",{"$f":"VLOOKUP(A438,Pilot,2,0)","v":1960},{"$f":"VLOOKUP(A438,Pilot,5,0)","v":"M"},{"$f":"VLOOKUP(A438,Pilot,3,0)","v":"Chrudim"},{"$f":"VLOOKUP(A438,Pilot,4,0)","v":"CZ/C2"},"FCC Gliding 2023 - Kombi 15m",{"$f":"VLOOKUP(F438,Soutez!A:B,2,FALSE)","v":"SK"},{"$f":"VLOOKUP(F438,Soutez!A:C,3,FALSE)","v":2023},18,4955,0.9850000000000001,7333,7223,"x",null,"Duo Discus T -700kg","ZS",""]
["Theo MANFREDI",null,null,"AAVO Chérence",null,"FCC Gliding 2023 - Kombi 15m",{"$f":"VLOOKUP(F439,Soutez!A:B,2,FALSE)","v":"SK"},{"$f":"VLOOKUP(F439,Soutez!A:C,3,FALSE)","v":2023},19,4834,0.9850000000000001,7086,6980,null,null,"LAK 17A 15m WL","LE","Není v databázi"]
["Norbert Scarlat",null,null,"Romanian Airclub",null,"FCC Gliding 2023 - Kombi 15m",{"$f":"VLOOKUP(F440,Soutez!A:B,2,FALSE)","v":"SK"},{"$f":"VLOOKUP(F440,Soutez!A:C,3,FALSE)","v":2023},20,4785,0.9850000000000001,6926,{"$f":"ROUND(K440*L440,0)","v":6822},null,null,"Discus 2a 15m","Y1","Není v databázi"]
["Jan Ratz",{"$f":"VLOOKUP(A441,Pilot,2,0)","v":1987},{"$f":"VLOOKUP(A441,Pilot,5,0)","v":"M"},{"$f":"VLOOKUP(A441,Pilot,3,0)","v":"Zbraslavice"},{"$f":"VLOOKUP(A441,Pilot,4,0)","v":"CZ/C1"},"FCC Gliding 2023 - Kombi 15m",{"$f":"VLOOKUP(F441,Soutez!A:B,2,FALSE)","v":"SK"},{"$f":"VLOOKUP(F441,Soutez!A:C,3,FALSE)","v":2023},21,4734,0.9850000000000001,6764,6663,null,null,"LS-8 15m","AU",""]
["Ionut Tudor",null,null,"Romanian Airclub",null,"FCC Gliding 2023 - Kombi 15m",{"$f":"VLOOKUP(F442,Soutez!A:B,2,FALSE)","v":"SK"},{"$f":"VLOOKUP(F442,Soutez!A:C,3,FALSE)","v":2023},22,4720,0.9850000000000001,6647,6547,null,null,"Discus 2a","YA","Není v databázi"]
["Maciej Walasek",null,null,"Aeroklub Krakowski",null,"FCC Gliding 2023 - Kombi 15m",{"$f":"VLOOKUP(F443,Soutez!A:B,2,FALSE)","v":"SK"},{"$f":"VLOOKUP(F443,Soutez!A:C,3,FALSE)","v":2023},23,4645,0.9850000000000001,6456,6359,null,null,"LS-6c 15m","KK","Není v databázi"]
["Slavomir Valecko",{"$f":"VLOOKUP(A444,Pilot,2,0)","v":1960},{"$f":"VLOOKUP(A444,Pilot,5,0)","v":"M"},{"$f":"VLOOKUP(A444,Pilot,3,0)","v":"Hranice"},{"$f":"VLOOKUP(A444,Pilot,4,0)","v":"CZ/M"},"FCC Gliding 2023 - Kombi 15m",{"$f":"VLOOKUP(F444,Soutez!A:B,2,FALSE)","v":"SK"},{"$f":"VLOOKUP(F444,Soutez!A:C,3,FALSE)","v":2023},24,4465,0.9850000000000001,6137,6045,"x",null,"Discus b WL","IYB",""]
["Dariusz Czech",null,null,"Stalowowolski",null,"FCC Gliding 2023 - Kombi 15m",{"$f":"VLOOKUP(F445,Soutez!A:B,2,FALSE)","v":"SK"},{"$f":"VLOOKUP(F445,Soutez!A:C,3,FALSE)","v":2023},25,4261,0.9850000000000001,5788,5701,null,null,"LAK 19 15m WL","DC","Není v databázi"]
["Wojciech Domanski",null,null,"PL/KSS/Nowy Targ",null,"FCC Gliding 2023 - Kombi 15m",{"$f":"VLOOKUP(F446,Soutez!A:B,2,FALSE)","v":"SK"},{"$f":"VLOOKUP(F446,Soutez!A:C,3,FALSE)","v":2023},26,4169,0.9850000000000001,5576,5492,null,null,"Ventus 2a 15m","PE","Není v databázi"]
["Joanna Biedermann",null,null,"Aeroclub Nadwislanski",null,"FCC Gliding 2023 - Kombi 15m",{"$f":"VLOOKUP(F447,Soutez!A:B,2,FALSE)","v":"SK"},{"$f":"VLOOKUP(F447,Soutez!A:C,3,FALSE)","v":2023},27,4095,0.9850000000000001,5386,5305,null,null,"Discus 2a 15m","Y","Není v databázi"]
["Pawel Frackowiak",null,null,"Aeroklub Poznanski",null,"FCC Gliding 2023 - Kombi 15m",{"$f":"VLOOKUP(F448,Soutez!A:B,2,FALSE)","v":"SK"},{"$f":"VLOOKUP(F448,Soutez!A:C,3,FALSE)","v":2023},28,3931,0.9850000000000001,5086,5010,null,null,"LAK 17B FES 15m -525 kg",77,"Není v databázi"]
["Benedikt Laho",null,null,"Trnava",null,"FCC Gliding 2023 - Kombi 15m",{"$f":"VLOOKUP(F449,Soutez!A:B,2,FALSE)","v":"SK"},{"$f":"VLOOKUP(F449,Soutez!A:C,3,FALSE)","v":2023},29,3706,0.9850000000000001,4712,4641,null,null,"Discus 2cT 15m","JH","Není v databázi"]
["Konrad Jaczkowski",null,null,"Czestochowski",null,"FCC Gliding 2023 - Kombi 15m",{"$f":"VLOOKUP(F450,Soutez!A:B,2,FALSE)","v":"SK"},{"$f":"VLOOKUP(F450,Soutez!A:C,3,FALSE)","v":2023},30,3656,0.9850000000000001,4552,4484,null,null,"Ventus 2b 15m","CB","Není v databázi"]
["Andrzej SZCZERBA",null,null,"WARSZAWSKI",null,"FCC Gliding 2023 - Kombi 15m",{"$f":"VLOOKUP(F451,Soutez!A:B,2,FALSE)","v":"SK"},{"$f":"VLOOKUP(F451,Soutez!A:C,3,FALSE)","v":2023},31,3302,0.9850000000000001,4021,{"$f":"ROUND(K451*L451,0)","v":3961},null,null,"SZD-56-2 Diana-2 FES","AI","Není v databázi"]
["David Mach",{"$f":"VLOOKUP(A452,Pilot,2,0)","v":1994},{"$f":"VLOOKUP(A452,Pilot,5,0)","v":"M"},{"$f":"VLOOKUP(A452,Pilot,3,0)","v":"Hronov"},{"$f":"VLOOKUP(A452,Pilot,4,0)","v":"CZ/C2"},"FCC Gliding 2023 - Kombi Open",{"$f":"VLOOKUP(F452,Soutez!A:B,2,FALSE)","v":"SK"},{"$f":"VLOOKUP(F452,Soutez!A:C,3,FALSE)","v":2023},1,5781,0.95500000000000007,{"$f":"ROUND(J452/MAX($J$452:$J$491)*10000*0.7+(MAX($I$452:$I$491)-I452)/(MAX($I$452:$I$491)-1)*10000*0.3,0)","v":10000},{"$f":"ROUND(K452*L452,0)","v":9550},"x",null,"JS1-C 18 m","ZF",""]
["Karol Staryszak",null,null,"Nadwislamski",null,"FCC Gliding 2023 - Kombi Open",{"$f":"VLOOKUP(F453,Soutez!A:B,2,FALSE)","v":"SK"},{"$f":"VLOOKUP(F453,Soutez!A:C,3,FALSE)","v":2023},2,5736,0.95500000000000007,9869,{"$f":"ROUND(K453*L453,0)","v":9425},null,null,"ASG 29E 18m","PES","Není v databázi"]
["Andre Weidlich",null,null,"LSV Ruhr-Lenne Iserlohn",null,"FCC Gliding 2023 - Kombi Open",{"$f":"VLOOKUP(F454,Soutez!A:B,2,FALSE)","v":"SK"},{"$f":"VLOOKUP(F454,Soutez!A:C,3,FALSE)","v":2023},3,5708,0.95500000000000007,9758,9319,null,null,"Ventus 3M 18m","TE","Není v databázi"]
["Andreas Kessler",null,null,"Romanian Airclub",null,"FCC Gliding 2023 - Kombi Open",{"$f":"VLOOKUP(F455,Soutez!A:B,2,FALSE)","v":"SK"},{"$f":"VLOOKUP(F455,Soutez!A:C,3,FALSE)","v":2023},4,5690,0.95500000000000007,9659,9224,null,null,"ASG-32 Mi-800 kg","AK","Není v databázi"]
["Petr Krejcirik",{"$f":"VLOOKUP(A456,Pilot,2,0)","v":1960},{"$f":"VLOOKUP(A456,Pilot,5,0)","v":"M"},{"$f":"VLOOKUP(A456,Pilot,3,0)","v":"Hranice"},{"$f":"VLOOKUP(A456,Pilot,4,0)","v":"CZ/M"},"FCC Gliding 2023 - Kombi Open",{"$f":"VLOOKUP(F456,Soutez!A:B,2,FALSE)","v":"SK"},{"$f":"VLOOKUP(F456,Soutez!A:C,3,FALSE)","v":2023},5,5646,0.95500000000000007,9529,9100,null,null,"JS3 TJ 18m","VB",""]
["Bernd Goretzki",null,null,"LSV Rinteln",null,"FCC Gliding 2023 - Kombi Open",{"$f":"VLOOKUP(F457,Soutez!A:B,2,FALSE)","v":"SK"},{"$f":"VLOOKUP(F457,Soutez!A:C,3,FALSE)","v":2023},6,5605,0.95500000000000007,9402,8979,null,null,"Ventus 3M 18m","C8","Není v databázi"]
["Zdislaw Bednarczuk",null,null,"Bielsko-Biala",null,"FCC Gliding 2023 - Kombi Open",{"$f":"VLOOKUP(F458,Soutez!A:B,2,FALSE)","v":"SK"},{"$f":"VLOOKUP(F458,Soutez!A:C,3,FALSE)","v":2023},7,5604,0.95500000000000007,9324,8904,null,null,"Js3 MD","ZB","Není v databázi"]
["Radek Krejcirik",{"$f":"VLOOKUP(A459,Pilot,2,0)","v":1991},{"$f":"VLOOKUP(A459,Pilot,5,0)","v":"M"},{"$f":"VLOOKUP(A459,Pilot,3,0)","v":"Hranice"},{"$f":"VLOOKUP(A459,Pilot,4,0)","v":"CZ/M"},"FCC Gliding 2023 - Kombi Open",{"$f":"VLOOKUP(F459,Soutez!A:B,2,FALSE)","v":"SK"},{"$f":"VLOOKUP(F459,Soutez!A:C,3,FALSE)","v":2023},8,5586,0.95500000000000007,9225,8810,null,null,"AS 33 Es",12,""]
["Andy Smielkiewicz",null,null,"Leszno",null,"FCC Gliding 2023 - Kombi Open",{"$f":"VLOOKUP(F460,Soutez!A:B,2,FALSE)","v":"SK"},{"$f":"VLOOKUP(F460,Soutez!A:C,3,FALSE)","v":2023},9,5566,0.95500000000000007,9124,8713,null,null,"ASG 29E 18m","A2","Není v databázi"]
["Tomasz Dul",null,null,"LSV Dinslaken",null,"FCC Gliding 2023 - Kombi Open",{"$f":"VLOOKUP(F461,Soutez!A:B,2,FALSE)","v":"SK"},{"$f":"VLOOKUP(F461,Soutez!A:C,3,FALSE)","v":2023},9,5566,0.95500000000000007,9124,8713,null,null,"JS3 MD","TO","Není v databázi"]
["Arkadiusz Downar",null,null,"Warminsko Mazurski",null,"FCC Gliding 2023 - Kombi Open",{"$f":"VLOOKUP(F462,Soutez!A:B,2,FALSE)","v":"SK"},{"$f":"VLOOKUP(F462,Soutez!A:C,3,FALSE)","v":2023},11,5487,0.95500000000000007,8875,8476,null,null,"ASG 29E 18m","PL","Není v databázi"]
["Jiri Kusbach",{"$f":"VLOOKUP(A463,Pilot,2,0)","v":1959},{"$f":"VLOOKUP(A463,Pilot,5,0)","v":"M"},{"$f":"VLOOKUP(A463,Pilot,3,0)","v":"Luhačovice"},{"$f":"VLOOKUP(A463,Pilot,4,0)","v":"CZ/M"},"FCC Gliding 2023 - Kombi Open",{"$f":"VLOOKUP(F463,Soutez!A:B,2,FALSE)","v":"SK"},{"$f":"VLOOKUP(F463,Soutez!A:C,3,FALSE)","v":2023},12,5480,0.95500000000000007,8789,8393,null,null,"Diana 3 FES","B",""]
["Lukasz Kornacki",null,null,"Aeroklub Ziemi Mazowieckiej",null,"FCC Gliding 2023 - Kombi Open",{"$f":"VLOOKUP(F464,Soutez!A:B,2,FALSE)","v":"SK"},{"$f":"VLOOKUP(F464,Soutez!A:C,3,FALSE)","v":2023},13,5380,0.95500000000000007,8591,8204,null,null,"ASG 29E 18m","HBI","Není v databázi"]
["Leszek Staryszak",null,null,"Aeroklub Warszawski",null,"FCC Gliding 2023 - Kombi Open",{"$f":"VLOOKUP(F465,Soutez!A:B,2,FALSE)","v":"SK"},{"$f":"VLOOKUP(F465,Soutez!A:C,3,FALSE)","v":2023},14,5305,0.95500000000000007,8424,8045,null,null,"ASG 29E 18m","BG","Není v databázi"]
["Petr Panek",{"$f":"VLOOKUP(A466,Pilot,2,0)","v":1975},{"$f":"VLOOKUP(A466,Pilot,5,0)","v":"M"},{"$f":"VLOOKUP(A466,Pilot,3,0)","v":"Dvůr Králové"},{"$f":"VLOOKUP(A466,Pilot,4,0)","v":"CZ/C2"},"FCC Gliding 2023 - Kombi Open",{"$f":"VLOOKUP(F466,Soutez!A:B,2,FALSE)","v":"SK"},{"$f":"VLOOKUP(F466,Soutez!A:C,3,FALSE)","v":2023},15,5290,0.95500000000000007,8329,7954,"x",null,"JS-1bTJ EVO","IGC",""]
["Marek Sawczuk",null,null,"Aeroklub Warszawski",null,"FCC Gliding 2023 - Kombi Open",{"$f":"VLOOKUP(F467,Soutez!A:B,2,FALSE)","v":"SK"},{"$f":"VLOOKUP(F467,Soutez!A:C,3,FALSE)","v":2023},16,5218,0.95500000000000007,8164,7797,null,null,"ASG 29E 18m","MS","Není v databázi"]
["Kornel NEGRO",null,null,"Alföldi Repülőklub",null,"FCC Gliding 2023 - Kombi Open",{"$f":"VLOOKUP(F468,Soutez!A:B,2,FALSE)","v":"SK"},{"$f":"VLOOKUP(F468,Soutez!A:C,3,FALSE)","v":2023},17,5172,0.95500000000000007,8032,7671,null,null,"Ventus 2ct 18m -600 kg","GE","Není v databázi"]
["Oliver Sven",null,null,"Cape Gliding Club",null,"FCC Gliding 2023 - Kombi Open",{"$f":"VLOOKUP(F469,Soutez!A:B,2,FALSE)","v":"SK"},{"$f":"VLOOKUP(F469,Soutez!A:C,3,FALSE)","v":2023},18,5170,0.95500000000000007,7952,7594,null,null,"ASG 29E 18m","EMI","Není v databázi"]
["Jan Divok",null,null,"Spišská Nová Ves",null,"FCC Gliding 2023 - Kombi Open",{"$f":"VLOOKUP(F470,Soutez!A:B,2,FALSE)","v":"SK"},{"$f":"VLOOKUP(F470,Soutez!A:C,3,FALSE)","v":2023},19,5129,0.95500000000000007,7826,7474,null,null,"Discus 2cT 18m","DJ","Není v databázi"]
["Ivan Novak",{"$f":"VLOOKUP(A471,Pilot,2,0)","v":1962},{"$f":"VLOOKUP(A471,Pilot,5,0)","v":"M"},{"$f":"VLOOKUP(A471,Pilot,3,0)","v":"Mladá Boleslav"},{"$f":"VLOOKUP(A471,Pilot,4,0)","v":"CZ/C1"},"FCC Gliding 2023 - Kombi Open",{"$f":"VLOOKUP(F471,Soutez!A:B,2,FALSE)","v":"SK"},{"$f":"VLOOKUP(F471,Soutez!A:C,3,FALSE)","v":2023},20,5122,0.95500000000000007,7741,7393,null,null,"ASG 29 18m","QZ",""]
["Mate Meszaros",null,null,"Aero Club Szolnok, Hungary",null,"FCC Gliding 2023 - Kombi Open",{"$f":"VLOOKUP(F472,Soutez!A:B,2,FALSE)","v":"SK"},{"$f":"VLOOKUP(F472,Soutez!A:C,3,FALSE)","v":2023},21,4989,0.95500000000000007,7503,7165,null,null,"Arcus T","HUX","Není v databázi"]
["Alena Netusilova",{"$f":"VLOOKUP(A473,Pilot,2,0)","v":1970},{"$f":"VLOOKUP(A473,Pilot,5,0)","v":"F"},{"$f":"VLOOKUP(A473,Pilot,3,0)","v":"Zbraslavice"},{"$f":"VLOOKUP(A473,Pilot,4,0)","v":"CZ/C1"},"FCC Gliding 2023 - Kombi Open",{"$f":"VLOOKUP(F473,Soutez!A:B,2,FALSE)","v":"SK"},{"$f":"VLOOKUP(F473,Soutez!A:C,3,FALSE)","v":2023},22,4952,0.95500000000000007,7381,7049,null,null,"JS3 18m","ZE",""]
["Ľubik Jakubcak",null,null,"SGC Martin",null,"FCC Gliding 2023 - Kombi Open",{"$f":"VLOOKUP(F474,Soutez!A:B,2,FALSE)","v":"SK"},{"$f":"VLOOKUP(F474,Soutez!A:C,3,FALSE)","v":2023},23,4951,0.95500000000000007,7303,6974,null,null,"Arcus M","CAR","Není v databázi"]
["Zsolt Osi",null,null,"G6AX,ACFH",null,"FCC Gliding 2023 - Kombi Open",{"$f":"VLOOKUP(F475,Soutez!A:B,2,FALSE)","v":"SK"},{"$f":"VLOOKUP(F475,Soutez!A:C,3,FALSE)","v":2023},24,4922,0.95500000000000007,7191,6867,null,null,"ASW-22BLE 27m -810 kg","BY","Není v databázi"]
["Janos Sindely",null,null,"Alfoldi Repülőklub",null,"FCC Gliding 2023 - Kombi Open",{"$f":"VLOOKUP(F476,Soutez!A:B,2,FALSE)","v":"SK"},{"$f":"VLOOKUP(F476,Soutez!A:C,3,FALSE)","v":2023},25,4650,0.95500000000000007,6784,6479,null,null,"JS1-C 18 m","RZ","Není v databázi"]
["Kapuy & Csonka",null,null,null,null,"FCC Gliding 2023 - Kombi Open",{"$f":"VLOOKUP(F477,Soutez!A:B,2,FALSE)","v":"SK"},{"$f":"VLOOKUP(F477,Soutez!A:C,3,FALSE)","v":2023},26,4490,0.95500000000000007,6514,6221,null,null,"EB-29D 28,3m","HB","Není v databázi"]
["Tomasz Chudoment",null,null,null,null,"FCC Gliding 2023 - Kombi Open",{"$f":"VLOOKUP(F478,Soutez!A:B,2,FALSE)","v":"SK"},{"$f":"VLOOKUP(F478,Soutez!A:C,3,FALSE)","v":2023},27,4355,0.95500000000000007,6273,5991,null,null,"ASH 25Mi 26m","L","Není v databázi"]
["Oldrich Bartonik",{"$f":"VLOOKUP(A479,Pilot,2,0)","v":1961},{"$f":"VLOOKUP(A479,Pilot,5,0)","v":"M"},{"$f":"VLOOKUP(A479,Pilot,3,0)","v":"Luhačovice"},{"$f":"VLOOKUP(A479,Pilot,4,0)","v":"CZ/M"},"FCC Gliding 2023 - Kombi Open",{"$f":"VLOOKUP(F479,Soutez!A:B,2,FALSE)","v":"SK"},{"$f":"VLOOKUP(F479,Soutez!A:C,3,FALSE)","v":2023},28,4152,0.95500000000000007,5951,5683,"x",null,"Diana 3 FES","D3",""]
["Andrzej Majewski",null,null,"WARMIŃSKO-MAZURSKI",null,"FCC Gliding 2023 - Kombi Open",{"$f":"VLOOKUP(F480,Soutez!A:B,2,FALSE)","v":"SK"},{"$f":"VLOOKUP(F480,Soutez!A:C,3,FALSE)","v":2023},29,4093,0.95500000000000007,5802,5541,null,null,"ASG 29E 18m",29,"Není v databázi"]
["Istvan Reti",null,null,"Alföldi Repülőklub",null,"FCC Gliding 2023 - Kombi Open",{"$f":"VLOOKUP(F481,Soutez!A:B,2,FALSE)","v":"SK"},{"$f":"VLOOKUP(F481,Soutez!A:C,3,FALSE)","v":2023},30,4071,0.95500000000000007,5699,{"$f":"ROUND(K481*L481,0)","v":5443},null,null,"ASG 29E 18m","IR","Není v databázi"]
["Gabriela Belakova",null,null,"Prievidza",null,"FCC Gliding 2023 - Kombi Open",{"$f":"VLOOKUP(F482,Soutez!A:B,2,FALSE)","v":"SK"},{"$f":"VLOOKUP(F482,Soutez!A:C,3,FALSE)","v":2023},31,3871,0.95500000000000007,5380,5138,null,null,"Ventus 3M 18m","CAT","Není v databázi"]
["Jerzy Kolasinski",null,null,"Poznań/KKGT",null,"FCC Gliding 2023 - Kombi Open",{"$f":"VLOOKUP(F483,Soutez!A:B,2,FALSE)","v":"SK"},{"$f":"VLOOKUP(F483,Soutez!A:C,3,FALSE)","v":2023},32,3630,{"$f":"VLOOKUP(F483,Soutez,12,0)","v":0.95500000000000007},5011,4786,null,null,"JS-MD 3 RES 18m","KOL","Není v databázi"]
["Arkadiusz Stefańczyk",null,null,"Aeroklub Kielecki/SGT",null,"FCC Gliding 2023 - Kombi Open",{"$f":"VLOOKUP(F484,Soutez!A:B,2,FALSE)","v":"SK"},{"$f":"VLOOKUP(F484,Soutez!A:C,3,FALSE)","v":2023},33,3620,0.95500000000000007,4922,4701,null,null,"ASG-32 Mi-800 kg","MD","Není v databázi"]
["Lukas Benedikt",null,null,"Trnava",null,"FCC Gliding 2023 - Kombi Open",{"$f":"VLOOKUP(F485,Soutez!A:B,2,FALSE)","v":"SK"},{"$f":"VLOOKUP(F485,Soutez!A:C,3,FALSE)","v":2023},34,3045,0.95500000000000007,4149,3962,null,null,"Ventus 3F 18m","LB",{"$f":"IF(ISERROR(VLOOKUP(A485,Pilot,6,0)),\"Není v databázi\",VLOOKUP(A485,Pilot,6,0))","v":"Není v databázi"}]
["Erazem Polutnik",null,null,"Aeroclub Celje",null,"FCC Gliding 2023 - Kombi Open",{"$f":"VLOOKUP(F486,Soutez!A:B,2,FALSE)","v":"SK"},{"$f":"VLOOKUP(F486,Soutez!A:C,3,FALSE)","v":2023},35,2812,0.95500000000000007,3790,3619,null,null,"Ventus 3M 18m","EM","Není v databázi"]
["Botond Szabadfi",null,null,"ARK",null,"FCC Gliding 2023 - Kombi Open",{"$f":"VLOOKUP(F487,Soutez!A:B,2,FALSE)","v":"SK"},{"$f":"VLOOKUP(F487,Soutez!A:C,3,FALSE)","v":2023},36,2338,0.95500000000000007,3139,2998,null,null,"ASG 29E 18m","BB","Není v databázi"]
["Klaus Kalmbach",null,null,"FSV Tübingen e.V.",null,"FCC Gliding 2023 - Kombi Open",{"$f":"VLOOKUP(F488,Soutez!A:B,2,FALSE)","v":"SK"},{"$f":"VLOOKUP(F488,Soutez!A:C,3,FALSE)","v":2023},37,2086,0.95500000000000007,2757,2633,null,null,"JS3 TC 18m","CT","Není v databázi"]
["Jan Keher",null,null,"Prievidza",null,"FCC Gliding 2023 - Kombi Open",{"$f":"VLOOKUP(F489,Soutez!A:B,2,FALSE)","v":"SK"},{"$f":"VLOOKUP(F489,Soutez!A:C,3,FALSE)","v":2023},38,1386,0.95500000000000007,1832,1750,null,null,"Discus 2cT 18m","EF","Není v databázi"]
["Dariusz Pietraszkiewicz",null,null,"Szczecin Szybovcovy",null,"FCC Gliding 2023 - Kombi Open",{"$f":"VLOOKUP(F490,Soutez!A:B,2,FALSE)","v":"SK"},{"$f":"VLOOKUP(F490,Soutez!A:C,3,FALSE)","v":2023},39,1194,0.95500000000000007,1523,1454,null,null,"DG-808 C Clasic 18m WL","VN","Není v databázi"]
["Jan Granvig Dahl",null,null,"MSF",null,"FCC Gliding 2023 - Kombi Open",{"$f":"VLOOKUP(F491,Soutez!A:B,2,FALSE)","v":"SK"},{"$f":"VLOOKUP(F491,Soutez!A:C,3,FALSE)","v":2023},40,0,0.95500000000000007,0,0,null,null,"Ventus 2cm 18m -525 kg","HX","Není v databázi"]
["Michal Cupak",{"$f":"VLOOKUP(A492,Pilot,2,0)","v":1991},{"$f":"VLOOKUP(A492,Pilot,5,0)","v":"M"},{"$f":"VLOOKUP(A492,Pilot,3,0)","v":"Medlánky"},{"$f":"VLOOKUP(A492,Pilot,4,0)","v":"CZ/M"},"Fatraglide 2023 - Klub",{"$f":"VLOOKUP(F492,Soutez!A:B,2,FALSE)","v":"SK"},{"$f":"VLOOKUP(F492,Soutez!A:C,3,FALSE)","v":2023},1,2700,0.755,{"$f":"ROUND(J492/MAX($J$492:$J$510)*10000*0.7+(MAX($I$492:$I$510)-I492)/(MAX($I$492:$I$510)-1)*10000*0.3,0)","v":10000},{"$f":"ROUND(K492*L492,0)","v":7550},null,null,"CIRRUS Std","A7",""]
["Jan Sponer",1988,"M","Medlánky","CZ/M","Fatraglide 2023 - Klub",{"$f":"VLOOKUP(F493,Soutez!A:B,2,FALSE)","v":"SK"},{"$f":"VLOOKUP(F493,Soutez!A:C,3,FALSE)","v":2023},2,2686,0.755,9797,{"$f":"ROUND(K493*L493,0)","v":7397},"x",null,"CIRRUS Std","EX",""]
["Edmund SCHULLER",null,null,"AK LUCENEC",null,"Fatraglide 2023 - Klub",{"$f":"VLOOKUP(F494,Soutez!A:B,2,FALSE)","v":"SK"},{"$f":"VLOOKUP(F494,Soutez!A:C,3,FALSE)","v":2023},3,2661,0.755,9566,7222,null,null,"ASW 24 WL","ZS","Není v databázi"]
["Michal Lesinger",{"$f":"VLOOKUP(A495,Pilot,2,0)","v":1966},{"$f":"VLOOKUP(A495,Pilot,5,0)","v":"M"},{"$f":"VLOOKUP(A495,Pilot,3,0)","v":"Moravská Třebová"},{"$f":"VLOOKUP(A495,Pilot,4,0)","v":"CZ/M"},"Fatraglide 2023 - Klub",{"$f":"VLOOKUP(F495,Soutez!A:B,2,FALSE)","v":"SK"},{"$f":"VLOOKUP(F495,Soutez!A:C,3,FALSE)","v":2023},4,2604,0.755,9251,6985,null,null,"ASW 20","LL",""]
["Jan Horak",1971,"M","Zbraslavice","CZ/C1","Fatraglide 2023 - Klub",{"$f":"VLOOKUP(F496,Soutez!A:B,2,FALSE)","v":"SK"},{"$f":"VLOOKUP(F496,Soutez!A:C,3,FALSE)","v":2023},5,2483,0.755,8771,6622,"x",null,"ASW 20A WL","WX",""]
["Milan SUROVCIK",null,null,"AK ZILINA",null,"Fatraglide 2023 - Klub",{"$f":"VLOOKUP(F497,Soutez!A:B,2,FALSE)","v":"SK"},{"$f":"VLOOKUP(F497,Soutez!A:C,3,FALSE)","v":2023},6,2467,0.755,8563,6465,null,null,"ASW 20","S","Není v databázi"]
["Tibor FRATRIK",null,null,"SGC MARTIN",null,"Fatraglide 2023 - Klub",{"$f":"VLOOKUP(F498,Soutez!A:B,2,FALSE)","v":"SK"},{"$f":"VLOOKUP(F498,Soutez!A:C,3,FALSE)","v":2023},7,2140,0.755,7548,5699,null,null,"ASW 20C","VG","Není v databázi"]
["Tomas SATRAPA",null,null,"AK BRATISLAVA",null,"Fatraglide 2023 - Klub",{"$f":"VLOOKUP(F499,Soutez!A:B,2,FALSE)","v":"SK"},{"$f":"VLOOKUP(F499,Soutez!A:C,3,FALSE)","v":2023},8,2002,0.755,7024,{"$f":"ROUND(K499*L499,0)","v":5303},null,null,"C-101 A PEGASE","OI","Není v databázi"]
["Marek SEMAN",null,null,"AK PRESOV",null,"Fatraglide 2023 - Klub",{"$f":"VLOOKUP(F500,Soutez!A:B,2,FALSE)","v":"SK"},{"$f":"VLOOKUP(F500,Soutez!A:C,3,FALSE)","v":2023},9,1830,0.755,6411,4840,null,null,"CIRRUS Std","MJ","Není v databázi"]
["Lubomir BELUSKO",null,null,"AK PRESOV",null,"Fatraglide 2023 - Klub",{"$f":"VLOOKUP(F501,Soutez!A:B,2,FALSE)","v":"SK"},{"$f":"VLOOKUP(F501,Soutez!A:C,3,FALSE)","v":2023},10,1789,0.755,6138,4634,null,null,"C-101 D PEGASE","HS","Není v databázi"]
["Peter GASPAROVIC",null,null,"SGC MARTIN",null,"Fatraglide 2023 - Klub",{"$f":"VLOOKUP(F502,Soutez!A:B,2,FALSE)","v":"SK"},{"$f":"VLOOKUP(F502,Soutez!A:C,3,FALSE)","v":2023},11,1688,0.755,5710,4311,null,null,"ASW 19B","A4","Není v databázi"]
["Gabor BORS",null,null,"AK OPITZ NANDOR REPULOKLUB",null,"Fatraglide 2023 - Klub",{"$f":"VLOOKUP(F503,Soutez!A:B,2,FALSE)","v":"SK"},{"$f":"VLOOKUP(F503,Soutez!A:C,3,FALSE)","v":2023},12,1552,0.755,5190,3918,null,null,"MINI NIMBUS","SU","Není v databázi"]
["Oldrich Kounovsky",{"$f":"VLOOKUP(A504,Pilot,2,0)","v":1976},{"$f":"VLOOKUP(A504,Pilot,5,0)","v":"M"},{"$f":"VLOOKUP(A504,Pilot,3,0)","v":"Medlánky"},{"$f":"VLOOKUP(A504,Pilot,4,0)","v":"CZ/M"},"Fatraglide 2023 - Klub",{"$f":"VLOOKUP(F504,Soutez!A:B,2,FALSE)","v":"SK"},{"$f":"VLOOKUP(F504,Soutez!A:C,3,FALSE)","v":2023},13,1496,0.755,4879,3684,"x",null,"CIRRUS Std","MS",""]
["Peter SEDMAK",null,null,"AK MARTIN",null,"Fatraglide 2023 - Klub",{"$f":"VLOOKUP(F505,Soutez!A:B,2,FALSE)","v":"SK"},{"$f":"VLOOKUP(F505,Soutez!A:C,3,FALSE)","v":2023},14,1427,0.755,4533,3422,null,null,"LS 4","MA","Není v databázi"]
["Albert HACKL",null,null,"AK OPITZ NANDOR REPULOKLUB",null,"Fatraglide 2023 - Klub",{"$f":"VLOOKUP(F506,Soutez!A:B,2,FALSE)","v":"SK"},{"$f":"VLOOKUP(F506,Soutez!A:C,3,FALSE)","v":2023},15,1416,0.755,4338,3275,null,null,"ASTIR CS TOP","PC","Není v databázi"]
["Martin MARINCAK",null,null,"AK PRESOV",null,"Fatraglide 2023 - Klub",{"$f":"VLOOKUP(F507,Soutez!A:B,2,FALSE)","v":"SK"},{"$f":"VLOOKUP(F507,Soutez!A:C,3,FALSE)","v":2023},16,919,0.755,2883,2177,null,null,"CIRRUS Std","CV","Není v databázi"]
["Rastislav KRAK",null,null,"AK POPRAD",null,"Fatraglide 2023 - Klub",{"$f":"VLOOKUP(F508,Soutez!A:B,2,FALSE)","v":"SK"},{"$f":"VLOOKUP(F508,Soutez!A:C,3,FALSE)","v":2023},17,560,0.755,1785,1348,null,null,"ASW 19B","A1","Není v databázi"]
["Peter USIAK",null,null,"AK BANSKA BYSTRICA",null,"Fatraglide 2023 - Klub",{"$f":"VLOOKUP(F509,Soutez!A:B,2,FALSE)","v":"SK"},{"$f":"VLOOKUP(F509,Soutez!A:C,3,FALSE)","v":2023},18,525,0.755,1528,1154,null,null,"ASTIR CS 77","WW","Není v databázi"]
["Peter ZIAK",null,null,"AK MARTIN",null,"Fatraglide 2023 - Klub",{"$f":"VLOOKUP(F510,Soutez!A:B,2,FALSE)","v":"SK"},{"$f":"VLOOKUP(F510,Soutez!A:C,3,FALSE)","v":2023},19,0,0.755,0,0,null,null,"C 101 A PEGASE","MT","Není v databázi"]
["Viliam KUBOVCIK",null,null,"AK POPRAD",null,"Fatraglide 2023 - Kombi",{"$f":"VLOOKUP(F511,Soutez!A:B,2,FALSE)","v":"SK"},{"$f":"VLOOKUP(F511,Soutez!A:C,3,FALSE)","v":2023},1,2532,0.755,{"$f":"ROUND(J511/MAX($J$511:$J$525)*10000*0.7+(MAX($I$511:$I$525)-I511)/(MAX($I$511:$I$525)-1)*10000*0.3,0)","v":10000},{"$f":"ROUND(K511*L511,0)","v":7550},null,null,"JS 3 RES","VV","Není v databázi"]
["Martin FURJES",null,null,"SGC MARTIN",null,"Fatraglide 2023 - Kombi",{"$f":"VLOOKUP(F512,Soutez!A:B,2,FALSE)","v":"SK"},{"$f":"VLOOKUP(F512,Soutez!A:C,3,FALSE)","v":2023},2,2468,0.755,9609,{"$f":"ROUND(K512*L512,0)","v":7255},null,null,"AS 33",12,"Není v databázi"]
["Petr Hotovy",{"$f":"VLOOKUP(A513,Pilot,2,0)","v":1958},{"$f":"VLOOKUP(A513,Pilot,5,0)","v":"M"},{"$f":"VLOOKUP(A513,Pilot,3,0)","v":"Česká Lípa"},{"$f":"VLOOKUP(A513,Pilot,4,0)","v":"CZ/C2"},"Fatraglide 2023 - Kombi",{"$f":"VLOOKUP(F513,Soutez!A:B,2,FALSE)","v":"SK"},{"$f":"VLOOKUP(F513,Soutez!A:C,3,FALSE)","v":2023},3,2457,0.755,9364,7070,null,null,"JS 1B","IGC",""]
["Marek STRAKA",null,null,"AK DUBNICA NAD VAHOM",null,"Fatraglide 2023 - Kombi",{"$f":"VLOOKUP(F514,Soutez!A:B,2,FALSE)","v":"SK"},{"$f":"VLOOKUP(F514,Soutez!A:C,3,FALSE)","v":2023},4,2445,0.755,9117,6883,null,null,"VENTUS 2 CXT","AI","Není v databázi"]
["Tibor NOGA",null,null,"SGC MARTIN",null,"Fatraglide 2023 - Kombi",{"$f":"VLOOKUP(F515,Soutez!A:B,2,FALSE)","v":"SK"},{"$f":"VLOOKUP(F515,Soutez!A:C,3,FALSE)","v":2023},5,2348,0.755,8634,6519,null,null,"Ventus 17.6m","TN","Není v databázi"]
["Branislav JESENSKY",null,null,"SGC MARTIN ZEMEPAN",null,"Fatraglide 2023 - Kombi",{"$f":"VLOOKUP(F516,Soutez!A:B,2,FALSE)","v":"SK"},{"$f":"VLOOKUP(F516,Soutez!A:C,3,FALSE)","v":2023},6,2324,0.755,8354,6307,null,null,"JS 1C 21","J","Není v databázi"]
["BELIANSKY & KNOSKO",null,null,"AK BRATISLAVA",null,"Fatraglide 2023 - Kombi",{"$f":"VLOOKUP(F517,Soutez!A:B,2,FALSE)","v":"SK"},{"$f":"VLOOKUP(F517,Soutez!A:C,3,FALSE)","v":2023},7,1978,0.755,7183,5423,null,null,"Duo Discus","2X","Není v databázi"]
["Lubomir JAKUBCAK",null,null,"SGC MARTIN",null,"Fatraglide 2023 - Kombi",{"$f":"VLOOKUP(F518,Soutez!A:B,2,FALSE)","v":"SK"},{"$f":"VLOOKUP(F518,Soutez!A:C,3,FALSE)","v":2023},8,1832,0.755,6565,4957,null,null,"ARCUS M","CAR","Není v databázi"]
["KROMKA & KOLLAR",null,null,"AK POPRAD",null,"Fatraglide 2023 - Kombi",{"$f":"VLOOKUP(F519,Soutez!A:B,2,FALSE)","v":"SK"},{"$f":"VLOOKUP(F519,Soutez!A:C,3,FALSE)","v":2023},9,1763,0.755,6160,4651,null,null,"ARCUS M","TA3","Není v databázi"]
["Barbora Moravcova",{"$f":"VLOOKUP(A520,Pilot,2,0)","v":1994},{"$f":"VLOOKUP(A520,Pilot,5,0)","v":"F"},{"$f":"VLOOKUP(A520,Pilot,3,0)","v":"Zbraslavice"},{"$f":"VLOOKUP(A520,Pilot,4,0)","v":"CZ/C1"},"Fatraglide 2023 - Kombi",{"$f":"VLOOKUP(F520,Soutez!A:B,2,FALSE)","v":"SK"},{"$f":"VLOOKUP(F520,Soutez!A:C,3,FALSE)","v":2023},10,1685,0.755,5730,4326,null,null,"LS 8 NEO","JB",""]
["Petr Jedlicka",1987,"M","Medlánky","CZ/M","Fatraglide 2023 - Kombi",{"$f":"VLOOKUP(F521,Soutez!A:B,2,FALSE)","v":"SK"},{"$f":"VLOOKUP(F521,Soutez!A:C,3,FALSE)","v":2023},11,1588,0.755,5247,{"$f":"ROUND(K521*L521,0)","v":3961},"x",null,"VENTUS C","PD",""]
["Petar ABONYI",null,null,"AK RUZOMBEROK",null,"Fatraglide 2023 - Kombi",{"$f":"VLOOKUP(F522,Soutez!A:B,2,FALSE)","v":"SK"},{"$f":"VLOOKUP(F522,Soutez!A:C,3,FALSE)","v":2023},12,1492,0.755,4768,3600,null,null,"DISCUS 2B","DI","Není v databázi"]
["Milan LOJDL",null,null,"AK MARTIN",null,"Fatraglide 2023 - Kombi",{"$f":"VLOOKUP(F523,Soutez!A:B,2,FALSE)","v":"SK"},{"$f":"VLOOKUP(F523,Soutez!A:C,3,FALSE)","v":2023},13,1490,0.755,4548,3434,null,null,"VENTUS 2 CXT","MJ1","Není v databázi"]
["BERKO & SUBA",null,null,"AK SPISSKA NOVA VES",null,"Fatraglide 2023 - Kombi",{"$f":"VLOOKUP(F524,Soutez!A:B,2,FALSE)","v":"SK"},{"$f":"VLOOKUP(F524,Soutez!A:C,3,FALSE)","v":2023},14,465,0.755,1500,1133,null,null,"DUO DISCUS XLT","SNV","Není v databázi"]
["Ivan BAJANA",null,null,"SGC MARTIN",null,"Fatraglide 2023 - Kombi",{"$f":"VLOOKUP(F525,Soutez!A:B,2,FALSE)","v":"SK"},{"$f":"VLOOKUP(F525,Soutez!A:C,3,FALSE)","v":2023},15,297,0.755,821,620,null,null,"LS 8","SI","Není v databázi"]
["Maros Divok",null,null,"Spišská Nová Ves",null,"PMSR 2023 - Kombi Open",{"$f":"VLOOKUP(F526,Soutez!A:B,2,FALSE)","v":"SK"},{"$f":"VLOOKUP(F526,Soutez!A:C,3,FALSE)","v":2023},1,7607,0.95000000000000007,{"$f":"ROUND(J526/MAX($J$526:$J$539)*10000*0.7+(MAX($I$526:$I$539)-I526)/(MAX($I$526:$I$539)-1)*10000*0.3,0)","v":10000},{"$f":"ROUND(K526*L526,0)","v":9500},null,null,"AS 33 Es 18m","D","Není v databázi"]
["Ondrej Dupal",{"$f":"VLOOKUP(A527,Pilot,2,0)","v":1966},{"$f":"VLOOKUP(A527,Pilot,5,0)","v":"M"},{"$f":"VLOOKUP(A527,Pilot,3,0)","v":"GAC Benešov"},{"$f":"VLOOKUP(A527,Pilot,4,0)","v":"CZ/C1"},"PMSR 2023 - Kombi Open",{"$f":"VLOOKUP(F527,Soutez!A:B,2,FALSE)","v":"SK"},{"$f":"VLOOKUP(F527,Soutez!A:C,3,FALSE)","v":2023},2,7455,0.95000000000000007,9629,{"$f":"ROUND(K527*L527,0)","v":9148},"x",null,"ASG 29 E 18m","GO",""]
["Vladimir Foltin",null,null,"Nitra",null,"PMSR 2023 - Kombi Open",{"$f":"VLOOKUP(F528,Soutez!A:B,2,FALSE)","v":"SK"},{"$f":"VLOOKUP(F528,Soutez!A:C,3,FALSE)","v":2023},3,7320,0.95000000000000007,9274,8810,null,null,"JS3 18m",3,"Není v databázi"]
["Petr Setka",{"$f":"VLOOKUP(A529,Pilot,2,0)","v":1971},{"$f":"VLOOKUP(A529,Pilot,5,0)","v":"M"},{"$f":"VLOOKUP(A529,Pilot,3,0)","v":"Letkov"},{"$f":"VLOOKUP(A529,Pilot,4,0)","v":"CZ/C1"},"PMSR 2023 - Kombi Open",{"$f":"VLOOKUP(F529,Soutez!A:B,2,FALSE)","v":"SK"},{"$f":"VLOOKUP(F529,Soutez!A:C,3,FALSE)","v":2023},4,7195,0.95000000000000007,8929,8483,"x",null,"Ventus 2cxM 18m","RS",""]
["Jiri Kusbach",{"$f":"VLOOKUP(A530,Pilot,2,0)","v":1959},{"$f":"VLOOKUP(A530,Pilot,5,0)","v":"M"},{"$f":"VLOOKUP(A530,Pilot,3,0)","v":"Luhačovice"},{"$f":"VLOOKUP(A530,Pilot,4,0)","v":"CZ/M"},"PMSR 2023 - Kombi Open",{"$f":"VLOOKUP(F530,Soutez!A:B,2,FALSE)","v":"SK"},{"$f":"VLOOKUP(F530,Soutez!A:C,3,FALSE)","v":2023},5,6948,0.95000000000000007,8471,8047,null,null,"Diana 3FES","B",""]
["Branislav Jesensky",null,null,"SGC Martin",null,"PMSR 2023 - Kombi Open",{"$f":"VLOOKUP(F531,Soutez!A:B,2,FALSE)","v":"SK"},{"$f":"VLOOKUP(F531,Soutez!A:C,3,FALSE)","v":2023},6,6759,0.95000000000000007,8066,7663,null,null,"JS1C 21m","J","Není v databázi"]
["Janos Sindely",null,null,"Magyarország Alfoldi",null,"PMSR 2023 - Kombi Open",{"$f":"VLOOKUP(F532,Soutez!A:B,2,FALSE)","v":"SK"},{"$f":"VLOOKUP(F532,Soutez!A:C,3,FALSE)","v":2023},7,6063,0.95000000000000007,7195,6835,null,null,"JS1 18m","RZ","Není v databázi"]
["Marek Straka",null,null,"Dubnica",null,"PMSR 2023 - Kombi Open",{"$f":"VLOOKUP(F533,Soutez!A:B,2,FALSE)","v":"SK"},{"$f":"VLOOKUP(F533,Soutez!A:C,3,FALSE)","v":2023},8,5470,0.95000000000000007,6418,6097,null,null,"Ventus 2cxT 18m","AI","Není v databázi"]
["Jan Paepke",null,null,"SFC Riesa-Canitz e.V. / Prievidza",null,"PMSR 2023 - Kombi Open",{"$f":"VLOOKUP(F534,Soutez!A:B,2,FALSE)","v":"SK"},{"$f":"VLOOKUP(F534,Soutez!A:C,3,FALSE)","v":2023},9,5315,0.95000000000000007,6045,{"$f":"ROUND(K534*L534,0)","v":5743},null,null,"LAK-17A T 18m WL","AK","Není v databázi"]
["Osi Zsolt",null,null,"Magyarország ACFH",null,"PMSR 2023 - Kombi Open",{"$f":"VLOOKUP(F535,Soutez!A:B,2,FALSE)","v":"SK"},{"$f":"VLOOKUP(F535,Soutez!A:C,3,FALSE)","v":2023},10,4693,0.95000000000000007,5242,4980,null,null,"ASW 22 BLE","BY","Není v databázi"]
["Lukas Benedikt",null,null,"SNA",null,"PMSR 2023 - Kombi Open",{"$f":"VLOOKUP(F536,Soutez!A:B,2,FALSE)","v":"SK"},{"$f":"VLOOKUP(F536,Soutez!A:C,3,FALSE)","v":2023},11,4642,0.95000000000000007,4964,4716,null,null,"Ventus 3F 18m","LB","Není v databázi"]
["Gabriela Belakova",null,null,"Aeroklub Prievidza",null,"PMSR 2023 - Kombi Open",{"$f":"VLOOKUP(F537,Soutez!A:B,2,FALSE)","v":"SK"},{"$f":"VLOOKUP(F537,Soutez!A:C,3,FALSE)","v":2023},12,4400,0.95000000000000007,4510,4285,null,null,"Ventus 3M 18m","CAT","Není v databázi"]
["Milan Lojdl",null,null,"Aeroklub Martin",null,"PMSR 2023 - Kombi Open",{"$f":"VLOOKUP(F538,Soutez!A:B,2,FALSE)","v":"SK"},{"$f":"VLOOKUP(F538,Soutez!A:C,3,FALSE)","v":2023},13,4334,0.95000000000000007,4219,4008,null,null,"Ventus 2cxT 18m","MJ1","Není v databázi"]
["Viliam Kubovcik",null,null,"Poprad",null,"PMSR 2023 - Kombi Open",{"$f":"VLOOKUP(F539,Soutez!A:B,2,FALSE)","v":"SK"},{"$f":"VLOOKUP(F539,Soutez!A:C,3,FALSE)","v":2023},14,2215,0.95000000000000007,2038,1936,null,null,"JS3 RES 18m","VV","Není v databázi"]
["Louise Rodriguez",null,null,"France",null,"WWGC 2023 - Klub",{"$f":"VLOOKUP(F540,Soutez!A:B,2,FALSE)","v":"SP"},{"$f":"VLOOKUP(F540,Soutez!A:C,3,FALSE)","v":2023},1,6486,1.0449999999999999,{"$f":"ROUND(J540/MAX($J$540:$J$558)*10000*0.7+(MAX($I$540:$I$558)-I540)/(MAX($I$540:$I$558)-1)*10000*0.3,0)","v":10000},{"$f":"ROUND(K540*L540,0)","v":10450},null,null,"LS 7","HG","Není v databázi"]
["Michaela Krizova",{"$f":"VLOOKUP(A541,Pilot,2,0)","v":2001},{"$f":"VLOOKUP(A541,Pilot,5,0)","v":"F"},{"$f":"VLOOKUP(A541,Pilot,3,0)","v":"Přibyslav"},{"$f":"VLOOKUP(A541,Pilot,4,0)","v":"CZ/C2"},"WWGC 2023 - Klub",{"$f":"VLOOKUP(F541,Soutez!A:B,2,FALSE)","v":"SP"},{"$f":"VLOOKUP(F541,Soutez!A:C,3,FALSE)","v":2023},2,6444,1.0449999999999999,9788,{"$f":"ROUND(K541*L541,0)","v":10228},null,"x","LS 4","6L","Junior v roce 2026"]
["Daniela Wilden",null,null,"Germany",null,"WWGC 2023 - Klub",{"$f":"VLOOKUP(F542,Soutez!A:B,2,FALSE)","v":"SP"},{"$f":"VLOOKUP(F542,Soutez!A:C,3,FALSE)","v":2023},3,6375,1.0449999999999999,9547,9977,null,null,"LS 7 WL","FOX","Není v databázi"]
["Tereza Koubkova",{"$f":"VLOOKUP(A543,Pilot,2,0)","v":1999},{"$f":"VLOOKUP(A543,Pilot,5,0)","v":"F"},{"$f":"VLOOKUP(A543,Pilot,3,0)","v":"Strakonice"},{"$f":"VLOOKUP(A543,Pilot,4,0)","v":"CZ/C1"},"WWGC 2023 - Klub",{"$f":"VLOOKUP(F543,Soutez!A:B,2,FALSE)","v":"SP"},{"$f":"VLOOKUP(F543,Soutez!A:C,3,FALSE)","v":2023},4,6190,1.0449999999999999,9181,9594,null,"x","LS 4","IX",""]
["Carolin Rothhardt",null,null,"Germany",null,"WWGC 2023 - Klub",{"$f":"VLOOKUP(F544,Soutez!A:B,2,FALSE)","v":"SP"},{"$f":"VLOOKUP(F544,Soutez!A:C,3,FALSE)","v":2023},5,6138,1.0449999999999999,8958,9361,null,null,"LS 7","PG","Není v databázi"]
["Aude Grangeray",null,null,"France",null,"WWGC 2023 - Klub",{"$f":"VLOOKUP(F545,Soutez!A:B,2,FALSE)","v":"SP"},{"$f":"VLOOKUP(F545,Soutez!A:C,3,FALSE)","v":2023},6,6011,1.0449999999999999,8654,9043,null,null,"LS 7","AG",{"$f":"IF(ISERROR(VLOOKUP(A545,Pilot,6,0)),\"Není v databázi\",VLOOKUP(A545,Pilot,6,0))","v":"Není v databázi"}]
["Elena Fergnani",null,null,"Italy",null,"WWGC 2023 - Klub",{"$f":"VLOOKUP(F546,Soutez!A:B,2,FALSE)","v":"SP"},{"$f":"VLOOKUP(F546,Soutez!A:C,3,FALSE)","v":2023},7,5922,1.0449999999999999,8391,8769,null,null,"Discus a",40,"Není v databázi"]
["Paula Drazul",null,null,"Argentina",null,"WWGC 2023 - Klub",{"$f":"VLOOKUP(F547,Soutez!A:B,2,FALSE)","v":"SP"},{"$f":"VLOOKUP(F547,Soutez!A:C,3,FALSE)","v":2023},8,5837,{"$f":"VLOOKUP(F547,Soutez,12,0)","v":1.0449999999999999},8133,{"$f":"ROUND(K547*L547,0)","v":8499},null,null,"ASW 20","AL","Není v databázi"]
["Petra Piskata",{"$f":"VLOOKUP(A548,Pilot,2,0)","v":1989},{"$f":"VLOOKUP(A548,Pilot,5,0)","v":"F"},{"$f":"VLOOKUP(A548,Pilot,3,0)","v":"Luhačovice"},{"$f":"VLOOKUP(A548,Pilot,4,0)","v":"CZ/M"},"WWGC 2023 - Klub",{"$f":"VLOOKUP(F548,Soutez!A:B,2,FALSE)","v":"SP"},{"$f":"VLOOKUP(F548,Soutez!A:C,3,FALSE)","v":2023},9,5773,1.0449999999999999,7897,8252,null,"x","ASW 20","CX",""]
["Alizee Petit",null,null,"France",null,"WWGC 2023 - Klub",{"$f":"VLOOKUP(F549,Soutez!A:B,2,FALSE)","v":"SP"},{"$f":"VLOOKUP(F549,Soutez!A:C,3,FALSE)","v":2023},10,5607,1.0449999999999999,7551,7891,null,null,"ASW 20","LX","Není v databázi"]
["Claudia Hill",null,null,"United Kingdom",null,"WWGC 2023 - Klub",{"$f":"VLOOKUP(F550,Soutez!A:B,2,FALSE)","v":"SP"},{"$f":"VLOOKUP(F550,Soutez!A:C,3,FALSE)","v":2023},11,5521,1.0449999999999999,7292,7620,null,null,"LS 1-f neo","CH","Není v databázi"]
["Ulrike Teichmann",null,null,"Germany",null,"WWGC 2023 - Klub",{"$f":"VLOOKUP(F551,Soutez!A:B,2,FALSE)","v":"SP"},{"$f":"VLOOKUP(F551,Soutez!A:C,3,FALSE)","v":2023},12,5344,1.0449999999999999,6934,7246,null,null,"LS 4",99,"Není v databázi"]
["Alison Mulder",null,null,"United Kingdom",null,"WWGC 2023 - Klub",{"$f":"VLOOKUP(F552,Soutez!A:B,2,FALSE)","v":"SP"},{"$f":"VLOOKUP(F552,Soutez!A:C,3,FALSE)","v":2023},13,5280,1.0449999999999999,6698,6999,null,null,"LS 4","LS4","Není v databázi"]
["Sylvia Grandstaff",null,null,"United States of America",null,"WWGC 2023 - Klub",{"$f":"VLOOKUP(F553,Soutez!A:B,2,FALSE)","v":"SP"},{"$f":"VLOOKUP(F553,Soutez!A:C,3,FALSE)","v":2023},14,4625,1.0449999999999999,5825,6087,null,null,"Std. Cirrus","OLE","Není v databázi"]
["Kathy Fosha",null,null,"United States of America",null,"WWGC 2023 - Klub",{"$f":"VLOOKUP(F554,Soutez!A:B,2,FALSE)","v":"SP"},{"$f":"VLOOKUP(F554,Soutez!A:C,3,FALSE)","v":2023},15,4540,1.0449999999999999,5566,5816,null,null,"ASW 20","ET1","Není v databázi"]
["Christina Solberg Hansen",null,null,"Denmark",null,"WWGC 2023 - Klub",{"$f":"VLOOKUP(F555,Soutez!A:B,2,FALSE)","v":"SP"},{"$f":"VLOOKUP(F555,Soutez!A:C,3,FALSE)","v":2023},16,4538,1.0449999999999999,5398,5641,null,null,"LS 1-f","SH","Není v databázi"]
["Olena Yakymchuk",null,null,"Ukraine",null,"WWGC 2023 - Klub",{"$f":"VLOOKUP(F556,Soutez!A:B,2,FALSE)","v":"SP"},{"$f":"VLOOKUP(F556,Soutez!A:C,3,FALSE)","v":2023},17,2862,1.0449999999999999,3422,3576,null,null,"DG 100","L","Není v databázi"]
["Carol Marshall",null,null,"United Kingdom",null,"WWGC 2023 - Klub",{"$f":"VLOOKUP(F557,Soutez!A:B,2,FALSE)","v":"SP"},{"$f":"VLOOKUP(F557,Soutez!A:C,3,FALSE)","v":2023},18,1998,1.0449999999999999,2323,2428,null,null,"ASW 20 L","EEJ","Není v databázi"]
["Valeria Caselato",null,null,"Brazil",null,"WWGC 2023 - Klub",{"$f":"VLOOKUP(F558,Soutez!A:B,2,FALSE)","v":"SP"},{"$f":"VLOOKUP(F558,Soutez!A:C,3,FALSE)","v":2023},19,807,1.0449999999999999,871,910,null,null,"DG 300 WL","TC","Není v databázi"]
["Barbora Moravcova",{"$f":"VLOOKUP(A559,Pilot,2,0)","v":1994},{"$f":"VLOOKUP(A559,Pilot,5,0)","v":"F"},{"$f":"VLOOKUP(A559,Pilot,3,0)","v":"Zbraslavice"},{"$f":"VLOOKUP(A559,Pilot,4,0)","v":"CZ/C1"},"WWGC 2023 - Std",{"$f":"VLOOKUP(F559,Soutez!A:B,2,FALSE)","v":"SP"},{"$f":"VLOOKUP(F559,Soutez!A:C,3,FALSE)","v":2023},1,8704,1.0549999999999999,{"$f":"ROUND(J559/MAX($J$559:$J$574)*10000*0.7+(MAX($I$559:$I$574)-I559)/(MAX($I$559:$I$574)-1)*10000*0.3,0)","v":10000},{"$f":"ROUND(K559*L559,0)","v":10550},null,"x","LS 8","JB",""]
["Aude Untersee",null,null,"France",null,"WWGC 2023 - Std",{"$f":"VLOOKUP(F560,Soutez!A:B,2,FALSE)","v":"SP"},{"$f":"VLOOKUP(F560,Soutez!A:C,3,FALSE)","v":2023},2,8656,1.0549999999999999,9761,{"$f":"ROUND(K560*L560,0)","v":10298},null,null,"Discus 2a","JPA","Není v databázi"]
["Marilyne Abadie-Berard",null,null,"France",null,"WWGC 2023 - Std",{"$f":"VLOOKUP(F561,Soutez!A:B,2,FALSE)","v":"SP"},{"$f":"VLOOKUP(F561,Soutez!A:C,3,FALSE)","v":2023},3,8605,1.0549999999999999,9520,10044,null,null,"Discus 2a","AX","Není v databázi"]
["Sabrina Vogt",null,null,"Germany",null,"WWGC 2023 - Std",{"$f":"VLOOKUP(F562,Soutez!A:B,2,FALSE)","v":"SP"},{"$f":"VLOOKUP(F562,Soutez!A:C,3,FALSE)","v":2023},4,8413,1.0549999999999999,9166,9670,null,null,"Discus 2a","HZ","Není v databázi"]
["Dana Novakova",{"$f":"VLOOKUP(A563,Pilot,2,0)","v":1965},{"$f":"VLOOKUP(A563,Pilot,5,0)","v":"F"},{"$f":"VLOOKUP(A563,Pilot,3,0)","v":"Mladá Boleslav"},{"$f":"VLOOKUP(A563,Pilot,4,0)","v":"CZ/C1"},"WWGC 2023 - Std",{"$f":"VLOOKUP(F563,Soutez!A:B,2,FALSE)","v":"SP"},{"$f":"VLOOKUP(F563,Soutez!A:C,3,FALSE)","v":2023},5,8290,1.0549999999999999,8867,{"$f":"ROUND(K563*L563,0)","v":9355},null,"x","LS 8b","FX",""]
["Anais Gaubert",null,null,"France",null,"WWGC 2023 - Std",{"$f":"VLOOKUP(F564,Soutez!A:B,2,FALSE)","v":"SP"},{"$f":"VLOOKUP(F564,Soutez!A:C,3,FALSE)","v":2023},6,8072,1.0549999999999999,8492,8959,null,null,"Discus 2a","ET","Není v databázi"]
["Jana Treslova",{"$f":"VLOOKUP(A565,Pilot,2,0)","v":1963},{"$f":"VLOOKUP(A565,Pilot,5,0)","v":"F"},{"$f":"VLOOKUP(A565,Pilot,3,0)","v":"Raná"},{"$f":"VLOOKUP(A565,Pilot,4,0)","v":"CZ/C2"},"WWGC 2023 - Std",{"$f":"VLOOKUP(F565,Soutez!A:B,2,FALSE)","v":"SP"},{"$f":"VLOOKUP(F565,Soutez!A:C,3,FALSE)","v":2023},7,7592,1.0549999999999999,7906,8341,null,null,"LS 8","W8",""]
["Cornelia Schaich",null,null,"Germany",null,"WWGC 2023 - Std",{"$f":"VLOOKUP(F566,Soutez!A:B,2,FALSE)","v":"SP"},{"$f":"VLOOKUP(F566,Soutez!A:C,3,FALSE)","v":2023},8,7378,1.0549999999999999,7534,7948,null,null,"LS 8","3S","Není v databázi"]
["Lucia Esteban Loring",null,null,"Spain",null,"WWGC 2023 - Std",{"$f":"VLOOKUP(F567,Soutez!A:B,2,FALSE)","v":"SP"},{"$f":"VLOOKUP(F567,Soutez!A:C,3,FALSE)","v":2023},9,7372,1.0549999999999999,7329,7732,null,null,"Discus 2a","L2","Není v databázi"]
["Francesca Roberts",null,null,"United Kingdom",null,"WWGC 2023 - Std",{"$f":"VLOOKUP(F568,Soutez!A:B,2,FALSE)","v":"SP"},{"$f":"VLOOKUP(F568,Soutez!A:C,3,FALSE)","v":2023},10,7013,1.0549999999999999,6840,7216,null,null,"LS 8","IT","Není v databázi"]
["Lizzy van Zomeren",null,null,"Netherlands",null,"WWGC 2023 - Std",{"$f":"VLOOKUP(F569,Soutez!A:B,2,FALSE)","v":"SP"},{"$f":"VLOOKUP(F569,Soutez!A:C,3,FALSE)","v":2023},11,6906,1.0549999999999999,6554,6914,null,null,"LS 8","HT","Není v databázi"]
["Karen Wilken",null,null,"Germany",null,"WWGC 2023 - Std",{"$f":"VLOOKUP(F570,Soutez!A:B,2,FALSE)","v":"SP"},{"$f":"VLOOKUP(F570,Soutez!A:C,3,FALSE)","v":2023},12,6835,1.0549999999999999,6297,6643,null,null,"LS 8","VZ","Není v databázi"]
["Joanna Biedermann",null,null,"Poland",null,"WWGC 2023 - Std",{"$f":"VLOOKUP(F571,Soutez!A:B,2,FALSE)","v":"SP"},{"$f":"VLOOKUP(F571,Soutez!A:C,3,FALSE)","v":2023},13,6416,1.0549999999999999,5760,6077,null,null,"Discus 2a","I","Není v databázi"]
["Barbara Kuttel",null,null,"Switzerland",null,"WWGC 2023 - Std",{"$f":"VLOOKUP(F572,Soutez!A:B,2,FALSE)","v":"SP"},{"$f":"VLOOKUP(F572,Soutez!A:C,3,FALSE)","v":2023},14,6174,1.0549999999999999,5365,5660,null,null,"LS 8","JG","Není v databázi"]
["Ilka Elster-Back",null,null,"Germany",null,"WWGC 2023 - Std",{"$f":"VLOOKUP(F573,Soutez!A:B,2,FALSE)","v":"SP"},{"$f":"VLOOKUP(F573,Soutez!A:C,3,FALSE)","v":2023},15,5446,1.0549999999999999,4580,4832,null,null,"LS 8e neo",71,"Není v databázi"]
["Delia Flury",null,null,"Switzerland",null,"WWGC 2023 - Std",{"$f":"VLOOKUP(F574,Soutez!A:B,2,FALSE)","v":"SP"},{"$f":"VLOOKUP(F574,Soutez!A:C,3,FALSE)","v":2023},16,3228,1.0549999999999999,2596,{"$f":"ROUND(K574*L574,0)","v":2739},null,null,"Discus 2cFES 15m","EB","Není v databázi"]
["Alena Netusilova",{"$f":"VLOOKUP(A575,Pilot,2,0)","v":1970},{"$f":"VLOOKUP(A575,Pilot,5,0)","v":"F"},{"$f":"VLOOKUP(A575,Pilot,3,0)","v":"Zbraslavice"},{"$f":"VLOOKUP(A575,Pilot,4,0)","v":"CZ/C1"},"WWGC 2023 - 18m",{"$f":"VLOOKUP(F575,Soutez!A:B,2,FALSE)","v":"SP"},{"$f":"VLOOKUP(F575,Soutez!A:C,3,FALSE)","v":2023},1,8885,1.04,{"$f":"ROUND(J575/MAX($J$575:$J$586)*10000*0.7+(MAX($I$575:$I$586)-I575)/(MAX($I$575:$I$586)-1)*10000*0.3,0)","v":10000},{"$f":"ROUND(K575*L575,0)","v":10400},null,"x","JS3 18m","ZE",""]
["Melanie Gadoulet",null,null,"France",null,"WWGC 2023 - 18m",{"$f":"VLOOKUP(F576,Soutez!A:B,2,FALSE)","v":"SP"},{"$f":"VLOOKUP(F576,Soutez!A:C,3,FALSE)","v":2023},2,8571,1.04,9480,{"$f":"ROUND(K576*L576,0)","v":9859},null,null,"JS3 18m","LB","Není v databázi"]
["Anne Ducarouge",null,null,"France",null,"WWGC 2023 - 18m",{"$f":"VLOOKUP(F577,Soutez!A:B,2,FALSE)","v":"SP"},{"$f":"VLOOKUP(F577,Soutez!A:C,3,FALSE)","v":2023},3,8459,1.04,9119,9484,null,null,"JS3 18m","KW","Není v databázi"]
["Michaela Rendlova",{"$f":"VLOOKUP(A578,Pilot,2,0)","v":2004},{"$f":"VLOOKUP(A578,Pilot,5,0)","v":"F"},{"$f":"VLOOKUP(A578,Pilot,3,0)","v":"Toužim"},{"$f":"VLOOKUP(A578,Pilot,4,0)","v":"CZ/C1"},"WWGC 2023 - 18m",{"$f":"VLOOKUP(F578,Soutez!A:B,2,FALSE)","v":"SP"},{"$f":"VLOOKUP(F578,Soutez!A:C,3,FALSE)","v":2023},4,8334,1.04,8748,9098,null,null,"AS 33 Es 18m","EA","Junior v roce 2026"]
["Hana Treslova",1991,"F","Raná","CZ/C2","WWGC 2023 - 18m",{"$f":"VLOOKUP(F579,Soutez!A:B,2,FALSE)","v":"SP"},{"$f":"VLOOKUP(F579,Soutez!A:C,3,FALSE)","v":2023},5,8115,1.04,8302,8634,null,null,"JS3 18m","XM",""]
["Katrin Senne",null,null,"Germany",null,"WWGC 2023 - 18m",{"$f":"VLOOKUP(F580,Soutez!A:B,2,FALSE)","v":"SP"},{"$f":"VLOOKUP(F580,Soutez!A:C,3,FALSE)","v":2023},6,7983,1.04,7926,8243,null,null,"JS3 18m Jet","BK","Není v databázi"]
["Liz Sparrow",null,null,"United Kingdom",null,"WWGC 2023 - 18m",{"$f":"VLOOKUP(F581,Soutez!A:B,2,FALSE)","v":"SP"},{"$f":"VLOOKUP(F581,Soutez!A:C,3,FALSE)","v":2023},7,7016,1.04,6891,7167,null,null,"ASG 29 18m",0,"Není v databázi"]
["Sandra Malzacher",null,null,"Germany",null,"WWGC 2023 - 18m",{"$f":"VLOOKUP(F582,Soutez!A:B,2,FALSE)","v":"SP"},{"$f":"VLOOKUP(F582,Soutez!A:C,3,FALSE)","v":2023},8,6591,1.04,6284,6535,null,null,"ASG 29 18m","LEO","Není v databázi"]
["Astrid Galaret",null,null,"France",null,"WWGC 2023 - 18m",{"$f":"VLOOKUP(F583,Soutez!A:B,2,FALSE)","v":"SP"},{"$f":"VLOOKUP(F583,Soutez!A:C,3,FALSE)","v":2023},9,6306,1.04,5786,6017,null,null,"JS3 18m","FM","Není v databázi"]
["Anja Barfuss",null,null,"Germany",null,"WWGC 2023 - 18m",{"$f":"VLOOKUP(F584,Soutez!A:B,2,FALSE)","v":"SP"},{"$f":"VLOOKUP(F584,Soutez!A:C,3,FALSE)","v":2023},10,5982,1.04,5258,{"$f":"ROUND(K584*L584,0)","v":5468},null,null,"ASG 29 Es 18m","J3","Není v databázi"]
["Ayala Truelove",null,null,"United Kingdom",null,"WWGC 2023 - 18m",{"$f":"VLOOKUP(F585,Soutez!A:B,2,FALSE)","v":"SP"},{"$f":"VLOOKUP(F585,Soutez!A:C,3,FALSE)","v":2023},11,5909,1.04,4928,5125,null,null,"JS3 18m","J7","Není v databázi"]
["Maria Lisa Martin Perez",null,null,"Spain",null,"WWGC 2023 - 18m",{"$f":"VLOOKUP(F586,Soutez!A:B,2,FALSE)","v":"SP"},{"$f":"VLOOKUP(F586,Soutez!A:C,3,FALSE)","v":2023},12,5740,1.04,4522,4703,null,null,"Ventus 2cxM 18m","MA","Není v databázi"]
["Łukasz Wójcik",null,null,null,null,"EGC 2023 - 18m",{"$f":"VLOOKUP(F587,Soutez!A:B,2,FALSE)","v":"PL"},{"$f":"VLOOKUP(F587,Soutez!A:C,3,FALSE)","v":2023},1,5836,1.095,{"$f":"ROUND(J587/MAX($J$587:$J$623)*10000*0.7+(MAX($I$587:$I$623)-I587)/(MAX($I$587:$I$623)-1)*10000*0.3,0)","v":10000},{"$f":"ROUND(K587*L587,0)","v":10950},null,null,"Ventus 3T","8L","Není v databázi"]
["Peter Millenaar",null,null,null,null,"EGC 2023 - 18m",{"$f":"VLOOKUP(F588,Soutez!A:B,2,FALSE)","v":"PL"},{"$f":"VLOOKUP(F588,Soutez!A:C,3,FALSE)","v":2023},2,5804,1.095,9876,{"$f":"ROUND(K588*L588,0)","v":10814},null,null,"JS3 RES","PM","Není v databázi"]
["Sebastian Kawa",null,null,null,null,"EGC 2023 - 18m",{"$f":"VLOOKUP(F589,Soutez!A:B,2,FALSE)","v":"PL"},{"$f":"VLOOKUP(F589,Soutez!A:C,3,FALSE)","v":2023},3,5794,1.095,9778,10707,null,null,"Ventus 3T","S","Není v databázi"]
["Wolfgang Janowitsch",null,null,null,null,"EGC 2023 - 18m",{"$f":"VLOOKUP(F590,Soutez!A:B,2,FALSE)","v":"PL"},{"$f":"VLOOKUP(F590,Soutez!A:C,3,FALSE)","v":2023},4,5469,1.095,9303,10187,null,null,"Ventus 3TS","WO","Není v databázi"]
["Michael Reiner",null,null,null,null,"EGC 2023 - 18m",{"$f":"VLOOKUP(F591,Soutez!A:B,2,FALSE)","v":"PL"},{"$f":"VLOOKUP(F591,Soutez!A:C,3,FALSE)","v":2023},5,5439,1.095,9181,10053,null,null,"JS3 RES","MR","Není v databázi"]
["Arne Boye-Møller",null,null,null,null,"EGC 2023 - 18m",{"$f":"VLOOKUP(F592,Soutez!A:B,2,FALSE)","v":"PL"},{"$f":"VLOOKUP(F592,Soutez!A:C,3,FALSE)","v":2023},6,5383,1.095,9028,9886,null,null,"JS3 Jet","AB","Není v databázi"]
["Lukasz Grabowski",null,null,null,null,"EGC 2023 - 18m",{"$f":"VLOOKUP(F593,Soutez!A:B,2,FALSE)","v":"PL"},{"$f":"VLOOKUP(F593,Soutez!A:C,3,FALSE)","v":2023},7,5381,1.095,8940,9789,null,null,"Ventus 3T","3V","Není v databázi"]
["Bert Schmelzer",null,null,null,null,"EGC 2023 - 18m",{"$f":"VLOOKUP(F594,Soutez!A:B,2,FALSE)","v":"PL"},{"$f":"VLOOKUP(F594,Soutez!A:C,3,FALSE)","v":2023},8,5300,1.095,8757,9589,null,null,"Ventus 3TS",21,"Není v databázi"]
["Boris Zorz",null,null,null,null,"EGC 2023 - 18m",{"$f":"VLOOKUP(F595,Soutez!A:B,2,FALSE)","v":"PL"},{"$f":"VLOOKUP(F595,Soutez!A:C,3,FALSE)","v":2023},9,5264,1.095,8628,9448,null,null,"JS3 Jet","BL","Není v databázi"]
["Yves Gerster",null,null,null,null,"EGC 2023 - 18m",{"$f":"VLOOKUP(F596,Soutez!A:B,2,FALSE)","v":"PL"},{"$f":"VLOOKUP(F596,Soutez!A:C,3,FALSE)","v":2023},10,5244,1.095,8518,9327,null,null,"JS3","MK","Není v databázi"]
["Dennis Huybreckx",null,null,null,null,"EGC 2023 - 18m",{"$f":"VLOOKUP(F597,Soutez!A:B,2,FALSE)","v":"PL"},{"$f":"VLOOKUP(F597,Soutez!A:C,3,FALSE)","v":2023},11,5190,1.095,8368,9163,null,null,"Ventus 3TS","HX","Není v databázi"]
["Peter Szabo",null,null,null,null,"EGC 2023 - 18m",{"$f":"VLOOKUP(F598,Soutez!A:B,2,FALSE)","v":"PL"},{"$f":"VLOOKUP(F598,Soutez!A:C,3,FALSE)","v":2023},12,5168,1.095,8256,9040,null,null,"JS3","BX","Není v databázi"]
["Sebastian Huhmann",null,null,null,null,"EGC 2023 - 18m",{"$f":"VLOOKUP(F599,Soutez!A:B,2,FALSE)","v":"PL"},{"$f":"VLOOKUP(F599,Soutez!A:C,3,FALSE)","v":2023},13,5097,1.095,8085,8853,null,null,"AS 33 Es","2U","Není v databázi"]
["Aku Jaakkola",null,null,null,null,"EGC 2023 - 18m",{"$f":"VLOOKUP(F600,Soutez!A:B,2,FALSE)","v":"PL"},{"$f":"VLOOKUP(F600,Soutez!A:C,3,FALSE)","v":2023},14,5066,1.095,7962,8718,null,null,"Ventus 3","W","Není v databázi"]
["Petr Koutny",{"$f":"VLOOKUP(A601,Pilot,2,0)","v":1971},{"$f":"VLOOKUP(A601,Pilot,5,0)","v":"M"},{"$f":"VLOOKUP(A601,Pilot,3,0)","v":"Křižanov"},{"$f":"VLOOKUP(A601,Pilot,4,0)","v":"CZ/M"},"EGC 2023 - 18m",{"$f":"VLOOKUP(F601,Soutez!A:B,2,FALSE)","v":"PL"},{"$f":"VLOOKUP(F601,Soutez!A:C,3,FALSE)","v":2023},15,5054,1.095,7862,8609,"x",null,"JS-MD 3","ZE",""]
["Russell Cheetham",null,null,null,null,"EGC 2023 - 18m",{"$f":"VLOOKUP(F602,Soutez!A:B,2,FALSE)","v":"PL"},{"$f":"VLOOKUP(F602,Soutez!A:C,3,FALSE)","v":2023},16,5026,1.095,7743,8479,null,null,"JS-MD 3","E1","Není v databázi"]
["Anne Ducarouge",null,null,null,null,"EGC 2023 - 18m",{"$f":"VLOOKUP(F603,Soutez!A:B,2,FALSE)","v":"PL"},{"$f":"VLOOKUP(F603,Soutez!A:C,3,FALSE)","v":2023},17,5001,1.095,7627,8352,null,null,"JS3","AY","Není v databázi"]
["Gvidas Sabeckis",null,null,null,null,"EGC 2023 - 18m",{"$f":"VLOOKUP(F604,Soutez!A:B,2,FALSE)","v":"PL"},{"$f":"VLOOKUP(F604,Soutez!A:C,3,FALSE)","v":2023},18,4942,1.095,7471,8181,null,null,"ASG 29","M7","Není v databázi"]
["Steven Raimond",null,null,null,null,"EGC 2023 - 18m",{"$f":"VLOOKUP(F605,Soutez!A:B,2,FALSE)","v":"PL"},{"$f":"VLOOKUP(F605,Soutez!A:C,3,FALSE)","v":2023},19,4937,1.095,7379,8080,null,null,"AS 33 Es","GPS","Není v databázi"]
["Werner Amann",null,null,null,null,"EGC 2023 - 18m",{"$f":"VLOOKUP(F606,Soutez!A:B,2,FALSE)","v":"PL"},{"$f":"VLOOKUP(F606,Soutez!A:C,3,FALSE)","v":2023},20,4921,1.095,7274,7965,null,null,"AS 33","WG",{"$f":"IF(ISERROR(VLOOKUP(A606,Pilot,6,0)),\"Není v databázi\",VLOOKUP(A606,Pilot,6,0))","v":"Není v databázi"}]
["Christoph Nacke",null,null,null,null,"EGC 2023 - 18m",{"$f":"VLOOKUP(F607,Soutez!A:B,2,FALSE)","v":"PL"},{"$f":"VLOOKUP(F607,Soutez!A:C,3,FALSE)","v":2023},21,4887,1.095,7147,7826,null,null,"JS3","SP","Není v databázi"]
["Alberto Pozzi",null,null,null,null,"EGC 2023 - 18m",{"$f":"VLOOKUP(F608,Soutez!A:B,2,FALSE)","v":"PL"},{"$f":"VLOOKUP(F608,Soutez!A:C,3,FALSE)","v":2023},22,4840,1.095,7005,7670,null,null,"JS1","LEO","Není v databázi"]
["Yacine Vigourel",null,null,null,null,"EGC 2023 - 18m",{"$f":"VLOOKUP(F609,Soutez!A:B,2,FALSE)","v":"PL"},{"$f":"VLOOKUP(F609,Soutez!A:C,3,FALSE)","v":2023},23,4815,1.095,6890,7545,null,null,"JS3","KW","Není v databázi"]
["Giancarlo Grinza",null,null,null,null,"EGC 2023 - 18m",{"$f":"VLOOKUP(F610,Soutez!A:B,2,FALSE)","v":"PL"},{"$f":"VLOOKUP(F610,Soutez!A:C,3,FALSE)","v":2023},24,4694,1.095,6659,7292,null,null,"Ventus 3F","CU","Není v databázi"]
["Gary Stingemore",null,null,null,null,"EGC 2023 - 18m",{"$f":"VLOOKUP(F611,Soutez!A:B,2,FALSE)","v":"PL"},{"$f":"VLOOKUP(F611,Soutez!A:C,3,FALSE)","v":2023},25,4439,{"$f":"VLOOKUP(F611,Soutez,12,0)","v":1.095},6267,6862,null,null,"AS 33 Es",10,"Není v databázi"]
["Peter Eriksen",null,null,null,null,"EGC 2023 - 18m",{"$f":"VLOOKUP(F612,Soutez!A:B,2,FALSE)","v":"PL"},{"$f":"VLOOKUP(F612,Soutez!A:C,3,FALSE)","v":2023},26,4425,1.095,6165,6751,null,null,"AS 33 Es","PE","Není v databázi"]
["Mikko Nurminen",null,null,null,null,"EGC 2023 - 18m",{"$f":"VLOOKUP(F613,Soutez!A:B,2,FALSE)","v":"PL"},{"$f":"VLOOKUP(F613,Soutez!A:C,3,FALSE)","v":2023},27,4393,1.095,6041,6615,null,null,"Ventus 2 cxa FES","AL","Není v databázi"]
["Kato Kvitne",null,null,null,null,"EGC 2023 - 18m",{"$f":"VLOOKUP(F614,Soutez!A:B,2,FALSE)","v":"PL"},{"$f":"VLOOKUP(F614,Soutez!A:C,3,FALSE)","v":2023},28,4293,1.095,5835,6389,null,null,"JS3 RES","EL","Není v databázi"]
["Vladimir Foltin",null,null,null,null,"EGC 2023 - 18m",{"$f":"VLOOKUP(F615,Soutez!A:B,2,FALSE)","v":"PL"},{"$f":"VLOOKUP(F615,Soutez!A:C,3,FALSE)","v":2023},29,4290,1.095,5746,6292,null,null,"JS3",3,"Není v databázi"]
["Viktoras Kukcikaitis",null,null,null,null,"EGC 2023 - 18m",{"$f":"VLOOKUP(F616,Soutez!A:B,2,FALSE)","v":"PL"},{"$f":"VLOOKUP(F616,Soutez!A:C,3,FALSE)","v":2023},30,4208,1.095,5562,6090,null,null,"JS1 B","LR","Není v databázi"]
["Takeshi Maruyama",null,null,null,null,"EGC 2023 - 18m",{"$f":"VLOOKUP(F617,Soutez!A:B,2,FALSE)","v":"PL"},{"$f":"VLOOKUP(F617,Soutez!A:C,3,FALSE)","v":2023},"HC",3994,null,null,null,null,null,"JS3","AX","Není v databázi"]
["Radek Krejcirik",{"$f":"VLOOKUP(A618,Pilot,2,0)","v":1991},{"$f":"VLOOKUP(A618,Pilot,5,0)","v":"M"},{"$f":"VLOOKUP(A618,Pilot,3,0)","v":"Hranice"},{"$f":"VLOOKUP(A618,Pilot,4,0)","v":"CZ/M"},"EGC 2023 - 18m",{"$f":"VLOOKUP(F618,Soutez!A:B,2,FALSE)","v":"PL"},{"$f":"VLOOKUP(F618,Soutez!A:C,3,FALSE)","v":2023},31,3756,{"$f":"VLOOKUP(F618,Soutez,12,0)","v":1.095},{"$f":"ROUND(J618/MAX($J$587:$J$623)*10000*0.7+(MAX($I$587:$I$623)-I618)/(MAX($I$587:$I$623)-1)*10000*0.3,0)","v":4934},5403,null,null,"AS 33 Es",12,""]
["Joze Verdev",null,null,null,null,"EGC 2023 - 18m",{"$f":"VLOOKUP(F619,Soutez!A:B,2,FALSE)","v":"PL"},{"$f":"VLOOKUP(F619,Soutez!A:C,3,FALSE)","v":2023},32,3639,1.095,4708,5155,null,null,"JS1 C","DZ","Není v databázi"]
["Zoltan Hamar",null,null,null,null,"EGC 2023 - 18m",{"$f":"VLOOKUP(F620,Soutez!A:B,2,FALSE)","v":"PL"},{"$f":"VLOOKUP(F620,Soutez!A:C,3,FALSE)","v":2023},33,3596,1.095,4570,5004,null,null,"JS3","7A","Není v databázi"]
["George Schuit",null,null,null,null,"EGC 2023 - 18m",{"$f":"VLOOKUP(F621,Soutez!A:B,2,FALSE)","v":"PL"},{"$f":"VLOOKUP(F621,Soutez!A:C,3,FALSE)","v":2023},34,3285,1.095,4112,4503,null,null,"JS3 Jet","MM","Není v databázi"]
["Rune Hovda",null,null,null,null,"EGC 2023 - 18m",{"$f":"VLOOKUP(F622,Soutez!A:B,2,FALSE)","v":"PL"},{"$f":"VLOOKUP(F622,Soutez!A:C,3,FALSE)","v":2023},35,3101,1.095,3805,4166,null,null,"Ventus 3M","RH","Není v databázi"]
["Ulf Ringertz",null,null,null,null,"EGC 2023 - 18m",{"$f":"VLOOKUP(F623,Soutez!A:B,2,FALSE)","v":"PL"},{"$f":"VLOOKUP(F623,Soutez!A:C,3,FALSE)","v":2023},36,2975,1.095,3568,{"$f":"ROUND(K623*L623,0)","v":3907},null,null,"Ventus 2cxT","UR","Není v databázi"]
["Markus Frank",null,null,null,null,"EGC 2023 - Open",{"$f":"VLOOKUP(F624,Soutez!A:B,2,FALSE)","v":"PL"},{"$f":"VLOOKUP(F624,Soutez!A:C,3,FALSE)","v":2023},1,6178,1.06,{"$f":"ROUND(J624/MAX($J$624:$J$638)*10000*0.7+(MAX($I$624:$I$638)-I624)/(MAX($I$624:$I$638)-1)*10000*0.3,0)","v":10000},{"$f":"ROUND(K624*L624,0)","v":10600},null,null,"EB29R","FE","Není v databázi"]
["Tomasz Rubaj",null,null,null,null,"EGC 2023 - Open",{"$f":"VLOOKUP(F625,Soutez!A:B,2,FALSE)","v":"PL"},{"$f":"VLOOKUP(F625,Soutez!A:C,3,FALSE)","v":2023},2,5952,1.06,9530,{"$f":"ROUND(K625*L625,0)","v":10102},null,null,"JS1 C","P","Není v databázi"]
["Sylvain Gerbaud",null,null,null,null,"EGC 2023 - Open",{"$f":"VLOOKUP(F626,Soutez!A:B,2,FALSE)","v":"PL"},{"$f":"VLOOKUP(F626,Soutez!A:C,3,FALSE)","v":2023},3,5945,1.06,9307,9865,null,null,"EB29R",72,"Není v databázi"]
["Francois Jeremiasse",null,null,null,null,"EGC 2023 - Open",{"$f":"VLOOKUP(F627,Soutez!A:B,2,FALSE)","v":"PL"},{"$f":"VLOOKUP(F627,Soutez!A:C,3,FALSE)","v":2023},4,5889,1.06,9030,9572,null,null,"EB29R","XR","Není v databázi"]
["David Mach",{"$f":"VLOOKUP(A628,Pilot,2,0)","v":1994},{"$f":"VLOOKUP(A628,Pilot,5,0)","v":"M"},{"$f":"VLOOKUP(A628,Pilot,3,0)","v":"Hronov"},{"$f":"VLOOKUP(A628,Pilot,4,0)","v":"CZ/C2"},"EGC 2023 - Open",{"$f":"VLOOKUP(F628,Soutez!A:B,2,FALSE)","v":"PL"},{"$f":"VLOOKUP(F628,Soutez!A:C,3,FALSE)","v":2023},5,5845,1.06,8766,9292,null,null,"JS1 C","ZF",""]
["Oliver Binder",null,null,null,null,"EGC 2023 - Open",{"$f":"VLOOKUP(F629,Soutez!A:B,2,FALSE)","v":"PL"},{"$f":"VLOOKUP(F629,Soutez!A:C,3,FALSE)","v":2023},6,5615,1.06,8291,8788,null,null,"EB29R","OR","Není v databázi"]
["Andrew Davis",null,null,null,null,"EGC 2023 - Open",{"$f":"VLOOKUP(F630,Soutez!A:B,2,FALSE)","v":"PL"},{"$f":"VLOOKUP(F630,Soutez!A:C,3,FALSE)","v":2023},7,5337,1.06,7761,8227,null,null,"JS-MD 1C",80,"Není v databázi"]
["Tim Jenkinson",null,null,null,null,"EGC 2023 - Open",{"$f":"VLOOKUP(F631,Soutez!A:B,2,FALSE)","v":"PL"},{"$f":"VLOOKUP(F631,Soutez!A:C,3,FALSE)","v":2023},8,5263,1.06,7463,7911,null,null,"JS1 C","TJ","Není v databázi"]
["Sami Rissanen",null,null,null,null,"EGC 2023 - Open",{"$f":"VLOOKUP(F632,Soutez!A:B,2,FALSE)","v":"PL"},{"$f":"VLOOKUP(F632,Soutez!A:C,3,FALSE)","v":2023},9,5184,1.06,7159,{"$f":"ROUND(K632*L632,0)","v":7589},null,null,"EB28 Edition","EX","Není v databázi"]
["Melanie Gadoulet",null,null,null,null,"EGC 2023 - Open",{"$f":"VLOOKUP(F633,Soutez!A:B,2,FALSE)","v":"PL"},{"$f":"VLOOKUP(F633,Soutez!A:C,3,FALSE)","v":2023},10,5000,1.06,6737,7141,null,null,"JS1","FD","Není v databázi"]
["Teet Jagomägi",null,null,null,null,"EGC 2023 - Open",{"$f":"VLOOKUP(F634,Soutez!A:B,2,FALSE)","v":"PL"},{"$f":"VLOOKUP(F634,Soutez!A:C,3,FALSE)","v":2023},11,4699,1.06,6181,6552,null,null,"JS1 C",56,"Není v databázi"]
["Zdzisław Bednarczuk",null,null,null,null,"EGC 2023 - Open",{"$f":"VLOOKUP(F635,Soutez!A:B,2,FALSE)","v":"PL"},{"$f":"VLOOKUP(F635,Soutez!A:C,3,FALSE)","v":2023},12,4404,1.06,5633,5971,null,null,"JS3 Jet","ZB","Není v databázi"]
["Laszlo Kapuy",null,null,null,null,"EGC 2023 - Open",{"$f":"VLOOKUP(F636,Soutez!A:B,2,FALSE)","v":"PL"},{"$f":"VLOOKUP(F636,Soutez!A:C,3,FALSE)","v":2023},13,4204,1.06,5192,5504,null,null,"EB29D","HB","Není v databázi"]
["Radek Kucirek",{"$f":"VLOOKUP(A637,Pilot,2,0)","v":1973},{"$f":"VLOOKUP(A637,Pilot,5,0)","v":"M"},{"$f":"VLOOKUP(A637,Pilot,3,0)","v":"Havlíčkův Brod"},{"$f":"VLOOKUP(A637,Pilot,4,0)","v":"CZ/C2"},"EGC 2023 - Open",{"$f":"VLOOKUP(F637,Soutez!A:B,2,FALSE)","v":"PL"},{"$f":"VLOOKUP(F637,Soutez!A:C,3,FALSE)","v":2023},14,4070,1.06,4826,5116,null,null,"EB 28 edition","NA",""]
["Laszlo Istvan Bano",null,null,null,null,"EGC 2023 - Open",{"$f":"VLOOKUP(F638,Soutez!A:B,2,FALSE)","v":"PL"},{"$f":"VLOOKUP(F638,Soutez!A:C,3,FALSE)","v":2023},15,3599,1.06,4078,4323,null,null,"JS1 C","AAD","Není v databázi"]
["Kettunen & Sorri",null,null,null,null,"EGC 2023 - Duo 20m",{"$f":"VLOOKUP(F639,Soutez!A:B,2,FALSE)","v":"PL"},{"$f":"VLOOKUP(F639,Soutez!A:C,3,FALSE)","v":2023},1,6358,1.085,{"$f":"ROUND(J639/MAX($J$639:$J$660)*10000*0.7+(MAX($I$639:$I$660)-I639)/(MAX($I$639:$I$660)-1)*10000*0.3,0)","v":10000},{"$f":"ROUND(K639*L639,0)","v":10850},null,null,"Arcus M","AM","Není v databázi"]
["Harvey & Dawes",null,null,null,null,"EGC 2023 - Duo 20m",{"$f":"VLOOKUP(F640,Soutez!A:B,2,FALSE)","v":"PL"},{"$f":"VLOOKUP(F640,Soutez!A:C,3,FALSE)","v":2023},2,6356,1.085,9855,{"$f":"ROUND(K640*L640,0)","v":10693},null,null,"Arcus M",5,"Není v databázi"]
["Coppin & Jones",null,null,null,null,"EGC 2023 - Duo 20m",{"$f":"VLOOKUP(F641,Soutez!A:B,2,FALSE)","v":"PL"},{"$f":"VLOOKUP(F641,Soutez!A:C,3,FALSE)","v":2023},3,6196,1.085,9536,10347,null,null,"Arcus M","I10","Není v databázi"]
["Borgmann & Wolff",null,null,null,null,"EGC 2023 - Duo 20m",{"$f":"VLOOKUP(F642,Soutez!A:B,2,FALSE)","v":"PL"},{"$f":"VLOOKUP(F642,Soutez!A:C,3,FALSE)","v":2023},4,6125,1.085,9315,10107,null,null,"Arcus 20T","DX","Není v databázi"]
["Muller & Hörber",null,null,null,null,"EGC 2023 - Duo 20m",{"$f":"VLOOKUP(F643,Soutez!A:B,2,FALSE)","v":"PL"},{"$f":"VLOOKUP(F643,Soutez!A:C,3,FALSE)","v":2023},5,5988,1.085,9021,9788,null,null,"Arcus T","HLB","Není v databázi"]
["Gmelin & Grote",null,null,null,null,"EGC 2023 - Duo 20m",{"$f":"VLOOKUP(F644,Soutez!A:B,2,FALSE)","v":"PL"},{"$f":"VLOOKUP(F644,Soutez!A:C,3,FALSE)","v":2023},6,5935,1.085,8820,9570,null,null,"Arcus T","V8","Není v databázi"]
["Gulyas & Korom",null,null,null,null,"EGC 2023 - Duo 20m",{"$f":"VLOOKUP(F645,Soutez!A:B,2,FALSE)","v":"PL"},{"$f":"VLOOKUP(F645,Soutez!A:C,3,FALSE)","v":2023},7,5827,1.085,8558,9285,null,null,"Arcus T","HUX","Není v databázi"]
["de Pechy & Bouderlique",null,null,null,null,"EGC 2023 - Duo 20m",{"$f":"VLOOKUP(F646,Soutez!A:B,2,FALSE)","v":"PL"},{"$f":"VLOOKUP(F646,Soutez!A:C,3,FALSE)","v":2023},8,5809,1.085,8396,9110,null,null,"Arcus 20T","MG","Není v databázi"]
["Bielen & Snyers",null,null,null,null,"EGC 2023 - Duo 20m",{"$f":"VLOOKUP(F647,Soutez!A:B,2,FALSE)","v":"PL"},{"$f":"VLOOKUP(F647,Soutez!A:C,3,FALSE)","v":2023},9,5643,1.085,8070,8756,null,null,"Arcus T","CR","Není v databázi"]
["Bjøro & Bjøro",null,null,null,null,"EGC 2023 - Duo 20m",{"$f":"VLOOKUP(F648,Soutez!A:B,2,FALSE)","v":"PL"},{"$f":"VLOOKUP(F648,Soutez!A:C,3,FALSE)","v":2023},10,5131,1.085,7363,7989,null,null,"Arcus M","FJ","Není v databázi"]
["Ørskov & Mix",null,null,null,null,"EGC 2023 - Duo 20m",{"$f":"VLOOKUP(F649,Soutez!A:B,2,FALSE)","v":"PL"},{"$f":"VLOOKUP(F649,Soutez!A:C,3,FALSE)","v":2023},11,5080,1.085,7164,7773,null,null,"Arcus T","BI","Není v databázi"]
["Czeladzki & Biela",null,null,null,null,"EGC 2023 - Duo 20m",{"$f":"VLOOKUP(F650,Soutez!A:B,2,FALSE)","v":"PL"},{"$f":"VLOOKUP(F650,Soutez!A:C,3,FALSE)","v":2023},12,5059,{"$f":"VLOOKUP(F650,Soutez,12,0)","v":1.085},6998,7593,null,null,"Duo Discus T","POL","Není v databázi"]
["Hirvola & Ganszauge",null,null,null,null,"EGC 2023 - Duo 20m",{"$f":"VLOOKUP(F651,Soutez!A:B,2,FALSE)","v":"PL"},{"$f":"VLOOKUP(F651,Soutez!A:C,3,FALSE)","v":2023},13,5058,1.085,6854,7437,null,null,"Arcus T","KA","Není v databázi"]
["Niko & Bobok",null,null,null,null,"EGC 2023 - Duo 20m",{"$f":"VLOOKUP(F652,Soutez!A:B,2,FALSE)","v":"PL"},{"$f":"VLOOKUP(F652,Soutez!A:C,3,FALSE)","v":2023},14,4987,1.085,6633,{"$f":"ROUND(K652*L652,0)","v":7197},null,null,"Arcus M","CAR","Není v databázi"]
["Tomas Rendla",{"$f":"VLOOKUP(A653,Pilot,2,0)","v":1973},{"$f":"VLOOKUP(A653,Pilot,5,0)","v":"M"},{"$f":"VLOOKUP(A653,Pilot,3,0)","v":"Zbraslavice"},{"$f":"VLOOKUP(A653,Pilot,4,0)","v":"CZ/C1"},"EGC 2023 - Duo 20m",{"$f":"VLOOKUP(F653,Soutez!A:B,2,FALSE)","v":"PL"},{"$f":"VLOOKUP(F653,Soutez!A:C,3,FALSE)","v":2023},15,4969,1.085,6471,7021,null,null,"Arcus M","EY",""]
["Brigliadori & Schiavotto",null,null,null,null,"EGC 2023 - Duo 20m",{"$f":"VLOOKUP(F654,Soutez!A:B,2,FALSE)","v":"PL"},{"$f":"VLOOKUP(F654,Soutez!A:C,3,FALSE)","v":2023},16,4968,1.085,6327,6865,null,null,"Arcus M",13,"Není v databázi"]
["Prodorutti & Montemaggi",null,null,null,null,"EGC 2023 - Duo 20m",{"$f":"VLOOKUP(F655,Soutez!A:B,2,FALSE)","v":"PL"},{"$f":"VLOOKUP(F655,Soutez!A:C,3,FALSE)","v":2023},17,4721,1.085,5912,6415,null,null,"Arcus M","BPG","Není v databázi"]
["Jørgensen & Nielsen",null,null,null,null,"EGC 2023 - Duo 20m",{"$f":"VLOOKUP(F656,Soutez!A:B,2,FALSE)","v":"PL"},{"$f":"VLOOKUP(F656,Soutez!A:C,3,FALSE)","v":2023},18,4058,1.085,5039,5467,null,null,"Arcus T","JT","Není v databázi"]
["Käppeli & Hirt",null,null,null,null,"EGC 2023 - Duo 20m",{"$f":"VLOOKUP(F657,Soutez!A:B,2,FALSE)","v":"PL"},{"$f":"VLOOKUP(F657,Soutez!A:C,3,FALSE)","v":2023},19,3970,1.085,4799,5207,null,null,"Arcus M",1,"Není v databázi"]
["Ivan Novak",{"$f":"VLOOKUP(A658,Pilot,2,0)","v":1962},{"$f":"VLOOKUP(A658,Pilot,5,0)","v":"M"},{"$f":"VLOOKUP(A658,Pilot,3,0)","v":"Mladá Boleslav"},{"$f":"VLOOKUP(A658,Pilot,4,0)","v":"CZ/C1"},"EGC 2023 - Duo 20m",{"$f":"VLOOKUP(F658,Soutez!A:B,2,FALSE)","v":"PL"},{"$f":"VLOOKUP(F658,Soutez!A:C,3,FALSE)","v":2023},20,3760,1.085,4425,4801,null,null,"HpH304 TS Twin Shark","FNC",""]
["Barszcz & Kornacki",null,null,null,null,"EGC 2023 - Duo 20m",{"$f":"VLOOKUP(F659,Soutez!A:B,2,FALSE)","v":"PL"},{"$f":"VLOOKUP(F659,Soutez!A:C,3,FALSE)","v":2023},21,3585,1.085,4090,4438,null,null,"Arcus T","ZAR","Není v databázi"]
["Kiss & Rehus",null,null,null,null,"EGC 2023 - Duo 20m",{"$f":"VLOOKUP(F660,Soutez!A:B,2,FALSE)","v":"PL"},{"$f":"VLOOKUP(F660,Soutez!A:C,3,FALSE)","v":2023},22,2383,1.085,2624,2847,null,null,"Arcus T","SQ","Není v databázi"]
["Kim Toppari",null,null,"Finland",null,"JEGC 2023 - Klub",{"$f":"VLOOKUP(F661,Soutez!A:B,2,FALSE)","v":"DK"},{"$f":"VLOOKUP(F661,Soutez!A:C,3,FALSE)","v":2023},1,2823,1.02,{"$f":"ROUND(J661/MAX($J$661:$J$696)*10000*0.7+(MAX($I$661:$I$696)-I661)/(MAX($I$661:$I$696)-1)*10000*0.3,0)","v":10000},{"$f":"ROUND(K661*L661,0)","v":10200},null,null,"LS 7","KT","Není v databázi"]
["Toby Freeland",null,null,"United Kingdom",null,"JEGC 2023 - Klub",{"$f":"VLOOKUP(F662,Soutez!A:B,2,FALSE)","v":"DK"},{"$f":"VLOOKUP(F662,Soutez!A:C,3,FALSE)","v":2023},2,2822,1.02,9912,{"$f":"ROUND(K662*L662,0)","v":10110},null,null,"ASW 20",212,"Není v databázi"]
["Alexandre Fierain",null,null,"France",null,"JEGC 2023 - Klub",{"$f":"VLOOKUP(F663,Soutez!A:B,2,FALSE)","v":"DK"},{"$f":"VLOOKUP(F663,Soutez!A:C,3,FALSE)","v":2023},3,2773,1.02,9705,9899,null,null,"ASW 20","WE","Není v databázi"]
["Matthieu Henin",null,null,"France",null,"JEGC 2023 - Klub",{"$f":"VLOOKUP(F664,Soutez!A:B,2,FALSE)","v":"DK"},{"$f":"VLOOKUP(F664,Soutez!A:C,3,FALSE)","v":2023},4,2764,1.02,9597,9789,null,null,"ASW 20F","X29","Není v databázi"]
["Jan Stastny",{"$f":"VLOOKUP(A665,Pilot,2,0)","v":2003},{"$f":"VLOOKUP(A665,Pilot,5,0)","v":"M"},{"$f":"VLOOKUP(A665,Pilot,3,0)","v":"Medlánky"},{"$f":"VLOOKUP(A665,Pilot,4,0)","v":"CZ/M"},"JEGC 2023 - Klub",{"$f":"VLOOKUP(F665,Soutez!A:B,2,FALSE)","v":"DK"},{"$f":"VLOOKUP(F665,Soutez!A:C,3,FALSE)","v":2023},5,2736,1.02,9441,9630,"x",null,"ASW 20","CPI","Junior v roce 2026"]
["Lars van Breemen",null,null,"Netherlands",null,"JEGC 2023 - Klub",{"$f":"VLOOKUP(F666,Soutez!A:B,2,FALSE)","v":"DK"},{"$f":"VLOOKUP(F666,Soutez!A:C,3,FALSE)","v":2023},6,2696,1.02,9257,9442,null,null,"LS 4b","S4","Není v databázi"]
["Simon Siska",null,null,"Slovakia",null,"JEGC 2023 - Klub",{"$f":"VLOOKUP(F667,Soutez!A:B,2,FALSE)","v":"DK"},{"$f":"VLOOKUP(F667,Soutez!A:C,3,FALSE)","v":2023},7,2661,1.02,9084,9266,null,null,"ASW 24","CK",{"$f":"IF(ISERROR(VLOOKUP(A667,Pilot,6,0)),\"Není v databázi\",VLOOKUP(A667,Pilot,6,0))","v":"Není v databázi"}]
["Gerrit Neugebauer",null,null,"Germany",null,"JEGC 2023 - Klub",{"$f":"VLOOKUP(F668,Soutez!A:B,2,FALSE)","v":"DK"},{"$f":"VLOOKUP(F668,Soutez!A:C,3,FALSE)","v":2023},8,2658,1.02,8991,9171,null,null,"LS 4","7E","Není v databázi"]
["Jakub Kaczorowski",null,null,"Poland",null,"JEGC 2023 - Klub",{"$f":"VLOOKUP(F669,Soutez!A:B,2,FALSE)","v":"DK"},{"$f":"VLOOKUP(F669,Soutez!A:C,3,FALSE)","v":2023},9,2650,1.02,8885,9063,null,null,"Mini Nimbus","DF","Není v databázi"]
["Maciej Kowalski",null,null,"Poland",null,"JEGC 2023 - Klub",{"$f":"VLOOKUP(F670,Soutez!A:B,2,FALSE)","v":"DK"},{"$f":"VLOOKUP(F670,Soutez!A:C,3,FALSE)","v":2023},10,2626,1.02,8740,8915,null,null,"ASW 20F","LN","Není v databázi"]
["Johannes Beyer",null,null,"Germany",null,"JEGC 2023 - Klub",{"$f":"VLOOKUP(F671,Soutez!A:B,2,FALSE)","v":"DK"},{"$f":"VLOOKUP(F671,Soutez!A:C,3,FALSE)","v":2023},10,2626,1.02,8740,8915,null,null,"LS 4","FT","Není v databázi"]
["Miles Chalk Kjær",null,null,"Denmark",null,"JEGC 2023 - Klub",{"$f":"VLOOKUP(F672,Soutez!A:B,2,FALSE)","v":"DK"},{"$f":"VLOOKUP(F672,Soutez!A:C,3,FALSE)","v":2023},12,2623,1.02,8561,8732,null,null,"ASW 20","CB","Není v databázi"]
["Jens Andersen",null,null,"Denmark",null,"JEGC 2023 - Klub",{"$f":"VLOOKUP(F673,Soutez!A:B,2,FALSE)","v":"DK"},{"$f":"VLOOKUP(F673,Soutez!A:C,3,FALSE)","v":2023},13,2605,1.02,8431,8600,null,null,"LS 3a","TM","Není v databázi"]
["Nils Heck",null,null,"Germany",null,"JEGC 2023 - Klub",{"$f":"VLOOKUP(F674,Soutez!A:B,2,FALSE)","v":"DK"},{"$f":"VLOOKUP(F674,Soutez!A:C,3,FALSE)","v":2023},14,2589,1.02,8305,8471,null,null,"LS 4b","I","Není v databázi"]
["Alessandro Bassalti",null,null,"Italy",null,"JEGC 2023 - Klub",{"$f":"VLOOKUP(F675,Soutez!A:B,2,FALSE)","v":"DK"},{"$f":"VLOOKUP(F675,Soutez!A:C,3,FALSE)","v":2023},15,2573,1.02,8180,8344,null,null,"Discus b","5I","Není v databázi"]
["Elias Severholt Fourati",null,null,"Sweden",null,"JEGC 2023 - Klub",{"$f":"VLOOKUP(F676,Soutez!A:B,2,FALSE)","v":"DK"},{"$f":"VLOOKUP(F676,Soutez!A:C,3,FALSE)","v":2023},16,2555,1.02,8050,8211,null,null,"LS 4","XD","Není v databázi"]
["Tim Kremers",null,null,"Netherlands",null,"JEGC 2023 - Klub",{"$f":"VLOOKUP(F677,Soutez!A:B,2,FALSE)","v":"DK"},{"$f":"VLOOKUP(F677,Soutez!A:C,3,FALSE)","v":2023},17,2499,1.02,7825,7982,null,null,"LS 4","AU","Není v databázi"]
["Sara Salonen",null,null,"Finland",null,"JEGC 2023 - Klub",{"$f":"VLOOKUP(F678,Soutez!A:B,2,FALSE)","v":"DK"},{"$f":"VLOOKUP(F678,Soutez!A:C,3,FALSE)","v":2023},18,2451,1.02,7620,7772,null,null,"LS 7","HV","Není v databázi"]
["Wout Sliedregt",null,null,"Netherlands",null,"JEGC 2023 - Klub",{"$f":"VLOOKUP(F679,Soutez!A:B,2,FALSE)","v":"DK"},{"$f":"VLOOKUP(F679,Soutez!A:C,3,FALSE)","v":2023},19,2440,1.02,7507,7657,null,null,"LS 4a","AG","Není v databázi"]
["Mikko Ylihärsilä",null,null,"Finland",null,"JEGC 2023 - Klub",{"$f":"VLOOKUP(F680,Soutez!A:B,2,FALSE)","v":"DK"},{"$f":"VLOOKUP(F680,Soutez!A:C,3,FALSE)","v":2023},20,2436,1.02,7412,7560,null,null,"LS 7","GE","Není v databázi"]
["Titas Jovaisa",null,null,"Lithuania",null,"JEGC 2023 - Klub",{"$f":"VLOOKUP(F681,Soutez!A:B,2,FALSE)","v":"DK"},{"$f":"VLOOKUP(F681,Soutez!A:C,3,FALSE)","v":2023},21,2382,1.02,7192,7336,null,null,"ASW 20F","W4","Není v databázi"]
["Wiktor Czubski",null,null,"Poland",null,"JEGC 2023 - Klub",{"$f":"VLOOKUP(F682,Soutez!A:B,2,FALSE)","v":"DK"},{"$f":"VLOOKUP(F682,Soutez!A:C,3,FALSE)","v":2023},22,2305,{"$f":"VLOOKUP(F682,Soutez,12,0)","v":1.02},6916,7054,null,null,"SZD 55-1","JB","Není v databázi"]
["Vladimir Hammer",{"$f":"VLOOKUP(A683,Pilot,2,0)","v":2000},{"$f":"VLOOKUP(A683,Pilot,5,0)","v":"M"},{"$f":"VLOOKUP(A683,Pilot,3,0)","v":"Letkov"},{"$f":"VLOOKUP(A683,Pilot,4,0)","v":"CZ/C1"},"JEGC 2023 - Klub",{"$f":"VLOOKUP(F683,Soutez!A:B,2,FALSE)","v":"DK"},{"$f":"VLOOKUP(F683,Soutez!A:C,3,FALSE)","v":2023},23,2279,1.02,6765,6900,null,null,"ASW 20L","CX",""]
["Matteo Merk",null,null,"Switzerland",null,"JEGC 2023 - Klub",{"$f":"VLOOKUP(F684,Soutez!A:B,2,FALSE)","v":"DK"},{"$f":"VLOOKUP(F684,Soutez!A:C,3,FALSE)","v":2023},24,2151,1.02,6362,{"$f":"ROUND(K684*L684,0)","v":6489},null,null,"LS 4","WG","Není v databázi"]
["Tomas Hynek",{"$f":"VLOOKUP(A685,Pilot,2,0)","v":2002},{"$f":"VLOOKUP(A685,Pilot,5,0)","v":"M"},{"$f":"VLOOKUP(A685,Pilot,3,0)","v":"Dvůr Králové"},{"$f":"VLOOKUP(A685,Pilot,4,0)","v":"CZ/C2"},"JEGC 2023 - Klub",{"$f":"VLOOKUP(F685,Soutez!A:B,2,FALSE)","v":"DK"},{"$f":"VLOOKUP(F685,Soutez!A:C,3,FALSE)","v":2023},25,2144,1.02,6259,6384,null,null,"ASW 20C","VW","Junior v roce 2026"]
["Jakob Prior",null,null,"Austria",null,"JEGC 2023 - Klub",{"$f":"VLOOKUP(F686,Soutez!A:B,2,FALSE)","v":"DK"},{"$f":"VLOOKUP(F686,Soutez!A:C,3,FALSE)","v":2023},26,2061,1.02,5968,6087,null,null,"LS 1f","ISV","Není v databázi"]
["George White",null,null,"United Kingdom",null,"JEGC 2023 - Klub",{"$f":"VLOOKUP(F687,Soutez!A:B,2,FALSE)","v":"DK"},{"$f":"VLOOKUP(F687,Soutez!A:C,3,FALSE)","v":2023},27,2032,1.02,5810,5926,null,null,"ASW 20L","ENW","Není v databázi"]
["Dylan Osolian",null,null,"Sweden",null,"JEGC 2023 - Klub",{"$f":"VLOOKUP(F688,Soutez!A:B,2,FALSE)","v":"DK"},{"$f":"VLOOKUP(F688,Soutez!A:C,3,FALSE)","v":2023},28,2028,1.02,5714,5828,null,null,"LS 3a","CP","Není v databázi"]
["Lilla Szamosujvari",null,null,"Hungary",null,"JEGC 2023 - Klub",{"$f":"VLOOKUP(F689,Soutez!A:B,2,FALSE)","v":"DK"},{"$f":"VLOOKUP(F689,Soutez!A:C,3,FALSE)","v":2023},29,1882,1.02,5267,5372,null,null,"Glasflügel 304","JM","Není v databázi"]
["Valeria Huber",null,null,"Switzerland",null,"JEGC 2023 - Klub",{"$f":"VLOOKUP(F690,Soutez!A:B,2,FALSE)","v":"DK"},{"$f":"VLOOKUP(F690,Soutez!A:C,3,FALSE)","v":2023},30,1844,1.02,5087,5189,null,null,"Discus b","S5","Není v databázi"]
["Ludvig Jauring",null,null,"Sweden",null,"JEGC 2023 - Klub",{"$f":"VLOOKUP(F691,Soutez!A:B,2,FALSE)","v":"DK"},{"$f":"VLOOKUP(F691,Soutez!A:C,3,FALSE)","v":2023},31,1783,1.02,4850,4947,null,null,"DG 100 G Elan","AB","Není v databázi"]
["Guillaume Ottolini",null,null,"France",null,"JEGC 2023 - Klub",{"$f":"VLOOKUP(F692,Soutez!A:B,2,FALSE)","v":"DK"},{"$f":"VLOOKUP(F692,Soutez!A:C,3,FALSE)","v":2023},32,1779,1.02,4754,4849,null,null,"LS 7 WL","IAG","Není v databázi"]
["Robbe Van Brandt",null,null,"Belgium",null,"JEGC 2023 - Klub",{"$f":"VLOOKUP(F693,Soutez!A:B,2,FALSE)","v":"DK"},{"$f":"VLOOKUP(F693,Soutez!A:C,3,FALSE)","v":2023},33,1765,1.02,4634,4727,null,null,"ASW 15","PP","Není v databázi"]
["Jokubas Motuza",null,null,"Lithuania",null,"JEGC 2023 - Klub",{"$f":"VLOOKUP(F694,Soutez!A:B,2,FALSE)","v":"DK"},{"$f":"VLOOKUP(F694,Soutez!A:C,3,FALSE)","v":2023},34,1706,1.02,4402,4490,null,null,"ASW 20F","VJ","Není v databázi"]
["Mate Meszaros",null,null,"Hungary",null,"JEGC 2023 - Klub",{"$f":"VLOOKUP(F695,Soutez!A:B,2,FALSE)","v":"DK"},{"$f":"VLOOKUP(F695,Soutez!A:C,3,FALSE)","v":2023},35,1661,1.02,4204,4288,null,null,"ASW 19 B","DB","Není v databázi"]
["Oskar Minds",null,null,"Denmark",null,"JEGC 2023 - Klub",{"$f":"VLOOKUP(F696,Soutez!A:B,2,FALSE)","v":"DK"},{"$f":"VLOOKUP(F696,Soutez!A:C,3,FALSE)","v":2023},36,1450,1.02,3595,3667,null,null,"LS 4","MD","Není v databázi"]
["Lukas Kriz",{"$f":"VLOOKUP(A697,Pilot,2,0)","v":2003},{"$f":"VLOOKUP(A697,Pilot,5,0)","v":"M"},{"$f":"VLOOKUP(A697,Pilot,3,0)","v":"Křižanov"},{"$f":"VLOOKUP(A697,Pilot,4,0)","v":"CZ/M"},"JEGC 2023 - Std",{"$f":"VLOOKUP(F697,Soutez!A:B,2,FALSE)","v":"DK"},{"$f":"VLOOKUP(F697,Soutez!A:C,3,FALSE)","v":2023},1,2878,1.02,{"$f":"ROUND(J697/MAX($J$697:$J$716)*10000*0.7+(MAX($I$697:$I$716)-I697)/(MAX($I$697:$I$716)-1)*10000*0.3,0)","v":10000},{"$f":"ROUND(K697*L697,0)","v":10200},"x",null,"LS 8a","AUI","Junior v roce 2026"]
["Jaromir Macoun",1999,"M","Jičín","CZ/C2","JEGC 2023 - Std",{"$f":"VLOOKUP(F698,Soutez!A:B,2,FALSE)","v":"DK"},{"$f":"VLOOKUP(F698,Soutez!A:C,3,FALSE)","v":2023},2,2793,1.02,9635,{"$f":"ROUND(K698*L698,0)","v":9828},"x",null,"LS 8","EU",""]
["Michaela Rendlova",2004,"F","Toužim","CZ/C1","JEGC 2023 - Std",{"$f":"VLOOKUP(F699,Soutez!A:B,2,FALSE)","v":"DK"},{"$f":"VLOOKUP(F699,Soutez!A:C,3,FALSE)","v":2023},3,2769,1.02,9419,9607,"x","x","LS 8","W8","Junior v roce 2026"]
["Lasse Edslev",null,null,"Denmark",null,"JEGC 2023 - Std",{"$f":"VLOOKUP(F700,Soutez!A:B,2,FALSE)","v":"DK"},{"$f":"VLOOKUP(F700,Soutez!A:C,3,FALSE)","v":2023},4,2723,1.02,9149,9332,null,null,"LS 8 Neo","EC","Není v databázi"]
["Jacob Bøgelund Lassen",null,null,"Denmark",null,"JEGC 2023 - Std",{"$f":"VLOOKUP(F701,Soutez!A:B,2,FALSE)","v":"DK"},{"$f":"VLOOKUP(F701,Soutez!A:C,3,FALSE)","v":2023},5,2655,1.02,8826,9003,null,null,"Discus 2a","MK","Není v databázi"]
["Niels van Nieuwland",null,null,"Netherlands",null,"JEGC 2023 - Std",{"$f":"VLOOKUP(F702,Soutez!A:B,2,FALSE)","v":"DK"},{"$f":"VLOOKUP(F702,Soutez!A:C,3,FALSE)","v":2023},6,2652,1.02,8661,8834,null,null,"LS 8 Neo","VNE","Není v databázi"]
["Freddie Turner",null,null,"United Kingdom",null,"JEGC 2023 - Std",{"$f":"VLOOKUP(F703,Soutez!A:B,2,FALSE)","v":"DK"},{"$f":"VLOOKUP(F703,Soutez!A:C,3,FALSE)","v":2023},7,2648,1.02,8493,8663,null,null,"LS 8",325,"Není v databázi"]
["Mathias Valentin",null,null,"Denmark",null,"JEGC 2023 - Std",{"$f":"VLOOKUP(F704,Soutez!A:B,2,FALSE)","v":"DK"},{"$f":"VLOOKUP(F704,Soutez!A:C,3,FALSE)","v":2023},8,2572,1.02,8150,8313,null,null,"LS8","KE","Není v databázi"]
["Clemens Berger",null,null,"Germany",null,"JEGC 2023 - Std",{"$f":"VLOOKUP(F705,Soutez!A:B,2,FALSE)","v":"DK"},{"$f":"VLOOKUP(F705,Soutez!A:C,3,FALSE)","v":2023},9,2552,1.02,7944,8103,null,null,"LS 8","C","Není v databázi"]
["Theo Napoleon",null,null,"France",null,"JEGC 2023 - Std",{"$f":"VLOOKUP(F706,Soutez!A:B,2,FALSE)","v":"DK"},{"$f":"VLOOKUP(F706,Soutez!A:C,3,FALSE)","v":2023},10,2534,1.02,7742,7897,null,null,"Discus 2a","AX","Není v databázi"]
["Ben Edkins",null,null,"United Kingdom",null,"JEGC 2023 - Std",{"$f":"VLOOKUP(F707,Soutez!A:B,2,FALSE)","v":"DK"},{"$f":"VLOOKUP(F707,Soutez!A:C,3,FALSE)","v":2023},11,2468,1.02,7424,7572,null,null,"LS 8",302,"Není v databázi"]
["Philippe LATA",null,null,"France",null,"JEGC 2023 - Std",{"$f":"VLOOKUP(F708,Soutez!A:B,2,FALSE)","v":"DK"},{"$f":"VLOOKUP(F708,Soutez!A:C,3,FALSE)","v":2023},12,2427,1.02,7166,7309,null,null,"LS 8","CA","Není v databázi"]
["Wiktor Lacinski",null,null,"Poland",null,"JEGC 2023 - Std",{"$f":"VLOOKUP(F709,Soutez!A:B,2,FALSE)","v":"DK"},{"$f":"VLOOKUP(F709,Soutez!A:C,3,FALSE)","v":2023},13,2245,1.02,6566,6697,null,null,"LS 8","LOT","Není v databázi"]
["Nuno Ferreira",null,null,"Germany",null,"JEGC 2023 - Std",{"$f":"VLOOKUP(F710,Soutez!A:B,2,FALSE)","v":"DK"},{"$f":"VLOOKUP(F710,Soutez!A:C,3,FALSE)","v":2023},14,2181,1.02,6252,6377,null,null,"LS 8 Neo","FJ","Není v databázi"]
["Áron Érseki",null,null,"Hungary",null,"JEGC 2023 - Std",{"$f":"VLOOKUP(F711,Soutez!A:B,2,FALSE)","v":"DK"},{"$f":"VLOOKUP(F711,Soutez!A:C,3,FALSE)","v":2023},15,1990,1.02,5630,5743,null,null,"Discus 2a","HAL","Není v databázi"]
["Jan-Lucas Aberle",null,null,"Germany",null,"JEGC 2023 - Std",{"$f":"VLOOKUP(F712,Soutez!A:B,2,FALSE)","v":"DK"},{"$f":"VLOOKUP(F712,Soutez!A:C,3,FALSE)","v":2023},16,1954,1.02,5384,{"$f":"ROUND(K712*L712,0)","v":5492},null,null,"Discus 2a","JLA","Není v databázi"]
["Claudio Etterli",null,null,"Switzerland",null,"JEGC 2023 - Std",{"$f":"VLOOKUP(F713,Soutez!A:B,2,FALSE)","v":"DK"},{"$f":"VLOOKUP(F713,Soutez!A:C,3,FALSE)","v":2023},17,1923,1.02,5151,5254,null,null,"Discus 2b","Z1","Není v databázi"]
["Tomasz Kurowski",null,null,"Poland",null,"JEGC 2023 - Std",{"$f":"VLOOKUP(F714,Soutez!A:B,2,FALSE)","v":"DK"},{"$f":"VLOOKUP(F714,Soutez!A:C,3,FALSE)","v":2023},18,1912,{"$f":"VLOOKUP(F714,Soutez,12,0)","v":1.02},4966,5065,null,null,"Discus 2a","Y","Není v databázi"]
["Sönke Ahlborn",null,null,"Switzerland",null,"JEGC 2023 - Std",{"$f":"VLOOKUP(F715,Soutez!A:B,2,FALSE)","v":"DK"},{"$f":"VLOOKUP(F715,Soutez!A:C,3,FALSE)","v":2023},19,1612,1.02,4079,4161,null,null,"Discus 2b","Z2","Není v databázi"]
["Raphael Lutz",null,null,"Switzerland",null,"JEGC 2023 - Std",{"$f":"VLOOKUP(F716,Soutez!A:B,2,FALSE)","v":"DK"},{"$f":"VLOOKUP(F716,Soutez!A:C,3,FALSE)","v":2023},20,1354,1.02,3293,3359,null,null,"Discus 2b","UB","Není v databázi"]
["Stefan Langer",null,null,null,null,"SGP Final 2023",{"$f":"VLOOKUP(F717,Soutez!A:B,2,FALSE)","v":"IT"},{"$f":"VLOOKUP(F717,Soutez!A:C,3,FALSE)","v":2023},1,19,1.0649999999999999,{"$f":"ROUND((MAX($I$717:$I$735)-I717)/(MAX($I$717:$I$735)-1)*10000,0)","v":10000},{"$f":"ROUND(K717*L717,0)","v":10650},null,null,"ASG-29 18m","SL","Není v databázi"]
["Erik Borgmann",null,null,null,null,"SGP Final 2023",{"$f":"VLOOKUP(F718,Soutez!A:B,2,FALSE)","v":"IT"},{"$f":"VLOOKUP(F718,Soutez!A:C,3,FALSE)","v":2023},2,19,1.0649999999999999,9444,{"$f":"ROUND(K718*L718,0)","v":10058},null,null,"JS3 - 18m Jet","JG","Není v databázi"]
["Hermann Leucker",null,null,null,null,"SGP Final 2023",{"$f":"VLOOKUP(F719,Soutez!A:B,2,FALSE)","v":"IT"},{"$f":"VLOOKUP(F719,Soutez!A:C,3,FALSE)","v":2023},3,18,1.0649999999999999,8889,9467,null,null,"JS3 - 18m Jet","HL","Není v databázi"]
["Tilo Holighaus",null,null,null,null,"SGP Final 2023",{"$f":"VLOOKUP(F720,Soutez!A:B,2,FALSE)","v":"IT"},{"$f":"VLOOKUP(F720,Soutez!A:C,3,FALSE)","v":2023},4,17,1.0649999999999999,8333,8875,null,null,"Ventus 3","3V","Není v databázi"]
["Alberto Sironi",null,null,null,null,"SGP Final 2023",{"$f":"VLOOKUP(F721,Soutez!A:B,2,FALSE)","v":"IT"},{"$f":"VLOOKUP(F721,Soutez!A:C,3,FALSE)","v":2023},5,16,1.0649999999999999,7778,8284,null,null,"AS33","MA","Není v databázi"]
["Sebastian Kawa",null,null,null,null,"SGP Final 2023",{"$f":"VLOOKUP(F722,Soutez!A:B,2,FALSE)","v":"IT"},{"$f":"VLOOKUP(F722,Soutez!A:C,3,FALSE)","v":2023},6,14,1.0649999999999999,7222,7691,null,null,"Ventus 3","S","Není v databázi"]
["Maximilian Seis",null,null,null,null,"SGP Final 2023",{"$f":"VLOOKUP(F723,Soutez!A:B,2,FALSE)","v":"IT"},{"$f":"VLOOKUP(F723,Soutez!A:C,3,FALSE)","v":2023},7,14,1.0649999999999999,6667,7100,null,null,"Ventus 3","NB","Není v databázi"]
["Mike Young",null,null,null,null,"SGP Final 2023",{"$f":"VLOOKUP(F724,Soutez!A:B,2,FALSE)","v":"IT"},{"$f":"VLOOKUP(F724,Soutez!A:C,3,FALSE)","v":2023},8,10,1.0649999999999999,6111,6508,null,null,"Ventus 3T","MY","Není v databázi"]
["Marek Sawczuk",null,null,null,null,"SGP Final 2023",{"$f":"VLOOKUP(F725,Soutez!A:B,2,FALSE)","v":"IT"},{"$f":"VLOOKUP(F725,Soutez!A:C,3,FALSE)","v":2023},9,10,1.0649999999999999,5556,5917,null,null,"ASG-29 18m","MS","Není v databázi"]
["Klaus Kalmbach",null,null,null,null,"SGP Final 2023",{"$f":"VLOOKUP(F726,Soutez!A:B,2,FALSE)","v":"IT"},{"$f":"VLOOKUP(F726,Soutez!A:C,3,FALSE)","v":2023},10,10,1.0649999999999999,5000,5325,null,null,"JS3 - 18m Jet","CT","Není v databázi"]
["Lukasz Grabowski",null,null,null,null,"SGP Final 2023",{"$f":"VLOOKUP(F727,Soutez!A:B,2,FALSE)","v":"IT"},{"$f":"VLOOKUP(F727,Soutez!A:C,3,FALSE)","v":2023},11,9,1.0649999999999999,4444,4733,null,null,"JS-1 18m","P","Není v databázi"]
["Thomas Gostner",null,null,null,null,"SGP Final 2023",{"$f":"VLOOKUP(F728,Soutez!A:B,2,FALSE)","v":"IT"},{"$f":"VLOOKUP(F728,Soutez!A:C,3,FALSE)","v":2023},12,8,1.0649999999999999,3889,4142,null,null,"Ventus 3","GT","Není v databázi"]
["Giorgio Galetto",null,null,null,null,"SGP Final 2023",{"$f":"VLOOKUP(F729,Soutez!A:B,2,FALSE)","v":"IT"},{"$f":"VLOOKUP(F729,Soutez!A:C,3,FALSE)","v":2023},13,6,1.0649999999999999,3333,3550,null,null,"Ventus 3 FES","Y",{"$f":"IF(ISERROR(VLOOKUP(A729,Pilot,6,0)),\"Není v databázi\",VLOOKUP(A729,Pilot,6,0))","v":"Není v databázi"}]
["Petr Krejcirik",{"$f":"VLOOKUP(A730,Pilot,2,0)","v":1960},{"$f":"VLOOKUP(A730,Pilot,5,0)","v":"M"},{"$f":"VLOOKUP(A730,Pilot,3,0)","v":"Hranice"},{"$f":"VLOOKUP(A730,Pilot,4,0)","v":"CZ/M"},"SGP Final 2023",{"$f":"VLOOKUP(F730,Soutez!A:B,2,FALSE)","v":"IT"},{"$f":"VLOOKUP(F730,Soutez!A:C,3,FALSE)","v":2023},14,5,1.0649999999999999,2778,2959,null,null,"AS33es",12,""]
["Gilles Navas",null,null,null,null,"SGP Final 2023",{"$f":"VLOOKUP(F731,Soutez!A:B,2,FALSE)","v":"IT"},{"$f":"VLOOKUP(F731,Soutez!A:C,3,FALSE)","v":2023},15,4,1.0649999999999999,2222,2366,null,null,"ASG-29 18m","1L","Není v databázi"]
["Dirk Windmuller",null,null,null,null,"SGP Final 2023",{"$f":"VLOOKUP(F732,Soutez!A:B,2,FALSE)","v":"IT"},{"$f":"VLOOKUP(F732,Soutez!A:C,3,FALSE)","v":2023},16,3,1.0649999999999999,1667,1775,null,null,"AS33es","FUN","Není v databázi"]
["Jon Gatfield",null,null,null,null,"SGP Final 2023",{"$f":"VLOOKUP(F733,Soutez!A:B,2,FALSE)","v":"IT"},{"$f":"VLOOKUP(F733,Soutez!A:C,3,FALSE)","v":2023},17,3,1.0649999999999999,1111,{"$f":"ROUND(K733*L733,0)","v":1183},null,null,"AS33es","YO","Není v databázi"]
["Luka Znidarsic",null,null,null,null,"SGP Final 2023",{"$f":"VLOOKUP(F734,Soutez!A:B,2,FALSE)","v":"IT"},{"$f":"VLOOKUP(F734,Soutez!A:C,3,FALSE)","v":2023},18,0,1.0649999999999999,556,592,null,null,"Ventus-3 FES","LZ","Není v databázi"]
["Didier Hauss",null,null,null,null,"SGP Final 2023",{"$f":"VLOOKUP(F735,Soutez!A:B,2,FALSE)","v":"IT"},{"$f":"VLOOKUP(F735,Soutez!A:C,3,FALSE)","v":2023},19,0,1.0649999999999999,0,0,null,null,"JS-1 18m","SD","Není v databázi"]
["Sebastian Kawa",null,null,"Poland",null,"WGC 2023 - 15m",{"$f":"VLOOKUP(F736,Soutez!A:B,2,FALSE)","v":"AU"},{"$f":"VLOOKUP(F736,Soutez!A:C,3,FALSE)","v":2023},1,9121,1.125,{"$f":"ROUND(J736/MAX($J$736:$J$762)*10000*0.7+(MAX($I$736:$I$762)-I736)/(MAX($I$736:$I$762)-1)*10000*0.3,0)","v":10000},{"$f":"ROUND(K736*L736,0)","v":11250},null,null,"Diana 2","ZJ","Není v databázi"]
["Henrik Bieler",null,null,"Germany",null,"WGC 2023 - 15m",{"$f":"VLOOKUP(F737,Soutez!A:B,2,FALSE)","v":"AU"},{"$f":"VLOOKUP(F737,Soutez!A:C,3,FALSE)","v":2023},2,8995,1.125,9788,{"$f":"ROUND(K737*L737,0)","v":11012},null,null,"Ventus-3T","IYB","Není v databázi"]
["Steffen Goettler",null,null,"Germany",null,"WGC 2023 - 15m",{"$f":"VLOOKUP(F738,Soutez!A:B,2,FALSE)","v":"AU"},{"$f":"VLOOKUP(F738,Soutez!A:C,3,FALSE)","v":2023},3,8978,1.125,9659,10866,null,null,"Ventus 2ax","G2","Není v databázi"]
["Jeroen Verkuijl",null,null,"Netherlands",null,"WGC 2023 - 15m",{"$f":"VLOOKUP(F739,Soutez!A:B,2,FALSE)","v":"AU"},{"$f":"VLOOKUP(F739,Soutez!A:C,3,FALSE)","v":2023},4,8955,1.125,9526,10717,null,null,"JS3 15m","S5","Není v databázi"]
["Philip Jones",null,null,"Great Britain",null,"WGC 2023 - 15m",{"$f":"VLOOKUP(F740,Soutez!A:B,2,FALSE)","v":"AU"},{"$f":"VLOOKUP(F740,Soutez!A:C,3,FALSE)","v":2023},5,8952,1.125,9409,10585,null,null,"Ventus 3TS 15m",210,"Není v databázi"]
["Uys Jonker",null,null,"South Africa",null,"WGC 2023 - 15m",{"$f":"VLOOKUP(F741,Soutez!A:B,2,FALSE)","v":"AU"},{"$f":"VLOOKUP(F741,Soutez!A:C,3,FALSE)","v":2023},6,8936,1.125,9281,10441,null,null,"JS3 15m","BB","Není v databázi"]
["Adam Woolley",null,null,"Australia",null,"WGC 2023 - 15m",{"$f":"VLOOKUP(F742,Soutez!A:B,2,FALSE)","v":"AU"},{"$f":"VLOOKUP(F742,Soutez!A:C,3,FALSE)","v":2023},7,8926,1.125,9158,10303,null,null,"Ventus 3TS 15m","G1","Není v databázi"]
["Erik Borgmann",null,null,"Netherlands",null,"WGC 2023 - 15m",{"$f":"VLOOKUP(F743,Soutez!A:B,2,FALSE)","v":"AU"},{"$f":"VLOOKUP(F743,Soutez!A:C,3,FALSE)","v":2023},8,8921,1.125,9039,10169,null,null,"JS-MD 3","JG","Není v databázi"]
["Christophe Abadie",null,null,"France",null,"WGC 2023 - 15m",{"$f":"VLOOKUP(F744,Soutez!A:B,2,FALSE)","v":"AU"},{"$f":"VLOOKUP(F744,Soutez!A:C,3,FALSE)","v":2023},9,8919,1.125,8922,10037,null,null,"JS3 15m","KW","Není v databázi"]
["Tobias Geiger",null,null,"Australia",null,"WGC 2023 - 15m",{"$f":"VLOOKUP(F745,Soutez!A:B,2,FALSE)","v":"AU"},{"$f":"VLOOKUP(F745,Soutez!A:C,3,FALSE)","v":2023},10,8851,1.125,8754,9848,null,null,"Ventus 2ax","VG","Není v databázi"]
["Francois Delfosse",null,null,"Belgium",null,"WGC 2023 - 15m",{"$f":"VLOOKUP(F746,Soutez!A:B,2,FALSE)","v":"AU"},{"$f":"VLOOKUP(F746,Soutez!A:C,3,FALSE)","v":2023},11,8801,{"$f":"VLOOKUP(F746,Soutez,12,0)","v":1.125},8601,9676,null,null,"JS3 15m",73,"Není v databázi"]
["Riccardo Brigliadori",null,null,"Italy",null,"WGC 2023 - 15m",{"$f":"VLOOKUP(F747,Soutez!A:B,2,FALSE)","v":"AU"},{"$f":"VLOOKUP(F747,Soutez!A:C,3,FALSE)","v":2023},12,8799,1.125,8484,9545,null,null,"JS3 15m","M3","Není v databázi"]
["Derren Francis",null,null,"Great Britain",null,"WGC 2023 - 15m",{"$f":"VLOOKUP(F748,Soutez!A:B,2,FALSE)","v":"AU"},{"$f":"VLOOKUP(F748,Soutez!A:C,3,FALSE)","v":2023},13,8795,1.125,8365,9411,null,null,"Ventus 3TS 15m","F2","Není v databázi"]
["Lukasz Grabowski",null,null,"Poland",null,"WGC 2023 - 15m",{"$f":"VLOOKUP(F749,Soutez!A:B,2,FALSE)","v":"AU"},{"$f":"VLOOKUP(F749,Soutez!A:C,3,FALSE)","v":2023},14,8719,1.125,8191,9215,null,null,"Diana 2","RP","Není v databázi"]
["Kevin Faur",null,null,"France",null,"WGC 2023 - 15m",{"$f":"VLOOKUP(F750,Soutez!A:B,2,FALSE)","v":"AU"},{"$f":"VLOOKUP(F750,Soutez!A:C,3,FALSE)","v":2023},15,8464,1.125,7880,8865,null,null,"JS3 15m","LB","Není v databázi"]
["Andre Litt",null,null,"Belgium",null,"WGC 2023 - 15m",{"$f":"VLOOKUP(F751,Soutez!A:B,2,FALSE)","v":"AU"},{"$f":"VLOOKUP(F751,Soutez!A:C,3,FALSE)","v":2023},16,8424,1.125,7734,{"$f":"ROUND(K751*L751,0)","v":8701},null,null,"JS3 15m","MM","Není v databázi"]
["Tim Taylor",null,null,"United States",null,"WGC 2023 - 15m",{"$f":"VLOOKUP(F752,Soutez!A:B,2,FALSE)","v":"AU"},{"$f":"VLOOKUP(F752,Soutez!A:C,3,FALSE)","v":2023},17,8007,1.125,7299,8211,null,null,"Ventus 2c 15m","TT","Není v databázi"]
["Yves Gerster",null,null,"Switzerland",null,"WGC 2023 - 15m",{"$f":"VLOOKUP(F753,Soutez!A:B,2,FALSE)","v":"AU"},{"$f":"VLOOKUP(F753,Soutez!A:C,3,FALSE)","v":2023},18,7838,1.125,7054,7936,null,null,"JS3 15m","1B","Není v databázi"]
["Linas Miezlaiskis",null,null,"Lithuania",null,"WGC 2023 - 15m",{"$f":"VLOOKUP(F754,Soutez!A:B,2,FALSE)","v":"AU"},{"$f":"VLOOKUP(F754,Soutez!A:C,3,FALSE)","v":2023},19,7648,1.125,6793,7642,null,null,"ASG 29 15m","HS","Není v databázi"]
["Remy Hirt",null,null,"Switzerland",null,"WGC 2023 - 15m",{"$f":"VLOOKUP(F755,Soutez!A:B,2,FALSE)","v":"AU"},{"$f":"VLOOKUP(F755,Soutez!A:C,3,FALSE)","v":2023},20,7567,1.125,6615,7442,null,null,"JS3 RES 15m","URF","Není v databázi"]
["Karel Novak",{"$f":"VLOOKUP(A756,Pilot,2,0)","v":1993},{"$f":"VLOOKUP(A756,Pilot,5,0)","v":"M"},{"$f":"VLOOKUP(A756,Pilot,3,0)","v":"Mladá Boleslav"},{"$f":"VLOOKUP(A756,Pilot,4,0)","v":"CZ/C1"},"WGC 2023 - 15m",{"$f":"VLOOKUP(F756,Soutez!A:B,2,FALSE)","v":"AU"},{"$f":"VLOOKUP(F756,Soutez!A:C,3,FALSE)","v":2023},21,7551,1.125,6487,7298,null,null,"JS3 15m","XM",""]
["Erkki Heinonen",null,null,"Finland",null,"WGC 2023 - 15m",{"$f":"VLOOKUP(F757,Soutez!A:B,2,FALSE)","v":"AU"},{"$f":"VLOOKUP(F757,Soutez!A:C,3,FALSE)","v":2023},22,6845,1.125,5830,6559,null,null,"ASG 29 15m","WS","Není v databázi"]
["Jan Pavlik",{"$f":"VLOOKUP(A758,Pilot,2,0)","v":1987},{"$f":"VLOOKUP(A758,Pilot,5,0)","v":"M"},{"$f":"VLOOKUP(A758,Pilot,3,0)","v":"Křižanov"},{"$f":"VLOOKUP(A758,Pilot,4,0)","v":"CZ/M"},"WGC 2023 - 15m",{"$f":"VLOOKUP(F758,Soutez!A:B,2,FALSE)","v":"AU"},{"$f":"VLOOKUP(F758,Soutez!A:C,3,FALSE)","v":2023},23,6817,1.125,5693,6405,null,null,"JS3 15m","ZE",""]
["Poul Larsen",null,null,"Denmark",null,"WGC 2023 - 15m",{"$f":"VLOOKUP(F759,Soutez!A:B,2,FALSE)","v":"AU"},{"$f":"VLOOKUP(F759,Soutez!A:C,3,FALSE)","v":2023},24,6455,1.125,5300,5963,null,null,"Ventus 2a",67,"Není v databázi"]
["Rick Indrebo",null,null,"United States",null,"WGC 2023 - 15m",{"$f":"VLOOKUP(F760,Soutez!A:B,2,FALSE)","v":"AU"},{"$f":"VLOOKUP(F760,Soutez!A:C,3,FALSE)","v":2023},25,5808,1.125,4688,5274,null,null,"ASW 27",89,"Není v databázi"]
["Abraham Kotze",null,null,"South Africa",null,"WGC 2023 - 15m",{"$f":"VLOOKUP(F761,Soutez!A:B,2,FALSE)","v":"AU"},{"$f":"VLOOKUP(F761,Soutez!A:C,3,FALSE)","v":2023},26,3508,1.125,2808,3159,null,null,"JS3 15m","LP","Není v databázi"]
["Zoltan Hamar",null,null,"Hungary",null,"WGC 2023 - 15m",{"$f":"VLOOKUP(F762,Soutez!A:B,2,FALSE)","v":"AU"},{"$f":"VLOOKUP(F762,Soutez!A:C,3,FALSE)","v":2023},27,925,1.125,710,799,null,null,"JS3 15m","7A","Není v databázi"]
["James Nugent",null,null,"Australia",null,"WGC 2023 - Klub",{"$f":"VLOOKUP(F763,Soutez!A:B,2,FALSE)","v":"AU"},{"$f":"VLOOKUP(F763,Soutez!A:C,3,FALSE)","v":2023},1,9438,1.1100000000000001,{"$f":"ROUND(J763/MAX($J$763:$J$792)*10000*0.7+(MAX($I$763:$I$792)-I763)/(MAX($I$763:$I$792)-1)*10000*0.3,0)","v":10000},{"$f":"ROUND(K763*L763,0)","v":11100},null,null,"LS3","Q1","Není v databázi"]
["Uwe Wahlig",null,null,"Germany",null,"WGC 2023 - Klub",{"$f":"VLOOKUP(F764,Soutez!A:B,2,FALSE)","v":"AU"},{"$f":"VLOOKUP(F764,Soutez!A:C,3,FALSE)","v":2023},2,9219,1.1100000000000001,9734,{"$f":"ROUND(K764*L764,0)","v":10805},null,null,"LS3","SN","Není v databázi"]
["Stefan Langer",null,null,"Germany",null,"WGC 2023 - Klub",{"$f":"VLOOKUP(F765,Soutez!A:B,2,FALSE)","v":"AU"},{"$f":"VLOOKUP(F765,Soutez!A:C,3,FALSE)","v":2023},3,9148,1.1100000000000001,9578,10632,null,null,"LS3","SF","Není v databázi"]
["Rasmus Orskov",null,null,"Denmark",null,"WGC 2023 - Klub",{"$f":"VLOOKUP(F766,Soutez!A:B,2,FALSE)","v":"AU"},{"$f":"VLOOKUP(F766,Soutez!A:C,3,FALSE)","v":2023},4,9113,1.1100000000000001,9449,10488,null,null,"ASW 20CL","KJ","Není v databázi"]
["Tomas Suchanek",{"$f":"VLOOKUP(A767,Pilot,2,0)","v":1964},{"$f":"VLOOKUP(A767,Pilot,5,0)","v":"M"},{"$f":"VLOOKUP(A767,Pilot,3,0)","v":"GAC Benešov"},{"$f":"VLOOKUP(A767,Pilot,4,0)","v":"CZ/C1"},"WGC 2023 - Klub",{"$f":"VLOOKUP(F767,Soutez!A:B,2,FALSE)","v":"AU"},{"$f":"VLOOKUP(F767,Soutez!A:C,3,FALSE)","v":2023},5,8894,1.1100000000000001,9183,10193,null,null,"ASW 20L","CX",""]
["Jacek Flis",null,null,"Poland",null,"WGC 2023 - Klub",{"$f":"VLOOKUP(F768,Soutez!A:B,2,FALSE)","v":"AU"},{"$f":"VLOOKUP(F768,Soutez!A:C,3,FALSE)","v":2023},6,8881,1.1100000000000001,9070,10068,null,null,"LS 3 WL","FL","Není v databázi"]
["Tim Milner",null,null,"Great Britain",null,"WGC 2023 - Klub",{"$f":"VLOOKUP(F769,Soutez!A:B,2,FALSE)","v":"AU"},{"$f":"VLOOKUP(F769,Soutez!A:C,3,FALSE)","v":2023},7,8816,1.1100000000000001,8918,9899,null,null,"LS3","LS5","Není v databázi"]
["Roelof Corporaal",null,null,"Netherlands",null,"WGC 2023 - Klub",{"$f":"VLOOKUP(F770,Soutez!A:B,2,FALSE)","v":"AU"},{"$f":"VLOOKUP(F770,Soutez!A:C,3,FALSE)","v":2023},8,8776,1.1100000000000001,8785,9751,null,null,"LS 7 neo","LK","Není v databázi"]
["Adrien Henry",null,null,"France",null,"WGC 2023 - Klub",{"$f":"VLOOKUP(F771,Soutez!A:B,2,FALSE)","v":"AU"},{"$f":"VLOOKUP(F771,Soutez!A:C,3,FALSE)","v":2023},9,8766,1.1100000000000001,8674,9628,null,null,"ASW 20","XI","Není v databázi"]
["Hugo Corbille",null,null,"France",null,"WGC 2023 - Klub",{"$f":"VLOOKUP(F772,Soutez!A:B,2,FALSE)","v":"AU"},{"$f":"VLOOKUP(F772,Soutez!A:C,3,FALSE)","v":2023},10,8764,1.1100000000000001,8569,9512,null,null,"LS 7","HG","Není v databázi"]
["Daniel Summers",null,null,"Australia",null,"WGC 2023 - Klub",{"$f":"VLOOKUP(F773,Soutez!A:B,2,FALSE)","v":"AU"},{"$f":"VLOOKUP(F773,Soutez!A:C,3,FALSE)","v":2023},11,8586,1.1100000000000001,8334,9251,null,null,"ASW 20C","MG","Není v databázi"]
["John Roberts",null,null,"Great Britain",null,"WGC 2023 - Klub",{"$f":"VLOOKUP(F774,Soutez!A:B,2,FALSE)","v":"AU"},{"$f":"VLOOKUP(F774,Soutez!A:C,3,FALSE)","v":2023},12,8552,1.1100000000000001,8205,9108,null,null,"LS3","LS3","Není v databázi"]
["Mikolaj Zdun",null,null,"Poland",null,"WGC 2023 - Klub",{"$f":"VLOOKUP(F775,Soutez!A:B,2,FALSE)","v":"AU"},{"$f":"VLOOKUP(F775,Soutez!A:C,3,FALSE)","v":2023},13,8163,1.1100000000000001,7813,8672,null,null,"LS 3 WL","PP","Není v databázi"]
["Mike Westbrook",null,null,"United States",null,"WGC 2023 - Klub",{"$f":"VLOOKUP(F776,Soutez!A:B,2,FALSE)","v":"AU"},{"$f":"VLOOKUP(F776,Soutez!A:C,3,FALSE)","v":2023},14,7632,1.1100000000000001,7316,8121,null,null,"Discus b","FY","Není v databázi"]
["Michael Mix",null,null,"Denmark",null,"WGC 2023 - Klub",{"$f":"VLOOKUP(F777,Soutez!A:B,2,FALSE)","v":"AU"},{"$f":"VLOOKUP(F777,Soutez!A:C,3,FALSE)","v":2023},15,7573,1.1100000000000001,7168,7956,null,null,"LS3","WUQ","Není v databázi"]
["Michael Strathern",null,null,"New Zealand",null,"WGC 2023 - Klub",{"$f":"VLOOKUP(F778,Soutez!A:B,2,FALSE)","v":"AU"},{"$f":"VLOOKUP(F778,Soutez!A:C,3,FALSE)","v":2023},16,7486,{"$f":"VLOOKUP(F778,Soutez,12,0)","v":1.1100000000000001},7001,7771,null,null,"ASW 20",280,"Není v databázi"]
["Kim Toppari",null,null,"Finland",null,"WGC 2023 - Klub",{"$f":"VLOOKUP(F779,Soutez!A:B,2,FALSE)","v":"AU"},{"$f":"VLOOKUP(F779,Soutez!A:C,3,FALSE)","v":2023},17,7443,1.1100000000000001,6865,7620,null,null,"ASW 20b","JH","Není v databázi"]
["Istvan Balog",null,null,"Hungary",null,"WGC 2023 - Klub",{"$f":"VLOOKUP(F780,Soutez!A:B,2,FALSE)","v":"AU"},{"$f":"VLOOKUP(F780,Soutez!A:C,3,FALSE)","v":2023},18,7436,1.1100000000000001,6757,{"$f":"ROUND(K780*L780,0)","v":7500},null,null,"LS3","WUF","Není v databázi"]
["Jan Ratz",{"$f":"VLOOKUP(A781,Pilot,2,0)","v":1987},{"$f":"VLOOKUP(A781,Pilot,5,0)","v":"M"},{"$f":"VLOOKUP(A781,Pilot,3,0)","v":"Zbraslavice"},{"$f":"VLOOKUP(A781,Pilot,4,0)","v":"CZ/C1"},"WGC 2023 - Klub",{"$f":"VLOOKUP(F781,Soutez!A:B,2,FALSE)","v":"AU"},{"$f":"VLOOKUP(F781,Soutez!A:C,3,FALSE)","v":2023},19,7408,1.1100000000000001,6632,7362,"x",null,"ASW 20","A3",""]
["Szabolcs Veigli",null,null,"Hungary",null,"WGC 2023 - Klub",{"$f":"VLOOKUP(F782,Soutez!A:B,2,FALSE)","v":"AU"},{"$f":"VLOOKUP(F782,Soutez!A:C,3,FALSE)","v":2023},20,6852,1.1100000000000001,6116,6789,null,null,"ASW 20b","YM","Není v databázi"]
["Igor Gapanovich",null,null,"Ukraine",null,"WGC 2023 - Klub",{"$f":"VLOOKUP(F783,Soutez!A:B,2,FALSE)","v":"AU"},{"$f":"VLOOKUP(F783,Soutez!A:C,3,FALSE)","v":2023},21,6529,1.1100000000000001,5773,6408,null,null,"Discus b","NZ","Není v databázi"]
["Tony Condon",null,null,"United States",null,"WGC 2023 - Klub",{"$f":"VLOOKUP(F784,Soutez!A:B,2,FALSE)","v":"AU"},{"$f":"VLOOKUP(F784,Soutez!A:C,3,FALSE)","v":2023},22,6499,1.1100000000000001,5648,6269,null,null,"Discus b","DK","Není v databázi"]
["Mikko Ylihärsilä",null,null,"Finland",null,"WGC 2023 - Klub",{"$f":"VLOOKUP(F785,Soutez!A:B,2,FALSE)","v":"AU"},{"$f":"VLOOKUP(F785,Soutez!A:C,3,FALSE)","v":2023},23,6206,1.1100000000000001,5327,5913,null,null,"ASW 20b","HDX","Není v databázi"]
["Guido Dalla RosaPrati",null,null,"Italy",null,"WGC 2023 - Klub",{"$f":"VLOOKUP(F786,Soutez!A:B,2,FALSE)","v":"AU"},{"$f":"VLOOKUP(F786,Soutez!A:C,3,FALSE)","v":2023},24,6030,1.1100000000000001,5093,5653,null,null,"LS 4b","AJ","Není v databázi"]
["Petra Piskata",{"$f":"VLOOKUP(A787,Pilot,2,0)","v":1989},{"$f":"VLOOKUP(A787,Pilot,5,0)","v":"F"},{"$f":"VLOOKUP(A787,Pilot,3,0)","v":"Luhačovice"},{"$f":"VLOOKUP(A787,Pilot,4,0)","v":"CZ/M"},"WGC 2023 - Klub",{"$f":"VLOOKUP(F787,Soutez!A:B,2,FALSE)","v":"AU"},{"$f":"VLOOKUP(F787,Soutez!A:C,3,FALSE)","v":2023},25,5941,1.1100000000000001,4924,5466,null,null,"ASW 20","UKI",""]
["Luca Urbani",null,null,"Italy",null,"WGC 2023 - Klub",{"$f":"VLOOKUP(F788,Soutez!A:B,2,FALSE)","v":"AU"},{"$f":"VLOOKUP(F788,Soutez!A:C,3,FALSE)","v":2023},26,5670,1.1100000000000001,4619,5127,null,null,"LS 4a","UKA","Není v databázi"]
["Thies Bruins",null,null,"Netherlands",null,"WGC 2023 - Klub",{"$f":"VLOOKUP(F789,Soutez!A:B,2,FALSE)","v":"AU"},{"$f":"VLOOKUP(F789,Soutez!A:C,3,FALSE)","v":2023},27,4987,1.1100000000000001,4009,4450,null,null,"ASW 20L / Std Cirrus","IV","Není v databázi"]
["Diana Schuit",null,null,"Luxembourg",null,"WGC 2023 - Klub",{"$f":"VLOOKUP(F790,Soutez!A:B,2,FALSE)","v":"AU"},{"$f":"VLOOKUP(F790,Soutez!A:C,3,FALSE)","v":2023},28,4290,1.1100000000000001,3389,3762,null,null,"Cirrus Std","NS","Není v databázi"]
["Dani Zaninovic",null,null,"Croatia",null,"WGC 2023 - Klub",{"$f":"VLOOKUP(F791,Soutez!A:B,2,FALSE)","v":"AU"},{"$f":"VLOOKUP(F791,Soutez!A:C,3,FALSE)","v":2023},29,3721,1.1100000000000001,2863,3178,null,null,"Discus b","FV",{"$f":"IF(ISERROR(VLOOKUP(A791,Pilot,6,0)),\"Není v databázi\",VLOOKUP(A791,Pilot,6,0))","v":"Není v databázi"}]
["Frane Franic",null,null,"Croatia",null,"WGC 2023 - Klub",{"$f":"VLOOKUP(F792,Soutez!A:B,2,FALSE)","v":"AU"},{"$f":"VLOOKUP(F792,Soutez!A:C,3,FALSE)","v":2023},30,3633,1.1100000000000001,2695,2991,null,null,"LS 4","HR3","Není v databázi"]
["Tom Arscott",null,null,"Great Britain",null,"WGC 2023 - Std",{"$f":"VLOOKUP(F793,Soutez!A:B,2,FALSE)","v":"AU"},{"$f":"VLOOKUP(F793,Soutez!A:C,3,FALSE)","v":2023},1,9013,1.105,{"$f":"ROUND(J793/MAX($J$793:$J$813)*10000*0.7+(MAX($I$793:$I$813)-I793)/(MAX($I$793:$I$813)-1)*10000*0.3,0)","v":10000},{"$f":"ROUND(K793*L793,0)","v":11050},null,null,"LS8","CC","Není v databázi"]
["Gregory Beecroft",null,null,"Australia",null,"WGC 2023 - Std",{"$f":"VLOOKUP(F794,Soutez!A:B,2,FALSE)","v":"AU"},{"$f":"VLOOKUP(F794,Soutez!A:C,3,FALSE)","v":2023},2,8638,1.105,9559,{"$f":"ROUND(K794*L794,0)","v":10563},null,null,"LS8","HCB","Není v databázi"]
["Enrique Levin",null,null,"Germany",null,"WGC 2023 - Std",{"$f":"VLOOKUP(F795,Soutez!A:B,2,FALSE)","v":"AU"},{"$f":"VLOOKUP(F795,Soutez!A:C,3,FALSE)","v":2023},3,8552,1.105,9342,10323,null,null,"LS8neo","PO","Není v databázi"]
["Simon Schröder",null,null,"Germany",null,"WGC 2023 - Std",{"$f":"VLOOKUP(F796,Soutez!A:B,2,FALSE)","v":"AU"},{"$f":"VLOOKUP(F796,Soutez!A:C,3,FALSE)","v":2023},4,8494,1.105,9147,10107,null,null,"LS8 neo","S2","Není v databázi"]
["Phillip Jonker",null,null,"South Africa",null,"WGC 2023 - Std",{"$f":"VLOOKUP(F797,Soutez!A:B,2,FALSE)","v":"AU"},{"$f":"VLOOKUP(F797,Soutez!A:C,3,FALSE)","v":2023},5,8467,1.105,8976,9918,null,null,"LS8b","M1","Není v databázi"]
["Sjaak Selen",null,null,"Netherlands",null,"WGC 2023 - Std",{"$f":"VLOOKUP(F798,Soutez!A:B,2,FALSE)","v":"AU"},{"$f":"VLOOKUP(F798,Soutez!A:C,3,FALSE)","v":2023},6,8389,1.105,8765,9685,null,null,"Discus 2a","2S","Není v databázi"]
["Lukasz Blaszczyk",null,null,"Poland",null,"WGC 2023 - Std",{"$f":"VLOOKUP(F799,Soutez!A:B,2,FALSE)","v":"AU"},{"$f":"VLOOKUP(F799,Soutez!A:C,3,FALSE)","v":2023},7,7934,1.105,8262,9130,null,null,"Discus - 2a","I","Není v databázi"]
["Makoto Ichikawa",null,null,"Japan",null,"WGC 2023 - Std",{"$f":"VLOOKUP(F800,Soutez!A:B,2,FALSE)","v":"AU"},{"$f":"VLOOKUP(F800,Soutez!A:C,3,FALSE)","v":2023},8,7873,1.105,8065,8912,null,null,"LS8-t","PB","Není v databázi"]
["Julien Duboc",null,null,"France",null,"WGC 2023 - Std",{"$f":"VLOOKUP(F801,Soutez!A:B,2,FALSE)","v":"AU"},{"$f":"VLOOKUP(F801,Soutez!A:C,3,FALSE)","v":2023},9,7862,1.105,7906,8736,null,null,"Discus-2a","JPA","Není v databázi"]
["Pavel Louzecky",{"$f":"VLOOKUP(A802,Pilot,2,0)","v":1957},{"$f":"VLOOKUP(A802,Pilot,5,0)","v":"M"},{"$f":"VLOOKUP(A802,Pilot,3,0)","v":"Přibyslav"},{"$f":"VLOOKUP(A802,Pilot,4,0)","v":"CZ/C2"},"WGC 2023 - Std",{"$f":"VLOOKUP(F802,Soutez!A:B,2,FALSE)","v":"AU"},{"$f":"VLOOKUP(F802,Soutez!A:C,3,FALSE)","v":2023},10,7801,1.105,7709,8518,null,null,"LS 8-b","FX",""]
["Maximilian Seis",null,null,"France",null,"WGC 2023 - Std",{"$f":"VLOOKUP(F803,Soutez!A:B,2,FALSE)","v":"AU"},{"$f":"VLOOKUP(F803,Soutez!A:C,3,FALSE)","v":2023},11,7770,1.105,7535,8326,null,null,"Discus 2a","ET","Není v databázi"]
["Tomasz Rubaj",null,null,"Poland",null,"WGC 2023 - Std",{"$f":"VLOOKUP(F804,Soutez!A:B,2,FALSE)","v":"AU"},{"$f":"VLOOKUP(F804,Soutez!A:C,3,FALSE)","v":2023},12,7627,1.105,7274,8038,null,null,"Discus 2a","Y","Není v databázi"]
["Paul Fritche",null,null,"Great Britain",null,"WGC 2023 - Std",{"$f":"VLOOKUP(F805,Soutez!A:B,2,FALSE)","v":"AU"},{"$f":"VLOOKUP(F805,Soutez!A:C,3,FALSE)","v":2023},13,7493,1.105,7019,7756,null,null,"LS8","L4","Není v databázi"]
["Miloslav Cink",{"$f":"VLOOKUP(A806,Pilot,2,0)","v":1987},{"$f":"VLOOKUP(A806,Pilot,5,0)","v":"M"},{"$f":"VLOOKUP(A806,Pilot,3,0)","v":"Letkov"},{"$f":"VLOOKUP(A806,Pilot,4,0)","v":"CZ/C1"},"WGC 2023 - Std",{"$f":"VLOOKUP(F806,Soutez!A:B,2,FALSE)","v":"AU"},{"$f":"VLOOKUP(F806,Soutez!A:C,3,FALSE)","v":2023},14,7385,1.105,6786,7499,null,null,"LS 8-b","JB",""]
["Laurence Hardman",null,null,"South Africa",null,"WGC 2023 - Std",{"$f":"VLOOKUP(F807,Soutez!A:B,2,FALSE)","v":"AU"},{"$f":"VLOOKUP(F807,Soutez!A:C,3,FALSE)","v":2023},15,7359,1.105,6615,7310,null,null,"LS8","S7","Není v databázi"]
["Sarah Arnold",null,null,"United States",null,"WGC 2023 - Std",{"$f":"VLOOKUP(F808,Soutez!A:B,2,FALSE)","v":"AU"},{"$f":"VLOOKUP(F808,Soutez!A:C,3,FALSE)","v":2023},16,7305,1.105,6423,7097,null,null,"Discus 2b","XBY","Není v databázi"]
["Dennis Huybreckx",null,null,"Belgium",null,"WGC 2023 - Std",{"$f":"VLOOKUP(F809,Soutez!A:B,2,FALSE)","v":"AU"},{"$f":"VLOOKUP(F809,Soutez!A:C,3,FALSE)","v":2023},17,7258,1.105,6237,{"$f":"ROUND(K809*L809,0)","v":6892},null,null,"LS8","GG","Není v databázi"]
["Bruce Taylor",null,null,"Australia",null,"WGC 2023 - Std",{"$f":"VLOOKUP(F810,Soutez!A:B,2,FALSE)","v":"AU"},{"$f":"VLOOKUP(F810,Soutez!A:C,3,FALSE)","v":2023},18,7199,1.105,6041,6675,null,null,"LS8a","WB","Není v databázi"]
["Joris Vainius",null,null,"Lithuania",null,"WGC 2023 - Std",{"$f":"VLOOKUP(F811,Soutez!A:B,2,FALSE)","v":"AU"},{"$f":"VLOOKUP(F811,Soutez!A:C,3,FALSE)","v":2023},19,7062,1.105,5785,6392,null,null,"ASW28","2M","Není v databázi"]
["Andrius Tamulenas",null,null,"Lithuania",null,"WGC 2023 - Std",{"$f":"VLOOKUP(F812,Soutez!A:B,2,FALSE)","v":"AU"},{"$f":"VLOOKUP(F812,Soutez!A:C,3,FALSE)","v":2023},20,6929,1.105,5531,6112,null,null,"LS8","FC","Není v databázi"]
["Tom Holloran",null,null,"United States",null,"WGC 2023 - Std",{"$f":"VLOOKUP(F813,Soutez!A:B,2,FALSE)","v":"AU"},{"$f":"VLOOKUP(F813,Soutez!A:C,3,FALSE)","v":2023},21,4749,1.105,3688,4075,null,null,"LS8-sT","FQF","Není v databázi"]
["Eduard Supersperger",null,null,"SMBC Kirchdorf Micheldorf",null,"Alpe Adria Cup 2023 - 113",{"$f":"VLOOKUP(F814,Soutez!A:B,2,FALSE)","v":"AT"},{"$f":"VLOOKUP(F814,Soutez!A:C,3,FALSE)","v":2023},1,4501,{"$f":"VLOOKUP(F814,Soutez,12,0)","v":0.755},{"$f":"ROUND(J814/MAX($J$814:$J$830)*10000*0.7+(MAX($I$814:$I$830)-I814)/(MAX($I$814:$I$830)-1)*10000*0.3,0)","v":10000},{"$f":"ROUND(K814*L814,0)","v":7550},null,null,"Ventus 2b","M4","Není v databázi"]
["Friedrich Hofinger",null,null,"Österreich",null,"Alpe Adria Cup 2023 - 113",{"$f":"VLOOKUP(F815,Soutez!A:B,2,FALSE)","v":"AT"},{"$f":"VLOOKUP(F815,Soutez!A:C,3,FALSE)","v":2023},2,4088,0.755,9170,{"$f":"ROUND(K815*L815,0)","v":6923},null,null,"Discus2c 18m","KN","Není v databázi"]
["Koppler & Barth",null,null,"Sportflieger Steyr",null,"Alpe Adria Cup 2023 - 113",{"$f":"VLOOKUP(F816,Soutez!A:B,2,FALSE)","v":"AT"},{"$f":"VLOOKUP(F816,Soutez!A:C,3,FALSE)","v":2023},3,3704,0.755,8385,6331,null,null,"Duo Discus alle 700kg","MH","Není v databázi"]
["Alessandro Giaiotti",null,null,"CVNE Enemonzo",null,"Alpe Adria Cup 2023 - 113",{"$f":"VLOOKUP(F817,Soutez!A:B,2,FALSE)","v":"AT"},{"$f":"VLOOKUP(F817,Soutez!A:C,3,FALSE)","v":2023},4,3476,0.755,7843,5921,null,null,"Ventus2 c b 15m","D","Není v databázi"]
["Wojciech Domanski",null,null,"KSS/Aeroklub Nowy Targ",null,"Alpe Adria Cup 2023 - 113",{"$f":"VLOOKUP(F818,Soutez!A:B,2,FALSE)","v":"AT"},{"$f":"VLOOKUP(F818,Soutez!A:C,3,FALSE)","v":2023},5,3286,0.755,7360,5557,null,null,"ventus 2a","PE","Není v databázi"]
["Stefanie Brockelt",null,null,"SFG Werdenfels",null,"Alpe Adria Cup 2023 - 113",{"$f":"VLOOKUP(F819,Soutez!A:B,2,FALSE)","v":"AT"},{"$f":"VLOOKUP(F819,Soutez!A:C,3,FALSE)","v":2023},6,3259,0.755,7131,5384,null,null,"ASW-24 WL","AX","Není v databázi"]
["Ute Baranowski",null,null,"AFZ Unterwössen",null,"Alpe Adria Cup 2023 - 113",{"$f":"VLOOKUP(F820,Soutez!A:B,2,FALSE)","v":"AT"},{"$f":"VLOOKUP(F820,Soutez!A:C,3,FALSE)","v":2023},7,3250,0.755,6929,5231,null,null,"Ventus2a(x)","IB","Není v databázi"]
["Kavalic & Salehar",null,null,null,null,"Alpe Adria Cup 2023 - 113",{"$f":"VLOOKUP(F821,Soutez!A:B,2,FALSE)","v":"AT"},{"$f":"VLOOKUP(F821,Soutez!A:C,3,FALSE)","v":2023},8,3247,0.755,6737,5086,null,null,"DuoDiscus FES","LF","Není v databázi"]
["Florian Forcher",null,null,"Österreich",null,"Alpe Adria Cup 2023 - 113",{"$f":"VLOOKUP(F822,Soutez!A:B,2,FALSE)","v":"AT"},{"$f":"VLOOKUP(F822,Soutez!A:C,3,FALSE)","v":2023},9,3154,0.755,6405,4836,null,null,"DG 300 WL","N1","Není v databázi"]
["Herwig Wagner",null,null,"Steirische Flugsportunion",null,"Alpe Adria Cup 2023 - 113",{"$f":"VLOOKUP(F823,Soutez!A:B,2,FALSE)","v":"AT"},{"$f":"VLOOKUP(F823,Soutez!A:C,3,FALSE)","v":2023},10,2982,0.755,5950,4492,null,null,"SZD55","KE","Není v databázi"]
["Philipp Wittwer",null,null,"Österreich",null,"Alpe Adria Cup 2023 - 113",{"$f":"VLOOKUP(F824,Soutez!A:B,2,FALSE)","v":"AT"},{"$f":"VLOOKUP(F824,Soutez!A:C,3,FALSE)","v":2023},11,2630,0.755,5215,3937,null,null,"LS8 15m","ZL","Není v databázi"]
["Klaus Porod",null,null,"Österreich",null,"Alpe Adria Cup 2023 - 113",{"$f":"VLOOKUP(F825,Soutez!A:B,2,FALSE)","v":"AT"},{"$f":"VLOOKUP(F825,Soutez!A:C,3,FALSE)","v":2023},12,2436,0.755,4726,3568,null,null,"Discus2c 18m","PSI","Není v databázi"]
["Ladislav Jozsa",{"$f":"VLOOKUP(A826,Pilot,2,0)","v":1981},{"$f":"VLOOKUP(A826,Pilot,5,0)","v":"M"},{"$f":"VLOOKUP(A826,Pilot,3,0)","v":"Medlánky"},{"$f":"VLOOKUP(A826,Pilot,4,0)","v":"CZ/M"},"Alpe Adria Cup 2023 - 113",{"$f":"VLOOKUP(F826,Soutez!A:B,2,FALSE)","v":"AT"},{"$f":"VLOOKUP(F826,Soutez!A:C,3,FALSE)","v":2023},13,2315,0.755,4350,3284,"x",null,"VentusC 15m","LJ",""]
["Tomasz Królik",null,null,"Nasz Aeroklub",null,"Alpe Adria Cup 2023 - 113",{"$f":"VLOOKUP(F827,Soutez!A:B,2,FALSE)","v":"AT"},{"$f":"VLOOKUP(F827,Soutez!A:C,3,FALSE)","v":2023},14,2276,0.755,4102,{"$f":"ROUND(K827*L827,0)","v":3097},null,null,"Ventus a","TT","Není v databázi"]
["Gösta Worf",null,null,"LSR Aalen",null,"Alpe Adria Cup 2023 - 113",{"$f":"VLOOKUP(F828,Soutez!A:B,2,FALSE)","v":"AT"},{"$f":"VLOOKUP(F828,Soutez!A:C,3,FALSE)","v":2023},15,1472,0.755,2664,2011,null,null,"Ventus cM","GW","Není v databázi"]
["Pawel Witkowski",null,null,"Aeroklub Nowy Targ",null,"Alpe Adria Cup 2023 - 113",{"$f":"VLOOKUP(F829,Soutez!A:B,2,FALSE)","v":"AT"},{"$f":"VLOOKUP(F829,Soutez!A:C,3,FALSE)","v":2023},16,1168,0.755,2004,1513,null,null,"LS-4","VIT","Není v databázi"]
["Maciej Walasek",null,null,"Aeroklub Krakowski",null,"Alpe Adria Cup 2023 - 113",{"$f":"VLOOKUP(F830,Soutez!A:B,2,FALSE)","v":"AT"},{"$f":"VLOOKUP(F830,Soutez!A:C,3,FALSE)","v":2023},17,991,0.755,1541,1163,null,null,"LS6 15m","KK","Není v databázi"]
["Wolfgang Janowitsch",null,null,"FRA-Wr.Neustadt",null,"Alpe Adria Cup 2023 - Kombi Open",{"$f":"VLOOKUP(F831,Soutez!A:B,2,FALSE)","v":"AT"},{"$f":"VLOOKUP(F831,Soutez!A:C,3,FALSE)","v":2023},1,3792,0.755,{"$f":"ROUND(J831/MAX($J$831:$J$854)*10000*0.7+(MAX($I$831:$I$854)-I831)/(MAX($I$831:$I$854)-1)*10000*0.3,0)","v":10000},{"$f":"ROUND(K831*L831,0)","v":7550},null,null,"Ventus3 18m Sport","WO","Není v databázi"]
["Heimo Demmerer",null,null,"SFC Mariazell",null,"Alpe Adria Cup 2023 - Kombi Open",{"$f":"VLOOKUP(F832,Soutez!A:B,2,FALSE)","v":"AT"},{"$f":"VLOOKUP(F832,Soutez!A:C,3,FALSE)","v":2023},2,3564,0.755,9449,{"$f":"ROUND(K832*L832,0)","v":7134},null,null,"Ventus 3M","OD","Není v databázi"]
["Michael Rass",null,null,"St. Johann in Tirol",null,"Alpe Adria Cup 2023 - Kombi Open",{"$f":"VLOOKUP(F833,Soutez!A:B,2,FALSE)","v":"AT"},{"$f":"VLOOKUP(F833,Soutez!A:C,3,FALSE)","v":2023},3,3467,0.755,9139,6900,null,null,"AS33ES","MR","Není v databázi"]
["Thomas Wolf",null,null,"SFZ Königsdorf",null,"Alpe Adria Cup 2023 - Kombi Open",{"$f":"VLOOKUP(F834,Soutez!A:B,2,FALSE)","v":"AT"},{"$f":"VLOOKUP(F834,Soutez!A:C,3,FALSE)","v":2023},4,3387,0.755,8861,6690,null,null,"Ventus 3 M","2T","Není v databázi"]
["Sven Kolb",null,null,"VS",null,"Alpe Adria Cup 2023 - Kombi Open",{"$f":"VLOOKUP(F835,Soutez!A:B,2,FALSE)","v":"AT"},{"$f":"VLOOKUP(F835,Soutez!A:C,3,FALSE)","v":2023},5,3345,0.755,8653,6533,null,null,"Antares LF20e","ZF","Není v databázi"]
["Pirker & Pirker",null,null,"FAS-Wien",null,"Alpe Adria Cup 2023 - Kombi Open",{"$f":"VLOOKUP(F836,Soutez!A:B,2,FALSE)","v":"AT"},{"$f":"VLOOKUP(F836,Soutez!A:C,3,FALSE)","v":2023},6,3293,0.755,8427,6362,null,null,"Arcus M","PV","Není v databázi"]
["Guido Achleitner",null,null,"FC St. Johann in Tirol",null,"Alpe Adria Cup 2023 - Kombi Open",{"$f":"VLOOKUP(F837,Soutez!A:B,2,FALSE)","v":"AT"},{"$f":"VLOOKUP(F837,Soutez!A:C,3,FALSE)","v":2023},7,3233,0.755,8185,6180,null,null,"ASG 32 Mi","GA","Není v databázi"]
["Bernhard Leitner",null,null,"ISV",null,"Alpe Adria Cup 2023 - Kombi Open",{"$f":"VLOOKUP(F838,Soutez!A:B,2,FALSE)","v":"AT"},{"$f":"VLOOKUP(F838,Soutez!A:C,3,FALSE)","v":2023},8,3214,0.755,8020,6055,null,null,"AS33","BL","Není v databázi"]
["Thomas Hynek",null,null,"ASKÖ Flugschule Wien",null,"Alpe Adria Cup 2023 - Kombi Open",{"$f":"VLOOKUP(F839,Soutez!A:B,2,FALSE)","v":"AT"},{"$f":"VLOOKUP(F839,Soutez!A:C,3,FALSE)","v":2023},9,3025,0.755,7541,5693,null,null,"Ventus 2cm","CC","Není v databázi"]
["Luka ZnidarSic",null,null,"Slovenia",null,"Alpe Adria Cup 2023 - Kombi Open",{"$f":"VLOOKUP(F840,Soutez!A:B,2,FALSE)","v":"AT"},{"$f":"VLOOKUP(F840,Soutez!A:C,3,FALSE)","v":2023},10,2949,0.755,7270,5489,null,null,"Ventus 3 FES","LZ","Není v databázi"]
["Werner Amann",null,null,"SFG Hohenems",null,"Alpe Adria Cup 2023 - Kombi Open",{"$f":"VLOOKUP(F841,Soutez!A:B,2,FALSE)","v":"AT"},{"$f":"VLOOKUP(F841,Soutez!A:C,3,FALSE)","v":2023},11,2911,0.755,7069,5337,null,null,"AS33 18m","WG","Není v databázi"]
["Christoph Limpert",null,null,"Rhönflug Gersfeld",null,"Alpe Adria Cup 2023 - Kombi Open",{"$f":"VLOOKUP(F842,Soutez!A:B,2,FALSE)","v":"AT"},{"$f":"VLOOKUP(F842,Soutez!A:C,3,FALSE)","v":2023},12,2690,0.755,6531,4931,null,null,"AS33Es","CO","Není v databázi"]
["Reinhard Haggenmuller",null,null,"Österreich",null,"Alpe Adria Cup 2023 - Kombi Open",{"$f":"VLOOKUP(F843,Soutez!A:B,2,FALSE)","v":"AT"},{"$f":"VLOOKUP(F843,Soutez!A:C,3,FALSE)","v":2023},13,2559,0.755,6159,{"$f":"ROUND(K843*L843,0)","v":4650},null,null,"ASG-29e","RR","Není v databázi"]
["Matthias Hölzl",null,null,"Deutschland",null,"Alpe Adria Cup 2023 - Kombi Open",{"$f":"VLOOKUP(F844,Soutez!A:B,2,FALSE)","v":"AT"},{"$f":"VLOOKUP(F844,Soutez!A:C,3,FALSE)","v":2023},14,2468,0.755,5860,4424,null,null,"ASG 29E","HNO","Není v databázi"]
["Thomas Kruger",null,null,"Deutschland",null,"Alpe Adria Cup 2023 - Kombi Open",{"$f":"VLOOKUP(F845,Soutez!A:B,2,FALSE)","v":"AT"},{"$f":"VLOOKUP(F845,Soutez!A:C,3,FALSE)","v":2023},15,2298,0.755,5416,4089,null,null,"EB29","TK","Není v databázi"]
["Michael Wolff",null,null,"ÖAC Direktmitglied",null,"Alpe Adria Cup 2023 - Kombi Open",{"$f":"VLOOKUP(F846,Soutez!A:B,2,FALSE)","v":"AT"},{"$f":"VLOOKUP(F846,Soutez!A:C,3,FALSE)","v":2023},16,1820,0.755,4403,3324,null,null,"Ventus 3M","RU","Není v databázi"]
["Krobath & Sram",null,null,"FRA Wr. Neustadt",null,"Alpe Adria Cup 2023 - Kombi Open",{"$f":"VLOOKUP(F847,Soutez!A:B,2,FALSE)","v":"AT"},{"$f":"VLOOKUP(F847,Soutez!A:C,3,FALSE)","v":2023},17,1527,0.755,3732,2818,null,null,"TwinShark","Q","Není v databázi"]
["Volker Polhaus",null,null,"FSVOR",null,"Alpe Adria Cup 2023 - Kombi Open",{"$f":"VLOOKUP(F848,Soutez!A:B,2,FALSE)","v":"AT"},{"$f":"VLOOKUP(F848,Soutez!A:C,3,FALSE)","v":2023},18,1475,0.755,3505,2646,null,null,"ASH26E","BV","Není v databázi"]
["Erich Niedl",null,null,"SFC Tulln",null,"Alpe Adria Cup 2023 - Kombi Open",{"$f":"VLOOKUP(F849,Soutez!A:B,2,FALSE)","v":"AT"},{"$f":"VLOOKUP(F849,Soutez!A:C,3,FALSE)","v":2023},19,997,0.755,2493,1882,null,null,"Ventus 2cxT","CX","Není v databázi"]
["Radim Hahn",{"$f":"VLOOKUP(A850,Pilot,2,0)","v":1972},{"$f":"VLOOKUP(A850,Pilot,5,0)","v":"M"},{"$f":"VLOOKUP(A850,Pilot,3,0)","v":"Zábřeh"},{"$f":"VLOOKUP(A850,Pilot,4,0)","v":"CZ/M"},"Alpe Adria Cup 2023 - Kombi Open",{"$f":"VLOOKUP(F850,Soutez!A:B,2,FALSE)","v":"AT"},{"$f":"VLOOKUP(F850,Soutez!A:C,3,FALSE)","v":2023},20,954,0.755,2283,1724,"x",null,"Ventus 3","I3",""]
["Franz Salomon",null,null,"KSV Kapfenberg",null,"Alpe Adria Cup 2023 - Kombi Open",{"$f":"VLOOKUP(F851,Soutez!A:B,2,FALSE)","v":"AT"},{"$f":"VLOOKUP(F851,Soutez!A:C,3,FALSE)","v":2023},21,933,0.755,2114,1596,null,null,"Ventus M","SB","Není v databázi"]
["Joachim Hirt",null,null,"LSB Donaueschingen",null,"Alpe Adria Cup 2023 - Kombi Open",{"$f":"VLOOKUP(F852,Soutez!A:B,2,FALSE)","v":"AT"},{"$f":"VLOOKUP(F852,Soutez!A:C,3,FALSE)","v":2023},22,902,0.755,1926,1454,null,null,"JS3 15m","LG","Není v databázi"]
["Rene Schönmann",null,null,"SGBF",null,"Alpe Adria Cup 2023 - Kombi Open",{"$f":"VLOOKUP(F853,Soutez!A:B,2,FALSE)","v":"AT"},{"$f":"VLOOKUP(F853,Soutez!A:C,3,FALSE)","v":2023},23,898,0.755,1788,1350,null,null,"JS1EVO 18m","EVO",{"$f":"IF(ISERROR(VLOOKUP(A853,Pilot,6,0)),\"Není v databázi\",VLOOKUP(A853,Pilot,6,0))","v":"Není v databázi"}]
["Josef Strobl",null,null,"FC St. Johann",null,"Alpe Adria Cup 2023 - Kombi Open",{"$f":"VLOOKUP(F854,Soutez!A:B,2,FALSE)","v":"AT"},{"$f":"VLOOKUP(F854,Soutez!A:C,3,FALSE)","v":2023},24,710,0.755,1311,990,null,null,"Ventus 2cT","BS","Není v databázi"]
["Martin Picka",{"$f":"VLOOKUP(A855,Pilot,2,0)","v":1974},{"$f":"VLOOKUP(A855,Pilot,5,0)","v":"M"},{"$f":"VLOOKUP(A855,Pilot,3,0)","v":"Tábor"},{"$f":"VLOOKUP(A855,Pilot,4,0)","v":"CZ/C1"},"Podbrdský pohár 2024 - Kombi",{"$f":"VLOOKUP(F855,Soutez!A:B,2,FALSE)","v":"CZ"},{"$f":"VLOOKUP(F855,Soutez!A:C,3,FALSE)","v":2024},1,1278,0.73,{"$f":"ROUND(J855/MAX($J$855:$J$866)*10000*0.7+(MAX($I$855:$I$866)-I855)/(MAX($I$855:$I$866)-1)*10000*0.3,0)","v":10000},7300,"x",null,"JS3 RES 18m","NS",{"$f":"IF(ISERROR(VLOOKUP(A855,Pilot,6,0)),\"Není v databázi\",VLOOKUP(A855,Pilot,6,0))","v":""}]
["Petr Setka",1971,"M","Letkov","CZ/C1","Podbrdský pohár 2024 - Kombi",{"$f":"VLOOKUP(F856,Soutez!A:B,2,FALSE)","v":"CZ"},{"$f":"VLOOKUP(F856,Soutez!A:C,3,FALSE)","v":2024},2,1011,0.73,8238,6014,"x",null,"Ventus 2 cm 18m 565kg (voda)","RS",""]
["Matej Plch",{"$f":"VLOOKUP(A857,Pilot,2,0)","v":1987},{"$f":"VLOOKUP(A857,Pilot,5,0)","v":"M"},{"$f":"VLOOKUP(A857,Pilot,3,0)","v":"Letkov"},{"$f":"VLOOKUP(A857,Pilot,4,0)","v":"CZ/C1"},"Podbrdský pohár 2024 - Kombi",{"$f":"VLOOKUP(F857,Soutez!A:B,2,FALSE)","v":"CZ"},{"$f":"VLOOKUP(F857,Soutez!A:C,3,FALSE)","v":2024},3,994,0.73,7844,5726,"x",null,"LS 8/18m","EJ",""]
["Daniel Novak",1971,"M","Letkov","CZ/C1","Podbrdský pohár 2024 - Kombi",{"$f":"VLOOKUP(F858,Soutez!A:B,2,FALSE)","v":"CZ"},{"$f":"VLOOKUP(F858,Soutez!A:C,3,FALSE)","v":2024},4,976,0.73,7446,5436,"x",null,"DuoDiscus,T 700 kg (voda)","DL",""]
["Petr Bartak",1984,"M","Letkov","CZ/C1","Podbrdský pohár 2024 - Kombi",{"$f":"VLOOKUP(F859,Soutez!A:B,2,FALSE)","v":"CZ"},{"$f":"VLOOKUP(F859,Soutez!A:C,3,FALSE)","v":2024},5,676,0.73,5503,4017,null,null,"JS3 RES 18m","BS",""]
["Miroslav Koci",1961,"M","Žamberk","CZ/C2","Podbrdský pohár 2024 - Kombi",{"$f":"VLOOKUP(F860,Soutez!A:B,2,FALSE)","v":"CZ"},{"$f":"VLOOKUP(F860,Soutez!A:C,3,FALSE)","v":2024},6,644,0.73,5027,3670,null,null,"Ventus 2cxm 18m 565kg (voda)","E8",""]
["Petr Jiranek 63",1962,"M","Toužim","CZ/C1","Podbrdský pohár 2024 - Kombi",{"$f":"VLOOKUP(F861,Soutez!A:B,2,FALSE)","v":"CZ"},{"$f":"VLOOKUP(F861,Soutez!A:C,3,FALSE)","v":2024},7,580,0.73,4377,3195,null,null,"HPH 304M Shark 560kg 18m (voda)","LK",""]
["Lubomir Svoboda",{"$f":"VLOOKUP(A862,Pilot,2,0)","v":1959},{"$f":"VLOOKUP(A862,Pilot,5,0)","v":"M"},{"$f":"VLOOKUP(A862,Pilot,3,0)","v":"Letkov"},{"$f":"VLOOKUP(A862,Pilot,4,0)","v":"CZ/C1"},"Podbrdský pohár 2024 - Kombi",{"$f":"VLOOKUP(F862,Soutez!A:B,2,FALSE)","v":"CZ"},{"$f":"VLOOKUP(F862,Soutez!A:C,3,FALSE)","v":2024},8,405,0.73,3118,2276,"x",null,"LAK 19 T 18m","LT",""]
["Vratislav Sram",1966,"M","Broumov","CZ/C2","Podbrdský pohár 2024 - Kombi",{"$f":"VLOOKUP(F863,Soutez!A:B,2,FALSE)","v":"CZ"},{"$f":"VLOOKUP(F863,Soutez!A:C,3,FALSE)","v":2024},9,341,{"$f":"VLOOKUP(F863,Soutez,12,0)","v":0.73},2468,1802,null,null,"Nimbus 4DM",7,""]
["Petr Sindelar 80",{"$f":"VLOOKUP(A864,Pilot,2,0)","v":1980},{"$f":"VLOOKUP(A864,Pilot,5,0)","v":"M"},{"$f":"VLOOKUP(A864,Pilot,3,0)","v":"Letkov"},{"$f":"VLOOKUP(A864,Pilot,4,0)","v":"CZ/C1"},"Podbrdský pohár 2024 - Kombi",{"$f":"VLOOKUP(F864,Soutez!A:B,2,FALSE)","v":"CZ"},{"$f":"VLOOKUP(F864,Soutez!A:C,3,FALSE)","v":2024},10,156,0.73,1154,842,"x",null,"DG-800S 18m+W (voda)","9j",""]
["Roman Lanzendorf",1964,"M","Letkov","CZ/C1","Podbrdský pohár 2024 - Kombi",{"$f":"VLOOKUP(F865,Soutez!A:B,2,FALSE)","v":"CZ"},{"$f":"VLOOKUP(F865,Soutez!A:C,3,FALSE)","v":2024},11,0,0.73,0,0,null,null,"Ventus ct 17,6m (voda)","AW",""]
["Vaclav Svoboda",1970,"M","Letkov","CZ/C1","Podbrdský pohár 2024 - Kombi",{"$f":"VLOOKUP(F866,Soutez!A:B,2,FALSE)","v":"CZ"},{"$f":"VLOOKUP(F866,Soutez!A:C,3,FALSE)","v":2024},11,0,0.73,0,0,null,null,"LS 8/18m",301,""]
["Rene Hudak",{"$f":"VLOOKUP(A867,Pilot,2,0)","v":1972},{"$f":"VLOOKUP(A867,Pilot,5,0)","v":"M"},{"$f":"VLOOKUP(A867,Pilot,3,0)","v":"Kunovice"},{"$f":"VLOOKUP(A867,Pilot,4,0)","v":"CZ/M"},"JPJ 2024 - Klub",{"$f":"VLOOKUP(F867,Soutez!A:B,2,FALSE)","v":"CZ"},{"$f":"VLOOKUP(F867,Soutez!A:C,3,FALSE)","v":2024},1,3186,0.9,{"$f":"ROUND(J867/MAX($J$867:$J$898)*10000*0.7+(MAX($I$867:$I$898)-I867)/(MAX($I$867:$I$898)-1)*10000*0.3,0)","v":10000},9000,"x",null,"Std. Cirrus","NK",""]
["Jindrich Svorc",1978,"M","Letňany","CZ/C1","JPJ 2024 - Klub",{"$f":"VLOOKUP(F868,Soutez!A:B,2,FALSE)","v":"CZ"},{"$f":"VLOOKUP(F868,Soutez!A:C,3,FALSE)","v":2024},2,3124,0.9,9767,8790,null,null,"Discus bt WL","OI",""]
["Jan Mareth",1979,"M","Frýdlant","CZ/M","JPJ 2024 - Klub",{"$f":"VLOOKUP(F869,Soutez!A:B,2,FALSE)","v":"CZ"},{"$f":"VLOOKUP(F869,Soutez!A:C,3,FALSE)","v":2024},3,3110,0.9,9639,8675,"x",null,"ASW-15B","PA",""]
["Pavel Rericha",1967,"M","Moravská Třebová","CZ/M","JPJ 2024 - Klub",{"$f":"VLOOKUP(F870,Soutez!A:B,2,FALSE)","v":"CZ"},{"$f":"VLOOKUP(F870,Soutez!A:C,3,FALSE)","v":2024},4,3106,0.9,9534,8581,"x",null,"ASW-19B","NO",""]
["Josef Novak",1981,"M","Kunovice","CZ/M","JPJ 2024 - Klub",{"$f":"VLOOKUP(F871,Soutez!A:B,2,FALSE)","v":"CZ"},{"$f":"VLOOKUP(F871,Soutez!A:C,3,FALSE)","v":2024},5,3100,0.9,9424,8482,"x",null,"LS-1f","JT",""]
["Petr Kolomaznik",1981,"M","Šumperk","CZ/M","JPJ 2024 - Klub",{"$f":"VLOOKUP(F872,Soutez!A:B,2,FALSE)","v":"CZ"},{"$f":"VLOOKUP(F872,Soutez!A:C,3,FALSE)","v":2024},6,3071,0.9,9263,8337,"x",null,"Discus CS WL","VE",""]
["Jaroslav Buryan",1953,"M","Zábřeh","CZ/M","JPJ 2024 - Klub",{"$f":"VLOOKUP(F873,Soutez!A:B,2,FALSE)","v":"CZ"},{"$f":"VLOOKUP(F873,Soutez!A:C,3,FALSE)","v":2024},7,2862,0.9,8707,7836,"x",null,"ASW-20 (A)+L+F 15mL","NS",""]
["Martin Hejny",1984,"M","Šumperk","CZ/M","JPJ 2024 - Klub",{"$f":"VLOOKUP(F874,Soutez!A:B,2,FALSE)","v":"CZ"},{"$f":"VLOOKUP(F874,Soutez!A:C,3,FALSE)","v":2024},8,2802,0.9,8479,7631,"x",null,"ASW-19B","B8",""]
["Martin Svarc",1981,"M","Olomouc","CZ/M","JPJ 2024 - Klub",{"$f":"VLOOKUP(F875,Soutez!A:B,2,FALSE)","v":"CZ"},{"$f":"VLOOKUP(F875,Soutez!A:C,3,FALSE)","v":2024},9,2778,{"$f":"VLOOKUP(F875,Soutez,12,0)","v":0.9},8329,7496,"x",null,"DG-101 G","HE",""]
["Karel Horalek",1976,"M","Olomouc","CZ/M","JPJ 2024 - Klub",{"$f":"VLOOKUP(F876,Soutez!A:B,2,FALSE)","v":"CZ"},{"$f":"VLOOKUP(F876,Soutez!A:C,3,FALSE)","v":2024},10,2725,0.9,8116,7304,"x",null,"LS-3 15m","Y1",""]
["Stepan Obrovsky",1990,"M","Frýdlant","CZ/M","JPJ 2024 - Klub",{"$f":"VLOOKUP(F877,Soutez!A:B,2,FALSE)","v":"CZ"},{"$f":"VLOOKUP(F877,Soutez!A:C,3,FALSE)","v":2024},11,2700,0.9,7964,7168,"x",null,"DG-400 15m","RD",""]
["Jan Vozeh",1995,"M","Rakovník","CZ/C1","JPJ 2024 - Klub",{"$f":"VLOOKUP(F878,Soutez!A:B,2,FALSE)","v":"CZ"},{"$f":"VLOOKUP(F878,Soutez!A:C,3,FALSE)","v":2024},12,2684,0.9,7833,7050,"x",null,"LS-7","LZ",""]
["Michaela Krizova",2001,"F","Přibyslav","CZ/C2","JPJ 2024 - Klub",{"$f":"VLOOKUP(F879,Soutez!A:B,2,FALSE)","v":"CZ"},{"$f":"VLOOKUP(F879,Soutez!A:C,3,FALSE)","v":2024},13,2578,0.9,7503,6753,null,null,"LS-4","6L","Junior v roce 2026"]
["Radim Tomala",1972,"M","Prostějov","CZ/M","JPJ 2024 - Klub",{"$f":"VLOOKUP(F880,Soutez!A:B,2,FALSE)","v":"CZ"},{"$f":"VLOOKUP(F880,Soutez!A:C,3,FALSE)","v":2024},14,2531,0.9,7303,6573,"x",null,"Std. Cirrus","RT",""]
["Martin Kriz",1968,"M","Přibyslav","CZ/C2","JPJ 2024 - Klub",{"$f":"VLOOKUP(F881,Soutez!A:B,2,FALSE)","v":"CZ"},{"$f":"VLOOKUP(F881,Soutez!A:C,3,FALSE)","v":2024},15,2529,0.9,7202,6482,"x",null,"ASW-20 15m",67,""]
["Jan Podhrazsky",1976,"M","Šumperk","CZ/M","JPJ 2024 - Klub",{"$f":"VLOOKUP(F882,Soutez!A:B,2,FALSE)","v":"CZ"},{"$f":"VLOOKUP(F882,Soutez!A:C,3,FALSE)","v":2024},16,2526,0.9,7098,6388,"x",null,"Discus b","SJ",""]
["Vojtech Novotny",1992,"M","Kralupy","CZ/C1","JPJ 2024 - Klub",{"$f":"VLOOKUP(F883,Soutez!A:B,2,FALSE)","v":"CZ"},{"$f":"VLOOKUP(F883,Soutez!A:C,3,FALSE)","v":2024},17,2445,0.9,6824,{"$f":"ROUND(K883*L883,0)","v":6142},"x",null,"LS-1f","EF",""]
["Petr Masik",2001,"M","Zábřeh","CZ/M","JPJ 2024 - Klub",{"$f":"VLOOKUP(F884,Soutez!A:B,2,FALSE)","v":"CZ"},{"$f":"VLOOKUP(F884,Soutez!A:C,3,FALSE)","v":2024},18,2385,0.9,6595,5936,null,null,"Std. Cirrus","MJ","Junior v roce 2026"]
["Jakub Kohn",{"$f":"VLOOKUP(A885,Pilot,2,0)","v":1992},{"$f":"VLOOKUP(A885,Pilot,5,0)","v":"M"},{"$f":"VLOOKUP(A885,Pilot,3,0)","v":"Prostějov"},{"$f":"VLOOKUP(A885,Pilot,4,0)","v":"CZ/M"},"JPJ 2024 - Klub",{"$f":"VLOOKUP(F885,Soutez!A:B,2,FALSE)","v":"CZ"},{"$f":"VLOOKUP(F885,Soutez!A:C,3,FALSE)","v":2024},19,2314,{"$f":"VLOOKUP(F885,Soutez,12,0)","v":0.9},6342,5708,"x",null,"ASW-15B","FK",""]
["Martin Ficnar",1971,"M","Šumperk","CZ/M","JPJ 2024 - Klub",{"$f":"VLOOKUP(F886,Soutez!A:B,2,FALSE)","v":"CZ"},{"$f":"VLOOKUP(F886,Soutez!A:C,3,FALSE)","v":2024},20,2279,0.9,6169,5552,null,null,"LS-3a 15m","S20",""]
["Martin Urner",1974,"M","Letňany","CZ/C1","JPJ 2024 - Klub",{"$f":"VLOOKUP(F887,Soutez!A:B,2,FALSE)","v":"CZ"},{"$f":"VLOOKUP(F887,Soutez!A:C,3,FALSE)","v":2024},21,2217,0.9,5936,5342,null,null,"ASW-15B","JJ",""]
["Roman Schotli",1970,"M","Hranice","CZ/M","JPJ 2024 - Klub",{"$f":"VLOOKUP(F888,Soutez!A:B,2,FALSE)","v":"CZ"},{"$f":"VLOOKUP(F888,Soutez!A:C,3,FALSE)","v":2024},22,2062,0.9,5498,4948,"x",null,"ASW-19B",19,""]
["Jaromir Vlk",1959,"M","Šumperk","CZ/M","JPJ 2024 - Klub",{"$f":"VLOOKUP(F889,Soutez!A:B,2,FALSE)","v":"CZ"},{"$f":"VLOOKUP(F889,Soutez!A:C,3,FALSE)","v":2024},23,1914,0.9,5076,4568,"x",null,"ASW-15B","R5",""]
["Petr Havrlant",1965,"M","Šumperk","CZ/M","JPJ 2024 - Klub",{"$f":"VLOOKUP(F890,Soutez!A:B,2,FALSE)","v":"CZ"},{"$f":"VLOOKUP(F890,Soutez!A:C,3,FALSE)","v":2024},24,1846,0.9,4830,4347,"x",null,"ASW-15B","Q1",""]
["Petr Omelka",1970,"M","Vyškov","CZ/M","JPJ 2024 - Klub",{"$f":"VLOOKUP(F891,Soutez!A:B,2,FALSE)","v":"CZ"},{"$f":"VLOOKUP(F891,Soutez!A:C,3,FALSE)","v":2024},25,1363,0.9,3672,3305,"x",null,"DG-400 15m","MR",""]
["Jakub Safar",1990,"M","Olomouc","CZ/M","JPJ 2024 - Klub",{"$f":"VLOOKUP(F892,Soutez!A:B,2,FALSE)","v":"CZ"},{"$f":"VLOOKUP(F892,Soutez!A:C,3,FALSE)","v":2024},26,1237,0.9,3298,2968,"x",null,"G-102 Astir cs","AX",""]
["Jan Sobotka",{"$f":"VLOOKUP(A893,Pilot,2,0)","v":1973},{"$f":"VLOOKUP(A893,Pilot,5,0)","v":"M"},{"$f":"VLOOKUP(A893,Pilot,3,0)","v":"Vyškov"},{"$f":"VLOOKUP(A893,Pilot,4,0)","v":"CZ/M"},"JPJ 2024 - Klub",{"$f":"VLOOKUP(F893,Soutez!A:B,2,FALSE)","v":"CZ"},{"$f":"VLOOKUP(F893,Soutez!A:C,3,FALSE)","v":2024},27,1131,0.9,2969,{"$f":"ROUND(K893*L893,0)","v":2672},"x",null,"LS-1f","DP",""]
["Michal Linhart",1982,"M","Vyškov","CZ/M","JPJ 2024 - Klub",{"$f":"VLOOKUP(F894,Soutez!A:B,2,FALSE)","v":"CZ"},{"$f":"VLOOKUP(F894,Soutez!A:C,3,FALSE)","v":2024},28,1019,0.9,2626,2363,"x",null,"G-102 Astir 77","AS",""]
["Petr Lonsky",1965,"M","Toužim","CZ/C1","JPJ 2024 - Klub",{"$f":"VLOOKUP(F895,Soutez!A:B,2,FALSE)","v":"CZ"},{"$f":"VLOOKUP(F895,Soutez!A:C,3,FALSE)","v":2024},28,1019,0.9,2626,2363,null,null,"Std. Cirrus","YU",""]
["Josef Hlusek",1993,"M","Kunovice","CZ/M","JPJ 2024 - Klub",{"$f":"VLOOKUP(F896,Soutez!A:B,2,FALSE)","v":"CZ"},{"$f":"VLOOKUP(F896,Soutez!A:C,3,FALSE)","v":2024},30,984,0.9,2356,2120,"x",null,"Std. Cirrus","WO",""]
["Yvona Vyhnankova",1963,"F","Olomouc","CZ/M","JPJ 2024 - Klub",{"$f":"VLOOKUP(F897,Soutez!A:B,2,FALSE)","v":"CZ"},{"$f":"VLOOKUP(F897,Soutez!A:C,3,FALSE)","v":2024},31,917,0.9,2112,1901,"x","x","ASW-15","YZ",""]
["David Kraus",1990,"M","Olomouc","CZ/M","JPJ 2024 - Klub",{"$f":"VLOOKUP(F898,Soutez!A:B,2,FALSE)","v":"CZ"},{"$f":"VLOOKUP(F898,Soutez!A:C,3,FALSE)","v":2024},32,788,0.9,1731,1558,"x",null,"G-102 Astir cs","AL",""]
["Jan Kotan",{"$f":"VLOOKUP(A899,Pilot,2,0)","v":1982},{"$f":"VLOOKUP(A899,Pilot,5,0)","v":"M"},{"$f":"VLOOKUP(A899,Pilot,3,0)","v":"Letňany"},{"$f":"VLOOKUP(A899,Pilot,4,0)","v":"CZ/C1"},"JPJ 2024 - Kombi",{"$f":"VLOOKUP(F899,Soutez!A:B,2,FALSE)","v":"CZ"},{"$f":"VLOOKUP(F899,Soutez!A:C,3,FALSE)","v":2024},1,3644,0.92500000000000004,{"$f":"ROUND(J899/MAX($J$899:$J$922)*10000*0.7+(MAX($I$899:$I$922)-I899)/(MAX($I$899:$I$922)-1)*10000*0.3,0)","v":10000},9250,"x",null,"AS 33 Es 18m","CAT",""]
["Lukas Kriz",2003,"M","Křižanov","CZ/M","JPJ 2024 - Kombi",{"$f":"VLOOKUP(F900,Soutez!A:B,2,FALSE)","v":"CZ"},{"$f":"VLOOKUP(F900,Soutez!A:C,3,FALSE)","v":2024},2,3568,0.92500000000000004,{"$f":"ROUND(J900/MAX($J$899:$J$922)*10000*0.7+(MAX($I$899:$I$922)-I900)/(MAX($I$899:$I$922)-1)*10000*0.3,0)","v":9724},8995,null,null,"LS-8b 18m","FX","Junior v roce 2026"]
["Petr Koutny",1971,"M","Křižanov","CZ/M","JPJ 2024 - Kombi",{"$f":"VLOOKUP(F901,Soutez!A:B,2,FALSE)","v":"CZ"},{"$f":"VLOOKUP(F901,Soutez!A:C,3,FALSE)","v":2024},3,3535,0.92500000000000004,9530,8815,"x",null,"LS-8-18 18m",18,""]
["Marek Blatak",1969,"M","Šumperk","CZ/M","JPJ 2024 - Kombi",{"$f":"VLOOKUP(F902,Soutez!A:B,2,FALSE)","v":"CZ"},{"$f":"VLOOKUP(F902,Soutez!A:C,3,FALSE)","v":2024},4,3495,0.92500000000000004,9322,8623,"x",null,"Duo Discus T 700kg","ZS",""]
["Radek Hybl",1980,"M","Šumperk","CZ/M","JPJ 2024 - Kombi",{"$f":"VLOOKUP(F903,Soutez!A:B,2,FALSE)","v":"CZ"},{"$f":"VLOOKUP(F903,Soutez!A:C,3,FALSE)","v":2024},5,3379,0.92500000000000004,8969,8296,"x",null,"Ventus cm 17.6m","IHH",""]
["Jan Simon",1970,"M","Kralupy","CZ/C1","JPJ 2024 - Kombi",{"$f":"VLOOKUP(F904,Soutez!A:B,2,FALSE)","v":"CZ"},{"$f":"VLOOKUP(F904,Soutez!A:C,3,FALSE)","v":2024},6,3296,0.92500000000000004,8679,8028,"x",null,"Ventus ct 17.6m","KR",""]
["Jan Dersak 69",1969,"M","Kralupy","CZ/C1","JPJ 2024 - Kombi",{"$f":"VLOOKUP(F905,Soutez!A:B,2,FALSE)","v":"CZ"},{"$f":"VLOOKUP(F905,Soutez!A:C,3,FALSE)","v":2024},7,2973,0.92500000000000004,7928,7333,"x",null,"HpH 304MS SHARK 18m 600kg","DJ",""]
["Jiri Steiger",{"$f":"VLOOKUP(A906,Pilot,2,0)","v":1969},{"$f":"VLOOKUP(A906,Pilot,5,0)","v":"M"},{"$f":"VLOOKUP(A906,Pilot,3,0)","v":"Olomouc"},{"$f":"VLOOKUP(A906,Pilot,4,0)","v":"CZ/M"},"JPJ 2024 - Kombi",{"$f":"VLOOKUP(F906,Soutez!A:B,2,FALSE)","v":"CZ"},{"$f":"VLOOKUP(F906,Soutez!A:C,3,FALSE)","v":2024},8,2908,0.92500000000000004,7673,7098,"x",null,"Ventus 3M 18m","JS",""]
["Michal Cechmanek",1978,"M","Kroměříž","CZ/M","JPJ 2024 - Kombi",{"$f":"VLOOKUP(F907,Soutez!A:B,2,FALSE)","v":"CZ"},{"$f":"VLOOKUP(F907,Soutez!A:C,3,FALSE)","v":2024},9,2734,0.92500000000000004,7208,6667,null,null,"Nimbus 4DM","AM",""]
["Jan Kohout",1970,"M","Žamberk","CZ/C2","JPJ 2024 - Kombi",{"$f":"VLOOKUP(F908,Soutez!A:B,2,FALSE)","v":"CZ"},{"$f":"VLOOKUP(F908,Soutez!A:C,3,FALSE)","v":2024},10,2634,0.92500000000000004,6886,6370,"x",null,"JS1-C 18m EVO","SK",""]
["Frantisek Vancura",1966,"M","Hranice","CZ/M","JPJ 2024 - Kombi",{"$f":"VLOOKUP(F909,Soutez!A:B,2,FALSE)","v":"CZ"},{"$f":"VLOOKUP(F909,Soutez!A:C,3,FALSE)","v":2024},11,2573,0.92500000000000004,6638,6140,null,null,"Nimbus 3T 24.5m WL 750kg","A1",""]
["Tomas Prikryl",1973,"M","Vyškov","CZ/M","JPJ 2024 - Kombi",{"$f":"VLOOKUP(F910,Soutez!A:B,2,FALSE)","v":"CZ"},{"$f":"VLOOKUP(F910,Soutez!A:C,3,FALSE)","v":2024},12,2539,0.92500000000000004,6443,5960,"x",null,"Ventus 2cm 18m 525kg","FN",""]
["Jiri Koudela",1974,"M","Vyškov","CZ/M","JPJ 2024 - Kombi",{"$f":"VLOOKUP(F911,Soutez!A:B,2,FALSE)","v":"CZ"},{"$f":"VLOOKUP(F911,Soutez!A:C,3,FALSE)","v":2024},13,2200,0.92500000000000004,5661,5236,null,null,"Ventus cm 17.6m","JK",""]
["Miroslav Koci",1961,"M","Žamberk","CZ/C2","JPJ 2024 - Kombi",{"$f":"VLOOKUP(F912,Soutez!A:B,2,FALSE)","v":"CZ"},{"$f":"VLOOKUP(F912,Soutez!A:C,3,FALSE)","v":2024},14,2132,0.92500000000000004,5400,4995,"x",null,"Ventus 2cxm 18m 565kg","E8",""]
["Miroslav Sklenar",1964,"M","Žamberk","CZ/C2","JPJ 2024 - Kombi",{"$f":"VLOOKUP(F913,Soutez!A:B,2,FALSE)","v":"CZ"},{"$f":"VLOOKUP(F913,Soutez!A:C,3,FALSE)","v":2024},15,1925,0.92500000000000004,4872,4507,"x",null,"Duo Discus 700kg","VP",""]
["Jan Florian",1992,"M","Zbraslavice","CZ/C1","JPJ 2024 - Kombi",{"$f":"VLOOKUP(F914,Soutez!A:B,2,FALSE)","v":"CZ"},{"$f":"VLOOKUP(F914,Soutez!A:C,3,FALSE)","v":2024},16,1893,0.92500000000000004,4680,4329,null,null,"Ventus c 17.6m","LS",""]
["Vit Grossmann",1977,"M","Hranice","CZ/M","JPJ 2024 - Kombi",{"$f":"VLOOKUP(F915,Soutez!A:B,2,FALSE)","v":"CZ"},{"$f":"VLOOKUP(F915,Soutez!A:C,3,FALSE)","v":2024},17,1890,0.92500000000000004,4544,4203,"x",null,"Duo Discus 700kg","OK",""]
["Pavel Haluza",1966,"M","Prostějov","CZ/M","JPJ 2024 - Kombi",{"$f":"VLOOKUP(F916,Soutez!A:B,2,FALSE)","v":"CZ"},{"$f":"VLOOKUP(F916,Soutez!A:C,3,FALSE)","v":2024},18,1743,0.92500000000000004,4131,3821,"x",null,"Nimbus 2b","HT",""]
["Zdenek Schenk",1972,"M","Hranice","CZ/M","JPJ 2024 - Kombi",{"$f":"VLOOKUP(F917,Soutez!A:B,2,FALSE)","v":"CZ"},{"$f":"VLOOKUP(F917,Soutez!A:C,3,FALSE)","v":2024},19,1724,0.92500000000000004,3964,3667,null,null,"ASG-29E 18m","ŠNeK",{"$f":"IF(ISERROR(VLOOKUP(A917,Pilot,6,0)),\"Není v databázi\",VLOOKUP(A917,Pilot,6,0))","v":""}]
["Antonin Kutalek",1943,"M","Zábřeh","CZ/M","JPJ 2024 - Kombi",{"$f":"VLOOKUP(F918,Soutez!A:B,2,FALSE)","v":"CZ"},{"$f":"VLOOKUP(F918,Soutez!A:C,3,FALSE)","v":2024},20,1672,0.92500000000000004,3734,3454,null,null,"LAK-17AT 18m","GLk",""]
["Roman Cerny",{"$f":"VLOOKUP(A919,Pilot,2,0)","v":1971},{"$f":"VLOOKUP(A919,Pilot,5,0)","v":"M"},{"$f":"VLOOKUP(A919,Pilot,3,0)","v":"Hranice"},{"$f":"VLOOKUP(A919,Pilot,4,0)","v":"CZ/M"},"JPJ 2024 - Kombi",{"$f":"VLOOKUP(F919,Soutez!A:B,2,FALSE)","v":"CZ"},{"$f":"VLOOKUP(F919,Soutez!A:C,3,FALSE)","v":2024},21,1631,0.92500000000000004,3524,3260,"x",null,"Nimbus 3 25.5m 700kg","RF",""]
["Lukas Petrzela",1987,"M","Olomouc","CZ/M","JPJ 2024 - Kombi",{"$f":"VLOOKUP(F920,Soutez!A:B,2,FALSE)","v":"CZ"},{"$f":"VLOOKUP(F920,Soutez!A:C,3,FALSE)","v":2024},22,1513,0.92500000000000004,3167,2929,"x",null,"Nimbus 2b","MT",""]
["Beat Albrecht",1953,"M","Šumperk","CZ/M","JPJ 2024 - Kombi",{"$f":"VLOOKUP(F921,Soutez!A:B,2,FALSE)","v":"CZ"},{"$f":"VLOOKUP(F921,Soutez!A:C,3,FALSE)","v":2024},23,1406,0.92500000000000004,2831,2619,"x",null,"LS-8-18 18m","GL",""]
["Kamil Sohr",1973,"M","Šumperk","CZ/M","JPJ 2024 - Kombi",{"$f":"VLOOKUP(F922,Soutez!A:B,2,FALSE)","v":"CZ"},{"$f":"VLOOKUP(F922,Soutez!A:C,3,FALSE)","v":2024},24,1320,0.92500000000000004,2536,2346,"x",null,"Ventus c 17.6m","W",""]
["Michal Lesinger",{"$f":"VLOOKUP(A923,Pilot,2,0)","v":1966},{"$f":"VLOOKUP(A923,Pilot,5,0)","v":"M"},{"$f":"VLOOKUP(A923,Pilot,3,0)","v":"Moravská Třebová"},{"$f":"VLOOKUP(A923,Pilot,4,0)","v":"CZ/M"},"AZ Cup 2024 - Klub",{"$f":"VLOOKUP(F923,Soutez!A:B,2,FALSE)","v":"CZ"},{"$f":"VLOOKUP(F923,Soutez!A:C,3,FALSE)","v":2024},1,1889,0.92,{"$f":"ROUND(J923/MAX($J$923:$J$950)*10000*0.7+(MAX($I$923:$I$950)-I923)/(MAX($I$923:$I$950)-1)*10000*0.3,0)","v":10000},9200,null,null,"ASW 20","LL",""]
["Jaroslav Tomana",1975,"M","Zbraslavice","CZ/C1","AZ Cup 2024 - Klub",{"$f":"VLOOKUP(F924,Soutez!A:B,2,FALSE)","v":"CZ"},{"$f":"VLOOKUP(F924,Soutez!A:C,3,FALSE)","v":2024},2,1872,0.92,{"$f":"ROUND(J924/MAX($J$923:$J$950)*10000*0.7+(MAX($I$923:$I$950)-I924)/(MAX($I$923:$I$950)-1)*10000*0.3,0)","v":9826},9040,null,null,"ASW 20","A3",""]
["Pavel Trybenekr",1990,"M","Hořice","CZ/C2","AZ Cup 2024 - Klub",{"$f":"VLOOKUP(F925,Soutez!A:B,2,FALSE)","v":"CZ"},{"$f":"VLOOKUP(F925,Soutez!A:C,3,FALSE)","v":2024},3,1751,0.92,9266,8525,null,null,"LS 4","PF",""]
["Ivan Harasta 65",1965,"M","Toužim","CZ/C1","AZ Cup 2024 - Klub",{"$f":"VLOOKUP(F926,Soutez!A:B,2,FALSE)","v":"CZ"},{"$f":"VLOOKUP(F926,Soutez!A:C,3,FALSE)","v":2024},4,1665,0.92,8837,8130,null,null,"LS 4b","IX",""]
["Martin Sabla",null,null,"Spišská Nová Ves","SK","AZ Cup 2024 - Klub",{"$f":"VLOOKUP(F927,Soutez!A:B,2,FALSE)","v":"CZ"},{"$f":"VLOOKUP(F927,Soutez!A:C,3,FALSE)","v":2024},5,1628,0.92,8588,7901,null,null,"ASW 20","IKW","Není v databázi"]
["David Darnady",null,"M","SGC Martin","SK","AZ Cup 2024 - Klub",{"$f":"VLOOKUP(F928,Soutez!A:B,2,FALSE)","v":"CZ"},{"$f":"VLOOKUP(F928,Soutez!A:C,3,FALSE)","v":2024},6,1570,0.92,8262,7601,null,null,"ASW 20",311,"Není v databázi"]
["Tomas Suchanek",{"$f":"VLOOKUP(A929,Pilot,2,0)","v":1964},{"$f":"VLOOKUP(A929,Pilot,5,0)","v":"M"},{"$f":"VLOOKUP(A929,Pilot,3,0)","v":"GAC Benešov"},{"$f":"VLOOKUP(A929,Pilot,4,0)","v":"CZ/C1"},"AZ Cup 2024 - Klub",{"$f":"VLOOKUP(F929,Soutez!A:B,2,FALSE)","v":"CZ"},{"$f":"VLOOKUP(F929,Soutez!A:C,3,FALSE)","v":2024},7,1567,0.92,8140,7489,null,null,"ASW 20","CX",""]
["Petr Havelka",1997,"M","Zbraslavice","CZ/C1","AZ Cup 2024 - Klub",{"$f":"VLOOKUP(F930,Soutez!A:B,2,FALSE)","v":"CZ"},{"$f":"VLOOKUP(F930,Soutez!A:C,3,FALSE)","v":2024},8,1442,0.92,7566,6961,"x",null,"ASW 19","PH",""]
["Martin Urban",1971,"M","Frýdlant","CZ/M","AZ Cup 2024 - Klub",{"$f":"VLOOKUP(F931,Soutez!A:B,2,FALSE)","v":"CZ"},{"$f":"VLOOKUP(F931,Soutez!A:C,3,FALSE)","v":2024},9,1439,0.92,7444,6848,"x",null,"LS 3a","SJ",""]
["Frantisek Komarek",1985,"M","Zbraslavice","CZ/C1","AZ Cup 2024 - Klub",{"$f":"VLOOKUP(F932,Soutez!A:B,2,FALSE)","v":"CZ"},{"$f":"VLOOKUP(F932,Soutez!A:C,3,FALSE)","v":2024},10,1410,0.92,7225,6647,"x",null,"ASW 19","PM",""]
["Amelie Boulanger",null,null,"Grenoble","FR","AZ Cup 2024 - Klub",{"$f":"VLOOKUP(F933,Soutez!A:B,2,FALSE)","v":"CZ"},{"$f":"VLOOKUP(F933,Soutez!A:C,3,FALSE)","v":2024},11,1352,0.92,6899,6347,null,null,"ASW 24",69,"Není v databázi"]
["Viktor Becan",null,null,"ALC Lesce","SLO","AZ Cup 2024 - Klub",{"$f":"VLOOKUP(F934,Soutez!A:B,2,FALSE)","v":"CZ"},{"$f":"VLOOKUP(F934,Soutez!A:C,3,FALSE)","v":2024},12,1207,0.92,6251,5751,null,null,"ASW 20 WL","CP","Není v databázi"]
["Petr MaSik",{"$f":"VLOOKUP(A935,Pilot,2,0)","v":2001},{"$f":"VLOOKUP(A935,Pilot,5,0)","v":"M"},{"$f":"VLOOKUP(A935,Pilot,3,0)","v":"Zábřeh"},{"$f":"VLOOKUP(A935,Pilot,4,0)","v":"CZ/M"},"AZ Cup 2024 - Klub",{"$f":"VLOOKUP(F935,Soutez!A:B,2,FALSE)","v":"CZ"},{"$f":"VLOOKUP(F935,Soutez!A:C,3,FALSE)","v":2024},13,1121,0.92,5821,5355,null,null,"ASW 19b",34,"Junior v roce 2026"]
["Adam Sugl",1987,"M","Vyškov","CZ/M","AZ Cup 2024 - Klub",{"$f":"VLOOKUP(F936,Soutez!A:B,2,FALSE)","v":"CZ"},{"$f":"VLOOKUP(F936,Soutez!A:C,3,FALSE)","v":2024},14,1108,0.92,5661,5208,null,null,"Cirrus std.","GT",""]
["Tibor Fratrik",null,null,"SGC Martin","SK","AZ Cup 2024 - Klub",{"$f":"VLOOKUP(F937,Soutez!A:B,2,FALSE)","v":"CZ"},{"$f":"VLOOKUP(F937,Soutez!A:C,3,FALSE)","v":2024},15,1080,{"$f":"VLOOKUP(F937,Soutez,12,0)","v":0.92},5447,5011,null,null,"ASW 20","VG","Není v databázi"]
["Louis Janzam",null,null,"Grenoble Vol à Voile",null,"AZ Cup 2024 - Klub",{"$f":"VLOOKUP(F938,Soutez!A:B,2,FALSE)","v":"CZ"},{"$f":"VLOOKUP(F938,Soutez!A:C,3,FALSE)","v":2024},16,1010,0.92,5076,4670,null,null,"Glasflugel 304","IMW","Není v databázi"]
["Christina Solberg Hansen",null,null,"Aarhus Svæveflyveklub","SE","AZ Cup 2024 - Klub",{"$f":"VLOOKUP(F939,Soutez!A:B,2,FALSE)","v":"CZ"},{"$f":"VLOOKUP(F939,Soutez!A:C,3,FALSE)","v":2024},17,981,0.92,4857,4468,null,null,"LS 1f","SH","Není v databázi"]
["Louise Rodriguez",null,null,"Bailleau","FR","AZ Cup 2024 - Klub",{"$f":"VLOOKUP(F940,Soutez!A:B,2,FALSE)","v":"CZ"},{"$f":"VLOOKUP(F940,Soutez!A:C,3,FALSE)","v":2024},18,979,0.92,4739,4360,null,null,"Discus cs WL",24,"Není v databázi"]
["Jiri Fousek",{"$f":"VLOOKUP(A941,Pilot,2,0)","v":1990},{"$f":"VLOOKUP(A941,Pilot,5,0)","v":"M"},{"$f":"VLOOKUP(A941,Pilot,3,0)","v":"Raná"},{"$f":"VLOOKUP(A941,Pilot,4,0)","v":"CZ/C2"},"AZ Cup 2024 - Klub",{"$f":"VLOOKUP(F941,Soutez!A:B,2,FALSE)","v":"CZ"},{"$f":"VLOOKUP(F941,Soutez!A:C,3,FALSE)","v":2024},19,973,0.92,4606,4238,null,null,"Cirrus std.","LW",""]
["Alex Gulich",2005,"M","Slaný","CZ/C1","AZ Cup 2024 - Klub",{"$f":"VLOOKUP(F942,Soutez!A:B,2,FALSE)","v":"CZ"},{"$f":"VLOOKUP(F942,Soutez!A:C,3,FALSE)","v":2024},20,779,0.92,3776,3474,null,null,"Cirrus std.","TI","Junior v roce 2026"]
["Jiri Hodan",{"$f":"VLOOKUP(A943,Pilot,2,0)","v":1959},{"$f":"VLOOKUP(A943,Pilot,5,0)","v":"M"},{"$f":"VLOOKUP(A943,Pilot,3,0)","v":"Zbraslavice"},{"$f":"VLOOKUP(A943,Pilot,4,0)","v":"CZ/C1"},"AZ Cup 2024 - Klub",{"$f":"VLOOKUP(F943,Soutez!A:B,2,FALSE)","v":"CZ"},{"$f":"VLOOKUP(F943,Soutez!A:C,3,FALSE)","v":2024},21,752,0.92,3564,3279,"x",null,"G 103 TwinAstir","RB",""]
["Frantisek Pycha",{"$f":"VLOOKUP(A944,Pilot,2,0)","v":1972},{"$f":"VLOOKUP(A944,Pilot,5,0)","v":"M"},{"$f":"VLOOKUP(A944,Pilot,3,0)","v":"Chrudim"},{"$f":"VLOOKUP(A944,Pilot,4,0)","v":"CZ/C2"},"AZ Cup 2024 - Klub",{"$f":"VLOOKUP(F944,Soutez!A:B,2,FALSE)","v":"CZ"},{"$f":"VLOOKUP(F944,Soutez!A:C,3,FALSE)","v":2024},22,738,0.92,{"$f":"ROUND(J944/MAX($J$923:$J$950)*10000*0.7+(MAX($I$923:$I$950)-I944)/(MAX($I$923:$I$950)-1)*10000*0.3,0)","v":3401},3129,"x",null,"Cirrus std.WL","JE",""]
["Jan Kristof",1962,"M","Frýdlant","CZ/M","AZ Cup 2024 - Klub",{"$f":"VLOOKUP(F945,Soutez!A:B,2,FALSE)","v":"CZ"},{"$f":"VLOOKUP(F945,Soutez!A:C,3,FALSE)","v":2024},23,583,0.92,2716,2499,"x",null,"LS 3","TX",""]
["Premysl Muzik",1990,"M","Tábor","CZ/C1","AZ Cup 2024 - Klub",{"$f":"VLOOKUP(F946,Soutez!A:B,2,FALSE)","v":"CZ"},{"$f":"VLOOKUP(F946,Soutez!A:C,3,FALSE)","v":2024},24,536,0.92,2431,2237,null,null,"Cirrus std.","IMI",""]
["Ales Nestrojil",{"$f":"VLOOKUP(A947,Pilot,2,0)","v":1980},{"$f":"VLOOKUP(A947,Pilot,5,0)","v":"M"},{"$f":"VLOOKUP(A947,Pilot,3,0)","v":"Medlánky"},{"$f":"VLOOKUP(A947,Pilot,4,0)","v":"CZ/M"},"AZ Cup 2024 - Klub",{"$f":"VLOOKUP(F947,Soutez!A:B,2,FALSE)","v":"CZ"},{"$f":"VLOOKUP(F947,Soutez!A:C,3,FALSE)","v":2024},25,508,0.92,2216,2039,"x",null,"ASW 15","K2",""]
["Jan Mrozek",{"$f":"VLOOKUP(A948,Pilot,2,0)","v":1982},{"$f":"VLOOKUP(A948,Pilot,5,0)","v":"M"},{"$f":"VLOOKUP(A948,Pilot,3,0)","v":"Frýdlant"},{"$f":"VLOOKUP(A948,Pilot,4,0)","v":"CZ/M"},"AZ Cup 2024 - Klub",{"$f":"VLOOKUP(F948,Soutez!A:B,2,FALSE)","v":"CZ"},{"$f":"VLOOKUP(F948,Soutez!A:C,3,FALSE)","v":2024},26,242,0.92,1119,1029,"x",null,"Cirrus std.","E",""]
["Petr Brezina",1963,"M","Frýdlant","CZ/M","AZ Cup 2024 - Klub",{"$f":"VLOOKUP(F949,Soutez!A:B,2,FALSE)","v":"CZ"},{"$f":"VLOOKUP(F949,Soutez!A:C,3,FALSE)","v":2024},27,72,0.92,378,348,null,null,"DG 200 15m","AK",""]
["Vaclav Sehnal",1962,"M","Kolín","CZ/C1","AZ Cup 2024 - Klub",{"$f":"VLOOKUP(F950,Soutez!A:B,2,FALSE)","v":"CZ"},{"$f":"VLOOKUP(F950,Soutez!A:C,3,FALSE)","v":2024},28,0,0.92,0,0,null,null,"Jantar std. 2 WL","VS",""]
["Henrik Bieler",null,null,"Aeroclub Landau","DE","AZ Cup 2024 - Kombi 15m",{"$f":"VLOOKUP(F951,Soutez!A:B,2,FALSE)","v":"CZ"},{"$f":"VLOOKUP(F951,Soutez!A:C,3,FALSE)","v":2024},1,1682,0.92500000000000004,{"$f":"ROUND(J951/MAX($J$951:$J$965)*10000*0.7+(MAX($I$951:$I$965)-I951)/(MAX($I$951:$I$965)-1)*10000*0.3,0)","v":10000},9250,null,null,"Ventus 2b","1G","Není v databázi"]
["Julien Duboc",null,null,"TGV Condom","FR","AZ Cup 2024 - Kombi 15m",{"$f":"VLOOKUP(F952,Soutez!A:B,2,FALSE)","v":"CZ"},{"$f":"VLOOKUP(F952,Soutez!A:C,3,FALSE)","v":2024},2,1575,0.92500000000000004,{"$f":"ROUND(J952/MAX($J$951:$J$965)*10000*0.7+(MAX($I$951:$I$965)-I952)/(MAX($I$951:$I$965)-1)*10000*0.3,0)","v":9340},8640,null,null,"Discus 2a","JPA","Není v databázi"]
["Aude Untersee",null,null,"Planeurs d'Ille-et-Vilaine","FR","AZ Cup 2024 - Kombi 15m",{"$f":"VLOOKUP(F953,Soutez!A:B,2,FALSE)","v":"CZ"},{"$f":"VLOOKUP(F953,Soutez!A:C,3,FALSE)","v":2024},3,1469,0.92500000000000004,8685,8034,null,null,"Discus 2a","ET","Není v databázi"]
["Karel Novak",{"$f":"VLOOKUP(A954,Pilot,2,0)","v":1993},{"$f":"VLOOKUP(A954,Pilot,5,0)","v":"M"},{"$f":"VLOOKUP(A954,Pilot,3,0)","v":"Mladá Boleslav"},{"$f":"VLOOKUP(A954,Pilot,4,0)","v":"CZ/C1"},"AZ Cup 2024 - Kombi 15m",{"$f":"VLOOKUP(F954,Soutez!A:B,2,FALSE)","v":"CZ"},{"$f":"VLOOKUP(F954,Soutez!A:C,3,FALSE)","v":2024},4,1359,0.92500000000000004,8013,{"$f":"ROUND(K954*L954,0)","v":7412},null,null,"Ventus 2a","AX",""]
["Melanie Gadoulet",null,null,"P2B - Ploërmel","FR","AZ Cup 2024 - Kombi 15m",{"$f":"VLOOKUP(F955,Soutez!A:B,2,FALSE)","v":"CZ"},{"$f":"VLOOKUP(F955,Soutez!A:C,3,FALSE)","v":2024},5,1213,0.92500000000000004,7191,6652,null,null,"LS 6a 15m",56,"Není v databázi"]
["Dana Novakova",{"$f":"VLOOKUP(A956,Pilot,2,0)","v":1965},{"$f":"VLOOKUP(A956,Pilot,5,0)","v":"F"},{"$f":"VLOOKUP(A956,Pilot,3,0)","v":"Mladá Boleslav"},{"$f":"VLOOKUP(A956,Pilot,4,0)","v":"CZ/C1"},"AZ Cup 2024 - Kombi 15m",{"$f":"VLOOKUP(F956,Soutez!A:B,2,FALSE)","v":"CZ"},{"$f":"VLOOKUP(F956,Soutez!A:C,3,FALSE)","v":2024},6,1070,0.92500000000000004,6382,5903,null,null,"LS 8 15m","AU",""]
["Jana Treslova",1963,"F","Raná","CZ/C2","AZ Cup 2024 - Kombi 15m",{"$f":"VLOOKUP(F957,Soutez!A:B,2,FALSE)","v":"CZ"},{"$f":"VLOOKUP(F957,Soutez!A:C,3,FALSE)","v":2024},7,1053,0.92500000000000004,6097,5640,null,null,"LS 8 15m","W8",""]
["Zdenek Boruvka 54",1954,"M","Jičín","CZ/C2","AZ Cup 2024 - Kombi 15m",{"$f":"VLOOKUP(F958,Soutez!A:B,2,FALSE)","v":"CZ"},{"$f":"VLOOKUP(F958,Soutez!A:C,3,FALSE)","v":2024},8,1041,0.92500000000000004,5832,5395,null,null,"LS 8 15m","ZB",""]
["Jan Horak",{"$f":"VLOOKUP(A959,Pilot,2,0)","v":1971},{"$f":"VLOOKUP(A959,Pilot,5,0)","v":"M"},{"$f":"VLOOKUP(A959,Pilot,3,0)","v":"Zbraslavice"},{"$f":"VLOOKUP(A959,Pilot,4,0)","v":"CZ/C1"},"AZ Cup 2024 - Kombi 15m",{"$f":"VLOOKUP(F959,Soutez!A:B,2,FALSE)","v":"CZ"},{"$f":"VLOOKUP(F959,Soutez!A:C,3,FALSE)","v":2024},9,963,0.92500000000000004,5293,4896,null,null,"ASW 20 WL","WX",""]
["Vladimir Foltin",null,null,"Nitra","SK","AZ Cup 2024 - Kombi 15m",{"$f":"VLOOKUP(F960,Soutez!A:B,2,FALSE)","v":"CZ"},{"$f":"VLOOKUP(F960,Soutez!A:C,3,FALSE)","v":2024},10,842,0.92500000000000004,{"$f":"ROUND(J960/MAX($J$951:$J$965)*10000*0.7+(MAX($I$951:$I$965)-I960)/(MAX($I$951:$I$965)-1)*10000*0.3,0)","v":4576},4233,null,null,"JS3 15m",3,"Není v databázi"]
["Edmund Schuller",null,null,"SGC Martin","SK","AZ Cup 2024 - Kombi 15m",{"$f":"VLOOKUP(F961,Soutez!A:B,2,FALSE)","v":"CZ"},{"$f":"VLOOKUP(F961,Soutez!A:C,3,FALSE)","v":2024},11,762,0.92500000000000004,4028,3726,null,null,"Discus 2b","DI","Není v databázi"]
["Jan Smekal",{"$f":"VLOOKUP(A962,Pilot,2,0)","v":1976},{"$f":"VLOOKUP(A962,Pilot,5,0)","v":"M"},{"$f":"VLOOKUP(A962,Pilot,3,0)","v":"Zbraslavice"},{"$f":"VLOOKUP(A962,Pilot,4,0)","v":"CZ/C1"},"AZ Cup 2024 - Kombi 15m",{"$f":"VLOOKUP(F962,Soutez!A:B,2,FALSE)","v":"CZ"},{"$f":"VLOOKUP(F962,Soutez!A:C,3,FALSE)","v":2024},12,714,0.92500000000000004,3614,3343,null,null,"ASW 20 WL","NW",""]
["Radek Zima 78",1978,"M","Hodkovice","CZ/C2","AZ Cup 2024 - Kombi 15m",{"$f":"VLOOKUP(F963,Soutez!A:B,2,FALSE)","v":"CZ"},{"$f":"VLOOKUP(F963,Soutez!A:C,3,FALSE)","v":2024},13,539,0.92500000000000004,2672,2472,null,null,"DG-500 22m","YA",""]
["Barbora Moravcova",1994,"F","Zbraslavice","CZ/C1","AZ Cup 2024 - Kombi 15m",{"$f":"VLOOKUP(F964,Soutez!A:B,2,FALSE)","v":"CZ"},{"$f":"VLOOKUP(F964,Soutez!A:C,3,FALSE)","v":2024},14,252,0.92500000000000004,1263,1168,null,null,"LS 8 15m","EU",""]
["Pavel Svrcek",1972,"M","Frýdlant","CZ/M","AZ Cup 2024 - Kombi 15m",{"$f":"VLOOKUP(F965,Soutez!A:B,2,FALSE)","v":"CZ"},{"$f":"VLOOKUP(F965,Soutez!A:C,3,FALSE)","v":2024},15,155,0.92500000000000004,645,597,"x",null,"DG-400","PS",""]
["David Mach",{"$f":"VLOOKUP(A966,Pilot,2,0)","v":1994},{"$f":"VLOOKUP(A966,Pilot,5,0)","v":"M"},{"$f":"VLOOKUP(A966,Pilot,3,0)","v":"Hronov"},{"$f":"VLOOKUP(A966,Pilot,4,0)","v":"CZ/C2"},"AZ Cup 2024 - Kombi Open",{"$f":"VLOOKUP(F966,Soutez!A:B,2,FALSE)","v":"CZ"},{"$f":"VLOOKUP(F966,Soutez!A:C,3,FALSE)","v":2024},1,1324,0,{"$f":"ROUND(J966/MAX($J$966:$J$1004)*10000*0.7+(MAX($I$966:$I$1004)-I966)/(MAX($I$966:$I$1004)-1)*10000*0.3,0)","v":10000},0,null,null,"JS3 18m","ZE",""]
["Jan Kantor",1983,"M","Letňany","CZ/C1","AZ Cup 2024 - Kombi Open",{"$f":"VLOOKUP(F967,Soutez!A:B,2,FALSE)","v":"CZ"},{"$f":"VLOOKUP(F967,Soutez!A:C,3,FALSE)","v":2024},2,1204,0,{"$f":"ROUND(J967/MAX($J$966:$J$1004)*10000*0.7+(MAX($I$966:$I$1004)-I967)/(MAX($I$966:$I$1004)-1)*10000*0.3,0)","v":9287},0,null,null,"ASG 29E","QX",""]
["Petr Tichy",1973,"M","Zbraslavice","CZ/C1","AZ Cup 2024 - Kombi Open",{"$f":"VLOOKUP(F968,Soutez!A:B,2,FALSE)","v":"CZ"},{"$f":"VLOOKUP(F968,Soutez!A:C,3,FALSE)","v":2024},3,1175,0,9054,0,null,null,"ASG 29E","NX",""]
["Alena Netusilova",1970,"F","Zbraslavice","CZ/C1","AZ Cup 2024 - Kombi Open",{"$f":"VLOOKUP(F969,Soutez!A:B,2,FALSE)","v":"CZ"},{"$f":"VLOOKUP(F969,Soutez!A:C,3,FALSE)","v":2024},4,1174,0,8970,0,null,null,"JS1 C 18m","JX",""]
["Ondrej Dupal",1966,"M","GAC Benešov","CZ/C1","AZ Cup 2024 - Kombi Open",{"$f":"VLOOKUP(F970,Soutez!A:B,2,FALSE)","v":"CZ"},{"$f":"VLOOKUP(F970,Soutez!A:C,3,FALSE)","v":2024},5,1140,0,8711,0,null,null,"ASG 29E","GO",""]
["Ondrej Bordovsky",1983,"M","Krnov","CZ/M","AZ Cup 2024 - Kombi Open",{"$f":"VLOOKUP(F971,Soutez!A:B,2,FALSE)","v":"CZ"},{"$f":"VLOOKUP(F971,Soutez!A:C,3,FALSE)","v":2024},6,1105,0,8447,0,null,null,"Ventus c 17,6m","AD",""]
["Radek Krejcirik",1991,"M","Hranice","CZ/M","AZ Cup 2024 - Kombi Open",{"$f":"VLOOKUP(F972,Soutez!A:B,2,FALSE)","v":"CZ"},{"$f":"VLOOKUP(F972,Soutez!A:C,3,FALSE)","v":2024},7,1104,0,8363,0,null,null,"JS3 RES 18m","Q1",""]
["Tibor Noga",null,null,"SGC Martin","SK","AZ Cup 2024 - Kombi Open",{"$f":"VLOOKUP(F973,Soutez!A:B,2,FALSE)","v":"CZ"},{"$f":"VLOOKUP(F973,Soutez!A:C,3,FALSE)","v":2024},8,1103,0,8279,0,null,null,"Ventus 2c","LN","Není v databázi"]
["Jan Boruvka",{"$f":"VLOOKUP(A974,Pilot,2,0)","v":1984},{"$f":"VLOOKUP(A974,Pilot,5,0)","v":"M"},{"$f":"VLOOKUP(A974,Pilot,3,0)","v":"Jičín"},{"$f":"VLOOKUP(A974,Pilot,4,0)","v":"CZ/C2"},"AZ Cup 2024 - Kombi Open",{"$f":"VLOOKUP(F974,Soutez!A:B,2,FALSE)","v":"CZ"},{"$f":"VLOOKUP(F974,Soutez!A:C,3,FALSE)","v":2024},9,1099,0,8179,0,null,null,"Ventus c 17.6m","EG",""]
["Tomas Rendla",1973,"M","Zbraslavice","CZ/C1","AZ Cup 2024 - Kombi Open",{"$f":"VLOOKUP(F975,Soutez!A:B,2,FALSE)","v":"CZ"},{"$f":"VLOOKUP(F975,Soutez!A:C,3,FALSE)","v":2024},10,1095,0,8079,0,null,null,"AS 33 Es","EZ",""]
["Jiri Kusbach",1959,"M","Luhačovice","CZ/M","AZ Cup 2024 - Kombi Open",{"$f":"VLOOKUP(F976,Soutez!A:B,2,FALSE)","v":"CZ"},{"$f":"VLOOKUP(F976,Soutez!A:C,3,FALSE)","v":2024},11,1072,0,7878,0,null,null,"Diana 3 FES","B",""]
["Ivan Novak",1962,"M","Mladá Boleslav","CZ/C1","AZ Cup 2024 - Kombi Open",{"$f":"VLOOKUP(F977,Soutez!A:B,2,FALSE)","v":"CZ"},{"$f":"VLOOKUP(F977,Soutez!A:C,3,FALSE)","v":2024},12,1050,0,7683,0,null,null,"ASG 29E","QZ",""]
["Zdenek Boruvka 86",1986,"M","Jičín","CZ/C2","AZ Cup 2024 - Kombi Open",{"$f":"VLOOKUP(F978,Soutez!A:B,2,FALSE)","v":"CZ"},{"$f":"VLOOKUP(F978,Soutez!A:C,3,FALSE)","v":2024},13,1047,0,7588,0,null,null,"Ventus c 17.6m","VV",{"$f":"IF(ISERROR(VLOOKUP(A978,Pilot,6,0)),\"Není v databázi\",VLOOKUP(A978,Pilot,6,0))","v":""}]
["Miguel Schwan",null,null,null,null,"AZ Cup 2024 - Kombi Open",{"$f":"VLOOKUP(F979,Soutez!A:B,2,FALSE)","v":"CZ"},{"$f":"VLOOKUP(F979,Soutez!A:C,3,FALSE)","v":2024},14,1035,0,7446,0,null,null,"Ventus 3m",14,"Není v databázi"]
["Milan Lojdl",null,null,"SGC Martin","SK","AZ Cup 2024 - Kombi Open",{"$f":"VLOOKUP(F980,Soutez!A:B,2,FALSE)","v":"CZ"},{"$f":"VLOOKUP(F980,Soutez!A:C,3,FALSE)","v":2024},15,1032,0,7351,0,null,null,"Ventuc 2cxt","MJ1","Není v databázi"]
["Petr Krejcirik",{"$f":"VLOOKUP(A981,Pilot,2,0)","v":1960},{"$f":"VLOOKUP(A981,Pilot,5,0)","v":"M"},{"$f":"VLOOKUP(A981,Pilot,3,0)","v":"Hranice"},{"$f":"VLOOKUP(A981,Pilot,4,0)","v":"CZ/M"},"AZ Cup 2024 - Kombi Open",{"$f":"VLOOKUP(F981,Soutez!A:B,2,FALSE)","v":"CZ"},{"$f":"VLOOKUP(F981,Soutez!A:C,3,FALSE)","v":2024},16,1026,0,7240,0,null,null,"AS 33 Es",12,""]
["Jan Kotan",1982,"M","Letňany","CZ/C1","AZ Cup 2024 - Kombi Open",{"$f":"VLOOKUP(F982,Soutez!A:B,2,FALSE)","v":"CZ"},{"$f":"VLOOKUP(F982,Soutez!A:C,3,FALSE)","v":2024},17,989,0,6966,0,null,null,"AS 33 Es","CAT",""]
["Radek Kucirek",1973,"M","Havlíčkův Brod","CZ/C2","AZ Cup 2024 - Kombi Open",{"$f":"VLOOKUP(F983,Soutez!A:B,2,FALSE)","v":"CZ"},{"$f":"VLOOKUP(F983,Soutez!A:C,3,FALSE)","v":2024},18,972,0,6797,0,null,null,"JS1 21m","ZF",""]
["Hana Treslova",1991,"F","Raná","CZ/C2","AZ Cup 2024 - Kombi Open",{"$f":"VLOOKUP(F984,Soutez!A:B,2,FALSE)","v":"CZ"},{"$f":"VLOOKUP(F984,Soutez!A:C,3,FALSE)","v":2024},19,966,0,6686,0,null,null,"JS3 18m","XM",""]
["Petr Malcek",1965,"M","Letňany","CZ/C1","AZ Cup 2024 - Kombi Open",{"$f":"VLOOKUP(F985,Soutez!A:B,2,FALSE)","v":"CZ"},{"$f":"VLOOKUP(F985,Soutez!A:C,3,FALSE)","v":2024},20,956,0,6554,0,null,null,"LS 6c 18W","F5",""]
["Martin Picka",1974,"M","Tábor","CZ/C1","AZ Cup 2024 - Kombi Open",{"$f":"VLOOKUP(F986,Soutez!A:B,2,FALSE)","v":"CZ"},{"$f":"VLOOKUP(F986,Soutez!A:C,3,FALSE)","v":2024},21,934,0,6359,0,null,null,"JS3 RES 18m","NS",""]
["Tomas Hynek",2002,"M","Dvůr Králové","CZ/C2","AZ Cup 2024 - Kombi Open",{"$f":"VLOOKUP(F987,Soutez!A:B,2,FALSE)","v":"CZ"},{"$f":"VLOOKUP(F987,Soutez!A:C,3,FALSE)","v":2024},22,922,0,6217,0,null,null,"Arcus M","FJ","Junior v roce 2026"]
["Milos Srank",null,null,"Nové Zámky","SK","AZ Cup 2024 - Kombi Open",{"$f":"VLOOKUP(F988,Soutez!A:B,2,FALSE)","v":"CZ"},{"$f":"VLOOKUP(F988,Soutez!A:C,3,FALSE)","v":2024},23,902,0,6032,0,null,null,"ASG 29E","LK","Není v databázi"]
["Branislav Jesensky",null,null,"SGC Martin","SK","AZ Cup 2024 - Kombi Open",{"$f":"VLOOKUP(F989,Soutez!A:B,2,FALSE)","v":"CZ"},{"$f":"VLOOKUP(F989,Soutez!A:C,3,FALSE)","v":2024},24,898,0,5932,0,null,null,"JS1 C 21m","J","Není v databázi"]
["Miha Berginc",null,null,"Aeroklub Celje","SL","AZ Cup 2024 - Kombi Open",{"$f":"VLOOKUP(F990,Soutez!A:B,2,FALSE)","v":"CZ"},{"$f":"VLOOKUP(F990,Soutez!A:C,3,FALSE)","v":2024},25,820,0,{"$f":"ROUND(J990/MAX($J$966:$J$1004)*10000*0.7+(MAX($I$966:$I$1004)-I990)/(MAX($I$966:$I$1004)-1)*10000*0.3,0)","v":5441},0,null,null,"ASG 29E","BER","Není v databázi"]
["Michal Posluzny",{"$f":"VLOOKUP(A991,Pilot,2,0)","v":1968},{"$f":"VLOOKUP(A991,Pilot,5,0)","v":"M"},{"$f":"VLOOKUP(A991,Pilot,3,0)","v":"Medlánky"},{"$f":"VLOOKUP(A991,Pilot,4,0)","v":"CZ/M"},"AZ Cup 2024 - Kombi Open",{"$f":"VLOOKUP(F991,Soutez!A:B,2,FALSE)","v":"CZ"},{"$f":"VLOOKUP(F991,Soutez!A:C,3,FALSE)","v":2024},26,803,0,5272,0,null,null,"JS3 18m","QX1",""]
["Petr Starek",1974,"M","Zbraslavice","CZ/C1","AZ Cup 2024 - Kombi Open",{"$f":"VLOOKUP(F992,Soutez!A:B,2,FALSE)","v":"CZ"},{"$f":"VLOOKUP(F992,Soutez!A:C,3,FALSE)","v":2024},27,775,0,5045,0,null,null,"HpH 304 JS",66,""]
["Lubomir Jakubcak",null,null,"SGC Martin","SK","AZ Cup 2024 - Kombi Open",{"$f":"VLOOKUP(F993,Soutez!A:B,2,FALSE)","v":"CZ"},{"$f":"VLOOKUP(F993,Soutez!A:C,3,FALSE)","v":2024},28,721,0,4680,0,null,null,"Arcus M","CAR","Není v databázi"]
["Antonin Kutalek",{"$f":"VLOOKUP(A994,Pilot,2,0)","v":1943},{"$f":"VLOOKUP(A994,Pilot,5,0)","v":"M"},{"$f":"VLOOKUP(A994,Pilot,3,0)","v":"Zábřeh"},{"$f":"VLOOKUP(A994,Pilot,4,0)","v":"CZ/M"},"AZ Cup 2024 - Kombi Open",{"$f":"VLOOKUP(F994,Soutez!A:B,2,FALSE)","v":"CZ"},{"$f":"VLOOKUP(F994,Soutez!A:C,3,FALSE)","v":2024},29,674,0,4353,0,null,null,"LAK 17 AT 18m WL","GL",""]
["Peter Pirc",null,null,"Aeroklub Celje","SL","AZ Cup 2024 - Kombi Open",{"$f":"VLOOKUP(F995,Soutez!A:B,2,FALSE)","v":"CZ"},{"$f":"VLOOKUP(F995,Soutez!A:C,3,FALSE)","v":2024},30,668,0,4242,0,null,null,"HpH 304 ES","PX","Není v databázi"]
["Jan Krobath",null,null,null,"AT","AZ Cup 2024 - Kombi Open",{"$f":"VLOOKUP(F996,Soutez!A:B,2,FALSE)","v":"CZ"},{"$f":"VLOOKUP(F996,Soutez!A:C,3,FALSE)","v":2024},31,622,0,3920,0,null,null,"TwinShark","Q","Není v databázi"]
["Leos Strnadek",{"$f":"VLOOKUP(A997,Pilot,2,0)","v":1983},{"$f":"VLOOKUP(A997,Pilot,5,0)","v":"M"},{"$f":"VLOOKUP(A997,Pilot,3,0)","v":"Hodkovice"},{"$f":"VLOOKUP(A997,Pilot,4,0)","v":"CZ/C2"},"AZ Cup 2024 - Kombi Open",{"$f":"VLOOKUP(F997,Soutez!A:B,2,FALSE)","v":"CZ"},{"$f":"VLOOKUP(F997,Soutez!A:C,3,FALSE)","v":2024},32,598,0,3714,0,null,null,"ASG 29E","XZ",""]
["Jan Dersak 69",1969,"M","Kralupy","CZ/C1","AZ Cup 2024 - Kombi Open",{"$f":"VLOOKUP(F998,Soutez!A:B,2,FALSE)","v":"CZ"},{"$f":"VLOOKUP(F998,Soutez!A:C,3,FALSE)","v":2024},33,590,0,3593,0,null,null,"HpH 304 MS","DJ",""]
["Jan Florian",{"$f":"VLOOKUP(A999,Pilot,2,0)","v":1992},{"$f":"VLOOKUP(A999,Pilot,5,0)","v":"M"},{"$f":"VLOOKUP(A999,Pilot,3,0)","v":"Zbraslavice"},{"$f":"VLOOKUP(A999,Pilot,4,0)","v":"CZ/C1"},"AZ Cup 2024 - Kombi Open",{"$f":"VLOOKUP(F999,Soutez!A:B,2,FALSE)","v":"CZ"},{"$f":"VLOOKUP(F999,Soutez!A:C,3,FALSE)","v":2024},34,484,{"$f":"VLOOKUP(F999,Soutez,12,0)","v":0},2954,0,null,null,"Ventus c 17.6m","LS",""]
["Ivo Burda",1962,"M","Zbraslavice","CZ/C1","AZ Cup 2024 - Kombi Open",{"$f":"VLOOKUP(F1000,Soutez!A:B,2,FALSE)","v":"CZ"},{"$f":"VLOOKUP(F1000,Soutez!A:C,3,FALSE)","v":2024},35,461,0,2753,0,null,null,"Ventus 2cxm 18m","IB",""]
["Danes Grula",1961,"M","Medlánky","CZ/M","AZ Cup 2024 - Kombi Open",{"$f":"VLOOKUP(F1001,Soutez!A:B,2,FALSE)","v":"CZ"},{"$f":"VLOOKUP(F1001,Soutez!A:C,3,FALSE)","v":2024},36,408,0,2394,0,null,null,"ASG 32 Mi","DX",""]
["Jaromir Jedlicka",1972,"M","Letňany","CZ/C1","AZ Cup 2024 - Kombi Open",{"$f":"VLOOKUP(F1002,Soutez!A:B,2,FALSE)","v":"CZ"},{"$f":"VLOOKUP(F1002,Soutez!A:C,3,FALSE)","v":2024},37,343,0,1971,0,null,null,"HpH 304 MS","TJ",""]
["Petra Ctibor",1991,"F","Medlánky","CZ/M","AZ Cup 2024 - Kombi Open",{"$f":"VLOOKUP(F1003,Soutez!A:B,2,FALSE)","v":"CZ"},{"$f":"VLOOKUP(F1003,Soutez!A:C,3,FALSE)","v":2024},38,200,0,1136,0,null,null,"LAK 17 A 18m WL","PB",""]
["Jaroslav Potmesil",1964,"M","Zbraslavice","CZ/C1","AZ Cup 2024 - Kombi Open",{"$f":"VLOOKUP(F1004,Soutez!A:B,2,FALSE)","v":"CZ"},{"$f":"VLOOKUP(F1004,Soutez!A:C,3,FALSE)","v":2024},39,0,0,0,0,null,null,"TwinShark","TS",""]
["Pavel Trybenekr",{"$f":"VLOOKUP(A1005,Pilot,2,0)","v":1990},{"$f":"VLOOKUP(A1005,Pilot,5,0)","v":"M"},{"$f":"VLOOKUP(A1005,Pilot,3,0)","v":"Hořice"},{"$f":"VLOOKUP(A1005,Pilot,4,0)","v":"CZ/C2"},"PMČR 2024 - Klub",{"$f":"VLOOKUP(F1005,Soutez!A:B,2,FALSE)","v":"CZ"},{"$f":"VLOOKUP(F1005,Soutez!A:C,3,FALSE)","v":2024},1,5268,1.06,{"$f":"ROUND(J1005/MAX($J$1005:$J$1031)*10000*0.7+(MAX($I$1005:$I$1031)-I1005)/(MAX($I$1005:$I$1031)-1)*10000*0.3,0)","v":10000},10600,"x",null,"LS4","PF",""]
["Jaroslav Tomana",{"$f":"VLOOKUP(A1006,Pilot,2,0)","v":1975},{"$f":"VLOOKUP(A1006,Pilot,5,0)","v":"M"},{"$f":"VLOOKUP(A1006,Pilot,3,0)","v":"Zbraslavice"},{"$f":"VLOOKUP(A1006,Pilot,4,0)","v":"CZ/C1"},"PMČR 2024 - Klub",{"$f":"VLOOKUP(F1006,Soutez!A:B,2,FALSE)","v":"CZ"},{"$f":"VLOOKUP(F1006,Soutez!A:C,3,FALSE)","v":2024},2,5055,1.06,{"$f":"ROUND(J1006/MAX($J$1005:$J$1031)*10000*0.7+(MAX($I$1005:$I$1031)-I1006)/(MAX($I$1005:$I$1031)-1)*10000*0.3,0)","v":9602},10178,"x",null,"ASW 20","A3",""]
["Ivan Harasta 65",1965,"M","Toužim","CZ/C1","PMČR 2024 - Klub",{"$f":"VLOOKUP(F1007,Soutez!A:B,2,FALSE)","v":"CZ"},{"$f":"VLOOKUP(F1007,Soutez!A:C,3,FALSE)","v":2024},3,4962,1.06,9363,9925,"x",null,"ASW 20L","CP",""]
["George White",null,null,null,"UK","PMČR 2024 - Klub",{"$f":"VLOOKUP(F1008,Soutez!A:B,2,FALSE)","v":"CZ"},{"$f":"VLOOKUP(F1008,Soutez!A:C,3,FALSE)","v":2024},4,4945,1.06,9225,9779,null,null,"ASW 20 L","ENW","Není v databázi"]
["Jiri Stepanek",{"$f":"VLOOKUP(A1009,Pilot,2,0)","v":1956},{"$f":"VLOOKUP(A1009,Pilot,5,0)","v":"M"},{"$f":"VLOOKUP(A1009,Pilot,3,0)","v":"Moravská Třebová"},{"$f":"VLOOKUP(A1009,Pilot,4,0)","v":"CZ/M"},"PMČR 2024 - Klub",{"$f":"VLOOKUP(F1009,Soutez!A:B,2,FALSE)","v":"CZ"},{"$f":"VLOOKUP(F1009,Soutez!A:C,3,FALSE)","v":2024},5,4800,1.06,8917,9452,"x",null,"ASW 15b","LE",""]
["Tereza Koubkova",1999,"F","Strakonice","CZ/C1","PMČR 2024 - Klub",{"$f":"VLOOKUP(F1010,Soutez!A:B,2,FALSE)","v":"CZ"},{"$f":"VLOOKUP(F1010,Soutez!A:C,3,FALSE)","v":2024},6,4627,1.06,8571,9085,"x",null,"LS 4","IX",""]
["Michal Lesinger",1966,"M","Moravská Třebová","CZ/M","PMČR 2024 - Klub",{"$f":"VLOOKUP(F1011,Soutez!A:B,2,FALSE)","v":"CZ"},{"$f":"VLOOKUP(F1011,Soutez!A:C,3,FALSE)","v":2024},7,4626,1.06,8455,8962,null,null,"ASW 20 A","LL",""]
["Nicolas Caudrelier",null,null,null,"FR","PMČR 2024 - Klub",{"$f":"VLOOKUP(F1012,Soutez!A:B,2,FALSE)","v":"CZ"},{"$f":"VLOOKUP(F1012,Soutez!A:C,3,FALSE)","v":2024},8,4566,1.06,8260,8756,null,null,"ASW 20 CL","VL","Není v databázi"]
["Tomas Hynek",2002,"M","Dvůr Králové","CZ/C2","PMČR 2024 - Klub",{"$f":"VLOOKUP(F1013,Soutez!A:B,2,FALSE)","v":"CZ"},{"$f":"VLOOKUP(F1013,Soutez!A:C,3,FALSE)","v":2024},9,4365,1.06,7877,8350,null,null,"ASW 20 CL","VW","Junior v roce 2026"]
["Hana Treslova",1991,"F","Raná","CZ/C2","PMČR 2024 - Klub",{"$f":"VLOOKUP(F1014,Soutez!A:B,2,FALSE)","v":"CZ"},{"$f":"VLOOKUP(F1014,Soutez!A:C,3,FALSE)","v":2024},10,4282,1.06,7651,8110,null,null,"Std. Cirrus","CI",""]
["Jan Stastny",2003,"M","Medlánky","CZ/M","PMČR 2024 - Klub",{"$f":"VLOOKUP(F1015,Soutez!A:B,2,FALSE)","v":"CZ"},{"$f":"VLOOKUP(F1015,Soutez!A:C,3,FALSE)","v":2024},11,4262,1.06,7509,7960,null,null,"LS4","6L","Junior v roce 2026"]
["Tomas Suchanek",1964,"M","GAC Benešov","CZ/C1","PMČR 2024 - Klub",{"$f":"VLOOKUP(F1016,Soutez!A:B,2,FALSE)","v":"CZ"},{"$f":"VLOOKUP(F1016,Soutez!A:C,3,FALSE)","v":2024},12,4159,1.06,7257,{"$f":"ROUND(K1016*L1016,0)","v":7692},null,null,"ASW 20","CX",""]
["Petr Stepanek",1989,"M","Moravská Třebová","CZ/M","PMČR 2024 - Klub",{"$f":"VLOOKUP(F1017,Soutez!A:B,2,FALSE)","v":"CZ"},{"$f":"VLOOKUP(F1017,Soutez!A:C,3,FALSE)","v":2024},13,3896,1.06,6792,7200,"x",null,"ASW 19","AE",""]
["Philippe Lata",null,null,null,"DE","PMČR 2024 - Klub",{"$f":"VLOOKUP(F1018,Soutez!A:B,2,FALSE)","v":"CZ"},{"$f":"VLOOKUP(F1018,Soutez!A:C,3,FALSE)","v":2024},14,3812,1.06,6565,6959,null,null,"ASW 20 C","LT","Není v databázi"]
["George Downing",null,null,null,"UK","PMČR 2024 - Klub",{"$f":"VLOOKUP(F1019,Soutez!A:B,2,FALSE)","v":"CZ"},{"$f":"VLOOKUP(F1019,Soutez!A:C,3,FALSE)","v":2024},15,3772,1.06,{"$f":"ROUND(J1019/MAX($J$1005:$J$1031)*10000*0.7+(MAX($I$1005:$I$1031)-I1019)/(MAX($I$1005:$I$1031)-1)*10000*0.3,0)","v":6397},6781,null,null,"ASW 20 L","LD","Není v databázi"]
["Alexandre Fierain",null,null,null,"FR","PMČR 2024 - Klub",{"$f":"VLOOKUP(F1020,Soutez!A:B,2,FALSE)","v":"CZ"},{"$f":"VLOOKUP(F1020,Soutez!A:C,3,FALSE)","v":2024},16,3532,1.06,5962,6320,null,null,"ASW 20","WE","Není v databázi"]
["Jan Vavrin",1987,"M","Vysoké Mýto","CZ/C2","PMČR 2024 - Klub",{"$f":"VLOOKUP(F1021,Soutez!A:B,2,FALSE)","v":"CZ"},{"$f":"VLOOKUP(F1021,Soutez!A:C,3,FALSE)","v":2024},17,3460,1.06,5751,6096,"x",null,"ASW 19",56,""]
["Eldrine Marque",null,null,null,"FR","PMČR 2024 - Klub",{"$f":"VLOOKUP(F1022,Soutez!A:B,2,FALSE)","v":"CZ"},{"$f":"VLOOKUP(F1022,Soutez!A:C,3,FALSE)","v":2024},18,3456,1.06,5631,5969,null,null,"ASW-20 L","DC","Není v databázi"]
["Stepan Filakovsky",2005,"M","Medlánky","CZ/M","PMČR 2024 - Klub",{"$f":"VLOOKUP(F1023,Soutez!A:B,2,FALSE)","v":"CZ"},{"$f":"VLOOKUP(F1023,Soutez!A:C,3,FALSE)","v":2024},19,3035,1.06,4956,5253,null,null,"LS1F","FD","Junior v roce 2026"]
["Michal Drab",1969,"M","Letkov","CZ/C1","PMČR 2024 - Klub",{"$f":"VLOOKUP(F1024,Soutez!A:B,2,FALSE)","v":"CZ"},{"$f":"VLOOKUP(F1024,Soutez!A:C,3,FALSE)","v":2024},20,2777,1.06,4498,4768,null,null,"LS 1d","S3",""]
["Petr Masik",2001,"M","Zábřeh","CZ/M","PMČR 2024 - Klub",{"$f":"VLOOKUP(F1025,Soutez!A:B,2,FALSE)","v":"CZ"},{"$f":"VLOOKUP(F1025,Soutez!A:C,3,FALSE)","v":2024},21,2551,1.06,4082,4327,null,null,"ASW 19B",34,"Junior v roce 2026"]
["Stepan Bartos",2004,"M","Kolín","CZ/C1","PMČR 2024 - Klub",{"$f":"VLOOKUP(F1026,Soutez!A:B,2,FALSE)","v":"CZ"},{"$f":"VLOOKUP(F1026,Soutez!A:C,3,FALSE)","v":2024},22,2247,1.06,3563,3777,null,null,"DG 300 ELAN RG","DG","Junior v roce 2026"]
["Martin Fric",1967,"M","Raná","CZ/C2","PMČR 2024 - Klub",{"$f":"VLOOKUP(F1027,Soutez!A:B,2,FALSE)","v":"CZ"},{"$f":"VLOOKUP(F1027,Soutez!A:C,3,FALSE)","v":2024},23,2223,1.06,3415,3620,"x",null,"DG-101","E2",""]
["Karel Mares",1974,"M","Slaný","CZ/C1","PMČR 2024 - Klub",{"$f":"VLOOKUP(F1028,Soutez!A:B,2,FALSE)","v":"CZ"},{"$f":"VLOOKUP(F1028,Soutez!A:C,3,FALSE)","v":2024},24,2127,1.06,3172,3362,null,null,"Discus B","CT",""]
["Petr Lonsky",1965,"M","Toužim","CZ/C1","PMČR 2024 - Klub",{"$f":"VLOOKUP(F1029,Soutez!A:B,2,FALSE)","v":"CZ"},{"$f":"VLOOKUP(F1029,Soutez!A:C,3,FALSE)","v":2024},25,1547,1.06,2286,2423,null,null,"Std. Cirrus","YU",""]
["Jiri Krofta",1988,"M","Hosín","CZ/C1","PMČR 2024 - Klub",{"$f":"VLOOKUP(F1030,Soutez!A:B,2,FALSE)","v":"CZ"},{"$f":"VLOOKUP(F1030,Soutez!A:C,3,FALSE)","v":2024},26,1486,1.06,2090,2215,"x",null,"ASW 19","XP",""]
["Martin Valenta",1969,"M","Toužim","CZ/C1","PMČR 2024 - Klub",{"$f":"VLOOKUP(F1031,Soutez!A:B,2,FALSE)","v":"CZ"},{"$f":"VLOOKUP(F1031,Soutez!A:C,3,FALSE)","v":2024},27,407,1.06,541,573,null,null,"Speed Astir IIb","Y3",""]
["Jan Pavlik",{"$f":"VLOOKUP(A1032,Pilot,2,0)","v":1987},{"$f":"VLOOKUP(A1032,Pilot,5,0)","v":"M"},{"$f":"VLOOKUP(A1032,Pilot,3,0)","v":"Křižanov"},{"$f":"VLOOKUP(A1032,Pilot,4,0)","v":"CZ/M"},"PMČR 2024 - Kombi 15m",{"$f":"VLOOKUP(F1032,Soutez!A:B,2,FALSE)","v":"CZ"},{"$f":"VLOOKUP(F1032,Soutez!A:C,3,FALSE)","v":2024},1,5048,1.0449999999999999,{"$f":"ROUND(J1032/MAX($J$1032:$J$1042)*10000*0.7+(MAX($I$1032:$I$1042)-I1032)/(MAX($I$1032:$I$1042)-1)*10000*0.3,0)","v":10000},10450,"x",null,"LS 8","FX",""]
["Victor Mallick",null,null,null,"UK","PMČR 2024 - Kombi 15m",{"$f":"VLOOKUP(F1033,Soutez!A:B,2,FALSE)","v":"CZ"},{"$f":"VLOOKUP(F1033,Soutez!A:C,3,FALSE)","v":2024},2,5011,1.0449999999999999,{"$f":"ROUND(J1033/MAX($J$1032:$J$1042)*10000*0.7+(MAX($I$1032:$I$1042)-I1033)/(MAX($I$1032:$I$1042)-1)*10000*0.3,0)","v":9649},10083,null,null,"LS 8","ZZ","Není v databázi"]
["Miloslav Cink",1987,"M","Letkov","CZ/C1","PMČR 2024 - Kombi 15m",{"$f":"VLOOKUP(F1034,Soutez!A:B,2,FALSE)","v":"CZ"},{"$f":"VLOOKUP(F1034,Soutez!A:C,3,FALSE)","v":2024},3,4739,1.0449999999999999,8972,9376,"x",null,"LS 8","JB",""]
["Karel Novak",1993,"M","Mladá Boleslav","CZ/C1","PMČR 2024 - Kombi 15m",{"$f":"VLOOKUP(F1035,Soutez!A:B,2,FALSE)","v":"CZ"},{"$f":"VLOOKUP(F1035,Soutez!A:C,3,FALSE)","v":2024},4,4717,1.0449999999999999,8641,9030,null,null,"Ventus 2ax","AX",""]
["Barbora Moravcova",1994,"F","Zbraslavice","CZ/C1","PMČR 2024 - Kombi 15m",{"$f":"VLOOKUP(F1036,Soutez!A:B,2,FALSE)","v":"CZ"},{"$f":"VLOOKUP(F1036,Soutez!A:C,3,FALSE)","v":2024},5,4451,1.0449999999999999,7972,8331,"x","x","LS 8","EU",""]
["Josef Busek",1967,"M","Hosín","CZ/C1","PMČR 2024 - Kombi 15m",{"$f":"VLOOKUP(F1037,Soutez!A:B,2,FALSE)","v":"CZ"},{"$f":"VLOOKUP(F1037,Soutez!A:C,3,FALSE)","v":2024},6,4266,1.0449999999999999,7416,7750,"x",null,"Duo Discus XL","BB",""]
["Jana Treslova",1963,"F","Raná","CZ/C2","PMČR 2024 - Kombi 15m",{"$f":"VLOOKUP(F1038,Soutez!A:B,2,FALSE)","v":"CZ"},{"$f":"VLOOKUP(F1038,Soutez!A:C,3,FALSE)","v":2024},7,4153,1.0449999999999999,6959,7272,"x","x","LS 8","W8",""]
["Vladimir Foltin",null,null,"Nitra","SK","PMČR 2024 - Kombi 15m",{"$f":"VLOOKUP(F1039,Soutez!A:B,2,FALSE)","v":"CZ"},{"$f":"VLOOKUP(F1039,Soutez!A:C,3,FALSE)","v":2024},8,4002,1.0449999999999999,{"$f":"ROUND(J1039/MAX($J$1032:$J$1042)*10000*0.7+(MAX($I$1032:$I$1042)-I1039)/(MAX($I$1032:$I$1042)-1)*10000*0.3,0)","v":6450},6740,null,null,"JS3 JET 15m",3,"Není v databázi"]
["Petr Koutny",1971,"M","Křižanov","CZ/M","PMČR 2024 - Kombi 15m",{"$f":"VLOOKUP(F1040,Soutez!A:B,2,FALSE)","v":"CZ"},{"$f":"VLOOKUP(F1040,Soutez!A:C,3,FALSE)","v":2024},9,3583,1.0449999999999999,5569,5820,null,null,"LS 8",18,{"$f":"IF(ISERROR(VLOOKUP(A1040,Pilot,6,0)),\"Není v databázi\",VLOOKUP(A1040,Pilot,6,0))","v":""}]
["Pavel Louzecky",1957,"M","Přibyslav","CZ/C2","PMČR 2024 - Kombi 15m",{"$f":"VLOOKUP(F1041,Soutez!A:B,2,FALSE)","v":"CZ"},{"$f":"VLOOKUP(F1041,Soutez!A:C,3,FALSE)","v":2024},10,3532,1.0449999999999999,5198,5432,null,null,"JS3 15m","XM",""]
["Neil McLaughlin",null,null,null,"UK","PMČR 2024 - Kombi 15m",{"$f":"VLOOKUP(F1042,Soutez!A:B,2,FALSE)","v":"CZ"},{"$f":"VLOOKUP(F1042,Soutez!A:C,3,FALSE)","v":2024},11,3066,1.0449999999999999,4252,4443,null,null,"Ventus 2a WL",85,"Není v databázi"]
["Jiri Kusbach",{"$f":"VLOOKUP(A1043,Pilot,2,0)","v":1959},{"$f":"VLOOKUP(A1043,Pilot,5,0)","v":"M"},{"$f":"VLOOKUP(A1043,Pilot,3,0)","v":"Luhačovice"},{"$f":"VLOOKUP(A1043,Pilot,4,0)","v":"CZ/M"},"PMČR 2024 - Kombi Open",{"$f":"VLOOKUP(F1043,Soutez!A:B,2,FALSE)","v":"CZ"},{"$f":"VLOOKUP(F1043,Soutez!A:C,3,FALSE)","v":2024},1,4884,1.0900000000000001,{"$f":"ROUND(J1043/MAX($J$1043:$J$1063)*10000*0.7+(MAX($I$1043:$I$1063)-I1043)/(MAX($I$1043:$I$1063)-1)*10000*0.3,0)","v":10000},10900,"x",null,"Diana 3 FES","B",""]
["Radek Krejcirik",{"$f":"VLOOKUP(A1044,Pilot,2,0)","v":1991},{"$f":"VLOOKUP(A1044,Pilot,5,0)","v":"M"},{"$f":"VLOOKUP(A1044,Pilot,3,0)","v":"Hranice"},{"$f":"VLOOKUP(A1044,Pilot,4,0)","v":"CZ/M"},"PMČR 2024 - Kombi Open",{"$f":"VLOOKUP(F1044,Soutez!A:B,2,FALSE)","v":"CZ"},{"$f":"VLOOKUP(F1044,Soutez!A:C,3,FALSE)","v":2024},2,4757,1.0900000000000001,{"$f":"ROUND(J1044/MAX($J$1043:$J$1063)*10000*0.7+(MAX($I$1043:$I$1063)-I1044)/(MAX($I$1043:$I$1063)-1)*10000*0.3,0)","v":9668},10538,"x",null,"JS3 18m","QX",""]
["Michaela Rendlova",2004,"F","Toužim","CZ/C1","PMČR 2024 - Kombi Open",{"$f":"VLOOKUP(F1045,Soutez!A:B,2,FALSE)","v":"CZ"},{"$f":"VLOOKUP(F1045,Soutez!A:C,3,FALSE)","v":2024},3,4611,1.0900000000000001,9309,10147,"x","x","AS 33 ES 18m","EA","Junior v roce 2026"]
["Petr Tichy",1973,"M","Zbraslavice","CZ/C1","PMČR 2024 - Kombi Open",{"$f":"VLOOKUP(F1046,Soutez!A:B,2,FALSE)","v":"CZ"},{"$f":"VLOOKUP(F1046,Soutez!A:C,3,FALSE)","v":2024},4,4569,1.0900000000000001,9099,9918,"x",null,"ASG 29e 18m","NX",""]
["Alena Netusilova",1970,"F","Zbraslavice","CZ/C1","PMČR 2024 - Kombi Open",{"$f":"VLOOKUP(F1047,Soutez!A:B,2,FALSE)","v":"CZ"},{"$f":"VLOOKUP(F1047,Soutez!A:C,3,FALSE)","v":2024},5,4447,1.0900000000000001,8774,9564,"x","x","JS1 CTJ EVO 18m","JX",""]
["Radek Kucirek",1973,"M","Havlíčkův Brod","CZ/C2","PMČR 2024 - Kombi Open",{"$f":"VLOOKUP(F1048,Soutez!A:B,2,FALSE)","v":"CZ"},{"$f":"VLOOKUP(F1048,Soutez!A:C,3,FALSE)","v":2024},6,4002,1.0900000000000001,7986,8705,"x",null,"JS1 C 18m","ZF",""]
["Jan Boruvka",1984,"M","Jičín","CZ/C2","PMČR 2024 - Kombi Open",{"$f":"VLOOKUP(F1049,Soutez!A:B,2,FALSE)","v":"CZ"},{"$f":"VLOOKUP(F1049,Soutez!A:C,3,FALSE)","v":2024},7,3986,1.0900000000000001,7813,8516,"x",null,"Ventus C 17.6m","EG",""]
["Ondrej Dupal",1966,"M","GAC Benešov","CZ/C1","PMČR 2024 - Kombi Open",{"$f":"VLOOKUP(F1050,Soutez!A:B,2,FALSE)","v":"CZ"},{"$f":"VLOOKUP(F1050,Soutez!A:C,3,FALSE)","v":2024},8,3920,1.0900000000000001,7568,8249,null,null,"ASG 29e 18m","GO",""]
["Ivan Novak",1962,"M","Mladá Boleslav","CZ/C1","PMČR 2024 - Kombi Open",{"$f":"VLOOKUP(F1051,Soutez!A:B,2,FALSE)","v":"CZ"},{"$f":"VLOOKUP(F1051,Soutez!A:C,3,FALSE)","v":2024},9,3887,1.0900000000000001,7371,8034,null,null,"ASG 29e 18m","QZ",""]
["David Mach",1994,"M","Hronov","CZ/C2","PMČR 2024 - Kombi Open",{"$f":"VLOOKUP(F1052,Soutez!A:B,2,FALSE)","v":"CZ"},{"$f":"VLOOKUP(F1052,Soutez!A:C,3,FALSE)","v":2024},10,3875,1.0900000000000001,{"$f":"ROUND(J1052/MAX($J$1043:$J$1063)*10000*0.7+(MAX($I$1043:$I$1063)-I1052)/(MAX($I$1043:$I$1063)-1)*10000*0.3,0)","v":7204},7852,"x",null,"ASG 29 18m","XZ",""]
["Pavel Jiranek",1993,"M","Toužim","CZ/C1","PMČR 2024 - Kombi Open",{"$f":"VLOOKUP(F1053,Soutez!A:B,2,FALSE)","v":"CZ"},{"$f":"VLOOKUP(F1053,Soutez!A:C,3,FALSE)","v":2024},11,3857,1.0900000000000001,7028,7661,null,null,"Ventus C 17.6m","CS",""]
["Martin Hrivna",1978,"M","Zbraslavice","CZ/C1","PMČR 2024 - Kombi Open",{"$f":"VLOOKUP(F1054,Soutez!A:B,2,FALSE)","v":"CZ"},{"$f":"VLOOKUP(F1054,Soutez!A:C,3,FALSE)","v":2024},12,3747,1.0900000000000001,6720,7325,null,null,"JS3 18m","ZE",""]
["Jiri Fousek",1990,"M","Raná","CZ/C2","PMČR 2024 - Kombi Open",{"$f":"VLOOKUP(F1055,Soutez!A:B,2,FALSE)","v":"CZ"},{"$f":"VLOOKUP(F1055,Soutez!A:C,3,FALSE)","v":2024},13,3726,1.0900000000000001,6540,7129,"x",null,"Ventus C 17.6m","WP",""]
["Tomas Rendla",1973,"M","Zbraslavice","CZ/C1","PMČR 2024 - Kombi Open",{"$f":"VLOOKUP(F1056,Soutez!A:B,2,FALSE)","v":"CZ"},{"$f":"VLOOKUP(F1056,Soutez!A:C,3,FALSE)","v":2024},14,3647,1.0900000000000001,6277,6842,null,null,"AS 33 ES 18m","EZ",""]
["Petr Krejcirik",1960,"M","Hranice","CZ/M","PMČR 2024 - Kombi Open",{"$f":"VLOOKUP(F1057,Soutez!A:B,2,FALSE)","v":"CZ"},{"$f":"VLOOKUP(F1057,Soutez!A:C,3,FALSE)","v":2024},15,3608,1.0900000000000001,6071,6617,null,null,"AS 33 18m",12,""]
["Karel Benisek 76",1976,"M","Toužim","CZ/C1","PMČR 2024 - Kombi Open",{"$f":"VLOOKUP(F1058,Soutez!A:B,2,FALSE)","v":"CZ"},{"$f":"VLOOKUP(F1058,Soutez!A:C,3,FALSE)","v":2024},16,2917,1.0900000000000001,4931,5375,"x",null,"Arcus M20 850kg","EY",""]
["Zdislaw Bednarczuk",null,null,null,"PL","PMČR 2024 - Kombi Open",{"$f":"VLOOKUP(F1059,Soutez!A:B,2,FALSE)","v":"CZ"},{"$f":"VLOOKUP(F1059,Soutez!A:C,3,FALSE)","v":2024},17,2894,1.0900000000000001,4748,5175,null,null,"JS3 JET 18m","ZB","Není v databázi"]
["Michal Cupak",1991,"M","Medlánky","CZ/M","PMČR 2024 - Kombi Open",{"$f":"VLOOKUP(F1060,Soutez!A:B,2,FALSE)","v":"CZ"},{"$f":"VLOOKUP(F1060,Soutez!A:C,3,FALSE)","v":2024},18,2663,{"$f":"VLOOKUP(F1060,Soutez,12,0)","v":1.0900000000000001},4267,4651,null,null,"Ventus C 17.6m","PD",""]
["Radovan Otto",1968,"M","Ústí nad Labem","CZ/C2","PMČR 2024 - Kombi Open",{"$f":"VLOOKUP(F1061,Soutez!A:B,2,FALSE)","v":"CZ"},{"$f":"VLOOKUP(F1061,Soutez!A:C,3,FALSE)","v":2024},19,2530,1.0900000000000001,3926,4279,"x",null,"HpH 304 MS 18m","XX",""]
["Petr Bartak",1984,"M","Letkov","CZ/C1","PMČR 2024 - Kombi Open",{"$f":"VLOOKUP(F1062,Soutez!A:B,2,FALSE)","v":"CZ"},{"$f":"VLOOKUP(F1062,Soutez!A:C,3,FALSE)","v":2024},20,2445,1.0900000000000001,3654,3983,null,null,"JS3 RES 18m","BS",""]
["Anna Piotrowska",null,null,null,"PL","PMČR 2024 - Kombi Open",{"$f":"VLOOKUP(F1063,Soutez!A:B,2,FALSE)","v":"CZ"},{"$f":"VLOOKUP(F1063,Soutez!A:C,3,FALSE)","v":2024},21,2366,1.0900000000000001,3391,3696,null,null,"ASG 29e 18m","HE","Není v databázi"]
["Jan Hruska",{"$f":"VLOOKUP(A1064,Pilot,2,0)","v":1988},{"$f":"VLOOKUP(A1064,Pilot,5,0)","v":"M"},{"$f":"VLOOKUP(A1064,Pilot,3,0)","v":"Tábor"},{"$f":"VLOOKUP(A1064,Pilot,4,0)","v":"CZ/C1"},"PMRg 2024 - Klub",{"$f":"VLOOKUP(F1064,Soutez!A:B,2,FALSE)","v":"CZ"},{"$f":"VLOOKUP(F1064,Soutez!A:C,3,FALSE)","v":2024},1,1293,0.88,{"$f":"ROUND(J1064/MAX($J$1064:$J$1090)*10000*0.7+(MAX($I$1064:$I$1090)-I1064)/(MAX($I$1064:$I$1090)-1)*10000*0.3,0)","v":10000},8800,"x",null,"ASW 15 B","LF",""]
["Lukas Capek",{"$f":"VLOOKUP(A1065,Pilot,2,0)","v":1992},{"$f":"VLOOKUP(A1065,Pilot,5,0)","v":"M"},{"$f":"VLOOKUP(A1065,Pilot,3,0)","v":"Letňany"},{"$f":"VLOOKUP(A1065,Pilot,4,0)","v":"CZ/C1"},"PMRg 2024 - Klub",{"$f":"VLOOKUP(F1065,Soutez!A:B,2,FALSE)","v":"CZ"},{"$f":"VLOOKUP(F1065,Soutez!A:C,3,FALSE)","v":2024},2,1292,0.88,{"$f":"ROUND(J1065/MAX($J$1064:$J$1090)*10000*0.7+(MAX($I$1064:$I$1090)-I1065)/(MAX($I$1064:$I$1090)-1)*10000*0.3,0)","v":9858},8675,"x",null,"Mosquito","LC",""]
["Leos Strnadek",1983,"M","Hodkovice","CZ/C2","PMRg 2024 - Klub",{"$f":"VLOOKUP(F1066,Soutez!A:B,2,FALSE)","v":"CZ"},{"$f":"VLOOKUP(F1066,Soutez!A:C,3,FALSE)","v":2024},3,1259,0.88,9543,8398,"x",null,"ASW 19 B","XP",""]
["Pavlina Horackova",1965,"F","Šumperk","CZ/M","PMRg 2024 - Klub",{"$f":"VLOOKUP(F1067,Soutez!A:B,2,FALSE)","v":"CZ"},{"$f":"VLOOKUP(F1067,Soutez!A:C,3,FALSE)","v":2024},3,1259,0.88,9543,8398,"x","x","SZD-48 Jantar Std. 2","SU",""]
["Michal Kares",1987,"M","Ústí nad Orlicí","CZ/C2","PMRg 2024 - Klub",{"$f":"VLOOKUP(F1068,Soutez!A:B,2,FALSE)","v":"CZ"},{"$f":"VLOOKUP(F1068,Soutez!A:C,3,FALSE)","v":2024},5,1103,0.88,8426,7415,"x",null,"Std. Cirrus","J3",""]
["Jiri Maier 66",1966,"M","Raná","CZ/C2","PMRg 2024 - Klub",{"$f":"VLOOKUP(F1069,Soutez!A:B,2,FALSE)","v":"CZ"},{"$f":"VLOOKUP(F1069,Soutez!A:C,3,FALSE)","v":2024},6,1096,0.88,8252,7262,"x",null,"ASW 24 E","JM",""]
["Katerina Vojtova",1983,"F","Slaný","CZ/C1","PMRg 2024 - Klub",{"$f":"VLOOKUP(F1070,Soutez!A:B,2,FALSE)","v":"CZ"},{"$f":"VLOOKUP(F1070,Soutez!A:C,3,FALSE)","v":2024},7,1070,0.88,7975,7018,"x","x","Std. Cirrus","KAC",""]
["Jiri Hula",1973,"M","Slaný","CZ/C1","PMRg 2024 - Klub",{"$f":"VLOOKUP(F1071,Soutez!A:B,2,FALSE)","v":"CZ"},{"$f":"VLOOKUP(F1071,Soutez!A:C,3,FALSE)","v":2024},8,1062,0.88,7795,6860,"x",null,"Std. Cirrus WL","IT",""]
["Zdenek Balcarek",1967,"M","Kroměříž","CZ/M","PMRg 2024 - Klub",{"$f":"VLOOKUP(F1072,Soutez!A:B,2,FALSE)","v":"CZ"},{"$f":"VLOOKUP(F1072,Soutez!A:C,3,FALSE)","v":2024},9,1035,0.88,7512,6611,"x",null,"Discus b","AI",""]
["Jan Smaha",1958,"M","Česká Lípa","CZ/C2","PMRg 2024 - Klub",{"$f":"VLOOKUP(F1073,Soutez!A:B,2,FALSE)","v":"CZ"},{"$f":"VLOOKUP(F1073,Soutez!A:C,3,FALSE)","v":2024},10,1000,0.88,{"$f":"ROUND(J1073/MAX($J$1064:$J$1090)*10000*0.7+(MAX($I$1064:$I$1090)-I1073)/(MAX($I$1064:$I$1090)-1)*10000*0.3,0)","v":7186},6324,null,null,"ASW 15 B","CW",""]
["Stanislav Poslusny",1965,"M","GAC Benešov","CZ/C1","PMRg 2024 - Klub",{"$f":"VLOOKUP(F1074,Soutez!A:B,2,FALSE)","v":"CZ"},{"$f":"VLOOKUP(F1074,Soutez!A:C,3,FALSE)","v":2024},11,974,0.88,6909,6080,"x",null,"Std. Cirrus","SP",""]
["Vaclav Zak",1962,"M","GAC Benešov","CZ/C1","PMRg 2024 - Klub",{"$f":"VLOOKUP(F1075,Soutez!A:B,2,FALSE)","v":"CZ"},{"$f":"VLOOKUP(F1075,Soutez!A:C,3,FALSE)","v":2024},12,944,0.88,6611,5818,"x",null,"Std. Cirrus","TSI",""]
["Matej Krestes",1986,"M","Slaný","CZ/C1","PMRg 2024 - Klub",{"$f":"VLOOKUP(F1076,Soutez!A:B,2,FALSE)","v":"CZ"},{"$f":"VLOOKUP(F1076,Soutez!A:C,3,FALSE)","v":2024},13,912,0.88,6301,5545,"x",null,"Std. Cirrus","CON",""]
["Matej Bartos",1998,"M","Hodkovice","CZ/C2","PMRg 2024 - Klub",{"$f":"VLOOKUP(F1077,Soutez!A:B,2,FALSE)","v":"CZ"},{"$f":"VLOOKUP(F1077,Soutez!A:C,3,FALSE)","v":2024},14,832,0.88,5732,{"$f":"ROUND(K1077*L1077,0)","v":5044},"x",null,"ASW 15 B","BF",""]
["Jiri Krofta",1988,"M","Hosín","CZ/C1","PMRg 2024 - Klub",{"$f":"VLOOKUP(F1078,Soutez!A:B,2,FALSE)","v":"CZ"},{"$f":"VLOOKUP(F1078,Soutez!A:C,3,FALSE)","v":2024},15,759,0.88,5200,4576,"x",null,"Std. Cirrus","UB",""]
["David Riha",1983,"M","Vlašim","CZ/C1","PMRg 2024 - Klub",{"$f":"VLOOKUP(F1079,Soutez!A:B,2,FALSE)","v":"CZ"},{"$f":"VLOOKUP(F1079,Soutez!A:C,3,FALSE)","v":2024},16,744,0.88,4982,4384,null,null,"ASW 15 B","XE",""]
["Premysl Muzik",1990,"M","Tábor","CZ/C1","PMRg 2024 - Klub",{"$f":"VLOOKUP(F1080,Soutez!A:B,2,FALSE)","v":"CZ"},{"$f":"VLOOKUP(F1080,Soutez!A:C,3,FALSE)","v":2024},17,737,0.88,4808,4231,"x",null,"Std. Cirrus","IMI",""]
["Lukas Maly",1998,"M","Vysoké Mýto","CZ/C2","PMRg 2024 - Klub",{"$f":"VLOOKUP(F1081,Soutez!A:B,2,FALSE)","v":"CZ"},{"$f":"VLOOKUP(F1081,Soutez!A:C,3,FALSE)","v":2024},18,684,0.88,4385,3859,"x",null,"Discus CS",65,""]
["Martin Kriz",1968,"M","Přibyslav","CZ/C2","PMRg 2024 - Klub",{"$f":"VLOOKUP(F1082,Soutez!A:B,2,FALSE)","v":"CZ"},{"$f":"VLOOKUP(F1082,Soutez!A:C,3,FALSE)","v":2024},19,628,0.88,3945,3472,null,null,"ASW 20",67,""]
["Michal Fortik",1976,"M","Točná","CZ/C1","PMRg 2024 - Klub",{"$f":"VLOOKUP(F1083,Soutez!A:B,2,FALSE)","v":"CZ"},{"$f":"VLOOKUP(F1083,Soutez!A:C,3,FALSE)","v":2024},20,618,0.88,3755,3304,"x",null,"ASW 15 B","B",""]
["Pavel Koudelka",1973,"M","Křižanov","CZ/M","PMRg 2024 - Klub",{"$f":"VLOOKUP(F1084,Soutez!A:B,2,FALSE)","v":"CZ"},{"$f":"VLOOKUP(F1084,Soutez!A:C,3,FALSE)","v":2024},21,259,0.88,1675,1474,"x",null,"Std. Cirrus","ZL",""]
["Jan Zahradka",1981,"M","Hodkovice","CZ/C2","PMRg 2024 - Klub",{"$f":"VLOOKUP(F1085,Soutez!A:B,2,FALSE)","v":"CZ"},{"$f":"VLOOKUP(F1085,Soutez!A:C,3,FALSE)","v":2024},22,156,0.88,981,863,"x",null,"Std. Cirrus","AR",""]
["Petr Weinhauer",1977,"M","Tábor","CZ/C1","PMRg 2024 - Klub",{"$f":"VLOOKUP(F1086,Soutez!A:B,2,FALSE)","v":"CZ"},{"$f":"VLOOKUP(F1086,Soutez!A:C,3,FALSE)","v":2024},23,0,0.88,0,0,null,null,"VSO-10","F3",""]
["Michal Vranek",1993,"M","Hosín","CZ/C1","PMRg 2024 - Klub",{"$f":"VLOOKUP(F1087,Soutez!A:B,2,FALSE)","v":"CZ"},{"$f":"VLOOKUP(F1087,Soutez!A:C,3,FALSE)","v":2024},23,0,0.88,0,0,null,null,"DG 100","8W",""]
["Eva Klapkova",1993,"F","Raná","CZ/C2","PMRg 2024 - Klub",{"$f":"VLOOKUP(F1088,Soutez!A:B,2,FALSE)","v":"CZ"},{"$f":"VLOOKUP(F1088,Soutez!A:C,3,FALSE)","v":2024},23,0,0.88,0,0,null,null,"ASW 15","TZ",""]
["Jan Louda",1986,"M","Mladá Boleslav","CZ/C1","PMRg 2024 - Klub",{"$f":"VLOOKUP(F1089,Soutez!A:B,2,FALSE)","v":"CZ"},{"$f":"VLOOKUP(F1089,Soutez!A:C,3,FALSE)","v":2024},23,0,0.88,0,0,null,null,"ASW 19 B","XS",""]
["Daniel Devecka",1981,"M","Vlašim","CZ/C1","PMRg 2024 - Klub",{"$f":"VLOOKUP(F1090,Soutez!A:B,2,FALSE)","v":"CZ"},{"$f":"VLOOKUP(F1090,Soutez!A:C,3,FALSE)","v":2024},23,0,0.88,0,0,null,null,"LS 3a","2G",""]
["Petr Panek",{"$f":"VLOOKUP(A1091,Pilot,2,0)","v":1975},{"$f":"VLOOKUP(A1091,Pilot,5,0)","v":"M"},{"$f":"VLOOKUP(A1091,Pilot,3,0)","v":"Dvůr Králové"},{"$f":"VLOOKUP(A1091,Pilot,4,0)","v":"CZ/C2"},"PMRg 2024 - Kombi",{"$f":"VLOOKUP(F1091,Soutez!A:B,2,FALSE)","v":"CZ"},{"$f":"VLOOKUP(F1091,Soutez!A:C,3,FALSE)","v":2024},1,1018,0.9,{"$f":"ROUND(J1091/MAX($J$1091:$J$1102)*10000*0.7+(MAX($I$1091:$I$1102)-I1091)/(MAX($I$1091:$I$1102)-1)*10000*0.3,0)","v":10000},9000,"x",null,"JS-1b EVO JET","IGC",""]
["Radek Zima 78",{"$f":"VLOOKUP(A1092,Pilot,2,0)","v":1978},{"$f":"VLOOKUP(A1092,Pilot,5,0)","v":"M"},{"$f":"VLOOKUP(A1092,Pilot,3,0)","v":"Hodkovice"},{"$f":"VLOOKUP(A1092,Pilot,4,0)","v":"CZ/C2"},"PMRg 2024 - Kombi",{"$f":"VLOOKUP(F1092,Soutez!A:B,2,FALSE)","v":"CZ"},{"$f":"VLOOKUP(F1092,Soutez!A:C,3,FALSE)","v":2024},2,1004,0.9,{"$f":"ROUND(J1092/MAX($J$1091:$J$1102)*10000*0.7+(MAX($I$1091:$I$1102)-I1092)/(MAX($I$1091:$I$1102)-1)*10000*0.3,0)","v":9604},8644,"x",null,"ASG 29 E 18m","XZ",""]
["Michaela Rendlova",2004,"F","Toužim","CZ/C1","PMRg 2024 - Kombi",{"$f":"VLOOKUP(F1093,Soutez!A:B,2,FALSE)","v":"CZ"},{"$f":"VLOOKUP(F1093,Soutez!A:C,3,FALSE)","v":2024},3,916,0.9,8699,7829,null,null,"LS 8","W8","Junior v roce 2026"]
["Jaromir Macoun",1999,"M","Jičín","CZ/C2","PMRg 2024 - Kombi",{"$f":"VLOOKUP(F1094,Soutez!A:B,2,FALSE)","v":"CZ"},{"$f":"VLOOKUP(F1094,Soutez!A:C,3,FALSE)","v":2024},4,832,0.9,7821,7039,"x",null,"LS 8","EU",""]
["Lukas Kriz",2003,"M","Křižanov","CZ/M","PMRg 2024 - Kombi",{"$f":"VLOOKUP(F1095,Soutez!A:B,2,FALSE)","v":"CZ"},{"$f":"VLOOKUP(F1095,Soutez!A:C,3,FALSE)","v":2024},5,820,0.9,7439,6695,null,null,"LS 8","AU","Junior v roce 2026"]
["Jaroslav Potmesil",1964,"M","Zbraslavice","CZ/C1","PMRg 2024 - Kombi",{"$f":"VLOOKUP(F1096,Soutez!A:B,2,FALSE)","v":"CZ"},{"$f":"VLOOKUP(F1096,Soutez!A:C,3,FALSE)","v":2024},6,626,0.9,5805,5225,null,null,"TwinShark","TS",""]
["Matej Plch",1987,"M","Letkov","CZ/C1","PMRg 2024 - Kombi",{"$f":"VLOOKUP(F1097,Soutez!A:B,2,FALSE)","v":"CZ"},{"$f":"VLOOKUP(F1097,Soutez!A:C,3,FALSE)","v":2024},7,588,0.9,5243,4719,"x",null,"LS 8 18m","EJ",""]
["Pavel Svetlik",1968,"M","Kunovice","CZ/M","PMRg 2024 - Kombi",{"$f":"VLOOKUP(F1098,Soutez!A:B,2,FALSE)","v":"CZ"},{"$f":"VLOOKUP(F1098,Soutez!A:C,3,FALSE)","v":2024},8,581,0.9,4895,4406,"x",null,"DG 500 22m","YA",""]
["Antonin Kutalek",1943,"M","Zábřeh","CZ/M","PMRg 2024 - Kombi",{"$f":"VLOOKUP(F1099,Soutez!A:B,2,FALSE)","v":"CZ"},{"$f":"VLOOKUP(F1099,Soutez!A:C,3,FALSE)","v":2024},9,378,0.9,3199,2879,null,null,"LAK-17A T 15m","GL",""]
["Michael Fik",1972,"M","Strakonice","CZ/C1","PMRg 2024 - Kombi",{"$f":"VLOOKUP(F1100,Soutez!A:B,2,FALSE)","v":"CZ"},{"$f":"VLOOKUP(F1100,Soutez!A:C,3,FALSE)","v":2024},10,259,0.9,2081,1873,"x",null,"Duo Discus","DD",""]
["Zdenek Buben",1978,"M","Hodkovice","CZ/C2","PMRg 2024 - Kombi",{"$f":"VLOOKUP(F1101,Soutez!A:B,2,FALSE)","v":"CZ"},{"$f":"VLOOKUP(F1101,Soutez!A:C,3,FALSE)","v":2024},11,0,0.9,0,0,null,null,"ASW 27 B WL","MF",{"$f":"IF(ISERROR(VLOOKUP(A1101,Pilot,6,0)),\"Není v databázi\",VLOOKUP(A1101,Pilot,6,0))","v":""}]
["Ondrej Dvorak 87",1987,"M","Raná","CZ/C2","PMRg 2024 - Kombi",{"$f":"VLOOKUP(F1102,Soutez!A:B,2,FALSE)","v":"CZ"},{"$f":"VLOOKUP(F1102,Soutez!A:C,3,FALSE)","v":2024},11,0,0.9,{"$f":"ROUND(J1102/MAX($J$1091:$J$1102)*10000*0.7+(MAX($I$1091:$I$1102)-I1102)/(MAX($I$1091:$I$1102)-1)*10000*0.3,0)","v":0},0,null,null,"Ventus a 15 WL","FW",""]
["Michaela Krizova",{"$f":"VLOOKUP(A1103,Pilot,2,0)","v":2001},{"$f":"VLOOKUP(A1103,Pilot,5,0)","v":"F"},{"$f":"VLOOKUP(A1103,Pilot,3,0)","v":"Přibyslav"},{"$f":"VLOOKUP(A1103,Pilot,4,0)","v":"CZ/C2"},"PMČRj 2024 - Klub",{"$f":"VLOOKUP(F1103,Soutez!A:B,2,FALSE)","v":"CZ"},{"$f":"VLOOKUP(F1103,Soutez!A:C,3,FALSE)","v":2024},1,1350,0.91,{"$f":"ROUND(J1103/MAX($J$1103:$J$1137)*10000*0.7+(MAX($I$1103:$I$1137)-I1103)/(MAX($I$1103:$I$1137)-1)*10000*0.3,0)","v":10000},9100,"x",null,"LS 4","6L","Junior v roce 2026"]
["Tereza Koubkova",{"$f":"VLOOKUP(A1104,Pilot,2,0)","v":1999},{"$f":"VLOOKUP(A1104,Pilot,5,0)","v":"F"},{"$f":"VLOOKUP(A1104,Pilot,3,0)","v":"Strakonice"},{"$f":"VLOOKUP(A1104,Pilot,4,0)","v":"CZ/C1"},"PMČRj 2024 - Klub",{"$f":"VLOOKUP(F1104,Soutez!A:B,2,FALSE)","v":"CZ"},{"$f":"VLOOKUP(F1104,Soutez!A:C,3,FALSE)","v":2024},2,1311,0.91,{"$f":"ROUND(J1104/MAX($J$1103:$J$1137)*10000*0.7+(MAX($I$1103:$I$1137)-I1104)/(MAX($I$1103:$I$1137)-1)*10000*0.3,0)","v":9710},8836,"x",null,"LS 4","IX",""]
["Vit Morkovsky",2000,"M","Polička","CZ/C2","PMČRj 2024 - Klub",{"$f":"VLOOKUP(F1105,Soutez!A:B,2,FALSE)","v":"CZ"},{"$f":"VLOOKUP(F1105,Soutez!A:C,3,FALSE)","v":2024},3,1271,0.91,9414,8567,null,null,"ASW 24 WL","SM",""]
["Alex Gulich",2005,"M","Slaný","CZ/C1","PMČRj 2024 - Klub",{"$f":"VLOOKUP(F1106,Soutez!A:B,2,FALSE)","v":"CZ"},{"$f":"VLOOKUP(F1106,Soutez!A:C,3,FALSE)","v":2024},4,1219,0.91,9056,8241,"x",null,"std. Cirrus","TI","Junior v roce 2026"]
["Jan Beran",1999,"M","Kladno","CZ/C1","PMČRj 2024 - Klub",{"$f":"VLOOKUP(F1107,Soutez!A:B,2,FALSE)","v":"CZ"},{"$f":"VLOOKUP(F1107,Soutez!A:C,3,FALSE)","v":2024},5,1182,0.91,8776,7986,"x",null,"ASW 19 B","HB",""]
["Vit Tvrdik",2000,"M","Letňany","CZ/C1","PMČRj 2024 - Klub",{"$f":"VLOOKUP(F1108,Soutez!A:B,2,FALSE)","v":"CZ"},{"$f":"VLOOKUP(F1108,Soutez!A:C,3,FALSE)","v":2024},6,1148,0.91,8511,7745,"x",null,"ASW 19 B","KZ",""]
["Agathe Moro",null,null,"Les ailes du Maine planeur","FR","PMČRj 2024 - Klub",{"$f":"VLOOKUP(F1109,Soutez!A:B,2,FALSE)","v":"CZ"},{"$f":"VLOOKUP(F1109,Soutez!A:C,3,FALSE)","v":2024},7,1141,0.91,8387,7632,null,null,"C101A","EJ","Není v databázi"]
["Stepan Bartos",{"$f":"VLOOKUP(A1110,Pilot,2,0)","v":2004},{"$f":"VLOOKUP(A1110,Pilot,5,0)","v":"M"},{"$f":"VLOOKUP(A1110,Pilot,3,0)","v":"Kolín"},{"$f":"VLOOKUP(A1110,Pilot,4,0)","v":"CZ/C1"},"PMČRj 2024 - Klub",{"$f":"VLOOKUP(F1110,Soutez!A:B,2,FALSE)","v":"CZ"},{"$f":"VLOOKUP(F1110,Soutez!A:C,3,FALSE)","v":2024},8,1105,0.91,8112,7382,"x",null,"Discus b WL","LD","Junior v roce 2026"]
["Jan Stastny",{"$f":"VLOOKUP(A1111,Pilot,2,0)","v":2003},{"$f":"VLOOKUP(A1111,Pilot,5,0)","v":"M"},{"$f":"VLOOKUP(A1111,Pilot,3,0)","v":"Medlánky"},{"$f":"VLOOKUP(A1111,Pilot,4,0)","v":"CZ/M"},"PMČRj 2024 - Klub",{"$f":"VLOOKUP(F1111,Soutez!A:B,2,FALSE)","v":"CZ"},{"$f":"VLOOKUP(F1111,Soutez!A:C,3,FALSE)","v":2024},9,1097,0.91,7982,7264,null,null,"ASW 20","CXI","Junior v roce 2026"]
["Tibor Hezina",2002,"M","Křižanov","CZ/M","PMČRj 2024 - Klub",{"$f":"VLOOKUP(F1112,Soutez!A:B,2,FALSE)","v":"CZ"},{"$f":"VLOOKUP(F1112,Soutez!A:C,3,FALSE)","v":2024},10,1068,0.91,7744,7047,"x",null,"Std. Cirrus WL","IJ","Junior v roce 2026"]
["Tomas Hynek",2002,"M","Dvůr Králové","CZ/C2","PMČRj 2024 - Klub",{"$f":"VLOOKUP(F1113,Soutez!A:B,2,FALSE)","v":"CZ"},{"$f":"VLOOKUP(F1113,Soutez!A:C,3,FALSE)","v":2024},11,1052,0.91,7572,6891,null,null,"ASW 20 C","VW","Junior v roce 2026"]
["Eliska Kudejova",2006,"F","Strakonice","CZ/C1","PMČRj 2024 - Klub",{"$f":"VLOOKUP(F1114,Soutez!A:B,2,FALSE)","v":"CZ"},{"$f":"VLOOKUP(F1114,Soutez!A:C,3,FALSE)","v":2024},12,1035,0.91,7396,6730,null,null,"DG 100G","JL","Junior v roce 2026"]
["Vladimir Hammer",2000,"M","Letkov","CZ/C1","PMČRj 2024 - Klub",{"$f":"VLOOKUP(F1115,Soutez!A:B,2,FALSE)","v":"CZ"},{"$f":"VLOOKUP(F1115,Soutez!A:C,3,FALSE)","v":2024},13,1020,0.91,7230,6579,"x",null,"ASW 20","A3",""]
["Martin Stastny",2005,"M","Medlánky","CZ/M","PMČRj 2024 - Klub",{"$f":"VLOOKUP(F1116,Soutez!A:B,2,FALSE)","v":"CZ"},{"$f":"VLOOKUP(F1116,Soutez!A:C,3,FALSE)","v":2024},14,1012,0.91,7100,6461,"x",null,"Std. Cirrus WL","CX","Junior v roce 2026"]
["Filip Mrstny",2006,"M","Beroun","CZ/C1","PMČRj 2024 - Klub",{"$f":"VLOOKUP(F1117,Soutez!A:B,2,FALSE)","v":"CZ"},{"$f":"VLOOKUP(F1117,Soutez!A:C,3,FALSE)","v":2024},15,978,0.91,6836,6221,"x",null,"Std. Cirrus",57,"Junior v roce 2026"]
["Ivan Morkovsky",2008,"M","Polička","CZ/C2","PMČRj 2024 - Klub",{"$f":"VLOOKUP(F1118,Soutez!A:B,2,FALSE)","v":"CZ"},{"$f":"VLOOKUP(F1118,Soutez!A:C,3,FALSE)","v":2024},16,972,0.91,6716,6112,"x",null,"ASW 15 B","BE","Junior v roce 2026"]
["Stepan Filakovsky",2005,"M","Medlánky","CZ/M","PMČRj 2024 - Klub",{"$f":"VLOOKUP(F1119,Soutez!A:B,2,FALSE)","v":"CZ"},{"$f":"VLOOKUP(F1119,Soutez!A:C,3,FALSE)","v":2024},17,941,0.91,6467,5885,null,null,"LS 1-F","FD","Junior v roce 2026"]
["Vojtech Vach 03",2003,"M","Vrchlabí","CZ/C2","PMČRj 2024 - Klub",{"$f":"VLOOKUP(F1120,Soutez!A:B,2,FALSE)","v":"CZ"},{"$f":"VLOOKUP(F1120,Soutez!A:C,3,FALSE)","v":2024},18,903,0.91,6182,5626,null,null,"Std. Cirrus","UY","Junior v roce 2026"]
["Marek Novotny",2004,"M","Kladno","CZ/C1","PMČRj 2024 - Klub",{"$f":"VLOOKUP(F1121,Soutez!A:B,2,FALSE)","v":"CZ"},{"$f":"VLOOKUP(F1121,Soutez!A:C,3,FALSE)","v":2024},19,898,{"$f":"VLOOKUP(F1121,Soutez,12,0)","v":0.91},6068,5522,"x",null,"ASW 15 B","LK","Junior v roce 2026"]
["Katerina Vancurova",2002,"F","Hranice","CZ/M","PMČRj 2024 - Klub",{"$f":"VLOOKUP(F1122,Soutez!A:B,2,FALSE)","v":"CZ"},{"$f":"VLOOKUP(F1122,Soutez!A:C,3,FALSE)","v":2024},20,871,0.91,5840,5314,"x","x","Discus CS WL","HD","Junior v roce 2026"]
["Adam Hepal",2004,"M","Moravská Třebová","CZ/M","PMČRj 2024 - Klub",{"$f":"VLOOKUP(F1123,Soutez!A:B,2,FALSE)","v":"CZ"},{"$f":"VLOOKUP(F1123,Soutez!A:C,3,FALSE)","v":2024},21,866,0.91,5726,5211,"x",null,"ASW 19 B","NO","Junior v roce 2026"]
["Martin Neuvirt",2001,"M","Přibyslav","CZ/C2","PMČRj 2024 - Klub",{"$f":"VLOOKUP(F1124,Soutez!A:B,2,FALSE)","v":"CZ"},{"$f":"VLOOKUP(F1124,Soutez!A:C,3,FALSE)","v":2024},22,855,0.91,5580,5078,"x",null,"Std. Cirrus","2C","Junior v roce 2026"]
["Jan Svestka",2005,"M","Křižanov","CZ/M","PMČRj 2024 - Klub",{"$f":"VLOOKUP(F1125,Soutez!A:B,2,FALSE)","v":"CZ"},{"$f":"VLOOKUP(F1125,Soutez!A:C,3,FALSE)","v":2024},23,850,0.91,{"$f":"ROUND(J1125/MAX($J$1103:$J$1137)*10000*0.7+(MAX($I$1103:$I$1137)-I1125)/(MAX($I$1103:$I$1137)-1)*10000*0.3,0)","v":5466},4974,"x",null,"ASW 19 B","A1","Junior v roce 2026"]
["Michal Prochazka",2006,"M","Beroun","CZ/C1","PMČRj 2024 - Klub",{"$f":"VLOOKUP(F1126,Soutez!A:B,2,FALSE)","v":"CZ"},{"$f":"VLOOKUP(F1126,Soutez!A:C,3,FALSE)","v":2024},24,744,0.91,4828,4393,"x",null,"VSO-10","B1","Junior v roce 2026"]
["Vojtech Pavek",2000,"M","Medlánky","CZ/M","PMČRj 2024 - Klub",{"$f":"VLOOKUP(F1127,Soutez!A:B,2,FALSE)","v":"CZ"},{"$f":"VLOOKUP(F1127,Soutez!A:C,3,FALSE)","v":2024},25,742,0.91,4730,4304,"x",null,"Std. Cirrus","MP",""]
["Ondrej Hurina",2003,"M","Zábřeh","CZ/M","PMČRj 2024 - Klub",{"$f":"VLOOKUP(F1128,Soutez!A:B,2,FALSE)","v":"CZ"},{"$f":"VLOOKUP(F1128,Soutez!A:C,3,FALSE)","v":2024},26,741,0.91,4636,4219,"x",null,"Std. Cirrus","MJ","Junior v roce 2026"]
["Petr Hosek",2001,"M","Beroun","CZ/C1","PMČRj 2024 - Klub",{"$f":"VLOOKUP(F1129,Soutez!A:B,2,FALSE)","v":"CZ"},{"$f":"VLOOKUP(F1129,Soutez!A:C,3,FALSE)","v":2024},27,727,0.91,4476,4073,"x",null,"Std. Cirrus","BU","Junior v roce 2026"]
["Vit Pavelka",2004,"M","Moravská Třebová","CZ/M","PMČRj 2024 - Klub",{"$f":"VLOOKUP(F1130,Soutez!A:B,2,FALSE)","v":"CZ"},{"$f":"VLOOKUP(F1130,Soutez!A:C,3,FALSE)","v":2024},28,665,0.91,4066,3700,"x",null,"ASW 15 B","LE","Junior v roce 2026"]
["Petr Masik",2001,"M","Zábřeh","CZ/M","PMČRj 2024 - Klub",{"$f":"VLOOKUP(F1131,Soutez!A:B,2,FALSE)","v":"CZ"},{"$f":"VLOOKUP(F1131,Soutez!A:C,3,FALSE)","v":2024},29,630,0.91,3796,3454,null,null,"ASW 19 B",34,"Junior v roce 2026"]
["Jiri Maier 99",1999,"M","Raná","CZ/C2","PMČRj 2024 - Klub",{"$f":"VLOOKUP(F1132,Soutez!A:B,2,FALSE)","v":"CZ"},{"$f":"VLOOKUP(F1132,Soutez!A:C,3,FALSE)","v":2024},30,611,0.91,3609,3284,"x",null,"Discus bT WL","TAL",""]
["Tim Raasch",2000,"M","Polička","CZ/C2","PMČRj 2024 - Klub",{"$f":"VLOOKUP(F1133,Soutez!A:B,2,FALSE)","v":"CZ"},{"$f":"VLOOKUP(F1133,Soutez!A:C,3,FALSE)","v":2024},31,607,0.91,3500,3185,"x",null,"ASW 28","RC",""]
["Filip Riabec",2006,"M","Broumov","CZ/C2","PMČRj 2024 - Klub",{"$f":"VLOOKUP(F1134,Soutez!A:B,2,FALSE)","v":"CZ"},{"$f":"VLOOKUP(F1134,Soutez!A:C,3,FALSE)","v":2024},32,537,0.91,3049,2775,"x",null,"ASW 15 B","PC","Junior v roce 2026"]
["Vojtech Bystricky",2004,"M","Strakonice","CZ/C1","PMČRj 2024 - Klub",{"$f":"VLOOKUP(F1135,Soutez!A:B,2,FALSE)","v":"CZ"},{"$f":"VLOOKUP(F1135,Soutez!A:C,3,FALSE)","v":2024},33,527,0.91,2909,2647,"x",null,"VSO-10","L3","Junior v roce 2026"]
["Jan Hlavacek 04",2004,"M","Hosín","CZ/C1","PMČRj 2024 - Klub",{"$f":"VLOOKUP(F1136,Soutez!A:B,2,FALSE)","v":"CZ"},{"$f":"VLOOKUP(F1136,Soutez!A:C,3,FALSE)","v":2024},34,228,0.91,1270,1156,"x",null,"ASW 15 B","2P","Junior v roce 2026"]
["Fabian Curda",2004,"M","Zábřeh","CZ/M","PMČRj 2024 - Klub",{"$f":"VLOOKUP(F1137,Soutez!A:B,2,FALSE)","v":"CZ"},{"$f":"VLOOKUP(F1137,Soutez!A:C,3,FALSE)","v":2024},35,0,0.91,0,0,null,null,"DG 300","U7","Junior v roce 2026"]
["Michal Cechmanek",{"$f":"VLOOKUP(A1138,Pilot,2,0)","v":1978},{"$f":"VLOOKUP(A1138,Pilot,5,0)","v":"M"},{"$f":"VLOOKUP(A1138,Pilot,3,0)","v":"Kroměříž"},{"$f":"VLOOKUP(A1138,Pilot,4,0)","v":"CZ/M"},"FL 2024 - Klub",{"$f":"VLOOKUP(F1138,Soutez!A:B,2,FALSE)","v":"CZ"},{"$f":"VLOOKUP(F1138,Soutez!A:C,3,FALSE)","v":2024},1,2523,0.755,{"$f":"ROUND(J1138/MAX($J$1138:$J$1153)*10000*0.7+(MAX($I$1138:$I$1153)-I1138)/(MAX($I$1138:$I$1153)-1)*10000*0.3,0)","v":10000},{"$f":"ROUND(K1138*L1138,0)","v":7550},"x",null,"ASW 20 WL","MK",""]
["David Vrchota",{"$f":"VLOOKUP(A1139,Pilot,2,0)","v":1976},{"$f":"VLOOKUP(A1139,Pilot,5,0)","v":"M"},{"$f":"VLOOKUP(A1139,Pilot,3,0)","v":"Jaroměř"},{"$f":"VLOOKUP(A1139,Pilot,4,0)","v":"CZ/C2"},"FL 2024 - Klub",{"$f":"VLOOKUP(F1139,Soutez!A:B,2,FALSE)","v":"CZ"},{"$f":"VLOOKUP(F1139,Soutez!A:C,3,FALSE)","v":2024},2,2510,0.755,{"$f":"ROUND(J1139/MAX($J$1138:$J$1153)*10000*0.7+(MAX($I$1138:$I$1153)-I1139)/(MAX($I$1138:$I$1153)-1)*10000*0.3,0)","v":9764},7372,"x",null,"Discus b","JA",""]
["Jan Sponer",1988,"M","Medlánky","CZ/M","FL 2024 - Klub",{"$f":"VLOOKUP(F1140,Soutez!A:B,2,FALSE)","v":"CZ"},{"$f":"VLOOKUP(F1140,Soutez!A:C,3,FALSE)","v":2024},3,2419,0.755,9311,7030,"x",null,"Std. Cirrus","EX",""]
["David Sachl",1978,"M","Kralupy","CZ/C1","FL 2024 - Klub",{"$f":"VLOOKUP(F1141,Soutez!A:B,2,FALSE)","v":"CZ"},{"$f":"VLOOKUP(F1141,Soutez!A:C,3,FALSE)","v":2024},4,2330,0.755,8865,6693,null,null,"DG 300","BK",""]
["Jakub Kohn",1992,"M","Prostějov","CZ/M","FL 2024 - Klub",{"$f":"VLOOKUP(F1142,Soutez!A:B,2,FALSE)","v":"CZ"},{"$f":"VLOOKUP(F1142,Soutez!A:C,3,FALSE)","v":2024},5,2188,0.755,8271,6245,"x",null,"ASW 15 B","FK",""]
["Adam Sugl",1987,"M","Vyškov","CZ/M","FL 2024 - Klub",{"$f":"VLOOKUP(F1143,Soutez!A:B,2,FALSE)","v":"CZ"},{"$f":"VLOOKUP(F1143,Soutez!A:C,3,FALSE)","v":2024},6,2023,0.755,7613,5748,"x",null,"Std. Cirrus","GT",""]
["Rostislav Stryk",1972,"M","Frýdlant","CZ/M","FL 2024 - Klub",{"$f":"VLOOKUP(F1144,Soutez!A:B,2,FALSE)","v":"CZ"},{"$f":"VLOOKUP(F1144,Soutez!A:C,3,FALSE)","v":2024},7,1759,0.755,6680,5043,null,null,"Std. Cirrus",22,""]
["Jan Matejovsky",1972,"M","Hranice","CZ/M","FL 2024 - Klub",{"$f":"VLOOKUP(F1145,Soutez!A:B,2,FALSE)","v":"CZ"},{"$f":"VLOOKUP(F1145,Soutez!A:C,3,FALSE)","v":2024},8,1608,0.755,{"$f":"ROUND(J1145/MAX($J$1138:$J$1153)*10000*0.7+(MAX($I$1138:$I$1153)-I1145)/(MAX($I$1138:$I$1153)-1)*10000*0.3,0)","v":6061},4576,"x",null,"Std. Cirrus","XII",""]
["Zdenek Mach",1976,"M","Broumov","CZ/C2","FL 2024 - Klub",{"$f":"VLOOKUP(F1146,Soutez!A:B,2,FALSE)","v":"CZ"},{"$f":"VLOOKUP(F1146,Soutez!A:C,3,FALSE)","v":2024},9,1598,0.755,5834,4405,"x",null,"LS 1-d","MZ",""]
["Jiri Pelucha",1984,"M","Frýdlant","CZ/M","FL 2024 - Klub",{"$f":"VLOOKUP(F1147,Soutez!A:B,2,FALSE)","v":"CZ"},{"$f":"VLOOKUP(F1147,Soutez!A:C,3,FALSE)","v":2024},10,1331,0.755,4893,3694,"x",null,"DG 400 17m","PS",""]
["Daniel Suchy",1995,"M","Hranice","CZ/M","FL 2024 - Klub",{"$f":"VLOOKUP(F1148,Soutez!A:B,2,FALSE)","v":"CZ"},{"$f":"VLOOKUP(F1148,Soutez!A:C,3,FALSE)","v":2024},11,1278,0.755,4546,3432,"x",null,"G 102 Astir CS","W7",""]
["Jan Mareth",1979,"M","Frýdlant","CZ/M","FL 2024 - Klub",{"$f":"VLOOKUP(F1149,Soutez!A:B,2,FALSE)","v":"CZ"},{"$f":"VLOOKUP(F1149,Soutez!A:C,3,FALSE)","v":2024},12,1273,0.755,4332,3271,null,null,"ASW 15 B","PA",""]
["Petr Brezina",1963,"M","Frýdlant","CZ/M","FL 2024 - Klub",{"$f":"VLOOKUP(F1150,Soutez!A:B,2,FALSE)","v":"CZ"},{"$f":"VLOOKUP(F1150,Soutez!A:C,3,FALSE)","v":2024},13,1146,0.755,3780,2854,null,null,"LS 1-f","EM",""]
["Martin Urban",1971,"M","Frýdlant","CZ/M","FL 2024 - Klub",{"$f":"VLOOKUP(F1151,Soutez!A:B,2,FALSE)","v":"CZ"},{"$f":"VLOOKUP(F1151,Soutez!A:C,3,FALSE)","v":2024},14,903,0.755,2905,2193,null,null,"LS 3a","SJ",""]
["Stepan Obrovsky",1990,"M","Frýdlant","CZ/M","FL 2024 - Klub",{"$f":"VLOOKUP(F1152,Soutez!A:B,2,FALSE)","v":"CZ"},{"$f":"VLOOKUP(F1152,Soutez!A:C,3,FALSE)","v":2024},15,809,0.755,2445,1846,"x",null,"DG 400 17m","RD",""]
["Jan Kristof",1962,"M","Frýdlant","CZ/M","FL 2024 - Klub",{"$f":"VLOOKUP(F1153,Soutez!A:B,2,FALSE)","v":"CZ"},{"$f":"VLOOKUP(F1153,Soutez!A:C,3,FALSE)","v":2024},16,384,0.755,1065,804,null,null,"LS 3","TX",""]
["Lumir Motyka",{"$f":"VLOOKUP(A1154,Pilot,2,0)","v":1955},{"$f":"VLOOKUP(A1154,Pilot,5,0)","v":"M"},{"$f":"VLOOKUP(A1154,Pilot,3,0)","v":"Frýdlant"},{"$f":"VLOOKUP(A1154,Pilot,4,0)","v":"CZ/M"},"FL 2024 - Kombi",{"$f":"VLOOKUP(F1154,Soutez!A:B,2,FALSE)","v":"CZ"},{"$f":"VLOOKUP(F1154,Soutez!A:C,3,FALSE)","v":2024},1,1247,0,{"$f":"ROUND(J1154/MAX($J$1154:$J$1160)*10000*0.7+(MAX($I$1154:$I$1160)-I1154)/(MAX($I$1154:$I$1160)-1)*10000*0.3,0)","v":10000},0,null,null,"LAK-12","DE",""]
["Pavel Foldyna",{"$f":"VLOOKUP(A1155,Pilot,2,0)","v":1976},{"$f":"VLOOKUP(A1155,Pilot,5,0)","v":"M"},{"$f":"VLOOKUP(A1155,Pilot,3,0)","v":"Frýdlant"},{"$f":"VLOOKUP(A1155,Pilot,4,0)","v":"CZ/M"},"FL 2024 - Kombi",{"$f":"VLOOKUP(F1155,Soutez!A:B,2,FALSE)","v":"CZ"},{"$f":"VLOOKUP(F1155,Soutez!A:C,3,FALSE)","v":2024},2,1004,0,{"$f":"ROUND(J1155/MAX($J$1154:$J$1160)*10000*0.7+(MAX($I$1154:$I$1160)-I1155)/(MAX($I$1154:$I$1160)-1)*10000*0.3,0)","v":8136},0,null,null,"Duo Discus -700 kg",777,""]
["Radim Hahn",1972,"M","Zábřeh","CZ/M","FL 2024 - Kombi",{"$f":"VLOOKUP(F1156,Soutez!A:B,2,FALSE)","v":"CZ"},{"$f":"VLOOKUP(F1156,Soutez!A:C,3,FALSE)","v":2024},3,878,0,{"$f":"ROUND(J1156/MAX($J$1154:$J$1160)*10000*0.7+(MAX($I$1154:$I$1160)-I1156)/(MAX($I$1154:$I$1160)-1)*10000*0.3,0)","v":6929},0,null,null,"Arcus M","II",""]
["Frantisek Vancura",1966,"M","Hranice","CZ/M","FL 2024 - Kombi",{"$f":"VLOOKUP(F1157,Soutez!A:B,2,FALSE)","v":"CZ"},{"$f":"VLOOKUP(F1157,Soutez!A:C,3,FALSE)","v":2024},4,775,0,5850,0,null,null,"Nimbus 3T 24.5m","A1",""]
["Milos Dedera",{"$f":"VLOOKUP(A1158,Pilot,2,0)","v":1956},{"$f":"VLOOKUP(A1158,Pilot,5,0)","v":"M"},{"$f":"VLOOKUP(A1158,Pilot,3,0)","v":"Jihlava"},{"$f":"VLOOKUP(A1158,Pilot,4,0)","v":"CZ/M"},"FL 2024 - Kombi",{"$f":"VLOOKUP(F1158,Soutez!A:B,2,FALSE)","v":"CZ"},{"$f":"VLOOKUP(F1158,Soutez!A:C,3,FALSE)","v":2024},5,567,0,4183,0,null,null,"DG 500M 22m","T1",""]
["Milos Matejka",1956,"M","Beroun","CZ/C1","FL 2024 - Kombi",{"$f":"VLOOKUP(F1159,Soutez!A:B,2,FALSE)","v":"CZ"},{"$f":"VLOOKUP(F1159,Soutez!A:C,3,FALSE)","v":2024},6,442,0,2981,0,null,null,"Discus b WL","SH",""]
["Roman Cerny",1971,"M","Hranice","CZ/M","FL 2024 - Kombi",{"$f":"VLOOKUP(F1160,Soutez!A:B,2,FALSE)","v":"CZ"},{"$f":"VLOOKUP(F1160,Soutez!A:C,3,FALSE)","v":2024},7,0,0,0,0,null,null,"Nimbus 3 25.5m","RF",""]
["Ivan Harasta 65",{"$f":"VLOOKUP(A1161,Pilot,2,0)","v":1965},{"$f":"VLOOKUP(A1161,Pilot,5,0)","v":"M"},{"$f":"VLOOKUP(A1161,Pilot,3,0)","v":"Toužim"},{"$f":"VLOOKUP(A1161,Pilot,4,0)","v":"CZ/C1"},"Toužim Cup 2024 - Klub",{"$f":"VLOOKUP(F1161,Soutez!A:B,2,FALSE)","v":"CZ"},{"$f":"VLOOKUP(F1161,Soutez!A:C,3,FALSE)","v":2024},1,2265,0.91,{"$f":"ROUND(J1161/MAX($J$1161:$J$1183)*10000*0.7+(MAX($I$1161:$I$1183)-I1161)/(MAX($I$1161:$I$1183)-1)*10000*0.3,0)","v":10000},9100,null,null,"LS-1d","CL",{"$f":"IF(ISERROR(VLOOKUP(A1161,Pilot,6,0)),\"Není v databázi\",VLOOKUP(A1161,Pilot,6,0))","v":""}]
["Hana Treslova",{"$f":"VLOOKUP(A1162,Pilot,2,0)","v":1991},{"$f":"VLOOKUP(A1162,Pilot,5,0)","v":"F"},{"$f":"VLOOKUP(A1162,Pilot,3,0)","v":"Raná"},{"$f":"VLOOKUP(A1162,Pilot,4,0)","v":"CZ/C2"},"Toužim Cup 2024 - Klub",{"$f":"VLOOKUP(F1162,Soutez!A:B,2,FALSE)","v":"CZ"},{"$f":"VLOOKUP(F1162,Soutez!A:C,3,FALSE)","v":2024},2,2166,0.91,{"$f":"ROUND(J1162/MAX($J$1161:$J$1183)*10000*0.7+(MAX($I$1161:$I$1183)-I1162)/(MAX($I$1161:$I$1183)-1)*10000*0.3,0)","v":9558},8698,"x","x","Std. Cirrus","CI",""]
["Roman Jokl",1979,"M","Letkov","CZ/C1","Toužim Cup 2024 - Klub",{"$f":"VLOOKUP(F1163,Soutez!A:B,2,FALSE)","v":"CZ"},{"$f":"VLOOKUP(F1163,Soutez!A:C,3,FALSE)","v":2024},3,2121,0.91,9282,8447,"x",null,"ASW-19B","JL",""]
["Jiri Vondracek",1989,"M","Kladno","CZ/C1","Toužim Cup 2024 - Klub",{"$f":"VLOOKUP(F1164,Soutez!A:B,2,FALSE)","v":"CZ"},{"$f":"VLOOKUP(F1164,Soutez!A:C,3,FALSE)","v":2024},4,2117,0.91,9134,8312,"x",null,"H-201b Std. Libelle WL",442,""]
["Jiri Fousek",1990,"M","Raná","CZ/C2","Toužim Cup 2024 - Klub",{"$f":"VLOOKUP(F1165,Soutez!A:B,2,FALSE)","v":"CZ"},{"$f":"VLOOKUP(F1165,Soutez!A:C,3,FALSE)","v":2024},5,2085,0.91,8898,8097,"x",null,"Std. Cirrus","LW",""]
["Michal Drab",1969,"M","Letkov","CZ/C1","Toužim Cup 2024 - Klub",{"$f":"VLOOKUP(F1166,Soutez!A:B,2,FALSE)","v":"CZ"},{"$f":"VLOOKUP(F1166,Soutez!A:C,3,FALSE)","v":2024},6,1959,0.91,8372,7619,"x",null,"LS-1c","S3",""]
["Jan Smekal",1976,"M","Zbraslavice","CZ/C1","Toužim Cup 2024 - Klub",{"$f":"VLOOKUP(F1167,Soutez!A:B,2,FALSE)","v":"CZ"},{"$f":"VLOOKUP(F1167,Soutez!A:C,3,FALSE)","v":2024},7,1809,0.91,7773,7073,"x",null,"ASW-20 (A)+L+F /15m","NW",""]
["Jan MuknSnabl",1992,"M","Letkov","CZ/C1","Toužim Cup 2024 - Klub",{"$f":"VLOOKUP(F1168,Soutez!A:B,2,FALSE)","v":"CZ"},{"$f":"VLOOKUP(F1168,Soutez!A:C,3,FALSE)","v":2024},8,1777,0.91,7537,6859,null,null,"Discus b","SJ",""]
["Martin Fric",1967,"M","Raná","CZ/C2","Toužim Cup 2024 - Klub",{"$f":"VLOOKUP(F1169,Soutez!A:B,2,FALSE)","v":"CZ"},{"$f":"VLOOKUP(F1169,Soutez!A:C,3,FALSE)","v":2024},9,1567,0.91,6752,6144,"x",null,"DG-101 G","E2",""]
["Jan Zanda",1983,"M","Letkov","CZ/C1","Toužim Cup 2024 - Klub",{"$f":"VLOOKUP(F1170,Soutez!A:B,2,FALSE)","v":"CZ"},{"$f":"VLOOKUP(F1170,Soutez!A:C,3,FALSE)","v":2024},10,1552,0.91,6569,5978,"x",null,"LS-1c","AN",""]
["Lukas Koukal",1991,"M","Letkov","CZ/C1","Toužim Cup 2024 - Klub",{"$f":"VLOOKUP(F1171,Soutez!A:B,2,FALSE)","v":"CZ"},{"$f":"VLOOKUP(F1171,Soutez!A:C,3,FALSE)","v":2024},11,1540,0.91,6396,5820,"x",null,"ASW-15B","T1",""]
["Jiri Prochazka",1971,"M","Toužim","CZ/C1","Toužim Cup 2024 - Klub",{"$f":"VLOOKUP(F1172,Soutez!A:B,2,FALSE)","v":"CZ"},{"$f":"VLOOKUP(F1172,Soutez!A:C,3,FALSE)","v":2024},12,1462,0.91,{"$f":"ROUND(J1172/MAX($J$1161:$J$1183)*10000*0.7+(MAX($I$1161:$I$1183)-I1172)/(MAX($I$1161:$I$1183)-1)*10000*0.3,0)","v":6018},5476,"x",null,"Janus CM (FG) (fix gear=pevný podvozek)","J59",""]
["LukaS Plocek",1990,"M","Mladá Boleslav","CZ/C1","Toužim Cup 2024 - Klub",{"$f":"VLOOKUP(F1173,Soutez!A:B,2,FALSE)","v":"CZ"},{"$f":"VLOOKUP(F1173,Soutez!A:C,3,FALSE)","v":2024},13,1389,0.91,5656,5147,null,null,"ASW-19B","AH",""]
["Daniel Dvorak",1980,"M","Letkov","CZ/C1","Toužim Cup 2024 - Klub",{"$f":"VLOOKUP(F1174,Soutez!A:B,2,FALSE)","v":"CZ"},{"$f":"VLOOKUP(F1174,Soutez!A:C,3,FALSE)","v":2024},14,1381,0.91,5495,5000,null,null,"Std. Cirrus","LD",""]
["Tomas Talanda",1988,"M","Křižanov","CZ/M","Toužim Cup 2024 - Klub",{"$f":"VLOOKUP(F1175,Soutez!A:B,2,FALSE)","v":"CZ"},{"$f":"VLOOKUP(F1175,Soutez!A:C,3,FALSE)","v":2024},15,1334,0.91,5214,4745,"x",null,"Janus C (FG) (fix gear=pevný podvozek)","GVed",""]
["Jiri Cincera",1966,"M","Toužim","CZ/C1","Toužim Cup 2024 - Klub",{"$f":"VLOOKUP(F1176,Soutez!A:B,2,FALSE)","v":"CZ"},{"$f":"VLOOKUP(F1176,Soutez!A:C,3,FALSE)","v":2024},16,852,0.91,3588,3265,"x",null,"LS-1c","CI",""]
["Tomas Jung",1950,"M","Zbraslavice","CZ/C1","Toužim Cup 2024 - Klub",{"$f":"VLOOKUP(F1177,Soutez!A:B,2,FALSE)","v":"CZ"},{"$f":"VLOOKUP(F1177,Soutez!A:C,3,FALSE)","v":2024},17,799,0.91,3287,2991,"x",null,"ASW-19B",2,""]
["Tomas Seifert",1972,"M","Raná","CZ/C2","Toužim Cup 2024 - Klub",{"$f":"VLOOKUP(F1178,Soutez!A:B,2,FALSE)","v":"CZ"},{"$f":"VLOOKUP(F1178,Soutez!A:C,3,FALSE)","v":2024},18,773,0.91,3071,2795,"x",null,"ASW-15B","MC",""]
["Jan Vacik",1977,"M","Staňkov","CZ/C1","Toužim Cup 2024 - Klub",{"$f":"VLOOKUP(F1179,Soutez!A:B,2,FALSE)","v":"CZ"},{"$f":"VLOOKUP(F1179,Soutez!A:C,3,FALSE)","v":2024},19,724,0.91,2783,2533,"x",null,"Std. Cirrus",4,""]
["Marie Vesela",1999,"F","Staňkov","CZ/C1","Toužim Cup 2024 - Klub",{"$f":"VLOOKUP(F1180,Soutez!A:B,2,FALSE)","v":"CZ"},{"$f":"VLOOKUP(F1180,Soutez!A:C,3,FALSE)","v":2024},20,487,0.91,1914,1742,"x","x","Discus b","IJK",""]
["Martin Valenta",1969,"M","Toužim","CZ/C1","Toužim Cup 2024 - Klub",{"$f":"VLOOKUP(F1181,Soutez!A:B,2,FALSE)","v":"CZ"},{"$f":"VLOOKUP(F1181,Soutez!A:C,3,FALSE)","v":2024},21,473,0.91,1735,1579,"x",null,"G-104 Speed Astir II b","Y3",""]
["Miroslav Odlozilik",1973,"M","Zbraslavice","CZ/C1","Toužim Cup 2024 - Klub",{"$f":"VLOOKUP(F1182,Soutez!A:B,2,FALSE)","v":"CZ"},{"$f":"VLOOKUP(F1182,Soutez!A:C,3,FALSE)","v":2024},22,443,{"$f":"VLOOKUP(F1182,Soutez,12,0)","v":0.91},1505,1370,"x",null,"G-103 Twin Basic dvojí (zatahovací podvozek) nemá nádrže","RB",""]
["Rudolf Jung",1954,"M","Zbraslavice","CZ/C1","Toužim Cup 2024 - Klub",{"$f":"VLOOKUP(F1183,Soutez!A:B,2,FALSE)","v":"CZ"},{"$f":"VLOOKUP(F1183,Soutez!A:C,3,FALSE)","v":2024},23,441,0.91,1363,1240,"x",null,"G-103 Twin III dvojí (pevný podvozek)","TO",""]
["Ondrej Dupal",{"$f":"VLOOKUP(A1184,Pilot,2,0)","v":1966},{"$f":"VLOOKUP(A1184,Pilot,5,0)","v":"M"},{"$f":"VLOOKUP(A1184,Pilot,3,0)","v":"GAC Benešov"},{"$f":"VLOOKUP(A1184,Pilot,4,0)","v":"CZ/C1"},"Toužim Cup 2024 - Kombi",{"$f":"VLOOKUP(F1184,Soutez!A:B,2,FALSE)","v":"CZ"},{"$f":"VLOOKUP(F1184,Soutez!A:C,3,FALSE)","v":2024},1,2223,0.91500000000000004,{"$f":"ROUND(J1184/MAX($J$1184:$J$1215)*10000*0.7+(MAX($I$1184:$I$1215)-I1184)/(MAX($I$1184:$I$1215)-1)*10000*0.3,0)","v":10000},9150,"x",null,"ASG-29E /18m","GO",""]
["Ondrej Bordovsky",{"$f":"VLOOKUP(A1185,Pilot,2,0)","v":1983},{"$f":"VLOOKUP(A1185,Pilot,5,0)","v":"M"},{"$f":"VLOOKUP(A1185,Pilot,3,0)","v":"Krnov"},{"$f":"VLOOKUP(A1185,Pilot,4,0)","v":"CZ/M"},"Toužim Cup 2024 - Kombi",{"$f":"VLOOKUP(F1185,Soutez!A:B,2,FALSE)","v":"CZ"},{"$f":"VLOOKUP(F1185,Soutez!A:C,3,FALSE)","v":2024},2,2204,0.91500000000000004,{"$f":"ROUND(J1185/MAX($J$1184:$J$1215)*10000*0.7+(MAX($I$1184:$I$1215)-I1185)/(MAX($I$1184:$I$1215)-1)*10000*0.3,0)","v":9843},9006,"x",null,"Ventus c /17,6m","AD",""]
["Tomas Rendla",1973,"M","Zbraslavice","CZ/C1","Toužim Cup 2024 - Kombi",{"$f":"VLOOKUP(F1186,Soutez!A:B,2,FALSE)","v":"CZ"},{"$f":"VLOOKUP(F1186,Soutez!A:C,3,FALSE)","v":2024},3,2193,0.91500000000000004,9712,8886,"x",null,"AS 33 /18m","EZ",""]
["Vaclav Svoboda",1970,"M","Letkov","CZ/C1","Toužim Cup 2024 - Kombi",{"$f":"VLOOKUP(F1187,Soutez!A:B,2,FALSE)","v":"CZ"},{"$f":"VLOOKUP(F1187,Soutez!A:C,3,FALSE)","v":2024},4,2171,0.91500000000000004,9546,8735,"x",null,"LS-8-18 /18m",301,""]
["Michal LeSinger",1966,"M","Moravská Třebová","CZ/M","Toužim Cup 2024 - Kombi",{"$f":"VLOOKUP(F1188,Soutez!A:B,2,FALSE)","v":"CZ"},{"$f":"VLOOKUP(F1188,Soutez!A:C,3,FALSE)","v":2024},5,2148,0.91500000000000004,9377,8580,null,null,"ASG-32 Mi -800 kg","DX",""]
["Jan Viskot",1995,"M","Břeclav","CZ/M","Toužim Cup 2024 - Kombi",{"$f":"VLOOKUP(F1189,Soutez!A:B,2,FALSE)","v":"CZ"},{"$f":"VLOOKUP(F1189,Soutez!A:C,3,FALSE)","v":2024},6,2090,0.91500000000000004,9097,8324,"x",null,"Duo Discus (700 kg)","OK",""]
["Lubomir Motl",1959,"M","Kyjov","CZ/M","Toužim Cup 2024 - Kombi",{"$f":"VLOOKUP(F1190,Soutez!A:B,2,FALSE)","v":"CZ"},{"$f":"VLOOKUP(F1190,Soutez!A:C,3,FALSE)","v":2024},7,2088,0.91500000000000004,8994,8230,"x",null,"Nimbus 4DM","AM",""]
["Martin Picka",1974,"M","Tábor","CZ/C1","Toužim Cup 2024 - Kombi",{"$f":"VLOOKUP(F1191,Soutez!A:B,2,FALSE)","v":"CZ"},{"$f":"VLOOKUP(F1191,Soutez!A:C,3,FALSE)","v":2024},8,1974,0.91500000000000004,8539,7813,"x",null,"JS3-18m","NS",""]
["Pavel Jiranek",1993,"M","Toužim","CZ/C1","Toužim Cup 2024 - Kombi",{"$f":"VLOOKUP(F1192,Soutez!A:B,2,FALSE)","v":"CZ"},{"$f":"VLOOKUP(F1192,Soutez!A:C,3,FALSE)","v":2024},9,1953,0.91500000000000004,8376,7664,"x",null,"Ventus c /17,6m","CS",""]
["Vratislav Sram",1966,"M","Broumov","CZ/C2","Toužim Cup 2024 - Kombi",{"$f":"VLOOKUP(F1193,Soutez!A:B,2,FALSE)","v":"CZ"},{"$f":"VLOOKUP(F1193,Soutez!A:C,3,FALSE)","v":2024},10,1950,0.91500000000000004,8269,7566,"x",null,"Nimbus 4DM",7,""]
["David Zapletal",1970,"M","Mladá Boleslav","CZ/C1","Toužim Cup 2024 - Kombi",{"$f":"VLOOKUP(F1194,Soutez!A:B,2,FALSE)","v":"CZ"},{"$f":"VLOOKUP(F1194,Soutez!A:C,3,FALSE)","v":2024},11,1807,0.91500000000000004,7722,7066,"x",null,"Ventus c /17,6m","PUP",""]
["Petr Bartak",1984,"M","Letkov","CZ/C1","Toužim Cup 2024 - Kombi",{"$f":"VLOOKUP(F1195,Soutez!A:B,2,FALSE)","v":"CZ"},{"$f":"VLOOKUP(F1195,Soutez!A:C,3,FALSE)","v":2024},12,1786,0.91500000000000004,{"$f":"ROUND(J1195/MAX($J$1184:$J$1215)*10000*0.7+(MAX($I$1184:$I$1215)-I1195)/(MAX($I$1184:$I$1215)-1)*10000*0.3,0)","v":7559},6916,"x",null,"JS3-18m","BS",""]
["Frantisek Myska",1968,"M","Most","CZ/C2","Toužim Cup 2024 - Kombi",{"$f":"VLOOKUP(F1196,Soutez!A:B,2,FALSE)","v":"CZ"},{"$f":"VLOOKUP(F1196,Soutez!A:C,3,FALSE)","v":2024},13,1783,0.91500000000000004,7453,6819,"x",null,"Ventus bt /16,6m","SK",""]
["Jan Dersak 69",1969,"M","Kralupy","CZ/C1","Toužim Cup 2024 - Kombi",{"$f":"VLOOKUP(F1197,Soutez!A:B,2,FALSE)","v":"CZ"},{"$f":"VLOOKUP(F1197,Soutez!A:C,3,FALSE)","v":2024},14,1714,0.91500000000000004,7139,6532,null,null,"HpH 304MS SHARK","DJ",""]
["Petr Jiranek 63",1962,"M","Toužim","CZ/C1","Toužim Cup 2024 - Kombi",{"$f":"VLOOKUP(F1198,Soutez!A:B,2,FALSE)","v":"CZ"},{"$f":"VLOOKUP(F1198,Soutez!A:C,3,FALSE)","v":2024},15,1690,0.91500000000000004,6967,6375,"x",null,"HpH 304MS SHARK","LK",""]
["Gerald Moser-Furst",null,null,"USFC Krems","AT","Toužim Cup 2024 - Kombi",{"$f":"VLOOKUP(F1199,Soutez!A:B,2,FALSE)","v":"CZ"},{"$f":"VLOOKUP(F1199,Soutez!A:C,3,FALSE)","v":2024},16,1637,0.91500000000000004,6703,{"$f":"ROUND(K1199*L1199,0)","v":6133},null,null,"Duo Discus (700 kg)","K2","Není v databázi"]
["Petr Jiranek 91",{"$f":"VLOOKUP(A1200,Pilot,2,0)","v":1991},{"$f":"VLOOKUP(A1200,Pilot,5,0)","v":"M"},{"$f":"VLOOKUP(A1200,Pilot,3,0)","v":"Toužim"},{"$f":"VLOOKUP(A1200,Pilot,4,0)","v":"CZ/C1"},"Toužim Cup 2024 - Kombi",{"$f":"VLOOKUP(F1200,Soutez!A:B,2,FALSE)","v":"CZ"},{"$f":"VLOOKUP(F1200,Soutez!A:C,3,FALSE)","v":2024},17,1583,0.91500000000000004,6436,5889,"x",null,"Ventus c /17,6m","PC",""]
["Olga Mokosova",{"$f":"VLOOKUP(A1201,Pilot,2,0)","v":1970},{"$f":"VLOOKUP(A1201,Pilot,5,0)","v":"F"},{"$f":"VLOOKUP(A1201,Pilot,3,0)","v":"Jihlava"},{"$f":"VLOOKUP(A1201,Pilot,4,0)","v":"CZ/M"},"Toužim Cup 2024 - Kombi",{"$f":"VLOOKUP(F1201,Soutez!A:B,2,FALSE)","v":"CZ"},{"$f":"VLOOKUP(F1201,Soutez!A:C,3,FALSE)","v":2024},18,1493,0.91500000000000004,6056,5541,"x","x","LS-6c /18m WL","MM",""]
["Jan Florian",1992,"M","Zbraslavice","CZ/C1","Toužim Cup 2024 - Kombi",{"$f":"VLOOKUP(F1202,Soutez!A:B,2,FALSE)","v":"CZ"},{"$f":"VLOOKUP(F1202,Soutez!A:C,3,FALSE)","v":2024},19,1479,0.91500000000000004,5915,5412,"x",null,"Ventus c /17,6m","LS",""]
["Anna Lanzendorfova",2005,"F","Letkov","CZ/C1","Toužim Cup 2024 - Kombi",{"$f":"VLOOKUP(F1203,Soutez!A:B,2,FALSE)","v":"CZ"},{"$f":"VLOOKUP(F1203,Soutez!A:C,3,FALSE)","v":2024},20,1360,0.91500000000000004,5444,4981,"x","x","Duo Discus T (700kg)","ZS","Junior v roce 2026"]
["Martin Zahalka",1987,"M","Staňkov","CZ/C1","Toužim Cup 2024 - Kombi",{"$f":"VLOOKUP(F1204,Soutez!A:B,2,FALSE)","v":"CZ"},{"$f":"VLOOKUP(F1204,Soutez!A:C,3,FALSE)","v":2024},21,1273,0.91500000000000004,5073,4642,"x",null,"DG-400 17m","FF",""]
["Radovan Otto",1968,"M","Ústí nad Labem","CZ/C2","Toužim Cup 2024 - Kombi",{"$f":"VLOOKUP(F1205,Soutez!A:B,2,FALSE)","v":"CZ"},{"$f":"VLOOKUP(F1205,Soutez!A:C,3,FALSE)","v":2024},22,1271,0.91500000000000004,4970,4548,"x",null,"HpH 304MS SHARK /18m (560 kg)","XX",""]
["Antonin Kutalek",1943,"M","Zábřeh","CZ/M","Toužim Cup 2024 - Kombi",{"$f":"VLOOKUP(F1206,Soutez!A:B,2,FALSE)","v":"CZ"},{"$f":"VLOOKUP(F1206,Soutez!A:C,3,FALSE)","v":2024},23,1123,0.91500000000000004,4407,4032,"x",null,"LAK 17 AT 18m","GL",""]
["Roman Lanzendorf",1964,"M","Letkov","CZ/C1","Toužim Cup 2024 - Kombi",{"$f":"VLOOKUP(F1207,Soutez!A:B,2,FALSE)","v":"CZ"},{"$f":"VLOOKUP(F1207,Soutez!A:C,3,FALSE)","v":2024},24,1031,0.91500000000000004,4021,3679,"x",null,"Ventus ct /17,6m","AW",""]
["Zdenek Schenk",1972,"M","Hranice","CZ/M","Toužim Cup 2024 - Kombi",{"$f":"VLOOKUP(F1208,Soutez!A:B,2,FALSE)","v":"CZ"},{"$f":"VLOOKUP(F1208,Soutez!A:C,3,FALSE)","v":2024},25,1025,0.91500000000000004,3905,3573,null,null,"ASG-29E /18m","ŠNeK",""]
["FrantiSek Vancura",1966,"M","Hranice","CZ/M","Toužim Cup 2024 - Kombi",{"$f":"VLOOKUP(F1209,Soutez!A:B,2,FALSE)","v":"CZ"},{"$f":"VLOOKUP(F1209,Soutez!A:C,3,FALSE)","v":2024},26,1010,0.91500000000000004,3761,3441,null,null,"HpH 304 TS Twin Shark S 850kg","FNC",""]
["Vit Prokop",1987,"M","Medlánky","CZ/M","Toužim Cup 2024 - Kombi",{"$f":"VLOOKUP(F1210,Soutez!A:B,2,FALSE)","v":"CZ"},{"$f":"VLOOKUP(F1210,Soutez!A:C,3,FALSE)","v":2024},27,820,0.91500000000000004,3066,2805,"x",null,"Ventus c /17,6m","PD",""]
["Jiri Pajer",1977,"M","Zbraslavice","CZ/C1","Toužim Cup 2024 - Kombi",{"$f":"VLOOKUP(F1211,Soutez!A:B,2,FALSE)","v":"CZ"},{"$f":"VLOOKUP(F1211,Soutez!A:C,3,FALSE)","v":2024},28,615,0.91500000000000004,2324,2126,"x",null,"HpH 304 TS Twin Shark MS (850 kg)","NZ",""]
["Jaroslav Sefc",1971,"M","Broumov","CZ/C2","Toužim Cup 2024 - Kombi",{"$f":"VLOOKUP(F1212,Soutez!A:B,2,FALSE)","v":"CZ"},{"$f":"VLOOKUP(F1212,Soutez!A:C,3,FALSE)","v":2024},29,345,0.91500000000000004,1377,1260,"x",null,"ASH 26 E WL","SB",""]
["Tomas Profeld",1964,"M","Jičín","CZ/C2","Toužim Cup 2024 - Kombi",{"$f":"VLOOKUP(F1213,Soutez!A:B,2,FALSE)","v":"CZ"},{"$f":"VLOOKUP(F1213,Soutez!A:C,3,FALSE)","v":2024},30,270,0.91500000000000004,1044,955,"x",null,"Ventus 2cm /18m 525 kg","OZ",""]
["Roman Michalek",1974,"M","Toužim","CZ/C1","Toužim Cup 2024 - Kombi",{"$f":"VLOOKUP(F1214,Soutez!A:B,2,FALSE)","v":"CZ"},{"$f":"VLOOKUP(F1214,Soutez!A:C,3,FALSE)","v":2024},31,29,0.91500000000000004,188,172,"x",null,"DG-400 17m","TK",""]
["Karel Benisek 76",1976,"M","Toužim","CZ/C1","Toužim Cup 2024 - Kombi",{"$f":"VLOOKUP(F1215,Soutez!A:B,2,FALSE)","v":"CZ"},{"$f":"VLOOKUP(F1215,Soutez!A:C,3,FALSE)","v":2024},32,0,0.91500000000000004,0,0,null,null,"Ventus ct /17,6m","KB",""]
["Wolfgang Sluka",{"$f":"VLOOKUP(A1216,Pilot,2,0)","v":1942},{"$f":"VLOOKUP(A1216,Pilot,5,0)","v":"M"},{"$f":"VLOOKUP(A1216,Pilot,3,0)","v":"Liberec"},{"$f":"VLOOKUP(A1216,Pilot,4,0)","v":"CZ/C2"},"Safari Cup 2024 - Klub",{"$f":"VLOOKUP(F1216,Soutez!A:B,2,FALSE)","v":"CZ"},{"$f":"VLOOKUP(F1216,Soutez!A:C,3,FALSE)","v":2024},1,1325,0.73,{"$f":"ROUND(J1216/MAX($J$1216:$J$1242)*10000*0.7+(MAX($I$1216:$I$1242)-I1216)/(MAX($I$1216:$I$1242)-1)*10000*0.3,0)","v":10000},7300,"x",null,"Std. Cirrus","KA",""]
["Daniel Ryba",{"$f":"VLOOKUP(A1217,Pilot,2,0)","v":1994},{"$f":"VLOOKUP(A1217,Pilot,5,0)","v":"M"},{"$f":"VLOOKUP(A1217,Pilot,3,0)","v":"Dvůr Králové"},{"$f":"VLOOKUP(A1217,Pilot,4,0)","v":"CZ/C2"},"Safari Cup 2024 - Klub",{"$f":"VLOOKUP(F1217,Soutez!A:B,2,FALSE)","v":"CZ"},{"$f":"VLOOKUP(F1217,Soutez!A:C,3,FALSE)","v":2024},2,1211,0.73,{"$f":"ROUND(J1217/MAX($J$1216:$J$1242)*10000*0.7+(MAX($I$1216:$I$1242)-I1217)/(MAX($I$1216:$I$1242)-1)*10000*0.3,0)","v":9282},6776,"x",null,"Janus b dvojí","V1",""]
["Marek Kornec",1957,"M","Dvůr Králové","CZ/C2","Safari Cup 2024 - Klub",{"$f":"VLOOKUP(F1218,Soutez!A:B,2,FALSE)","v":"CZ"},{"$f":"VLOOKUP(F1218,Soutez!A:C,3,FALSE)","v":2024},3,1176,0.73,8982,6557,"x",null,"Janus C (FG)","KSS",""]
["Radim Sobek",1977,"M","Hranice","CZ/M","Safari Cup 2024 - Klub",{"$f":"VLOOKUP(F1219,Soutez!A:B,2,FALSE)","v":"CZ"},{"$f":"VLOOKUP(F1219,Soutez!A:C,3,FALSE)","v":2024},4,1115,0.73,8544,6237,"x",null,"TST-10M Atlas",7,""]
["Krzysztof Pienkowski",null,null,"Bielsko-Biala","PL","Safari Cup 2024 - Klub",{"$f":"VLOOKUP(F1220,Soutez!A:B,2,FALSE)","v":"CZ"},{"$f":"VLOOKUP(F1220,Soutez!A:C,3,FALSE)","v":2024},5,1082,0.73,8255,6026,null,null,"LS-4","KP","Není v databázi"]
["Ondrej Teichman",{"$f":"VLOOKUP(A1221,Pilot,2,0)","v":1984},{"$f":"VLOOKUP(A1221,Pilot,5,0)","v":"M"},{"$f":"VLOOKUP(A1221,Pilot,3,0)","v":"Dvůr Králové"},{"$f":"VLOOKUP(A1221,Pilot,4,0)","v":"CZ/C2"},"Safari Cup 2024 - Klub",{"$f":"VLOOKUP(F1221,Soutez!A:B,2,FALSE)","v":"CZ"},{"$f":"VLOOKUP(F1221,Soutez!A:C,3,FALSE)","v":2024},6,1046,0.73,7949,5803,"x",null,"Cirrus VTC","OT",""]
["Jan Hybner",{"$f":"VLOOKUP(A1222,Pilot,2,0)","v":1977},{"$f":"VLOOKUP(A1222,Pilot,5,0)","v":"M"},{"$f":"VLOOKUP(A1222,Pilot,3,0)","v":"Liberec"},{"$f":"VLOOKUP(A1222,Pilot,4,0)","v":"CZ/C2"},"Safari Cup 2024 - Klub",{"$f":"VLOOKUP(F1222,Soutez!A:B,2,FALSE)","v":"CZ"},{"$f":"VLOOKUP(F1222,Soutez!A:C,3,FALSE)","v":2024},7,1024,0.73,7718,5634,"x",null,"HpH 304cz 15m","LB",""]
["Tomas Kulhavy",2001,"M","Liberec","CZ/C2","Safari Cup 2024 - Klub",{"$f":"VLOOKUP(F1223,Soutez!A:B,2,FALSE)","v":"CZ"},{"$f":"VLOOKUP(F1223,Soutez!A:C,3,FALSE)","v":2024},8,1008,0.73,{"$f":"ROUND(J1223/MAX($J$1216:$J$1242)*10000*0.7+(MAX($I$1216:$I$1242)-I1223)/(MAX($I$1216:$I$1242)-1)*10000*0.3,0)","v":7518},5488,"x",null,"LS-3 15m","R9",{"$f":"IF(ISERROR(VLOOKUP(A1223,Pilot,6,0)),\"Není v databázi\",VLOOKUP(A1223,Pilot,6,0))","v":"Junior v roce 2026"}]
["Jaroslav Sima",1972,"M","Chomutov","CZ/C2","Safari Cup 2024 - Klub",{"$f":"VLOOKUP(F1224,Soutez!A:B,2,FALSE)","v":"CZ"},{"$f":"VLOOKUP(F1224,Soutez!A:C,3,FALSE)","v":2024},9,959,0.73,7143,5214,"x",null,"G-104 Speed Astir II","V2",""]
["Aleksander Jedrosz",null,null,null,"PL","Safari Cup 2024 - Klub",{"$f":"VLOOKUP(F1225,Soutez!A:B,2,FALSE)","v":"CZ"},{"$f":"VLOOKUP(F1225,Soutez!A:C,3,FALSE)","v":2024},10,957,0.73,7017,5122,null,null,"Centrair C-101A Pegase","AJ","Není v databázi"]
["Jerzy Mikolajczyk",null,null,"AZM/KSS","PL","Safari Cup 2024 - Klub",{"$f":"VLOOKUP(F1226,Soutez!A:B,2,FALSE)","v":"CZ"},{"$f":"VLOOKUP(F1226,Soutez!A:C,3,FALSE)","v":2024},11,801,0.73,6078,4437,null,null,"LS-4","YL","Není v databázi"]
["Martin Markl",{"$f":"VLOOKUP(A1227,Pilot,2,0)","v":1960},{"$f":"VLOOKUP(A1227,Pilot,5,0)","v":"M"},{"$f":"VLOOKUP(A1227,Pilot,3,0)","v":"Kolín"},{"$f":"VLOOKUP(A1227,Pilot,4,0)","v":"CZ/C1"},"Safari Cup 2024 - Klub",{"$f":"VLOOKUP(F1227,Soutez!A:B,2,FALSE)","v":"CZ"},{"$f":"VLOOKUP(F1227,Soutez!A:C,3,FALSE)","v":2024},12,786,0.73,5883,4295,"x",null,"ASK-21 dvojí","AK",""]
["Martin Cicvarek",{"$f":"VLOOKUP(A1228,Pilot,2,0)","v":1966},{"$f":"VLOOKUP(A1228,Pilot,5,0)","v":"M"},{"$f":"VLOOKUP(A1228,Pilot,3,0)","v":"Liberec"},{"$f":"VLOOKUP(A1228,Pilot,4,0)","v":"CZ/C2"},"Safari Cup 2024 - Klub",{"$f":"VLOOKUP(F1228,Soutez!A:B,2,FALSE)","v":"CZ"},{"$f":"VLOOKUP(F1228,Soutez!A:C,3,FALSE)","v":2024},13,781,0.73,5741,4191,"x",null,"KKB 15E+ (FES)","AC",""]
["Vojtech Pivonka",1976,"M","Vrchlabí","CZ/C2","Safari Cup 2024 - Klub",{"$f":"VLOOKUP(F1229,Soutez!A:B,2,FALSE)","v":"CZ"},{"$f":"VLOOKUP(F1229,Soutez!A:C,3,FALSE)","v":2024},14,749,0.73,{"$f":"ROUND(J1229/MAX($J$1216:$J$1242)*10000*0.7+(MAX($I$1216:$I$1242)-I1229)/(MAX($I$1216:$I$1242)-1)*10000*0.3,0)","v":5457},3984,"x",null,"G-103 Twin Astir dvojí (RG)",5,""]
["Vladislav Cadsky",1975,"M","Kolín","CZ/C1","Safari Cup 2024 - Klub",{"$f":"VLOOKUP(F1230,Soutez!A:B,2,FALSE)","v":"CZ"},{"$f":"VLOOKUP(F1230,Soutez!A:C,3,FALSE)","v":2024},15,712,0.73,5146,3757,"x",null,"G-102 Astir Jeans","VI",""]
["Jan Gohl",null,null,"Wroclaw","PL","Safari Cup 2024 - Klub",{"$f":"VLOOKUP(F1231,Soutez!A:B,2,FALSE)","v":"CZ"},{"$f":"VLOOKUP(F1231,Soutez!A:C,3,FALSE)","v":2024},16,668,0.73,4798,3503,null,null,"LS-1d","GX","Není v databázi"]
["Leos Nosek",{"$f":"VLOOKUP(A1232,Pilot,2,0)","v":1958},{"$f":"VLOOKUP(A1232,Pilot,5,0)","v":"M"},{"$f":"VLOOKUP(A1232,Pilot,3,0)","v":"Křižanov"},{"$f":"VLOOKUP(A1232,Pilot,4,0)","v":"CZ/M"},"Safari Cup 2024 - Klub",{"$f":"VLOOKUP(F1232,Soutez!A:B,2,FALSE)","v":"CZ"},{"$f":"VLOOKUP(F1232,Soutez!A:C,3,FALSE)","v":2024},17,628,0.73,4472,3265,"x",null,"G-104 Speed Astir II b","LE",""]
["Milan Bado",1975,"M","Kolín","CZ/C1","Safari Cup 2024 - Klub",{"$f":"VLOOKUP(F1233,Soutez!A:B,2,FALSE)","v":"CZ"},{"$f":"VLOOKUP(F1233,Soutez!A:C,3,FALSE)","v":2024},18,597,0.73,4192,3060,"x",null,"Std. Cirrus","FU",""]
["Karel Policky",1950,"M","Kolín","CZ/C1","Safari Cup 2024 - Klub",{"$f":"VLOOKUP(F1234,Soutez!A:B,2,FALSE)","v":"CZ"},{"$f":"VLOOKUP(F1234,Soutez!A:C,3,FALSE)","v":2024},19,568,0.73,3924,2865,"x",null,"VSO-10",93,""]
["Pavel Derda",1952,"M","Dvůr Králové","CZ/C2","Safari Cup 2024 - Klub",{"$f":"VLOOKUP(F1235,Soutez!A:B,2,FALSE)","v":"CZ"},{"$f":"VLOOKUP(F1235,Soutez!A:C,3,FALSE)","v":2024},20,531,0.73,3613,2637,"x",null,"Cirrus VTC","VTC",""]
["Martin Benesovsky",1975,"M","Kolín","CZ/C1","Safari Cup 2024 - Klub",{"$f":"VLOOKUP(F1236,Soutez!A:B,2,FALSE)","v":"CZ"},{"$f":"VLOOKUP(F1236,Soutez!A:C,3,FALSE)","v":2024},21,526,0.73,3471,2534,"x",null,"G-104 Speed Astir II b","M2",""]
["Krzysztof Kostka",null,null,"Jelenia Góra","PL","Safari Cup 2024 - Klub",{"$f":"VLOOKUP(F1237,Soutez!A:B,2,FALSE)","v":"CZ"},{"$f":"VLOOKUP(F1237,Soutez!A:C,3,FALSE)","v":2024},22,476,0.73,3092,2257,null,null,"DG 300","N5","Není v databázi"]
["Radek Bartos",{"$f":"VLOOKUP(A1238,Pilot,2,0)","v":1971},{"$f":"VLOOKUP(A1238,Pilot,5,0)","v":"M"},{"$f":"VLOOKUP(A1238,Pilot,3,0)","v":"Kolín"},{"$f":"VLOOKUP(A1238,Pilot,4,0)","v":"CZ/C1"},"Safari Cup 2024 - Klub",{"$f":"VLOOKUP(F1238,Soutez!A:B,2,FALSE)","v":"CZ"},{"$f":"VLOOKUP(F1238,Soutez!A:C,3,FALSE)","v":2024},23,472,0.73,2955,2157,"x",null,"DG-300 Club Elan (RG)","DG",""]
["Leszek Karczewski",null,null,"Podhalaňski","PL","Safari Cup 2024 - Klub",{"$f":"VLOOKUP(F1239,Soutez!A:B,2,FALSE)","v":"CZ"},{"$f":"VLOOKUP(F1239,Soutez!A:C,3,FALSE)","v":2024},23,472,0.73,2955,2157,null,null,"Std. Cirrus","KL","Není v databázi"]
["Stanislaw Buchman",null,null,"Wroclaw","PL","Safari Cup 2024 - Klub",{"$f":"VLOOKUP(F1240,Soutez!A:B,2,FALSE)","v":"CZ"},{"$f":"VLOOKUP(F1240,Soutez!A:C,3,FALSE)","v":2024},23,472,0.73,2955,2157,null,null,"G-102 Astir Jeans",33,"Není v databázi"]
["Karel Ertl",{"$f":"VLOOKUP(A1241,Pilot,2,0)","v":1939},{"$f":"VLOOKUP(A1241,Pilot,5,0)","v":"M"},{"$f":"VLOOKUP(A1241,Pilot,3,0)","v":"LK Břeclav"},{"$f":"VLOOKUP(A1241,Pilot,4,0)","v":"CZ/M"},"Safari Cup 2024 - Klub",{"$f":"VLOOKUP(F1241,Soutez!A:B,2,FALSE)","v":"CZ"},{"$f":"VLOOKUP(F1241,Soutez!A:C,3,FALSE)","v":2024},26,3,0.73,131,96,"x",null,"TST-10M Atlas","KE",""]
["Romuald Dorofiejczyk",null,null,"KSS","PL","Safari Cup 2024 - Klub",{"$f":"VLOOKUP(F1242,Soutez!A:B,2,FALSE)","v":"CZ"},{"$f":"VLOOKUP(F1242,Soutez!A:C,3,FALSE)","v":2024},27,0,0.73,{"$f":"ROUND(J1242/MAX($J$1216:$J$1242)*10000*0.7+(MAX($I$1216:$I$1242)-I1242)/(MAX($I$1216:$I$1242)-1)*10000*0.3,0)","v":0},0,null,null,"DG 300","NS","Není v databázi"]
["Milan Meisner",{"$f":"VLOOKUP(A1243,Pilot,2,0)","v":1961},{"$f":"VLOOKUP(A1243,Pilot,5,0)","v":"M"},{"$f":"VLOOKUP(A1243,Pilot,3,0)","v":"Dvůr Králové"},{"$f":"VLOOKUP(A1243,Pilot,4,0)","v":"CZ/C2"},"Safari Cup 2024 - Kombi",{"$f":"VLOOKUP(F1243,Soutez!A:B,2,FALSE)","v":"CZ"},{"$f":"VLOOKUP(F1243,Soutez!A:C,3,FALSE)","v":2024},1,1545,{"$f":"VLOOKUP(F1243,Soutez,12,0)","v":0.75},{"$f":"ROUND(J1243/MAX($J$1243:$J$1252)*10000*0.7+(MAX($I$1243:$I$1252)-I1243)/(MAX($I$1243:$I$1252)-1)*10000*0.3,0)","v":10000},7500,"x",null,"LAK-17B FES 18m","TF",""]
["Jan Pazour",1979,"M","Dvůr Králové","CZ/C2","Safari Cup 2024 - Kombi",{"$f":"VLOOKUP(F1244,Soutez!A:B,2,FALSE)","v":"CZ"},{"$f":"VLOOKUP(F1244,Soutez!A:C,3,FALSE)","v":2024},2,1275,0.75,{"$f":"ROUND(J1244/MAX($J$1243:$J$1252)*10000*0.7+(MAX($I$1243:$I$1252)-I1244)/(MAX($I$1243:$I$1252)-1)*10000*0.3,0)","v":8443},6332,"x",null,"ASW-20 L +FL 16,6m","JP",""]
["Ladislav Prokes",1954,"M","Vrchlabí","CZ/C2","Safari Cup 2024 - Kombi",{"$f":"VLOOKUP(F1245,Soutez!A:B,2,FALSE)","v":"CZ"},{"$f":"VLOOKUP(F1245,Soutez!A:C,3,FALSE)","v":2024},3,1247,0.75,7983,5987,"x",null,"Discus b","VR",""]
["Tomas Ditrt",1969,"M","Podhořany","CZ/C2","Safari Cup 2024 - Kombi",{"$f":"VLOOKUP(F1246,Soutez!A:B,2,FALSE)","v":"CZ"},{"$f":"VLOOKUP(F1246,Soutez!A:C,3,FALSE)","v":2024},4,1133,0.75,7133,5350,"x",null,"HpH 304MS SHARK 18m -560 kg","TDi",""]
["Milan Dvorak",1965,"M","Liberec","CZ/C2","Safari Cup 2024 - Kombi",{"$f":"VLOOKUP(F1247,Soutez!A:B,2,FALSE)","v":"CZ"},{"$f":"VLOOKUP(F1247,Soutez!A:C,3,FALSE)","v":2024},5,1132,0.75,6795,5096,"x",null,"HpH 304cz 17,4m","IH",""]
["Radek Bares",1963,"M","Jičín","CZ/C2","Safari Cup 2024 - Kombi",{"$f":"VLOOKUP(F1248,Soutez!A:B,2,FALSE)","v":"CZ"},{"$f":"VLOOKUP(F1248,Soutez!A:C,3,FALSE)","v":2024},6,1078,0.75,6217,4663,"x",null,"Ventus c 17.6m","GE",""]
["Slavomir Tanglmajer",1966,"M","Chomutov","CZ/C2","Safari Cup 2024 - Kombi",{"$f":"VLOOKUP(F1249,Soutez!A:B,2,FALSE)","v":"CZ"},{"$f":"VLOOKUP(F1249,Soutez!A:C,3,FALSE)","v":2024},7,876,0.75,{"$f":"ROUND(J1249/MAX($J$1243:$J$1252)*10000*0.7+(MAX($I$1243:$I$1252)-I1249)/(MAX($I$1243:$I$1252)-1)*10000*0.3,0)","v":4969},3727,"x",null,"DG 400 17m","ST",""]
["Petr Omelka",1970,"M","Vyškov","CZ/M","Safari Cup 2024 - Kombi",{"$f":"VLOOKUP(F1250,Soutez!A:B,2,FALSE)","v":"CZ"},{"$f":"VLOOKUP(F1250,Soutez!A:C,3,FALSE)","v":2024},8,348,0.75,2243,1682,null,null,"DG 400 17m","MR",""]
["Jiri Veprek",1959,"M","Dvůr Králové","CZ/C2","Safari Cup 2024 - Kombi",{"$f":"VLOOKUP(F1251,Soutez!A:B,2,FALSE)","v":"CZ"},{"$f":"VLOOKUP(F1251,Soutez!A:C,3,FALSE)","v":2024},9,122,0.75,886,665,"x",null,"HpH 304cz 17,4m","KN",""]
["Josef Plechac",1942,"M","Hronov","CZ/C2","Safari Cup 2024 - Kombi",{"$f":"VLOOKUP(F1252,Soutez!A:B,2,FALSE)","v":"CZ"},{"$f":"VLOOKUP(F1252,Soutez!A:C,3,FALSE)","v":2024},10,16,0.75,72,54,"x",null,"Nimbus 2M","PM",""]
["Petr Hofman",{"$f":"VLOOKUP(A1253,Pilot,2,0)","v":1984},{"$f":"VLOOKUP(A1253,Pilot,5,0)","v":"M"},{"$f":"VLOOKUP(A1253,Pilot,3,0)","v":"Letňany"},{"$f":"VLOOKUP(A1253,Pilot,4,0)","v":"CZ/C1"},"PPV 2024 - Klub",{"$f":"VLOOKUP(F1253,Soutez!A:B,2,FALSE)","v":"CZ"},{"$f":"VLOOKUP(F1253,Soutez!A:C,3,FALSE)","v":2024},1,4432,0.96000000000000008,{"$f":"ROUND(J1253/MAX($J$1253:$J$1282)*10000*0.7+(MAX($I$1253:$I$1282)-I1253)/(MAX($I$1253:$I$1282)-1)*10000*0.3,0)","v":10000},9600,"x",null,"ASW 15 B","MA",""]
["Pavel Rericha",1967,"M","Moravská Třebová","CZ/M","PPV 2024 - Klub",{"$f":"VLOOKUP(F1254,Soutez!A:B,2,FALSE)","v":"CZ"},{"$f":"VLOOKUP(F1254,Soutez!A:C,3,FALSE)","v":2024},2,4392,0.96000000000000008,{"$f":"ROUND(J1254/MAX($J$1253:$J$1282)*10000*0.7+(MAX($I$1253:$I$1282)-I1254)/(MAX($I$1253:$I$1282)-1)*10000*0.3,0)","v":9833},9440,"x",null,"ASW 19 B","NO",""]
["Hana Treslova",1991,"F","Raná","CZ/C2","PPV 2024 - Klub",{"$f":"VLOOKUP(F1255,Soutez!A:B,2,FALSE)","v":"CZ"},{"$f":"VLOOKUP(F1255,Soutez!A:C,3,FALSE)","v":2024},3,4375,0.96000000000000008,9703,9315,"x","x","Std. Cirrus","CI",""]
["Jindrich Svorc",1978,"M","Letňany","CZ/C1","PPV 2024 - Klub",{"$f":"VLOOKUP(F1256,Soutez!A:B,2,FALSE)","v":"CZ"},{"$f":"VLOOKUP(F1256,Soutez!A:C,3,FALSE)","v":2024},4,4302,0.96000000000000008,9484,9105,"x",null,"Discus bT WL","OI",""]
["Martin Urner",1974,"M","Letňany","CZ/C1","PPV 2024 - Klub",{"$f":"VLOOKUP(F1257,Soutez!A:B,2,FALSE)","v":"CZ"},{"$f":"VLOOKUP(F1257,Soutez!A:C,3,FALSE)","v":2024},5,4177,0.96000000000000008,9183,8816,"x",null,"ASW 15 B","JJ",""]
["Jakub Malik",1999,"M","Letňany","CZ/C1","PPV 2024 - Klub",{"$f":"VLOOKUP(F1258,Soutez!A:B,2,FALSE)","v":"CZ"},{"$f":"VLOOKUP(F1258,Soutez!A:C,3,FALSE)","v":2024},6,4142,0.96000000000000008,9025,8664,"x",null,"Discus b WL","DP",""]
["Jan Zahradka",1981,"M","Hodkovice","CZ/C2","PPV 2024 - Klub",{"$f":"VLOOKUP(F1259,Soutez!A:B,2,FALSE)","v":"CZ"},{"$f":"VLOOKUP(F1259,Soutez!A:C,3,FALSE)","v":2024},7,4119,0.96000000000000008,8885,8530,"x",null,"Std. Cirrus","AR",""]
["Lukas Capek",1992,"M","Letňany","CZ/C1","PPV 2024 - Klub",{"$f":"VLOOKUP(F1260,Soutez!A:B,2,FALSE)","v":"CZ"},{"$f":"VLOOKUP(F1260,Soutez!A:C,3,FALSE)","v":2024},8,4113,0.96000000000000008,8772,{"$f":"ROUND(K1260*L1260,0)","v":8421},null,null,"Mosquito","LC",""]
["Vaclav Marel",1974,"M","Jaroměř","CZ/C2","PPV 2024 - Klub",{"$f":"VLOOKUP(F1261,Soutez!A:B,2,FALSE)","v":"CZ"},{"$f":"VLOOKUP(F1261,Soutez!A:C,3,FALSE)","v":2024},9,4090,0.96000000000000008,8632,8287,"x",null,"Std. Cirrus","IF",""]
["Petr Malcek",1965,"M","Letňany","CZ/C1","PPV 2024 - Klub",{"$f":"VLOOKUP(F1262,Soutez!A:B,2,FALSE)","v":"CZ"},{"$f":"VLOOKUP(F1262,Soutez!A:C,3,FALSE)","v":2024},10,4044,0.96000000000000008,8456,8118,"x",null,"Discus b","LH",""]
["Jan Hruska",1988,"M","Tábor","CZ/C1","PPV 2024 - Klub",{"$f":"VLOOKUP(F1263,Soutez!A:B,2,FALSE)","v":"CZ"},{"$f":"VLOOKUP(F1263,Soutez!A:C,3,FALSE)","v":2024},11,3908,0.96000000000000008,8138,7812,"x",null,"ASW 15 B","LF",""]
["Milan Svoboda 80",1980,"M","Havlíčkův Brod","CZ/C2","PPV 2024 - Klub",{"$f":"VLOOKUP(F1264,Soutez!A:B,2,FALSE)","v":"CZ"},{"$f":"VLOOKUP(F1264,Soutez!A:C,3,FALSE)","v":2024},12,3690,0.96000000000000008,7690,7382,"x",null,"VT-116 Orlic 2",46,""]
["Pavel Liska",1965,"M","Roudnice","CZ/C2","PPV 2024 - Klub",{"$f":"VLOOKUP(F1265,Soutez!A:B,2,FALSE)","v":"CZ"},{"$f":"VLOOKUP(F1265,Soutez!A:C,3,FALSE)","v":2024},13,3660,0.96000000000000008,7539,7237,"x",null,"ASW 19 B","RCE",""]
["Jaroslav Buryan",1953,"M","Zábřeh","CZ/M","PPV 2024 - Klub",{"$f":"VLOOKUP(F1266,Soutez!A:B,2,FALSE)","v":"CZ"},{"$f":"VLOOKUP(F1266,Soutez!A:C,3,FALSE)","v":2024},14,3605,0.96000000000000008,7349,7055,"x",null,"ASW 20","NS",""]
["Radoslav Pur",1973,"M","Hosín","CZ/C1","PPV 2024 - Klub",{"$f":"VLOOKUP(F1267,Soutez!A:B,2,FALSE)","v":"CZ"},{"$f":"VLOOKUP(F1267,Soutez!A:C,3,FALSE)","v":2024},15,3277,0.96000000000000008,{"$f":"ROUND(J1267/MAX($J$1253:$J$1282)*10000*0.7+(MAX($I$1253:$I$1282)-I1267)/(MAX($I$1253:$I$1282)-1)*10000*0.3,0)","v":6727},6458,"x",null,"DG 200","EK",""]
["Filip Sirc",1993,"M","Letňany","CZ/C1","PPV 2024 - Klub",{"$f":"VLOOKUP(F1268,Soutez!A:B,2,FALSE)","v":"CZ"},{"$f":"VLOOKUP(F1268,Soutez!A:C,3,FALSE)","v":2024},16,3075,0.96000000000000008,6305,6053,"x",null,"ASW 19","WT",""]
["Petr Rozhon",1972,"M","Hosín","CZ/C1","PPV 2024 - Klub",{"$f":"VLOOKUP(F1269,Soutez!A:B,2,FALSE)","v":"CZ"},{"$f":"VLOOKUP(F1269,Soutez!A:C,3,FALSE)","v":2024},17,3014,0.96000000000000008,6105,5861,"x",null,"VSO-10",9,""]
["Frantisek Suna",1983,"M","Hosín","CZ/C1","PPV 2024 - Klub",{"$f":"VLOOKUP(F1270,Soutez!A:B,2,FALSE)","v":"CZ"},{"$f":"VLOOKUP(F1270,Soutez!A:C,3,FALSE)","v":2024},18,2943,0.96000000000000008,5890,5654,"x",null,"DG 100",78,""]
["David Benda",1974,"M","Letňany","CZ/C1","PPV 2024 - Klub",{"$f":"VLOOKUP(F1271,Soutez!A:B,2,FALSE)","v":"CZ"},{"$f":"VLOOKUP(F1271,Soutez!A:C,3,FALSE)","v":2024},19,2848,0.96000000000000008,5636,5411,"x",null,"G 102 Astir CS","PD",""]
["Filip Malik",2001,"M","Letňany","CZ/C1","PPV 2024 - Klub",{"$f":"VLOOKUP(F1272,Soutez!A:B,2,FALSE)","v":"CZ"},{"$f":"VLOOKUP(F1272,Soutez!A:C,3,FALSE)","v":2024},20,2820,0.96000000000000008,5488,5268,"x",null,"VSO-10","L5","Junior v roce 2026"]
["Miloslav Hulmak",1963,"M","Hosín","CZ/C1","PPV 2024 - Klub",{"$f":"VLOOKUP(F1273,Soutez!A:B,2,FALSE)","v":"CZ"},{"$f":"VLOOKUP(F1273,Soutez!A:C,3,FALSE)","v":2024},21,2679,0.96000000000000008,5162,4956,"x",null,"ASW 15 B","HH",""]
["Josef Kolman",1983,"M","Letňany","CZ/C1","PPV 2024 - Klub",{"$f":"VLOOKUP(F1274,Soutez!A:B,2,FALSE)","v":"CZ"},{"$f":"VLOOKUP(F1274,Soutez!A:C,3,FALSE)","v":2024},22,2570,0.96000000000000008,4887,4692,"x",null,"ASW 15 B","BA4",""]
["Ivan Kuzelka",1945,"M","Havlíčkův Brod","CZ/C2","PPV 2024 - Klub",{"$f":"VLOOKUP(F1275,Soutez!A:B,2,FALSE)","v":"CZ"},{"$f":"VLOOKUP(F1275,Soutez!A:C,3,FALSE)","v":2024},23,2429,0.96000000000000008,4561,4379,"x",null,"VT-116 Orlic 2","I",""]
["Jiri Holcman",1976,"M","Hosín","CZ/C1","PPV 2024 - Klub",{"$f":"VLOOKUP(F1276,Soutez!A:B,2,FALSE)","v":"CZ"},{"$f":"VLOOKUP(F1276,Soutez!A:C,3,FALSE)","v":2024},24,2305,0.96000000000000008,4261,4091,"x",null,"ASW 19","BO",""]
["Vojtech Hajek",1987,"M","Mladá Boleslav","CZ/C1","PPV 2024 - Klub",{"$f":"VLOOKUP(F1277,Soutez!A:B,2,FALSE)","v":"CZ"},{"$f":"VLOOKUP(F1277,Soutez!A:C,3,FALSE)","v":2024},25,2154,0.96000000000000008,3919,3762,"x",null,"Std. Cirrus","BW",""]
["Petr Styblo",1975,"M","Letňany","CZ/C1","PPV 2024 - Klub",{"$f":"VLOOKUP(F1278,Soutez!A:B,2,FALSE)","v":"CZ"},{"$f":"VLOOKUP(F1278,Soutez!A:C,3,FALSE)","v":2024},26,2006,0.96000000000000008,3582,3439,"x",null,"G 102 Astir CS","PJ",""]
["Vaclav Petru",1974,"M","Letňany","CZ/C1","PPV 2024 - Klub",{"$f":"VLOOKUP(F1279,Soutez!A:B,2,FALSE)","v":"CZ"},{"$f":"VLOOKUP(F1279,Soutez!A:C,3,FALSE)","v":2024},27,1952,0.96000000000000008,3393,3257,"x",null,"Alpin T","AI",""]
["Jiri Donat",1983,"M","Letňany","CZ/C1","PPV 2024 - Klub",{"$f":"VLOOKUP(F1280,Soutez!A:B,2,FALSE)","v":"CZ"},{"$f":"VLOOKUP(F1280,Soutez!A:C,3,FALSE)","v":2024},28,1172,0.96000000000000008,2058,1976,"x",null,"Std. Cirrus WL","JE",""]
["Milos Hrabe",1979,"M","Letňany","CZ/C1","PPV 2024 - Klub",{"$f":"VLOOKUP(F1281,Soutez!A:B,2,FALSE)","v":"CZ"},{"$f":"VLOOKUP(F1281,Soutez!A:C,3,FALSE)","v":2024},29,981,0.96000000000000008,1653,1587,"x",null,"Std. Cirrus","L8",""]
["Tomas Holenda",1956,"M","Havlíčkův Brod","CZ/C2","PPV 2024 - Klub",{"$f":"VLOOKUP(F1282,Soutez!A:B,2,FALSE)","v":"CZ"},{"$f":"VLOOKUP(F1282,Soutez!A:C,3,FALSE)","v":2024},30,771,0.96000000000000008,1218,1169,"x",null,"VT-116 Orlic 2","ZUZ",""]
["Jan Boruvka",{"$f":"VLOOKUP(A1283,Pilot,2,0)","v":1984},{"$f":"VLOOKUP(A1283,Pilot,5,0)","v":"M"},{"$f":"VLOOKUP(A1283,Pilot,3,0)","v":"Jičín"},{"$f":"VLOOKUP(A1283,Pilot,4,0)","v":"CZ/C2"},"PPV 2024 - Kombi",{"$f":"VLOOKUP(F1283,Soutez!A:B,2,FALSE)","v":"CZ"},{"$f":"VLOOKUP(F1283,Soutez!A:C,3,FALSE)","v":2024},1,3834,0.92500000000000004,{"$f":"ROUND(J1283/MAX($J$1283:$J$1313)*10000*0.7+(MAX($I$1283:$I$1313)-I1283)/(MAX($I$1283:$I$1313)-1)*10000*0.3,0)","v":10000},9250,"x",null,"Ventus c 17.6m","EG",""]
["Jan Kotan",1982,"M","Letňany","CZ/C1","PPV 2024 - Kombi",{"$f":"VLOOKUP(F1284,Soutez!A:B,2,FALSE)","v":"CZ"},{"$f":"VLOOKUP(F1284,Soutez!A:C,3,FALSE)","v":2024},2,3785,0.92500000000000004,{"$f":"ROUND(J1284/MAX($J$1283:$J$1313)*10000*0.7+(MAX($I$1283:$I$1313)-I1284)/(MAX($I$1283:$I$1313)-1)*10000*0.3,0)","v":9811},9075,"x",null,"AS 33 Es 18m","CAT",{"$f":"IF(ISERROR(VLOOKUP(A1284,Pilot,6,0)),\"Není v databázi\",VLOOKUP(A1284,Pilot,6,0))","v":""}]
["Tomas Bobok",null,null,"Prievidza","SK","PPV 2024 - Kombi",{"$f":"VLOOKUP(F1285,Soutez!A:B,2,FALSE)","v":"CZ"},{"$f":"VLOOKUP(F1285,Soutez!A:C,3,FALSE)","v":2024},3,3735,0.92500000000000004,9619,8898,null,null,"Discus 2cT 18m","AL","Není v databázi"]
["Jan Kantor",1983,"M","Letňany","CZ/C1","PPV 2024 - Kombi",{"$f":"VLOOKUP(F1286,Soutez!A:B,2,FALSE)","v":"CZ"},{"$f":"VLOOKUP(F1286,Soutez!A:C,3,FALSE)","v":2024},4,3721,0.92500000000000004,9494,8782,"x",null,"ASG 29 E 18m","QX",""]
["Ondrej Bordovsky",1983,"M","Krnov","CZ/M","PPV 2024 - Kombi",{"$f":"VLOOKUP(F1287,Soutez!A:B,2,FALSE)","v":"CZ"},{"$f":"VLOOKUP(F1287,Soutez!A:C,3,FALSE)","v":2024},5,3663,0.92500000000000004,9288,8591,"x",null,"Ventus c 17.6m","AD",""]
["Eduard Niko",1988,"M","Zbraslavice","CZ/C1","PPV 2024 - Kombi",{"$f":"VLOOKUP(F1288,Soutez!A:B,2,FALSE)","v":"CZ"},{"$f":"VLOOKUP(F1288,Soutez!A:C,3,FALSE)","v":2024},6,3609,0.92500000000000004,9089,8407,"x",null,"Discus 2cT 18m","AE",""]
["Josef Busek",1967,"M","Hosín","CZ/C1","PPV 2024 - Kombi",{"$f":"VLOOKUP(F1289,Soutez!A:B,2,FALSE)","v":"CZ"},{"$f":"VLOOKUP(F1289,Soutez!A:C,3,FALSE)","v":2024},7,3582,0.92500000000000004,8940,8270,"x",null,"Duo Discus X","BB",""]
["Zdenek Boruvka 86",1986,"M","Jičín","CZ/C2","PPV 2024 - Kombi",{"$f":"VLOOKUP(F1290,Soutez!A:B,2,FALSE)","v":"CZ"},{"$f":"VLOOKUP(F1290,Soutez!A:C,3,FALSE)","v":2024},8,3426,0.92500000000000004,8555,7913,"x",null,"Ventus c 17.6m","VV",""]
["David Zapletal",1970,"M","Mladá Boleslav","CZ/C1","PPV 2024 - Kombi",{"$f":"VLOOKUP(F1291,Soutez!A:B,2,FALSE)","v":"CZ"},{"$f":"VLOOKUP(F1291,Soutez!A:C,3,FALSE)","v":2024},9,3410,0.92500000000000004,8426,7794,"x",null,"Ventus c 17.6m","PUP",""]
["Dana Novakova",1965,"F","Mladá Boleslav","CZ/C1","PPV 2024 - Kombi",{"$f":"VLOOKUP(F1292,Soutez!A:B,2,FALSE)","v":"CZ"},{"$f":"VLOOKUP(F1292,Soutez!A:C,3,FALSE)","v":2024},10,3393,0.92500000000000004,8295,7673,"x","x","LS 8 18m","ID",""]
["Jan Simon",1970,"M","Kralupy","CZ/C1","PPV 2024 - Kombi",{"$f":"VLOOKUP(F1293,Soutez!A:B,2,FALSE)","v":"CZ"},{"$f":"VLOOKUP(F1293,Soutez!A:C,3,FALSE)","v":2024},11,3274,0.92500000000000004,7978,7380,null,null,"Ventus cT 17.6m","KR",""]
["Jan Dersak 69",1969,"M","Kralupy","CZ/C1","PPV 2024 - Kombi",{"$f":"VLOOKUP(F1294,Soutez!A:B,2,FALSE)","v":"CZ"},{"$f":"VLOOKUP(F1294,Soutez!A:C,3,FALSE)","v":2024},12,3256,0.92500000000000004,7845,7257,"x",null,"HpH 304 MS Shark","DJ",""]
["Petr Hotovy",1958,"M","Česká Lípa","CZ/C2","PPV 2024 - Kombi",{"$f":"VLOOKUP(F1295,Soutez!A:B,2,FALSE)","v":"CZ"},{"$f":"VLOOKUP(F1295,Soutez!A:C,3,FALSE)","v":2024},13,3191,0.92500000000000004,7626,7054,"x",null,"JS1 18m","IGC",""]
["Petr Babak",1973,"M","Hořice","CZ/C2","PPV 2024 - Kombi",{"$f":"VLOOKUP(F1296,Soutez!A:B,2,FALSE)","v":"CZ"},{"$f":"VLOOKUP(F1296,Soutez!A:C,3,FALSE)","v":2024},14,3166,0.92500000000000004,7480,6919,"x",null,"Ventus 2cM 18m","LS",""]
["Jiri Koudela",1974,"M","Vyškov","CZ/M","PPV 2024 - Kombi",{"$f":"VLOOKUP(F1297,Soutez!A:B,2,FALSE)","v":"CZ"},{"$f":"VLOOKUP(F1297,Soutez!A:C,3,FALSE)","v":2024},15,3121,0.92500000000000004,{"$f":"ROUND(J1297/MAX($J$1283:$J$1313)*10000*0.7+(MAX($I$1283:$I$1313)-I1297)/(MAX($I$1283:$I$1313)-1)*10000*0.3,0)","v":7298},6751,null,null,"Ventus cM 17.6m","JK",""]
["Milos Srank",null,null,null,"SK","PPV 2024 - Kombi",{"$f":"VLOOKUP(F1298,Soutez!A:B,2,FALSE)","v":"CZ"},{"$f":"VLOOKUP(F1298,Soutez!A:C,3,FALSE)","v":2024},16,3051,0.92500000000000004,7070,6540,null,null,"ASG 29 E 18m","LK","Není v databázi"]
["Zdenek Schenk",1972,"M","Hranice","CZ/M","PPV 2024 - Kombi",{"$f":"VLOOKUP(F1299,Soutez!A:B,2,FALSE)","v":"CZ"},{"$f":"VLOOKUP(F1299,Soutez!A:C,3,FALSE)","v":2024},17,3014,0.92500000000000004,6903,6385,"x",null,"ASG 29 E 18m","SNeK",""]
["Zdenek Boruvka 54",1954,"M","Jičín","CZ/C2","PPV 2024 - Kombi",{"$f":"VLOOKUP(F1300,Soutez!A:B,2,FALSE)","v":"CZ"},{"$f":"VLOOKUP(F1300,Soutez!A:C,3,FALSE)","v":2024},18,2983,0.92500000000000004,6746,6240,"x",null,"LS 8 18m","ZB",""]
["Marek Blatak",1969,"M","Šumperk","CZ/M","PPV 2024 - Kombi",{"$f":"VLOOKUP(F1301,Soutez!A:B,2,FALSE)","v":"CZ"},{"$f":"VLOOKUP(F1301,Soutez!A:C,3,FALSE)","v":2024},19,2929,0.92500000000000004,6548,6057,null,null,"Duo Discus T","ZS",""]
["Ales Vyhnal",1989,"M","Kralupy","CZ/C1","PPV 2024 - Kombi",{"$f":"VLOOKUP(F1302,Soutez!A:B,2,FALSE)","v":"CZ"},{"$f":"VLOOKUP(F1302,Soutez!A:C,3,FALSE)","v":2024},20,2918,0.92500000000000004,6428,5946,"x",null,"Nimbus 3 22.9m WL","HS",""]
["Vaclav Hruza",1965,"M","Břeclav","CZ/M","PPV 2024 - Kombi",{"$f":"VLOOKUP(F1303,Soutez!A:B,2,FALSE)","v":"CZ"},{"$f":"VLOOKUP(F1303,Soutez!A:C,3,FALSE)","v":2024},21,2798,0.92500000000000004,6109,5651,"x",null,"HpH 304 TS Twin Shark","PH",""]
["Tomas Ptacovsky",1981,"M","Letňany","CZ/C1","PPV 2024 - Kombi",{"$f":"VLOOKUP(F1304,Soutez!A:B,2,FALSE)","v":"CZ"},{"$f":"VLOOKUP(F1304,Soutez!A:C,3,FALSE)","v":2024},22,2612,0.92500000000000004,5669,5244,"x",null,"Ventus c 17.6m","UC",""]
["Jan Florian",1992,"M","Zbraslavice","CZ/C1","PPV 2024 - Kombi",{"$f":"VLOOKUP(F1305,Soutez!A:B,2,FALSE)","v":"CZ"},{"$f":"VLOOKUP(F1305,Soutez!A:C,3,FALSE)","v":2024},23,2377,{"$f":"VLOOKUP(F1305,Soutez,12,0)","v":0.92500000000000004},5140,4755,null,null,"Ventus c 17.6m","LS",""]
["Peter Janoska",null,null,null,"SK","PPV 2024 - Kombi",{"$f":"VLOOKUP(F1306,Soutez!A:B,2,FALSE)","v":"CZ"},{"$f":"VLOOKUP(F1306,Soutez!A:C,3,FALSE)","v":2024},24,2337,0.92500000000000004,4967,4594,null,null,"LS 6 17.5m","N6","Není v databázi"]
["Martin Holik",1959,"M","Letňany","CZ/C1","PPV 2024 - Kombi",{"$f":"VLOOKUP(F1307,Soutez!A:B,2,FALSE)","v":"CZ"},{"$f":"VLOOKUP(F1307,Soutez!A:C,3,FALSE)","v":2024},25,2275,0.92500000000000004,4754,4397,"x",null,"LS 6 18m","F5",""]
["Ivo Burda",1962,"M","Zbraslavice","CZ/C1","PPV 2024 - Kombi",{"$f":"VLOOKUP(F1308,Soutez!A:B,2,FALSE)","v":"CZ"},{"$f":"VLOOKUP(F1308,Soutez!A:C,3,FALSE)","v":2024},26,2192,0.92500000000000004,4502,4164,"x",null,"Ventus 2cxM 18m","IB",""]
["Lukas Benedikt",null,null,null,"SK","PPV 2024 - Kombi",{"$f":"VLOOKUP(F1309,Soutez!A:B,2,FALSE)","v":"CZ"},{"$f":"VLOOKUP(F1309,Soutez!A:C,3,FALSE)","v":2024},27,2076,0.92500000000000004,4190,3876,null,null,"Ventus 3F 18m","LB","Není v databázi"]
["Antonin Kutalek",1943,"M","Zábřeh","CZ/M","PPV 2024 - Kombi",{"$f":"VLOOKUP(F1310,Soutez!A:B,2,FALSE)","v":"CZ"},{"$f":"VLOOKUP(F1310,Soutez!A:C,3,FALSE)","v":2024},28,1894,0.92500000000000004,3758,3476,null,null,"LAK-17A T 18m","GL",""]
["Radek Zima 75",1975,"M","Břeclav","CZ/M","PPV 2024 - Kombi",{"$f":"VLOOKUP(F1311,Soutez!A:B,2,FALSE)","v":"CZ"},{"$f":"VLOOKUP(F1311,Soutez!A:C,3,FALSE)","v":2024},29,1822,0.92500000000000004,3527,3262,"x",null,"Ventus cM 17.6m","RK",""]
["Milos Mach",null,null,null,"SK","PPV 2024 - Kombi",{"$f":"VLOOKUP(F1312,Soutez!A:B,2,FALSE)","v":"CZ"},{"$f":"VLOOKUP(F1312,Soutez!A:C,3,FALSE)","v":2024},30,1739,0.92500000000000004,3275,3029,null,null,"Discus 2cT 18m","JH","Není v databázi"]
["Juraj Dudas",null,"M","Aeroklub Dubnica nad Váhom",null,"PPV 2024 - Kombi",{"$f":"VLOOKUP(F1313,Soutez!A:B,2,FALSE)","v":"CZ"},{"$f":"VLOOKUP(F1313,Soutez!A:C,3,FALSE)","v":2024},31,1654,0.92500000000000004,3020,2794,null,null,"Ventus cT 17.6m","JQ","Není v databázi"]
["David Riha",{"$f":"VLOOKUP(A1314,Pilot,2,0)","v":1983},{"$f":"VLOOKUP(A1314,Pilot,5,0)","v":"M"},{"$f":"VLOOKUP(A1314,Pilot,3,0)","v":"Vlašim"},{"$f":"VLOOKUP(A1314,Pilot,4,0)","v":"CZ/C1"},"Ranský pohár 2024 - Klub",{"$f":"VLOOKUP(F1314,Soutez!A:B,2,FALSE)","v":"CZ"},{"$f":"VLOOKUP(F1314,Soutez!A:C,3,FALSE)","v":2024},1,3849,0.76500000000000001,{"$f":"ROUND(J1314/MAX($J$1314:$J$1335)*10000*0.7+(MAX($I$1314:$I$1335)-I1314)/(MAX($I$1314:$I$1335)-1)*10000*0.3,0)","v":10000},7650,"x",null,"ASW 15 B","XE",""]
["Jiri Maier 99",1999,"M","Raná","CZ/C2","Ranský pohár 2024 - Klub",{"$f":"VLOOKUP(F1315,Soutez!A:B,2,FALSE)","v":"CZ"},{"$f":"VLOOKUP(F1315,Soutez!A:C,3,FALSE)","v":2024},2,3648,0.76500000000000001,9492,7261,"x",null,"Discus bT WL","TAL",""]
["Petr Panek",{"$f":"VLOOKUP(A1316,Pilot,2,0)","v":1975},{"$f":"VLOOKUP(A1316,Pilot,5,0)","v":"M"},{"$f":"VLOOKUP(A1316,Pilot,3,0)","v":"Dvůr Králové"},{"$f":"VLOOKUP(A1316,Pilot,4,0)","v":"CZ/C2"},"Ranský pohár 2024 - Klub",{"$f":"VLOOKUP(F1316,Soutez!A:B,2,FALSE)","v":"CZ"},{"$f":"VLOOKUP(F1316,Soutez!A:C,3,FALSE)","v":2024},3,3607,0.76500000000000001,9274,7095,"x",null,"Std. Cirrus WL","UY",""]
["Jiri Maier 66",{"$f":"VLOOKUP(A1317,Pilot,2,0)","v":1966},{"$f":"VLOOKUP(A1317,Pilot,5,0)","v":"M"},{"$f":"VLOOKUP(A1317,Pilot,3,0)","v":"Raná"},{"$f":"VLOOKUP(A1317,Pilot,4,0)","v":"CZ/C2"},"Ranský pohár 2024 - Klub",{"$f":"VLOOKUP(F1317,Soutez!A:B,2,FALSE)","v":"CZ"},{"$f":"VLOOKUP(F1317,Soutez!A:C,3,FALSE)","v":2024},4,3496,0.76500000000000001,8929,6831,"x",null,"ASW 24 E WL","JM",""]
["Petr Benes",1980,"M","Raná","CZ/C2","Ranský pohár 2024 - Klub",{"$f":"VLOOKUP(F1318,Soutez!A:B,2,FALSE)","v":"CZ"},{"$f":"VLOOKUP(F1318,Soutez!A:C,3,FALSE)","v":2024},5,349,0.76500000000000001,3063,2343,"x",null,"Std. Cirrus","EX",""]
["Marek Svancara",1976,"M","GAC Benešov","CZ/C1","Ranský pohár 2024 - Klub",{"$f":"VLOOKUP(F1319,Soutez!A:B,2,FALSE)","v":"CZ"},{"$f":"VLOOKUP(F1319,Soutez!A:C,3,FALSE)","v":2024},6,3472,0.76500000000000001,8600,6579,"x",null,"Std. Cirrus","GT",""]
["Frantisek Filandr",1956,"M","Most","CZ/C2","Ranský pohár 2024 - Klub",{"$f":"VLOOKUP(F1320,Soutez!A:B,2,FALSE)","v":"CZ"},{"$f":"VLOOKUP(F1320,Soutez!A:C,3,FALSE)","v":2024},7,3296,0.76500000000000001,8137,6225,"x",null,"Std. Cirrus","FF",""]
["Jan Smaha",{"$f":"VLOOKUP(A1321,Pilot,2,0)","v":1958},{"$f":"VLOOKUP(A1321,Pilot,5,0)","v":"M"},{"$f":"VLOOKUP(A1321,Pilot,3,0)","v":"Česká Lípa"},{"$f":"VLOOKUP(A1321,Pilot,4,0)","v":"CZ/C2"},"Ranský pohár 2024 - Klub",{"$f":"VLOOKUP(F1321,Soutez!A:B,2,FALSE)","v":"CZ"},{"$f":"VLOOKUP(F1321,Soutez!A:C,3,FALSE)","v":2024},8,3246,0.76500000000000001,7903,6046,null,null,"ASW 15 B","CW",""]
["Dalibor Pek",1968,"M","Raná","CZ/C2","Ranský pohár 2024 - Klub",{"$f":"VLOOKUP(F1322,Soutez!A:B,2,FALSE)","v":"CZ"},{"$f":"VLOOKUP(F1322,Soutez!A:C,3,FALSE)","v":2024},9,2918,0.76500000000000001,7164,{"$f":"ROUND(K1322*L1322,0)","v":5480},"x",null,"Std. Cirrus","GP",""]
["Adam Laburda",2005,"M","Raná","CZ/C2","Ranský pohár 2024 - Klub",{"$f":"VLOOKUP(F1323,Soutez!A:B,2,FALSE)","v":"CZ"},{"$f":"VLOOKUP(F1323,Soutez!A:C,3,FALSE)","v":2024},10,2398,0.76500000000000001,6075,4647,"x",null,"VSO-10",59,"Junior v roce 2026"]
["Vojtech Kostejn",1974,"M","Česká Lípa","CZ/C2","Ranský pohár 2024 - Klub",{"$f":"VLOOKUP(F1324,Soutez!A:B,2,FALSE)","v":"CZ"},{"$f":"VLOOKUP(F1324,Soutez!A:C,3,FALSE)","v":2024},11,2318,0.76500000000000001,5787,4427,"x",null,"ASW 15 B","T",""]
["Tomas Novak",1974,"M","Česká Lípa","CZ/C2","Ranský pohár 2024 - Klub",{"$f":"VLOOKUP(F1325,Soutez!A:B,2,FALSE)","v":"CZ"},{"$f":"VLOOKUP(F1325,Soutez!A:C,3,FALSE)","v":2024},12,2152,0.76500000000000001,5342,4087,"x",null,"Std. Cirrus","CV",""]
["Daniel Devecka",1981,"M","Vlašim","CZ/C1","Ranský pohár 2024 - Klub",{"$f":"VLOOKUP(F1326,Soutez!A:B,2,FALSE)","v":"CZ"},{"$f":"VLOOKUP(F1326,Soutez!A:C,3,FALSE)","v":2024},13,1854,0.76500000000000001,4657,3563,"x",null,"LS 3a","2G",""]
["Tomas Mezera",1973,"M","Raná","CZ/C2","Ranský pohár 2024 - Klub",{"$f":"VLOOKUP(F1327,Soutez!A:B,2,FALSE)","v":"CZ"},{"$f":"VLOOKUP(F1327,Soutez!A:C,3,FALSE)","v":2024},14,1796,0.76500000000000001,4409,3373,"x",null,"M-35",36,""]
["Rostislav Fric",1973,"M","Raná","CZ/C2","Ranský pohár 2024 - Klub",{"$f":"VLOOKUP(F1328,Soutez!A:B,2,FALSE)","v":"CZ"},{"$f":"VLOOKUP(F1328,Soutez!A:C,3,FALSE)","v":2024},15,1767,0.76500000000000001,4214,3224,"x",null,"ASW 19","FR",""]
["Jana Mezerova",1975,"F","Raná","CZ/C2","Ranský pohár 2024 - Klub",{"$f":"VLOOKUP(F1329,Soutez!A:B,2,FALSE)","v":"CZ"},{"$f":"VLOOKUP(F1329,Soutez!A:C,3,FALSE)","v":2024},16,1761,0.76500000000000001,4060,3106,"x","x","LS 1-0","AL",""]
["Martin Fric",1967,"M","Raná","CZ/C2","Ranský pohár 2024 - Klub",{"$f":"VLOOKUP(F1330,Soutez!A:B,2,FALSE)","v":"CZ"},{"$f":"VLOOKUP(F1330,Soutez!A:C,3,FALSE)","v":2024},17,161,0.76500000000000001,1007,770,null,null,"Janus 18.2m","RA",""]
["Jaromir Vlk",1959,"M","Šumperk","CZ/M","Ranský pohár 2024 - Klub",{"$f":"VLOOKUP(F1331,Soutez!A:B,2,FALSE)","v":"CZ"},{"$f":"VLOOKUP(F1331,Soutez!A:C,3,FALSE)","v":2024},18,1514,0.76500000000000001,3325,2544,null,null,"ASW 15 B",15,""]
["Eva Klapkova",1993,"F","Raná","CZ/C2","Ranský pohár 2024 - Klub",{"$f":"VLOOKUP(F1332,Soutez!A:B,2,FALSE)","v":"CZ"},{"$f":"VLOOKUP(F1332,Soutez!A:C,3,FALSE)","v":2024},19,1436,0.76500000000000001,3040,2326,"x","x","ASW 15","TZ",""]
["Sarka Lochova",1966,"F","Šumperk","CZ/M","Ranský pohár 2024 - Klub",{"$f":"VLOOKUP(F1333,Soutez!A:B,2,FALSE)","v":"CZ"},{"$f":"VLOOKUP(F1333,Soutez!A:C,3,FALSE)","v":2024},20,1373,0.76500000000000001,2783,2129,"x","x","ASW 15 B","R5",""]
["Pavel Melichar",1983,"M","Vlašim","CZ/C1","Ranský pohár 2024 - Klub",{"$f":"VLOOKUP(F1334,Soutez!A:B,2,FALSE)","v":"CZ"},{"$f":"VLOOKUP(F1334,Soutez!A:C,3,FALSE)","v":2024},21,341,0.76500000000000001,763,584,"x",null,"VSO-10 C","V3",""]
["Petr Lonsky",1965,"M","Toužim","CZ/C1","Ranský pohár 2024 - Klub",{"$f":"VLOOKUP(F1335,Soutez!A:B,2,FALSE)","v":"CZ"},{"$f":"VLOOKUP(F1335,Soutez!A:C,3,FALSE)","v":2024},22,0,0.76500000000000001,0,0,null,null,"Cirrus VTC 17.74m","JP",""]
["Milos Dedera",{"$f":"VLOOKUP(A1336,Pilot,2,0)","v":1956},{"$f":"VLOOKUP(A1336,Pilot,5,0)","v":"M"},{"$f":"VLOOKUP(A1336,Pilot,3,0)","v":"Jihlava"},{"$f":"VLOOKUP(A1336,Pilot,4,0)","v":"CZ/M"},"Pohár Českého Ráje 2024 - Klub",{"$f":"VLOOKUP(F1336,Soutez!A:B,2,FALSE)","v":"CZ"},{"$f":"VLOOKUP(F1336,Soutez!A:C,3,FALSE)","v":2024},1,1184,0.73,{"$f":"ROUND(J1336/MAX($J$1336:$J$1351)*10000*0.7+(MAX($I$1336:$I$1351)-I1336)/(MAX($I$1336:$I$1351)-1)*10000*0.3,0)","v":10000},7300,"x",null,"Tukan","MD",""]
["Petr Rygl",{"$f":"VLOOKUP(A1337,Pilot,2,0)","v":1966},{"$f":"VLOOKUP(A1337,Pilot,5,0)","v":"M"},{"$f":"VLOOKUP(A1337,Pilot,3,0)","v":"Jičín"},{"$f":"VLOOKUP(A1337,Pilot,4,0)","v":"CZ/C2"},"Pohár Českého Ráje 2024 - Klub",{"$f":"VLOOKUP(F1337,Soutez!A:B,2,FALSE)","v":"CZ"},{"$f":"VLOOKUP(F1337,Soutez!A:C,3,FALSE)","v":2024},2,1016,0.73,{"$f":"ROUND(J1337/MAX($J$1336:$J$1351)*10000*0.7+(MAX($I$1336:$I$1351)-I1337)/(MAX($I$1336:$I$1351)-1)*10000*0.3,0)","v":8792},6418,"x",null,"ASW 15","A18",""]
["Petr Tax",1968,"M","Jičín","CZ/C2","Pohár Českého Ráje 2024 - Klub",{"$f":"VLOOKUP(F1338,Soutez!A:B,2,FALSE)","v":"CZ"},{"$f":"VLOOKUP(F1338,Soutez!A:C,3,FALSE)","v":2024},3,941,0.73,8135,5939,"x",null,"TEREJ II 13,5","TP",""]
["Jan Sobek",2004,"M","Hranice","CZ/M","Pohár Českého Ráje 2024 - Klub",{"$f":"VLOOKUP(F1339,Soutez!A:B,2,FALSE)","v":"CZ"},{"$f":"VLOOKUP(F1339,Soutez!A:C,3,FALSE)","v":2024},4,724,0.73,6638,4846,"x",null,"TST-10 Atlas M",7,"Junior v roce 2026"]
["Radek Tobolka",1977,"M","Jičín","CZ/C2","Pohár Českého Ráje 2024 - Klub",{"$f":"VLOOKUP(F1340,Soutez!A:B,2,FALSE)","v":"CZ"},{"$f":"VLOOKUP(F1340,Soutez!A:C,3,FALSE)","v":2024},5,699,0.73,6275,4581,"x",null,"TST-10 Atlas M",10,""]
["Dusan Patocka",1972,"M","Vrchlabí","CZ/C2","Pohár Českého Ráje 2024 - Klub",{"$f":"VLOOKUP(F1341,Soutez!A:B,2,FALSE)","v":"CZ"},{"$f":"VLOOKUP(F1341,Soutez!A:C,3,FALSE)","v":2024},6,651,0.73,5777,4217,"x",null,"VT-116",116,""]
["Ondrej Stepan",1984,"M","Žamberk","CZ/C2","Pohár Českého Ráje 2024 - Klub",{"$f":"VLOOKUP(F1342,Soutez!A:B,2,FALSE)","v":"CZ"},{"$f":"VLOOKUP(F1342,Soutez!A:C,3,FALSE)","v":2024},7,630,0.73,5439,3970,"x",null,"L-SPATZ 55","D1",""]
["Martin Stransky",1964,"M","Jičín","CZ/C2","Pohár Českého Ráje 2024 - Klub",{"$f":"VLOOKUP(F1343,Soutez!A:B,2,FALSE)","v":"CZ"},{"$f":"VLOOKUP(F1343,Soutez!A:C,3,FALSE)","v":2024},8,572,0.73,4882,3564,"x",null,"Std. Cirrus","SC",""]
["Boris Guic",1966,"M","Zbraslavice","CZ/C1","Pohár Českého Ráje 2024 - Klub",{"$f":"VLOOKUP(F1344,Soutez!A:B,2,FALSE)","v":"CZ"},{"$f":"VLOOKUP(F1344,Soutez!A:C,3,FALSE)","v":2024},9,549,0.73,4531,3308,"x",null,"TEREJ II 13,5","BG",""]
["Jan Karas",1985,"M","Jihlava","CZ/M","Pohár Českého Ráje 2024 - Klub",{"$f":"VLOOKUP(F1345,Soutez!A:B,2,FALSE)","v":"CZ"},{"$f":"VLOOKUP(F1345,Soutez!A:C,3,FALSE)","v":2024},10,461,0.73,3797,2772,"x",null,"Banjo MH","JK",""]
["Milan Bado",1975,"M","Kolín","CZ/C1","Pohár Českého Ráje 2024 - Klub",{"$f":"VLOOKUP(F1346,Soutez!A:B,2,FALSE)","v":"CZ"},{"$f":"VLOOKUP(F1346,Soutez!A:C,3,FALSE)","v":2024},11,330,0.73,2808,2050,null,null,"Std. Cirrus","FU",{"$f":"IF(ISERROR(VLOOKUP(A1346,Pilot,6,0)),\"Není v databázi\",VLOOKUP(A1346,Pilot,6,0))","v":""}]
["Martin Markl",1960,"M","Kolín","CZ/C1","Pohár Českého Ráje 2024 - Klub",{"$f":"VLOOKUP(F1347,Soutez!A:B,2,FALSE)","v":"CZ"},{"$f":"VLOOKUP(F1347,Soutez!A:C,3,FALSE)","v":2024},12,72,0.73,1069,780,null,null,"TEREJ I","VIP",""]
["Jiri Pixa",1968,"M","Slaný","CZ/C1","Pohár Českého Ráje 2024 - Klub",{"$f":"VLOOKUP(F1348,Soutez!A:B,2,FALSE)","v":"CZ"},{"$f":"VLOOKUP(F1348,Soutez!A:C,3,FALSE)","v":2024},13,33,0.73,624,456,"x",null,"Astir CS Jeans","HXY",""]
["Ondrej Dostal",0,"M",0,"CZ","Pohár Českého Ráje 2024 - Klub",{"$f":"VLOOKUP(F1349,Soutez!A:B,2,FALSE)","v":"CZ"},{"$f":"VLOOKUP(F1349,Soutez!A:C,3,FALSE)","v":2024},14,32,0.73,403,294,"x",null,"VIVA","OD",""]
["Karel Ertl",1939,"M","LK Břeclav","CZ/M","Pohár Českého Ráje 2024 - Klub",{"$f":"VLOOKUP(F1350,Soutez!A:B,2,FALSE)","v":"CZ"},{"$f":"VLOOKUP(F1350,Soutez!A:C,3,FALSE)","v":2024},15,0,0.73,0,0,null,null,"TST-10 Atlas M","KE",""]
["Pavel Schejbal",1967,"M","Vrchlabí","CZ/C2","Pohár Českého Ráje 2024 - Klub",{"$f":"VLOOKUP(F1351,Soutez!A:B,2,FALSE)","v":"CZ"},{"$f":"VLOOKUP(F1351,Soutez!A:C,3,FALSE)","v":2024},15,0,0.73,0,0,null,null,"TUKAN",74,""]
["David Popovsky",{"$f":"VLOOKUP(A1352,Pilot,2,0)","v":1976},{"$f":"VLOOKUP(A1352,Pilot,5,0)","v":"M"},{"$f":"VLOOKUP(A1352,Pilot,3,0)","v":"Rakovník"},{"$f":"VLOOKUP(A1352,Pilot,4,0)","v":"CZ/C1"},"Rakovnická Dlaždice 2024 - Kombi",{"$f":"VLOOKUP(F1352,Soutez!A:B,2,FALSE)","v":"CZ"},{"$f":"VLOOKUP(F1352,Soutez!A:C,3,FALSE)","v":2024},1,3242,0.755,{"$f":"ROUND(J1352/MAX($J$1352:$J$1371)*10000*0.7+(MAX($I$1352:$I$1371)-I1352)/(MAX($I$1352:$I$1371)-1)*10000*0.3,0)","v":10000},7550,"x",null,"ASW 24",76,""]
["Jiri Vondracek",{"$f":"VLOOKUP(A1353,Pilot,2,0)","v":1989},{"$f":"VLOOKUP(A1353,Pilot,5,0)","v":"M"},{"$f":"VLOOKUP(A1353,Pilot,3,0)","v":"Kladno"},{"$f":"VLOOKUP(A1353,Pilot,4,0)","v":"CZ/C1"},"Rakovnická Dlaždice 2024 - Kombi",{"$f":"VLOOKUP(F1353,Soutez!A:B,2,FALSE)","v":"CZ"},{"$f":"VLOOKUP(F1353,Soutez!A:C,3,FALSE)","v":2024},2,3183,0.755,{"$f":"ROUND(J1353/MAX($J$1352:$J$1371)*10000*0.7+(MAX($I$1352:$I$1371)-I1353)/(MAX($I$1352:$I$1371)-1)*10000*0.3,0)","v":9715},7335,"x",null,"Std. Libelle",442,""]
["Vojtech Vach 03",2003,"M","Vrchlabí","CZ/C2","Rakovnická Dlaždice 2024 - Kombi",{"$f":"VLOOKUP(F1354,Soutez!A:B,2,FALSE)","v":"CZ"},{"$f":"VLOOKUP(F1354,Soutez!A:C,3,FALSE)","v":2024},3,3173,0.755,9535,7199,"x",null,"ASW 19","HB","Junior v roce 2026"]
["Alex Gulich",2005,"M","Slaný","CZ/C1","Rakovnická Dlaždice 2024 - Kombi",{"$f":"VLOOKUP(F1355,Soutez!A:B,2,FALSE)","v":"CZ"},{"$f":"VLOOKUP(F1355,Soutez!A:C,3,FALSE)","v":2024},4,3086,0.755,9189,6938,null,null,"Std. Cirrus","TI","Junior v roce 2026"]
["Jakub KmoSek",1978,"M","Zbraslavice","CZ/C1","Rakovnická Dlaždice 2024 - Kombi",{"$f":"VLOOKUP(F1356,Soutez!A:B,2,FALSE)","v":"CZ"},{"$f":"VLOOKUP(F1356,Soutez!A:C,3,FALSE)","v":2024},5,2990,0.755,8824,6662,null,null,"Std. Cirrus","ST",""]
["Jan Hlavacek 65",1965,"M","Rakovník","CZ/C1","Rakovnická Dlaždice 2024 - Kombi",{"$f":"VLOOKUP(F1357,Soutez!A:B,2,FALSE)","v":"CZ"},{"$f":"VLOOKUP(F1357,Soutez!A:C,3,FALSE)","v":2024},6,2983,0.755,8651,6532,"x",null,"Discus b",79,""]
["Jan Beran",1999,"M","Kladno","CZ/C1","Rakovnická Dlaždice 2024 - Kombi",{"$f":"VLOOKUP(F1358,Soutez!A:B,2,FALSE)","v":"CZ"},{"$f":"VLOOKUP(F1358,Soutez!A:C,3,FALSE)","v":2024},7,2927,0.755,8372,6321,null,null,"ASW 20","KL",""]
["Jan Vozeh",1995,"M","Rakovník","CZ/C1","Rakovnická Dlaždice 2024 - Kombi",{"$f":"VLOOKUP(F1359,Soutez!A:B,2,FALSE)","v":"CZ"},{"$f":"VLOOKUP(F1359,Soutez!A:C,3,FALSE)","v":2024},8,2852,0.755,8053,6080,"x",null,"LS 7","LZ",""]
["Eliska Kudejova",2006,"F","Strakonice","CZ/C1","Rakovnická Dlaždice 2024 - Kombi",{"$f":"VLOOKUP(F1360,Soutez!A:B,2,FALSE)","v":"CZ"},{"$f":"VLOOKUP(F1360,Soutez!A:C,3,FALSE)","v":2024},9,2501,0.755,7137,5388,null,null,"DG 100","JL","Junior v roce 2026"]
["Miroslav Macik",1983,"M","Rakovník","CZ/C1","Rakovnická Dlaždice 2024 - Kombi",{"$f":"VLOOKUP(F1361,Soutez!A:B,2,FALSE)","v":"CZ"},{"$f":"VLOOKUP(F1361,Soutez!A:C,3,FALSE)","v":2024},10,2478,0.755,6929,5231,"x",null,"Std. Cirrus","OG",""]
["Jan Konecny",1972,"M","Rakovník","CZ/C1","Rakovnická Dlaždice 2024 - Kombi",{"$f":"VLOOKUP(F1362,Soutez!A:B,2,FALSE)","v":"CZ"},{"$f":"VLOOKUP(F1362,Soutez!A:C,3,FALSE)","v":2024},11,2278,0.755,6340,4787,"x",null,"LS 7 WL",72,""]
["Vojtech Pavek",2000,"M","Medlánky","CZ/M","Rakovnická Dlaždice 2024 - Kombi",{"$f":"VLOOKUP(F1363,Soutez!A:B,2,FALSE)","v":"CZ"},{"$f":"VLOOKUP(F1363,Soutez!A:C,3,FALSE)","v":2024},12,2232,0.755,6082,4592,"x",null,"Std. Cirrus","MP",""]
["Jiri Maier 66",1966,"M","Raná","CZ/C2","Rakovnická Dlaždice 2024 - Kombi",{"$f":"VLOOKUP(F1364,Soutez!A:B,2,FALSE)","v":"CZ"},{"$f":"VLOOKUP(F1364,Soutez!A:C,3,FALSE)","v":2024},13,2042,0.755,5514,4163,null,null,"Discus bt WL","TAL",""]
["Josef Beran",1982,"M","Slaný","CZ/C1","Rakovnická Dlaždice 2024 - Kombi",{"$f":"VLOOKUP(F1365,Soutez!A:B,2,FALSE)","v":"CZ"},{"$f":"VLOOKUP(F1365,Soutez!A:C,3,FALSE)","v":2024},14,1954,0.755,5166,3900,null,null,"Std. Cirrus","SN",""]
["Petr Lonsky",1965,"M","Toužim","CZ/C1","Rakovnická Dlaždice 2024 - Kombi",{"$f":"VLOOKUP(F1366,Soutez!A:B,2,FALSE)","v":"CZ"},{"$f":"VLOOKUP(F1366,Soutez!A:C,3,FALSE)","v":2024},15,1405,{"$f":"VLOOKUP(F1366,Soutez,12,0)","v":0.755},3823,2886,"x",null,"Std. Cirrus","YU",""]
["Lubomir Mekota",1956,"M","Plasy","CZ/C1","Rakovnická Dlaždice 2024 - Kombi",{"$f":"VLOOKUP(F1367,Soutez!A:B,2,FALSE)","v":"CZ"},{"$f":"VLOOKUP(F1367,Soutez!A:C,3,FALSE)","v":2024},16,1346,0.755,{"$f":"ROUND(J1367/MAX($J$1352:$J$1371)*10000*0.7+(MAX($I$1352:$I$1371)-I1367)/(MAX($I$1352:$I$1371)-1)*10000*0.3,0)","v":3538},2671,"x",null,"LS 1-d","HV",""]
["Eva Klapkova",1993,"F","Raná","CZ/C2","Rakovnická Dlaždice 2024 - Kombi",{"$f":"VLOOKUP(F1368,Soutez!A:B,2,FALSE)","v":"CZ"},{"$f":"VLOOKUP(F1368,Soutez!A:C,3,FALSE)","v":2024},17,1188,0.755,3039,2294,"x","x","ASW 15","TZ",""]
["Jan Heroudek",1970,"M","Rakovník","CZ/C1","Rakovnická Dlaždice 2024 - Kombi",{"$f":"VLOOKUP(F1369,Soutez!A:B,2,FALSE)","v":"CZ"},{"$f":"VLOOKUP(F1369,Soutez!A:C,3,FALSE)","v":2024},18,766,0.755,1970,1487,"x",null,"DG 100",75,""]
["Roman Bradac",1974,"M","Rakovník","CZ/C1","Rakovnická Dlaždice 2024 - Kombi",{"$f":"VLOOKUP(F1370,Soutez!A:B,2,FALSE)","v":"CZ"},{"$f":"VLOOKUP(F1370,Soutez!A:C,3,FALSE)","v":2024},19,418,0.755,1060,800,"x",null,"DG 101","JO",""]
["Karel Mrazek",1954,"M","Slaný","CZ/C1","Rakovnická Dlaždice 2024 - Kombi",{"$f":"VLOOKUP(F1371,Soutez!A:B,2,FALSE)","v":"CZ"},{"$f":"VLOOKUP(F1371,Soutez!A:C,3,FALSE)","v":2024},20,284,0.755,613,463,"x",null,"ASW 15","ET",""]
["Jacek Flis",null,null,"Poland",null,"EGC 2024 - Klub",{"$f":"VLOOKUP(F1372,Soutez!A:B,2,FALSE)","v":"CZ"},{"$f":"VLOOKUP(F1372,Soutez!A:C,3,FALSE)","v":2024},1,9763,1.1000000000000001,{"$f":"ROUND(J1372/MAX($J$1372:$J$1411)*10000*0.7+(MAX($I$1372:$I$1411)-I1372)/(MAX($I$1372:$I$1411)-1)*10000*0.3,0)","v":10000},{"$f":"ROUND(K1372*L1372,0)","v":11000},null,null,"LS 3 wl","FLS",{"$f":"IF(ISERROR(VLOOKUP(A1372,Pilot,6,0)),\"Není v databázi\",VLOOKUP(A1372,Pilot,6,0))","v":"Není v databázi"}]
["Tomas Suchanek",{"$f":"VLOOKUP(A1373,Pilot,2,0)","v":1964},{"$f":"VLOOKUP(A1373,Pilot,5,0)","v":"M"},{"$f":"VLOOKUP(A1373,Pilot,3,0)","v":"GAC Benešov"},{"$f":"VLOOKUP(A1373,Pilot,4,0)","v":"CZ/C1"},"EGC 2024 - Klub",{"$f":"VLOOKUP(F1373,Soutez!A:B,2,FALSE)","v":"CZ"},{"$f":"VLOOKUP(F1373,Soutez!A:C,3,FALSE)","v":2024},2,9531,1.1000000000000001,{"$f":"ROUND(J1373/MAX($J$1372:$J$1411)*10000*0.7+(MAX($I$1372:$I$1411)-I1373)/(MAX($I$1372:$I$1411)-1)*10000*0.3,0)","v":9757},10733,"x",null,"ASW 20","CX",""]
["Gvidas Sabeckis",null,null,"Lithuania",null,"EGC 2024 - Klub",{"$f":"VLOOKUP(F1374,Soutez!A:B,2,FALSE)","v":"CZ"},{"$f":"VLOOKUP(F1374,Soutez!A:C,3,FALSE)","v":2024},3,9458,1.1000000000000001,9627,10590,null,null,"ASW 20a",5,"Není v databázi"]
["Kim Toppari",null,null,"Finland",null,"EGC 2024 - Klub",{"$f":"VLOOKUP(F1375,Soutez!A:B,2,FALSE)","v":"CZ"},{"$f":"VLOOKUP(F1375,Soutez!A:C,3,FALSE)","v":2024},4,9354,1.1000000000000001,9476,10424,null,null,"LS 7 wl","KT","Není v databázi"]
["Tapio Tourula",null,null,"Finland",null,"EGC 2024 - Klub",{"$f":"VLOOKUP(F1376,Soutez!A:B,2,FALSE)","v":"CZ"},{"$f":"VLOOKUP(F1376,Soutez!A:C,3,FALSE)","v":2024},5,9331,1.1000000000000001,9383,10321,null,null,"LS 7","PF","Není v databázi"]
["Mikolaj Zdun",null,null,"Poland",null,"EGC 2024 - Klub",{"$f":"VLOOKUP(F1377,Soutez!A:B,2,FALSE)","v":"CZ"},{"$f":"VLOOKUP(F1377,Soutez!A:C,3,FALSE)","v":2024},6,9241,1.1000000000000001,9241,10165,null,null,"LS 3 wl","PP","Není v databázi"]
["Jaroslav Tomana",{"$f":"VLOOKUP(A1378,Pilot,2,0)","v":1975},{"$f":"VLOOKUP(A1378,Pilot,5,0)","v":"M"},{"$f":"VLOOKUP(A1378,Pilot,3,0)","v":"Zbraslavice"},{"$f":"VLOOKUP(A1378,Pilot,4,0)","v":"CZ/C1"},"EGC 2024 - Klub",{"$f":"VLOOKUP(F1378,Soutez!A:B,2,FALSE)","v":"CZ"},{"$f":"VLOOKUP(F1378,Soutez!A:C,3,FALSE)","v":2024},7,9240,1.1000000000000001,9163,10079,"x",null,"ASW 20","A3",""]
["Michal Lesinger",1966,"M","Moravská Třebová","CZ/M","EGC 2024 - Klub",{"$f":"VLOOKUP(F1379,Soutez!A:B,2,FALSE)","v":"CZ"},{"$f":"VLOOKUP(F1379,Soutez!A:C,3,FALSE)","v":2024},8,9076,1.1000000000000001,8969,9866,"x",null,"ASW 20L","LL",""]
["Ringaudas Kikalas",null,null,"Lithuania",null,"EGC 2024 - Klub",{"$f":"VLOOKUP(F1380,Soutez!A:B,2,FALSE)","v":"CZ"},{"$f":"VLOOKUP(F1380,Soutez!A:C,3,FALSE)","v":2024},9,8825,1.1000000000000001,8712,9583,null,null,"ASW 20","YYY","Není v databázi"]
["Hugo Corbille",null,null,"France",null,"EGC 2024 - Klub",{"$f":"VLOOKUP(F1381,Soutez!A:B,2,FALSE)","v":"CZ"},{"$f":"VLOOKUP(F1381,Soutez!A:C,3,FALSE)","v":2024},10,8763,1.1000000000000001,8591,9450,null,null,"LS7 NEO","HG","Není v databázi"]
["Toby Freeland",null,null,"United Kingdom",null,"EGC 2024 - Klub",{"$f":"VLOOKUP(F1382,Soutez!A:B,2,FALSE)","v":"CZ"},{"$f":"VLOOKUP(F1382,Soutez!A:C,3,FALSE)","v":2024},11,8728,1.1000000000000001,8489,9338,null,null,"ASW 20l",212,"Není v databázi"]
["Gyorgy Gulyas",null,null,"Hungary",null,"EGC 2024 - Klub",{"$f":"VLOOKUP(F1383,Soutez!A:B,2,FALSE)","v":"CZ"},{"$f":"VLOOKUP(F1383,Soutez!A:C,3,FALSE)","v":2024},12,8704,1.1000000000000001,8395,9235,null,null,"ASW 20","AD","Není v databázi"]
["Ferenc Tamas",null,null,"Hungary",null,"EGC 2024 - Klub",{"$f":"VLOOKUP(F1384,Soutez!A:B,2,FALSE)","v":"CZ"},{"$f":"VLOOKUP(F1384,Soutez!A:C,3,FALSE)","v":2024},13,8700,1.1000000000000001,8315,9147,null,null,"LS 3 wl","XW","Není v databázi"]
["Josef Kozar",null,null,"Slovakia",null,"EGC 2024 - Klub",{"$f":"VLOOKUP(F1385,Soutez!A:B,2,FALSE)","v":"CZ"},{"$f":"VLOOKUP(F1385,Soutez!A:C,3,FALSE)","v":2024},14,8646,1.1000000000000001,8199,9019,null,null,"ASW 20","IKW","Není v databázi"]
["David Darnady",null,"M","SGC Martin","SK","EGC 2024 - Klub",{"$f":"VLOOKUP(F1386,Soutez!A:B,2,FALSE)","v":"CZ"},{"$f":"VLOOKUP(F1386,Soutez!A:C,3,FALSE)","v":2024},15,8583,{"$f":"VLOOKUP(F1386,Soutez,12,0)","v":1.1000000000000001},8077,8885,null,null,"ASW 20 l",311,"Není v databázi"]
["James Ewence",null,null,"United Kingdom",null,"EGC 2024 - Klub",{"$f":"VLOOKUP(F1387,Soutez!A:B,2,FALSE)","v":"CZ"},{"$f":"VLOOKUP(F1387,Soutez!A:C,3,FALSE)","v":2024},16,8466,1.1000000000000001,7916,8708,null,null,"Discus CS",364,"Není v databázi"]
["Marcus Dawert",null,null,"Germany",null,"EGC 2024 - Klub",{"$f":"VLOOKUP(F1388,Soutez!A:B,2,FALSE)","v":"CZ"},{"$f":"VLOOKUP(F1388,Soutez!A:C,3,FALSE)","v":2024},17,8457,1.1000000000000001,7833,8616,null,null,"DG 300 wl","MX","Není v databázi"]
["Mikko Ylihärsilä",null,null,"Finland",null,"EGC 2024 - Klub",{"$f":"VLOOKUP(F1389,Soutez!A:B,2,FALSE)","v":"CZ"},{"$f":"VLOOKUP(F1389,Soutez!A:C,3,FALSE)","v":2024},18,8415,1.1000000000000001,7726,8499,null,null,"LS7","GE","Není v databázi"]
["Uwe Melzer",null,null,"Germany",null,"EGC 2024 - Klub",{"$f":"VLOOKUP(F1390,Soutez!A:B,2,FALSE)","v":"CZ"},{"$f":"VLOOKUP(F1390,Soutez!A:C,3,FALSE)","v":2024},19,8353,1.1000000000000001,7604,8364,null,null,"LS 4 wl","UWE","Není v databázi"]
["Lapo Alessandro Busi",null,null,"Italy",null,"EGC 2024 - Klub",{"$f":"VLOOKUP(F1391,Soutez!A:B,2,FALSE)","v":"CZ"},{"$f":"VLOOKUP(F1391,Soutez!A:C,3,FALSE)","v":2024},20,8311,1.1000000000000001,7497,8247,null,null,"ASW 20","LAB","Není v databázi"]
["Roelof Corporaal",null,null,"Netherlands",null,"EGC 2024 - Klub",{"$f":"VLOOKUP(F1392,Soutez!A:B,2,FALSE)","v":"CZ"},{"$f":"VLOOKUP(F1392,Soutez!A:C,3,FALSE)","v":2024},21,8295,1.1000000000000001,7409,8150,null,null,"LS 7 wl","IK","Není v databázi"]
["Uffe Edslev",null,null,"Denmark",null,"EGC 2024 - Klub",{"$f":"VLOOKUP(F1393,Soutez!A:B,2,FALSE)","v":"CZ"},{"$f":"VLOOKUP(F1393,Soutez!A:C,3,FALSE)","v":2024},22,8201,1.1000000000000001,7265,7992,null,null,"LS 4a wl","LE","Není v databázi"]
["Viktor Becan",null,null,"ALC Lesce","SLO","EGC 2024 - Klub",{"$f":"VLOOKUP(F1394,Soutez!A:B,2,FALSE)","v":"CZ"},{"$f":"VLOOKUP(F1394,Soutez!A:C,3,FALSE)","v":2024},23,8157,1.1000000000000001,7156,7872,null,null,"ASW 20","CR","Není v databázi"]
["Simon Gantner",null,null,"Switzerland",null,"EGC 2024 - Klub",{"$f":"VLOOKUP(F1395,Soutez!A:B,2,FALSE)","v":"CZ"},{"$f":"VLOOKUP(F1395,Soutez!A:C,3,FALSE)","v":2024},24,8079,1.1000000000000001,7023,7725,null,null,"LS 4a","MN","Není v databázi"]
["Christer Mjøs",null,null,"Norway",null,"EGC 2024 - Klub",{"$f":"VLOOKUP(F1396,Soutez!A:B,2,FALSE)","v":"CZ"},{"$f":"VLOOKUP(F1396,Soutez!A:C,3,FALSE)","v":2024},25,7816,1.1000000000000001,6758,7434,null,null,"ASW 20","UF","Není v databázi"]
["Robert Alin Simion",null,null,"Romania",null,"EGC 2024 - Klub",{"$f":"VLOOKUP(F1397,Soutez!A:B,2,FALSE)","v":"CZ"},{"$f":"VLOOKUP(F1397,Soutez!A:C,3,FALSE)","v":2024},26,7671,1.1000000000000001,6577,7235,null,null,"LS 4a","Y2","Není v databázi"]
["Giacomo Dall'Olio",null,null,"Italy",null,"EGC 2024 - Klub",{"$f":"VLOOKUP(F1398,Soutez!A:B,2,FALSE)","v":"CZ"},{"$f":"VLOOKUP(F1398,Soutez!A:C,3,FALSE)","v":2024},27,7657,1.1000000000000001,6490,7139,null,null,"Discus B","IX","Není v databázi"]
["Yves Muller",null,null,"Switzerland",null,"EGC 2024 - Klub",{"$f":"VLOOKUP(F1399,Soutez!A:B,2,FALSE)","v":"CZ"},{"$f":"VLOOKUP(F1399,Soutez!A:C,3,FALSE)","v":2024},28,7581,1.1000000000000001,6359,6995,null,null,"ASW 24 wl","CRN","Není v databázi"]
["Nicolas Bernhard",null,null,"France",null,"EGC 2024 - Klub",{"$f":"VLOOKUP(F1400,Soutez!A:B,2,FALSE)","v":"CZ"},{"$f":"VLOOKUP(F1400,Soutez!A:C,3,FALSE)","v":2024},29,7559,1.1000000000000001,6266,6893,null,null,"LS7 NEO","AG","Není v databázi"]
["Dylan Osolian",null,null,"Sweden",null,"EGC 2024 - Klub",{"$f":"VLOOKUP(F1401,Soutez!A:B,2,FALSE)","v":"CZ"},{"$f":"VLOOKUP(F1401,Soutez!A:C,3,FALSE)","v":2024},30,7524,1.1000000000000001,6164,6780,null,null,"LS 3","CP","Není v databázi"]
["Alexandre Melot",null,null,"Belgium",null,"EGC 2024 - Klub",{"$f":"VLOOKUP(F1402,Soutez!A:B,2,FALSE)","v":"CZ"},{"$f":"VLOOKUP(F1402,Soutez!A:C,3,FALSE)","v":2024},31,7166,1.1000000000000001,5830,6413,null,null,"ASW 20 B","FY","Není v databázi"]
["Alex Pop",null,null,"Romania",null,"EGC 2024 - Klub",{"$f":"VLOOKUP(F1403,Soutez!A:B,2,FALSE)","v":"CZ"},{"$f":"VLOOKUP(F1403,Soutez!A:C,3,FALSE)","v":2024},32,7080,1.1000000000000001,5692,6261,null,null,"LS 4a","Y3","Není v databázi"]
["Felipe Cvitanich",null,null,"Denmark",null,"EGC 2024 - Klub",{"$f":"VLOOKUP(F1404,Soutez!A:B,2,FALSE)","v":"CZ"},{"$f":"VLOOKUP(F1404,Soutez!A:C,3,FALSE)","v":2024},33,6825,1.1000000000000001,5432,5975,null,null,"ASW 20 wl","KW","Není v databázi"]
["Sondre Bjøro",null,null,"Norway",null,"EGC 2024 - Klub",{"$f":"VLOOKUP(F1405,Soutez!A:B,2,FALSE)","v":"CZ"},{"$f":"VLOOKUP(F1405,Soutez!A:C,3,FALSE)","v":2024},34,6769,1.1000000000000001,5315,5847,null,null,"ASW 20","TE","Není v databázi"]
["Jelle Vandebeeck",null,null,"Belgium",null,"EGC 2024 - Klub",{"$f":"VLOOKUP(F1406,Soutez!A:B,2,FALSE)","v":"CZ"},{"$f":"VLOOKUP(F1406,Soutez!A:C,3,FALSE)","v":2024},35,6729,1.1000000000000001,5209,5730,null,null,"ASW 24 wl",24,"Není v databázi"]
["Dani Zaninovic",null,null,"Croatia",null,"EGC 2024 - Klub",{"$f":"VLOOKUP(F1407,Soutez!A:B,2,FALSE)","v":"CZ"},{"$f":"VLOOKUP(F1407,Soutez!A:C,3,FALSE)","v":2024},36,6580,1.1000000000000001,5026,5529,null,null,"ASW 24 wl","HR3","Není v databázi"]
["Frane Franic",null,null,"Croatia",null,"EGC 2024 - Klub",{"$f":"VLOOKUP(F1408,Soutez!A:B,2,FALSE)","v":"CZ"},{"$f":"VLOOKUP(F1408,Soutez!A:C,3,FALSE)","v":2024},37,5999,1.1000000000000001,4532,4985,null,null,"Pegase 101B","3C","Není v databázi"]
["Jaume Prats",null,null,"Spain",null,"EGC 2024 - Klub",{"$f":"VLOOKUP(F1409,Soutez!A:B,2,FALSE)","v":"CZ"},{"$f":"VLOOKUP(F1409,Soutez!A:C,3,FALSE)","v":2024},38,5229,1.1000000000000001,3903,{"$f":"ROUND(K1409*L1409,0)","v":4293},null,null,"ASW 24",44,"Není v databázi"]
["Diana Schuit",null,null,"Luxembourg",null,"EGC 2024 - Klub",{"$f":"VLOOKUP(F1410,Soutez!A:B,2,FALSE)","v":"CZ"},{"$f":"VLOOKUP(F1410,Soutez!A:C,3,FALSE)","v":2024},39,4956,1.1000000000000001,3630,3993,null,null,"LS 1f","JO","Není v databázi"]
["Samuel Richardson",null,null,"Sweden",null,"EGC 2024 - Klub",{"$f":"VLOOKUP(F1411,Soutez!A:B,2,FALSE)","v":"CZ"},{"$f":"VLOOKUP(F1411,Soutez!A:C,3,FALSE)","v":2024},40,184,1.1000000000000001,132,145,null,null,"Mosquito","TI","Není v databázi"]
["Robin Sittmann",null,null,"Germany",null,"EGC 2024 - Std",{"$f":"VLOOKUP(F1412,Soutez!A:B,2,FALSE)","v":"CZ"},{"$f":"VLOOKUP(F1412,Soutez!A:C,3,FALSE)","v":2024},1,8586,1.125,{"$f":"ROUND(J1412/MAX($J$1412:$J$1444)*10000*0.7+(MAX($I$1412:$I$1444)-I1412)/(MAX($I$1412:$I$1444)-1)*10000*0.3,0)","v":10000},11250,null,null,"Discus 2a","RA","Není v databázi"]
["Jan Pavlik",{"$f":"VLOOKUP(A1413,Pilot,2,0)","v":1987},{"$f":"VLOOKUP(A1413,Pilot,5,0)","v":"M"},{"$f":"VLOOKUP(A1413,Pilot,3,0)","v":"Křižanov"},{"$f":"VLOOKUP(A1413,Pilot,4,0)","v":"CZ/M"},"EGC 2024 - Std",{"$f":"VLOOKUP(F1413,Soutez!A:B,2,FALSE)","v":"CZ"},{"$f":"VLOOKUP(F1413,Soutez!A:C,3,FALSE)","v":2024},2,8571,1.125,9894,11131,"x",null,"LS 8b","FX",""]
["Miloslav Cink",1987,"M","Letkov","CZ/C1","EGC 2024 - Std",{"$f":"VLOOKUP(F1414,Soutez!A:B,2,FALSE)","v":"CZ"},{"$f":"VLOOKUP(F1414,Soutez!A:C,3,FALSE)","v":2024},3,8541,1.125,9776,10998,"x",null,"LS 8b","JB",""]
["Lukas Kriz",2003,"M","Křižanov","CZ/M","EGC 2024 - Std",{"$f":"VLOOKUP(F1415,Soutez!A:B,2,FALSE)","v":"CZ"},{"$f":"VLOOKUP(F1415,Soutez!A:C,3,FALSE)","v":2024},4,8533,1.125,9676,10886,"x",null,"LS 8a","AU","Junior v roce 2026"]
["Henry Inigo-Jones",null,null,"United Kingdom",null,"EGC 2024 - Std",{"$f":"VLOOKUP(F1416,Soutez!A:B,2,FALSE)","v":"CZ"},{"$f":"VLOOKUP(F1416,Soutez!A:C,3,FALSE)","v":2024},5,8486,1.125,9543,10736,null,null,"LS 8",95,"Není v databázi"]
["Simon Briel",null,null,"Germany",null,"EGC 2024 - Std",{"$f":"VLOOKUP(F1417,Soutez!A:B,2,FALSE)","v":"CZ"},{"$f":"VLOOKUP(F1417,Soutez!A:C,3,FALSE)","v":2024},6,8458,1.125,9427,10605,null,null,"Discus 2a","SB","Není v databázi"]
["Lasse Edslev",null,null,"Denmark",null,"EGC 2024 - Std",{"$f":"VLOOKUP(F1418,Soutez!A:B,2,FALSE)","v":"CZ"},{"$f":"VLOOKUP(F1418,Soutez!A:C,3,FALSE)","v":2024},7,8399,1.125,9285,10446,null,null,"LS 8a","EC","Není v databázi"]
["Julien Duboc",null,null,"France",null,"EGC 2024 - Std",{"$f":"VLOOKUP(F1419,Soutez!A:B,2,FALSE)","v":"CZ"},{"$f":"VLOOKUP(F1419,Soutez!A:C,3,FALSE)","v":2024},8,8165,1.125,9001,10126,null,null,"Discus 2a","JPA","Není v databázi"]
["Norbert Scarlat",null,null,"Romania",null,"EGC 2024 - Std",{"$f":"VLOOKUP(F1420,Soutez!A:B,2,FALSE)","v":"CZ"},{"$f":"VLOOKUP(F1420,Soutez!A:C,3,FALSE)","v":2024},9,8156,1.125,8899,10011,null,null,"Discus 2a","YB","Není v databázi"]
["Robin Smit",null,null,"Netherlands",null,"EGC 2024 - Std",{"$f":"VLOOKUP(F1421,Soutez!A:B,2,FALSE)","v":"CZ"},{"$f":"VLOOKUP(F1421,Soutez!A:C,3,FALSE)","v":2024},10,8072,1.125,8737,9829,null,null,"LS 8","VNE","Není v databázi"]
["Lukasz Blaszczyk",null,null,"Poland",null,"EGC 2024 - Std",{"$f":"VLOOKUP(F1422,Soutez!A:B,2,FALSE)","v":"CZ"},{"$f":"VLOOKUP(F1422,Soutez!A:C,3,FALSE)","v":2024},11,8069,1.125,8641,9721,null,null,"Discus 2a","I","Není v databázi"]
["Jeroen Jennen",null,null,"Belgium",null,"EGC 2024 - Std",{"$f":"VLOOKUP(F1423,Soutez!A:B,2,FALSE)","v":"CZ"},{"$f":"VLOOKUP(F1423,Soutez!A:C,3,FALSE)","v":2024},12,8004,1.125,8494,9556,null,null,"Discus 2t","YU","Není v databázi"]
["Jan-Ola Nordh",null,null,"Sweden",null,"EGC 2024 - Std",{"$f":"VLOOKUP(F1424,Soutez!A:B,2,FALSE)","v":"CZ"},{"$f":"VLOOKUP(F1424,Soutez!A:C,3,FALSE)","v":2024},13,7963,1.125,8367,9413,null,null,"Discus 2t","TA","Není v databázi"]
["Joris Vainius",null,null,"Lithuania",null,"EGC 2024 - Std",{"$f":"VLOOKUP(F1425,Soutez!A:B,2,FALSE)","v":"CZ"},{"$f":"VLOOKUP(F1425,Soutez!A:C,3,FALSE)","v":2024},14,7810,1.125,8149,9168,null,null,"LS 8a","MG","Není v databázi"]
["Maciej Kowalski",null,null,"Poland",null,"EGC 2024 - Std",{"$f":"VLOOKUP(F1426,Soutez!A:B,2,FALSE)","v":"CZ"},{"$f":"VLOOKUP(F1426,Soutez!A:C,3,FALSE)","v":2024},15,7777,1.125,8028,9032,null,null,"Discus 2a","Y","Není v databázi"]
["Elias Severholt Fourati",null,null,"Sweden",null,"EGC 2024 - Std",{"$f":"VLOOKUP(F1427,Soutez!A:B,2,FALSE)","v":"CZ"},{"$f":"VLOOKUP(F1427,Soutez!A:C,3,FALSE)","v":2024},16,7643,1.125,7825,8803,null,null,"LS 8",1,"Není v databázi"]
["Paul Fritche",null,null,"United Kingdom",null,"EGC 2024 - Std",{"$f":"VLOOKUP(F1428,Soutez!A:B,2,FALSE)","v":"CZ"},{"$f":"VLOOKUP(F1428,Soutez!A:C,3,FALSE)","v":2024},17,7641,1.125,7730,8696,null,null,"LS 8","L4",{"$f":"IF(ISERROR(VLOOKUP(A1428,Pilot,6,0)),\"Není v databázi\",VLOOKUP(A1428,Pilot,6,0))","v":"Není v databázi"}]
["Maros Divok",null,null,"Slovakia",null,"EGC 2024 - Std",{"$f":"VLOOKUP(F1429,Soutez!A:B,2,FALSE)","v":"CZ"},{"$f":"VLOOKUP(F1429,Soutez!A:C,3,FALSE)","v":2024},18,7619,1.125,7618,8570,null,null,"LS 8","D","Není v databázi"]
["Sami Rissanen",null,null,"Finland",null,"EGC 2024 - Std",{"$f":"VLOOKUP(F1430,Soutez!A:B,2,FALSE)","v":"CZ"},{"$f":"VLOOKUP(F1430,Soutez!A:C,3,FALSE)","v":2024},19,7373,1.125,7324,8240,null,null,"LS 8 T","LK","Není v databázi"]
["Frank Hiemstra",null,null,"Netherlands",null,"EGC 2024 - Std",{"$f":"VLOOKUP(F1431,Soutez!A:B,2,FALSE)","v":"CZ"},{"$f":"VLOOKUP(F1431,Soutez!A:C,3,FALSE)","v":2024},20,7350,1.125,7211,8112,null,null,"LS 8","E5","Není v databázi"]
["Ionut Tudor",null,null,"Romania",null,"EGC 2024 - Std",{"$f":"VLOOKUP(F1432,Soutez!A:B,2,FALSE)","v":"CZ"},{"$f":"VLOOKUP(F1432,Soutez!A:C,3,FALSE)","v":2024},21,7225,1.125,7015,7892,null,null,"Discus 2a","YA","Není v databázi"]
["Antti Koskiniemi",null,null,"Finland",null,"EGC 2024 - Std",{"$f":"VLOOKUP(F1433,Soutez!A:B,2,FALSE)","v":"CZ"},{"$f":"VLOOKUP(F1433,Soutez!A:C,3,FALSE)","v":2024},22,7160,1.125,6869,7728,null,null,"Discus 2b","JS","Není v databázi"]
["Aude Untersee",null,null,"France",null,"EGC 2024 - Std",{"$f":"VLOOKUP(F1434,Soutez!A:B,2,FALSE)","v":"CZ"},{"$f":"VLOOKUP(F1434,Soutez!A:C,3,FALSE)","v":2024},23,7024,1.125,6664,7497,null,null,"Discus 2a","ET","Není v databázi"]
["Davide Giovanelli",null,null,"Switzerland",null,"EGC 2024 - Std",{"$f":"VLOOKUP(F1435,Soutez!A:B,2,FALSE)","v":"CZ"},{"$f":"VLOOKUP(F1435,Soutez!A:C,3,FALSE)","v":2024},24,7018,1.125,6565,7386,null,null,"Discus 2b","TS","Není v databázi"]
["Geza Toth",null,null,"Hungary",null,"EGC 2024 - Std",{"$f":"VLOOKUP(F1436,Soutez!A:B,2,FALSE)","v":"CZ"},{"$f":"VLOOKUP(F1436,Soutez!A:C,3,FALSE)","v":2024},25,7010,1.125,6465,7273,null,null,"Discus 2a","ALB","Není v databázi"]
["Szabolcs Veigli",null,null,"Hungary",null,"EGC 2024 - Std",{"$f":"VLOOKUP(F1437,Soutez!A:B,2,FALSE)","v":"CZ"},{"$f":"VLOOKUP(F1437,Soutez!A:C,3,FALSE)","v":2024},26,6721,1.125,6136,6903,null,null,"Discus 2a","HUN","Není v databázi"]
["Jef Kell",null,null,"Belgium",null,"EGC 2024 - Std",{"$f":"VLOOKUP(F1438,Soutez!A:B,2,FALSE)","v":"CZ"},{"$f":"VLOOKUP(F1438,Soutez!A:C,3,FALSE)","v":2024},27,6619,1.125,5959,6704,null,null,"LS 8","LT","Není v databázi"]
["Edmund Schuller",null,null,"Slovakia",null,"EGC 2024 - Std",{"$f":"VLOOKUP(F1439,Soutez!A:B,2,FALSE)","v":"CZ"},{"$f":"VLOOKUP(F1439,Soutez!A:C,3,FALSE)","v":2024},28,6117,1.125,5456,6138,null,null,"Discus 2b","DI","Není v databázi"]
["Luca Urbani",null,null,"Italy",null,"EGC 2024 - Std",{"$f":"VLOOKUP(F1440,Soutez!A:B,2,FALSE)","v":"CZ"},{"$f":"VLOOKUP(F1440,Soutez!A:C,3,FALSE)","v":2024},29,6036,1.125,5296,5958,null,null,"Discus 2a","LR","Není v databázi"]
["Andrius Tamulenas",null,null,"Lithuania",null,"EGC 2024 - Std",{"$f":"VLOOKUP(F1441,Soutez!A:B,2,FALSE)","v":"CZ"},{"$f":"VLOOKUP(F1441,Soutez!A:C,3,FALSE)","v":2024},30,5885,1.125,5079,5714,null,null,"LS 8","H8","Není v databázi"]
["Erik Døssing",null,null,"Denmark",null,"EGC 2024 - Std",{"$f":"VLOOKUP(F1442,Soutez!A:B,2,FALSE)","v":"CZ"},{"$f":"VLOOKUP(F1442,Soutez!A:C,3,FALSE)","v":2024},31,5756,1.125,4880,5490,null,null,"Discus 2t","AA","Není v databázi"]
["Grozdan Meglaj",null,null,"Croatia",null,"EGC 2024 - Std",{"$f":"VLOOKUP(F1443,Soutez!A:B,2,FALSE)","v":"CZ"},{"$f":"VLOOKUP(F1443,Soutez!A:C,3,FALSE)","v":2024},32,2817,1.125,2390,2689,null,null,"DG-300","GM","Není v databázi"]
["Lorenzo Monti",null,null,"Italy",null,"EGC 2024 - Std",{"$f":"VLOOKUP(F1444,Soutez!A:B,2,FALSE)","v":"CZ"},{"$f":"VLOOKUP(F1444,Soutez!A:C,3,FALSE)","v":2024},33,2155,1.125,1757,1977,null,null,"LAK 19","B9","Není v databázi"]
["Lukasz Grabowski",null,null,"Poland",null,"EGC 2024 - 15m",{"$f":"VLOOKUP(F1445,Soutez!A:B,2,FALSE)","v":"CZ"},{"$f":"VLOOKUP(F1445,Soutez!A:C,3,FALSE)","v":2024},1,8.7279999999999998,1.0900000000000001,{"$f":"ROUND(J1445/MAX($J$1445:$J$1471)*10000*0.7+(MAX($I$1445:$I$1471)-I1445)/(MAX($I$1445:$I$1471)-1)*10000*0.3,0)","v":10000},10900,null,null,"Diana 2","RP","Není v databázi"]
["Pawel Wojciechowski",null,null,"Poland",null,"EGC 2024 - 15m",{"$f":"VLOOKUP(F1446,Soutez!A:B,2,FALSE)","v":"CZ"},{"$f":"VLOOKUP(F1446,Soutez!A:C,3,FALSE)","v":2024},2,8.5259999999999998,1.0900000000000001,9723,10598,null,null,"Diana 2 fes","ZJ","Není v databázi"]
["Karel Novak",{"$f":"VLOOKUP(A1447,Pilot,2,0)","v":1993},{"$f":"VLOOKUP(A1447,Pilot,5,0)","v":"M"},{"$f":"VLOOKUP(A1447,Pilot,3,0)","v":"Mladá Boleslav"},{"$f":"VLOOKUP(A1447,Pilot,4,0)","v":"CZ/C1"},"EGC 2024 - 15m",{"$f":"VLOOKUP(F1447,Soutez!A:B,2,FALSE)","v":"CZ"},{"$f":"VLOOKUP(F1447,Soutez!A:C,3,FALSE)","v":2024},3,8.5079999999999991,{"$f":"VLOOKUP(F1447,Soutez,12,0)","v":1.0900000000000001},9593,10456,"x",null,"Ventus 2ax","AX",""]
["Uwe Wahlig",null,null,"Germany",null,"EGC 2024 - 15m",{"$f":"VLOOKUP(F1448,Soutez!A:B,2,FALSE)","v":"CZ"},{"$f":"VLOOKUP(F1448,Soutez!A:C,3,FALSE)","v":2024},4,8.4809999999999999,1.0900000000000001,9456,10307,null,null,"Ventus 3T 15m","3V","Není v databázi"]
["Marius Pluscauskas",null,null,"Lithuania",null,"EGC 2024 - 15m",{"$f":"VLOOKUP(F1449,Soutez!A:B,2,FALSE)","v":"CZ"},{"$f":"VLOOKUP(F1449,Soutez!A:C,3,FALSE)","v":2024},4,8.4809999999999999,1.0900000000000001,9456,10307,null,null,"SZD-56-2 Diana 2","BB","Není v databázi"]
["Stephan Grunder",null,null,"Netherlands",null,"EGC 2024 - 15m",{"$f":"VLOOKUP(F1450,Soutez!A:B,2,FALSE)","v":"CZ"},{"$f":"VLOOKUP(F1450,Soutez!A:C,3,FALSE)","v":2024},6,8.282,1.0900000000000001,9065,9881,null,null,"Ventus 2a","EY","Není v databázi"]
["Kevin Faur",null,null,"France",null,"EGC 2024 - 15m",{"$f":"VLOOKUP(F1451,Soutez!A:B,2,FALSE)","v":"CZ"},{"$f":"VLOOKUP(F1451,Soutez!A:C,3,FALSE)","v":2024},7,8.0809999999999995,1.0900000000000001,8789,9580,null,null,"Ventus 2a","IR","Není v databázi"]
["Filip Bojanowski",null,null,"Denmark",null,"EGC 2024 - 15m",{"$f":"VLOOKUP(F1452,Soutez!A:B,2,FALSE)","v":"CZ"},{"$f":"VLOOKUP(F1452,Soutez!A:C,3,FALSE)","v":2024},8,8.0429999999999993,1.0900000000000001,8643,9421,null,null,"AS33es",12,"Není v databázi"]
["Marc Schick",null,null,"Germany",null,"EGC 2024 - 15m",{"$f":"VLOOKUP(F1453,Soutez!A:B,2,FALSE)","v":"CZ"},{"$f":"VLOOKUP(F1453,Soutez!A:C,3,FALSE)","v":2024},9,7.9950000000000001,1.0900000000000001,8489,9253,null,null,"Ventus 2b","GI","Není v databázi"]
["Owen McCormack",null,null,"United Kingdom",null,"EGC 2024 - 15m",{"$f":"VLOOKUP(F1454,Soutez!A:B,2,FALSE)","v":"CZ"},{"$f":"VLOOKUP(F1454,Soutez!A:C,3,FALSE)","v":2024},10,7.891,1.0900000000000001,8290,9036,null,null,"Ventus 2a",77,"Není v databázi"]
["Riccardo Brigliadori",null,null,"Italy",null,"EGC 2024 - 15m",{"$f":"VLOOKUP(F1455,Soutez!A:B,2,FALSE)","v":"CZ"},{"$f":"VLOOKUP(F1455,Soutez!A:C,3,FALSE)","v":2024},11,7.8049999999999997,1.0900000000000001,8106,8836,null,null,"JS3 Jet","LEO","Není v databázi"]
["Thomas Leduc",null,null,"Belgium",null,"EGC 2024 - 15m",{"$f":"VLOOKUP(F1456,Soutez!A:B,2,FALSE)","v":"CZ"},{"$f":"VLOOKUP(F1456,Soutez!A:C,3,FALSE)","v":2024},12,7.79,1.0900000000000001,7978,8696,null,null,"Ventus 2cxa 15m","LX","Není v databázi"]
["Rasmus Ørskov",null,null,"Denmark",null,"EGC 2024 - 15m",{"$f":"VLOOKUP(F1457,Soutez!A:B,2,FALSE)","v":"CZ"},{"$f":"VLOOKUP(F1457,Soutez!A:C,3,FALSE)","v":2024},13,7.6790000000000003,1.0900000000000001,7774,8474,null,null,"JS3 RES 15m","RX","Není v databázi"]
["Sikko Vermeer",null,null,"Netherlands",null,"EGC 2024 - 15m",{"$f":"VLOOKUP(F1458,Soutez!A:B,2,FALSE)","v":"CZ"},{"$f":"VLOOKUP(F1458,Soutez!A:C,3,FALSE)","v":2024},14,7.6609999999999996,1.0900000000000001,7644,8332,null,null,"ASG 29 es 15m",29,"Není v databázi"]
["Tamas Vamosi",null,null,"Hungary",null,"EGC 2024 - 15m",{"$f":"VLOOKUP(F1459,Soutez!A:B,2,FALSE)","v":"CZ"},{"$f":"VLOOKUP(F1459,Soutez!A:C,3,FALSE)","v":2024},15,7.44,1.0900000000000001,7352,8014,null,null,"Ventus 2a","V8","Není v databázi"]
["Vladimir Foltin",null,null,"Slovakia",null,"EGC 2024 - 15m",{"$f":"VLOOKUP(F1460,Soutez!A:B,2,FALSE)","v":"CZ"},{"$f":"VLOOKUP(F1460,Soutez!A:C,3,FALSE)","v":2024},16,7.3890000000000002,1.0900000000000001,7195,7843,null,null,"JS3 Jet 15m",3,"Není v databázi"]
["Lorenzo Fornari",null,null,"Italy",null,"EGC 2024 - 15m",{"$f":"VLOOKUP(F1461,Soutez!A:B,2,FALSE)","v":"CZ"},{"$f":"VLOOKUP(F1461,Soutez!A:C,3,FALSE)","v":2024},17,7.3280000000000003,1.0900000000000001,7031,7664,null,null,"Ventus 2ax","LD","Není v databázi"]
["Vladas Motuza",null,null,"Lithuania",null,"EGC 2024 - 15m",{"$f":"VLOOKUP(F1462,Soutez!A:B,2,FALSE)","v":"CZ"},{"$f":"VLOOKUP(F1462,Soutez!A:C,3,FALSE)","v":2024},18,7.0919999999999996,1.0900000000000001,6726,7331,null,null,"ASG 29 15m","M7","Není v databázi"]
["Neil McLaughlin",null,null,"United Kingdom",null,"EGC 2024 - 15m",{"$f":"VLOOKUP(F1463,Soutez!A:B,2,FALSE)","v":"CZ"},{"$f":"VLOOKUP(F1463,Soutez!A:C,3,FALSE)","v":2024},19,7.0129999999999999,1.0900000000000001,6548,7137,null,null,"Ventus 2ax",85,"Není v databázi"]
["Eric Garnier",null,null,"France",null,"EGC 2024 - 15m",{"$f":"VLOOKUP(F1464,Soutez!A:B,2,FALSE)","v":"CZ"},{"$f":"VLOOKUP(F1464,Soutez!A:C,3,FALSE)","v":2024},20,6.8209999999999997,1.0900000000000001,6278,6843,null,null,"ASG 29 es 15m","VG","Není v databázi"]
["Daan Spruyt",null,null,"Belgium",null,"EGC 2024 - 15m",{"$f":"VLOOKUP(F1465,Soutez!A:B,2,FALSE)","v":"CZ"},{"$f":"VLOOKUP(F1465,Soutez!A:C,3,FALSE)","v":2024},21,6.734,1.0900000000000001,6093,6641,null,null,"Ventus 2a","FS","Není v databázi"]
["Elek Czigler",null,null,"Hungary",null,"EGC 2024 - 15m",{"$f":"VLOOKUP(F1466,Soutez!A:B,2,FALSE)","v":"CZ"},{"$f":"VLOOKUP(F1466,Soutez!A:C,3,FALSE)","v":2024},22,6.6260000000000003,1.0900000000000001,5891,6421,null,null,"Ventus 2a","C","Není v databázi"]
["Paul Bernhard",null,null,"Austria",null,"EGC 2024 - 15m",{"$f":"VLOOKUP(F1467,Soutez!A:B,2,FALSE)","v":"CZ"},{"$f":"VLOOKUP(F1467,Soutez!A:C,3,FALSE)","v":2024},23,5.742,1.0900000000000001,5067,5523,null,null,"ASW 27","ES","Není v databázi"]
["Mark Käppeli",null,null,"Switzerland",null,"EGC 2024 - 15m",{"$f":"VLOOKUP(F1468,Soutez!A:B,2,FALSE)","v":"CZ"},{"$f":"VLOOKUP(F1468,Soutez!A:C,3,FALSE)","v":2024},24,5.65,1.0900000000000001,4878,5317,null,null,"JS3 RES 15m","MK","Není v databázi"]
["Pavel Louzecky",{"$f":"VLOOKUP(A1469,Pilot,2,0)","v":1957},{"$f":"VLOOKUP(A1469,Pilot,5,0)","v":"M"},{"$f":"VLOOKUP(A1469,Pilot,3,0)","v":"Přibyslav"},{"$f":"VLOOKUP(A1469,Pilot,4,0)","v":"CZ/C2"},"EGC 2024 - 15m",{"$f":"VLOOKUP(F1469,Soutez!A:B,2,FALSE)","v":"CZ"},{"$f":"VLOOKUP(F1469,Soutez!A:C,3,FALSE)","v":2024},25,5.6079999999999997,1.0900000000000001,4728,5154,null,null,"JS3 Jet 15m","XM",""]
["Peter Cutting",null,null,"Sweden",null,"EGC 2024 - 15m",{"$f":"VLOOKUP(F1470,Soutez!A:B,2,FALSE)","v":"CZ"},{"$f":"VLOOKUP(F1470,Soutez!A:C,3,FALSE)","v":2024},26,5.4530000000000003,1.0900000000000001,4489,4893,null,null,"JS3 Res 15m","VZ","Není v databázi"]
["George Schuit",null,null,"Luxembourg",null,"EGC 2024 - 15m",{"$f":"VLOOKUP(F1471,Soutez!A:B,2,FALSE)","v":"CZ"},{"$f":"VLOOKUP(F1471,Soutez!A:C,3,FALSE)","v":2024},27,2.7389999999999999,1.0900000000000001,2197,2395,null,null,"JS3 Jet 15m","MM","Není v databázi"]
["Stepan Bartos",{"$f":"VLOOKUP(A1472,Pilot,2,0)","v":2004},{"$f":"VLOOKUP(A1472,Pilot,5,0)","v":"M"},{"$f":"VLOOKUP(A1472,Pilot,3,0)","v":"Kolín"},{"$f":"VLOOKUP(A1472,Pilot,4,0)","v":"CZ/C1"},"GGP MB 2024 - Klub GP",{"$f":"VLOOKUP(F1472,Soutez!A:B,2,FALSE)","v":"CZ"},{"$f":"VLOOKUP(F1472,Soutez!A:C,3,FALSE)","v":2024},1,30,0.88,{"$f":"ROUND((MAX($I$1472:$I$1486)-I1472)/(MAX($I$1472:$I$1486)-1)*10000,0)","v":10000},{"$f":"ROUND(K1472*L1472,0)","v":8800},"x",null,"DG-300","DG","Junior v roce 2026"]
["Katerina Vojtova",{"$f":"VLOOKUP(A1473,Pilot,2,0)","v":1983},{"$f":"VLOOKUP(A1473,Pilot,5,0)","v":"F"},{"$f":"VLOOKUP(A1473,Pilot,3,0)","v":"Slaný"},{"$f":"VLOOKUP(A1473,Pilot,4,0)","v":"CZ/C1"},"GGP MB 2024 - Klub GP",{"$f":"VLOOKUP(F1473,Soutez!A:B,2,FALSE)","v":"CZ"},{"$f":"VLOOKUP(F1473,Soutez!A:C,3,FALSE)","v":2024},2,20,0.88,{"$f":"ROUND((MAX($I$1472:$I$1486)-I1473)/(MAX($I$1472:$I$1486)-1)*10000,0)","v":9091},{"$f":"ROUND(K1473*L1473,0)","v":8000},"x","x","Std. Cirrus","KAC",""]
["Eliska Kudejova",2006,"F","Strakonice","CZ/C1","GGP MB 2024 - Klub GP",{"$f":"VLOOKUP(F1474,Soutez!A:B,2,FALSE)","v":"CZ"},{"$f":"VLOOKUP(F1474,Soutez!A:C,3,FALSE)","v":2024},3,16,0.88,8182,7200,"x","x","DG-101 G","JL","Junior v roce 2026"]
["Vaclav Marel",1974,"M","Jaroměř","CZ/C2","GGP MB 2024 - Klub GP",{"$f":"VLOOKUP(F1475,Soutez!A:B,2,FALSE)","v":"CZ"},{"$f":"VLOOKUP(F1475,Soutez!A:C,3,FALSE)","v":2024},4,14,0.88,7273,6400,null,null,"Std. Cirrus","IF",""]
["Tereza Koubkova",1999,"F","Strakonice","CZ/C1","GGP MB 2024 - Klub GP",{"$f":"VLOOKUP(F1476,Soutez!A:B,2,FALSE)","v":"CZ"},{"$f":"VLOOKUP(F1476,Soutez!A:C,3,FALSE)","v":2024},4,14,0.88,7273,6400,null,null,"Std.Cirrus","WY",""]
["Ondrej Teichman",1984,"M","Dvůr Králové","CZ/C2","GGP MB 2024 - Klub GP",{"$f":"VLOOKUP(F1477,Soutez!A:B,2,FALSE)","v":"CZ"},{"$f":"VLOOKUP(F1477,Soutez!A:C,3,FALSE)","v":2024},6,13,0.88,5455,4800,null,null,"Cirrus VTC","OT",""]
["Jiri Hula",1973,"M","Slaný","CZ/C1","GGP MB 2024 - Klub GP",{"$f":"VLOOKUP(F1478,Soutez!A:B,2,FALSE)","v":"CZ"},{"$f":"VLOOKUP(F1478,Soutez!A:C,3,FALSE)","v":2024},7,11,0.88,4545,4000,null,null,"Std. Cirrus","IT",""]
["Matej Krestes",1986,"M","Slaný","CZ/C1","GGP MB 2024 - Klub GP",{"$f":"VLOOKUP(F1479,Soutez!A:B,2,FALSE)","v":"CZ"},{"$f":"VLOOKUP(F1479,Soutez!A:C,3,FALSE)","v":2024},8,7,0.88,3636,3200,"x",null,"Std. Cirrus","CON",""]
["Martin Krizovic",1971,"M","Přibyslav","CZ/C2","GGP MB 2024 - Klub GP",{"$f":"VLOOKUP(F1480,Soutez!A:B,2,FALSE)","v":"CZ"},{"$f":"VLOOKUP(F1480,Soutez!A:C,3,FALSE)","v":2024},8,7,0.88,3636,{"$f":"ROUND(K1480*L1480,0)","v":3200},"x",null,"Std. Cirrus",96,""]
["Jakub Sachl",2006,"M","Kralupy","CZ/C1","GGP MB 2024 - Klub GP",{"$f":"VLOOKUP(F1481,Soutez!A:B,2,FALSE)","v":"CZ"},{"$f":"VLOOKUP(F1481,Soutez!A:C,3,FALSE)","v":2024},10,3,0.88,{"$f":"ROUND((MAX($I$1472:$I$1486)-I1482)/(MAX($I$1472:$I$1486)-1)*10000,0)","v":1818},1600,"x",null,"DG-300","BK","Junior v roce 2026"]
["Jiri Bergman",1978,"M","Mladá Boleslav","CZ/C1","GGP MB 2024 - Klub GP",{"$f":"VLOOKUP(F1482,Soutez!A:B,2,FALSE)","v":"CZ"},{"$f":"VLOOKUP(F1482,Soutez!A:C,3,FALSE)","v":2024},10,3,0.88,{"$f":"ROUND((MAX($I$1472:$I$1486)-I1483)/(MAX($I$1472:$I$1486)-1)*10000,0)","v":0},0,null,null,"Std. Cirrus","BW",""]
["Martin Neuvirt",2001,"M","Přibyslav","CZ/C2","GGP MB 2024 - Klub GP",{"$f":"VLOOKUP(F1483,Soutez!A:B,2,FALSE)","v":"CZ"},{"$f":"VLOOKUP(F1483,Soutez!A:C,3,FALSE)","v":2024},12,0,0.88,{"$f":"ROUND((MAX($I$1472:$I$1486)-I1484)/(MAX($I$1472:$I$1486)-1)*10000,0)","v":0},0,null,null,"Std. Cirrus","2C","Junior v roce 2026"]
["Matej Bartos",1998,"M","Hodkovice","CZ/C2","GGP MB 2024 - Klub GP",{"$f":"VLOOKUP(F1484,Soutez!A:B,2,FALSE)","v":"CZ"},{"$f":"VLOOKUP(F1484,Soutez!A:C,3,FALSE)","v":2024},12,0,0.88,{"$f":"ROUND((MAX($I$1472:$I$1486)-I1485)/(MAX($I$1472:$I$1486)-1)*10000,0)","v":0},0,null,null,"ASW-19b","XP",""]
["Jiri Bartunek",1982,"M","Mladá Boleslav","CZ/C1","GGP MB 2024 - Klub GP",{"$f":"VLOOKUP(F1485,Soutez!A:B,2,FALSE)","v":"CZ"},{"$f":"VLOOKUP(F1485,Soutez!A:C,3,FALSE)","v":2024},12,0,0.88,{"$f":"ROUND((MAX($I$1472:$I$1486)-I1486)/(MAX($I$1472:$I$1486)-1)*10000,0)","v":0},{"$f":"ROUND(K1485*L1485,0)","v":0},null,null,"ASW-15","MB",""]
["Pavel Derda",1952,"M","Dvůr Králové","CZ/C2","GGP MB 2024 - Klub GP",{"$f":"VLOOKUP(F1486,Soutez!A:B,2,FALSE)","v":"CZ"},{"$f":"VLOOKUP(F1486,Soutez!A:C,3,FALSE)","v":2024},12,0,0.88,null,0,null,null,"Cirrus VTC","VTC",""]
["David Sachl",{"$f":"VLOOKUP(A1487,Pilot,2,0)","v":1978},{"$f":"VLOOKUP(A1487,Pilot,5,0)","v":"M"},{"$f":"VLOOKUP(A1487,Pilot,3,0)","v":"Kralupy"},{"$f":"VLOOKUP(A1487,Pilot,4,0)","v":"CZ/C1"},"GGP MB 2024 - Pohár MV - Kombi",{"$f":"VLOOKUP(F1487,Soutez!A:B,2,FALSE)","v":"CZ"},{"$f":"VLOOKUP(F1487,Soutez!A:C,3,FALSE)","v":2024},1,1298,0.745,{"$f":"ROUND(J1487/MAX($J$1487:$J$1499)*10000*0.7+(MAX($I$1487:$I$1499)-I1487)/(MAX($I$1487:$I$1499)-1)*10000*0.3,0)","v":10000},{"$f":"ROUND(K1487*L1487,0)","v":7450},"x",null,"ASW 27b WL","MF",{"$f":"IF(ISERROR(VLOOKUP(A1487,Pilot,6,0)),\"Není v databázi\",VLOOKUP(A1487,Pilot,6,0))","v":""}]
["Hana Treslova",{"$f":"VLOOKUP(A1488,Pilot,2,0)","v":1991},{"$f":"VLOOKUP(A1488,Pilot,5,0)","v":"F"},{"$f":"VLOOKUP(A1488,Pilot,3,0)","v":"Raná"},{"$f":"VLOOKUP(A1488,Pilot,4,0)","v":"CZ/C2"},"GGP MB 2024 - Pohár MV - Kombi",{"$f":"VLOOKUP(F1488,Soutez!A:B,2,FALSE)","v":"CZ"},{"$f":"VLOOKUP(F1488,Soutez!A:C,3,FALSE)","v":2024},2,1222,0.745,{"$f":"ROUND(J1488/MAX($J$1487:$J$1499)*10000*0.7+(MAX($I$1487:$I$1499)-I1488)/(MAX($I$1487:$I$1499)-1)*10000*0.3,0)","v":9340},6958,null,null,"JS3 18m","XM",""]
["Leos Strnadek",1983,"M","Hodkovice","CZ/C2","GGP MB 2024 - Pohár MV - Kombi",{"$f":"VLOOKUP(F1489,Soutez!A:B,2,FALSE)","v":"CZ"},{"$f":"VLOOKUP(F1489,Soutez!A:C,3,FALSE)","v":2024},3,1191,0.745,8923,6648,"x",null,"ASG 29e 18m","XZ",""]
["Karel Novak",1993,"M","Mladá Boleslav","CZ/C1","GGP MB 2024 - Pohár MV - Kombi",{"$f":"VLOOKUP(F1490,Soutez!A:B,2,FALSE)","v":"CZ"},{"$f":"VLOOKUP(F1490,Soutez!A:C,3,FALSE)","v":2024},4,1099,0.745,8177,6092,null,null,"Ventus 2a 15m","AX",""]
["Jan Hejret",1976,"M","Jaroměř","CZ/C2","GGP MB 2024 - Pohár MV - Kombi",{"$f":"VLOOKUP(F1491,Soutez!A:B,2,FALSE)","v":"CZ"},{"$f":"VLOOKUP(F1491,Soutez!A:C,3,FALSE)","v":2024},5,1072,0.745,7781,5797,"x",null,"Ventus C 17.6m","WP",""]
["Tomas Hynek",2002,"M","Dvůr Králové","CZ/C2","GGP MB 2024 - Pohár MV - Kombi",{"$f":"VLOOKUP(F1492,Soutez!A:B,2,FALSE)","v":"CZ"},{"$f":"VLOOKUP(F1492,Soutez!A:C,3,FALSE)","v":2024},6,763,0.745,5865,4369,null,null,"LS 8 15m","EU","Junior v roce 2026"]
["Jan Zapletal",1997,"M","Břeclav","CZ/M","GGP MB 2024 - Pohár MV - Kombi",{"$f":"VLOOKUP(F1493,Soutez!A:B,2,FALSE)","v":"CZ"},{"$f":"VLOOKUP(F1493,Soutez!A:C,3,FALSE)","v":2024},7,660,0.745,5059,3769,"x",null,"ASG-29e 18m","2L",""]
["Martin Soucek",1975,"M","Mladá Boleslav","CZ/C1","GGP MB 2024 - Pohár MV - Kombi",{"$f":"VLOOKUP(F1494,Soutez!A:B,2,FALSE)","v":"CZ"},{"$f":"VLOOKUP(F1494,Soutez!A:C,3,FALSE)","v":2024},8,567,0.745,4308,3209,"x",null,"DG 200 17m WL","MS",""]
["Jan Ratz",1987,"M","Zbraslavice","CZ/C1","GGP MB 2024 - Pohár MV - Kombi",{"$f":"VLOOKUP(F1495,Soutez!A:B,2,FALSE)","v":"CZ"},{"$f":"VLOOKUP(F1495,Soutez!A:C,3,FALSE)","v":2024},9,546,0.745,3945,2939,"x",null,"Ventus a 15m WL -500kg","FW",""]
["Libor Bednarik",1972,"M","Kunovice","CZ/M","GGP MB 2024 - Pohár MV - Kombi",{"$f":"VLOOKUP(F1496,Soutez!A:B,2,FALSE)","v":"CZ"},{"$f":"VLOOKUP(F1496,Soutez!A:C,3,FALSE)","v":2024},10,448,0.745,3166,2359,"x",null,"HPH 304TS -850kg","KEG",""]
["Petra CTIBOR",1991,"F","Medlánky","CZ/M","GGP MB 2024 - Pohár MV - Kombi",{"$f":"VLOOKUP(F1497,Soutez!A:B,2,FALSE)","v":"CZ"},{"$f":"VLOOKUP(F1497,Soutez!A:C,3,FALSE)","v":2024},11,241,0.745,1800,1341,null,null,"LAK-17A 18m WL","PB",""]
["Marek Kornec",1957,"M","Dvůr Králové","CZ/C2","GGP MB 2024 - Pohár MV - Kombi",{"$f":"VLOOKUP(F1498,Soutez!A:B,2,FALSE)","v":"CZ"},{"$f":"VLOOKUP(F1498,Soutez!A:C,3,FALSE)","v":2024},12,200,0.745,1329,990,null,null,"Janus C FG","KS",""]
["Jan Muknsnabl",1992,"M","Letkov","CZ/C1","GGP MB 2024 - Pohár MV - Kombi",{"$f":"VLOOKUP(F1499,Soutez!A:B,2,FALSE)","v":"CZ"},{"$f":"VLOOKUP(F1499,Soutez!A:C,3,FALSE)","v":2024},13,0,0.745,0,0,null,null,"LS-8 neo 18m","EJ",""]
["Martijn Eerdekens",null,null,null,null,"JWGC 2024 - Klub",{"$f":"VLOOKUP(F1500,Soutez!A:B,2,FALSE)","v":"PL"},{"$f":"VLOOKUP(F1500,Soutez!A:C,3,FALSE)","v":2024},1,8863,1.07,{"$f":"ROUND(J1500/MAX($J$1500:$J$1543)*10000*0.7+(MAX($I$1500:$I$1543)-I1500)/(MAX($I$1500:$I$1543)-1)*10000*0.3,0)","v":10000},{"$f":"ROUND(K1500*L1500,0)","v":10700},null,null,"LS3 (376,4kg)","PM","Není v databázi"]
["Kim Toppari",null,null,null,null,"JWGC 2024 - Klub",{"$f":"VLOOKUP(F1501,Soutez!A:B,2,FALSE)","v":"PL"},{"$f":"VLOOKUP(F1501,Soutez!A:C,3,FALSE)","v":2024},2,8772,1.07,{"$f":"ROUND(J1501/MAX($J$1500:$J$1543)*10000*0.7+(MAX($I$1500:$I$1543)-I1501)/(MAX($I$1500:$I$1543)-1)*10000*0.3,0)","v":9858},10548,null,null,"LS7 neo WL (339,6kg)","KT","Není v databázi"]
["Alexandre Fierain",null,null,null,null,"JWGC 2024 - Klub",{"$f":"VLOOKUP(F1502,Soutez!A:B,2,FALSE)","v":"PL"},{"$f":"VLOOKUP(F1502,Soutez!A:C,3,FALSE)","v":2024},3,8601,1.07,9654,10330,null,null,"ASW 20 (351,2kg)","WE","Není v databázi"]
["Nicolas Caudrelier",null,null,null,null,"JWGC 2024 - Klub",{"$f":"VLOOKUP(F1503,Soutez!A:B,2,FALSE)","v":"PL"},{"$f":"VLOOKUP(F1503,Soutez!A:C,3,FALSE)","v":2024},4,8517,1.07,9517,10183,null,null,"ASW 20CL (351,0kg)","VL","Není v databázi"]
["Wiktor Czubski",null,null,null,null,"JWGC 2024 - Klub",{"$f":"VLOOKUP(F1504,Soutez!A:B,2,FALSE)","v":"PL"},{"$f":"VLOOKUP(F1504,Soutez!A:C,3,FALSE)","v":2024},5,8449,1.07,9394,10052,null,null,"ASW 20F (371,9kg)","TO","Není v databázi"]
["Jan Stastny",{"$f":"VLOOKUP(A1505,Pilot,2,0)","v":2003},{"$f":"VLOOKUP(A1505,Pilot,5,0)","v":"M"},{"$f":"VLOOKUP(A1505,Pilot,3,0)","v":"Medlánky"},{"$f":"VLOOKUP(A1505,Pilot,4,0)","v":"CZ/M"},"JWGC 2024 - Klub",{"$f":"VLOOKUP(F1505,Soutez!A:B,2,FALSE)","v":"PL"},{"$f":"VLOOKUP(F1505,Soutez!A:C,3,FALSE)","v":2024},6,8371,1.07,9263,9911,"x",null,"ASW 20L (352,8kg)","CX","Junior v roce 2026"]
["Tomas Hynek",{"$f":"VLOOKUP(A1506,Pilot,2,0)","v":2002},{"$f":"VLOOKUP(A1506,Pilot,5,0)","v":"M"},{"$f":"VLOOKUP(A1506,Pilot,3,0)","v":"Dvůr Králové"},{"$f":"VLOOKUP(A1506,Pilot,4,0)","v":"CZ/C2"},"JWGC 2024 - Klub",{"$f":"VLOOKUP(F1506,Soutez!A:B,2,FALSE)","v":"PL"},{"$f":"VLOOKUP(F1506,Soutez!A:C,3,FALSE)","v":2024},7,8271,{"$f":"VLOOKUP(F1506,Soutez,12,0)","v":1.07},9114,9752,"x",null,"ASW 20CL (348,2kg)","VW","Junior v roce 2026"]
["Jens Andersen",null,null,null,null,"JWGC 2024 - Klub",{"$f":"VLOOKUP(F1507,Soutez!A:B,2,FALSE)","v":"PL"},{"$f":"VLOOKUP(F1507,Soutez!A:C,3,FALSE)","v":2024},8,8216,1.07,9001,9631,null,null,"Mosquito (384,0kg)","N8","Není v databázi"]
["Simon SiSka",null,null,null,null,"JWGC 2024 - Klub",{"$f":"VLOOKUP(F1508,Soutez!A:B,2,FALSE)","v":"PL"},{"$f":"VLOOKUP(F1508,Soutez!A:C,3,FALSE)","v":2024},9,8151,1.07,8880,9502,null,null,"ASW 24 WL (355,0kg)","CK","Není v databázi"]
["Lars van Breemen",null,null,null,null,"JWGC 2024 - Klub",{"$f":"VLOOKUP(F1509,Soutez!A:B,2,FALSE)","v":"PL"},{"$f":"VLOOKUP(F1509,Soutez!A:C,3,FALSE)","v":2024},10,8142,1.07,8803,9419,null,null,"LS4 neo WL (359,8kg)","S4","Není v databázi"]
["Tomasz Kurowski",null,null,null,null,"JWGC 2024 - Klub",{"$f":"VLOOKUP(F1510,Soutez!A:B,2,FALSE)","v":"PL"},{"$f":"VLOOKUP(F1510,Soutez!A:C,3,FALSE)","v":2024},11,8049,1.07,8659,9265,null,null,"LS3a (377,0kg)","BO","Není v databázi"]
["Elias Severholt Fourati",null,null,null,null,"JWGC 2024 - Klub",{"$f":"VLOOKUP(F1511,Soutez!A:B,2,FALSE)","v":"PL"},{"$f":"VLOOKUP(F1511,Soutez!A:C,3,FALSE)","v":2024},12,8020,1.07,8567,9167,null,null,"Genesis 2 (358,2kg)","S","Není v databázi"]
["Nils Zitzelsberger",null,null,null,null,"JWGC 2024 - Klub",{"$f":"VLOOKUP(F1512,Soutez!A:B,2,FALSE)","v":"PL"},{"$f":"VLOOKUP(F1512,Soutez!A:C,3,FALSE)","v":2024},13,7974,1.07,8461,9053,null,null,"Discus b (364,8kg)","Ac3","Není v databázi"]
["Alessandro Bassalti",null,null,null,null,"JWGC 2024 - Klub",{"$f":"VLOOKUP(F1513,Soutez!A:B,2,FALSE)","v":"PL"},{"$f":"VLOOKUP(F1513,Soutez!A:C,3,FALSE)","v":2024},14,7916,1.07,8345,8929,null,null,"Discus b (363,6kg)","5I","Není v databázi"]
["Tim Kremers",null,null,null,null,"JWGC 2024 - Klub",{"$f":"VLOOKUP(F1514,Soutez!A:B,2,FALSE)","v":"PL"},{"$f":"VLOOKUP(F1514,Soutez!A:C,3,FALSE)","v":2024},15,7828,1.07,8206,8780,null,null,"LS4a (355,2kg)","Au","Není v databázi"]
["Jokūbas Motūza",null,null,null,null,"JWGC 2024 - Klub",{"$f":"VLOOKUP(F1515,Soutez!A:B,2,FALSE)","v":"PL"},{"$f":"VLOOKUP(F1515,Soutez!A:C,3,FALSE)","v":2024},16,7786,1.07,8103,8670,null,null,"Jantar Std. (369,6kg)","JM","Není v databázi"]
["Andrea Paganin",null,null,null,null,"JWGC 2024 - Klub",{"$f":"VLOOKUP(F1516,Soutez!A:B,2,FALSE)","v":"PL"},{"$f":"VLOOKUP(F1516,Soutez!A:C,3,FALSE)","v":2024},17,7741,1.07,7998,8558,null,null,"ASW 24 WL (340,6kg)","RB","Není v databázi"]
["George White",null,null,null,null,"JWGC 2024 - Klub",{"$f":"VLOOKUP(F1517,Soutez!A:B,2,FALSE)","v":"PL"},{"$f":"VLOOKUP(F1517,Soutez!A:C,3,FALSE)","v":2024},18,7726,1.07,7916,8470,null,null,"ASW 20L (360,4kg)","ENW","Není v databázi"]
["Dylan Osolian",null,null,null,null,"JWGC 2024 - Klub",{"$f":"VLOOKUP(F1518,Soutez!A:B,2,FALSE)","v":"PL"},{"$f":"VLOOKUP(F1518,Soutez!A:C,3,FALSE)","v":2024},19,7675,1.07,7806,8352,null,null,"LS3 (391,0kg)","CP","Není v databázi"]
["Clement de Pechy",null,null,null,null,"JWGC 2024 - Klub",{"$f":"VLOOKUP(F1519,Soutez!A:B,2,FALSE)","v":"PL"},{"$f":"VLOOKUP(F1519,Soutez!A:C,3,FALSE)","v":2024},20,7584,1.07,7664,8200,null,null,"ASW 20FL (377,6kg)","LX","Není v databázi"]
["Oskar Minds",null,null,null,null,"JWGC 2024 - Klub",{"$f":"VLOOKUP(F1520,Soutez!A:B,2,FALSE)","v":"PL"},{"$f":"VLOOKUP(F1520,Soutez!A:C,3,FALSE)","v":2024},21,7393,1.07,7444,7965,null,null,"LS4 (340,4kg)","MD","Není v databázi"]
["Florian Kraja",null,null,null,null,"JWGC 2024 - Klub",{"$f":"VLOOKUP(F1521,Soutez!A:B,2,FALSE)","v":"PL"},{"$f":"VLOOKUP(F1521,Soutez!A:C,3,FALSE)","v":2024},22,7239,1.07,{"$f":"ROUND(J1521/MAX($J$1500:$J$1543)*10000*0.7+(MAX($I$1500:$I$1543)-I1521)/(MAX($I$1500:$I$1543)-1)*10000*0.3,0)","v":7252},7760,null,null,"LS7 WL (331,6kg)","RX","Není v databázi"]
["Moriz Urwyler",null,null,null,null,"JWGC 2024 - Klub",{"$f":"VLOOKUP(F1522,Soutez!A:B,2,FALSE)","v":"PL"},{"$f":"VLOOKUP(F1522,Soutez!A:C,3,FALSE)","v":2024},23,7112,1.07,7082,7578,null,null,"Discus b WL (362,4kg)","OM","Není v databázi"]
["David Neumann",null,null,null,null,"JWGC 2024 - Klub",{"$f":"VLOOKUP(F1523,Soutez!A:B,2,FALSE)","v":"PL"},{"$f":"VLOOKUP(F1523,Soutez!A:C,3,FALSE)","v":2024},24,7088,1.07,6993,7483,null,null,"ASW 24 WL (354,2kg)","LL","Není v databázi"]
["Michał Okoń",null,null,null,null,"JWGC 2024 - Klub",{"$f":"VLOOKUP(F1524,Soutez!A:B,2,FALSE)","v":"PL"},{"$f":"VLOOKUP(F1524,Soutez!A:C,3,FALSE)","v":2024},25,7006,1.07,6859,7339,null,null,"ASW 20FL WL (372,0kg)","MT","Není v databázi"]
["Wout Sliedregt",null,null,null,null,"JWGC 2024 - Klub",{"$f":"VLOOKUP(F1525,Soutez!A:B,2,FALSE)","v":"PL"},{"$f":"VLOOKUP(F1525,Soutez!A:C,3,FALSE)","v":2024},26,6814,1.07,6638,7103,null,null,"LS4a (330,8kg)","AG","Není v databázi"]
["Robbe Van Brandt",null,null,null,null,"JWGC 2024 - Klub",{"$f":"VLOOKUP(F1526,Soutez!A:B,2,FALSE)","v":"PL"},{"$f":"VLOOKUP(F1526,Soutez!A:C,3,FALSE)","v":2024},27,6787,1.07,6546,7004,null,null,"Discus b WL (326,0kg)","PX","Není v databázi"]
["Jakob Schreiber",null,null,null,null,"JWGC 2024 - Klub",{"$f":"VLOOKUP(F1527,Soutez!A:B,2,FALSE)","v":"PL"},{"$f":"VLOOKUP(F1527,Soutez!A:C,3,FALSE)","v":2024},28,6628,1.07,6351,6796,null,null,"LS4b (362,2kg)","VS3","Není v databázi"]
["Mike Tiffin",null,null,null,null,"JWGC 2024 - Klub",{"$f":"VLOOKUP(F1528,Soutez!A:B,2,FALSE)","v":"PL"},{"$f":"VLOOKUP(F1528,Soutez!A:C,3,FALSE)","v":2024},29,6586,1.07,6248,{"$f":"ROUND(K1528*L1528,0)","v":6685},null,null,"LS4b (352,6kg)","6L","Není v databázi"]
["Kengo Matsumoto",null,null,null,null,"JWGC 2024 - Klub",{"$f":"VLOOKUP(F1529,Soutez!A:B,2,FALSE)","v":"PL"},{"$f":"VLOOKUP(F1529,Soutez!A:C,3,FALSE)","v":2024},30,6492,1.07,6104,6531,null,null,"ASW 20FL (371,5kg)","X11","Není v databázi"]
["Mate Meszaros",null,null,null,null,"JWGC 2024 - Klub",{"$f":"VLOOKUP(F1530,Soutez!A:B,2,FALSE)","v":"PL"},{"$f":"VLOOKUP(F1530,Soutez!A:C,3,FALSE)","v":2024},31,6439,1.07,5993,6413,null,null,"ASW 19b (382,8kg)","DB","Není v databázi"]
["Terje Lindtveit",null,null,null,null,"JWGC 2024 - Klub",{"$f":"VLOOKUP(F1531,Soutez!A:B,2,FALSE)","v":"PL"},{"$f":"VLOOKUP(F1531,Soutez!A:C,3,FALSE)","v":2024},32,6118,1.07,5669,6066,null,null,"ASW 20 (364,4kg)","TE","Není v databázi"]
["Jacob Barnes jr.",null,null,null,null,"JWGC 2024 - Klub",{"$f":"VLOOKUP(F1532,Soutez!A:B,2,FALSE)","v":"PL"},{"$f":"VLOOKUP(F1532,Soutez!A:C,3,FALSE)","v":2024},33,5929,1.07,5450,5832,null,null,"ASW 20L (375,4kg)","RD","Není v databázi"]
["Matthias Feitzinger",null,null,null,null,"JWGC 2024 - Klub",{"$f":"VLOOKUP(F1533,Soutez!A:B,2,FALSE)","v":"PL"},{"$f":"VLOOKUP(F1533,Soutez!A:C,3,FALSE)","v":2024},34,5872,1.07,5335,5708,null,null,"LS4a (333,6kg)","FO","Není v databázi"]
["David McMaster",null,null,null,null,"JWGC 2024 - Klub",{"$f":"VLOOKUP(F1534,Soutez!A:B,2,FALSE)","v":"PL"},{"$f":"VLOOKUP(F1534,Soutez!A:C,3,FALSE)","v":2024},35,5756,1.07,5174,5536,null,null,"ASW 24b WL (333,2kg)","AC","Není v databázi"]
["Steven Tellmann",null,null,null,null,"JWGC 2024 - Klub",{"$f":"VLOOKUP(F1535,Soutez!A:B,2,FALSE)","v":"PL"},{"$f":"VLOOKUP(F1535,Soutez!A:C,3,FALSE)","v":2024},36,5719,1.07,5075,{"$f":"ROUND(K1535*L1535,0)","v":5430},null,null,"ASW 20F (384,6kg)","S3","Není v databázi"]
["Eirik Brenner Marthins",null,null,null,null,"JWGC 2024 - Klub",{"$f":"VLOOKUP(F1536,Soutez!A:B,2,FALSE)","v":"PL"},{"$f":"VLOOKUP(F1536,Soutez!A:C,3,FALSE)","v":2024},37,5562,1.07,4881,5223,null,null,"Discus T WL (347,6kg)","DW","Není v databázi"]
["Raphael Lutz",null,null,null,null,"JWGC 2024 - Klub",{"$f":"VLOOKUP(F1537,Soutez!A:B,2,FALSE)","v":"PL"},{"$f":"VLOOKUP(F1537,Soutez!A:C,3,FALSE)","v":2024},38,5325,1.07,4624,4948,null,null,"LS4b neo WL (363,8kg)","C5","Není v databázi"]
["Gionata Donati",null,null,null,null,"JWGC 2024 - Klub",{"$f":"VLOOKUP(F1538,Soutez!A:B,2,FALSE)","v":"PL"},{"$f":"VLOOKUP(F1538,Soutez!A:C,3,FALSE)","v":2024},39,5263,1.07,4506,4821,null,null,"LS3 (373,2kg)","IL","Není v databázi"]
["Austėja Urbanaviciūtė",null,null,null,null,"JWGC 2024 - Klub",{"$f":"VLOOKUP(F1539,Soutez!A:B,2,FALSE)","v":"PL"},{"$f":"VLOOKUP(F1539,Soutez!A:C,3,FALSE)","v":2024},40,5118,1.07,4321,4623,null,null,"LS3a (338,2kg)","QT","Není v databázi"]
["Frida Bjørø",null,null,null,null,"JWGC 2024 - Klub",{"$f":"VLOOKUP(F1540,Soutez!A:B,2,FALSE)","v":"PL"},{"$f":"VLOOKUP(F1540,Soutez!A:C,3,FALSE)","v":2024},41,3469,1.07,2949,3155,null,null,"LS4 (315,2kg)","LG","Není v databázi"]
["Ghazi Satriando Humaid Junior",null,null,null,null,"JWGC 2024 - Klub",{"$f":"VLOOKUP(F1541,Soutez!A:B,2,FALSE)","v":"PL"},{"$f":"VLOOKUP(F1541,Soutez!A:C,3,FALSE)","v":2024},42,2163,1.07,1848,1977,null,null,"LS1f neo WL (341,2kg)","7W","Není v databázi"]
["Vladimir Hammer",{"$f":"VLOOKUP(A1542,Pilot,2,0)","v":2000},{"$f":"VLOOKUP(A1542,Pilot,5,0)","v":"M"},{"$f":"VLOOKUP(A1542,Pilot,3,0)","v":"Letkov"},{"$f":"VLOOKUP(A1542,Pilot,4,0)","v":"CZ/C1"},"JWGC 2024 - Klub",{"$f":"VLOOKUP(F1542,Soutez!A:B,2,FALSE)","v":"PL"},{"$f":"VLOOKUP(F1542,Soutez!A:C,3,FALSE)","v":2024},43,1480,1.07,1239,1326,"x",null,"ASW 20 (363,7kg)","A3",""]
["George Downing",null,null,null,null,"JWGC 2024 - Klub",{"$f":"VLOOKUP(F1543,Soutez!A:B,2,FALSE)","v":"PL"},{"$f":"VLOOKUP(F1543,Soutez!A:C,3,FALSE)","v":2024},44,639,1.07,505,540,null,null,"ASW 20L (361,9kg)","LD","Není v databázi"]
["Max Maslak",null,null,null,null,"JWGC 2024 - Std",{"$f":"VLOOKUP(F1544,Soutez!A:B,2,FALSE)","v":"PL"},{"$f":"VLOOKUP(F1544,Soutez!A:C,3,FALSE)","v":2024},1,8175,1.0900000000000001,{"$f":"ROUND(J1544/MAX($J$1544:$J$1566)*10000*0.7+(MAX($I$1544:$I$1566)-I1544)/(MAX($I$1544:$I$1566)-1)*10000*0.3,0)","v":10000},10900,null,null,"LS8","AR","Není v databázi"]
["Thomas Greenhill",null,null,null,null,"JWGC 2024 - Std",{"$f":"VLOOKUP(F1545,Soutez!A:B,2,FALSE)","v":"PL"},{"$f":"VLOOKUP(F1545,Soutez!A:C,3,FALSE)","v":2024},2,8114,1.0900000000000001,{"$f":"ROUND(J1545/MAX($J$1544:$J$1566)*10000*0.7+(MAX($I$1544:$I$1566)-I1545)/(MAX($I$1544:$I$1566)-1)*10000*0.3,0)","v":9811},10694,null,null,"Discus 2a","GX","Není v databázi"]
["Nils Schlautmann",null,null,null,null,"JWGC 2024 - Std",{"$f":"VLOOKUP(F1546,Soutez!A:B,2,FALSE)","v":"PL"},{"$f":"VLOOKUP(F1546,Soutez!A:C,3,FALSE)","v":2024},3,8007,1.0900000000000001,9583,10445,null,null,"LS8","PI","Není v databázi"]
["Phillip Jonker",null,null,null,null,"JWGC 2024 - Std",{"$f":"VLOOKUP(F1547,Soutez!A:B,2,FALSE)","v":"PL"},{"$f":"VLOOKUP(F1547,Soutez!A:C,3,FALSE)","v":2024},4,7947,1.0900000000000001,9396,10242,null,null,"LS8","BY","Není v databázi"]
["Jakub Kaczorowski",null,null,null,null,"JWGC 2024 - Std",{"$f":"VLOOKUP(F1548,Soutez!A:B,2,FALSE)","v":"PL"},{"$f":"VLOOKUP(F1548,Soutez!A:C,3,FALSE)","v":2024},5,7920,1.0900000000000001,9236,10067,null,null,"LS8","LOT",{"$f":"IF(ISERROR(VLOOKUP(A1548,Pilot,6,0)),\"Není v databázi\",VLOOKUP(A1548,Pilot,6,0))","v":"Není v databázi"}]
["Victor Mallick",null,null,null,null,"JWGC 2024 - Std",{"$f":"VLOOKUP(F1549,Soutez!A:B,2,FALSE)","v":"PL"},{"$f":"VLOOKUP(F1549,Soutez!A:C,3,FALSE)","v":2024},6,7897,1.0900000000000001,9080,9897,null,null,"LS8","ZZ","Není v databázi"]
["Henry Inigo-Jones",null,null,null,null,"JWGC 2024 - Std",{"$f":"VLOOKUP(F1550,Soutez!A:B,2,FALSE)","v":"PL"},{"$f":"VLOOKUP(F1550,Soutez!A:C,3,FALSE)","v":2024},6,7897,1.0900000000000001,9080,9897,null,null,"LS8",95,"Není v databázi"]
["Jan Schulz",null,null,null,null,"JWGC 2024 - Std",{"$f":"VLOOKUP(F1551,Soutez!A:B,2,FALSE)","v":"PL"},{"$f":"VLOOKUP(F1551,Soutez!A:C,3,FALSE)","v":2024},8,7880,1.0900000000000001,8793,9584,null,null,"LS8","KS","Není v databázi"]
["Jaromir Macoun",{"$f":"VLOOKUP(A1552,Pilot,2,0)","v":1999},{"$f":"VLOOKUP(A1552,Pilot,5,0)","v":"M"},{"$f":"VLOOKUP(A1552,Pilot,3,0)","v":"Jičín"},{"$f":"VLOOKUP(A1552,Pilot,4,0)","v":"CZ/C2"},"JWGC 2024 - Std",{"$f":"VLOOKUP(F1552,Soutez!A:B,2,FALSE)","v":"PL"},{"$f":"VLOOKUP(F1552,Soutez!A:C,3,FALSE)","v":2024},9,7798,1.0900000000000001,8586,9359,"x",null,"LS8","EU",""]
["Lukas Kriz",{"$f":"VLOOKUP(A1553,Pilot,2,0)","v":2003},{"$f":"VLOOKUP(A1553,Pilot,5,0)","v":"M"},{"$f":"VLOOKUP(A1553,Pilot,3,0)","v":"Křižanov"},{"$f":"VLOOKUP(A1553,Pilot,4,0)","v":"CZ/M"},"JWGC 2024 - Std",{"$f":"VLOOKUP(F1553,Soutez!A:B,2,FALSE)","v":"PL"},{"$f":"VLOOKUP(F1553,Soutez!A:C,3,FALSE)","v":2024},10,7761,1.0900000000000001,{"$f":"ROUND(J1553/MAX($J$1544:$J$1566)*10000*0.7+(MAX($I$1544:$I$1566)-I1553)/(MAX($I$1544:$I$1566)-1)*10000*0.3,0)","v":8418},9176,null,null,"LS8","AU1","Junior v roce 2026"]
["Lasse Edslev",null,null,null,null,"JWGC 2024 - Std",{"$f":"VLOOKUP(F1554,Soutez!A:B,2,FALSE)","v":"PL"},{"$f":"VLOOKUP(F1554,Soutez!A:C,3,FALSE)","v":2024},11,7711,1.0900000000000001,8239,8981,null,null,"LS8","EC","Není v databázi"]
["Jasper Jansen",null,null,null,null,"JWGC 2024 - Std",{"$f":"VLOOKUP(F1555,Soutez!A:B,2,FALSE)","v":"PL"},{"$f":"VLOOKUP(F1555,Soutez!A:C,3,FALSE)","v":2024},12,7677,1.0900000000000001,8074,8801,null,null,"LS8e neo",71,"Není v databázi"]
["Maciej Kowalski",null,null,null,null,"JWGC 2024 - Std",{"$f":"VLOOKUP(F1556,Soutez!A:B,2,FALSE)","v":"PL"},{"$f":"VLOOKUP(F1556,Soutez!A:C,3,FALSE)","v":2024},13,7550,1.0900000000000001,7828,8533,null,null,"Discus 2a","Y","Není v databázi"]
["Niels van Nieuwland",null,null,null,null,"JWGC 2024 - Std",{"$f":"VLOOKUP(F1557,Soutez!A:B,2,FALSE)","v":"PL"},{"$f":"VLOOKUP(F1557,Soutez!A:C,3,FALSE)","v":2024},14,7478,1.0900000000000001,7630,8317,null,null,"LS8 neo","VNE","Není v databázi"]
["Michaela Rendlova",{"$f":"VLOOKUP(A1558,Pilot,2,0)","v":2004},{"$f":"VLOOKUP(A1558,Pilot,5,0)","v":"F"},{"$f":"VLOOKUP(A1558,Pilot,3,0)","v":"Toužim"},{"$f":"VLOOKUP(A1558,Pilot,4,0)","v":"CZ/C1"},"JWGC 2024 - Std",{"$f":"VLOOKUP(F1558,Soutez!A:B,2,FALSE)","v":"PL"},{"$f":"VLOOKUP(F1558,Soutez!A:C,3,FALSE)","v":2024},15,7421,1.0900000000000001,7445,8115,"x",null,"LS8","W8","Junior v roce 2026"]
["Lucas Oyaux",null,null,null,null,"JWGC 2024 - Std",{"$f":"VLOOKUP(F1559,Soutez!A:B,2,FALSE)","v":"PL"},{"$f":"VLOOKUP(F1559,Soutez!A:C,3,FALSE)","v":2024},16,7341,1.0900000000000001,7240,7892,null,null,"Discus 2a","VN1","Není v databázi"]
["Henry Richard Daly",null,null,null,null,"JWGC 2024 - Std",{"$f":"VLOOKUP(F1560,Soutez!A:B,2,FALSE)","v":"PL"},{"$f":"VLOOKUP(F1560,Soutez!A:C,3,FALSE)","v":2024},17,7273,1.0900000000000001,7046,7680,null,null,"LS8","FX","Není v databázi"]
["Jacob Bøgelund Lassen",null,null,null,null,"JWGC 2024 - Std",{"$f":"VLOOKUP(F1561,Soutez!A:B,2,FALSE)","v":"PL"},{"$f":"VLOOKUP(F1561,Soutez!A:C,3,FALSE)","v":2024},18,7258,1.0900000000000001,6897,7518,null,null,"Discus 2a","MK","Není v databázi"]
["Theo Napoleon",null,null,null,null,"JWGC 2024 - Std",{"$f":"VLOOKUP(F1562,Soutez!A:B,2,FALSE)","v":"PL"},{"$f":"VLOOKUP(F1562,Soutez!A:C,3,FALSE)","v":2024},19,7043,1.0900000000000001,6576,7168,null,null,"Discus-2a","AX","Není v databázi"]
["Noud Kaaij",null,null,null,null,"JWGC 2024 - Std",{"$f":"VLOOKUP(F1563,Soutez!A:B,2,FALSE)","v":"PL"},{"$f":"VLOOKUP(F1563,Soutez!A:C,3,FALSE)","v":2024},20,7015,1.0900000000000001,6416,6993,null,null,"LS8 neo 15m","VK","Není v databázi"]
["Titas JovaiSa",null,null,null,null,"JWGC 2024 - Std",{"$f":"VLOOKUP(F1564,Soutez!A:B,2,FALSE)","v":"PL"},{"$f":"VLOOKUP(F1564,Soutez!A:C,3,FALSE)","v":2024},21,6720,1.0900000000000001,6027,6569,null,null,"LS8","MG","Není v databázi"]
["Oliver Ramsay",null,null,null,null,"JWGC 2024 - Std",{"$f":"VLOOKUP(F1565,Soutez!A:B,2,FALSE)","v":"PL"},{"$f":"VLOOKUP(F1565,Soutez!A:C,3,FALSE)","v":2024},22,6641,1.0900000000000001,5823,6347,null,null,"LS8","B","Není v databázi"]
["Wiktor Łaciński",null,null,null,null,"JWGC 2024 - Std",{"$f":"VLOOKUP(F1566,Soutez!A:B,2,FALSE)","v":"PL"},{"$f":"VLOOKUP(F1566,Soutez!A:C,3,FALSE)","v":2024},23,6556,1.0900000000000001,5614,6119,null,null,"Discus 2a","I","Není v databázi"]
["Jakob Schreiber",null,null,null,null,"Pribina Cup 2024 - Klub",{"$f":"VLOOKUP(F1567,Soutez!A:B,2,FALSE)","v":"SK"},{"$f":"VLOOKUP(F1567,Soutez!A:C,3,FALSE)","v":2024},1,3359,0.91500000000000004,{"$f":"ROUND(J1567/MAX($J$1567:$J$1577)*10000*0.7+(MAX($I$1567:$I$1577)-I1567)/(MAX($I$1567:$I$1577)-1)*10000*0.3,0)","v":10000},9150,null,null,"LS 4","VS3","Není v databázi"]
["Raphael Gramer",null,null,null,null,"Pribina Cup 2024 - Klub",{"$f":"VLOOKUP(F1568,Soutez!A:B,2,FALSE)","v":"SK"},{"$f":"VLOOKUP(F1568,Soutez!A:C,3,FALSE)","v":2024},2,3349,{"$f":"VLOOKUP(F1568,Soutez,12,0)","v":0.91500000000000004},9679,8856,null,null,"LS 4","M2","Není v databázi"]
["Matthias Feitzinger",null,null,"SFC Ried",null,"Pribina Cup 2024 - Klub",{"$f":"VLOOKUP(F1569,Soutez!A:B,2,FALSE)","v":"SK"},{"$f":"VLOOKUP(F1569,Soutez!A:C,3,FALSE)","v":2024},3,3200,0.91500000000000004,9069,8298,null,null,"LS 4","FO","Není v databázi"]
["Michal Lesinger",{"$f":"VLOOKUP(A1570,Pilot,2,0)","v":1966},{"$f":"VLOOKUP(A1570,Pilot,5,0)","v":"M"},{"$f":"VLOOKUP(A1570,Pilot,3,0)","v":"Moravská Třebová"},{"$f":"VLOOKUP(A1570,Pilot,4,0)","v":"CZ/M"},"Pribina Cup 2024 - Klub",{"$f":"VLOOKUP(F1570,Soutez!A:B,2,FALSE)","v":"SK"},{"$f":"VLOOKUP(F1570,Soutez!A:C,3,FALSE)","v":2024},4,2913,0.91500000000000004,8171,7476,null,null,"ASW 20","LL",""]
["Pavol Klein",null,null,null,null,"Pribina Cup 2024 - Klub",{"$f":"VLOOKUP(F1571,Soutez!A:B,2,FALSE)","v":"SK"},{"$f":"VLOOKUP(F1571,Soutez!A:C,3,FALSE)","v":2024},5,2671,0.91500000000000004,7366,{"$f":"ROUND(K1571*L1571,0)","v":6740},null,null,"Std. Libelle",109,"Není v databázi"]
["Martin Snirc",null,null,null,null,"Pribina Cup 2024 - Klub",{"$f":"VLOOKUP(F1572,Soutez!A:B,2,FALSE)","v":"SK"},{"$f":"VLOOKUP(F1572,Soutez!A:C,3,FALSE)","v":2024},6,2467,0.91500000000000004,6641,6077,null,null,"DG 400 17m",400,"Není v databázi"]
["Pawel Glowacki",null,null,null,null,"Pribina Cup 2024 - Klub",{"$f":"VLOOKUP(F1573,Soutez!A:B,2,FALSE)","v":"SK"},{"$f":"VLOOKUP(F1573,Soutez!A:C,3,FALSE)","v":2024},7,2267,0.91500000000000004,5924,5420,null,null,"Pegase C-101A","J7","Není v databázi"]
["Juraj Sidor",null,null,"AK Holic",null,"Pribina Cup 2024 - Klub",{"$f":"VLOOKUP(F1574,Soutez!A:B,2,FALSE)","v":"SK"},{"$f":"VLOOKUP(F1574,Soutez!A:C,3,FALSE)","v":2024},8,1400,0.91500000000000004,3818,3493,null,null,"Std. Cirrus","NM","Není v databázi"]
["Peter Janoska",null,null,null,null,"Pribina Cup 2024 - Klub",{"$f":"VLOOKUP(F1575,Soutez!A:B,2,FALSE)","v":"SK"},{"$f":"VLOOKUP(F1575,Soutez!A:C,3,FALSE)","v":2024},9,1222,0.91500000000000004,3147,2880,null,null,"Pegase C-101A","EB","Není v databázi"]
["Filip Pechac",null,null,"Nitra",null,"Pribina Cup 2024 - Klub",{"$f":"VLOOKUP(F1576,Soutez!A:B,2,FALSE)","v":"SK"},{"$f":"VLOOKUP(F1576,Soutez!A:C,3,FALSE)","v":2024},10,810,0.91500000000000004,1988,1819,null,null,"Pegase C-101A","J2","Není v databázi"]
["Jozef Duc",null,null,"Nitra",null,"Pribina Cup 2024 - Klub",{"$f":"VLOOKUP(F1577,Soutez!A:B,2,FALSE)","v":"SK"},{"$f":"VLOOKUP(F1577,Soutez!A:C,3,FALSE)","v":2024},11,434,0.91500000000000004,904,827,null,null,"LS 6","N6","Není v databázi"]
["Petr Krejcirik",{"$f":"VLOOKUP(A1578,Pilot,2,0)","v":1960},{"$f":"VLOOKUP(A1578,Pilot,5,0)","v":"M"},{"$f":"VLOOKUP(A1578,Pilot,3,0)","v":"Hranice"},{"$f":"VLOOKUP(A1578,Pilot,4,0)","v":"CZ/M"},"Pribina Cup 2024 - Kombi Open",{"$f":"VLOOKUP(F1578,Soutez!A:B,2,FALSE)","v":"SK"},{"$f":"VLOOKUP(F1578,Soutez!A:C,3,FALSE)","v":2024},1,1943,0.95000000000000007,{"$f":"ROUND(J1578/MAX($J$1578:$J$1598)*10000*0.7+(MAX($I$1578:$I$1598)-I1578)/(MAX($I$1578:$I$1598)-1)*10000*0.3,0)","v":10000},9500,"x",null,"AS 33 Es 18m",12,""]
["Zdislaw Bednarczuk",null,null,null,null,"Pribina Cup 2024 - Kombi Open",{"$f":"VLOOKUP(F1579,Soutez!A:B,2,FALSE)","v":"SK"},{"$f":"VLOOKUP(F1579,Soutez!A:C,3,FALSE)","v":2024},2,1900,0.95000000000000007,{"$f":"ROUND(J1579/MAX($J$1578:$J$1598)*10000*0.7+(MAX($I$1578:$I$1598)-I1579)/(MAX($I$1578:$I$1598)-1)*10000*0.3,0)","v":9695},9210,null,null,"JS3 T 18m","ZB","Není v databázi"]
["Tomas Rendla",{"$f":"VLOOKUP(A1580,Pilot,2,0)","v":1973},{"$f":"VLOOKUP(A1580,Pilot,5,0)","v":"M"},{"$f":"VLOOKUP(A1580,Pilot,3,0)","v":"Zbraslavice"},{"$f":"VLOOKUP(A1580,Pilot,4,0)","v":"CZ/C1"},"Pribina Cup 2024 - Kombi Open",{"$f":"VLOOKUP(F1580,Soutez!A:B,2,FALSE)","v":"SK"},{"$f":"VLOOKUP(F1580,Soutez!A:C,3,FALSE)","v":2024},3,1816,0.95000000000000007,9242,8780,null,null,"Arcus","EY",""]
["Marek Pechanec",{"$f":"VLOOKUP(A1581,Pilot,2,0)","v":1970},{"$f":"VLOOKUP(A1581,Pilot,5,0)","v":"M"},{"$f":"VLOOKUP(A1581,Pilot,3,0)","v":"Luhačovice"},{"$f":"VLOOKUP(A1581,Pilot,4,0)","v":"CZ/M"},"Pribina Cup 2024 - Kombi Open",{"$f":"VLOOKUP(F1581,Soutez!A:B,2,FALSE)","v":"SK"},{"$f":"VLOOKUP(F1581,Soutez!A:C,3,FALSE)","v":2024},4,1813,0.95000000000000007,9082,8628,"x",null,"JS3 18m","Q1",""]
["Jernej Lokovsek",null,null,"Aeroklub ALC Lesce",null,"Pribina Cup 2024 - Kombi Open",{"$f":"VLOOKUP(F1582,Soutez!A:B,2,FALSE)","v":"SK"},{"$f":"VLOOKUP(F1582,Soutez!A:C,3,FALSE)","v":2024},5,1705,0.95000000000000007,8543,8116,null,null,"JS3 18m","NL","Není v databázi"]
["Vladimir Foltin",null,null,"Aeroklub Nitra",null,"Pribina Cup 2024 - Kombi Open",{"$f":"VLOOKUP(F1583,Soutez!A:B,2,FALSE)","v":"SK"},{"$f":"VLOOKUP(F1583,Soutez!A:C,3,FALSE)","v":2024},6,1688,0.95000000000000007,8331,7914,null,null,"JS3 18m",3,"Není v databázi"]
["Jan Pavlik",{"$f":"VLOOKUP(A1584,Pilot,2,0)","v":1987},{"$f":"VLOOKUP(A1584,Pilot,5,0)","v":"M"},{"$f":"VLOOKUP(A1584,Pilot,3,0)","v":"Křižanov"},{"$f":"VLOOKUP(A1584,Pilot,4,0)","v":"CZ/M"},"Pribina Cup 2024 - Kombi Open",{"$f":"VLOOKUP(F1584,Soutez!A:B,2,FALSE)","v":"SK"},{"$f":"VLOOKUP(F1584,Soutez!A:C,3,FALSE)","v":2024},7,1629,0.95000000000000007,7969,7571,null,null,"LS 8 18m","JW",""]
["Bogdan Dorozko",null,null,null,null,"Pribina Cup 2024 - Kombi Open",{"$f":"VLOOKUP(F1585,Soutez!A:B,2,FALSE)","v":"SK"},{"$f":"VLOOKUP(F1585,Soutez!A:C,3,FALSE)","v":2024},8,1569,0.95000000000000007,7603,7223,null,null,"ASG 29 18m","29L","Není v databázi"]
["Karel Novak",{"$f":"VLOOKUP(A1586,Pilot,2,0)","v":1993},{"$f":"VLOOKUP(A1586,Pilot,5,0)","v":"M"},{"$f":"VLOOKUP(A1586,Pilot,3,0)","v":"Mladá Boleslav"},{"$f":"VLOOKUP(A1586,Pilot,4,0)","v":"CZ/C1"},"Pribina Cup 2024 - Kombi Open",{"$f":"VLOOKUP(F1586,Soutez!A:B,2,FALSE)","v":"SK"},{"$f":"VLOOKUP(F1586,Soutez!A:C,3,FALSE)","v":2024},9,1502,0.95000000000000007,7211,6850,null,null,"Ventus 2a","AX",""]
["Hana Treslova",1991,"F","Raná","CZ/C2","Pribina Cup 2024 - Kombi Open",{"$f":"VLOOKUP(F1587,Soutez!A:B,2,FALSE)","v":"SK"},{"$f":"VLOOKUP(F1587,Soutez!A:C,3,FALSE)","v":2024},10,1389,0.95000000000000007,{"$f":"ROUND(J1587/MAX($J$1578:$J$1598)*10000*0.7+(MAX($I$1578:$I$1598)-I1587)/(MAX($I$1578:$I$1598)-1)*10000*0.3,0)","v":6654},6321,null,null,"JS3 18m","XM",""]
["Jana Treslova",1963,"F","Raná","CZ/C2","Pribina Cup 2024 - Kombi Open",{"$f":"VLOOKUP(F1588,Soutez!A:B,2,FALSE)","v":"SK"},{"$f":"VLOOKUP(F1588,Soutez!A:C,3,FALSE)","v":2024},11,1350,0.95000000000000007,6364,6046,null,null,"LS 8 18m","W8",""]
["Kornel Negro",null,null,null,null,"Pribina Cup 2024 - Kombi Open",{"$f":"VLOOKUP(F1589,Soutez!A:B,2,FALSE)","v":"SK"},{"$f":"VLOOKUP(F1589,Soutez!A:C,3,FALSE)","v":2024},12,1347,0.95000000000000007,6203,5893,null,null,"AS 33 Es 18m","GPS","Není v databázi"]
["Luka Znidarsic",null,null,"Ak Postojna",null,"Pribina Cup 2024 - Kombi Open",{"$f":"VLOOKUP(F1590,Soutez!A:B,2,FALSE)","v":"SK"},{"$f":"VLOOKUP(F1590,Soutez!A:C,3,FALSE)","v":2024},13,1321,0.95000000000000007,5959,5661,null,null,"Duo Discus","LF","Není v databázi"]
["Rene Schönmann",null,null,"SGBF Segelfluggruppe Basel Fricktal",null,"Pribina Cup 2024 - Kombi Open",{"$f":"VLOOKUP(F1591,Soutez!A:B,2,FALSE)","v":"SK"},{"$f":"VLOOKUP(F1591,Soutez!A:C,3,FALSE)","v":2024},14,1279,0.95000000000000007,5658,5375,null,null,"JS1C 21m","LI","Není v databázi"]
["Zsolt Osi",null,null,null,null,"Pribina Cup 2024 - Kombi Open",{"$f":"VLOOKUP(F1592,Soutez!A:B,2,FALSE)","v":"SK"},{"$f":"VLOOKUP(F1592,Soutez!A:C,3,FALSE)","v":2024},15,1230,0.95000000000000007,5331,5064,null,null,"ASW 22 BLE","BY","Není v databázi"]
["Ivan Novak",{"$f":"VLOOKUP(A1593,Pilot,2,0)","v":1962},{"$f":"VLOOKUP(A1593,Pilot,5,0)","v":"M"},{"$f":"VLOOKUP(A1593,Pilot,3,0)","v":"Mladá Boleslav"},{"$f":"VLOOKUP(A1593,Pilot,4,0)","v":"CZ/C1"},"Pribina Cup 2024 - Kombi Open",{"$f":"VLOOKUP(F1593,Soutez!A:B,2,FALSE)","v":"SK"},{"$f":"VLOOKUP(F1593,Soutez!A:C,3,FALSE)","v":2024},16,1226,0.95000000000000007,5167,4909,null,null,"ASG 29/18m","QZ",""]
["Matsumoto & Hupka",null,null,null,null,"Pribina Cup 2024 - Kombi Open",{"$f":"VLOOKUP(F1594,Soutez!A:B,2,FALSE)","v":"SK"},{"$f":"VLOOKUP(F1594,Soutez!A:C,3,FALSE)","v":2024},17,1122,0.95000000000000007,4642,4410,null,null,"DG 1000T 20m","NIT","Není v databázi"]
["Tapio Tourula",null,null,null,null,"Pribina Cup 2024 - Kombi Open",{"$f":"VLOOKUP(F1595,Soutez!A:B,2,FALSE)","v":"SK"},{"$f":"VLOOKUP(F1595,Soutez!A:C,3,FALSE)","v":2024},18,1073,0.95000000000000007,4316,4100,null,null,"Ventus 3F 18m","3F","Není v databázi"]
["Werner Danz",null,null,null,null,"Pribina Cup 2024 - Kombi Open",{"$f":"VLOOKUP(F1596,Soutez!A:B,2,FALSE)","v":"SK"},{"$f":"VLOOKUP(F1596,Soutez!A:C,3,FALSE)","v":2024},19,674,0.95000000000000007,2728,2592,null,null,"Antares 18T","BT","Není v databázi"]
["Szabo & Szabo",null,null,"Aeroclub",null,"Pribina Cup 2024 - Kombi Open",{"$f":"VLOOKUP(F1597,Soutez!A:B,2,FALSE)","v":"SK"},{"$f":"VLOOKUP(F1597,Soutez!A:C,3,FALSE)","v":2024},20,399,0.95000000000000007,1587,1508,null,null,"HpH 304 TS Twin Shark","HPX","Není v databázi"]
["Botond Szabadfi",null,null,"Malev Aeroclub LHDK",null,"Pribina Cup 2024 - Kombi Open",{"$f":"VLOOKUP(F1598,Soutez!A:B,2,FALSE)","v":"SK"},{"$f":"VLOOKUP(F1598,Soutez!A:C,3,FALSE)","v":2024},21,0,0.95000000000000007,0,0,null,null,"ASG 29/18m","BB","Není v databázi"]
["Wiktor Czubski",null,null,null,null,"Fatraglide 2024 - Klub",{"$f":"VLOOKUP(F1599,Soutez!A:B,2,FALSE)","v":"SK"},{"$f":"VLOOKUP(F1599,Soutez!A:C,3,FALSE)","v":2024},1,4689,0.76500000000000001,{"$f":"ROUND(J1599/MAX($J$1599:$J$1627)*10000*0.7+(MAX($I$1599:$I$1627)-I1599)/(MAX($I$1599:$I$1627)-1)*10000*0.3,0)","v":10000},7650,null,null,"SZD-55","JB","Není v databázi"]
["Milan Surovcik Jr.",null,null,null,null,"Fatraglide 2024 - Klub",{"$f":"VLOOKUP(F1600,Soutez!A:B,2,FALSE)","v":"SK"},{"$f":"VLOOKUP(F1600,Soutez!A:C,3,FALSE)","v":2024},2,4527,0.76500000000000001,{"$f":"ROUND(J1600/MAX($J$1599:$J$1627)*10000*0.7+(MAX($I$1599:$I$1627)-I1600)/(MAX($I$1599:$I$1627)-1)*10000*0.3,0)","v":9651},7383,null,null,"ASW 20","S","Není v databázi"]
["Simon Siska",null,null,null,null,"Fatraglide 2024 - Klub",{"$f":"VLOOKUP(F1601,Soutez!A:B,2,FALSE)","v":"SK"},{"$f":"VLOOKUP(F1601,Soutez!A:C,3,FALSE)","v":2024},3,4486,0.76500000000000001,9483,7254,null,null,"ASW 24 WL","CK","Není v databázi"]
["Daniel Smolka",null,null,null,null,"Fatraglide 2024 - Klub",{"$f":"VLOOKUP(F1602,Soutez!A:B,2,FALSE)","v":"SK"},{"$f":"VLOOKUP(F1602,Soutez!A:C,3,FALSE)","v":2024},4,4451,0.76500000000000001,9323,7132,null,null,"ASW-20","MP","Není v databázi"]
["Martin Sabla",null,null,null,null,"Fatraglide 2024 - Klub",{"$f":"VLOOKUP(F1603,Soutez!A:B,2,FALSE)","v":"SK"},{"$f":"VLOOKUP(F1603,Soutez!A:C,3,FALSE)","v":2024},5,4416,0.76500000000000001,9164,{"$f":"ROUND(K1603*L1603,0)","v":7010},null,null,"ASW 20","IKW","Není v databázi"]
["Jozef Kozar",null,null,null,null,"Fatraglide 2024 - Klub",{"$f":"VLOOKUP(F1604,Soutez!A:B,2,FALSE)","v":"SK"},{"$f":"VLOOKUP(F1604,Soutez!A:C,3,FALSE)","v":2024},6,4326,0.76500000000000001,8922,6825,null,null,"LS 1-f","MF","Není v databázi"]
["Jakub Kos",null,null,null,null,"Fatraglide 2024 - Klub",{"$f":"VLOOKUP(F1605,Soutez!A:B,2,FALSE)","v":"SK"},{"$f":"VLOOKUP(F1605,Soutez!A:C,3,FALSE)","v":2024},7,4244,0.76500000000000001,8693,6650,null,null,"Jantar STD 2","LZ","Není v databázi"]
["Jan Horak",{"$f":"VLOOKUP(A1606,Pilot,2,0)","v":1971},{"$f":"VLOOKUP(A1606,Pilot,5,0)","v":"M"},{"$f":"VLOOKUP(A1606,Pilot,3,0)","v":"Zbraslavice"},{"$f":"VLOOKUP(A1606,Pilot,4,0)","v":"CZ/C1"},"Fatraglide 2024 - Klub",{"$f":"VLOOKUP(F1606,Soutez!A:B,2,FALSE)","v":"SK"},{"$f":"VLOOKUP(F1606,Soutez!A:C,3,FALSE)","v":2024},8,4106,0.76500000000000001,8380,6411,"x",null,"ASW 20A WL","WX",""]
["Tibor Fratrik",null,null,null,null,"Fatraglide 2024 - Klub",{"$f":"VLOOKUP(F1607,Soutez!A:B,2,FALSE)","v":"SK"},{"$f":"VLOOKUP(F1607,Soutez!A:C,3,FALSE)","v":2024},9,3949,0.76500000000000001,8038,6149,null,null,"ASW 20 C","VG","Není v databázi"]
["Oskar Glegola",null,null,null,null,"Fatraglide 2024 - Klub",{"$f":"VLOOKUP(F1608,Soutez!A:B,2,FALSE)","v":"SK"},{"$f":"VLOOKUP(F1608,Soutez!A:C,3,FALSE)","v":2024},10,3773,0.76500000000000001,7668,5866,null,null,"Jantar STD 2","FL","Není v databázi"]
["Julia Walowska",null,null,null,null,"Fatraglide 2024 - Klub",{"$f":"VLOOKUP(F1609,Soutez!A:B,2,FALSE)","v":"SK"},{"$f":"VLOOKUP(F1609,Soutez!A:C,3,FALSE)","v":2024},11,3674,0.76500000000000001,7413,5671,null,null,"Jantar STD 3","HI",{"$f":"IF(ISERROR(VLOOKUP(A1609,Pilot,6,0)),\"Není v databázi\",VLOOKUP(A1609,Pilot,6,0))","v":"Není v databázi"}]
["Filip Durda",null,null,null,null,"Fatraglide 2024 - Klub",{"$f":"VLOOKUP(F1610,Soutez!A:B,2,FALSE)","v":"SK"},{"$f":"VLOOKUP(F1610,Soutez!A:C,3,FALSE)","v":2024},12,3640,0.76500000000000001,7255,5550,null,null,"SZD-48-3M Brawo","BI","Není v databázi"]
["Michal Okon",null,null,null,null,"Fatraglide 2024 - Klub",{"$f":"VLOOKUP(F1611,Soutez!A:B,2,FALSE)","v":"SK"},{"$f":"VLOOKUP(F1611,Soutez!A:C,3,FALSE)","v":2024},13,3358,0.76500000000000001,6727,5146,null,null,"ASW 20 WL","MT","Není v databázi"]
["Lubomir Belusko",null,null,null,null,"Fatraglide 2024 - Klub",{"$f":"VLOOKUP(F1612,Soutez!A:B,2,FALSE)","v":"SK"},{"$f":"VLOOKUP(F1612,Soutez!A:C,3,FALSE)","v":2024},14,3099,0.76500000000000001,6234,4769,null,null,"C101D Pegase","HS","Není v databázi"]
["Peter Ronai",null,null,null,null,"Fatraglide 2024 - Klub",{"$f":"VLOOKUP(F1613,Soutez!A:B,2,FALSE)","v":"SK"},{"$f":"VLOOKUP(F1613,Soutez!A:C,3,FALSE)","v":2024},15,2953,0.76500000000000001,5908,4520,null,null,"ASW 20","TE","Není v databázi"]
["Aneta Chabora",null,null,null,null,"Fatraglide 2024 - Klub",{"$f":"VLOOKUP(F1614,Soutez!A:B,2,FALSE)","v":"SK"},{"$f":"VLOOKUP(F1614,Soutez!A:C,3,FALSE)","v":2024},16,2683,0.76500000000000001,5398,4129,null,null,"Jantar STD 3","B","Není v databázi"]
["Martin Marincak",null,null,null,null,"Fatraglide 2024 - Klub",{"$f":"VLOOKUP(F1615,Soutez!A:B,2,FALSE)","v":"SK"},{"$f":"VLOOKUP(F1615,Soutez!A:C,3,FALSE)","v":2024},17,2498,0.76500000000000001,5015,3836,null,null,"LS 1-f","HL","Není v databázi"]
["Gabor Erseki",null,null,null,null,"Fatraglide 2024 - Klub",{"$f":"VLOOKUP(F1616,Soutez!A:B,2,FALSE)","v":"SK"},{"$f":"VLOOKUP(F1616,Soutez!A:C,3,FALSE)","v":2024},18,2322,0.76500000000000001,4645,3553,null,null,"ASW 15","NK","Není v databázi"]
["Antonio Rudolf Kalik",null,null,null,null,"Fatraglide 2024 - Klub",{"$f":"VLOOKUP(F1617,Soutez!A:B,2,FALSE)","v":"SK"},{"$f":"VLOOKUP(F1617,Soutez!A:C,3,FALSE)","v":2024},19,2165,0.76500000000000001,4303,3292,null,null,"LS 3","AK","Není v databázi"]
["Marek Seman",null,null,null,null,"Fatraglide 2024 - Klub",{"$f":"VLOOKUP(F1618,Soutez!A:B,2,FALSE)","v":"SK"},{"$f":"VLOOKUP(F1618,Soutez!A:C,3,FALSE)","v":2024},20,1951,0.76500000000000001,3877,2966,null,null,"Std. Cirrus","CV","Není v databázi"]
["Oldrich Kounovsky",{"$f":"VLOOKUP(A1619,Pilot,2,0)","v":1976},{"$f":"VLOOKUP(A1619,Pilot,5,0)","v":"M"},{"$f":"VLOOKUP(A1619,Pilot,3,0)","v":"Medlánky"},{"$f":"VLOOKUP(A1619,Pilot,4,0)","v":"CZ/M"},"Fatraglide 2024 - Klub",{"$f":"VLOOKUP(F1619,Soutez!A:B,2,FALSE)","v":"SK"},{"$f":"VLOOKUP(F1619,Soutez!A:C,3,FALSE)","v":2024},21,1928,0.76500000000000001,3735,2857,"x",null,"Std. Cirrus","A7",""]
["Albert Hackl",null,null,null,null,"Fatraglide 2024 - Klub",{"$f":"VLOOKUP(F1620,Soutez!A:B,2,FALSE)","v":"SK"},{"$f":"VLOOKUP(F1620,Soutez!A:C,3,FALSE)","v":2024},22,1865,0.76500000000000001,3534,2704,null,null,"Astir CS Top","PC","Není v databázi"]
["Gabor Bors",null,null,null,null,"Fatraglide 2024 - Klub",{"$f":"VLOOKUP(F1621,Soutez!A:B,2,FALSE)","v":"SK"},{"$f":"VLOOKUP(F1621,Soutez!A:C,3,FALSE)","v":2024},23,1833,0.76500000000000001,3379,2585,null,null,"Mini nimbus","SU","Není v databázi"]
["Peter Gasparovic",null,null,null,null,"Fatraglide 2024 - Klub",{"$f":"VLOOKUP(F1622,Soutez!A:B,2,FALSE)","v":"SK"},{"$f":"VLOOKUP(F1622,Soutez!A:C,3,FALSE)","v":2024},24,1777,0.76500000000000001,3189,2440,null,null,"ASW 19 B","A4","Není v databázi"]
["Michaela Soltysova",null,null,null,null,"Fatraglide 2024 - Klub",{"$f":"VLOOKUP(F1623,Soutez!A:B,2,FALSE)","v":"SK"},{"$f":"VLOOKUP(F1623,Soutez!A:C,3,FALSE)","v":2024},25,1598,0.76500000000000001,2814,2153,null,null,"VSO-10","M6","Není v databázi"]
["Adam Sabla",null,null,null,null,"Fatraglide 2024 - Klub",{"$f":"VLOOKUP(F1624,Soutez!A:B,2,FALSE)","v":"SK"},{"$f":"VLOOKUP(F1624,Soutez!A:C,3,FALSE)","v":2024},26,1475,0.76500000000000001,2523,1930,null,null,"VSO-10","M3","Není v databázi"]
["Rastislav Krak",null,null,null,null,"Fatraglide 2024 - Klub",{"$f":"VLOOKUP(F1625,Soutez!A:B,2,FALSE)","v":"SK"},{"$f":"VLOOKUP(F1625,Soutez!A:C,3,FALSE)","v":2024},27,1135,0.76500000000000001,1909,1460,null,null,"ASW 19 B","A1","Není v databázi"]
["Peter Sedmak",null,null,null,null,"Fatraglide 2024 - Klub",{"$f":"VLOOKUP(F1626,Soutez!A:B,2,FALSE)","v":"SK"},{"$f":"VLOOKUP(F1626,Soutez!A:C,3,FALSE)","v":2024},28,461,0.76500000000000001,795,608,null,null,"LS 4","MA","Není v databázi"]
["Lukas Kostovcik",null,null,null,null,"Fatraglide 2024 - Klub",{"$f":"VLOOKUP(F1627,Soutez!A:B,2,FALSE)","v":"SK"},{"$f":"VLOOKUP(F1627,Soutez!A:C,3,FALSE)","v":2024},29,87,0.76500000000000001,130,99,null,null,"Std. Cirrus","MJ","Není v databázi"]
["Pavol Cerny",null,null,null,null,"Fatraglide 2024 - Kombi",{"$f":"VLOOKUP(F1628,Soutez!A:B,2,FALSE)","v":"SK"},{"$f":"VLOOKUP(F1628,Soutez!A:C,3,FALSE)","v":2024},1,4173,0.76500000000000001,{"$f":"ROUND(J1628/MAX($J$1628:$J$1655)*10000*0.7+(MAX($I$1628:$I$1655)-I1628)/(MAX($I$1628:$I$1655)-1)*10000*0.3,0)","v":10000},7650,null,null,"HpH 304MS Shark 18m 600 kg","EP","Není v databázi"]
["Marek Pechanec",{"$f":"VLOOKUP(A1629,Pilot,2,0)","v":1970},{"$f":"VLOOKUP(A1629,Pilot,5,0)","v":"M"},{"$f":"VLOOKUP(A1629,Pilot,3,0)","v":"Luhačovice"},{"$f":"VLOOKUP(A1629,Pilot,4,0)","v":"CZ/M"},"Fatraglide 2024 - Kombi",{"$f":"VLOOKUP(F1629,Soutez!A:B,2,FALSE)","v":"SK"},{"$f":"VLOOKUP(F1629,Soutez!A:C,3,FALSE)","v":2024},2,4070,{"$f":"VLOOKUP(F1629,Soutez,12,0)","v":0.76500000000000001},{"$f":"ROUND(J1629/MAX($J$1628:$J$1655)*10000*0.7+(MAX($I$1628:$I$1655)-I1629)/(MAX($I$1628:$I$1655)-1)*10000*0.3,0)","v":9716},{"$f":"ROUND(K1629*L1629,0)","v":7433},"x",null,"JS3 RES 18m","Q1",""]
["Branislav Jesensky",null,null,null,null,"Fatraglide 2024 - Kombi",{"$f":"VLOOKUP(F1630,Soutez!A:B,2,FALSE)","v":"SK"},{"$f":"VLOOKUP(F1630,Soutez!A:C,3,FALSE)","v":2024},3,3711,0.76500000000000001,9003,6887,null,null,"JS1-C TJ 21","J","Není v databázi"]
["Janos Sindely",null,null,null,null,"Fatraglide 2024 - Kombi",{"$f":"VLOOKUP(F1631,Soutez!A:B,2,FALSE)","v":"SK"},{"$f":"VLOOKUP(F1631,Soutez!A:C,3,FALSE)","v":2024},4,3316,0.76500000000000001,8229,6295,null,null,"JS1-CTJ 18 EVO","RZ","Není v databázi"]
["Martin Furjes",null,null,null,null,"Fatraglide 2024 - Kombi",{"$f":"VLOOKUP(F1632,Soutez!A:B,2,FALSE)","v":"SK"},{"$f":"VLOOKUP(F1632,Soutez!A:C,3,FALSE)","v":2024},5,3302,0.76500000000000001,8094,6192,null,null,"AS 33 Es 18m",12,"Není v databázi"]
["Kovalcik & Manka",null,null,null,null,"Fatraglide 2024 - Kombi",{"$f":"VLOOKUP(F1633,Soutez!A:B,2,FALSE)","v":"SK"},{"$f":"VLOOKUP(F1633,Soutez!A:C,3,FALSE)","v":2024},6,3235,0.76500000000000001,7871,6021,null,null,"Arcus M","2P","Není v databázi"]
["Roman Petro",null,null,null,null,"Fatraglide 2024 - Kombi",{"$f":"VLOOKUP(F1634,Soutez!A:B,2,FALSE)","v":"SK"},{"$f":"VLOOKUP(F1634,Soutez!A:C,3,FALSE)","v":2024},6,3235,0.76500000000000001,7871,6021,null,null,"DG 1000T 20m","NIT","Není v databázi"]
["Lubik Jakubcak",null,null,null,null,"Fatraglide 2024 - Kombi",{"$f":"VLOOKUP(F1635,Soutez!A:B,2,FALSE)","v":"SK"},{"$f":"VLOOKUP(F1635,Soutez!A:C,3,FALSE)","v":2024},8,3233,0.76500000000000001,7645,5848,null,null,"Arcus M","CAR","Není v databázi"]
["Michal Cupak",{"$f":"VLOOKUP(A1636,Pilot,2,0)","v":1991},{"$f":"VLOOKUP(A1636,Pilot,5,0)","v":"M"},{"$f":"VLOOKUP(A1636,Pilot,3,0)","v":"Medlánky"},{"$f":"VLOOKUP(A1636,Pilot,4,0)","v":"CZ/M"},"Fatraglide 2024 - Kombi",{"$f":"VLOOKUP(F1636,Soutez!A:B,2,FALSE)","v":"SK"},{"$f":"VLOOKUP(F1636,Soutez!A:C,3,FALSE)","v":2024},9,3173,0.76500000000000001,7434,5687,null,null,"Ventus c 17.6m","PD",""]
["Edmund Schuller",null,null,null,null,"Fatraglide 2024 - Kombi",{"$f":"VLOOKUP(F1637,Soutez!A:B,2,FALSE)","v":"SK"},{"$f":"VLOOKUP(F1637,Soutez!A:C,3,FALSE)","v":2024},10,3100,0.76500000000000001,7200,5508,null,null,"Discus 2b","DI","Není v databázi"]
["Mathias Muench",null,null,null,null,"Fatraglide 2024 - Kombi",{"$f":"VLOOKUP(F1638,Soutez!A:B,2,FALSE)","v":"SK"},{"$f":"VLOOKUP(F1638,Soutez!A:C,3,FALSE)","v":2024},11,2987,0.76500000000000001,6899,5278,null,null,"DG 800 A/B 18m","MU","Není v databázi"]
["Milos Srank",null,null,null,null,"Fatraglide 2024 - Kombi",{"$f":"VLOOKUP(F1639,Soutez!A:B,2,FALSE)","v":"SK"},{"$f":"VLOOKUP(F1639,Soutez!A:C,3,FALSE)","v":2024},12,2971,0.76500000000000001,6761,5172,null,null,"ASG 29 E 18m","LK","Není v databázi"]
["Marek Straka",null,null,null,null,"Fatraglide 2024 - Kombi",{"$f":"VLOOKUP(F1640,Soutez!A:B,2,FALSE)","v":"SK"},{"$f":"VLOOKUP(F1640,Soutez!A:C,3,FALSE)","v":2024},13,2931,0.76500000000000001,{"$f":"ROUND(J1640/MAX($J$1628:$J$1655)*10000*0.7+(MAX($I$1628:$I$1655)-I1640)/(MAX($I$1628:$I$1655)-1)*10000*0.3,0)","v":6583},5036,null,null,"Ventus 2cxT 18m 565 kg","AI","Není v databázi"]
["Viliam Kubovcik",null,null,null,null,"Fatraglide 2024 - Kombi",{"$f":"VLOOKUP(F1641,Soutez!A:B,2,FALSE)","v":"SK"},{"$f":"VLOOKUP(F1641,Soutez!A:C,3,FALSE)","v":2024},14,2920,0.76500000000000001,6454,4937,null,null,"JS3 RES 18m","VV","Není v databázi"]
["Zsolt Osi",null,null,null,null,"Fatraglide 2024 - Kombi",{"$f":"VLOOKUP(F1642,Soutez!A:B,2,FALSE)","v":"SK"},{"$f":"VLOOKUP(F1642,Soutez!A:C,3,FALSE)","v":2024},15,2882,0.76500000000000001,6279,{"$f":"ROUND(K1642*L1642,0)","v":4803},null,null,"ASW 22 BLE 810 kg","BY","Není v databázi"]
["Miroslav Puffler",null,null,null,null,"Fatraglide 2024 - Kombi",{"$f":"VLOOKUP(F1643,Soutez!A:B,2,FALSE)","v":"SK"},{"$f":"VLOOKUP(F1643,Soutez!A:C,3,FALSE)","v":2024},16,2847,0.76500000000000001,6109,4673,null,null,"Ventus cT 17,6m","TN","Není v databázi"]
["Petr Hotovy",{"$f":"VLOOKUP(A1644,Pilot,2,0)","v":1958},{"$f":"VLOOKUP(A1644,Pilot,5,0)","v":"M"},{"$f":"VLOOKUP(A1644,Pilot,3,0)","v":"Česká Lípa"},{"$f":"VLOOKUP(A1644,Pilot,4,0)","v":"CZ/C2"},"Fatraglide 2024 - Kombi",{"$f":"VLOOKUP(F1644,Soutez!A:B,2,FALSE)","v":"SK"},{"$f":"VLOOKUP(F1644,Soutez!A:C,3,FALSE)","v":2024},17,2800,0.76500000000000001,5919,4528,null,null,"JS1-BTJ 18m","IGC",""]
["Tibor Noga",null,null,null,null,"Fatraglide 2024 - Kombi",{"$f":"VLOOKUP(F1645,Soutez!A:B,2,FALSE)","v":"SK"},{"$f":"VLOOKUP(F1645,Soutez!A:C,3,FALSE)","v":2024},18,2763,0.76500000000000001,5746,{"$f":"ROUND(K1645*L1645,0)","v":4396},null,null,"Ventus 2c 18m","LN","Není v databázi"]
["Peter Pokorny",null,null,null,null,"Fatraglide 2024 - Kombi",{"$f":"VLOOKUP(F1646,Soutez!A:B,2,FALSE)","v":"SK"},{"$f":"VLOOKUP(F1646,Soutez!A:C,3,FALSE)","v":2024},19,2370,0.76500000000000001,4976,3807,null,null,"ASG 29 E 18m","9E","Není v databázi"]
["Milan Lojdl",null,null,null,null,"Fatraglide 2024 - Kombi",{"$f":"VLOOKUP(F1647,Soutez!A:B,2,FALSE)","v":"SK"},{"$f":"VLOOKUP(F1647,Soutez!A:C,3,FALSE)","v":2024},20,2311,0.76500000000000001,4765,{"$f":"ROUND(K1647*L1647,0)","v":3645},null,null,"Ventus 2cxT 18m 600","MJ1","Není v databázi"]
["Lukas Benedikt",null,null,null,null,"Fatraglide 2024 - Kombi",{"$f":"VLOOKUP(F1648,Soutez!A:B,2,FALSE)","v":"SK"},{"$f":"VLOOKUP(F1648,Soutez!A:C,3,FALSE)","v":2024},21,2256,0.76500000000000001,4562,3490,null,null,"Ventus 3F 18m","LB","Není v databázi"]
["Lubomir Doupal",{"$f":"VLOOKUP(A1649,Pilot,2,0)","v":1975},{"$f":"VLOOKUP(A1649,Pilot,5,0)","v":"M"},{"$f":"VLOOKUP(A1649,Pilot,3,0)","v":"Kroměříž"},{"$f":"VLOOKUP(A1649,Pilot,4,0)","v":"CZ/M"},"Fatraglide 2024 - Kombi",{"$f":"VLOOKUP(F1649,Soutez!A:B,2,FALSE)","v":"SK"},{"$f":"VLOOKUP(F1649,Soutez!A:C,3,FALSE)","v":2024},22,2184,0.76500000000000001,4330,3312,null,null,"Arcus M","FJ",""]
["Kromka & Kollar",null,null,null,null,"Fatraglide 2024 - Kombi",{"$f":"VLOOKUP(F1650,Soutez!A:B,2,FALSE)","v":"SK"},{"$f":"VLOOKUP(F1650,Soutez!A:C,3,FALSE)","v":2024},23,2104,0.76500000000000001,4085,{"$f":"ROUND(K1650*L1650,0)","v":3125},null,null,"Arcus M","TA3","Není v databázi"]
["Peter Abonyi",null,null,null,null,"Fatraglide 2024 - Kombi",{"$f":"VLOOKUP(F1651,Soutez!A:B,2,FALSE)","v":"SK"},{"$f":"VLOOKUP(F1651,Soutez!A:C,3,FALSE)","v":2024},24,2050,0.76500000000000001,3883,2970,null,null,"Ventus c 17,6m","PA","Není v databázi"]
["Anton Zelenaj",null,null,null,null,"Fatraglide 2024 - Kombi",{"$f":"VLOOKUP(F1652,Soutez!A:B,2,FALSE)","v":"SK"},{"$f":"VLOOKUP(F1652,Soutez!A:C,3,FALSE)","v":2024},25,2007,0.76500000000000001,3700,2831,null,null,"ASW 27 WL","TZ","Není v databázi"]
["Vaclav Hruza",{"$f":"VLOOKUP(A1653,Pilot,2,0)","v":1965},{"$f":"VLOOKUP(A1653,Pilot,5,0)","v":"M"},{"$f":"VLOOKUP(A1653,Pilot,3,0)","v":"Břeclav"},{"$f":"VLOOKUP(A1653,Pilot,4,0)","v":"CZ/M"},"Fatraglide 2024 - Kombi",{"$f":"VLOOKUP(F1653,Soutez!A:B,2,FALSE)","v":"SK"},{"$f":"VLOOKUP(F1653,Soutez!A:C,3,FALSE)","v":2024},26,2004,0.76500000000000001,3584,2742,"x",null,"HpH 304MS Shark 18m 600 kg","TH",""]
["Martin Cicvarek",1966,"M","Liberec","CZ/C2","Fatraglide 2024 - Kombi",{"$f":"VLOOKUP(F1654,Soutez!A:B,2,FALSE)","v":"SK"},{"$f":"VLOOKUP(F1654,Soutez!A:C,3,FALSE)","v":2024},27,1676,0.76500000000000001,2923,{"$f":"ROUND(K1654*L1654,0)","v":2236},null,null,"KKB 18 FES","AC",""]
["Peter Ziak",null,null,null,null,"Fatraglide 2024 - Kombi",{"$f":"VLOOKUP(F1655,Soutez!A:B,2,FALSE)","v":"SK"},{"$f":"VLOOKUP(F1655,Soutez!A:C,3,FALSE)","v":2024},28,791,0.76500000000000001,1327,{"$f":"ROUND(K1655*L1655,0)","v":1015},null,null,"LAK-17B FES 18m","PZ","Není v databázi"]
["Ivan Novak",{"$f":"VLOOKUP(A1656,Pilot,2,0)","v":1962},{"$f":"VLOOKUP(A1656,Pilot,5,0)","v":"M"},{"$f":"VLOOKUP(A1656,Pilot,3,0)","v":"Mladá Boleslav"},{"$f":"VLOOKUP(A1656,Pilot,4,0)","v":"CZ/C1"},"PMSR 2024 - Kombi",{"$f":"VLOOKUP(F1656,Soutez!A:B,2,FALSE)","v":"SK"},{"$f":"VLOOKUP(F1656,Soutez!A:C,3,FALSE)","v":2024},1,4042,0.93500000000000005,{"$f":"ROUND(J1656/MAX($J$1656:$J$1675)*10000*0.7+(MAX($I$1656:$I$1675)-I1656)/(MAX($I$1656:$I$1675)-1)*10000*0.3,0)","v":10000},9350,"x",null,"ASG 29 18m","QZ",{"$f":"IF(ISERROR(VLOOKUP(A1656,Pilot,6,0)),\"Není v databázi\",VLOOKUP(A1656,Pilot,6,0))","v":""}]
["Divok & Divokova",null,null,"Spišská Nová Ves/Future Fly Bidovce",null,"PMSR 2024 - Kombi",{"$f":"VLOOKUP(F1657,Soutez!A:B,2,FALSE)","v":"SK"},{"$f":"VLOOKUP(F1657,Soutez!A:C,3,FALSE)","v":2024},2,3939,0.93500000000000005,{"$f":"ROUND(J1657/MAX($J$1656:$J$1675)*10000*0.7+(MAX($I$1656:$I$1675)-I1657)/(MAX($I$1656:$I$1675)-1)*10000*0.3,0)","v":9664},9036,null,null,"Duo Discus XL","SNV","Není v databázi"]
["Jiri Kusbach",{"$f":"VLOOKUP(A1658,Pilot,2,0)","v":1959},{"$f":"VLOOKUP(A1658,Pilot,5,0)","v":"M"},{"$f":"VLOOKUP(A1658,Pilot,3,0)","v":"Luhačovice"},{"$f":"VLOOKUP(A1658,Pilot,4,0)","v":"CZ/M"},"PMSR 2024 - Kombi",{"$f":"VLOOKUP(F1658,Soutez!A:B,2,FALSE)","v":"SK"},{"$f":"VLOOKUP(F1658,Soutez!A:C,3,FALSE)","v":2024},3,3844,0.93500000000000005,9341,8734,null,null,"Diana 3 FES","B",""]
["Martin FurjeS",null,null,"SGC Martin",null,"PMSR 2024 - Kombi",{"$f":"VLOOKUP(F1659,Soutez!A:B,2,FALSE)","v":"SK"},{"$f":"VLOOKUP(F1659,Soutez!A:C,3,FALSE)","v":2024},4,3779,0.93500000000000005,9071,8481,null,null,"AS 33 Es 18m",12,"Není v databázi"]
["Viliam Kubovcik",null,null,"AK Poprad",null,"PMSR 2024 - Kombi",{"$f":"VLOOKUP(F1660,Soutez!A:B,2,FALSE)","v":"SK"},{"$f":"VLOOKUP(F1660,Soutez!A:C,3,FALSE)","v":2024},5,3715,0.93500000000000005,8802,8230,null,null,"JS3 RES 18m","VV","Není v databázi"]
["Tibor Noga",null,null,"SGC Martin",null,"PMSR 2024 - Kombi",{"$f":"VLOOKUP(F1661,Soutez!A:B,2,FALSE)","v":"SK"},{"$f":"VLOOKUP(F1661,Soutez!A:C,3,FALSE)","v":2024},6,3384,0.93500000000000005,8071,7546,null,null,"Ventus 2c 18m","LN","Není v databázi"]
["Dana Novakova",{"$f":"VLOOKUP(A1662,Pilot,2,0)","v":1965},{"$f":"VLOOKUP(A1662,Pilot,5,0)","v":"F"},{"$f":"VLOOKUP(A1662,Pilot,3,0)","v":"Mladá Boleslav"},{"$f":"VLOOKUP(A1662,Pilot,4,0)","v":"CZ/C1"},"PMSR 2024 - Kombi",{"$f":"VLOOKUP(F1662,Soutez!A:B,2,FALSE)","v":"SK"},{"$f":"VLOOKUP(F1662,Soutez!A:C,3,FALSE)","v":2024},7,3347,0.93500000000000005,7849,7339,"x","x","LS 8 18m","ID",""]
["Jan Divok",null,null,"AK Sp.Nová Ves",null,"PMSR 2024 - Kombi",{"$f":"VLOOKUP(F1663,Soutez!A:B,2,FALSE)","v":"SK"},{"$f":"VLOOKUP(F1663,Soutez!A:C,3,FALSE)","v":2024},8,3337,0.93500000000000005,7674,7175,null,null,"Discus 2cT 18m","DJ","Není v databázi"]
["Jana Treslova",{"$f":"VLOOKUP(A1664,Pilot,2,0)","v":1963},{"$f":"VLOOKUP(A1664,Pilot,5,0)","v":"F"},{"$f":"VLOOKUP(A1664,Pilot,3,0)","v":"Raná"},{"$f":"VLOOKUP(A1664,Pilot,4,0)","v":"CZ/C2"},"PMSR 2024 - Kombi",{"$f":"VLOOKUP(F1664,Soutez!A:B,2,FALSE)","v":"SK"},{"$f":"VLOOKUP(F1664,Soutez!A:C,3,FALSE)","v":2024},9,3165,0.93500000000000005,{"$f":"ROUND(J1664/MAX($J$1656:$J$1675)*10000*0.7+(MAX($I$1656:$I$1675)-I1664)/(MAX($I$1656:$I$1675)-1)*10000*0.3,0)","v":7218},6749,null,null,"LS 8 18m","JB",""]
["Edmund Schuller",null,null,"SGC Martin",null,"PMSR 2024 - Kombi",{"$f":"VLOOKUP(F1665,Soutez!A:B,2,FALSE)","v":"SK"},{"$f":"VLOOKUP(F1665,Soutez!A:C,3,FALSE)","v":2024},10,2838,0.93500000000000005,6494,6072,null,null,"Discus 2b","DI","Není v databázi"]
["Janos Sindely",null,null,"Alfoldi",null,"PMSR 2024 - Kombi",{"$f":"VLOOKUP(F1666,Soutez!A:B,2,FALSE)","v":"SK"},{"$f":"VLOOKUP(F1666,Soutez!A:C,3,FALSE)","v":2024},11,2730,0.93500000000000005,6149,{"$f":"ROUND(K1666*L1666,0)","v":5749},null,null,"JS1 CTJ EVO 18m","RZ","Není v databázi"]
["Jakubcak & Kollarova",null,null,"SGC Martin",null,"PMSR 2024 - Kombi",{"$f":"VLOOKUP(F1667,Soutez!A:B,2,FALSE)","v":"SK"},{"$f":"VLOOKUP(F1667,Soutez!A:C,3,FALSE)","v":2024},12,2678,0.93500000000000005,5901,5517,null,null,"Arcus M","CAR","Není v databázi"]
["Kovalcik & Varsik",null,null,"AK Bratislava",null,"PMSR 2024 - Kombi",{"$f":"VLOOKUP(F1668,Soutez!A:B,2,FALSE)","v":"SK"},{"$f":"VLOOKUP(F1668,Soutez!A:C,3,FALSE)","v":2024},13,2632,0.93500000000000005,5663,5295,null,null,"Arcus M","2P","Není v databázi"]
["Kollar & Kromka",null,null,"AK Poprad",null,"PMSR 2024 - Kombi",{"$f":"VLOOKUP(F1669,Soutez!A:B,2,FALSE)","v":"SK"},{"$f":"VLOOKUP(F1669,Soutez!A:C,3,FALSE)","v":2024},14,2444,0.93500000000000005,5180,4843,null,null,"Arcus M","TA3","Není v databázi"]
["Marek Straka",null,null,"AK Dubnica nad Váhom",null,"PMSR 2024 - Kombi",{"$f":"VLOOKUP(F1670,Soutez!A:B,2,FALSE)","v":"SK"},{"$f":"VLOOKUP(F1670,Soutez!A:C,3,FALSE)","v":2024},15,2197,0.93500000000000005,4594,4295,null,null,"Ventus 2cxT 18m","AI","Není v databázi"]
["Gabriela Belakova",null,null,"AK Prievidza",null,"PMSR 2024 - Kombi",{"$f":"VLOOKUP(F1671,Soutez!A:B,2,FALSE)","v":"SK"},{"$f":"VLOOKUP(F1671,Soutez!A:C,3,FALSE)","v":2024},16,1971,0.93500000000000005,4045,3782,null,null,"Ventus 3M 18m","CAT","Není v databázi"]
["Jan Paepke",null,null,"AK Prievidza",null,"PMSR 2024 - Kombi",{"$f":"VLOOKUP(F1672,Soutez!A:B,2,FALSE)","v":"SK"},{"$f":"VLOOKUP(F1672,Soutez!A:C,3,FALSE)","v":2024},17,1921,0.93500000000000005,3801,3554,null,null,"LAK-17A T 18m","AK","Není v databázi"]
["Peter Abonyi",null,null,"SGC Martin",null,"PMSR 2024 - Kombi",{"$f":"VLOOKUP(F1673,Soutez!A:B,2,FALSE)","v":"SK"},{"$f":"VLOOKUP(F1673,Soutez!A:C,3,FALSE)","v":2024},18,1760,0.93500000000000005,3364,3145,null,null,"Ventus c 17.6m","PA","Není v databázi"]
["Jan Keher",null,null,"AK Prievidza",null,"PMSR 2024 - Kombi",{"$f":"VLOOKUP(F1674,Soutez!A:B,2,FALSE)","v":"SK"},{"$f":"VLOOKUP(F1674,Soutez!A:C,3,FALSE)","v":2024},19,1679,0.93500000000000005,3066,2867,null,null,"Discus 2cT 18m","EF","Není v databázi"]
["Viktoria Divokova",null,null,"Spišska Nová Ves",null,"PMSR 2024 - Kombi",{"$f":"VLOOKUP(F1675,Soutez!A:B,2,FALSE)","v":"SK"},{"$f":"VLOOKUP(F1675,Soutez!A:C,3,FALSE)","v":2024},20,1500,0.93500000000000005,2598,2429,null,null,"AS 33 Es 18m","D","Není v databázi"]
["Mayr & Seischab",null,null,null,null,"Lilienthal Glide 2024 - Duo 20m",{"$f":"VLOOKUP(F1676,Soutez!A:B,2,FALSE)","v":"DE"},{"$f":"VLOOKUP(F1676,Soutez!A:C,3,FALSE)","v":2024},1,4481,{"$f":"VLOOKUP(F1676,Soutez,12,0)","v":0.76},{"$f":"ROUND(J1676/MAX($J$1676:$J$1703)*10000*0.7+(MAX($I$1676:$I$1703)-I1676)/(MAX($I$1676:$I$1703)-1)*10000*0.3,0)","v":10000},7600,null,null,"ASG 32Mi","LX","Není v databázi"]
["Trapp & Reiß",null,null,null,null,"Lilienthal Glide 2024 - Duo 20m",{"$f":"VLOOKUP(F1677,Soutez!A:B,2,FALSE)","v":"DE"},{"$f":"VLOOKUP(F1677,Soutez!A:C,3,FALSE)","v":2024},2,4469,0.76,9870,7501,null,null,"Arcus M","1H","Není v databázi"]
["Arne Kerlin",null,null,null,null,"Lilienthal Glide 2024 - Duo 20m",{"$f":"VLOOKUP(F1678,Soutez!A:B,2,FALSE)","v":"DE"},{"$f":"VLOOKUP(F1678,Soutez!A:C,3,FALSE)","v":2024},3,4403,0.76,9656,7339,null,null,"Arcus M","DH","Není v databázi"]
["Hezel & Hezel",null,null,null,null,"Lilienthal Glide 2024 - Duo 20m",{"$f":"VLOOKUP(F1679,Soutez!A:B,2,FALSE)","v":"DE"},{"$f":"VLOOKUP(F1679,Soutez!A:C,3,FALSE)","v":2024},4,4259,0.76,9320,7083,null,null,"Arcus T","WA","Není v databázi"]
["Wagner & Muller",null,null,null,null,"Lilienthal Glide 2024 - Duo 20m",{"$f":"VLOOKUP(F1680,Soutez!A:B,2,FALSE)","v":"DE"},{"$f":"VLOOKUP(F1680,Soutez!A:C,3,FALSE)","v":2024},5,4209,0.76,9131,6940,null,null,"Arcus M","WM","Není v databázi"]
["Pfennig & Klossok",null,null,null,null,"Lilienthal Glide 2024 - Duo 20m",{"$f":"VLOOKUP(F1681,Soutez!A:B,2,FALSE)","v":"DE"},{"$f":"VLOOKUP(F1681,Soutez!A:C,3,FALSE)","v":2024},6,4166,0.76,8952,6804,null,null,"Arcus M","WK","Není v databázi"]
["Sommer & Zettier",null,null,null,null,"Lilienthal Glide 2024 - Duo 20m",{"$f":"VLOOKUP(F1682,Soutez!A:B,2,FALSE)","v":"DE"},{"$f":"VLOOKUP(F1682,Soutez!A:C,3,FALSE)","v":2024},7,4141,0.76,8802,6690,null,null,"Arcus M","7L","Není v databázi"]
["Stahf & Stahf",null,null,null,null,"Lilienthal Glide 2024 - Duo 20m",{"$f":"VLOOKUP(F1683,Soutez!A:B,2,FALSE)","v":"DE"},{"$f":"VLOOKUP(F1683,Soutez!A:C,3,FALSE)","v":2024},8,4075,0.76,8588,6527,null,null,"Arcus M",12,"Není v databázi"]
["Michaela Krizova",{"$f":"VLOOKUP(A1684,Pilot,2,0)","v":2001},{"$f":"VLOOKUP(A1684,Pilot,5,0)","v":"F"},{"$f":"VLOOKUP(A1684,Pilot,3,0)","v":"Přibyslav"},{"$f":"VLOOKUP(A1684,Pilot,4,0)","v":"CZ/C2"},"Lilienthal Glide 2024 - Duo 20m",{"$f":"VLOOKUP(F1684,Soutez!A:B,2,FALSE)","v":"DE"},{"$f":"VLOOKUP(F1684,Soutez!A:C,3,FALSE)","v":2024},9,4066,0.76,8463,6432,null,null,"fs33",33,"Junior v roce 2026"]
["Bick & Danders",null,null,null,null,"Lilienthal Glide 2024 - Duo 20m",{"$f":"VLOOKUP(F1685,Soutez!A:B,2,FALSE)","v":"DE"},{"$f":"VLOOKUP(F1685,Soutez!A:C,3,FALSE)","v":2024},10,3801,0.76,7938,6033,null,null,"Arcus T","HLB","Není v databázi"]
["Dengel & Dengel",null,null,null,null,"Lilienthal Glide 2024 - Duo 20m",{"$f":"VLOOKUP(F1686,Soutez!A:B,2,FALSE)","v":"DE"},{"$f":"VLOOKUP(F1686,Soutez!A:C,3,FALSE)","v":2024},11,3734,0.76,7722,5869,null,null,"Arcus M","ISP","Není v databázi"]
["Frank Fröhlich",null,null,null,null,"Lilienthal Glide 2024 - Duo 20m",{"$f":"VLOOKUP(F1687,Soutez!A:B,2,FALSE)","v":"DE"},{"$f":"VLOOKUP(F1687,Soutez!A:C,3,FALSE)","v":2024},12,3679,0.76,7525,5719,null,null,"ASG 32Mi","SKY","Není v databázi"]
["Dellinger & Dellinger",null,null,null,null,"Lilienthal Glide 2024 - Duo 20m",{"$f":"VLOOKUP(F1688,Soutez!A:B,2,FALSE)","v":"DE"},{"$f":"VLOOKUP(F1688,Soutez!A:C,3,FALSE)","v":2024},13,3636,0.76,7347,5584,null,null,"Arcus M","NM","Není v databázi"]
["Meinecke & Nitt",null,null,null,null,"Lilienthal Glide 2024 - Duo 20m",{"$f":"VLOOKUP(F1689,Soutez!A:B,2,FALSE)","v":"DE"},{"$f":"VLOOKUP(F1689,Soutez!A:C,3,FALSE)","v":2024},14,3630,{"$f":"VLOOKUP(F1689,Soutez,12,0)","v":0.76},7226,5492,null,null,"Duo Discus","XL","Není v databázi"]
["Hafner & Pawel",null,null,null,null,"Lilienthal Glide 2024 - Duo 20m",{"$f":"VLOOKUP(F1690,Soutez!A:B,2,FALSE)","v":"DE"},{"$f":"VLOOKUP(F1690,Soutez!A:C,3,FALSE)","v":2024},15,3598,0.76,7065,5369,null,null,"Duo Discus","DU","Není v databázi"]
["Leismann & Ditzel",null,null,null,null,"Lilienthal Glide 2024 - Duo 20m",{"$f":"VLOOKUP(F1691,Soutez!A:B,2,FALSE)","v":"DE"},{"$f":"VLOOKUP(F1691,Soutez!A:C,3,FALSE)","v":2024},16,3553,0.76,6884,{"$f":"ROUND(K1691*L1691,0)","v":5232},null,null,"Arcus T","E7","Není v databázi"]
["Bornfleth & Bornfleth",null,null,null,null,"Lilienthal Glide 2024 - Duo 20m",{"$f":"VLOOKUP(F1692,Soutez!A:B,2,FALSE)","v":"DE"},{"$f":"VLOOKUP(F1692,Soutez!A:C,3,FALSE)","v":2024},17,3442,0.76,6599,5015,null,null,"Twin Shark","TX","Není v databázi"]
["Wroblewski & Walter",null,null,null,null,"Lilienthal Glide 2024 - Duo 20m",{"$f":"VLOOKUP(F1693,Soutez!A:B,2,FALSE)","v":"DE"},{"$f":"VLOOKUP(F1693,Soutez!A:C,3,FALSE)","v":2024},18,3406,0.76,6432,4888,null,null,"ASG 32 Mi","TB","Není v databázi"]
["Buhlmann & Stewing",null,null,null,null,"Lilienthal Glide 2024 - Duo 20m",{"$f":"VLOOKUP(F1694,Soutez!A:B,2,FALSE)","v":"DE"},{"$f":"VLOOKUP(F1694,Soutez!A:C,3,FALSE)","v":2024},19,3292,0.76,6143,4669,null,null,"Arcus M","BC","Není v databázi"]
["Horn & Holighaus",null,null,null,null,"Lilienthal Glide 2024 - Duo 20m",{"$f":"VLOOKUP(F1695,Soutez!A:B,2,FALSE)","v":"DE"},{"$f":"VLOOKUP(F1695,Soutez!A:C,3,FALSE)","v":2024},20,3272,0.76,6000,4560,null,null,"Arcus M","EG","Není v databázi"]
["Altmann & Freiheit",null,null,null,null,"Lilienthal Glide 2024 - Duo 20m",{"$f":"VLOOKUP(F1696,Soutez!A:B,2,FALSE)","v":"DE"},{"$f":"VLOOKUP(F1696,Soutez!A:C,3,FALSE)","v":2024},21,3128,0.76,5664,4305,null,null,"Arcus M","BG","Není v databázi"]
["Schreyer & Samson",null,null,null,null,"Lilienthal Glide 2024 - Duo 20m",{"$f":"VLOOKUP(F1697,Soutez!A:B,2,FALSE)","v":"DE"},{"$f":"VLOOKUP(F1697,Soutez!A:C,3,FALSE)","v":2024},22,3121,0.76,5542,4212,null,null,"ASG 32 Mi",32,"Není v databázi"]
["Meyer & Labusga",null,null,null,null,"Lilienthal Glide 2024 - Duo 20m",{"$f":"VLOOKUP(F1698,Soutez!A:B,2,FALSE)","v":"DE"},{"$f":"VLOOKUP(F1698,Soutez!A:C,3,FALSE)","v":2024},23,2990,0.76,5226,3972,null,null,"Duo Discus XLT","FM","Není v databázi"]
["Dennis Dost",null,null,null,null,"Lilienthal Glide 2024 - Duo 20m",{"$f":"VLOOKUP(F1699,Soutez!A:B,2,FALSE)","v":"DE"},{"$f":"VLOOKUP(F1699,Soutez!A:C,3,FALSE)","v":2024},24,2883,0.76,4948,3760,null,null,"Duo Discus XL","BW4","Není v databázi"]
["Habertag & Gottscheck",null,null,null,null,"Lilienthal Glide 2024 - Duo 20m",{"$f":"VLOOKUP(F1700,Soutez!A:B,2,FALSE)","v":"DE"},{"$f":"VLOOKUP(F1700,Soutez!A:C,3,FALSE)","v":2024},25,2796,0.76,4701,3573,null,null,"Duo Discus XLT","BR","Není v databázi"]
["Köster & Depil",null,null,null,null,"Lilienthal Glide 2024 - Duo 20m",{"$f":"VLOOKUP(F1701,Soutez!A:B,2,FALSE)","v":"DE"},{"$f":"VLOOKUP(F1701,Soutez!A:C,3,FALSE)","v":2024},26,2756,0.76,4528,{"$f":"ROUND(K1701*L1701,0)","v":3441},null,null,"Twin Shark","DTS","Není v databázi"]
["Schneider & Reinshagen",null,null,null,null,"Lilienthal Glide 2024 - Duo 20m",{"$f":"VLOOKUP(F1702,Soutez!A:B,2,FALSE)","v":"DE"},{"$f":"VLOOKUP(F1702,Soutez!A:C,3,FALSE)","v":2024},27,2353,0.76,3787,2878,null,null,"ASG 32 Mi","OM","Není v databázi"]
["Kai Lindenberg",null,null,null,null,"Lilienthal Glide 2024 - Duo 20m",{"$f":"VLOOKUP(F1703,Soutez!A:B,2,FALSE)","v":"DE"},{"$f":"VLOOKUP(F1703,Soutez!A:C,3,FALSE)","v":2024},28,1540,0.76,2406,1829,null,null,"Arcus M","PM","Není v databázi"]
["Bouderlique & de Pechy",null,null,"Planeurs d'Ille-et-Vilaine",null,"Hahnweide 2024 - Duo 20m",{"$f":"VLOOKUP(F1704,Soutez!A:B,2,FALSE)","v":"DE"},{"$f":"VLOOKUP(F1704,Soutez!A:C,3,FALSE)","v":2024},1,3628,0.93,{"$f":"ROUND(J1704/MAX($J$1704:$J$1723)*10000*0.7+(MAX($I$1704:$I$1723)-I1704)/(MAX($I$1704:$I$1723)-1)*10000*0.3,0)","v":10000},9300,null,null,"Arcus M","LB","Není v databázi"]
["Sommer & Gall",null,null,null,null,"Hahnweide 2024 - Duo 20m",{"$f":"VLOOKUP(F1705,Soutez!A:B,2,FALSE)","v":"DE"},{"$f":"VLOOKUP(F1705,Soutez!A:C,3,FALSE)","v":2024},2,3589,0.93,{"$f":"ROUND(J1705/MAX($J$1704:$J$1723)*10000*0.7+(MAX($I$1704:$I$1723)-I1705)/(MAX($I$1704:$I$1723)-1)*10000*0.3,0)","v":9767},9083,null,null,"Arcus M","7L","Není v databázi"]
["Hillebrand & Kopsieker",null,null,null,null,"Hahnweide 2024 - Duo 20m",{"$f":"VLOOKUP(F1706,Soutez!A:B,2,FALSE)","v":"DE"},{"$f":"VLOOKUP(F1706,Soutez!A:C,3,FALSE)","v":2024},3,3457,0.93,9354,8699,null,null,"Arcus M","XP","Není v databázi"]
["Schramme & Schramme",null,null,null,null,"Hahnweide 2024 - Duo 20m",{"$f":"VLOOKUP(F1707,Soutez!A:B,2,FALSE)","v":"DE"},{"$f":"VLOOKUP(F1707,Soutez!A:C,3,FALSE)","v":2024},4,3447,0.93,9177,8535,null,null,"Arcus M","Y4","Není v databázi"]
["Huhmann & Kharadi",null,null,null,null,"Hahnweide 2024 - Duo 20m",{"$f":"VLOOKUP(F1708,Soutez!A:B,2,FALSE)","v":"DE"},{"$f":"VLOOKUP(F1708,Soutez!A:C,3,FALSE)","v":2024},5,3441,0.93,9008,8377,null,null,"Arcus T","BE","Není v databázi"]
["Tomas Rendla",{"$f":"VLOOKUP(A1709,Pilot,2,0)","v":1973},{"$f":"VLOOKUP(A1709,Pilot,5,0)","v":"M"},{"$f":"VLOOKUP(A1709,Pilot,3,0)","v":"Zbraslavice"},{"$f":"VLOOKUP(A1709,Pilot,4,0)","v":"CZ/C1"},"Hahnweide 2024 - Duo 20m",{"$f":"VLOOKUP(F1709,Soutez!A:B,2,FALSE)","v":"DE"},{"$f":"VLOOKUP(F1709,Soutez!A:C,3,FALSE)","v":2024},6,3382,0.93,8736,8124,null,null,"Arcus M","EY",""]
["Dierschke & Ferreira",null,null,null,null,"Hahnweide 2024 - Duo 20m",{"$f":"VLOOKUP(F1710,Soutez!A:B,2,FALSE)","v":"DE"},{"$f":"VLOOKUP(F1710,Soutez!A:C,3,FALSE)","v":2024},7,3344,0.93,8505,7910,null,null,"Arcus T","BN","Není v databázi"]
["Delfosse & De Broqueville",null,null,null,null,"Hahnweide 2024 - Duo 20m",{"$f":"VLOOKUP(F1711,Soutez!A:B,2,FALSE)","v":"DE"},{"$f":"VLOOKUP(F1711,Soutez!A:C,3,FALSE)","v":2024},8,3281,0.93,8225,7649,null,null,"Arcus T","2AS","Není v databázi"]
["Jones & Coppin",null,null,null,null,"Hahnweide 2024 - Duo 20m",{"$f":"VLOOKUP(F1712,Soutez!A:B,2,FALSE)","v":"DE"},{"$f":"VLOOKUP(F1712,Soutez!A:C,3,FALSE)","v":2024},9,3186,0.93,7884,7332,null,null,"Arcus M","I10","Není v databázi"]
["Lutz & Janowitsch",null,null,"FRA-Wiener Neustadt",null,"Hahnweide 2024 - Duo 20m",{"$f":"VLOOKUP(F1713,Soutez!A:B,2,FALSE)","v":"DE"},{"$f":"VLOOKUP(F1713,Soutez!A:C,3,FALSE)","v":2024},10,3110,0.93,7579,7048,null,null,"Arcus M",13,"Není v databázi"]
["Christiaan Bielen",null,null,"KaCk",null,"Hahnweide 2024 - Duo 20m",{"$f":"VLOOKUP(F1714,Soutez!A:B,2,FALSE)","v":"DE"},{"$f":"VLOOKUP(F1714,Soutez!A:C,3,FALSE)","v":2024},11,3048,0.93,7302,6791,null,null,"Arcus T","CR","Není v databázi"]
["Laurenz Theisinger",null,null,"DJK Landau",null,"Hahnweide 2024 - Duo 20m",{"$f":"VLOOKUP(F1715,Soutez!A:B,2,FALSE)","v":"DE"},{"$f":"VLOOKUP(F1715,Soutez!A:C,3,FALSE)","v":2024},12,3036,0.93,7121,6623,null,null,"ASG 32","EG","Není v databázi"]
["Martin Theisinger",null,null,"DJK Segelfluggemeinschaft Landau e.V.",null,"Hahnweide 2024 - Duo 20m",{"$f":"VLOOKUP(F1716,Soutez!A:B,2,FALSE)","v":"DE"},{"$f":"VLOOKUP(F1716,Soutez!A:C,3,FALSE)","v":2024},13,2858,0.93,{"$f":"ROUND(J1716/MAX($J$1704:$J$1723)*10000*0.7+(MAX($I$1704:$I$1723)-I1716)/(MAX($I$1704:$I$1723)-1)*10000*0.3,0)","v":6620},6157,null,null,"Arcus M","WT","Není v databázi"]
["Steffen Clement",null,null,"Fliegergruppe Neckartal Köngen",null,"Hahnweide 2024 - Duo 20m",{"$f":"VLOOKUP(F1717,Soutez!A:B,2,FALSE)","v":"DE"},{"$f":"VLOOKUP(F1717,Soutez!A:C,3,FALSE)","v":2024},14,2808,0.93,6365,5919,null,null,"Arcus T",69,{"$f":"IF(ISERROR(VLOOKUP(A1717,Pilot,6,0)),\"Není v databázi\",VLOOKUP(A1717,Pilot,6,0))","v":"Není v databázi"}]
["Tim Schneider",null,null,"Sfc Hirzenhain e.V",null,"Hahnweide 2024 - Duo 20m",{"$f":"VLOOKUP(F1718,Soutez!A:B,2,FALSE)","v":"DE"},{"$f":"VLOOKUP(F1718,Soutez!A:C,3,FALSE)","v":2024},15,2709,0.93,6016,5595,null,null,"Arcus T","DD","Není v databázi"]
["Elias Weber",null,null,"Aero Club Stuttgart e.V.",null,"Hahnweide 2024 - Duo 20m",{"$f":"VLOOKUP(F1719,Soutez!A:B,2,FALSE)","v":"DE"},{"$f":"VLOOKUP(F1719,Soutez!A:C,3,FALSE)","v":2024},16,2476,0.93,5409,5030,null,null,"Arcus M","AC2","Není v databázi"]
["Krauss & Schweizer",null,null,null,null,"Hahnweide 2024 - Duo 20m",{"$f":"VLOOKUP(F1720,Soutez!A:B,2,FALSE)","v":"DE"},{"$f":"VLOOKUP(F1720,Soutez!A:C,3,FALSE)","v":2024},17,2331,0.93,4971,4623,null,null,"Arcus M","SS","Není v databázi"]
["Puttmann & Hauser",null,null,"SCS",null,"Hahnweide 2024 - Duo 20m",{"$f":"VLOOKUP(F1721,Soutez!A:B,2,FALSE)","v":"DE"},{"$f":"VLOOKUP(F1721,Soutez!A:C,3,FALSE)","v":2024},18,2275,0.93,4705,4376,null,null,"Duo Discus","S4","Není v databázi"]
["Bernhard & Nicolas",null,null,"Fayence",null,"Hahnweide 2024 - Duo 20m",{"$f":"VLOOKUP(F1722,Soutez!A:B,2,FALSE)","v":"DE"},{"$f":"VLOOKUP(F1722,Soutez!A:C,3,FALSE)","v":2024},19,2262,0.93,4522,4205,null,null,"HPH 304 M","NB","Není v databázi"]
["Jan-lucas Aberle",null,null,"Aero Club Stuttgart e.V.",null,"Hahnweide 2024 - Duo 20m",{"$f":"VLOOKUP(F1723,Soutez!A:B,2,FALSE)","v":"DE"},{"$f":"VLOOKUP(F1723,Soutez!A:C,3,FALSE)","v":2024},20,2211,0.93,4266,3967,null,null,"Arcus M","AA","Není v databázi"]
["Stefan Langer",null,null,"Germany",null,"WGC 2024 - 18m",{"$f":"VLOOKUP(F1724,Soutez!A:B,2,FALSE)","v":"US"},{"$f":"VLOOKUP(F1724,Soutez!A:C,3,FALSE)","v":2024},1,9843,{"$f":"VLOOKUP(F1724,Soutez,12,0)","v":1.135},{"$f":"ROUND(J1724/MAX($J$1724:$J$1755)*10000*0.7+(MAX($I$1724:$I$1755)-I1724)/(MAX($I$1724:$I$1755)-1)*10000*0.3,0)","v":10000},{"$f":"ROUND(K1724*L1724,0)","v":11350},null,null,"AS 33 Me","SF","Není v databázi"]
["Simon Schröder",null,null,"Germany",null,"WGC 2024 - 18m",{"$f":"VLOOKUP(F1725,Soutez!A:B,2,FALSE)","v":"US"},{"$f":"VLOOKUP(F1725,Soutez!A:C,3,FALSE)","v":2024},2,9636,{"$f":"VLOOKUP(F1725,Soutez,12,0)","v":1.135},9756,{"$f":"ROUND(K1725*L1725,0)","v":11073},null,null,"Ventus 3e","ELF","Není v databázi"]
["Christophe Abadie",null,null,"France",null,"WGC 2024 - 18m",{"$f":"VLOOKUP(F1726,Soutez!A:B,2,FALSE)","v":"US"},{"$f":"VLOOKUP(F1726,Soutez!A:C,3,FALSE)","v":2024},3,9592,1.135,9628,10928,null,null,"JS3 TJ 18m","2L","Není v databázi"]
["Jeroen Verkuijl",null,null,"Netherlands",null,"WGC 2024 - 18m",{"$f":"VLOOKUP(F1727,Soutez!A:B,2,FALSE)","v":"US"},{"$f":"VLOOKUP(F1727,Soutez!A:C,3,FALSE)","v":2024},4,9431,1.135,9417,10688,null,null,"JS3-TJ","QT","Není v databázi"]
["Matthew Scutter",null,null,"Australia",null,"WGC 2024 - 18m",{"$f":"VLOOKUP(F1728,Soutez!A:B,2,FALSE)","v":"US"},{"$f":"VLOOKUP(F1728,Soutez!A:C,3,FALSE)","v":2024},5,9408,1.135,9304,{"$f":"ROUND(K1728*L1728,0)","v":10560},null,null,"JS3","5M","Není v databázi"]
["Sjaak Selen",null,null,"Netherlands",null,"WGC 2024 - 18m",{"$f":"VLOOKUP(F1729,Soutez!A:B,2,FALSE)","v":"US"},{"$f":"VLOOKUP(F1729,Soutez!A:C,3,FALSE)","v":2024},6,9234,1.135,9083,10309,null,null,"JS3 TJ 18m","2S","Není v databázi"]
["JD Barrois",null,null,"France",null,"WGC 2024 - 18m",{"$f":"VLOOKUP(F1730,Soutez!A:B,2,FALSE)","v":"US"},{"$f":"VLOOKUP(F1730,Soutez!A:C,3,FALSE)","v":2024},7,9150,1.135,8927,10132,null,null,"JS3 18m","LB","Není v databázi"]
["Anne Ducarouge",null,null,"France",null,"WGC 2024 - 18m",{"$f":"VLOOKUP(F1731,Soutez!A:B,2,FALSE)","v":"US"},{"$f":"VLOOKUP(F1731,Soutez!A:C,3,FALSE)","v":2024},8,9136,1.135,8820,10011,null,null,"JS3 18m","KW","Není v databázi"]
["Arne J Boye-Møller",null,null,"Denmark",null,"WGC 2024 - 18m",{"$f":"VLOOKUP(F1732,Soutez!A:B,2,FALSE)","v":"US"},{"$f":"VLOOKUP(F1732,Soutez!A:C,3,FALSE)","v":2024},9,9061,1.135,8670,9840,null,null,"JS3 TJ 18m","AB","Není v databázi"]
["Sean Fidler",null,null,"USA",null,"WGC 2024 - 18m",{"$f":"VLOOKUP(F1733,Soutez!A:B,2,FALSE)","v":"US"},{"$f":"VLOOKUP(F1733,Soutez!A:C,3,FALSE)","v":2024},10,8992,1.135,8524,9675,null,null,"AS 33 Es","ZO","Není v databázi"]
["Ian MacArthur",null,null,"Great Britain",null,"WGC 2024 - 18m",{"$f":"VLOOKUP(F1734,Soutez!A:B,2,FALSE)","v":"US"},{"$f":"VLOOKUP(F1734,Soutez!A:C,3,FALSE)","v":2024},11,8981,{"$f":"VLOOKUP(F1734,Soutez,12,0)","v":1.135},8419,9556,null,null,"JS3","DZ","Není v databázi"]
["Linas Miezlaiskis",null,null,"Lithuania",null,"WGC 2024 - 18m",{"$f":"VLOOKUP(F1735,Soutez!A:B,2,FALSE)","v":"US"},{"$f":"VLOOKUP(F1735,Soutez!A:C,3,FALSE)","v":2024},12,8945,1.135,8297,9417,null,null,"AS 33 18m","V","Není v databázi"]
["Werner Amann",null,null,"Austria",null,"WGC 2024 - 18m",{"$f":"VLOOKUP(F1736,Soutez!A:B,2,FALSE)","v":"US"},{"$f":"VLOOKUP(F1736,Soutez!A:C,3,FALSE)","v":2024},13,8885,1.135,8157,9258,null,null,"AS 33 Es","WG","Není v databázi"]
["Radek Krejcirik",{"$f":"VLOOKUP(A1737,Pilot,2,0)","v":1991},{"$f":"VLOOKUP(A1737,Pilot,5,0)","v":"M"},{"$f":"VLOOKUP(A1737,Pilot,3,0)","v":"Hranice"},{"$f":"VLOOKUP(A1737,Pilot,4,0)","v":"CZ/M"},"WGC 2024 - 18m",{"$f":"VLOOKUP(F1737,Soutez!A:B,2,FALSE)","v":"US"},{"$f":"VLOOKUP(F1737,Soutez!A:C,3,FALSE)","v":2024},14,8880,1.135,8057,9145,null,null,"JS3 TJ 18m","QX",""]
["Uys Jonker",null,null,"South Africa",null,"WGC 2024 - 18m",{"$f":"VLOOKUP(F1738,Soutez!A:B,2,FALSE)","v":"US"},{"$f":"VLOOKUP(F1738,Soutez!A:C,3,FALSE)","v":2024},15,8688,1.135,7824,8880,null,null,"JS3 TJ 18m","AJ","Není v databázi"]
["Lumpy Paterson",null,null,"Australia",null,"WGC 2024 - 18m",{"$f":"VLOOKUP(F1739,Soutez!A:B,2,FALSE)","v":"US"},{"$f":"VLOOKUP(F1739,Soutez!A:C,3,FALSE)","v":2024},16,8678,1.135,7720,8762,null,null,"JS-3-18m","LP","Není v databázi"]
["Yves Gerster",null,null,"Switzerland",null,"WGC 2024 - 18m",{"$f":"VLOOKUP(F1740,Soutez!A:B,2,FALSE)","v":"US"},{"$f":"VLOOKUP(F1740,Soutez!A:C,3,FALSE)","v":2024},16,8678,1.135,7720,8762,null,null,"JS3 TJ 18m","JR","Není v databázi"]
["Manu Litt",null,null,"Belgium",null,"WGC 2024 - 18m",{"$f":"VLOOKUP(F1741,Soutez!A:B,2,FALSE)","v":"US"},{"$f":"VLOOKUP(F1741,Soutez!A:C,3,FALSE)","v":2024},18,8577,1.135,7455,8461,null,null,"JS3 18m","MM","Není v databázi"]
["Peter Harvey",null,null,"Great Britain",null,"WGC 2024 - 18m",{"$f":"VLOOKUP(F1742,Soutez!A:B,2,FALSE)","v":"US"},{"$f":"VLOOKUP(F1742,Soutez!A:C,3,FALSE)","v":2024},19,8558,1.135,7344,8335,null,null,"Ventus 3T","N1","Není v databázi"]
["Jerzy Szemplinski",null,null,"Canada",null,"WGC 2024 - 18m",{"$f":"VLOOKUP(F1743,Soutez!A:B,2,FALSE)","v":"US"},{"$f":"VLOOKUP(F1743,Soutez!A:C,3,FALSE)","v":2024},20,8552,1.135,7243,8221,null,null,"AS 33 Es","XG","Není v databázi"]
["Zoltan Hamar",null,null,"Hungary",null,"WGC 2024 - 18m",{"$f":"VLOOKUP(F1744,Soutez!A:B,2,FALSE)","v":"US"},{"$f":"VLOOKUP(F1744,Soutez!A:C,3,FALSE)","v":2024},21,8342,1.135,6997,7942,null,null,"JS-3-15m","BK","Není v databázi"]
["Stefano Ghiorzo",null,null,"Italy",null,"WGC 2024 - 18m",{"$f":"VLOOKUP(F1745,Soutez!A:B,2,FALSE)","v":"US"},{"$f":"VLOOKUP(F1745,Soutez!A:C,3,FALSE)","v":2024},22,8262,1.135,6843,7767,null,null,"Ventus 3M 18m","NJ","Není v databázi"]
["Thomas Gostner",null,null,"Italy",null,"WGC 2024 - 18m",{"$f":"VLOOKUP(F1746,Soutez!A:B,2,FALSE)","v":"US"},{"$f":"VLOOKUP(F1746,Soutez!A:C,3,FALSE)","v":2024},23,8180,1.135,6688,7591,null,null,"Ventus 3T","GT","Není v databázi"]
["Martin Hrivna",{"$f":"VLOOKUP(A1747,Pilot,2,0)","v":1978},{"$f":"VLOOKUP(A1747,Pilot,5,0)","v":"M"},{"$f":"VLOOKUP(A1747,Pilot,3,0)","v":"Zbraslavice"},{"$f":"VLOOKUP(A1747,Pilot,4,0)","v":"CZ/C1"},"WGC 2024 - 18m",{"$f":"VLOOKUP(F1747,Soutez!A:B,2,FALSE)","v":"US"},{"$f":"VLOOKUP(F1747,Soutez!A:C,3,FALSE)","v":2024},24,8166,1.135,6582,7471,"x",null,"JS3 TJ 18m","ZE",""]
["Dawid Pretorius",null,null,"South Africa",null,"WGC 2024 - 18m",{"$f":"VLOOKUP(F1748,Soutez!A:B,2,FALSE)","v":"US"},{"$f":"VLOOKUP(F1748,Soutez!A:C,3,FALSE)","v":2024},25,7589,1.135,6074,6894,null,null,"JS3 TJ 18m","IMS","Není v databázi"]
["Sergei Morozov",null,null,"Canada",null,"WGC 2024 - 18m",{"$f":"VLOOKUP(F1749,Soutez!A:B,2,FALSE)","v":"US"},{"$f":"VLOOKUP(F1749,Soutez!A:C,3,FALSE)","v":2024},26,7513,1.135,5924,6724,null,null,"ASG29","MS","Není v databázi"]
["Sean Murphy",null,null,"USA",null,"WGC 2024 - 18m",{"$f":"VLOOKUP(F1750,Soutez!A:B,2,FALSE)","v":"US"},{"$f":"VLOOKUP(F1750,Soutez!A:C,3,FALSE)","v":2024},27,6736,1.135,5274,5986,null,null,"JS3 TJ 18m","XC","Není v databázi"]
["Lukasz Wojcik",null,null,"Poland",null,"WGC 2024 - 18m",{"$f":"VLOOKUP(F1751,Soutez!A:B,2,FALSE)","v":"US"},{"$f":"VLOOKUP(F1751,Soutez!A:C,3,FALSE)","v":2024},28,6729,1.135,5173,5871,null,null,"JS3 18m","FS","Není v databázi"]
["Alena Netusilova",{"$f":"VLOOKUP(A1752,Pilot,2,0)","v":1970},{"$f":"VLOOKUP(A1752,Pilot,5,0)","v":"F"},{"$f":"VLOOKUP(A1752,Pilot,3,0)","v":"Zbraslavice"},{"$f":"VLOOKUP(A1752,Pilot,4,0)","v":"CZ/C1"},"WGC 2024 - 18m",{"$f":"VLOOKUP(F1752,Soutez!A:B,2,FALSE)","v":"US"},{"$f":"VLOOKUP(F1752,Soutez!A:C,3,FALSE)","v":2024},29,6256,1.135,4739,5379,null,null,"JS3 RES 18m","A7",""]
["Jan Hasslid",null,null,"Sweden",null,"WGC 2024 - 18m",{"$f":"VLOOKUP(F1753,Soutez!A:B,2,FALSE)","v":"US"},{"$f":"VLOOKUP(F1753,Soutez!A:C,3,FALSE)","v":2024},30,6252,1.135,4640,5266,null,null,"JS3 RES 18m","MII","Není v databázi"]
["Werner Ruegger",null,null,"Switzerland",null,"WGC 2024 - 18m",{"$f":"VLOOKUP(F1754,Soutez!A:B,2,FALSE)","v":"US"},{"$f":"VLOOKUP(F1754,Soutez!A:C,3,FALSE)","v":2024},31,6250,1.135,4542,5155,null,null,"JS1 TJ 18m","A8","Není v databázi"]
["Renato Stefanuto",null,null,"Brazil",null,"WGC 2024 - 18m",{"$f":"VLOOKUP(F1755,Soutez!A:B,2,FALSE)","v":"US"},{"$f":"VLOOKUP(F1755,Soutez!A:C,3,FALSE)","v":2024},32,6147,1.135,4372,4962,null,null,"JS3-RES","ST","Není v databázi"]
["Arnold & Striedieck",null,null,"USA",null,"WGC 2024 - Duo 20m",{"$f":"VLOOKUP(F1756,Soutez!A:B,2,FALSE)","v":"US"},{"$f":"VLOOKUP(F1756,Soutez!A:C,3,FALSE)","v":2024},1,9616,{"$f":"VLOOKUP(F1756,Soutez,12,0)","v":1.085},{"$f":"ROUND(J1756/MAX($J$1756:$J$1771)*10000*0.7+(MAX($I$1756:$I$1771)-I1756)/(MAX($I$1756:$I$1771)-1)*10000*0.3,0)","v":10000},{"$f":"ROUND(K1756*L1756,0)","v":10850},null,null,"Arcus M","L","Není v databázi"]
["Rubaj & Matkowski",null,null,"Poland",null,"WGC 2024 - Duo 20m",{"$f":"VLOOKUP(F1757,Soutez!A:B,2,FALSE)","v":"US"},{"$f":"VLOOKUP(F1757,Soutez!A:C,3,FALSE)","v":2024},2,9552,1.085,9753,{"$f":"ROUND(K1757*L1757,0)","v":10582},null,null,"ASG 32 Mi","MD","Není v databázi"]
["Lutz & Janowitsch",null,null,"Austria",null,"WGC 2024 - Duo 20m",{"$f":"VLOOKUP(F1758,Soutez!A:B,2,FALSE)","v":"US"},{"$f":"VLOOKUP(F1758,Soutez!A:C,3,FALSE)","v":2024},3,9499,1.085,9515,10324,null,null,"Arcus M","BF","Není v databázi"]
["Woolley & Gateley",null,null,"Australia",null,"WGC 2024 - Duo 20m",{"$f":"VLOOKUP(F1759,Soutez!A:B,2,FALSE)","v":"US"},{"$f":"VLOOKUP(F1759,Soutez!A:C,3,FALSE)","v":2024},4,9484,1.085,9304,{"$f":"ROUND(K1759*L1759,0)","v":10095},null,null,"Arcus M","AXO","Není v databázi"]
["Bouderlique & de Pechy",null,null,"France",null,"WGC 2024 - Duo 20m",{"$f":"VLOOKUP(F1760,Soutez!A:B,2,FALSE)","v":"US"},{"$f":"VLOOKUP(F1760,Soutez!A:C,3,FALSE)","v":2024},5,9417,1.085,9055,9825,null,null,"Arcus T","MG","Není v databázi"]
["Borgmann & Van Houweninge",null,null,"Netherlands",null,"WGC 2024 - Duo 20m",{"$f":"VLOOKUP(F1761,Soutez!A:B,2,FALSE)","v":"US"},{"$f":"VLOOKUP(F1761,Soutez!A:C,3,FALSE)","v":2024},6,9212,1.085,8706,9446,null,null,"Arcus M",3,"Není v databázi"]
["Jones & Coppin",null,null,"Great Britain",null,"WGC 2024 - Duo 20m",{"$f":"VLOOKUP(F1762,Soutez!A:B,2,FALSE)","v":"US"},{"$f":"VLOOKUP(F1762,Soutez!A:C,3,FALSE)","v":2024},7,9021,1.085,8367,9078,null,null,"Arcus M","AXC","Není v databázi"]
["Theisinger & Frey",null,null,"Germany",null,"WGC 2024 - Duo 20m",{"$f":"VLOOKUP(F1763,Soutez!A:B,2,FALSE)","v":"US"},{"$f":"VLOOKUP(F1763,Soutez!A:C,3,FALSE)","v":2024},8,8589,1.085,7852,8519,null,null,"Arcus M","WT","Není v databázi"]
["Delfosse & de Broqueville",null,null,"Belgium",null,"WGC 2024 - Duo 20m",{"$f":"VLOOKUP(F1764,Soutez!A:B,2,FALSE)","v":"US"},{"$f":"VLOOKUP(F1764,Soutez!A:C,3,FALSE)","v":2024},9,8571,1.085,7639,8288,null,null,"Arcus T","2AS","Není v databázi"]
["Pulkkinen & Teronen",null,null,"Finland",null,"WGC 2024 - Duo 20m",{"$f":"VLOOKUP(F1765,Soutez!A:B,2,FALSE)","v":"US"},{"$f":"VLOOKUP(F1765,Soutez!A:C,3,FALSE)","v":2024},10,8499,1.085,7387,8015,null,null,"Arcus M","MH","Není v databázi"]
["Negro & Bano",null,null,"Hungary",null,"WGC 2024 - Duo 20m",{"$f":"VLOOKUP(F1766,Soutez!A:B,2,FALSE)","v":"US"},{"$f":"VLOOKUP(F1766,Soutez!A:C,3,FALSE)","v":2024},11,8487,1.085,7178,7788,null,null,"Twin Shark`","TS","Není v databázi"]
["Brunazzo & Acquaderni",null,null,"Italy",null,"WGC 2024 - Duo 20m",{"$f":"VLOOKUP(F1767,Soutez!A:B,2,FALSE)","v":"US"},{"$f":"VLOOKUP(F1767,Soutez!A:C,3,FALSE)","v":2024},12,7810,1.085,6485,7036,null,null,"Arcus M","PP","Není v databázi"]
["Ivan Novak",{"$f":"VLOOKUP(A1768,Pilot,2,0)","v":1962},{"$f":"VLOOKUP(A1768,Pilot,5,0)","v":"M"},{"$f":"VLOOKUP(A1768,Pilot,3,0)","v":"Mladá Boleslav"},{"$f":"VLOOKUP(A1768,Pilot,4,0)","v":"CZ/C1"},"WGC 2024 - Duo 20m",{"$f":"VLOOKUP(F1768,Soutez!A:B,2,FALSE)","v":"US"},{"$f":"VLOOKUP(F1768,Soutez!A:C,3,FALSE)","v":2024},13,7754,1.085,6245,6776,null,null,"Twin Shark","TSK",""]
["Denner & Coetzee",null,null,"South Africa",null,"WGC 2024 - Duo 20m",{"$f":"VLOOKUP(F1769,Soutez!A:B,2,FALSE)","v":"US"},{"$f":"VLOOKUP(F1769,Soutez!A:C,3,FALSE)","v":2024},14,7745,1.085,6038,6551,null,null,"Arcus M","EL","Není v databázi"]
["Jørgensen & Nielsen",null,null,"Denmark",null,"WGC 2024 - Duo 20m",{"$f":"VLOOKUP(F1770,Soutez!A:B,2,FALSE)","v":"US"},{"$f":"VLOOKUP(F1770,Soutez!A:C,3,FALSE)","v":2024},15,7601,1.085,5733,6220,null,null,"Arcus T","JT","Není v databázi"]
["Essex & Rossi",null,null,"New Zealand",null,"WGC 2024 - Duo 20m",{"$f":"VLOOKUP(F1771,Soutez!A:B,2,FALSE)","v":"US"},{"$f":"VLOOKUP(F1771,Soutez!A:C,3,FALSE)","v":2024},16,6297,1.085,4584,4974,null,null,"ASG 32Mi","UC","Není v databázi"]
["Felipe Levin",null,null,"Germany",null,"WGC 2024 - Open",{"$f":"VLOOKUP(F1772,Soutez!A:B,2,FALSE)","v":"US"},{"$f":"VLOOKUP(F1772,Soutez!A:C,3,FALSE)","v":2024},1,10887,1.0900000000000001,{"$f":"ROUND(J1772/MAX($J$1772:$J$1788)*10000*0.7+(MAX($I$1772:$I$1788)-I1772)/(MAX($I$1772:$I$1788)-1)*10000*0.3,0)","v":10000},{"$f":"ROUND(K1772*L1772,0)","v":10900},null,null,"EB 29R","FL","Není v databázi"]
["Michael Sommer",null,null,"Germany",null,"WGC 2024 - Open",{"$f":"VLOOKUP(F1773,Soutez!A:B,2,FALSE)","v":"US"},{"$f":"VLOOKUP(F1773,Soutez!A:C,3,FALSE)","v":2024},2,10782,1.0900000000000001,9745,{"$f":"ROUND(K1773*L1773,0)","v":10622},null,null,"EB29R","EB","Není v databázi"]
["Laurent Aboulin",null,null,"France",null,"WGC 2024 - Open",{"$f":"VLOOKUP(F1774,Soutez!A:B,2,FALSE)","v":"US"},{"$f":"VLOOKUP(F1774,Soutez!A:C,3,FALSE)","v":2024},3,10485,1.0900000000000001,9367,10210,null,null,"JS1C 21m","FD","Není v databázi"]
["Sylvain Gerbaud",null,null,"France",null,"WGC 2024 - Open",{"$f":"VLOOKUP(F1775,Soutez!A:B,2,FALSE)","v":"US"},{"$f":"VLOOKUP(F1775,Soutez!A:C,3,FALSE)","v":2024},4,10402,1.0900000000000001,9126,9947,null,null,"EB 29R",72,"Není v databázi"]
["François Jeremiasse",null,null,"Netherlands",null,"WGC 2024 - Open",{"$f":"VLOOKUP(F1776,Soutez!A:B,2,FALSE)","v":"US"},{"$f":"VLOOKUP(F1776,Soutez!A:C,3,FALSE)","v":2024},5,10331,1.0900000000000001,8893,9693,null,null,"EB29R","XR","Není v databázi"]
["Jim Lee",null,null,"USA",null,"WGC 2024 - Open",{"$f":"VLOOKUP(F1777,Soutez!A:B,2,FALSE)","v":"US"},{"$f":"VLOOKUP(F1777,Soutez!A:C,3,FALSE)","v":2024},6,10182,1.0900000000000001,8609,9384,null,null,"EB 29R","1C","Není v databázi"]
["Attie Jonker",null,null,"South Africa",null,"WGC 2024 - Open",{"$f":"VLOOKUP(F1778,Soutez!A:B,2,FALSE)","v":"US"},{"$f":"VLOOKUP(F1778,Soutez!A:C,3,FALSE)","v":2024},7,9806,1.0900000000000001,8180,8916,null,null,"JS5",5,{"$f":"IF(ISERROR(VLOOKUP(A1778,Pilot,6,0)),\"Není v databázi\",VLOOKUP(A1778,Pilot,6,0))","v":"Není v databázi"}]
["Russell Cheetham",null,null,"Great Britain",null,"WGC 2024 - Open",{"$f":"VLOOKUP(F1779,Soutez!A:B,2,FALSE)","v":"US"},{"$f":"VLOOKUP(F1779,Soutez!A:C,3,FALSE)","v":2024},8,9500,1.0900000000000001,7796,8498,null,null,"JS-1-21m","E1","Není v databázi"]
["Zoran Frenc",null,null,"Serbia",null,"WGC 2024 - Open",{"$f":"VLOOKUP(F1780,Soutez!A:B,2,FALSE)","v":"US"},{"$f":"VLOOKUP(F1780,Soutez!A:C,3,FALSE)","v":2024},9,9458,1.0900000000000001,7581,8263,null,null,"JS5","ZF","Není v databázi"]
["Oscar Goudriaan",null,null,"South Africa",null,"WGC 2024 - Open",{"$f":"VLOOKUP(F1781,Soutez!A:B,2,FALSE)","v":"US"},{"$f":"VLOOKUP(F1781,Soutez!A:C,3,FALSE)","v":2024},10,9386,1.0900000000000001,7347,8008,null,null,"JS5","OG","Není v databázi"]
["Bas Seijffert",null,null,"Netherlands",null,"WGC 2024 - Open",{"$f":"VLOOKUP(F1782,Soutez!A:B,2,FALSE)","v":"US"},{"$f":"VLOOKUP(F1782,Soutez!A:C,3,FALSE)","v":2024},11,9304,1.0900000000000001,7107,7747,null,null,"JS1C TJ 21m","BJ","Není v databázi"]
["Keith Baugh",null,null,"USA",null,"WGC 2024 - Open",{"$f":"VLOOKUP(F1783,Soutez!A:B,2,FALSE)","v":"US"},{"$f":"VLOOKUP(F1783,Soutez!A:C,3,FALSE)","v":2024},12,9297,1.0900000000000001,6915,7537,null,null,"JS1C TJ 21m","AG","Není v databázi"]
["Peter Szabo",null,null,"Hungary",null,"WGC 2024 - Open",{"$f":"VLOOKUP(F1784,Soutez!A:B,2,FALSE)","v":"US"},{"$f":"VLOOKUP(F1784,Soutez!A:C,3,FALSE)","v":2024},13,9197,1.0900000000000001,6663,{"$f":"ROUND(K1784*L1784,0)","v":7263},null,null,"JS5","BX","Není v databázi"]
["Tim Jenkinson",null,null,"Great Britain",null,"WGC 2024 - Open",{"$f":"VLOOKUP(F1785,Soutez!A:B,2,FALSE)","v":"US"},{"$f":"VLOOKUP(F1785,Soutez!A:C,3,FALSE)","v":2024},14,9105,1.0900000000000001,6417,6995,null,null,"JS1C TJ 21m","TJ","Není v databázi"]
["Radek Kucirek",{"$f":"VLOOKUP(A1786,Pilot,2,0)","v":1973},{"$f":"VLOOKUP(A1786,Pilot,5,0)","v":"M"},{"$f":"VLOOKUP(A1786,Pilot,3,0)","v":"Havlíčkův Brod"},{"$f":"VLOOKUP(A1786,Pilot,4,0)","v":"CZ/C2"},"WGC 2024 - Open",{"$f":"VLOOKUP(F1786,Soutez!A:B,2,FALSE)","v":"US"},{"$f":"VLOOKUP(F1786,Soutez!A:C,3,FALSE)","v":2024},15,8266,1.0900000000000001,5690,6202,null,null,"JS1C TJ 21m","ZP",""]
["Geoffrey (Geoff) Brown",null,null,"Australia",null,"WGC 2024 - Open",{"$f":"VLOOKUP(F1787,Soutez!A:B,2,FALSE)","v":"US"},{"$f":"VLOOKUP(F1787,Soutez!A:C,3,FALSE)","v":2024},16,7176,1.0900000000000001,4801,5233,null,null,"JS1C TJ 21m","CG","Není v databázi"]
["Claudio Schmidt",null,null,"Brazil",null,"WGC 2024 - Open",{"$f":"VLOOKUP(F1788,Soutez!A:B,2,FALSE)","v":"US"},{"$f":"VLOOKUP(F1788,Soutez!A:C,3,FALSE)","v":2024},17,7050,{"$f":"VLOOKUP(F1788,Soutez,12,0)","v":1.0900000000000001},{"$f":"ROUND(J1788/MAX($J$1772:$J$1788)*10000*0.7+(MAX($I$1772:$I$1788)-I1788)/(MAX($I$1772:$I$1788)-1)*10000*0.3,0)","v":4533},{"$f":"ROUND(K1788*L1788,0)","v":4941},null,null,"Nixus","SA","Není v databázi"]
["Uwe Wahlig",null,null,"Segelfluggruppe Bensheim e.V.",null,"AZ Cup 2025 - Klub",{"$f":"VLOOKUP(F1789,Soutez!A:B,2,FALSE)","v":"CZ"},{"$f":"VLOOKUP(F1789,Soutez!A:C,3,FALSE)","v":2025},1,2674,0.93,{"$f":"ROUND(J1789/MAX($J$1789:$J$1815)*10000*0.7+(MAX($I$1789:$I$1815)-I1789)/(MAX($I$1789:$I$1815)-1)*10000*0.3,0)","v":10000},{"$f":"ROUND(K1789*L1789,0)","v":9300},null,null,"LS 3 WL","SN","Není v databázi"]
["Jaroslav Tomana",{"$f":"VLOOKUP(A1790,Pilot,2,0)","v":1975},{"$f":"VLOOKUP(A1790,Pilot,5,0)","v":"M"},{"$f":"VLOOKUP(A1790,Pilot,3,0)","v":"Zbraslavice"},{"$f":"VLOOKUP(A1790,Pilot,4,0)","v":"CZ/C1"},"AZ Cup 2025 - Klub",{"$f":"VLOOKUP(F1790,Soutez!A:B,2,FALSE)","v":"CZ"},{"$f":"VLOOKUP(F1790,Soutez!A:C,3,FALSE)","v":2025},2,2646,0.93,9811,{"$f":"ROUND(K1790*L1790,0)","v":9124},null,null,"Centair 101 BC Pegase","RT",""]
["Viktor Becan",null,null,"ALC Lesce","SLO","AZ Cup 2025 - Klub",{"$f":"VLOOKUP(F1791,Soutez!A:B,2,FALSE)","v":"CZ"},{"$f":"VLOOKUP(F1791,Soutez!A:C,3,FALSE)","v":2025},3,2553,0.93,9452,8790,null,null,"ASW 20","CP","Není v databázi"]
["Darius Gudziunas",null,null,"Vilniaus Aeroklubas",null,"AZ Cup 2025 - Klub",{"$f":"VLOOKUP(F1792,Soutez!A:B,2,FALSE)","v":"CZ"},{"$f":"VLOOKUP(F1792,Soutez!A:C,3,FALSE)","v":2025},4,2518,0.93,9245,8598,null,null,"ASW 20","FL","Není v databázi"]
["Daniel Eliott",null,null,"Chérence",null,"AZ Cup 2025 - Klub",{"$f":"VLOOKUP(F1793,Soutez!A:B,2,FALSE)","v":"CZ"},{"$f":"VLOOKUP(F1793,Soutez!A:C,3,FALSE)","v":2025},5,2513,0.93,9117,8479,null,null,"LS 4","YG","Není v databázi"]
["Ivan Harasta 65",{"$f":"VLOOKUP(A1794,Pilot,2,0)","v":1965},{"$f":"VLOOKUP(A1794,Pilot,5,0)","v":"M"},{"$f":"VLOOKUP(A1794,Pilot,3,0)","v":"Toužim"},{"$f":"VLOOKUP(A1794,Pilot,4,0)","v":"CZ/C1"},"AZ Cup 2025 - Klub",{"$f":"VLOOKUP(F1794,Soutez!A:B,2,FALSE)","v":"CZ"},{"$f":"VLOOKUP(F1794,Soutez!A:C,3,FALSE)","v":2025},6,2506,0.93,8983,8354,null,null,"LS 4","IX",""]
["Hugo Corbille",null,null,"ATVV Grauhlet",null,"AZ Cup 2025 - Klub",{"$f":"VLOOKUP(F1795,Soutez!A:B,2,FALSE)","v":"CZ"},{"$f":"VLOOKUP(F1795,Soutez!A:C,3,FALSE)","v":2025},7,2494,0.93,8836,8217,null,null,"LS 7 WL","HG","Není v databázi"]
["Alexandre Fierain",null,null,"Abbeville",null,"AZ Cup 2025 - Klub",{"$f":"VLOOKUP(F1796,Soutez!A:B,2,FALSE)","v":"CZ"},{"$f":"VLOOKUP(F1796,Soutez!A:C,3,FALSE)","v":2025},8,2485,0.93,8698,8089,null,null,"LS 7 neo","AG","Není v databázi"]
["David Popovsky",{"$f":"VLOOKUP(A1797,Pilot,2,0)","v":1976},{"$f":"VLOOKUP(A1797,Pilot,5,0)","v":"M"},{"$f":"VLOOKUP(A1797,Pilot,3,0)","v":"Rakovník"},{"$f":"VLOOKUP(A1797,Pilot,4,0)","v":"CZ/C1"},"AZ Cup 2025 - Klub",{"$f":"VLOOKUP(F1797,Soutez!A:B,2,FALSE)","v":"CZ"},{"$f":"VLOOKUP(F1797,Soutez!A:C,3,FALSE)","v":2025},9,2367,0.93,8273,7694,"x",null,"ASW 24",76,""]
["Louise Rodriguez",null,null,"Bailleau",null,"AZ Cup 2025 - Klub",{"$f":"VLOOKUP(F1798,Soutez!A:B,2,FALSE)","v":"CZ"},{"$f":"VLOOKUP(F1798,Soutez!A:C,3,FALSE)","v":2025},10,2360,0.93,8140,7570,null,null,"ASW 20","XI","Není v databázi"]
["Edita Skalskiene",null,null,"KAASK",null,"AZ Cup 2025 - Klub",{"$f":"VLOOKUP(F1799,Soutez!A:B,2,FALSE)","v":"CZ"},{"$f":"VLOOKUP(F1799,Soutez!A:C,3,FALSE)","v":2025},11,2308,0.93,7888,{"$f":"ROUND(K1799*L1799,0)","v":7336},null,null,"ASW 20f","W4","Není v databázi"]
["Petr Masik",{"$f":"VLOOKUP(A1800,Pilot,2,0)","v":2001},{"$f":"VLOOKUP(A1800,Pilot,5,0)","v":"M"},{"$f":"VLOOKUP(A1800,Pilot,3,0)","v":"Zábřeh"},{"$f":"VLOOKUP(A1800,Pilot,4,0)","v":"CZ/M"},"AZ Cup 2025 - Klub",{"$f":"VLOOKUP(F1800,Soutez!A:B,2,FALSE)","v":"CZ"},{"$f":"VLOOKUP(F1800,Soutez!A:C,3,FALSE)","v":2025},12,2207,0.93,7508,6982,null,null,"ASW 19b",34,"Junior v roce 2026"]
["Stepan Bartos",2004,"M","Kolín","CZ/C1","AZ Cup 2025 - Klub",{"$f":"VLOOKUP(F1801,Soutez!A:B,2,FALSE)","v":"CZ"},{"$f":"VLOOKUP(F1801,Soutez!A:C,3,FALSE)","v":2025},13,2116,0.93,7155,6654,null,null,"Discus b WL","LD","Junior v roce 2026"]
["Petr Havelka",1997,"M","Zbraslavice","CZ/C1","AZ Cup 2025 - Klub",{"$f":"VLOOKUP(F1802,Soutez!A:B,2,FALSE)","v":"CZ"},{"$f":"VLOOKUP(F1802,Soutez!A:C,3,FALSE)","v":2025},14,2070,0.93,6919,6435,"x",null,"ASW 19b","PH",""]
["Alex Gulich",2005,"M","Slaný","CZ/C1","AZ Cup 2025 - Klub",{"$f":"VLOOKUP(F1803,Soutez!A:B,2,FALSE)","v":"CZ"},{"$f":"VLOOKUP(F1803,Soutez!A:C,3,FALSE)","v":2025},15,2041,0.93,6728,6257,null,null,"Cirrus std.","TI","Junior v roce 2026"]
["David Riha",{"$f":"VLOOKUP(A1804,Pilot,2,0)","v":1983},{"$f":"VLOOKUP(A1804,Pilot,5,0)","v":"M"},{"$f":"VLOOKUP(A1804,Pilot,3,0)","v":"Vlašim"},{"$f":"VLOOKUP(A1804,Pilot,4,0)","v":"CZ/C1"},"AZ Cup 2025 - Klub",{"$f":"VLOOKUP(F1804,Soutez!A:B,2,FALSE)","v":"CZ"},{"$f":"VLOOKUP(F1804,Soutez!A:C,3,FALSE)","v":2025},16,1970,0.93,6426,5976,"x",null,"ASW 15b","XEI",""]
["Anais Gaubert",null,null,null,null,"AZ Cup 2025 - Klub",{"$f":"VLOOKUP(F1805,Soutez!A:B,2,FALSE)","v":"CZ"},{"$f":"VLOOKUP(F1805,Soutez!A:C,3,FALSE)","v":2025},17,1852,0.93,6002,5582,null,null,"LS 7 WL","VX","Není v databázi"]
["Austeja Urbanaviciute",null,null,"Vilnius aeroclub",null,"AZ Cup 2025 - Klub",{"$f":"VLOOKUP(F1806,Soutez!A:B,2,FALSE)","v":"CZ"},{"$f":"VLOOKUP(F1806,Soutez!A:C,3,FALSE)","v":2025},18,1844,0.93,5866,5455,null,null,"LS 3a","QT","Není v databázi"]
["Carlos Iucci",null,null,"SGC Martin",null,"AZ Cup 2025 - Klub",{"$f":"VLOOKUP(F1807,Soutez!A:B,2,FALSE)","v":"CZ"},{"$f":"VLOOKUP(F1807,Soutez!A:C,3,FALSE)","v":2025},19,1658,0.93,5263,4895,null,null,"ASW 20",311,"Není v databázi"]
["Tomas Zamecnik",{"$f":"VLOOKUP(A1808,Pilot,2,0)","v":1988},{"$f":"VLOOKUP(A1808,Pilot,5,0)","v":"M"},{"$f":"VLOOKUP(A1808,Pilot,3,0)","v":"Zbraslavice"},{"$f":"VLOOKUP(A1808,Pilot,4,0)","v":"CZ/C1"},"AZ Cup 2025 - Klub",{"$f":"VLOOKUP(F1808,Soutez!A:B,2,FALSE)","v":"CZ"},{"$f":"VLOOKUP(F1808,Soutez!A:C,3,FALSE)","v":2025},20,1649,0.93,5124,4765,"x",null,"Cirrus std.","C1",""]
["Richard Jensen",1965,"M","Zbraslavice","CZ/C1","AZ Cup 2025 - Klub",{"$f":"VLOOKUP(F1809,Soutez!A:B,2,FALSE)","v":"CZ"},{"$f":"VLOOKUP(F1809,Soutez!A:C,3,FALSE)","v":2025},21,1340,0.93,4200,3906,"x",null,"ASW 19b","O2",""]
["Frantisek Komarek",1985,"M","Zbraslavice","CZ/C1","AZ Cup 2025 - Klub",{"$f":"VLOOKUP(F1810,Soutez!A:B,2,FALSE)","v":"CZ"},{"$f":"VLOOKUP(F1810,Soutez!A:C,3,FALSE)","v":2025},22,1296,0.93,3970,3692,"x",null,"ASW 19b","PM",""]
["Petr Brezina",1963,"M","Frýdlant","CZ/M","AZ Cup 2025 - Klub",{"$f":"VLOOKUP(F1811,Soutez!A:B,2,FALSE)","v":"CZ"},{"$f":"VLOOKUP(F1811,Soutez!A:C,3,FALSE)","v":2025},23,1184,0.93,3561,3312,"x",null,"DG 200 15m","AK",""]
["Karel Benisek 76",{"$f":"VLOOKUP(A1812,Pilot,2,0)","v":1976},{"$f":"VLOOKUP(A1812,Pilot,5,0)","v":"M"},{"$f":"VLOOKUP(A1812,Pilot,3,0)","v":"Toužim"},{"$f":"VLOOKUP(A1812,Pilot,4,0)","v":"CZ/C1"},"AZ Cup 2025 - Klub",{"$f":"VLOOKUP(F1812,Soutez!A:B,2,FALSE)","v":"CZ"},{"$f":"VLOOKUP(F1812,Soutez!A:C,3,FALSE)","v":2025},24,1094,0.93,3210,2985,"x",null,"Janus c","DF",""]
["Jiri Hodan",{"$f":"VLOOKUP(A1813,Pilot,2,0)","v":1959},{"$f":"VLOOKUP(A1813,Pilot,5,0)","v":"M"},{"$f":"VLOOKUP(A1813,Pilot,3,0)","v":"Zbraslavice"},{"$f":"VLOOKUP(A1813,Pilot,4,0)","v":"CZ/C1"},"AZ Cup 2025 - Klub",{"$f":"VLOOKUP(F1813,Soutez!A:B,2,FALSE)","v":"CZ"},{"$f":"VLOOKUP(F1813,Soutez!A:C,3,FALSE)","v":2025},25,722,0.93,2121,1973,"x",null,"G 103 II","RB",""]
["Ales Holoubek",1966,"M","Jičín","CZ/C2","AZ Cup 2025 - Klub",{"$f":"VLOOKUP(F1814,Soutez!A:B,2,FALSE)","v":"CZ"},{"$f":"VLOOKUP(F1814,Soutez!A:C,3,FALSE)","v":2025},26,581,0.93,1636,1521,"x",null,"ASW 15b","T",""]
["Pavel Svrcek",1972,"M","Frýdlant","CZ/M","AZ Cup 2025 - Klub",{"$f":"VLOOKUP(F1815,Soutez!A:B,2,FALSE)","v":"CZ"},{"$f":"VLOOKUP(F1815,Soutez!A:C,3,FALSE)","v":2025},27,252,0.93,660,614,"x",null,"DG 400 17m","PS",""]
["Karel Novak",{"$f":"VLOOKUP(A1816,Pilot,2,0)","v":1993},{"$f":"VLOOKUP(A1816,Pilot,5,0)","v":"M"},{"$f":"VLOOKUP(A1816,Pilot,3,0)","v":"Mladá Boleslav"},{"$f":"VLOOKUP(A1816,Pilot,4,0)","v":"CZ/C1"},"AZ Cup 2025 - Kombi 15m",{"$f":"VLOOKUP(F1816,Soutez!A:B,2,FALSE)","v":"CZ"},{"$f":"VLOOKUP(F1816,Soutez!A:C,3,FALSE)","v":2025},1,3138,0.96000000000000008,{"$f":"ROUND(J1816/MAX($J$1816:$J$1831)*10000*0.7+(MAX($I$1816:$I$1831)-I1816)/(MAX($I$1816:$I$1831)-1)*10000*0.3,0)","v":10000},{"$f":"ROUND(K1816*L1816,0)","v":9600},"x",null,"Ventus 2a","AXI",""]
["Pavel Trybenekr",1990,"M","Hořice","CZ/C2","AZ Cup 2025 - Kombi 15m",{"$f":"VLOOKUP(F1817,Soutez!A:B,2,FALSE)","v":"CZ"},{"$f":"VLOOKUP(F1817,Soutez!A:C,3,FALSE)","v":2025},2,3044,0.96000000000000008,9590,{"$f":"ROUND(K1817*L1817,0)","v":9206},"x",null,"JS 3","ZE",""]
["Marius Pluscauskas",null,null,"Vilniaus aeroklubas",null,"AZ Cup 2025 - Kombi 15m",{"$f":"VLOOKUP(F1818,Soutez!A:B,2,FALSE)","v":"CZ"},{"$f":"VLOOKUP(F1818,Soutez!A:C,3,FALSE)","v":2025},3,2907,0.96000000000000008,9085,8722,null,null,"Diana 2","BB","Není v databázi"]
["Steffen Goettler",null,null,"LSC Bad Homburg",null,"AZ Cup 2025 - Kombi 15m",{"$f":"VLOOKUP(F1819,Soutez!A:B,2,FALSE)","v":"CZ"},{"$f":"VLOOKUP(F1819,Soutez!A:C,3,FALSE)","v":2025},4,2882,0.96000000000000008,8829,8476,null,null,"Ventus 2a","SG","Není v databázi"]
["Balazs Endrodi",null,null,"MÁV SE",null,"AZ Cup 2025 - Kombi 15m",{"$f":"VLOOKUP(F1820,Soutez!A:B,2,FALSE)","v":"CZ"},{"$f":"VLOOKUP(F1820,Soutez!A:C,3,FALSE)","v":2025},5,2838,0.96000000000000008,8531,8190,null,null,"Discus 2a","WD","Není v databázi"]
["Aurelien Doriat",null,null,"ACP Poitiers",null,"AZ Cup 2025 - Kombi 15m",{"$f":"VLOOKUP(F1821,Soutez!A:B,2,FALSE)","v":"CZ"},{"$f":"VLOOKUP(F1821,Soutez!A:C,3,FALSE)","v":2025},6,2814,0.96000000000000008,8277,7946,null,null,"LS 8","P1","Není v databázi"]
["Vladas Motuza",null,null,"KAASK",null,"AZ Cup 2025 - Kombi 15m",{"$f":"VLOOKUP(F1822,Soutez!A:B,2,FALSE)","v":"CZ"},{"$f":"VLOOKUP(F1822,Soutez!A:C,3,FALSE)","v":2025},7,2806,0.96000000000000008,8059,7737,null,null,"ASG 29 15m","M7","Není v databázi"]
["Radek Kucirek",{"$f":"VLOOKUP(A1823,Pilot,2,0)","v":1973},{"$f":"VLOOKUP(A1823,Pilot,5,0)","v":"M"},{"$f":"VLOOKUP(A1823,Pilot,3,0)","v":"Havlíčkův Brod"},{"$f":"VLOOKUP(A1823,Pilot,4,0)","v":"CZ/C2"},"AZ Cup 2025 - Kombi 15m",{"$f":"VLOOKUP(F1823,Soutez!A:B,2,FALSE)","v":"CZ"},{"$f":"VLOOKUP(F1823,Soutez!A:C,3,FALSE)","v":2025},8,2570,0.96000000000000008,7333,{"$f":"ROUND(K1823*L1823,0)","v":7040},null,null,"Duo Discus T 700kg","XH",""]
["Louis Bouderlique",null,null,"Amiens",null,"AZ Cup 2025 - Kombi 15m",{"$f":"VLOOKUP(F1824,Soutez!A:B,2,FALSE)","v":"CZ"},{"$f":"VLOOKUP(F1824,Soutez!A:C,3,FALSE)","v":2025},9,2457,0.96000000000000008,6881,6606,null,null,"Discus 2a","ET","Není v databázi"]
["Julien Duboc",null,null,"Condom",null,"AZ Cup 2025 - Kombi 15m",{"$f":"VLOOKUP(F1825,Soutez!A:B,2,FALSE)","v":"CZ"},{"$f":"VLOOKUP(F1825,Soutez!A:C,3,FALSE)","v":2025},10,2451,0.96000000000000008,6667,6400,null,null,"Discus 2ax","JPA","Není v databázi"]
["David Sachl",{"$f":"VLOOKUP(A1826,Pilot,2,0)","v":1978},{"$f":"VLOOKUP(A1826,Pilot,5,0)","v":"M"},{"$f":"VLOOKUP(A1826,Pilot,3,0)","v":"Kralupy"},{"$f":"VLOOKUP(A1826,Pilot,4,0)","v":"CZ/C1"},"AZ Cup 2025 - Kombi 15m",{"$f":"VLOOKUP(F1826,Soutez!A:B,2,FALSE)","v":"CZ"},{"$f":"VLOOKUP(F1826,Soutez!A:C,3,FALSE)","v":2025},11,2440,0.96000000000000008,6443,6185,null,null,"ASW 27 WL","MF",""]
["Barbora Moravcova",1994,"F","Zbraslavice","CZ/C1","AZ Cup 2025 - Kombi 15m",{"$f":"VLOOKUP(F1827,Soutez!A:B,2,FALSE)","v":"CZ"},{"$f":"VLOOKUP(F1827,Soutez!A:C,3,FALSE)","v":2025},12,2271,0.96000000000000008,5866,5631,"x",null,"LS 8","EU",""]
["Klara Teichmannova",1993,"F","Hronov","CZ/C2","AZ Cup 2025 - Kombi 15m",{"$f":"VLOOKUP(F1828,Soutez!A:B,2,FALSE)","v":"CZ"},{"$f":"VLOOKUP(F1828,Soutez!A:C,3,FALSE)","v":2025},13,2054,0.96000000000000008,5182,4975,"x","x","LS 8","W8",""]
["Melanie Desbois Gadoulet",null,null,"P2B - Ploërmel",null,"AZ Cup 2025 - Kombi 15m",{"$f":"VLOOKUP(F1829,Soutez!A:B,2,FALSE)","v":"CZ"},{"$f":"VLOOKUP(F1829,Soutez!A:C,3,FALSE)","v":2025},14,1802,0.96000000000000008,4420,4243,null,null,"Discus 2a","AX","Není v databázi"]
["Martin Viteznik",{"$f":"VLOOKUP(A1830,Pilot,2,0)","v":1988},{"$f":"VLOOKUP(A1830,Pilot,5,0)","v":"M"},{"$f":"VLOOKUP(A1830,Pilot,3,0)","v":"Kralupy"},{"$f":"VLOOKUP(A1830,Pilot,4,0)","v":"CZ/C1"},"AZ Cup 2025 - Kombi 15m",{"$f":"VLOOKUP(F1830,Soutez!A:B,2,FALSE)","v":"CZ"},{"$f":"VLOOKUP(F1830,Soutez!A:C,3,FALSE)","v":2025},15,1775,0.96000000000000008,4160,3994,"x",null,"Duo Discus T 700kg","ZS",""]
["Aneta Chabora",null,null,"Leszno",null,"AZ Cup 2025 - Kombi 15m",{"$f":"VLOOKUP(F1831,Soutez!A:B,2,FALSE)","v":"CZ"},{"$f":"VLOOKUP(F1831,Soutez!A:C,3,FALSE)","v":2025},16,881,0.96000000000000008,1965,1886,null,null,"ASW 27b WL","3W","Není v databázi"]
["Radek Krejcirik",{"$f":"VLOOKUP(A1832,Pilot,2,0)","v":1991},{"$f":"VLOOKUP(A1832,Pilot,5,0)","v":"M"},{"$f":"VLOOKUP(A1832,Pilot,3,0)","v":"Hranice"},{"$f":"VLOOKUP(A1832,Pilot,4,0)","v":"CZ/M"},"AZ Cup 2025 - Kombi Open",{"$f":"VLOOKUP(F1832,Soutez!A:B,2,FALSE)","v":"CZ"},{"$f":"VLOOKUP(F1832,Soutez!A:C,3,FALSE)","v":2025},1,2791,0.94000000000000006,{"$f":"ROUND(J1832/MAX($J$1832:$J$1852)*10000*0.7+(MAX($I$1832:$I$1852)-I1832)/(MAX($I$1832:$I$1852)-1)*10000*0.3,0)","v":10000},{"$f":"ROUND(K1832*L1832,0)","v":9400},null,null,"JS1","ZF",""]
["Petr Tichy",1973,"M","Zbraslavice","CZ/C1","AZ Cup 2025 - Kombi Open",{"$f":"VLOOKUP(F1833,Soutez!A:B,2,FALSE)","v":"CZ"},{"$f":"VLOOKUP(F1833,Soutez!A:C,3,FALSE)","v":2025},2,2767,0.94000000000000006,9790,{"$f":"ROUND(K1833*L1833,0)","v":9203},"x",null,"AS 33","EZ",""]
["Tomas Rendla",1973,"M","Zbraslavice","CZ/C1","AZ Cup 2025 - Kombi Open",{"$f":"VLOOKUP(F1834,Soutez!A:B,2,FALSE)","v":"CZ"},{"$f":"VLOOKUP(F1834,Soutez!A:C,3,FALSE)","v":2025},3,2729,0.94000000000000006,9545,8972,"x",null,"EB 29 r","EX",""]
["Ondrej Dupal",1966,"M","GAC Benešov","CZ/C1","AZ Cup 2025 - Kombi Open",{"$f":"VLOOKUP(F1835,Soutez!A:B,2,FALSE)","v":"CZ"},{"$f":"VLOOKUP(F1835,Soutez!A:C,3,FALSE)","v":2025},4,2728,0.94000000000000006,9392,8828,null,null,"ASG 29 E","GO",""]
["Alena Netusilova",1970,"F","Zbraslavice","CZ/C1","AZ Cup 2025 - Kombi Open",{"$f":"VLOOKUP(F1836,Soutez!A:B,2,FALSE)","v":"CZ"},{"$f":"VLOOKUP(F1836,Soutez!A:C,3,FALSE)","v":2025},5,2632,0.94000000000000006,9001,8461,"x",null,"JS 3","3J",""]
["Jan Kotan",1982,"M","Letňany","CZ/C1","AZ Cup 2025 - Kombi Open",{"$f":"VLOOKUP(F1837,Soutez!A:B,2,FALSE)","v":"CZ"},{"$f":"VLOOKUP(F1837,Soutez!A:C,3,FALSE)","v":2025},6,2582,0.94000000000000006,8726,8202,null,null,"AS 33","CAT",""]
["Boris Zorz",null,null,"AK ALC Lesce",null,"AZ Cup 2025 - Kombi Open",{"$f":"VLOOKUP(F1838,Soutez!A:B,2,FALSE)","v":"CZ"},{"$f":"VLOOKUP(F1838,Soutez!A:C,3,FALSE)","v":2025},7,2482,0.94000000000000006,8325,7826,null,null,"JS 3","BL","Není v databázi"]
["Jan Boruvka",{"$f":"VLOOKUP(A1839,Pilot,2,0)","v":1984},{"$f":"VLOOKUP(A1839,Pilot,5,0)","v":"M"},{"$f":"VLOOKUP(A1839,Pilot,3,0)","v":"Jičín"},{"$f":"VLOOKUP(A1839,Pilot,4,0)","v":"CZ/C2"},"AZ Cup 2025 - Kombi Open",{"$f":"VLOOKUP(F1839,Soutez!A:B,2,FALSE)","v":"CZ"},{"$f":"VLOOKUP(F1839,Soutez!A:C,3,FALSE)","v":2025},8,2413,0.94000000000000006,8002,7522,null,null,"ASG 29 E","QX",{"$f":"IF(ISERROR(VLOOKUP(A1839,Pilot,6,0)),\"Není v databázi\",VLOOKUP(A1839,Pilot,6,0))","v":""}]
["Zdenek Boruvka 86",1986,"M","Jičín","CZ/C2","AZ Cup 2025 - Kombi Open",{"$f":"VLOOKUP(F1840,Soutez!A:B,2,FALSE)","v":"CZ"},{"$f":"VLOOKUP(F1840,Soutez!A:C,3,FALSE)","v":2025},9,2350,0.94000000000000006,7694,7232,"x",null,"Ventus c","VV",""]
["Ivan Novak",1962,"M","Mladá Boleslav","CZ/C1","AZ Cup 2025 - Kombi Open",{"$f":"VLOOKUP(F1841,Soutez!A:B,2,FALSE)","v":"CZ"},{"$f":"VLOOKUP(F1841,Soutez!A:C,3,FALSE)","v":2025},10,2295,0.94000000000000006,7406,{"$f":"ROUND(K1841*L1841,0)","v":6962},null,null,"LS 8 18m","ID",""]
["Anna Piotrowska",null,null,"Warszawski/Medimur",null,"AZ Cup 2025 - Kombi Open",{"$f":"VLOOKUP(F1842,Soutez!A:B,2,FALSE)","v":"CZ"},{"$f":"VLOOKUP(F1842,Soutez!A:C,3,FALSE)","v":2025},11,2186,0.94000000000000006,6983,6564,null,null,"ASG 29 E","HE","Není v databázi"]
["Hana Treslova",{"$f":"VLOOKUP(A1843,Pilot,2,0)","v":1991},{"$f":"VLOOKUP(A1843,Pilot,5,0)","v":"F"},{"$f":"VLOOKUP(A1843,Pilot,3,0)","v":"Raná"},{"$f":"VLOOKUP(A1843,Pilot,4,0)","v":"CZ/C2"},"AZ Cup 2025 - Kombi Open",{"$f":"VLOOKUP(F1843,Soutez!A:B,2,FALSE)","v":"CZ"},{"$f":"VLOOKUP(F1843,Soutez!A:C,3,FALSE)","v":2025},12,2007,0.94000000000000006,6384,6001,null,null,"JS 3","XM",""]
["Jiri Fousek",1990,"M","Raná","CZ/C2","AZ Cup 2025 - Kombi Open",{"$f":"VLOOKUP(F1844,Soutez!A:B,2,FALSE)","v":"CZ"},{"$f":"VLOOKUP(F1844,Soutez!A:C,3,FALSE)","v":2025},13,1985,0.94000000000000006,6179,5808,null,null,"Ventus c","XE",""]
["Petr Starek",1974,"M","Zbraslavice","CZ/C1","AZ Cup 2025 - Kombi Open",{"$f":"VLOOKUP(F1845,Soutez!A:B,2,FALSE)","v":"CZ"},{"$f":"VLOOKUP(F1845,Soutez!A:C,3,FALSE)","v":2025},14,1964,0.94000000000000006,5976,5617,"x",null,"HpH 304 JS 600 kg",66,""]
["Jan Dersak 69",1969,"M","Kralupy","CZ/C1","AZ Cup 2025 - Kombi Open",{"$f":"VLOOKUP(F1846,Soutez!A:B,2,FALSE)","v":"CZ"},{"$f":"VLOOKUP(F1846,Soutez!A:C,3,FALSE)","v":2025},15,1861,0.94000000000000006,5568,5234,null,null,"HpH 304 MS 600 kg","DJ",""]
["Tomas Ditrt",1969,"M","Podhořany","CZ/C2","AZ Cup 2025 - Kombi Open",{"$f":"VLOOKUP(F1847,Soutez!A:B,2,FALSE)","v":"CZ"},{"$f":"VLOOKUP(F1847,Soutez!A:C,3,FALSE)","v":2025},16,1757,0.94000000000000006,5157,4848,"x",null,"HpH 304 MS 600 kg","TDI",""]
["Ivo Burda",1962,"M","Zbraslavice","CZ/C1","AZ Cup 2025 - Kombi Open",{"$f":"VLOOKUP(F1848,Soutez!A:B,2,FALSE)","v":"CZ"},{"$f":"VLOOKUP(F1848,Soutez!A:C,3,FALSE)","v":2025},16,1757,0.94000000000000006,5157,4848,"x",null,"Ventus 2 cxm 600 kg","IB",""]
["Petr Jiranek 63",1962,"M","Toužim","CZ/C1","AZ Cup 2025 - Kombi Open",{"$f":"VLOOKUP(F1849,Soutez!A:B,2,FALSE)","v":"CZ"},{"$f":"VLOOKUP(F1849,Soutez!A:C,3,FALSE)","v":2025},18,1720,0.94000000000000006,4764,4478,null,null,"HpH 304 MS 600 kg","LK",""]
["Jaromir Jedlicka",1972,"M","Letňany","CZ/C1","AZ Cup 2025 - Kombi Open",{"$f":"VLOOKUP(F1850,Soutez!A:B,2,FALSE)","v":"CZ"},{"$f":"VLOOKUP(F1850,Soutez!A:C,3,FALSE)","v":2025},19,1680,0.94000000000000006,4514,4243,"x",null,"HpH 304 MS 600kg","TJ",""]
["Peter Pirc",null,null,"AK Celje",null,"AZ Cup 2025 - Kombi Open",{"$f":"VLOOKUP(F1851,Soutez!A:B,2,FALSE)","v":"CZ"},{"$f":"VLOOKUP(F1851,Soutez!A:C,3,FALSE)","v":2025},20,1176,0.94000000000000006,3099,2913,null,null,"HpH 304 eS 600 Kg","PX","Není v databázi"]
["Jakubcak Kutlak",null,null,"SGC Martin",null,"AZ Cup 2025 - Kombi Open",{"$f":"VLOOKUP(F1852,Soutez!A:B,2,FALSE)","v":"CZ"},{"$f":"VLOOKUP(F1852,Soutez!A:C,3,FALSE)","v":2025},21,1003,{"$f":"VLOOKUP(F1852,Soutez,12,0)","v":0.94000000000000006},2516,2365,null,null,"Arcus m","CAR","Není v databázi"]
["Jindrich Svorc",{"$f":"VLOOKUP(A1853,Pilot,2,0)","v":1978},{"$f":"VLOOKUP(A1853,Pilot,5,0)","v":"M"},{"$f":"VLOOKUP(A1853,Pilot,3,0)","v":"Letňany"},{"$f":"VLOOKUP(A1853,Pilot,4,0)","v":"CZ/C1"},"JPJ 2025 - Klub",{"$f":"VLOOKUP(F1853,Soutez!A:B,2,FALSE)","v":"CZ"},{"$f":"VLOOKUP(F1853,Soutez!A:C,3,FALSE)","v":2025},1,4627,0.91,{"$f":"ROUND(J1853/MAX($J$1853:$J$1883)*10000*0.7+(MAX($I$1853:$I$1883)-I1853)/(MAX($I$1853:$I$1883)-1)*10000*0.3,0)","v":10000},{"$f":"ROUND(K1853*L1853,0)","v":9100},"x",null,"Discus bt","OI",""]
["Josef Novotny",1983,"M","Přibyslav","CZ/C2","JPJ 2025 - Klub",{"$f":"VLOOKUP(F1854,Soutez!A:B,2,FALSE)","v":"CZ"},{"$f":"VLOOKUP(F1854,Soutez!A:C,3,FALSE)","v":2025},2,4384,0.91,9532,{"$f":"ROUND(K1854*L1854,0)","v":8674},"x",null,"Std. Cirrus","AW",""]
["Petr Masik",2001,"M","Zábřeh","CZ/M","JPJ 2025 - Klub",{"$f":"VLOOKUP(F1855,Soutez!A:B,2,FALSE)","v":"CZ"},{"$f":"VLOOKUP(F1855,Soutez!A:C,3,FALSE)","v":2025},3,4213,0.91,9174,8348,null,null,"ASW-19B",34,"Junior v roce 2026"]
["Martin Ficnar",1971,"M","Šumperk","CZ/M","JPJ 2025 - Klub",{"$f":"VLOOKUP(F1856,Soutez!A:B,2,FALSE)","v":"CZ"},{"$f":"VLOOKUP(F1856,Soutez!A:C,3,FALSE)","v":2025},4,4045,0.91,8820,8026,"x",null,"LS-3a 15m","S20",""]
["Martin Hejny",1984,"M","Šumperk","CZ/M","JPJ 2025 - Klub",{"$f":"VLOOKUP(F1857,Soutez!A:B,2,FALSE)","v":"CZ"},{"$f":"VLOOKUP(F1857,Soutez!A:C,3,FALSE)","v":2025},5,4039,0.91,8710,7926,"x",null,"ASW-19B","B8",""]
["Jan Vozeh",1995,"M","Rakovník","CZ/C1","JPJ 2025 - Klub",{"$f":"VLOOKUP(F1858,Soutez!A:B,2,FALSE)","v":"CZ"},{"$f":"VLOOKUP(F1858,Soutez!A:C,3,FALSE)","v":2025},6,3914,0.91,8421,7663,"x",null,"LS-7","LZ",""]
["Zdenek Balcarek",1967,"M","Kroměříž","CZ/M","JPJ 2025 - Klub",{"$f":"VLOOKUP(F1859,Soutez!A:B,2,FALSE)","v":"CZ"},{"$f":"VLOOKUP(F1859,Soutez!A:C,3,FALSE)","v":2025},7,3776,0.91,8113,7383,"x",null,"Discus b","AI",""]
["Adam Sugl",1987,"M","Vyškov","CZ/M","JPJ 2025 - Klub",{"$f":"VLOOKUP(F1860,Soutez!A:B,2,FALSE)","v":"CZ"},{"$f":"VLOOKUP(F1860,Soutez!A:C,3,FALSE)","v":2025},8,3766,0.91,7997,7277,"x",null,"Std. Cirrus","GT",""]
["Josef Novak",1981,"M","Kunovice","CZ/M","JPJ 2025 - Klub",{"$f":"VLOOKUP(F1861,Soutez!A:B,2,FALSE)","v":"CZ"},{"$f":"VLOOKUP(F1861,Soutez!A:C,3,FALSE)","v":2025},9,3731,0.91,7844,7138,"x",null,"LS-1f","JT",""]
["Rostislav Stryk",1972,"M","Frýdlant","CZ/M","JPJ 2025 - Klub",{"$f":"VLOOKUP(F1862,Soutez!A:B,2,FALSE)","v":"CZ"},{"$f":"VLOOKUP(F1862,Soutez!A:C,3,FALSE)","v":2025},10,3702,0.91,7701,7008,"x",null,"Std. Cirrus",22,""]
["Radek Tobolka",1977,"M","Jičín","CZ/C2","JPJ 2025 - Klub",{"$f":"VLOOKUP(F1863,Soutez!A:B,2,FALSE)","v":"CZ"},{"$f":"VLOOKUP(F1863,Soutez!A:C,3,FALSE)","v":2025},11,3689,0.91,7581,6899,"x",null,"TST-10M Atlas",10,""]
["Martin Urban",1971,"M","Frýdlant","CZ/M","JPJ 2025 - Klub",{"$f":"VLOOKUP(F1864,Soutez!A:B,2,FALSE)","v":"CZ"},{"$f":"VLOOKUP(F1864,Soutez!A:C,3,FALSE)","v":2025},12,3678,0.91,7464,6792,"x",null,"LS-3a 15m","SJ",""]
["Martin Neuvirt",2001,"M","Přibyslav","CZ/C2","JPJ 2025 - Klub",{"$f":"VLOOKUP(F1865,Soutez!A:B,2,FALSE)","v":"CZ"},{"$f":"VLOOKUP(F1865,Soutez!A:C,3,FALSE)","v":2025},13,3614,0.91,7267,6613,"x",null,"Std. Cirrus","2C","Junior v roce 2026"]
["Rene Hudak",1972,"M","Kunovice","CZ/M","JPJ 2025 - Klub",{"$f":"VLOOKUP(F1866,Soutez!A:B,2,FALSE)","v":"CZ"},{"$f":"VLOOKUP(F1866,Soutez!A:C,3,FALSE)","v":2025},14,3451,0.91,6921,6298,"x",null,"Std. Cirrus","NK",""]
["Peter Kaspar",1980,"M","Vyškov","CZ/M","JPJ 2025 - Klub",{"$f":"VLOOKUP(F1867,Soutez!A:B,2,FALSE)","v":"CZ"},{"$f":"VLOOKUP(F1867,Soutez!A:C,3,FALSE)","v":2025},15,3249,0.91,6515,5929,"x",null,"Astir CS 77","1B",""]
["Martin Svarc",1981,"M","Olomouc","CZ/M","JPJ 2025 - Klub",{"$f":"VLOOKUP(F1868,Soutez!A:B,2,FALSE)","v":"CZ"},{"$f":"VLOOKUP(F1868,Soutez!A:C,3,FALSE)","v":2025},16,3244,0.91,6408,5831,"x",null,"DG-101 G","HE",""]
["Martin Urner",1974,"M","Letňany","CZ/C1","JPJ 2025 - Klub",{"$f":"VLOOKUP(F1869,Soutez!A:B,2,FALSE)","v":"CZ"},{"$f":"VLOOKUP(F1869,Soutez!A:C,3,FALSE)","v":2025},17,3216,0.91,6265,5701,null,null,"ASW-15B","JJ",""]
["Radim Sobek",1977,"M","Hranice","CZ/M","JPJ 2025 - Klub",{"$f":"VLOOKUP(F1870,Soutez!A:B,2,FALSE)","v":"CZ"},{"$f":"VLOOKUP(F1870,Soutez!A:C,3,FALSE)","v":2025},18,3212,0.91,6159,5605,null,null,"TST-10M",7,""]
["Petr Havrlant",1965,"M","Šumperk","CZ/M","JPJ 2025 - Klub",{"$f":"VLOOKUP(F1871,Soutez!A:B,2,FALSE)","v":"CZ"},{"$f":"VLOOKUP(F1871,Soutez!A:C,3,FALSE)","v":2025},19,3043,0.91,5804,{"$f":"ROUND(K1871*L1871,0)","v":5282},"x",null,"ASW-15B","Q1",""]
["Roman Schotli",1970,"M","Hranice","CZ/M","JPJ 2025 - Klub",{"$f":"VLOOKUP(F1872,Soutez!A:B,2,FALSE)","v":"CZ"},{"$f":"VLOOKUP(F1872,Soutez!A:C,3,FALSE)","v":2025},20,2976,0.91,5602,5098,"x",null,"ASW-19B",19,""]
["Radim Tomala",1972,"M","Prostějov","CZ/M","JPJ 2025 - Klub",{"$f":"VLOOKUP(F1873,Soutez!A:B,2,FALSE)","v":"CZ"},{"$f":"VLOOKUP(F1873,Soutez!A:C,3,FALSE)","v":2025},21,2905,0.91,5395,4909,"x",null,"Std. Cirrus","RT",""]
["Jakub Vlk",1986,"M","GAC Benešov","CZ/C1","JPJ 2025 - Klub",{"$f":"VLOOKUP(F1874,Soutez!A:B,2,FALSE)","v":"CZ"},{"$f":"VLOOKUP(F1874,Soutez!A:C,3,FALSE)","v":2025},22,2823,0.91,5171,4706,"x",null,"Discus b WL","JAV",""]
["Jakub Kohn",1992,"M","Prostějov","CZ/M","JPJ 2025 - Klub",{"$f":"VLOOKUP(F1875,Soutez!A:B,2,FALSE)","v":"CZ"},{"$f":"VLOOKUP(F1875,Soutez!A:C,3,FALSE)","v":2025},23,2767,0.91,4986,4537,null,null,"ASW-15B","FK",""]
["David Benda",1974,"M","Letňany","CZ/C1","JPJ 2025 - Klub",{"$f":"VLOOKUP(F1876,Soutez!A:B,2,FALSE)","v":"CZ"},{"$f":"VLOOKUP(F1876,Soutez!A:C,3,FALSE)","v":2025},24,2682,0.91,4757,4329,"x",null,"G-102 Astir cs","PD",""]
["Petr Omelka",1970,"M","Vyškov","CZ/M","JPJ 2025 - Klub",{"$f":"VLOOKUP(F1877,Soutez!A:B,2,FALSE)","v":"CZ"},{"$f":"VLOOKUP(F1877,Soutez!A:C,3,FALSE)","v":2025},25,1873,0.91,3434,3125,"x",null,"DG-400 15m","MR",""]
["Jaromir Vlk",1959,"M","Šumperk","CZ/M","JPJ 2025 - Klub",{"$f":"VLOOKUP(F1878,Soutez!A:B,2,FALSE)","v":"CZ"},{"$f":"VLOOKUP(F1878,Soutez!A:C,3,FALSE)","v":2025},26,1821,0.91,3255,2962,"x",null,"ASW-15B","R5",""]
["Yvona Vyhnankova",1963,"F","Olomouc","CZ/M","JPJ 2025 - Klub",{"$f":"VLOOKUP(F1879,Soutez!A:B,2,FALSE)","v":"CZ"},{"$f":"VLOOKUP(F1879,Soutez!A:C,3,FALSE)","v":2025},27,1756,0.91,3057,2782,"x","x","ASW-15","YZ",""]
["David Kraus",1990,"M","Olomouc","CZ/M","JPJ 2025 - Klub",{"$f":"VLOOKUP(F1880,Soutez!A:B,2,FALSE)","v":"CZ"},{"$f":"VLOOKUP(F1880,Soutez!A:C,3,FALSE)","v":2025},28,1573,0.91,2680,2439,"x",null,"G-104 Speed Astir II b","6X",""]
["Josef Hlusek",1993,"M","Kunovice","CZ/M","JPJ 2025 - Klub",{"$f":"VLOOKUP(F1881,Soutez!A:B,2,FALSE)","v":"CZ"},{"$f":"VLOOKUP(F1881,Soutez!A:C,3,FALSE)","v":2025},29,1449,0.91,2392,2177,"x",null,"Std. Cirrus","WO",""]
["Jakub Safar",1990,"M","Olomouc","CZ/M","JPJ 2025 - Klub",{"$f":"VLOOKUP(F1882,Soutez!A:B,2,FALSE)","v":"CZ"},{"$f":"VLOOKUP(F1882,Soutez!A:C,3,FALSE)","v":2025},30,1029,0.91,1657,1508,"x",null,"G-102 Astir cs","AX",""]
["Jan Sobotka",1973,"M","Vyškov","CZ/M","JPJ 2025 - Klub",{"$f":"VLOOKUP(F1883,Soutez!A:B,2,FALSE)","v":"CZ"},{"$f":"VLOOKUP(F1883,Soutez!A:C,3,FALSE)","v":2025},31,0,0.91,0,0,null,null,"LS-1f","DP",""]
["Petr Koutny",{"$f":"VLOOKUP(A1884,Pilot,2,0)","v":1971},{"$f":"VLOOKUP(A1884,Pilot,5,0)","v":"M"},{"$f":"VLOOKUP(A1884,Pilot,3,0)","v":"Křižanov"},{"$f":"VLOOKUP(A1884,Pilot,4,0)","v":"CZ/M"},"JPJ 2025 - Kombi 15m",{"$f":"VLOOKUP(F1884,Soutez!A:B,2,FALSE)","v":"CZ"},{"$f":"VLOOKUP(F1884,Soutez!A:C,3,FALSE)","v":2025},1,4894,0.92,{"$f":"ROUND(J1884/MAX($J$1884:$J$1894)*10000*0.7+(MAX($I$1884:$I$1894)-I1884)/(MAX($I$1884:$I$1894)-1)*10000*0.3,0)","v":10000},{"$f":"ROUND(K1884*L1884,0)","v":9200},"x",null,"LS-8 15m",18,""]
["Lukas Kriz",2003,"M","Křižanov","CZ/M","JPJ 2025 - Kombi 15m",{"$f":"VLOOKUP(F1885,Soutez!A:B,2,FALSE)","v":"CZ"},{"$f":"VLOOKUP(F1885,Soutez!A:C,3,FALSE)","v":2025},2,4006,0.92,8430,{"$f":"ROUND(K1885*L1885,0)","v":7756},null,null,"LS-8-18 15m","W8","Junior v roce 2026"]
["Martin Kriz",1968,"M","Přibyslav","CZ/C2","JPJ 2025 - Kombi 15m",{"$f":"VLOOKUP(F1886,Soutez!A:B,2,FALSE)","v":"CZ"},{"$f":"VLOOKUP(F1886,Soutez!A:C,3,FALSE)","v":2025},3,3374,0.92,7226,6648,"x",null,"ASW-20 (A)+F 15m WL",67,""]
["Pavel Rericha",1967,"M","Moravská Třebová","CZ/M","JPJ 2025 - Kombi 15m",{"$f":"VLOOKUP(F1887,Soutez!A:B,2,FALSE)","v":"CZ"},{"$f":"VLOOKUP(F1887,Soutez!A:C,3,FALSE)","v":2025},4,3157,0.92,6616,6087,null,null,"Ventus c 15m WL","EG",""]
["Michal Cechmanek",1978,"M","Kroměříž","CZ/M","JPJ 2025 - Kombi 15m",{"$f":"VLOOKUP(F1888,Soutez!A:B,2,FALSE)","v":"CZ"},{"$f":"VLOOKUP(F1888,Soutez!A:C,3,FALSE)","v":2025},5,3129,0.92,6275,5773,null,null,"ASW-20 (A)+F 15m WL","MK",""]
["Milan Minarik",1900,"M","Hranice","CZ/M","JPJ 2025 - Kombi 15m",{"$f":"VLOOKUP(F1889,Soutez!A:B,2,FALSE)","v":"CZ"},{"$f":"VLOOKUP(F1889,Soutez!A:C,3,FALSE)","v":2025},6,2682,0.92,5336,4909,"x",null,"Duo Discus 700kg","OK",""]
["Jan Mareth",1979,"M","Frýdlant","CZ/M","JPJ 2025 - Kombi 15m",{"$f":"VLOOKUP(F1890,Soutez!A:B,2,FALSE)","v":"CZ"},{"$f":"VLOOKUP(F1890,Soutez!A:C,3,FALSE)","v":2025},7,2675,0.92,5026,4624,"x",null,"ASW-20 (A)+F 15m WL","NS",""]
["Jaroslav Buryan",1953,"M","Zábřeh","CZ/M","JPJ 2025 - Kombi 15m",{"$f":"VLOOKUP(F1891,Soutez!A:B,2,FALSE)","v":"CZ"},{"$f":"VLOOKUP(F1891,Soutez!A:C,3,FALSE)","v":2025},8,2479,0.92,4446,4090,null,null,"Discus bm WL","OL",""]
["Ladislav Jozsa",1981,"M","Medlánky","CZ/M","JPJ 2025 - Kombi 15m",{"$f":"VLOOKUP(F1892,Soutez!A:B,2,FALSE)","v":"CZ"},{"$f":"VLOOKUP(F1892,Soutez!A:C,3,FALSE)","v":2025},9,2239,0.92,3802,{"$f":"ROUND(K1892*L1892,0)","v":3498},"x",null,"Ventus c 15m WL","LJ",""]
["Petr Kolomaznik",1981,"M","Šumperk","CZ/M","JPJ 2025 - Kombi 15m",{"$f":"VLOOKUP(F1893,Soutez!A:B,2,FALSE)","v":"CZ"},{"$f":"VLOOKUP(F1893,Soutez!A:C,3,FALSE)","v":2025},10,1937,0.92,3071,2825,"x",null,"Discus CS WL","VE",""]
["Beat Albrecht",1953,"M","Šumperk","CZ/M","JPJ 2025 - Kombi 15m",{"$f":"VLOOKUP(F1894,Soutez!A:B,2,FALSE)","v":"CZ"},{"$f":"VLOOKUP(F1894,Soutez!A:C,3,FALSE)","v":2025},11,612,0.92,875,805,"x",null,"LS-8-18 15m","GL",""]
["Radek Hybl",{"$f":"VLOOKUP(A1895,Pilot,2,0)","v":1980},{"$f":"VLOOKUP(A1895,Pilot,5,0)","v":"M"},{"$f":"VLOOKUP(A1895,Pilot,3,0)","v":"Šumperk"},{"$f":"VLOOKUP(A1895,Pilot,4,0)","v":"CZ/M"},"JPJ 2025 - Kombi Open",{"$f":"VLOOKUP(F1895,Soutez!A:B,2,FALSE)","v":"CZ"},{"$f":"VLOOKUP(F1895,Soutez!A:C,3,FALSE)","v":2025},1,4709,0.91,{"$f":"ROUND(J1895/MAX($J$1895:$J$1912)*10000*0.7+(MAX($I$1895:$I$1912)-I1895)/(MAX($I$1895:$I$1912)-1)*10000*0.3,0)","v":10000},{"$f":"ROUND(K1895*L1895,0)","v":9100},"x",null,"Ventus cm 17,6m","IHH",""]
["Marek Blatak",1969,"M","Šumperk","CZ/M","JPJ 2025 - Kombi Open",{"$f":"VLOOKUP(F1896,Soutez!A:B,2,FALSE)","v":"CZ"},{"$f":"VLOOKUP(F1896,Soutez!A:C,3,FALSE)","v":2025},2,4606,0.91,9670,{"$f":"ROUND(K1896*L1896,0)","v":8800},"x",null,"DG-808 S Comp 18m WL","W",""]
["Frantisek Vancura",1966,"M","Hranice","CZ/M","JPJ 2025 - Kombi Open",{"$f":"VLOOKUP(F1897,Soutez!A:B,2,FALSE)","v":"CZ"},{"$f":"VLOOKUP(F1897,Soutez!A:C,3,FALSE)","v":2025},3,4537,0.91,9391,8546,"x",null,"Nimbus 3 24,5m WL 750kg","A1",""]
["Jiri Steiger",1969,"M","Olomouc","CZ/M","JPJ 2025 - Kombi Open",{"$f":"VLOOKUP(F1898,Soutez!A:B,2,FALSE)","v":"CZ"},{"$f":"VLOOKUP(F1898,Soutez!A:C,3,FALSE)","v":2025},4,4301,0.91,8864,8066,"x",null,"Ventus 3M 18m","JS",""]
["Miroslav Koci",1961,"M","Žamberk","CZ/C2","JPJ 2025 - Kombi Open",{"$f":"VLOOKUP(F1899,Soutez!A:B,2,FALSE)","v":"CZ"},{"$f":"VLOOKUP(F1899,Soutez!A:C,3,FALSE)","v":2025},5,4121,0.91,8420,7662,"x",null,"Ventus 2cxm 18m 565kg","E8",""]
["Jan Simon",1970,"M","Kralupy","CZ/C1","JPJ 2025 - Kombi Open",{"$f":"VLOOKUP(F1900,Soutez!A:B,2,FALSE)","v":"CZ"},{"$f":"VLOOKUP(F1900,Soutez!A:C,3,FALSE)","v":2025},6,4020,0.91,8093,7365,null,null,"Ventus ct 17,6m","KR",{"$f":"IF(ISERROR(VLOOKUP(A1900,Pilot,6,0)),\"Není v databázi\",VLOOKUP(A1900,Pilot,6,0))","v":""}]
["Jan Dersak 69",1969,"M","Kralupy","CZ/C1","JPJ 2025 - Kombi Open",{"$f":"VLOOKUP(F1901,Soutez!A:B,2,FALSE)","v":"CZ"},{"$f":"VLOOKUP(F1901,Soutez!A:C,3,FALSE)","v":2025},7,3920,0.91,7768,7069,null,null,"HpH 304MS Shark 18m 600kg","DJ",""]
["Jiri Koudela",1974,"M","Vyškov","CZ/M","JPJ 2025 - Kombi Open",{"$f":"VLOOKUP(F1902,Soutez!A:B,2,FALSE)","v":"CZ"},{"$f":"VLOOKUP(F1902,Soutez!A:C,3,FALSE)","v":2025},8,3813,0.91,7433,6764,"x",null,"Ventus cm 17,6m","JK",""]
["Miroslav Sklenar",1964,"M","Žamberk","CZ/C2","JPJ 2025 - Kombi Open",{"$f":"VLOOKUP(F1903,Soutez!A:B,2,FALSE)","v":"CZ"},{"$f":"VLOOKUP(F1903,Soutez!A:C,3,FALSE)","v":2025},9,3613,0.91,6959,6333,"x",null,"Duo Discus 700kg","VP",""]
["Jan Kohout",1970,"M","Žamberk","CZ/C2","JPJ 2025 - Kombi Open",{"$f":"VLOOKUP(F1904,Soutez!A:B,2,FALSE)","v":"CZ"},{"$f":"VLOOKUP(F1904,Soutez!A:C,3,FALSE)","v":2025},10,3576,0.91,6728,6122,"x",null,"JS1-CTJ 18m EVO","SK",""]
["Tomas Prikryl",1973,"M","Vyškov","CZ/M","JPJ 2025 - Kombi Open",{"$f":"VLOOKUP(F1905,Soutez!A:B,2,FALSE)","v":"CZ"},{"$f":"VLOOKUP(F1905,Soutez!A:C,3,FALSE)","v":2025},11,3470,0.91,6394,5819,"x",null,"Ventus 2cm 18m 525kg","FN",""]
["Zdenek Schenk",1972,"M","Hranice","CZ/M","JPJ 2025 - Kombi Open",{"$f":"VLOOKUP(F1906,Soutez!A:B,2,FALSE)","v":"CZ"},{"$f":"VLOOKUP(F1906,Soutez!A:C,3,FALSE)","v":2025},12,3126,0.91,5706,{"$f":"ROUND(K1906*L1906,0)","v":5192},null,null,"ASG-29E 18m","ŠNeK",""]
["Pavel Haluza",1966,"M","Prostějov","CZ/M","JPJ 2025 - Kombi Open",{"$f":"VLOOKUP(F1907,Soutez!A:B,2,FALSE)","v":"CZ"},{"$f":"VLOOKUP(F1907,Soutez!A:C,3,FALSE)","v":2025},13,2618,0.91,4774,4344,"x",null,"Nimbus 2b","HT",""]
["Petr Babak",1973,"M","Hořice","CZ/C2","JPJ 2025 - Kombi Open",{"$f":"VLOOKUP(F1908,Soutez!A:B,2,FALSE)","v":"CZ"},{"$f":"VLOOKUP(F1908,Soutez!A:C,3,FALSE)","v":2025},14,2483,0.91,4397,4001,null,null,"Ventus 2cm 18m 525kg","LS",""]
["Roman Cerny",1971,"M","Hranice","CZ/M","JPJ 2025 - Kombi Open",{"$f":"VLOOKUP(F1909,Soutez!A:B,2,FALSE)","v":"CZ"},{"$f":"VLOOKUP(F1909,Soutez!A:C,3,FALSE)","v":2025},15,2190,0.91,3785,3444,"x",null,"Nimbus 3 25,5m 700kg","RF",""]
["Lukas Petrzela",1987,"M","Olomouc","CZ/M","JPJ 2025 - Kombi Open",{"$f":"VLOOKUP(F1910,Soutez!A:B,2,FALSE)","v":"CZ"},{"$f":"VLOOKUP(F1910,Soutez!A:C,3,FALSE)","v":2025},16,1952,0.91,3255,2962,"x",null,"Nimbus 2b","MT",""]
["Antonin Kutalek",1943,"M","Zábřeh","CZ/M","JPJ 2025 - Kombi Open",{"$f":"VLOOKUP(F1911,Soutez!A:B,2,FALSE)","v":"CZ"},{"$f":"VLOOKUP(F1911,Soutez!A:C,3,FALSE)","v":2025},17,1542,0.91,2469,2247,null,null,"LAK-17AT 18m","GL",""]
["Tomas Profeld",1964,"M","Jičín","CZ/C2","JPJ 2025 - Kombi Open",{"$f":"VLOOKUP(F1912,Soutez!A:B,2,FALSE)","v":"CZ"},{"$f":"VLOOKUP(F1912,Soutez!A:C,3,FALSE)","v":2025},18,1010,0.91,1501,1366,"x",null,"Ventus 2cm 18m 525kg","OZ",""]
["Tomas Suchanek",{"$f":"VLOOKUP(A1913,Pilot,2,0)","v":1964},{"$f":"VLOOKUP(A1913,Pilot,5,0)","v":"M"},{"$f":"VLOOKUP(A1913,Pilot,3,0)","v":"GAC Benešov"},{"$f":"VLOOKUP(A1913,Pilot,4,0)","v":"CZ/C1"},"PMČR 2025 - Klub",{"$f":"VLOOKUP(F1913,Soutez!A:B,2,FALSE)","v":"CZ"},{"$f":"VLOOKUP(F1913,Soutez!A:C,3,FALSE)","v":2025},1,4640,1.0349999999999999,{"$f":"ROUND(J1913/MAX($J$1913:$J$1935)*10000*0.7+(MAX($I$1913:$I$1935)-I1913)/(MAX($I$1913:$I$1935)-1)*10000*0.3,0)","v":10000},{"$f":"ROUND(K1913*L1913,0)","v":10350},"x",null,"ASW 20A","CX",""]
["Michal Lesinger",1966,"M","Moravská Třebová","CZ/M","PMČR 2025 - Klub",{"$f":"VLOOKUP(F1914,Soutez!A:B,2,FALSE)","v":"CZ"},{"$f":"VLOOKUP(F1914,Soutez!A:C,3,FALSE)","v":2025},2,4518,1.0349999999999999,9680,{"$f":"ROUND(K1914*L1914,0)","v":10019},"x",null,"ASW 20L","LL",""]
["David Darnady",null,"M","SGC Martin","SK","PMČR 2025 - Klub",{"$f":"VLOOKUP(F1915,Soutez!A:B,2,FALSE)","v":"CZ"},{"$f":"VLOOKUP(F1915,Soutez!A:C,3,FALSE)","v":2025},3,4427,1.0349999999999999,9406,9735,null,null,"ASW 20",311,"Není v databázi"]
["Michaela Krizova",{"$f":"VLOOKUP(A1916,Pilot,2,0)","v":2001},{"$f":"VLOOKUP(A1916,Pilot,5,0)","v":"F"},{"$f":"VLOOKUP(A1916,Pilot,3,0)","v":"Přibyslav"},{"$f":"VLOOKUP(A1916,Pilot,4,0)","v":"CZ/C2"},"PMČR 2025 - Klub",{"$f":"VLOOKUP(F1916,Soutez!A:B,2,FALSE)","v":"CZ"},{"$f":"VLOOKUP(F1916,Soutez!A:C,3,FALSE)","v":2025},4,4375,{"$f":"VLOOKUP(F1916,Soutez,12,0)","v":1.0349999999999999},9191,9513,"x","x","LS 4","6L","Junior v roce 2026"]
["Tereza Koubkova",1999,"F","Strakonice","CZ/C1","PMČR 2025 - Klub",{"$f":"VLOOKUP(F1917,Soutez!A:B,2,FALSE)","v":"CZ"},{"$f":"VLOOKUP(F1917,Soutez!A:C,3,FALSE)","v":2025},5,4370,1.0349999999999999,9047,9364,"x","x","LS 4b","IX",""]
["Jaroslav Tomana",1975,"M","Zbraslavice","CZ/C1","PMČR 2025 - Klub",{"$f":"VLOOKUP(F1918,Soutez!A:B,2,FALSE)","v":"CZ"},{"$f":"VLOOKUP(F1918,Soutez!A:C,3,FALSE)","v":2025},6,4278,1.0349999999999999,8772,9079,null,null,"Pegase BC","RT",""]
["Viktor Becan",null,null,"ALC Lesce","SLO","PMČR 2025 - Klub",{"$f":"VLOOKUP(F1919,Soutez!A:B,2,FALSE)","v":"CZ"},{"$f":"VLOOKUP(F1919,Soutez!A:C,3,FALSE)","v":2025},7,4252,1.0349999999999999,8596,8897,null,null,"ASW 20A","CP","Není v databázi"]
["Jindrich Svorc",{"$f":"VLOOKUP(A1920,Pilot,2,0)","v":1978},{"$f":"VLOOKUP(A1920,Pilot,5,0)","v":"M"},{"$f":"VLOOKUP(A1920,Pilot,3,0)","v":"Letňany"},{"$f":"VLOOKUP(A1920,Pilot,4,0)","v":"CZ/C1"},"PMČR 2025 - Klub",{"$f":"VLOOKUP(F1920,Soutez!A:B,2,FALSE)","v":"CZ"},{"$f":"VLOOKUP(F1920,Soutez!A:C,3,FALSE)","v":2025},8,4158,1.0349999999999999,8318,8609,null,null,"Discus bT","OI",""]
["Edmund Schuller",null,null,"SGC Martin",null,"PMČR 2025 - Klub",{"$f":"VLOOKUP(F1921,Soutez!A:B,2,FALSE)","v":"CZ"},{"$f":"VLOOKUP(F1921,Soutez!A:C,3,FALSE)","v":2025},9,4070,1.0349999999999999,8049,8331,null,null,"ASW 24 wl","ZS","Není v databázi"]
["Petr Hofman",{"$f":"VLOOKUP(A1922,Pilot,2,0)","v":1984},{"$f":"VLOOKUP(A1922,Pilot,5,0)","v":"M"},{"$f":"VLOOKUP(A1922,Pilot,3,0)","v":"Letňany"},{"$f":"VLOOKUP(A1922,Pilot,4,0)","v":"CZ/C1"},"PMČR 2025 - Klub",{"$f":"VLOOKUP(F1922,Soutez!A:B,2,FALSE)","v":"CZ"},{"$f":"VLOOKUP(F1922,Soutez!A:C,3,FALSE)","v":2025},10,4064,1.0349999999999999,7904,8181,"x",null,"ASW 15B","MA",""]
["Milan Svoboda 80",1980,"M","Havlíčkův Brod","CZ/C2","PMČR 2025 - Klub",{"$f":"VLOOKUP(F1923,Soutez!A:B,2,FALSE)","v":"CZ"},{"$f":"VLOOKUP(F1923,Soutez!A:C,3,FALSE)","v":2025},11,3847,1.0349999999999999,7440,7700,"x",null,"Std. Cirrus","MSI",""]
["David Mach",1994,"M","Hronov","CZ/C2","PMČR 2025 - Klub",{"$f":"VLOOKUP(F1924,Soutez!A:B,2,FALSE)","v":"CZ"},{"$f":"VLOOKUP(F1924,Soutez!A:C,3,FALSE)","v":2025},12,3624,1.0349999999999999,6967,7211,null,null,"ASW 20C","VW",""]
["Ivan Harasta 65",1965,"M","Toužim","CZ/C1","PMČR 2025 - Klub",{"$f":"VLOOKUP(F1925,Soutez!A:B,2,FALSE)","v":"CZ"},{"$f":"VLOOKUP(F1925,Soutez!A:C,3,FALSE)","v":2025},13,3477,1.0349999999999999,6609,6840,null,null,"ASW 20A","A3",""]
["Petr Stepanek",1989,"M","Moravská Třebová","CZ/M","PMČR 2025 - Klub",{"$f":"VLOOKUP(F1926,Soutez!A:B,2,FALSE)","v":"CZ"},{"$f":"VLOOKUP(F1926,Soutez!A:C,3,FALSE)","v":2025},14,3290,1.0349999999999999,6191,6408,"x",null,"ASW 19B","AE",""]
["Jiri Hula",1973,"M","Slaný","CZ/C1","PMČR 2025 - Klub",{"$f":"VLOOKUP(F1927,Soutez!A:B,2,FALSE)","v":"CZ"},{"$f":"VLOOKUP(F1927,Soutez!A:C,3,FALSE)","v":2025},15,3170,1.0349999999999999,5873,{"$f":"ROUND(K1927*L1927,0)","v":6079},"x",null,"ASW 24 TOP WL 0,5",11,""]
["Pavlina Horackova",1965,"F","Šumperk","CZ/M","PMČR 2025 - Klub",{"$f":"VLOOKUP(F1928,Soutez!A:B,2,FALSE)","v":"CZ"},{"$f":"VLOOKUP(F1928,Soutez!A:C,3,FALSE)","v":2025},16,3117,1.0349999999999999,5657,5855,"x","x","SZD 48 Jantar","SU",""]
["Jan Smaha",1958,"M","Česká Lípa","CZ/C2","PMČR 2025 - Klub",{"$f":"VLOOKUP(F1929,Soutez!A:B,2,FALSE)","v":"CZ"},{"$f":"VLOOKUP(F1929,Soutez!A:C,3,FALSE)","v":2025},17,3093,1.0349999999999999,5484,5676,null,null,"ASW 15B","CW",""]
["Jiri Stepanek",1956,"M","Moravská Třebová","CZ/M","PMČR 2025 - Klub",{"$f":"VLOOKUP(F1930,Soutez!A:B,2,FALSE)","v":"CZ"},{"$f":"VLOOKUP(F1930,Soutez!A:C,3,FALSE)","v":2025},18,2984,1.0349999999999999,5184,5365,"x",null,"ASW 15B","LE",""]
["Tibor Fratrik",null,null,"SGC Martin",null,"PMČR 2025 - Klub",{"$f":"VLOOKUP(F1931,Soutez!A:B,2,FALSE)","v":"CZ"},{"$f":"VLOOKUP(F1931,Soutez!A:C,3,FALSE)","v":2025},19,2875,1.0349999999999999,4883,5054,null,null,"ASW 20CJ","VG","Není v databázi"]
["Katerina Vojtova",{"$f":"VLOOKUP(A1932,Pilot,2,0)","v":1983},{"$f":"VLOOKUP(A1932,Pilot,5,0)","v":"F"},{"$f":"VLOOKUP(A1932,Pilot,3,0)","v":"Slaný"},{"$f":"VLOOKUP(A1932,Pilot,4,0)","v":"CZ/C1"},"PMČR 2025 - Klub",{"$f":"VLOOKUP(F1932,Soutez!A:B,2,FALSE)","v":"CZ"},{"$f":"VLOOKUP(F1932,Soutez!A:C,3,FALSE)","v":2025},20,2695,1.0349999999999999,4475,4632,null,null,"ASW 20A","NW",""]
["Martin Kriz",1968,"M","Přibyslav","CZ/C2","PMČR 2025 - Klub",{"$f":"VLOOKUP(F1933,Soutez!A:B,2,FALSE)","v":"CZ"},{"$f":"VLOOKUP(F1933,Soutez!A:C,3,FALSE)","v":2025},21,2657,1.0349999999999999,4281,4431,null,null,"ASW 20A",67,""]
["Vladislav Panek",1965,"M","Letňany","CZ/C1","PMČR 2025 - Klub",{"$f":"VLOOKUP(F1934,Soutez!A:B,2,FALSE)","v":"CZ"},{"$f":"VLOOKUP(F1934,Soutez!A:C,3,FALSE)","v":2025},22,1270,1.0349999999999999,2052,2124,"x",null,"Discus CS","LH",""]
["Martin Marincak",null,null,"Aeroklub Prešov",null,"PMČR 2025 - Klub",{"$f":"VLOOKUP(F1935,Soutez!A:B,2,FALSE)","v":"CZ"},{"$f":"VLOOKUP(F1935,Soutez!A:C,3,FALSE)","v":2025},23,855,1.0349999999999999,1290,1335,null,null,"LS 1f","HI","Není v databázi"]
["Pavel Louzecky",{"$f":"VLOOKUP(A1936,Pilot,2,0)","v":1957},{"$f":"VLOOKUP(A1936,Pilot,5,0)","v":"M"},{"$f":"VLOOKUP(A1936,Pilot,3,0)","v":"Přibyslav"},{"$f":"VLOOKUP(A1936,Pilot,4,0)","v":"CZ/C2"},"PMČR 2025 - Kombi 15m",{"$f":"VLOOKUP(F1936,Soutez!A:B,2,FALSE)","v":"CZ"},{"$f":"VLOOKUP(F1936,Soutez!A:C,3,FALSE)","v":2025},1,4582,1.0549999999999999,{"$f":"ROUND(J1936/MAX($J$1936:$J$1954)*10000*0.7+(MAX($I$1936:$I$1954)-I1936)/(MAX($I$1936:$I$1954)-1)*10000*0.3,0)","v":10000},{"$f":"ROUND(K1936*L1936,0)","v":10550},"x",null,"LS 8","W8",""]
["Miloslav Cink",1987,"M","Letkov","CZ/C1","PMČR 2025 - Kombi 15m",{"$f":"VLOOKUP(F1937,Soutez!A:B,2,FALSE)","v":"CZ"},{"$f":"VLOOKUP(F1937,Soutez!A:C,3,FALSE)","v":2025},2,4447,1.0549999999999999,9627,{"$f":"ROUND(K1937*L1937,0)","v":10156},"x",null,"LS 8 15m","JB",""]
["Jan Pavlik",1987,"M","Křižanov","CZ/M","PMČR 2025 - Kombi 15m",{"$f":"VLOOKUP(F1938,Soutez!A:B,2,FALSE)","v":"CZ"},{"$f":"VLOOKUP(F1938,Soutez!A:C,3,FALSE)","v":2025},3,4431,1.0549999999999999,9436,9955,null,null,"LS 8b","FX",""]
["Ivan Novak",1962,"M","Mladá Boleslav","CZ/C1","PMČR 2025 - Kombi 15m",{"$f":"VLOOKUP(F1939,Soutez!A:B,2,FALSE)","v":"CZ"},{"$f":"VLOOKUP(F1939,Soutez!A:C,3,FALSE)","v":2025},4,4367,1.0549999999999999,9172,9676,"x",null,"LS 8b","ID",""]
["Vladimir Foltin",null,null,"Aeroklub Nitra",null,"PMČR 2025 - Kombi 15m",{"$f":"VLOOKUP(F1940,Soutez!A:B,2,FALSE)","v":"CZ"},{"$f":"VLOOKUP(F1940,Soutez!A:C,3,FALSE)","v":2025},5,4323,1.0549999999999999,8938,9430,null,null,"JS3 15m",3,"Není v databázi"]
["Tomas Hynek",{"$f":"VLOOKUP(A1941,Pilot,2,0)","v":2002},{"$f":"VLOOKUP(A1941,Pilot,5,0)","v":"M"},{"$f":"VLOOKUP(A1941,Pilot,3,0)","v":"Dvůr Králové"},{"$f":"VLOOKUP(A1941,Pilot,4,0)","v":"CZ/C2"},"PMČR 2025 - Kombi 15m",{"$f":"VLOOKUP(F1941,Soutez!A:B,2,FALSE)","v":"CZ"},{"$f":"VLOOKUP(F1941,Soutez!A:C,3,FALSE)","v":2025},6,4207,1.0549999999999999,8594,9067,"x",null,"LS 8","AU","Junior v roce 2026"]
["Pavel Trybenekr",1990,"M","Hořice","CZ/C2","PMČR 2025 - Kombi 15m",{"$f":"VLOOKUP(F1942,Soutez!A:B,2,FALSE)","v":"CZ"},{"$f":"VLOOKUP(F1942,Soutez!A:C,3,FALSE)","v":2025},7,4124,1.0549999999999999,8300,8757,null,null,"JS3 TJ 15m","ZE",""]
["Jan Kantor",1983,"M","Letňany","CZ/C1","PMČR 2025 - Kombi 15m",{"$f":"VLOOKUP(F1943,Soutez!A:B,2,FALSE)","v":"CZ"},{"$f":"VLOOKUP(F1943,Soutez!A:C,3,FALSE)","v":2025},8,4065,1.0549999999999999,8044,8486,"x",null,"Duo Discus","XH",""]
["Petr Koutny",1971,"M","Křižanov","CZ/M","PMČR 2025 - Kombi 15m",{"$f":"VLOOKUP(F1944,Soutez!A:B,2,FALSE)","v":"CZ"},{"$f":"VLOOKUP(F1944,Soutez!A:C,3,FALSE)","v":2025},9,3803,1.0549999999999999,7477,7888,null,null,"LS 8-18",18,""]
["Karel Novak",1993,"M","Mladá Boleslav","CZ/C1","PMČR 2025 - Kombi 15m",{"$f":"VLOOKUP(F1945,Soutez!A:B,2,FALSE)","v":"CZ"},{"$f":"VLOOKUP(F1945,Soutez!A:C,3,FALSE)","v":2025},10,3695,1.0549999999999999,7145,7538,null,null,"Ventus 2ax","AX",""]
["Josef Busek",1967,"M","Hosín","CZ/C1","PMČR 2025 - Kombi 15m",{"$f":"VLOOKUP(F1946,Soutez!A:B,2,FALSE)","v":"CZ"},{"$f":"VLOOKUP(F1946,Soutez!A:C,3,FALSE)","v":2025},11,3600,1.0549999999999999,6833,{"$f":"ROUND(K1946*L1946,0)","v":7209},null,null,"Duo Discus X-700","BB",""]
["Jana Treslova",1963,"F","Raná","CZ/C2","PMČR 2025 - Kombi 15m",{"$f":"VLOOKUP(F1947,Soutez!A:B,2,FALSE)","v":"CZ"},{"$f":"VLOOKUP(F1947,Soutez!A:C,3,FALSE)","v":2025},12,3537,1.0549999999999999,6570,6931,"x",null,"LS 8b","C6",""]
["Martin Sabla",null,null,"Aeroklub Sp. Nova Ves",null,"PMČR 2025 - Kombi 15m",{"$f":"VLOOKUP(F1948,Soutez!A:B,2,FALSE)","v":"CZ"},{"$f":"VLOOKUP(F1948,Soutez!A:C,3,FALSE)","v":2025},13,3079,1.0549999999999999,5704,6018,null,null,"Ventus 2bx","VI","Není v databázi"]
["Dominik Jancik",null,null,"Nitra",null,"PMČR 2025 - Kombi 15m",{"$f":"VLOOKUP(F1949,Soutez!A:B,2,FALSE)","v":"CZ"},{"$f":"VLOOKUP(F1949,Soutez!A:C,3,FALSE)","v":2025},14,2995,1.0549999999999999,5409,5706,null,null,"LS 8TC","TC","Není v databázi"]
["Karel Mares",{"$f":"VLOOKUP(A1950,Pilot,2,0)","v":1974},{"$f":"VLOOKUP(A1950,Pilot,5,0)","v":"M"},{"$f":"VLOOKUP(A1950,Pilot,3,0)","v":"Slaný"},{"$f":"VLOOKUP(A1950,Pilot,4,0)","v":"CZ/C1"},"PMČR 2025 - Kombi 15m",{"$f":"VLOOKUP(F1950,Soutez!A:B,2,FALSE)","v":"CZ"},{"$f":"VLOOKUP(F1950,Soutez!A:C,3,FALSE)","v":2025},15,2919,1.0549999999999999,5126,5408,"x",null,"Duo Discus XT","DD",""]
["Peter Skrabalek",null,null,"Bratislava",null,"PMČR 2025 - Kombi 15m",{"$f":"VLOOKUP(F1951,Soutez!A:B,2,FALSE)","v":"CZ"},{"$f":"VLOOKUP(F1951,Soutez!A:C,3,FALSE)","v":2025},16,2461,1.0549999999999999,4260,4494,null,null,"Duo Discus","2X","Není v databázi"]
["Juraj Dudas",null,"M","Aeroklub Dubnica nad Váhom",null,"PMČR 2025 - Kombi 15m",{"$f":"VLOOKUP(F1952,Soutez!A:B,2,FALSE)","v":"CZ"},{"$f":"VLOOKUP(F1952,Soutez!A:C,3,FALSE)","v":2025},17,1994,1.0549999999999999,3380,3566,null,null,"Ventus Ct 15m WL","JQ","Není v databázi"]
["Barbora Moravcova",{"$f":"VLOOKUP(A1953,Pilot,2,0)","v":1994},{"$f":"VLOOKUP(A1953,Pilot,5,0)","v":"F"},{"$f":"VLOOKUP(A1953,Pilot,3,0)","v":"Zbraslavice"},{"$f":"VLOOKUP(A1953,Pilot,4,0)","v":"CZ/C1"},"PMČR 2025 - Kombi 15m",{"$f":"VLOOKUP(F1953,Soutez!A:B,2,FALSE)","v":"CZ"},{"$f":"VLOOKUP(F1953,Soutez!A:C,3,FALSE)","v":2025},18,1987,1.0549999999999999,3202,3378,null,null,"LS 8a","EU",""]
["Jan Viskot",1995,"M","Břeclav","CZ/M","PMČR 2025 - Kombi 15m",{"$f":"VLOOKUP(F1954,Soutez!A:B,2,FALSE)","v":"CZ"},{"$f":"VLOOKUP(F1954,Soutez!A:C,3,FALSE)","v":2025},19,1640,1.0549999999999999,2505,2643,null,null,"Discus 2a","GX",""]
["Petr Tichy",{"$f":"VLOOKUP(A1955,Pilot,2,0)","v":1973},{"$f":"VLOOKUP(A1955,Pilot,5,0)","v":"M"},{"$f":"VLOOKUP(A1955,Pilot,3,0)","v":"Zbraslavice"},{"$f":"VLOOKUP(A1955,Pilot,4,0)","v":"CZ/C1"},"PMČR 2025 - Kombi Open",{"$f":"VLOOKUP(F1955,Soutez!A:B,2,FALSE)","v":"CZ"},{"$f":"VLOOKUP(F1955,Soutez!A:C,3,FALSE)","v":2025},1,4134,1.0549999999999999,{"$f":"ROUND(J1955/MAX($J$1955:$J$1981)*10000*0.7+(MAX($I$1955:$I$1981)-I1955)/(MAX($I$1955:$I$1981)-1)*10000*0.3,0)","v":10000},{"$f":"ROUND(K1955*L1955,0)","v":10550},"x",null,"AS 33 es 18m","EA",""]
["Radek Krejcirik",1991,"M","Hranice","CZ/M","PMČR 2025 - Kombi Open",{"$f":"VLOOKUP(F1956,Soutez!A:B,2,FALSE)","v":"CZ"},{"$f":"VLOOKUP(F1956,Soutez!A:C,3,FALSE)","v":2025},2,4012,1.0549999999999999,9678,{"$f":"ROUND(K1956*L1956,0)","v":10210},"x",null,"JS3 RES 18m","Q1",""]
["Tomas Rendla",1973,"M","Zbraslavice","CZ/C1","PMČR 2025 - Kombi Open",{"$f":"VLOOKUP(F1957,Soutez!A:B,2,FALSE)","v":"CZ"},{"$f":"VLOOKUP(F1957,Soutez!A:C,3,FALSE)","v":2025},3,3796,1.0549999999999999,9197,9703,"x",null,"AS 33 es 18m","EZ",""]
["Martin Hrivna",1978,"M","Zbraslavice","CZ/C1","PMČR 2025 - Kombi Open",{"$f":"VLOOKUP(F1958,Soutez!A:B,2,FALSE)","v":"CZ"},{"$f":"VLOOKUP(F1958,Soutez!A:C,3,FALSE)","v":2025},4,3714,1.0549999999999999,8943,9435,"x",null,"ASG 29 E 18m","XZ",""]
["Petr Krejcirik",1960,"M","Hranice","CZ/M","PMČR 2025 - Kombi Open",{"$f":"VLOOKUP(F1959,Soutez!A:B,2,FALSE)","v":"CZ"},{"$f":"VLOOKUP(F1959,Soutez!A:C,3,FALSE)","v":2025},5,3636,1.0549999999999999,8695,9173,"x",null,"ASG 29 E 18m","QZ",""]
["Jiri Kusbach",1959,"M","Luhačovice","CZ/M","PMČR 2025 - Kombi Open",{"$f":"VLOOKUP(F1960,Soutez!A:B,2,FALSE)","v":"CZ"},{"$f":"VLOOKUP(F1960,Soutez!A:C,3,FALSE)","v":2025},6,3623,1.0549999999999999,8558,9029,"x",null,"Diana 3 FES","B",""]
["Ondrej Dupal",1966,"M","GAC Benešov","CZ/C1","PMČR 2025 - Kombi Open",{"$f":"VLOOKUP(F1961,Soutez!A:B,2,FALSE)","v":"CZ"},{"$f":"VLOOKUP(F1961,Soutez!A:C,3,FALSE)","v":2025},7,3527,1.0549999999999999,8280,8735,null,null,"ASG 29 18m","GO",{"$f":"IF(ISERROR(VLOOKUP(A1961,Pilot,6,0)),\"Není v databázi\",VLOOKUP(A1961,Pilot,6,0))","v":""}]
["Radek Kucirek",1973,"M","Havlíčkův Brod","CZ/C2","PMČR 2025 - Kombi Open",{"$f":"VLOOKUP(F1962,Soutez!A:B,2,FALSE)","v":"CZ"},{"$f":"VLOOKUP(F1962,Soutez!A:C,3,FALSE)","v":2025},8,3520,1.0549999999999999,8153,8601,"x",null,"JS1C TJ 21m","ZF",""]
["Ondrej Bordovsky",1983,"M","Krnov","CZ/M","PMČR 2025 - Kombi Open",{"$f":"VLOOKUP(F1963,Soutez!A:B,2,FALSE)","v":"CZ"},{"$f":"VLOOKUP(F1963,Soutez!A:C,3,FALSE)","v":2025},9,3508,1.0549999999999999,8017,8458,null,null,"Ventus C 17.6m","AD",""]
["Jan Kotan",1982,"M","Letňany","CZ/C1","PMČR 2025 - Kombi Open",{"$f":"VLOOKUP(F1964,Soutez!A:B,2,FALSE)","v":"CZ"},{"$f":"VLOOKUP(F1964,Soutez!A:C,3,FALSE)","v":2025},10,3451,1.0549999999999999,7805,8234,null,null,"AS 33 18m","CAT",""]
["Jan Boruvka",1984,"M","Jičín","CZ/C2","PMČR 2025 - Kombi Open",{"$f":"VLOOKUP(F1965,Soutez!A:B,2,FALSE)","v":"CZ"},{"$f":"VLOOKUP(F1965,Soutez!A:C,3,FALSE)","v":2025},11,3445,1.0549999999999999,7679,8101,null,null,"ASG 29 E 18m","QX",""]
["Hana Treslova",1991,"F","Raná","CZ/C2","PMČR 2025 - Kombi Open",{"$f":"VLOOKUP(F1966,Soutez!A:B,2,FALSE)","v":"CZ"},{"$f":"VLOOKUP(F1966,Soutez!A:C,3,FALSE)","v":2025},12,3417,1.0549999999999999,7517,7930,null,null,"JS3 TJ 18m","XM",""]
["Jan Kovalcik",null,null,"Aeroklub Bratislava",null,"PMČR 2025 - Kombi Open",{"$f":"VLOOKUP(F1967,Soutez!A:B,2,FALSE)","v":"CZ"},{"$f":"VLOOKUP(F1967,Soutez!A:C,3,FALSE)","v":2025},13,3216,1.0549999999999999,7061,7449,null,null,"Arcus M","2P","Není v databázi"]
["Lubomir Jakubcak",null,null,"SGC Martin",null,"PMČR 2025 - Kombi Open",{"$f":"VLOOKUP(F1968,Soutez!A:B,2,FALSE)","v":"CZ"},{"$f":"VLOOKUP(F1968,Soutez!A:C,3,FALSE)","v":2025},14,3023,1.0549999999999999,6619,6983,null,null,"Arcus M","CAR","Není v databázi"]
["Tibor Noga",null,null,"SGC Martin",null,"PMČR 2025 - Kombi Open",{"$f":"VLOOKUP(F1969,Soutez!A:B,2,FALSE)","v":"CZ"},{"$f":"VLOOKUP(F1969,Soutez!A:C,3,FALSE)","v":2025},15,2966,1.0549999999999999,6407,6759,null,null,"Ventus cT","TN","Není v databázi"]
["Petr Hotovy",{"$f":"VLOOKUP(A1970,Pilot,2,0)","v":1958},{"$f":"VLOOKUP(A1970,Pilot,5,0)","v":"M"},{"$f":"VLOOKUP(A1970,Pilot,3,0)","v":"Česká Lípa"},{"$f":"VLOOKUP(A1970,Pilot,4,0)","v":"CZ/C2"},"PMČR 2025 - Kombi Open",{"$f":"VLOOKUP(F1970,Soutez!A:B,2,FALSE)","v":"CZ"},{"$f":"VLOOKUP(F1970,Soutez!A:C,3,FALSE)","v":2025},16,2961,1.0549999999999999,6283,6629,"x",null,"HpH 304 TS Twin Shark 850","LP",""]
["Jaroslav Potmesil",1964,"M","Zbraslavice","CZ/C1","PMČR 2025 - Kombi Open",{"$f":"VLOOKUP(F1971,Soutez!A:B,2,FALSE)","v":"CZ"},{"$f":"VLOOKUP(F1971,Soutez!A:C,3,FALSE)","v":2025},17,2939,1.0549999999999999,6130,{"$f":"ROUND(K1971*L1971,0)","v":6467},"x",null,"HPH 304 MS Shark","MS",""]
["Jiri Fousek",1990,"M","Raná","CZ/C2","PMČR 2025 - Kombi Open",{"$f":"VLOOKUP(F1972,Soutez!A:B,2,FALSE)","v":"CZ"},{"$f":"VLOOKUP(F1972,Soutez!A:C,3,FALSE)","v":2025},18,2798,1.0549999999999999,5776,6094,null,null,"Ventus C 17.6m","XE",""]
["Zdenek Boruvka 86",1986,"M","Jičín","CZ/C2","PMČR 2025 - Kombi Open",{"$f":"VLOOKUP(F1973,Soutez!A:B,2,FALSE)","v":"CZ"},{"$f":"VLOOKUP(F1973,Soutez!A:C,3,FALSE)","v":2025},19,2780,1.0549999999999999,5630,5940,null,null,"Ventus C 17.6m","VV",""]
["Jan Smekal",1976,"M","Zbraslavice","CZ/C1","PMČR 2025 - Kombi Open",{"$f":"VLOOKUP(F1974,Soutez!A:B,2,FALSE)","v":"CZ"},{"$f":"VLOOKUP(F1974,Soutez!A:C,3,FALSE)","v":2025},20,2761,1.0549999999999999,5483,5785,null,null,"Ventus C 17.6m","CL",""]
["Lubomir Motl",1959,"M","Kyjov","CZ/M","PMČR 2025 - Kombi Open",{"$f":"VLOOKUP(F1975,Soutez!A:B,2,FALSE)","v":"CZ"},{"$f":"VLOOKUP(F1975,Soutez!A:C,3,FALSE)","v":2025},21,2685,1.0549999999999999,5239,5527,"x",null,"Nimbus 4DM","AM",""]
["Marek Straka",null,null,"Aeroklub Dubnica nad Váhom",null,"PMČR 2025 - Kombi Open",{"$f":"VLOOKUP(F1976,Soutez!A:B,2,FALSE)","v":"CZ"},{"$f":"VLOOKUP(F1976,Soutez!A:C,3,FALSE)","v":2025},22,2638,1.0549999999999999,5044,5321,null,null,"Ventus 2cxt 18m","AI","Není v databázi"]
["Jan Florian",{"$f":"VLOOKUP(A1977,Pilot,2,0)","v":1992},{"$f":"VLOOKUP(A1977,Pilot,5,0)","v":"M"},{"$f":"VLOOKUP(A1977,Pilot,3,0)","v":"Zbraslavice"},{"$f":"VLOOKUP(A1977,Pilot,4,0)","v":"CZ/C1"},"PMČR 2025 - Kombi Open",{"$f":"VLOOKUP(F1977,Soutez!A:B,2,FALSE)","v":"CZ"},{"$f":"VLOOKUP(F1977,Soutez!A:C,3,FALSE)","v":2025},23,2573,1.0549999999999999,4818,5083,null,null,"Ventus C 17.6m","LS",""]
["Petr Panek",1975,"M","Dvůr Králové","CZ/C2","PMČR 2025 - Kombi Open",{"$f":"VLOOKUP(F1978,Soutez!A:B,2,FALSE)","v":"CZ"},{"$f":"VLOOKUP(F1978,Soutez!A:C,3,FALSE)","v":2025},24,2551,1.0549999999999999,4666,4923,null,null,"JS1 18m","IGC",""]
["Pavel Jiranek",1993,"M","Toužim","CZ/C1","PMČR 2025 - Kombi Open",{"$f":"VLOOKUP(F1979,Soutez!A:B,2,FALSE)","v":"CZ"},{"$f":"VLOOKUP(F1979,Soutez!A:C,3,FALSE)","v":2025},25,2387,1.0549999999999999,4273,4508,null,null,"Ventus C 17.6m","CS",""]
["Lukas Benedikt",null,null,"AK Trnava",null,"PMČR 2025 - Kombi Open",{"$f":"VLOOKUP(F1980,Soutez!A:B,2,FALSE)","v":"CZ"},{"$f":"VLOOKUP(F1980,Soutez!A:C,3,FALSE)","v":2025},26,2195,{"$f":"VLOOKUP(F1980,Soutez,12,0)","v":1.0549999999999999},3832,4043,null,null,"Ventus 3f 18m","LB","Není v databázi"]
["Zdenek Balcarek",{"$f":"VLOOKUP(A1981,Pilot,2,0)","v":1967},{"$f":"VLOOKUP(A1981,Pilot,5,0)","v":"M"},{"$f":"VLOOKUP(A1981,Pilot,3,0)","v":"Kroměříž"},{"$f":"VLOOKUP(A1981,Pilot,4,0)","v":"CZ/M"},"PMČR 2025 - Kombi Open",{"$f":"VLOOKUP(F1981,Soutez!A:B,2,FALSE)","v":"CZ"},{"$f":"VLOOKUP(F1981,Soutez!A:C,3,FALSE)","v":2025},27,1747,1.0549999999999999,2958,3121,null,null,"Ventus c 17.6m","EB",""]
["Frantisek Vancura",{"$f":"VLOOKUP(A1982,Pilot,2,0)","v":1966},{"$f":"VLOOKUP(A1982,Pilot,5,0)","v":"M"},{"$f":"VLOOKUP(A1982,Pilot,3,0)","v":"Hranice"},{"$f":"VLOOKUP(A1982,Pilot,4,0)","v":"CZ/M"},"FL 2025 - Kombi",{"$f":"VLOOKUP(F1982,Soutez!A:B,2,FALSE)","v":"CZ"},{"$f":"VLOOKUP(F1982,Soutez!A:C,3,FALSE)","v":2025},1,3784,0.76500000000000001,{"$f":"ROUND(J1982/MAX($J$1982:$J$1995)*10000*0.7+(MAX($I$1982:$I$1995)-I1982)/(MAX($I$1982:$I$1995)-1)*10000*0.3,0)","v":10000},{"$f":"ROUND(K1982*L1982,0)","v":7650},"x",null,"Nimbus 3T 24,5m WL","A1",""]
["Jiri Koudela",1974,"M","Vyškov","CZ/M","FL 2025 - Kombi",{"$f":"VLOOKUP(F1983,Soutez!A:B,2,FALSE)","v":"CZ"},{"$f":"VLOOKUP(F1983,Soutez!A:C,3,FALSE)","v":2025},2,3367,0.76500000000000001,8998,{"$f":"ROUND(K1983*L1983,0)","v":6883},"x",null,"Ventus cm 17,6m","JK",""]
["Zdenek Schenk",1972,"M","Hranice","CZ/M","FL 2025 - Kombi",{"$f":"VLOOKUP(F1984,Soutez!A:B,2,FALSE)","v":"CZ"},{"$f":"VLOOKUP(F1984,Soutez!A:C,3,FALSE)","v":2025},3,3110,0.76500000000000001,8292,6343,"x",null,"ASG-29E 18m","ŠNeK",""]
["Martin Suchy",1969,"M","Hranice","CZ/M","FL 2025 - Kombi",{"$f":"VLOOKUP(F1985,Soutez!A:B,2,FALSE)","v":"CZ"},{"$f":"VLOOKUP(F1985,Soutez!A:C,3,FALSE)","v":2025},4,2765,0.76500000000000001,7423,5679,"x",null,"DG-500M 22m","T1",""]
["Rostislav Stryk",1972,"M","Frýdlant","CZ/M","FL 2025 - Kombi",{"$f":"VLOOKUP(F1986,Soutez!A:B,2,FALSE)","v":"CZ"},{"$f":"VLOOKUP(F1986,Soutez!A:C,3,FALSE)","v":2025},5,2716,0.76500000000000001,7101,5432,"x",null,"HpH 304 TS Twin Shark MS","FNC",""]
["Pavel Foldyna",1976,"M","Frýdlant","CZ/M","FL 2025 - Kombi",{"$f":"VLOOKUP(F1987,Soutez!A:B,2,FALSE)","v":"CZ"},{"$f":"VLOOKUP(F1987,Soutez!A:C,3,FALSE)","v":2025},6,2335,0.76500000000000001,6166,4717,"x",null,"Duo Discus T WL","DD",""]
["Lubomir Doupal",1975,"M","Kroměříž","CZ/M","FL 2025 - Kombi",{"$f":"VLOOKUP(F1988,Soutez!A:B,2,FALSE)","v":"CZ"},{"$f":"VLOOKUP(F1988,Soutez!A:C,3,FALSE)","v":2025},7,2326,0.76500000000000001,5918,4527,"x",null,"Arcus M","LD",""]
["Vladimir Jirka",1965,"M","Zábřeh","CZ/M","FL 2025 - Kombi",{"$f":"VLOOKUP(F1989,Soutez!A:B,2,FALSE)","v":"CZ"},{"$f":"VLOOKUP(F1989,Soutez!A:C,3,FALSE)","v":2025},8,2247,0.76500000000000001,5541,4239,"x",null,"HpH 304 TS Twin Shark MS",11,""]
["Miroslav Koci",1961,"M","Žamberk","CZ/C2","FL 2025 - Kombi",{"$f":"VLOOKUP(F1990,Soutez!A:B,2,FALSE)","v":"CZ"},{"$f":"VLOOKUP(F1990,Soutez!A:C,3,FALSE)","v":2025},9,2161,0.76500000000000001,5151,3941,"x",null,"Ventus 2cxm 18m","E8",""]
["Antonin Kutalek",1943,"M","Zábřeh","CZ/M","FL 2025 - Kombi",{"$f":"VLOOKUP(F1991,Soutez!A:B,2,FALSE)","v":"CZ"},{"$f":"VLOOKUP(F1991,Soutez!A:C,3,FALSE)","v":2025},10,1995,0.76500000000000001,4614,{"$f":"ROUND(K1991*L1991,0)","v":3530},"x",null,"LAK 17AT 18m WL","GL",""]
["Pavel Haluza",1966,"M","Prostějov","CZ/M","FL 2025 - Kombi",{"$f":"VLOOKUP(F1992,Soutez!A:B,2,FALSE)","v":"CZ"},{"$f":"VLOOKUP(F1992,Soutez!A:C,3,FALSE)","v":2025},11,1918,0.76500000000000001,4240,3244,null,null,"Nimbus 2b","HT",""]
["Dalibor Bucha",1973,"M","Hranice","CZ/M","FL 2025 - Kombi",{"$f":"VLOOKUP(F1993,Soutez!A:B,2,FALSE)","v":"CZ"},{"$f":"VLOOKUP(F1993,Soutez!A:C,3,FALSE)","v":2025},12,1911,0.76500000000000001,3997,3058,"x",null,"Duo Discus c","OK",""]
["Jiri Pelucha",1984,"M","Frýdlant","CZ/M","FL 2025 - Kombi",{"$f":"VLOOKUP(F1994,Soutez!A:B,2,FALSE)","v":"CZ"},{"$f":"VLOOKUP(F1994,Soutez!A:C,3,FALSE)","v":2025},13,1480,0.76500000000000001,2969,2271,"x",null,"Ventus 3M Performance","I3",""]
["Roman Cerny",1971,"M","Hranice","CZ/M","FL 2025 - Kombi",{"$f":"VLOOKUP(F1995,Soutez!A:B,2,FALSE)","v":"CZ"},{"$f":"VLOOKUP(F1995,Soutez!A:C,3,FALSE)","v":2025},14,1382,0.76500000000000001,2557,1956,"x",null,"Nimbus 3T 25,5m","RF",""]
["Petr Masik",{"$f":"VLOOKUP(A1996,Pilot,2,0)","v":2001},{"$f":"VLOOKUP(A1996,Pilot,5,0)","v":"M"},{"$f":"VLOOKUP(A1996,Pilot,3,0)","v":"Zábřeh"},{"$f":"VLOOKUP(A1996,Pilot,4,0)","v":"CZ/M"},"FL 2025 - Klub",{"$f":"VLOOKUP(F1996,Soutez!A:B,2,FALSE)","v":"CZ"},{"$f":"VLOOKUP(F1996,Soutez!A:C,3,FALSE)","v":2025},1,4187,0.91500000000000004,{"$f":"ROUND(J1996/MAX($J$1996:$J$2012)*10000*0.7+(MAX($I$1996:$I$2012)-I1996)/(MAX($I$1996:$I$2012)-1)*10000*0.3,0)","v":10000},{"$f":"ROUND(K1996*L1996,0)","v":9150},"x",null,"ASW-19, ASW-19B",34,"Junior v roce 2026"]
["Michal Cechmanek",1978,"M","Kroměříž","CZ/M","FL 2025 - Klub",{"$f":"VLOOKUP(F1997,Soutez!A:B,2,FALSE)","v":"CZ"},{"$f":"VLOOKUP(F1997,Soutez!A:C,3,FALSE)","v":2025},2,3698,0.91500000000000004,8995,{"$f":"ROUND(K1997*L1997,0)","v":8230},"x",null,"ASW-20 (A)+L+F 15m WL","MK",""]
["Radim Sobek",1977,"M","Hranice","CZ/M","FL 2025 - Klub",{"$f":"VLOOKUP(F1998,Soutez!A:B,2,FALSE)","v":"CZ"},{"$f":"VLOOKUP(F1998,Soutez!A:C,3,FALSE)","v":2025},3,3208,0.91500000000000004,7988,7309,"x",null,"TST-10M Atlas","O7",""]
["Adam Sugl",1987,"M","Vyškov","CZ/M","FL 2025 - Klub",{"$f":"VLOOKUP(F1999,Soutez!A:B,2,FALSE)","v":"CZ"},{"$f":"VLOOKUP(F1999,Soutez!A:C,3,FALSE)","v":2025},4,3050,0.91500000000000004,7537,6896,"x",null,"Std. Cirrus","GT",""]
["Jaroslav Buryan",1953,"M","Zábřeh","CZ/M","FL 2025 - Klub",{"$f":"VLOOKUP(F2000,Soutez!A:B,2,FALSE)","v":"CZ"},{"$f":"VLOOKUP(F2000,Soutez!A:C,3,FALSE)","v":2025},5,3012,0.91500000000000004,7286,6667,null,null,"Discus bM WL","OL",""]
["Radim Zielinski",1969,"M","Frýdlant","CZ/M","FL 2025 - Klub",{"$f":"VLOOKUP(F2001,Soutez!A:B,2,FALSE)","v":"CZ"},{"$f":"VLOOKUP(F2001,Soutez!A:C,3,FALSE)","v":2025},6,2963,0.91500000000000004,7016,6420,"x",null,"LS-1f, LS-1f (45)","EM",""]
["Radim Tomala",1972,"M","Prostějov","CZ/M","FL 2025 - Klub",{"$f":"VLOOKUP(F2002,Soutez!A:B,2,FALSE)","v":"CZ"},{"$f":"VLOOKUP(F2002,Soutez!A:C,3,FALSE)","v":2025},7,2925,0.91500000000000004,6765,6190,"x",null,"Std. Cirrus","RT",""]
["Zdenek Mach",1976,"M","Broumov","CZ/C2","FL 2025 - Klub",{"$f":"VLOOKUP(F2003,Soutez!A:B,2,FALSE)","v":"CZ"},{"$f":"VLOOKUP(F2003,Soutez!A:C,3,FALSE)","v":2025},8,2813,0.91500000000000004,6390,5847,"x",null,"LS-1d","MZ",""]
["Milan Minarik",1900,"M","Hranice","CZ/M","FL 2025 - Klub",{"$f":"VLOOKUP(F2004,Soutez!A:B,2,FALSE)","v":"CZ"},{"$f":"VLOOKUP(F2004,Soutez!A:C,3,FALSE)","v":2025},9,2775,0.91500000000000004,6139,5617,"x",null,"Discus CS","HD",""]
["Jakub Kohn",1992,"M","Prostějov","CZ/M","FL 2025 - Klub",{"$f":"VLOOKUP(F2005,Soutez!A:B,2,FALSE)","v":"CZ"},{"$f":"VLOOKUP(F2005,Soutez!A:C,3,FALSE)","v":2025},10,2461,0.91500000000000004,5427,4966,null,null,"ASW-15B","FK",""]
["Petr Brezina",1963,"M","Frýdlant","CZ/M","FL 2025 - Klub",{"$f":"VLOOKUP(F2006,Soutez!A:B,2,FALSE)","v":"CZ"},{"$f":"VLOOKUP(F2006,Soutez!A:C,3,FALSE)","v":2025},11,2453,0.91500000000000004,5226,{"$f":"ROUND(K2006*L2006,0)","v":4782},"x",null,"DG-200 15m","AK",""]
["Jan Mareth",1979,"M","Frýdlant","CZ/M","FL 2025 - Klub",{"$f":"VLOOKUP(F2007,Soutez!A:B,2,FALSE)","v":"CZ"},{"$f":"VLOOKUP(F2007,Soutez!A:C,3,FALSE)","v":2025},12,2228,0.91500000000000004,4662,4266,"x",null,"ASW-20 (A)+L+F 15m WL","NS",""]
["Jan Sobotka",1973,"M","Vyškov","CZ/M","FL 2025 - Klub",{"$f":"VLOOKUP(F2008,Soutez!A:B,2,FALSE)","v":"CZ"},{"$f":"VLOOKUP(F2008,Soutez!A:C,3,FALSE)","v":2025},13,1796,0.91500000000000004,3753,3434,"x",null,"LS-1f, LS-1f (45)","DP",""]
["Milos Matejka",1956,"M","Beroun","CZ/C1","FL 2025 - Klub",{"$f":"VLOOKUP(F2009,Soutez!A:B,2,FALSE)","v":"CZ"},{"$f":"VLOOKUP(F2009,Soutez!A:C,3,FALSE)","v":2025},14,1718,0.91500000000000004,3435,3143,"x",null,"Discus b WL, Discus CS WL","SH",""]
["Jan Kristof",1962,"M","Frýdlant","CZ/M","FL 2025 - Klub",{"$f":"VLOOKUP(F2010,Soutez!A:B,2,FALSE)","v":"CZ"},{"$f":"VLOOKUP(F2010,Soutez!A:C,3,FALSE)","v":2025},15,1663,0.91500000000000004,3155,2887,"x",null,"LS-3 15m","TX",""]
["Pavel Zakravsky",1979,"M","Hranice","CZ/M","FL 2025 - Klub",{"$f":"VLOOKUP(F2011,Soutez!A:B,2,FALSE)","v":"CZ"},{"$f":"VLOOKUP(F2011,Soutez!A:C,3,FALSE)","v":2025},16,1597,0.91500000000000004,2857,2614,"x",null,"Std. Cirrus","XII",""]
["Lukas Zach",1987,"M","Vyškov","CZ/M","FL 2025 - Klub",{"$f":"VLOOKUP(F2012,Soutez!A:B,2,FALSE)","v":"CZ"},{"$f":"VLOOKUP(F2012,Soutez!A:C,3,FALSE)","v":2025},17,881,0.91500000000000004,1473,1348,"x",null,"G-102 Astir cs 77","AS",""]
["Stefan Langer",null,null,null,null,"WGC 2025 - Klub",{"$f":"VLOOKUP(F2013,Soutez!A:B,2,FALSE)","v":"CZ"},{"$f":"VLOOKUP(F2013,Soutez!A:C,3,FALSE)","v":2025},1,7370,1.1199999999999999,{"$f":"ROUND(J2013/MAX($J$2013:$J$2054)*10000*0.7+(MAX($I$2013:$I$2054)-I2013)/(MAX($I$2013:$I$2054)-1)*10000*0.3,0)","v":10000},{"$f":"ROUND(K2013*L2013,0)","v":11200},null,null,"LS 3","SF","Není v databázi"]
["Alexandre Fierain",null,null,null,null,"WGC 2025 - Klub",{"$f":"VLOOKUP(F2014,Soutez!A:B,2,FALSE)","v":"CZ"},{"$f":"VLOOKUP(F2014,Soutez!A:C,3,FALSE)","v":2025},2,7183,1.1199999999999999,9749,{"$f":"ROUND(K2014*L2014,0)","v":10919},null,null,"LS 7","AG","Není v databázi"]
["Timothy Fletcher",null,null,null,null,"WGC 2025 - Klub",{"$f":"VLOOKUP(F2015,Soutez!A:B,2,FALSE)","v":"CZ"},{"$f":"VLOOKUP(F2015,Soutez!A:C,3,FALSE)","v":2025},3,7166,1.1199999999999999,9660,10819,null,null,"LS 7 wl",194,"Není v databázi"]
["Uwe Wahlig",null,null,null,null,"WGC 2025 - Klub",{"$f":"VLOOKUP(F2016,Soutez!A:B,2,FALSE)","v":"CZ"},{"$f":"VLOOKUP(F2016,Soutez!A:C,3,FALSE)","v":2025},4,7103,1.1199999999999999,9527,10670,null,null,"LS 3","SN","Není v databázi"]
["James Nugent",null,null,null,null,"WGC 2025 - Klub",{"$f":"VLOOKUP(F2017,Soutez!A:B,2,FALSE)","v":"CZ"},{"$f":"VLOOKUP(F2017,Soutez!A:C,3,FALSE)","v":2025},5,7035,1.1199999999999999,9389,10516,null,null,"LS 3","1A","Není v databázi"]
["Jacek Flis",null,null,null,null,"WGC 2025 - Klub",{"$f":"VLOOKUP(F2018,Soutez!A:B,2,FALSE)","v":"CZ"},{"$f":"VLOOKUP(F2018,Soutez!A:C,3,FALSE)","v":2025},6,7015,1.1199999999999999,9297,10413,null,null,"LS 3","FLS","Není v databázi"]
["Kim Toppari",null,null,null,null,"WGC 2025 - Klub",{"$f":"VLOOKUP(F2019,Soutez!A:B,2,FALSE)","v":"CZ"},{"$f":"VLOOKUP(F2019,Soutez!A:C,3,FALSE)","v":2025},7,6916,1.1199999999999999,9130,10226,null,null,"LS 7","KT","Není v databázi"]
["Mikolaj Zdun",null,null,null,null,"WGC 2025 - Klub",{"$f":"VLOOKUP(F2020,Soutez!A:B,2,FALSE)","v":"CZ"},{"$f":"VLOOKUP(F2020,Soutez!A:C,3,FALSE)","v":2025},8,6903,1.1199999999999999,9044,10129,null,null,"LS 3","PP","Není v databázi"]
["Robin Smit",null,null,null,null,"WGC 2025 - Klub",{"$f":"VLOOKUP(F2021,Soutez!A:B,2,FALSE)","v":"CZ"},{"$f":"VLOOKUP(F2021,Soutez!A:C,3,FALSE)","v":2025},9,6889,1.1199999999999999,8958,10033,null,null,"LS 4","RSM","Není v databázi"]
["Karolis Mikalauskas",null,null,null,null,"WGC 2025 - Klub",{"$f":"VLOOKUP(F2022,Soutez!A:B,2,FALSE)","v":"CZ"},{"$f":"VLOOKUP(F2022,Soutez!A:C,3,FALSE)","v":2025},10,6779,1.1199999999999999,8780,9834,null,null,"LS 3","AM",{"$f":"IF(ISERROR(VLOOKUP(A2022,Pilot,6,0)),\"Není v databázi\",VLOOKUP(A2022,Pilot,6,0))","v":"Není v databázi"}]
["Jeroen van Dijk",null,null,null,null,"WGC 2025 - Klub",{"$f":"VLOOKUP(F2023,Soutez!A:B,2,FALSE)","v":"CZ"},{"$f":"VLOOKUP(F2023,Soutez!A:C,3,FALSE)","v":2025},11,6770,1.1199999999999999,8698,9742,null,null,"LS 3","KM","Není v databázi"]
["Ivan Harasta 65",{"$f":"VLOOKUP(A2024,Pilot,2,0)","v":1965},{"$f":"VLOOKUP(A2024,Pilot,5,0)","v":"M"},{"$f":"VLOOKUP(A2024,Pilot,3,0)","v":"Toužim"},{"$f":"VLOOKUP(A2024,Pilot,4,0)","v":"CZ/C1"},"WGC 2025 - Klub",{"$f":"VLOOKUP(F2024,Soutez!A:B,2,FALSE)","v":"CZ"},{"$f":"VLOOKUP(F2024,Soutez!A:C,3,FALSE)","v":2025},12,6725,1.1199999999999999,8583,9613,"x",null,"ASW 20","A3",""]
["George White",null,null,null,null,"WGC 2025 - Klub",{"$f":"VLOOKUP(F2025,Soutez!A:B,2,FALSE)","v":"CZ"},{"$f":"VLOOKUP(F2025,Soutez!A:C,3,FALSE)","v":2025},13,6686,1.1199999999999999,8472,9489,null,null,"ASW 20","NW","Není v databázi"]
["Gyorgy Gulyas",null,null,null,null,"WGC 2025 - Klub",{"$f":"VLOOKUP(F2026,Soutez!A:B,2,FALSE)","v":"CZ"},{"$f":"VLOOKUP(F2026,Soutez!A:C,3,FALSE)","v":2025},14,6661,1.1199999999999999,8375,9380,null,null,"ASW 20","AD","Není v databázi"]
["Darius Gudziunas",null,null,null,null,"WGC 2025 - Klub",{"$f":"VLOOKUP(F2027,Soutez!A:B,2,FALSE)","v":"CZ"},{"$f":"VLOOKUP(F2027,Soutez!A:C,3,FALSE)","v":2025},15,6657,1.1199999999999999,8298,9294,null,null,"ASW 20","FL","Není v databázi"]
["Hugo Corbille",null,null,null,null,"WGC 2025 - Klub",{"$f":"VLOOKUP(F2028,Soutez!A:B,2,FALSE)","v":"CZ"},{"$f":"VLOOKUP(F2028,Soutez!A:C,3,FALSE)","v":2025},16,6647,1.1199999999999999,8216,{"$f":"ROUND(K2028*L2028,0)","v":9202},null,null,"LS 7","HG","Není v databázi"]
["Tomas Suchanek",{"$f":"VLOOKUP(A2029,Pilot,2,0)","v":1964},{"$f":"VLOOKUP(A2029,Pilot,5,0)","v":"M"},{"$f":"VLOOKUP(A2029,Pilot,3,0)","v":"GAC Benešov"},{"$f":"VLOOKUP(A2029,Pilot,4,0)","v":"CZ/C1"},"WGC 2025 - Klub",{"$f":"VLOOKUP(F2029,Soutez!A:B,2,FALSE)","v":"CZ"},{"$f":"VLOOKUP(F2029,Soutez!A:C,3,FALSE)","v":2025},17,6629,1.1199999999999999,8125,9100,null,null,"ASW 20","CX",""]
["Michael Mix",null,null,null,null,"WGC 2025 - Klub",{"$f":"VLOOKUP(F2030,Soutez!A:B,2,FALSE)","v":"CZ"},{"$f":"VLOOKUP(F2030,Soutez!A:C,3,FALSE)","v":2025},18,6442,1.1199999999999999,7875,8820,null,null,"ASW 20","W","Není v databázi"]
["Alexandre Melot",null,null,null,null,"WGC 2025 - Klub",{"$f":"VLOOKUP(F2031,Soutez!A:B,2,FALSE)","v":"CZ"},{"$f":"VLOOKUP(F2031,Soutez!A:C,3,FALSE)","v":2025},19,6396,1.1199999999999999,7758,8689,null,null,"ASW 20 B","FY","Není v databázi"]
["Giacomo Dall'Olio",null,null,null,null,"WGC 2025 - Klub",{"$f":"VLOOKUP(F2032,Soutez!A:B,2,FALSE)","v":"CZ"},{"$f":"VLOOKUP(F2032,Soutez!A:C,3,FALSE)","v":2025},20,6392,1.1199999999999999,7681,8603,null,null,"ASW 20","B6","Není v databázi"]
["Tudor Bajenaru",null,null,null,null,"WGC 2025 - Klub",{"$f":"VLOOKUP(F2033,Soutez!A:B,2,FALSE)","v":"CZ"},{"$f":"VLOOKUP(F2033,Soutez!A:C,3,FALSE)","v":2025},21,6382,1.1199999999999999,7598,8510,null,null,"LS 4","Y3","Není v databázi"]
["Viktor Becan",null,null,"ALC Lesce","SLO","WGC 2025 - Klub",{"$f":"VLOOKUP(F2034,Soutez!A:B,2,FALSE)","v":"CZ"},{"$f":"VLOOKUP(F2034,Soutez!A:C,3,FALSE)","v":2025},22,6372,1.1199999999999999,7516,8418,null,null,"ASW 20","CP","Není v databázi"]
["Felipe Girado",null,null,null,null,"WGC 2025 - Klub",{"$f":"VLOOKUP(F2035,Soutez!A:B,2,FALSE)","v":"CZ"},{"$f":"VLOOKUP(F2035,Soutez!A:C,3,FALSE)","v":2025},23,6344,1.1199999999999999,7416,8306,null,null,"LS 4","IX","Není v databázi"]
["Yves Muller",null,null,null,null,"WGC 2025 - Klub",{"$f":"VLOOKUP(F2036,Soutez!A:B,2,FALSE)","v":"CZ"},{"$f":"VLOOKUP(F2036,Soutez!A:C,3,FALSE)","v":2025},24,6277,1.1199999999999999,7279,8152,null,null,"ASW 24 wl","CRN","Není v databázi"]
["Simon Gantner",null,null,null,null,"WGC 2025 - Klub",{"$f":"VLOOKUP(F2037,Soutez!A:B,2,FALSE)","v":"CZ"},{"$f":"VLOOKUP(F2037,Soutez!A:C,3,FALSE)","v":2025},25,6232,1.1199999999999999,7163,8023,null,null,"LS 4","MN","Není v databázi"]
["Robert Alin Simion",null,null,null,null,"WGC 2025 - Klub",{"$f":"VLOOKUP(F2038,Soutez!A:B,2,FALSE)","v":"CZ"},{"$f":"VLOOKUP(F2038,Soutez!A:C,3,FALSE)","v":2025},26,6162,1.1199999999999999,7023,7866,null,null,"LS 4","Y2","Není v databázi"]
["Louise Rodriguez",null,null,null,null,"WGC 2025 - Klub",{"$f":"VLOOKUP(F2039,Soutez!A:B,2,FALSE)","v":"CZ"},{"$f":"VLOOKUP(F2039,Soutez!A:C,3,FALSE)","v":2025},27,6017,1.1199999999999999,6812,7629,null,null,"ASW 20","XI","Není v databázi"]
["Lapo Alessandro Busi",null,null,null,null,"WGC 2025 - Klub",{"$f":"VLOOKUP(F2040,Soutez!A:B,2,FALSE)","v":"CZ"},{"$f":"VLOOKUP(F2040,Soutez!A:C,3,FALSE)","v":2025},28,5951,1.1199999999999999,6677,7478,null,null,"ASW 20","LAB","Není v databázi"]
["Ferenc Tamas",null,null,null,null,"WGC 2025 - Klub",{"$f":"VLOOKUP(F2041,Soutez!A:B,2,FALSE)","v":"CZ"},{"$f":"VLOOKUP(F2041,Soutez!A:C,3,FALSE)","v":2025},29,5874,{"$f":"VLOOKUP(F2041,Soutez,12,0)","v":1.1199999999999999},6530,7314,null,null,"LS 3","XW","Není v databázi"]
["Filip Bojanowski",null,null,null,null,"WGC 2025 - Klub",{"$f":"VLOOKUP(F2042,Soutez!A:B,2,FALSE)","v":"CZ"},{"$f":"VLOOKUP(F2042,Soutez!A:C,3,FALSE)","v":2025},30,5857,1.1199999999999999,6441,7214,null,null,"LS 7","YC","Není v databázi"]
["Thomas De Bruyn",null,null,null,null,"WGC 2025 - Klub",{"$f":"VLOOKUP(F2043,Soutez!A:B,2,FALSE)","v":"CZ"},{"$f":"VLOOKUP(F2043,Soutez!A:C,3,FALSE)","v":2025},31,5682,1.1199999999999999,6202,6946,null,null,"LS 4","B4","Není v databázi"]
["Edmund Schuller",null,null,null,null,"WGC 2025 - Klub",{"$f":"VLOOKUP(F2044,Soutez!A:B,2,FALSE)","v":"CZ"},{"$f":"VLOOKUP(F2044,Soutez!A:C,3,FALSE)","v":2025},32,5633,1.1199999999999999,6082,6812,null,null,"ASW 24","ZS","Není v databázi"]
["Daniel Summers",null,null,null,null,"WGC 2025 - Klub",{"$f":"VLOOKUP(F2045,Soutez!A:B,2,FALSE)","v":"CZ"},{"$f":"VLOOKUP(F2045,Soutez!A:C,3,FALSE)","v":2025},33,5535,1.1199999999999999,5916,6626,null,null,"ASW 20 B","RZ","Není v databázi"]
["Mikko Ylihärsilä",null,null,null,null,"WGC 2025 - Klub",{"$f":"VLOOKUP(F2046,Soutez!A:B,2,FALSE)","v":"CZ"},{"$f":"VLOOKUP(F2046,Soutez!A:C,3,FALSE)","v":2025},34,5399,1.1199999999999999,5713,6399,null,null,"LS 7","GE","Není v databázi"]
["Javier Gaude",null,null,null,null,"WGC 2025 - Klub",{"$f":"VLOOKUP(F2047,Soutez!A:B,2,FALSE)","v":"CZ"},{"$f":"VLOOKUP(F2047,Soutez!A:C,3,FALSE)","v":2025},35,5355,1.1199999999999999,5598,6270,null,null,"LS 4","6L","Není v databázi"]
["Frane Franic",null,null,null,null,"WGC 2025 - Klub",{"$f":"VLOOKUP(F2048,Soutez!A:B,2,FALSE)","v":"CZ"},{"$f":"VLOOKUP(F2048,Soutez!A:C,3,FALSE)","v":2025},36,5224,1.1199999999999999,5401,6049,null,null,"ASW 24","HR3","Není v databázi"]
["Sylvia Grandstaff",null,null,null,null,"WGC 2025 - Klub",{"$f":"VLOOKUP(F2049,Soutez!A:B,2,FALSE)","v":"CZ"},{"$f":"VLOOKUP(F2049,Soutez!A:C,3,FALSE)","v":2025},37,4876,1.1199999999999999,4997,5597,null,null,"LS 4","FP","Není v databázi"]
["Tony Condon",null,null,null,null,"WGC 2025 - Klub",{"$f":"VLOOKUP(F2050,Soutez!A:B,2,FALSE)","v":"CZ"},{"$f":"VLOOKUP(F2050,Soutez!A:C,3,FALSE)","v":2025},38,4317,1.1199999999999999,4393,4920,null,null,"LS 4","S5","Není v databázi"]
["Jaume Prats",null,null,null,null,"WGC 2025 - Klub",{"$f":"VLOOKUP(F2051,Soutez!A:B,2,FALSE)","v":"CZ"},{"$f":"VLOOKUP(F2051,Soutez!A:C,3,FALSE)","v":2025},39,3951,1.1199999999999999,3972,4449,null,null,"ASW 24 wl",44,"Není v databázi"]
["Michael Strathern",null,null,null,null,"WGC 2025 - Klub",{"$f":"VLOOKUP(F2052,Soutez!A:B,2,FALSE)","v":"CZ"},{"$f":"VLOOKUP(F2052,Soutez!A:C,3,FALSE)","v":2025},40,3238,1.1199999999999999,3222,3609,null,null,"LS 4","T5","Není v databázi"]
["Grozdan Meglaj",null,null,null,null,"WGC 2025 - Klub",{"$f":"VLOOKUP(F2053,Soutez!A:B,2,FALSE)","v":"CZ"},{"$f":"VLOOKUP(F2053,Soutez!A:C,3,FALSE)","v":2025},41,2651,1.1199999999999999,2591,2902,null,null,"DG 300","GM","Není v databázi"]
["Mark Travner",null,null,null,null,"WGC 2025 - Klub",{"$f":"VLOOKUP(F2054,Soutez!A:B,2,FALSE)","v":"CZ"},{"$f":"VLOOKUP(F2054,Soutez!A:C,3,FALSE)","v":2025},42,1564,1.1199999999999999,1485,1663,null,null,"DG 300","CF","Není v databázi"]
["Jeroen Jennen",null,null,null,null,"WGC 2025 - Std",{"$f":"VLOOKUP(F2055,Soutez!A:B,2,FALSE)","v":"CZ"},{"$f":"VLOOKUP(F2055,Soutez!A:C,3,FALSE)","v":2025},1,7056,1.1199999999999999,{"$f":"ROUND(J2055/MAX($J$2055:$J$2092)*10000*0.7+(MAX($I$2055:$I$2092)-I2055)/(MAX($I$2055:$I$2092)-1)*10000*0.3,0)","v":10000},{"$f":"ROUND(K2055*L2055,0)","v":11200},null,null,"LS 8a","LT","Není v databázi"]
["Jeremy Hood",null,null,null,null,"WGC 2025 - Std",{"$f":"VLOOKUP(F2056,Soutez!A:B,2,FALSE)","v":"CZ"},{"$f":"VLOOKUP(F2056,Soutez!A:C,3,FALSE)","v":2025},2,6545,1.1199999999999999,9412,{"$f":"ROUND(K2056*L2056,0)","v":10541},null,null,"LS 8-18",352,"Není v databázi"]
["Jakub Barszcz",null,null,null,null,"WGC 2025 - Std",{"$f":"VLOOKUP(F2057,Soutez!A:B,2,FALSE)","v":"CZ"},{"$f":"VLOOKUP(F2057,Soutez!A:C,3,FALSE)","v":2025},3,6535,1.1199999999999999,9321,10440,null,null,"LS 8-18","LOT","Není v databázi"]
["Kristian Roine",null,null,null,null,"WGC 2025 - Std",{"$f":"VLOOKUP(F2058,Soutez!A:B,2,FALSE)","v":"CZ"},{"$f":"VLOOKUP(F2058,Soutez!A:C,3,FALSE)","v":2025},4,6356,1.1199999999999999,9062,10149,null,null,"LS 8-T","AA","Není v databázi"]
["Lasse Edslev",null,null,null,null,"WGC 2025 - Std",{"$f":"VLOOKUP(F2059,Soutez!A:B,2,FALSE)","v":"CZ"},{"$f":"VLOOKUP(F2059,Soutez!A:C,3,FALSE)","v":2025},5,6340,1.1199999999999999,8965,10041,null,null,"LS 8-18","CE","Není v databázi"]
["Philipp Lauer",null,null,null,null,"WGC 2025 - Std",{"$f":"VLOOKUP(F2060,Soutez!A:B,2,FALSE)","v":"CZ"},{"$f":"VLOOKUP(F2060,Soutez!A:C,3,FALSE)","v":2025},6,6307,1.1199999999999999,8852,9914,null,null,"LS 8-18","GP","Není v databázi"]
["Robin Selfslagh",null,null,null,null,"WGC 2025 - Std",{"$f":"VLOOKUP(F2061,Soutez!A:B,2,FALSE)","v":"CZ"},{"$f":"VLOOKUP(F2061,Soutez!A:C,3,FALSE)","v":2025},7,6303,1.1199999999999999,8766,9818,null,null,"LS8","5F","Není v databázi"]
["Jan Pavlik",{"$f":"VLOOKUP(A2062,Pilot,2,0)","v":1987},{"$f":"VLOOKUP(A2062,Pilot,5,0)","v":"M"},{"$f":"VLOOKUP(A2062,Pilot,3,0)","v":"Křižanov"},{"$f":"VLOOKUP(A2062,Pilot,4,0)","v":"CZ/M"},"WGC 2025 - Std",{"$f":"VLOOKUP(F2062,Soutez!A:B,2,FALSE)","v":"CZ"},{"$f":"VLOOKUP(F2062,Soutez!A:C,3,FALSE)","v":2025},8,6274,1.1199999999999999,8657,9696,null,null,"LS 8","FX",""]
["Max Lukas Maslak",null,null,null,null,"WGC 2025 - Std",{"$f":"VLOOKUP(F2063,Soutez!A:B,2,FALSE)","v":"CZ"},{"$f":"VLOOKUP(F2063,Soutez!A:C,3,FALSE)","v":2025},9,6224,1.1199999999999999,8526,9549,null,null,"LS 8a","AR","Není v databázi"]
["Robbie Seton",null,null,null,null,"WGC 2025 - Std",{"$f":"VLOOKUP(F2064,Soutez!A:B,2,FALSE)","v":"CZ"},{"$f":"VLOOKUP(F2064,Soutez!A:C,3,FALSE)","v":2025},10,6222,1.1199999999999999,8443,9456,null,null,"LS 8a","CM","Není v databázi"]
["Joris Vainius",null,null,null,null,"WGC 2025 - Std",{"$f":"VLOOKUP(F2065,Soutez!A:B,2,FALSE)","v":"CZ"},{"$f":"VLOOKUP(F2065,Soutez!A:C,3,FALSE)","v":2025},11,6198,1.1199999999999999,8338,9339,null,null,"LS 8a","MG","Není v databázi"]
["Louis Bouderlique",null,null,null,null,"WGC 2025 - Std",{"$f":"VLOOKUP(F2066,Soutez!A:B,2,FALSE)","v":"CZ"},{"$f":"VLOOKUP(F2066,Soutez!A:C,3,FALSE)","v":2025},12,6124,1.1199999999999999,8184,9166,null,null,"Discus 2a","ET","Není v databázi"]
["Lukasz Blaszczyk",null,null,null,null,"WGC 2025 - Std",{"$f":"VLOOKUP(F2067,Soutez!A:B,2,FALSE)","v":"CZ"},{"$f":"VLOOKUP(F2067,Soutez!A:C,3,FALSE)","v":2025},13,6112,1.1199999999999999,8091,9062,null,null,"Discus 2a","I","Není v databázi"]
["Jan Kretzschmar",null,null,null,null,"WGC 2025 - Std",{"$f":"VLOOKUP(F2068,Soutez!A:B,2,FALSE)","v":"CZ"},{"$f":"VLOOKUP(F2068,Soutez!A:C,3,FALSE)","v":2025},14,6068,1.1199999999999999,7966,8922,null,null,"LS 8","JK","Není v databázi"]
["Miloslav Cink",{"$f":"VLOOKUP(A2069,Pilot,2,0)","v":1987},{"$f":"VLOOKUP(A2069,Pilot,5,0)","v":"M"},{"$f":"VLOOKUP(A2069,Pilot,3,0)","v":"Letkov"},{"$f":"VLOOKUP(A2069,Pilot,4,0)","v":"CZ/C1"},"WGC 2025 - Std",{"$f":"VLOOKUP(F2069,Soutez!A:B,2,FALSE)","v":"CZ"},{"$f":"VLOOKUP(F2069,Soutez!A:C,3,FALSE)","v":2025},15,5979,1.1199999999999999,7796,8732,null,null,"LS 8","JB",""]
["Adam Woolley",null,null,null,null,"WGC 2025 - Std",{"$f":"VLOOKUP(F2070,Soutez!A:B,2,FALSE)","v":"CZ"},{"$f":"VLOOKUP(F2070,Soutez!A:C,3,FALSE)","v":2025},16,5926,1.1199999999999999,7663,{"$f":"ROUND(K2070*L2070,0)","v":8583},null,null,"Discus 2a","GX","Není v databázi"]
["Hadriaan van Nes",null,null,null,null,"WGC 2025 - Std",{"$f":"VLOOKUP(F2071,Soutez!A:B,2,FALSE)","v":"CZ"},{"$f":"VLOOKUP(F2071,Soutez!A:C,3,FALSE)","v":2025},17,5908,1.1199999999999999,7564,8472,null,null,"LS 8-18","SX","Není v databázi"]
["Riccardo Brigliadori",null,null,null,null,"WGC 2025 - Std",{"$f":"VLOOKUP(F2072,Soutez!A:B,2,FALSE)","v":"CZ"},{"$f":"VLOOKUP(F2072,Soutez!A:C,3,FALSE)","v":2025},18,5906,1.1199999999999999,7481,8379,null,null,"Discus 2a","AB","Není v databázi"]
["Julien Duboc",null,null,null,null,"WGC 2025 - Std",{"$f":"VLOOKUP(F2073,Soutez!A:B,2,FALSE)","v":"CZ"},{"$f":"VLOOKUP(F2073,Soutez!A:C,3,FALSE)","v":2025},19,576,1.1199999999999999,2112,2365,null,null,"Discus 2a","JPA","Není v databázi"]
["Anton Minskiy",null,null,null,null,"WGC 2025 - Std",{"$f":"VLOOKUP(F2074,Soutez!A:B,2,FALSE)","v":"CZ"},{"$f":"VLOOKUP(F2074,Soutez!A:C,3,FALSE)","v":2025},20,5740,1.1199999999999999,7154,8012,null,null,"LS 8a","BE","Není v databázi"]
["Allan Barnes",null,null,null,null,"WGC 2025 - Std",{"$f":"VLOOKUP(F2075,Soutez!A:B,2,FALSE)","v":"CZ"},{"$f":"VLOOKUP(F2075,Soutez!A:C,3,FALSE)","v":2025},21,5619,1.1199999999999999,6953,7787,null,null,"LS 8a","SE","Není v databázi"]
["Dino German Ghioni",null,null,null,null,"WGC 2025 - Std",{"$f":"VLOOKUP(F2076,Soutez!A:B,2,FALSE)","v":"CZ"},{"$f":"VLOOKUP(F2076,Soutez!A:C,3,FALSE)","v":2025},22,5476,1.1199999999999999,6730,7538,null,null,"LS 8","W8","Není v databázi"]
["Howard Jones",null,null,null,null,"WGC 2025 - Std",{"$f":"VLOOKUP(F2077,Soutez!A:B,2,FALSE)","v":"CZ"},{"$f":"VLOOKUP(F2077,Soutez!A:C,3,FALSE)","v":2025},23,5332,1.1199999999999999,6506,7287,null,null,"Discus 2a",6,"Není v databázi"]
["Norbert Scarlat",null,null,null,null,"WGC 2025 - Std",{"$f":"VLOOKUP(F2078,Soutez!A:B,2,FALSE)","v":"CZ"},{"$f":"VLOOKUP(F2078,Soutez!A:C,3,FALSE)","v":2025},24,5318,1.1199999999999999,6411,7180,null,null,"Discus 2a","YB","Není v databázi"]
["Ionut Tudor",null,null,null,null,"WGC 2025 - Std",{"$f":"VLOOKUP(F2079,Soutez!A:B,2,FALSE)","v":"CZ"},{"$f":"VLOOKUP(F2079,Soutez!A:C,3,FALSE)","v":2025},25,5304,1.1199999999999999,6316,7074,null,null,"Discus 2a","YA","Není v databázi"]
["Elias Severholt Fourati",null,null,null,null,"WGC 2025 - Std",{"$f":"VLOOKUP(F2080,Soutez!A:B,2,FALSE)","v":"CZ"},{"$f":"VLOOKUP(F2080,Soutez!A:C,3,FALSE)","v":2025},26,5299,1.1199999999999999,6230,6978,null,null,"LS8",1,"Není v databázi"]
["Balazs Endrodi",null,null,null,null,"WGC 2025 - Std",{"$f":"VLOOKUP(F2081,Soutez!A:B,2,FALSE)","v":"CZ"},{"$f":"VLOOKUP(F2081,Soutez!A:C,3,FALSE)","v":2025},27,5282,1.1199999999999999,6132,6868,null,null,"Discus 2a","WD","Není v databázi"]
["Antti Koskiniemi",null,null,null,null,"WGC 2025 - Std",{"$f":"VLOOKUP(F2082,Soutez!A:B,2,FALSE)","v":"CZ"},{"$f":"VLOOKUP(F2082,Soutez!A:C,3,FALSE)","v":2025},28,5257,1.1199999999999999,6026,6749,null,null,"Discus 2b","JS","Není v databázi"]
["Uffe Edslev",null,null,null,null,"WGC 2025 - Std",{"$f":"VLOOKUP(F2083,Soutez!A:B,2,FALSE)","v":"CZ"},{"$f":"VLOOKUP(F2083,Soutez!A:C,3,FALSE)","v":2025},29,5163,1.1199999999999999,5852,6554,null,null,"LS 8-18","EC","Není v databázi"]
["Philipp Wittwer",null,null,null,null,"WGC 2025 - Std",{"$f":"VLOOKUP(F2084,Soutez!A:B,2,FALSE)","v":"CZ"},{"$f":"VLOOKUP(F2084,Soutez!A:C,3,FALSE)","v":2025},30,4775,1.1199999999999999,5386,6032,null,null,"LS 8-18","ZL","Není v databázi"]
["Tomas Bobok",null,null,null,null,"WGC 2025 - Std",{"$f":"VLOOKUP(F2085,Soutez!A:B,2,FALSE)","v":"CZ"},{"$f":"VLOOKUP(F2085,Soutez!A:C,3,FALSE)","v":2025},31,4711,1.1199999999999999,5241,5870,null,null,"LS 8","SI",{"$f":"IF(ISERROR(VLOOKUP(A2085,Pilot,6,0)),\"Není v databázi\",VLOOKUP(A2085,Pilot,6,0))","v":"Není v databázi"}]
["Friedrich Hofinger",null,null,null,null,"WGC 2025 - Std",{"$f":"VLOOKUP(F2086,Soutez!A:B,2,FALSE)","v":"CZ"},{"$f":"VLOOKUP(F2086,Soutez!A:C,3,FALSE)","v":2025},32,4592,1.1199999999999999,5042,5647,null,null,"Discus 2ct","KN","Není v databázi"]
["Luca Urbani",null,null,null,null,"WGC 2025 - Std",{"$f":"VLOOKUP(F2087,Soutez!A:B,2,FALSE)","v":"CZ"},{"$f":"VLOOKUP(F2087,Soutez!A:C,3,FALSE)","v":2025},33,4257,1.1199999999999999,4629,5184,null,null,"Discus 2a","LR","Není v databázi"]
["Gvidas Sabeckis",null,null,null,null,"WGC 2025 - Std",{"$f":"VLOOKUP(F2088,Soutez!A:B,2,FALSE)","v":"CZ"},{"$f":"VLOOKUP(F2088,Soutez!A:C,3,FALSE)","v":2025},34,4185,1.1199999999999999,4476,5013,null,null,"LS 8a","H8","Není v databázi"]
["Bruno Quinteros",null,null,null,null,"WGC 2025 - Std",{"$f":"VLOOKUP(F2089,Soutez!A:B,2,FALSE)","v":"CZ"},{"$f":"VLOOKUP(F2089,Soutez!A:C,3,FALSE)","v":2025},35,3989,1.1199999999999999,4201,4705,null,null,"LS 8a","AU","Není v databázi"]
["Szabolcs Veigli",null,null,null,null,"WGC 2025 - Std",{"$f":"VLOOKUP(F2090,Soutez!A:B,2,FALSE)","v":"CZ"},{"$f":"VLOOKUP(F2090,Soutez!A:C,3,FALSE)","v":2025},36,3802,1.1199999999999999,3934,4406,null,null,"Discus 2a","HUN","Není v databázi"]
["Barbora Moravcova",{"$f":"VLOOKUP(A2091,Pilot,2,0)","v":1994},{"$f":"VLOOKUP(A2091,Pilot,5,0)","v":"F"},{"$f":"VLOOKUP(A2091,Pilot,3,0)","v":"Zbraslavice"},{"$f":"VLOOKUP(A2091,Pilot,4,0)","v":"CZ/C1"},"WGC 2025 - Std",{"$f":"VLOOKUP(F2091,Soutez!A:B,2,FALSE)","v":"CZ"},{"$f":"VLOOKUP(F2091,Soutez!A:C,3,FALSE)","v":2025},37,3579,1.1199999999999999,3632,4068,null,null,"LS 8","EU",""]
["Raphael Luski",null,null,null,null,"WGC 2025 - Std",{"$f":"VLOOKUP(F2092,Soutez!A:B,2,FALSE)","v":"CZ"},{"$f":"VLOOKUP(F2092,Soutez!A:C,3,FALSE)","v":2025},38,3487,1.1199999999999999,3459,3874,null,null,"LS 8T","TC","Není v databázi"]
["Lukasz Grabowski",null,null,null,null,"WGC 2025 - 15m",{"$f":"VLOOKUP(F2093,Soutez!A:B,2,FALSE)","v":"CZ"},{"$f":"VLOOKUP(F2093,Soutez!A:C,3,FALSE)","v":2025},1,6926,1.125,{"$f":"ROUND(J2093/MAX($J$2093:$J$2127)*10000*0.7+(MAX($I$2093:$I$2127)-I2093)/(MAX($I$2093:$I$2127)-1)*10000*0.3,0)","v":10000},{"$f":"ROUND(K2093*L2093,0)","v":11250},null,null,"Diana 2","RP","Není v databázi"]
["Tom Arscott",null,null,null,null,"WGC 2025 - 15m",{"$f":"VLOOKUP(F2094,Soutez!A:B,2,FALSE)","v":"CZ"},{"$f":"VLOOKUP(F2094,Soutez!A:C,3,FALSE)","v":2025},2,6916,1.125,9902,{"$f":"ROUND(K2094*L2094,0)","v":11140},null,null,"Ventus 2a","DW","Není v databázi"]
["Maximilian Seis",null,null,null,null,"WGC 2025 - 15m",{"$f":"VLOOKUP(F2095,Soutez!A:B,2,FALSE)","v":"CZ"},{"$f":"VLOOKUP(F2095,Soutez!A:C,3,FALSE)","v":2025},3,6826,1.125,9722,10937,null,null,"JS-MD3","KW","Není v databázi"]
["Matthew Scutter",null,null,null,null,"WGC 2025 - 15m",{"$f":"VLOOKUP(F2096,Soutez!A:B,2,FALSE)","v":"CZ"},{"$f":"VLOOKUP(F2096,Soutez!A:C,3,FALSE)","v":2025},4,6691,1.125,9498,10685,null,null,"JS3","WX","Není v databázi"]
["Leigh Wells",null,null,null,null,"WGC 2025 - 15m",{"$f":"VLOOKUP(F2097,Soutez!A:B,2,FALSE)","v":"CZ"},{"$f":"VLOOKUP(F2097,Soutez!A:C,3,FALSE)","v":2025},5,6627,1.125,9345,10513,null,null,"JS3","LE","Není v databázi"]
["Steffen Goettler",null,null,null,null,"WGC 2025 - 15m",{"$f":"VLOOKUP(F2098,Soutez!A:B,2,FALSE)","v":"CZ"},{"$f":"VLOOKUP(F2098,Soutez!A:C,3,FALSE)","v":2025},6,6560,1.125,9189,10338,null,null,"Ventus 2a","SG","Není v databázi"]
["Jean-Denis Barrois",null,null,null,null,"WGC 2025 - 15m",{"$f":"VLOOKUP(F2099,Soutez!A:B,2,FALSE)","v":"CZ"},{"$f":"VLOOKUP(F2099,Soutez!A:C,3,FALSE)","v":2025},7,6371,1.125,8910,10024,null,null,"JS-MD 3","LB","Není v databázi"]
["Marius Pluscauskas",null,null,null,null,"WGC 2025 - 15m",{"$f":"VLOOKUP(F2100,Soutez!A:B,2,FALSE)","v":"CZ"},{"$f":"VLOOKUP(F2100,Soutez!A:C,3,FALSE)","v":2025},8,6217,1.125,8666,9749,null,null,"Diana 2","BB","Není v databázi"]
["Pawel Wojciechowski",null,null,null,null,"WGC 2025 - 15m",{"$f":"VLOOKUP(F2101,Soutez!A:B,2,FALSE)","v":"CZ"},{"$f":"VLOOKUP(F2101,Soutez!A:C,3,FALSE)","v":2025},9,6183,1.125,8543,{"$f":"ROUND(K2101*L2101,0)","v":9611},null,null,"Diana 2","ZJ","Není v databázi"]
["Peter Millenaar",null,null,null,null,"WGC 2025 - 15m",{"$f":"VLOOKUP(F2102,Soutez!A:B,2,FALSE)","v":"CZ"},{"$f":"VLOOKUP(F2102,Soutez!A:C,3,FALSE)","v":2025},10,6121,1.125,8392,9441,null,null,"JS-MD3","MM","Není v databázi"]
["Henrique Navarro",null,null,null,null,"WGC 2025 - 15m",{"$f":"VLOOKUP(F2103,Soutez!A:B,2,FALSE)","v":"CZ"},{"$f":"VLOOKUP(F2103,Soutez!A:C,3,FALSE)","v":2025},11,6046,{"$f":"VLOOKUP(F2103,Soutez,12,0)","v":1.125},8228,9257,null,null,"Ventus 2a","VV","Není v databázi"]
["Jeroen Verkuijl",null,null,null,null,"WGC 2025 - 15m",{"$f":"VLOOKUP(F2104,Soutez!A:B,2,FALSE)","v":"CZ"},{"$f":"VLOOKUP(F2104,Soutez!A:C,3,FALSE)","v":2025},12,6037,1.125,8131,9147,null,null,"JS-MD 3","JV","Není v databázi"]
["Michael Sorenson",null,null,null,null,"WGC 2025 - 15m",{"$f":"VLOOKUP(F2105,Soutez!A:B,2,FALSE)","v":"CZ"},{"$f":"VLOOKUP(F2105,Soutez!A:C,3,FALSE)","v":2025},13,5892,1.125,7896,8883,null,null,"Ventus 2a","AF","Není v databázi"]
["Karel Novak",{"$f":"VLOOKUP(A2106,Pilot,2,0)","v":1993},{"$f":"VLOOKUP(A2106,Pilot,5,0)","v":"M"},{"$f":"VLOOKUP(A2106,Pilot,3,0)","v":"Mladá Boleslav"},{"$f":"VLOOKUP(A2106,Pilot,4,0)","v":"CZ/C1"},"WGC 2025 - 15m",{"$f":"VLOOKUP(F2106,Soutez!A:B,2,FALSE)","v":"CZ"},{"$f":"VLOOKUP(F2106,Soutez!A:C,3,FALSE)","v":2025},14,5873,1.125,7789,8763,null,null,"Ventus 2a","AX",""]
["Tapio Tourula",null,null,null,null,"WGC 2025 - 15m",{"$f":"VLOOKUP(F2107,Soutez!A:B,2,FALSE)","v":"CZ"},{"$f":"VLOOKUP(F2107,Soutez!A:C,3,FALSE)","v":2025},15,5856,1.125,7683,8643,null,null,"Ventus 3F","3F","Není v databázi"]
["Steffen Schwarzer",null,null,null,null,"WGC 2025 - 15m",{"$f":"VLOOKUP(F2108,Soutez!A:B,2,FALSE)","v":"CZ"},{"$f":"VLOOKUP(F2108,Soutez!A:C,3,FALSE)","v":2025},16,5720,1.125,7458,8390,null,null,"JS-MD 3","L7","Není v databázi"]
["Lucas Goldenzweig",null,null,null,null,"WGC 2025 - 15m",{"$f":"VLOOKUP(F2109,Soutez!A:B,2,FALSE)","v":"CZ"},{"$f":"VLOOKUP(F2109,Soutez!A:C,3,FALSE)","v":2025},17,5692,1.125,7341,8259,null,null,"Ventus 2a","EY","Není v databázi"]
["Tamas Vamosi",null,null,null,null,"WGC 2025 - 15m",{"$f":"VLOOKUP(F2110,Soutez!A:B,2,FALSE)","v":"CZ"},{"$f":"VLOOKUP(F2110,Soutez!A:C,3,FALSE)","v":2025},18,5679,1.125,7240,8145,null,null,"Ventus 2a","V8","Není v databázi"]
["A. M. Litt",null,null,null,null,"WGC 2025 - 15m",{"$f":"VLOOKUP(F2111,Soutez!A:B,2,FALSE)","v":"CZ"},{"$f":"VLOOKUP(F2111,Soutez!A:C,3,FALSE)","v":2025},19,5668,1.125,7140,8033,null,null,"Ventus 2b","MMI","Není v databázi"]
["Thomas Leduc",null,null,null,null,"WGC 2025 - 15m",{"$f":"VLOOKUP(F2112,Soutez!A:B,2,FALSE)","v":"CZ"},{"$f":"VLOOKUP(F2112,Soutez!A:C,3,FALSE)","v":2025},20,5522,1.125,6905,7768,null,null,"Ventus 2c","LX","Není v databázi"]
["Yves Gerster",null,null,null,null,"WGC 2025 - 15m",{"$f":"VLOOKUP(F2113,Soutez!A:B,2,FALSE)","v":"CZ"},{"$f":"VLOOKUP(F2113,Soutez!A:C,3,FALSE)","v":2025},21,5512,1.125,6806,7657,null,null,"JS-MD 3","IR","Není v databázi"]
["Pavel Trybenekr",{"$f":"VLOOKUP(A2114,Pilot,2,0)","v":1990},{"$f":"VLOOKUP(A2114,Pilot,5,0)","v":"M"},{"$f":"VLOOKUP(A2114,Pilot,3,0)","v":"Hořice"},{"$f":"VLOOKUP(A2114,Pilot,4,0)","v":"CZ/C2"},"WGC 2025 - 15m",{"$f":"VLOOKUP(F2114,Soutez!A:B,2,FALSE)","v":"CZ"},{"$f":"VLOOKUP(F2114,Soutez!A:C,3,FALSE)","v":2025},22,5494,1.125,6700,7538,null,null,"JS-MD3","ZE",""]
["Damian Goldenzweig",null,null,null,null,"WGC 2025 - 15m",{"$f":"VLOOKUP(F2115,Soutez!A:B,2,FALSE)","v":"CZ"},{"$f":"VLOOKUP(F2115,Soutez!A:C,3,FALSE)","v":2025},23,5370,1.125,6486,7297,null,null,"ASW 27-18","FE","Není v databázi"]
["Vladas Motuza",null,null,null,null,"WGC 2025 - 15m",{"$f":"VLOOKUP(F2116,Soutez!A:B,2,FALSE)","v":"CZ"},{"$f":"VLOOKUP(F2116,Soutez!A:C,3,FALSE)","v":2025},24,5328,1.125,6356,7151,null,null,"ASW 27-18","M7","Není v databázi"]
["Kornel Negro",null,null,null,null,"WGC 2025 - 15m",{"$f":"VLOOKUP(F2117,Soutez!A:B,2,FALSE)","v":"CZ"},{"$f":"VLOOKUP(F2117,Soutez!A:C,3,FALSE)","v":2025},25,5253,1.125,6191,6965,null,null,"JS-MD 3","BK","Není v databázi"]
["Jared Granzow",null,null,null,null,"WGC 2025 - 15m",{"$f":"VLOOKUP(F2118,Soutez!A:B,2,FALSE)","v":"CZ"},{"$f":"VLOOKUP(F2118,Soutez!A:C,3,FALSE)","v":2025},26,5179,1.125,6028,6782,null,null,"JS3",73,"Není v databázi"]
["Lucio Bordin",null,null,null,null,"WGC 2025 - 15m",{"$f":"VLOOKUP(F2119,Soutez!A:B,2,FALSE)","v":"CZ"},{"$f":"VLOOKUP(F2119,Soutez!A:C,3,FALSE)","v":2025},27,5027,1.125,5787,6510,null,null,"JS-MD3","AI","Není v databázi"]
["Sami Rissanen",null,null,null,null,"WGC 2025 - 15m",{"$f":"VLOOKUP(F2120,Soutez!A:B,2,FALSE)","v":"CZ"},{"$f":"VLOOKUP(F2120,Soutez!A:C,3,FALSE)","v":2025},28,4918,1.125,5588,6287,null,null,"JS-MD 3","3J","Není v databázi"]
["Paul Bernhard",null,null,null,null,"WGC 2025 - 15m",{"$f":"VLOOKUP(F2121,Soutez!A:B,2,FALSE)","v":"CZ"},{"$f":"VLOOKUP(F2121,Soutez!A:C,3,FALSE)","v":2025},29,4760,1.125,5340,6008,null,null,"ASW 27-18E","XK","Není v databázi"]
["Roberto Pinato",null,null,null,null,"WGC 2025 - 15m",{"$f":"VLOOKUP(F2122,Soutez!A:B,2,FALSE)","v":"CZ"},{"$f":"VLOOKUP(F2122,Soutez!A:C,3,FALSE)","v":2025},30,4483,1.125,4972,5594,null,null,"JS-MD3","RY","Není v databázi"]
["Henrik A. Breidahl",null,null,null,null,"WGC 2025 - 15m",{"$f":"VLOOKUP(F2123,Soutez!A:B,2,FALSE)","v":"CZ"},{"$f":"VLOOKUP(F2123,Soutez!A:C,3,FALSE)","v":2025},31,4263,1.125,4661,5244,null,null,"JS-MD3",14,"Není v databázi"]
["Vladimir Foltin",null,null,null,null,"WGC 2025 - 15m",{"$f":"VLOOKUP(F2124,Soutez!A:B,2,FALSE)","v":"CZ"},{"$f":"VLOOKUP(F2124,Soutez!A:C,3,FALSE)","v":2025},32,3849,1.125,4155,4674,null,null,"JS-MD 3",3,"Není v databázi"]
["Gustavo Shigueno",null,null,null,null,"WGC 2025 - 15m",{"$f":"VLOOKUP(F2125,Soutez!A:B,2,FALSE)","v":"CZ"},{"$f":"VLOOKUP(F2125,Soutez!A:C,3,FALSE)","v":2025},33,3770,1.125,3987,4485,null,null,"ASW 27-18E","EMI","Není v databázi"]
["Jonathan Sverre Bulow-Olsen",null,null,null,null,"WGC 2025 - 15m",{"$f":"VLOOKUP(F2126,Soutez!A:B,2,FALSE)","v":"CZ"},{"$f":"VLOOKUP(F2126,Soutez!A:C,3,FALSE)","v":2025},34,3567,1.125,3693,4155,null,null,"Ventus 2ct","RJ","Není v databázi"]
["David Jansen",null,null,null,null,"WGC 2025 - 15m",{"$f":"VLOOKUP(F2127,Soutez!A:B,2,FALSE)","v":"CZ"},{"$f":"VLOOKUP(F2127,Soutez!A:C,3,FALSE)","v":2025},35,2241,1.125,2265,2548,null,null,"Ventus 3T","EK","Není v databázi"]
["Lukas Volek",{"$f":"VLOOKUP(A2128,Pilot,2,0)","v":2004},{"$f":"VLOOKUP(A2128,Pilot,5,0)","v":"M"},{"$f":"VLOOKUP(A2128,Pilot,3,0)","v":"Hodkovice"},{"$f":"VLOOKUP(A2128,Pilot,4,0)","v":"CZ/C2"},"Safari Cup 2025 - Klub",{"$f":"VLOOKUP(F2128,Soutez!A:B,2,FALSE)","v":"CZ"},{"$f":"VLOOKUP(F2128,Soutez!A:C,3,FALSE)","v":2025},1,2379,0.73,{"$f":"ROUND(J2128/MAX($J$2128:$J$2156)*10000*0.7+(MAX($I$2128:$I$2156)-I2128)/(MAX($I$2128:$I$2156)-1)*10000*0.3,0)","v":10000},{"$f":"ROUND(K2128*L2128,0)","v":7300},"x",null,"ASW-19B","XP","Junior v roce 2026"]
["Daniel Ryba",1994,"M","Dvůr Králové","CZ/C2","Safari Cup 2025 - Klub",{"$f":"VLOOKUP(F2129,Soutez!A:B,2,FALSE)","v":"CZ"},{"$f":"VLOOKUP(F2129,Soutez!A:C,3,FALSE)","v":2025},2,2252,0.73,9519,{"$f":"ROUND(K2129*L2129,0)","v":6949},"x",null,"ASW-19B","L7",""]
["Jan Smaha",1958,"M","Česká Lípa","CZ/C2","Safari Cup 2025 - Klub",{"$f":"VLOOKUP(F2130,Soutez!A:B,2,FALSE)","v":"CZ"},{"$f":"VLOOKUP(F2130,Soutez!A:C,3,FALSE)","v":2025},3,2222,0.73,9324,6807,"x",null,"ASW-15B","CW",""]
["Tomas Kulhavy",2001,"M","Liberec","CZ/C2","Safari Cup 2025 - Klub",{"$f":"VLOOKUP(F2131,Soutez!A:B,2,FALSE)","v":"CZ"},{"$f":"VLOOKUP(F2131,Soutez!A:C,3,FALSE)","v":2025},4,2033,0.73,8660,6322,"x",null,"Std. Cirrus WL","YU","Junior v roce 2026"]
["Jaroslav Sima",1972,"M","Chomutov","CZ/C2","Safari Cup 2025 - Klub",{"$f":"VLOOKUP(F2132,Soutez!A:B,2,FALSE)","v":"CZ"},{"$f":"VLOOKUP(F2132,Soutez!A:C,3,FALSE)","v":2025},5,2027,0.73,8536,6231,"x",null,"G-104 Speed Astir II","V2",""]
["Andrzej Sznajder",null,null,"Leszczyňski",null,"Safari Cup 2025 - Klub",{"$f":"VLOOKUP(F2133,Soutez!A:B,2,FALSE)","v":"CZ"},{"$f":"VLOOKUP(F2133,Soutez!A:C,3,FALSE)","v":2025},6,2006,0.73,8367,6108,null,null,"Centrair C-101A Pegase","AS","Není v databázi"]
["Marek Kornec",{"$f":"VLOOKUP(A2134,Pilot,2,0)","v":1957},{"$f":"VLOOKUP(A2134,Pilot,5,0)","v":"M"},{"$f":"VLOOKUP(A2134,Pilot,3,0)","v":"Dvůr Králové"},{"$f":"VLOOKUP(A2134,Pilot,4,0)","v":"CZ/C2"},"Safari Cup 2025 - Klub",{"$f":"VLOOKUP(F2134,Soutez!A:B,2,FALSE)","v":"CZ"},{"$f":"VLOOKUP(F2134,Soutez!A:C,3,FALSE)","v":2025},7,2005,0.73,8257,6028,"x",null,"DG-200 15m","MK",""]
["Ondrej Teichman",1984,"M","Dvůr Králové","CZ/C2","Safari Cup 2025 - Klub",{"$f":"VLOOKUP(F2135,Soutez!A:B,2,FALSE)","v":"CZ"},{"$f":"VLOOKUP(F2135,Soutez!A:C,3,FALSE)","v":2025},8,1964,0.73,8029,5861,"x",null,"Cirrus VTC","OT",""]
["Vojtech Vach 03",2003,"M","Vrchlabí","CZ/C2","Safari Cup 2025 - Klub",{"$f":"VLOOKUP(F2136,Soutez!A:B,2,FALSE)","v":"CZ"},{"$f":"VLOOKUP(F2136,Soutez!A:C,3,FALSE)","v":2025},9,1947,0.73,7872,5747,null,null,"VSO-10","ML","Junior v roce 2026"]
["Jan Hybner",1977,"M","Liberec","CZ/C2","Safari Cup 2025 - Klub",{"$f":"VLOOKUP(F2137,Soutez!A:B,2,FALSE)","v":"CZ"},{"$f":"VLOOKUP(F2137,Soutez!A:C,3,FALSE)","v":2025},10,1864,0.73,7520,5490,"x",null,"HpH 304cz 15m","LB",""]
["Krzysztof Pienkowski",null,null,"Bielsko-Biala",null,"Safari Cup 2025 - Klub",{"$f":"VLOOKUP(F2138,Soutez!A:B,2,FALSE)","v":"CZ"},{"$f":"VLOOKUP(F2138,Soutez!A:C,3,FALSE)","v":2025},11,1779,0.73,7163,5229,null,null,"LS-4","KP","Není v databázi"]
["Milan Bado",{"$f":"VLOOKUP(A2139,Pilot,2,0)","v":1975},{"$f":"VLOOKUP(A2139,Pilot,5,0)","v":"M"},{"$f":"VLOOKUP(A2139,Pilot,3,0)","v":"Kolín"},{"$f":"VLOOKUP(A2139,Pilot,4,0)","v":"CZ/C1"},"Safari Cup 2025 - Klub",{"$f":"VLOOKUP(F2139,Soutez!A:B,2,FALSE)","v":"CZ"},{"$f":"VLOOKUP(F2139,Soutez!A:C,3,FALSE)","v":2025},12,1716,0.73,6871,5016,"x",null,"ASW-19B","NO",""]
["Karel Novak",1993,"M","Mladá Boleslav","CZ/C1","Safari Cup 2025 - Klub",{"$f":"VLOOKUP(F2140,Soutez!A:B,2,FALSE)","v":"CZ"},{"$f":"VLOOKUP(F2140,Soutez!A:C,3,FALSE)","v":2025},13,1704,0.73,6728,4911,null,null,"VSO-10","AB",""]
["Francziszek Mazur",null,null,"AZL",null,"Safari Cup 2025 - Klub",{"$f":"VLOOKUP(F2141,Soutez!A:B,2,FALSE)","v":"CZ"},{"$f":"VLOOKUP(F2141,Soutez!A:C,3,FALSE)","v":2025},14,1540,0.73,6138,4481,null,null,"Std. Cirrus","GM","Není v databázi"]
["Wolfgang Sluka",{"$f":"VLOOKUP(A2142,Pilot,2,0)","v":1942},{"$f":"VLOOKUP(A2142,Pilot,5,0)","v":"M"},{"$f":"VLOOKUP(A2142,Pilot,3,0)","v":"Liberec"},{"$f":"VLOOKUP(A2142,Pilot,4,0)","v":"CZ/C2"},"Safari Cup 2025 - Klub",{"$f":"VLOOKUP(F2142,Soutez!A:B,2,FALSE)","v":"CZ"},{"$f":"VLOOKUP(F2142,Soutez!A:C,3,FALSE)","v":2025},15,1462,0.73,5802,4235,"x",null,"Std. Cirrus","KA",""]
["Adela Vachova",2007,"F","Hodkovice","CZ/C2","Safari Cup 2025 - Klub",{"$f":"VLOOKUP(F2143,Soutez!A:B,2,FALSE)","v":"CZ"},{"$f":"VLOOKUP(F2143,Soutez!A:C,3,FALSE)","v":2025},16,1446,0.73,5648,{"$f":"ROUND(K2143*L2143,0)","v":4123},"x","x","ASW-15B","B","Junior v roce 2026"]
["Leos Nosek",1958,"M","Křižanov","CZ/M","Safari Cup 2025 - Klub",{"$f":"VLOOKUP(F2144,Soutez!A:B,2,FALSE)","v":"CZ"},{"$f":"VLOOKUP(F2144,Soutez!A:C,3,FALSE)","v":2025},17,1428,0.73,5487,4006,"x",null,"DG-101 G","3A",""]
["Aleksander Jedrosz",null,null,null,null,"Safari Cup 2025 - Klub",{"$f":"VLOOKUP(F2145,Soutez!A:B,2,FALSE)","v":"CZ"},{"$f":"VLOOKUP(F2145,Soutez!A:C,3,FALSE)","v":2025},18,1282,0.73,4951,3614,null,null,"Centrair C-101A Pegase","AJ","Není v databázi"]
["Vladislav Cadsky",{"$f":"VLOOKUP(A2146,Pilot,2,0)","v":1975},{"$f":"VLOOKUP(A2146,Pilot,5,0)","v":"M"},{"$f":"VLOOKUP(A2146,Pilot,3,0)","v":"Kolín"},{"$f":"VLOOKUP(A2146,Pilot,4,0)","v":"CZ/C1"},"Safari Cup 2025 - Klub",{"$f":"VLOOKUP(F2146,Soutez!A:B,2,FALSE)","v":"CZ"},{"$f":"VLOOKUP(F2146,Soutez!A:C,3,FALSE)","v":2025},19,1229,0.73,4688,3422,"x",null,"LS-1f","CC",""]
["Vojtech Pivonka",1976,"M","Vrchlabí","CZ/C2","Safari Cup 2025 - Klub",{"$f":"VLOOKUP(F2147,Soutez!A:B,2,FALSE)","v":"CZ"},{"$f":"VLOOKUP(F2147,Soutez!A:C,3,FALSE)","v":2025},20,1120,0.73,4260,3110,"x",null,"G-103 Twin Astir dvojí (zatahovací podvozek)",5,{"$f":"IF(ISERROR(VLOOKUP(A2147,Pilot,6,0)),\"Není v databázi\",VLOOKUP(A2147,Pilot,6,0))","v":""}]
["Krzysztof Kostka",null,null,"KSS",null,"Safari Cup 2025 - Klub",{"$f":"VLOOKUP(F2148,Soutez!A:B,2,FALSE)","v":"CZ"},{"$f":"VLOOKUP(F2148,Soutez!A:C,3,FALSE)","v":2025},21,1029,0.73,3885,2836,null,null,"DG-300 Club ELAN (RG) (zatahovací podvozek)","N5","Není v databázi"]
["Leszek Karczewski",null,null,"Podhalaňski",null,"Safari Cup 2025 - Klub",{"$f":"VLOOKUP(F2149,Soutez!A:B,2,FALSE)","v":"CZ"},{"$f":"VLOOKUP(F2149,Soutez!A:C,3,FALSE)","v":2025},22,897,0.73,3389,2474,null,null,"Mini Nimbus c","LK","Není v databázi"]
["Karel Policky",{"$f":"VLOOKUP(A2150,Pilot,2,0)","v":1950},{"$f":"VLOOKUP(A2150,Pilot,5,0)","v":"M"},{"$f":"VLOOKUP(A2150,Pilot,3,0)","v":"Kolín"},{"$f":"VLOOKUP(A2150,Pilot,4,0)","v":"CZ/C1"},"Safari Cup 2025 - Klub",{"$f":"VLOOKUP(F2150,Soutez!A:B,2,FALSE)","v":"CZ"},{"$f":"VLOOKUP(F2150,Soutez!A:C,3,FALSE)","v":2025},23,873,0.73,3212,2345,"x",null,"VSO-10",93,""]
["Martin Markl",1960,"M","Kolín","CZ/C1","Safari Cup 2025 - Klub",{"$f":"VLOOKUP(F2151,Soutez!A:B,2,FALSE)","v":"CZ"},{"$f":"VLOOKUP(F2151,Soutez!A:C,3,FALSE)","v":2025},24,650,0.73,2448,1787,"x",null,"ASK-21 dvojí","AK",""]
["Jerzy Mikolajczyk",null,null,"AZM/KSS",null,"Safari Cup 2025 - Klub",{"$f":"VLOOKUP(F2152,Soutez!A:B,2,FALSE)","v":"CZ"},{"$f":"VLOOKUP(F2152,Soutez!A:C,3,FALSE)","v":2025},25,362,0.73,1494,1091,null,null,"LS 4","YL","Není v databázi"]
["Marek Hlavaty",{"$f":"VLOOKUP(A2153,Pilot,2,0)","v":1974},{"$f":"VLOOKUP(A2153,Pilot,5,0)","v":"M"},{"$f":"VLOOKUP(A2153,Pilot,3,0)","v":"Liberec"},{"$f":"VLOOKUP(A2153,Pilot,4,0)","v":"CZ/C2"},"Safari Cup 2025 - Klub",{"$f":"VLOOKUP(F2153,Soutez!A:B,2,FALSE)","v":"CZ"},{"$f":"VLOOKUP(F2153,Soutez!A:C,3,FALSE)","v":2025},26,337,0.73,1313,958,"x",null,"VSO-10",78,""]
["Karel Ertl",{"$f":"VLOOKUP(A2154,Pilot,2,0)","v":1939},{"$f":"VLOOKUP(A2154,Pilot,5,0)","v":"M"},{"$f":"VLOOKUP(A2154,Pilot,3,0)","v":"LK Břeclav"},{"$f":"VLOOKUP(A2154,Pilot,4,0)","v":"CZ/M"},"Safari Cup 2025 - Klub",{"$f":"VLOOKUP(F2154,Soutez!A:B,2,FALSE)","v":"CZ"},{"$f":"VLOOKUP(F2154,Soutez!A:C,3,FALSE)","v":2025},27,290,0.73,1068,780,"x",null,"TST-10M Atlas","KE",""]
["Ryszard Bendkowski",null,null,"Varšava",null,"Safari Cup 2025 - Klub",{"$f":"VLOOKUP(F2155,Soutez!A:B,2,FALSE)","v":"CZ"},{"$f":"VLOOKUP(F2155,Soutez!A:C,3,FALSE)","v":2025},28,250,0.73,843,615,null,null,"SZD-48 Jantar Std 2,3","FILI","Není v databázi"]
["Piotr Lobozewicz",null,null,"Nowy Targ",null,"Safari Cup 2025 - Klub",{"$f":"VLOOKUP(F2156,Soutez!A:B,2,FALSE)","v":"CZ"},{"$f":"VLOOKUP(F2156,Soutez!A:C,3,FALSE)","v":2025},29,0,0.73,0,0,null,null,"SZD-48 Jantar std. 3","B8","Není v databázi"]
["Milan Dvorak",{"$f":"VLOOKUP(A2157,Pilot,2,0)","v":1965},{"$f":"VLOOKUP(A2157,Pilot,5,0)","v":"M"},{"$f":"VLOOKUP(A2157,Pilot,3,0)","v":"Liberec"},{"$f":"VLOOKUP(A2157,Pilot,4,0)","v":"CZ/C2"},"Safari Cup 2025 - Kombi",{"$f":"VLOOKUP(F2157,Soutez!A:B,2,FALSE)","v":"CZ"},{"$f":"VLOOKUP(F2157,Soutez!A:C,3,FALSE)","v":2025},1,2808,0.755,{"$f":"ROUND(J2157/MAX($J$2157:$J$2166)*10000*0.7+(MAX($I$2157:$I$2166)-I2157)/(MAX($I$2157:$I$2166)-1)*10000*0.3,0)","v":10000},{"$f":"ROUND(K2157*L2157,0)","v":7550},"x",null,"HpH 304cz 17,4m (voda)","IH",""]
["Zdenek Boruvka 54",1954,"M","Jičín","CZ/C2","Safari Cup 2025 - Kombi",{"$f":"VLOOKUP(F2158,Soutez!A:B,2,FALSE)","v":"CZ"},{"$f":"VLOOKUP(F2158,Soutez!A:C,3,FALSE)","v":2025},2,2564,0.755,9058,{"$f":"ROUND(K2158*L2158,0)","v":6839},"x",null,"HpH 304S 18m -600 kg (voda)","ZB",""]
["Jan Pazour",{"$f":"VLOOKUP(A2159,Pilot,2,0)","v":1979},{"$f":"VLOOKUP(A2159,Pilot,5,0)","v":"M"},{"$f":"VLOOKUP(A2159,Pilot,3,0)","v":"Dvůr Králové"},{"$f":"VLOOKUP(A2159,Pilot,4,0)","v":"CZ/C2"},"Safari Cup 2025 - Kombi",{"$f":"VLOOKUP(F2159,Soutez!A:B,2,FALSE)","v":"CZ"},{"$f":"VLOOKUP(F2159,Soutez!A:C,3,FALSE)","v":2025},3,2558,0.755,8710,6576,"x",null,"ASW-20 L +FL 16,6m","JP",""]
["Ladislav Prokes",1954,"M","Vrchlabí","CZ/C2","Safari Cup 2025 - Kombi",{"$f":"VLOOKUP(F2160,Soutez!A:B,2,FALSE)","v":"CZ"},{"$f":"VLOOKUP(F2160,Soutez!A:C,3,FALSE)","v":2025},4,2536,0.755,8322,6283,"x",null,"Discus CS (voda)","VR",""]
["Radek Bares",1963,"M","Jičín","CZ/C2","Safari Cup 2025 - Kombi",{"$f":"VLOOKUP(F2161,Soutez!A:B,2,FALSE)","v":"CZ"},{"$f":"VLOOKUP(F2161,Soutez!A:C,3,FALSE)","v":2025},5,2535,0.755,7986,6029,"x",null,"Ventus c 17,6m (voda)","GE",""]
["Martin Cicvarek",1966,"M","Liberec","CZ/C2","Safari Cup 2025 - Kombi",{"$f":"VLOOKUP(F2162,Soutez!A:B,2,FALSE)","v":"CZ"},{"$f":"VLOOKUP(F2162,Soutez!A:C,3,FALSE)","v":2025},6,2223,0.755,6875,{"$f":"ROUND(K2162*L2162,0)","v":5191},"x",null,"KKB 18E+ (FES)","AC",""]
["Milan Meisner",1961,"M","Dvůr Králové","CZ/C2","Safari Cup 2025 - Kombi",{"$f":"VLOOKUP(F2163,Soutez!A:B,2,FALSE)","v":"CZ"},{"$f":"VLOOKUP(F2163,Soutez!A:C,3,FALSE)","v":2025},7,2222,0.755,6539,4937,"x",null,"LAK-17B FES 18m (voda)","TF",""]
["Oskar Wengrzyn",null,null,"Stuttgart",null,"Safari Cup 2025 - Kombi",{"$f":"VLOOKUP(F2164,Soutez!A:B,2,FALSE)","v":"CZ"},{"$f":"VLOOKUP(F2164,Soutez!A:C,3,FALSE)","v":2025},8,2198,0.755,6146,4640,null,null,"Ventus 2b 15m (voda)","Ac4","Není v databázi"]
["Slavomir Tanglmajer",{"$f":"VLOOKUP(A2165,Pilot,2,0)","v":1966},{"$f":"VLOOKUP(A2165,Pilot,5,0)","v":"M"},{"$f":"VLOOKUP(A2165,Pilot,3,0)","v":"Chomutov"},{"$f":"VLOOKUP(A2165,Pilot,4,0)","v":"CZ/C2"},"Safari Cup 2025 - Kombi",{"$f":"VLOOKUP(F2165,Soutez!A:B,2,FALSE)","v":"CZ"},{"$f":"VLOOKUP(F2165,Soutez!A:C,3,FALSE)","v":2025},9,2066,{"$f":"VLOOKUP(F2165,Soutez,12,0)","v":0.755},5484,4140,"x",null,"DG-400 17m (voda)","ST",""]
["Petr Omelka",1970,"M","Vyškov","CZ/M","Safari Cup 2025 - Kombi",{"$f":"VLOOKUP(F2166,Soutez!A:B,2,FALSE)","v":"CZ"},{"$f":"VLOOKUP(F2166,Soutez!A:C,3,FALSE)","v":2025},10,1732,0.755,4318,3260,"x",null,"DG-400 17m (voda)","MR",""]
["Jiri Vondracek",{"$f":"VLOOKUP(A2167,Pilot,2,0)","v":1989},{"$f":"VLOOKUP(A2167,Pilot,5,0)","v":"M"},{"$f":"VLOOKUP(A2167,Pilot,3,0)","v":"Kladno"},{"$f":"VLOOKUP(A2167,Pilot,4,0)","v":"CZ/C1"},"Toužim Cup 2025 - Klub",{"$f":"VLOOKUP(F2167,Soutez!A:B,2,FALSE)","v":"CZ"},{"$f":"VLOOKUP(F2167,Soutez!A:C,3,FALSE)","v":2025},1,2136,0.88,{"$f":"ROUND(J2167/MAX($J$2167:$J$2192)*10000*0.7+(MAX($I$2167:$I$2192)-I2167)/(MAX($I$2167:$I$2192)-1)*10000*0.3,0)","v":10000},{"$f":"ROUND(K2167*L2167,0)","v":8800},"x",null,"H-201b Std. Libelle WL",442,""]
["Roman Jokl",1979,"M","Letkov","CZ/C1","Toužim Cup 2025 - Klub",{"$f":"VLOOKUP(F2168,Soutez!A:B,2,FALSE)","v":"CZ"},{"$f":"VLOOKUP(F2168,Soutez!A:C,3,FALSE)","v":2025},2,2050,0.88,9598,{"$f":"ROUND(K2168*L2168,0)","v":8446},"x",null,"ASW-19B WL","JL",""]
["Stepan Filakovsky",2005,"M","Medlánky","CZ/M","Toužim Cup 2025 - Klub",{"$f":"VLOOKUP(F2169,Soutez!A:B,2,FALSE)","v":"CZ"},{"$f":"VLOOKUP(F2169,Soutez!A:C,3,FALSE)","v":2025},3,1964,0.88,9196,8092,"x",null,"LS-1f","FD","Junior v roce 2026"]
["Jan Beran",1999,"M","Kladno","CZ/C1","Toužim Cup 2025 - Klub",{"$f":"VLOOKUP(F2170,Soutez!A:B,2,FALSE)","v":"CZ"},{"$f":"VLOOKUP(F2170,Soutez!A:C,3,FALSE)","v":2025},4,1963,0.88,9073,7984,"x",null,"ASW-19B","HB",""]
["Jiri Prochazka",1971,"M","Toužim","CZ/C1","Toužim Cup 2025 - Klub",{"$f":"VLOOKUP(F2171,Soutez!A:B,2,FALSE)","v":"CZ"},{"$f":"VLOOKUP(F2171,Soutez!A:C,3,FALSE)","v":2025},5,1878,0.88,8674,7633,"x",null,"Janus CM (FG) (fix gear=pevný podvozek)","J59",""]
["Alex Gulich",2005,"M","Slaný","CZ/C1","Toužim Cup 2025 - Klub",{"$f":"VLOOKUP(F2172,Soutez!A:B,2,FALSE)","v":"CZ"},{"$f":"VLOOKUP(F2172,Soutez!A:C,3,FALSE)","v":2025},6,1854,0.88,8476,7459,"x",null,"Std. Cirrus","TI","Junior v roce 2026"]
["Karel Benisek 76",1976,"M","Toužim","CZ/C1","Toužim Cup 2025 - Klub",{"$f":"VLOOKUP(F2173,Soutez!A:B,2,FALSE)","v":"CZ"},{"$f":"VLOOKUP(F2173,Soutez!A:C,3,FALSE)","v":2025},7,1793,0.88,8156,7177,"x",null,"Janus C (FG)","DF",""]
["Eliska Kudejova",2006,"F","Strakonice","CZ/C1","Toužim Cup 2025 - Klub",{"$f":"VLOOKUP(F2174,Soutez!A:B,2,FALSE)","v":"CZ"},{"$f":"VLOOKUP(F2174,Soutez!A:C,3,FALSE)","v":2025},8,1790,0.88,8026,7063,"x","x","DG-101 G","JE","Junior v roce 2026"]
["Lukas Koukal",1991,"M","Letkov","CZ/C1","Toužim Cup 2025 - Klub",{"$f":"VLOOKUP(F2175,Soutez!A:B,2,FALSE)","v":"CZ"},{"$f":"VLOOKUP(F2175,Soutez!A:C,3,FALSE)","v":2025},9,1750,0.88,7775,6842,"x",null,"ASW-15B","T1",""]
["Josef Beran",1982,"M","Slaný","CZ/C1","Toužim Cup 2025 - Klub",{"$f":"VLOOKUP(F2176,Soutez!A:B,2,FALSE)","v":"CZ"},{"$f":"VLOOKUP(F2176,Soutez!A:C,3,FALSE)","v":2025},10,1742,0.88,7629,6714,"x",null,"Std. Cirrus WL","IT",""]
["Daniel Dvorak",1980,"M","Letkov","CZ/C1","Toužim Cup 2025 - Klub",{"$f":"VLOOKUP(F2177,Soutez!A:B,2,FALSE)","v":"CZ"},{"$f":"VLOOKUP(F2177,Soutez!A:C,3,FALSE)","v":2025},10,1742,0.88,7629,6714,"x",null,"Std. Cirrus","LD",""]
["Josef Kreutzer",1992,"M","Letkov","CZ/C1","Toužim Cup 2025 - Klub",{"$f":"VLOOKUP(F2178,Soutez!A:B,2,FALSE)","v":"CZ"},{"$f":"VLOOKUP(F2178,Soutez!A:C,3,FALSE)","v":2025},12,1462,0.88,6471,5694,"x",null,"Std. Cirrus","AL",""]
["Petr Lonsky",1965,"M","Toužim","CZ/C1","Toužim Cup 2025 - Klub",{"$f":"VLOOKUP(F2179,Soutez!A:B,2,FALSE)","v":"CZ"},{"$f":"VLOOKUP(F2179,Soutez!A:C,3,FALSE)","v":2025},13,1388,0.88,6109,{"$f":"ROUND(K2179*L2179,0)","v":5376},"x",null,"LS-1d","CLI",""]
["Lukas Plocek",1990,"M","Mladá Boleslav","CZ/C1","Toužim Cup 2025 - Klub",{"$f":"VLOOKUP(F2180,Soutez!A:B,2,FALSE)","v":"CZ"},{"$f":"VLOOKUP(F2180,Soutez!A:C,3,FALSE)","v":2025},14,1353,0.88,5874,5169,"x",null,"ASW-19B","AH",""]
["Jakub Jezek",2002,"M","Ústí nad Orlicí","CZ/C2","Toužim Cup 2025 - Klub",{"$f":"VLOOKUP(F2181,Soutez!A:B,2,FALSE)","v":"CZ"},{"$f":"VLOOKUP(F2181,Soutez!A:C,3,FALSE)","v":2025},15,1297,0.88,5570,4902,"x",null,"ASW-15B","X","Junior v roce 2026"]
["Martin Stastny",2005,"M","Medlánky","CZ/M","Toužim Cup 2025 - Klub",{"$f":"VLOOKUP(F2182,Soutez!A:B,2,FALSE)","v":"CZ"},{"$f":"VLOOKUP(F2182,Soutez!A:C,3,FALSE)","v":2025},16,1265,0.88,5346,4704,null,null,"Std. Cirrus WL","CX","Junior v roce 2026"]
["Filip Riabec",2006,"M","Broumov","CZ/C2","Toužim Cup 2025 - Klub",{"$f":"VLOOKUP(F2183,Soutez!A:B,2,FALSE)","v":"CZ"},{"$f":"VLOOKUP(F2183,Soutez!A:C,3,FALSE)","v":2025},17,1206,0.88,5032,4428,"x",null,"ASW-15B","2P","Junior v roce 2026"]
["Jiri Cincera",1966,"M","Toužim","CZ/C1","Toužim Cup 2025 - Klub",{"$f":"VLOOKUP(F2184,Soutez!A:B,2,FALSE)","v":"CZ"},{"$f":"VLOOKUP(F2184,Soutez!A:C,3,FALSE)","v":2025},18,1054,0.88,4414,3884,"x",null,"LS-1c","CI",""]
["Rudolf Jung",1954,"M","Zbraslavice","CZ/C1","Toužim Cup 2025 - Klub",{"$f":"VLOOKUP(F2185,Soutez!A:B,2,FALSE)","v":"CZ"},{"$f":"VLOOKUP(F2185,Soutez!A:C,3,FALSE)","v":2025},19,954,0.88,3966,3490,"x",null,"G-103 Twin Astir dvojí (zatahovací podvozek)","RB",""]
["Jan Vacik",1977,"M","Staňkov","CZ/C1","Toužim Cup 2025 - Klub",{"$f":"VLOOKUP(F2186,Soutez!A:B,2,FALSE)","v":"CZ"},{"$f":"VLOOKUP(F2186,Soutez!A:C,3,FALSE)","v":2025},20,728,0.88,3106,2733,"x",null,"Std. Cirrus",4,""]
["Petra Ctibor",1991,"F","Medlánky","CZ/M","Toužim Cup 2025 - Klub",{"$f":"VLOOKUP(F2187,Soutez!A:B,2,FALSE)","v":"CZ"},{"$f":"VLOOKUP(F2187,Soutez!A:C,3,FALSE)","v":2025},21,650,0.88,2730,2402,"x","x","DG-300 Club ELAN (RG) (zatahovací podvozek)","ER",""]
["Martin Valenta",1969,"M","Toužim","CZ/C1","Toužim Cup 2025 - Klub",{"$f":"VLOOKUP(F2188,Soutez!A:B,2,FALSE)","v":"CZ"},{"$f":"VLOOKUP(F2188,Soutez!A:C,3,FALSE)","v":2025},22,635,0.88,2561,2254,"x",null,"G-104 Speed Astir II b","Y3",""]
["Jan Hruska",1988,"M","Tábor","CZ/C1","Toužim Cup 2025 - Klub",{"$f":"VLOOKUP(F2189,Soutez!A:B,2,FALSE)","v":"CZ"},{"$f":"VLOOKUP(F2189,Soutez!A:C,3,FALSE)","v":2025},23,620,0.88,2392,2105,null,null,"ASW-15B","LF",""]
["Martin Fric",1967,"M","Raná","CZ/C2","Toužim Cup 2025 - Klub",{"$f":"VLOOKUP(F2190,Soutez!A:B,2,FALSE)","v":"CZ"},{"$f":"VLOOKUP(F2190,Soutez!A:C,3,FALSE)","v":2025},24,613,0.88,2249,1979,null,null,"ASW-19B","FR",""]
["Marie Vesela",1999,"F","Staňkov","CZ/C1","Toužim Cup 2025 - Klub",{"$f":"VLOOKUP(F2191,Soutez!A:B,2,FALSE)","v":"CZ"},{"$f":"VLOOKUP(F2191,Soutez!A:C,3,FALSE)","v":2025},25,447,0.88,1585,1395,"x","x","Discus b","IJK",""]
["Tomas Jung",1950,"M","Zbraslavice","CZ/C1","Toužim Cup 2025 - Klub",{"$f":"VLOOKUP(F2192,Soutez!A:B,2,FALSE)","v":"CZ"},{"$f":"VLOOKUP(F2192,Soutez!A:C,3,FALSE)","v":2025},26,23,0.88,75,66,"x",null,"ASW-19B","O2",""]
["Petr Jiranek 91",{"$f":"VLOOKUP(A2193,Pilot,2,0)","v":1991},{"$f":"VLOOKUP(A2193,Pilot,5,0)","v":"M"},{"$f":"VLOOKUP(A2193,Pilot,3,0)","v":"Toužim"},{"$f":"VLOOKUP(A2193,Pilot,4,0)","v":"CZ/C1"},"Toužim Cup 2025 - Kombi",{"$f":"VLOOKUP(F2193,Soutez!A:B,2,FALSE)","v":"CZ"},{"$f":"VLOOKUP(F2193,Soutez!A:C,3,FALSE)","v":2025},1,2240,0.92,{"$f":"ROUND(J2193/MAX($J$2193:$J$2227)*10000*0.7+(MAX($I$2193:$I$2227)-I2193)/(MAX($I$2193:$I$2227)-1)*10000*0.3,0)","v":10000},{"$f":"ROUND(K2193*L2193,0)","v":9200},"x",null,"Ventus c /17,6m","PC",""]
["Ondrej Dupal",1966,"M","GAC Benešov","CZ/C1","Toužim Cup 2025 - Kombi",{"$f":"VLOOKUP(F2194,Soutez!A:B,2,FALSE)","v":"CZ"},{"$f":"VLOOKUP(F2194,Soutez!A:C,3,FALSE)","v":2025},2,2225,0.92,9862,{"$f":"ROUND(K2194*L2194,0)","v":9073},"x",null,"ASG-29E /18m","GO",""]
["Jan Viskot",1995,"M","Břeclav","CZ/M","Toužim Cup 2025 - Kombi",{"$f":"VLOOKUP(F2195,Soutez!A:B,2,FALSE)","v":"CZ"},{"$f":"VLOOKUP(F2195,Soutez!A:C,3,FALSE)","v":2025},3,2216,0.92,9743,8964,"x",null,"Discus 2a /15m","GX",""]
["Pavel Jiranek",1993,"M","Toužim","CZ/C1","Toužim Cup 2025 - Kombi",{"$f":"VLOOKUP(F2196,Soutez!A:B,2,FALSE)","v":"CZ"},{"$f":"VLOOKUP(F2196,Soutez!A:C,3,FALSE)","v":2025},4,2202,0.92,9609,8840,"x",null,"Ventus c /17,6m","CS",""]
["Petr Jiranek 63",1962,"M","Toužim","CZ/C1","Toužim Cup 2025 - Kombi",{"$f":"VLOOKUP(F2197,Soutez!A:B,2,FALSE)","v":"CZ"},{"$f":"VLOOKUP(F2197,Soutez!A:C,3,FALSE)","v":2025},5,2097,0.92,9189,8454,"x",null,"HpH 304MS SHARK /18m (560 kg)","LK",""]
["Jan Smekal",1976,"M","Zbraslavice","CZ/C1","Toužim Cup 2025 - Kombi",{"$f":"VLOOKUP(F2198,Soutez!A:B,2,FALSE)","v":"CZ"},{"$f":"VLOOKUP(F2198,Soutez!A:C,3,FALSE)","v":2025},6,2092,0.92,9083,8356,"x",null,"Ventus c /17,6m","CL",""]
["Ivan Harasta 65",1965,"M","Toužim","CZ/C1","Toužim Cup 2025 - Kombi",{"$f":"VLOOKUP(F2199,Soutez!A:B,2,FALSE)","v":"CZ"},{"$f":"VLOOKUP(F2199,Soutez!A:C,3,FALSE)","v":2025},7,2037,0.92,8820,8114,null,null,"Nimbus 4DM","MM",""]
["Jiri Fousek",1990,"M","Raná","CZ/C2","Toužim Cup 2025 - Kombi",{"$f":"VLOOKUP(F2200,Soutez!A:B,2,FALSE)","v":"CZ"},{"$f":"VLOOKUP(F2200,Soutez!A:C,3,FALSE)","v":2025},8,2034,0.92,8720,8022,"x",null,"Ventus c /17,6m","XE",""]
["Jan Muknsnabl",1992,"M","Letkov","CZ/C1","Toužim Cup 2025 - Kombi",{"$f":"VLOOKUP(F2201,Soutez!A:B,2,FALSE)","v":"CZ"},{"$f":"VLOOKUP(F2201,Soutez!A:C,3,FALSE)","v":2025},9,1997,0.92,8513,7832,"x",null,"Nimbus 2M WL","NB",""]
["Hana Treslova",1991,"F","Raná","CZ/C2","Toužim Cup 2025 - Kombi",{"$f":"VLOOKUP(F2202,Soutez!A:B,2,FALSE)","v":"CZ"},{"$f":"VLOOKUP(F2202,Soutez!A:C,3,FALSE)","v":2025},10,1961,0.92,8310,7645,null,null,"JS3-18m","XM",""]
["Martin Zahalka",1987,"M","Staňkov","CZ/C1","Toužim Cup 2025 - Kombi",{"$f":"VLOOKUP(F2203,Soutez!A:B,2,FALSE)","v":"CZ"},{"$f":"VLOOKUP(F2203,Soutez!A:C,3,FALSE)","v":2025},11,1920,0.92,8091,{"$f":"ROUND(K2203*L2203,0)","v":7444},"x",null,"DG-400 17m","FF",""]
["Vratislav Sram",1966,"M","Broumov","CZ/C2","Toužim Cup 2025 - Kombi",{"$f":"VLOOKUP(F2204,Soutez!A:B,2,FALSE)","v":"CZ"},{"$f":"VLOOKUP(F2204,Soutez!A:C,3,FALSE)","v":2025},12,1916,0.92,7988,7349,"x",null,"Nimbus 4DM",7,""]
["Gerald Moser-Furst",null,null,"USFC Krems",null,"Toužim Cup 2025 - Kombi",{"$f":"VLOOKUP(F2205,Soutez!A:B,2,FALSE)","v":"CZ"},{"$f":"VLOOKUP(F2205,Soutez!A:C,3,FALSE)","v":2025},13,1849,0.92,7687,7072,null,null,"Duo Discus (700 kg)","K2","Není v databázi"]
["Petr Bartak",{"$f":"VLOOKUP(A2206,Pilot,2,0)","v":1984},{"$f":"VLOOKUP(A2206,Pilot,5,0)","v":"M"},{"$f":"VLOOKUP(A2206,Pilot,3,0)","v":"Letkov"},{"$f":"VLOOKUP(A2206,Pilot,4,0)","v":"CZ/C1"},"Toužim Cup 2025 - Kombi",{"$f":"VLOOKUP(F2206,Soutez!A:B,2,FALSE)","v":"CZ"},{"$f":"VLOOKUP(F2206,Soutez!A:C,3,FALSE)","v":2025},14,1835,0.92,7553,6949,"x",null,"JS3-18m","BS",""]
["Vit Prokop",1987,"M","Medlánky","CZ/M","Toužim Cup 2025 - Kombi",{"$f":"VLOOKUP(F2207,Soutez!A:B,2,FALSE)","v":"CZ"},{"$f":"VLOOKUP(F2207,Soutez!A:C,3,FALSE)","v":2025},15,1828,0.92,7440,6845,"x",null,"Ventus c /17,6m","PD",""]
["Frantisek Myska",1968,"M","Most","CZ/C2","Toužim Cup 2025 - Kombi",{"$f":"VLOOKUP(F2208,Soutez!A:B,2,FALSE)","v":"CZ"},{"$f":"VLOOKUP(F2208,Soutez!A:C,3,FALSE)","v":2025},16,1824,0.92,7336,6749,"x",null,"Ventus bt /16,6m","SK",{"$f":"IF(ISERROR(VLOOKUP(A2208,Pilot,6,0)),\"Není v databázi\",VLOOKUP(A2208,Pilot,6,0))","v":""}]
["Radek Zima 78",1978,"M","Hodkovice","CZ/C2","Toužim Cup 2025 - Kombi",{"$f":"VLOOKUP(F2209,Soutez!A:B,2,FALSE)","v":"CZ"},{"$f":"VLOOKUP(F2209,Soutez!A:C,3,FALSE)","v":2025},17,1778,0.92,7102,6534,null,null,"ASG-29E /18m","XZ",""]
["Michal Cupak",{"$f":"VLOOKUP(A2210,Pilot,2,0)","v":1991},{"$f":"VLOOKUP(A2210,Pilot,5,0)","v":"M"},{"$f":"VLOOKUP(A2210,Pilot,3,0)","v":"Medlánky"},{"$f":"VLOOKUP(A2210,Pilot,4,0)","v":"CZ/M"},"Toužim Cup 2025 - Kombi",{"$f":"VLOOKUP(F2210,Soutez!A:B,2,FALSE)","v":"CZ"},{"$f":"VLOOKUP(F2210,Soutez!A:C,3,FALSE)","v":2025},18,1769,0.92,6983,6424,"x",null,"Duo Discus X","MD",""]
["Michal Drab",1969,"M","Letkov","CZ/C1","Toužim Cup 2025 - Kombi",{"$f":"VLOOKUP(F2211,Soutez!A:B,2,FALSE)","v":"CZ"},{"$f":"VLOOKUP(F2211,Soutez!A:C,3,FALSE)","v":2025},19,1716,0.92,6726,6188,"x",null,"DG-400 17m","DM",""]
["Danes Grula",1961,"M","Medlánky","CZ/M","Toužim Cup 2025 - Kombi",{"$f":"VLOOKUP(F2212,Soutez!A:B,2,FALSE)","v":"CZ"},{"$f":"VLOOKUP(F2212,Soutez!A:C,3,FALSE)","v":2025},20,1436,0.92,5760,5299,"x",null,"ASG-32 -850 kg","DX",""]
["Martin Picka",1974,"M","Tábor","CZ/C1","Toužim Cup 2025 - Kombi",{"$f":"VLOOKUP(F2213,Soutez!A:B,2,FALSE)","v":"CZ"},{"$f":"VLOOKUP(F2213,Soutez!A:C,3,FALSE)","v":2025},21,1387,0.92,5516,5075,null,null,"JS3-18m","NS",""]
["Olga Mokosova",1970,"F","Jihlava","CZ/M","Toužim Cup 2025 - Kombi",{"$f":"VLOOKUP(F2214,Soutez!A:B,2,FALSE)","v":"CZ"},{"$f":"VLOOKUP(F2214,Soutez!A:C,3,FALSE)","v":2025},22,1294,0.92,5135,4724,"x","x","LS-6c /18m WL","MMI",""]
["Vaclav Svoboda",1970,"M","Letkov","CZ/C1","Toužim Cup 2025 - Kombi",{"$f":"VLOOKUP(F2215,Soutez!A:B,2,FALSE)","v":"CZ"},{"$f":"VLOOKUP(F2215,Soutez!A:C,3,FALSE)","v":2025},23,1240,0.92,4875,4485,"x",null,"LS-8-18 /18m",301,""]
["Jan Zanda",1983,"M","Letkov","CZ/C1","Toužim Cup 2025 - Kombi",{"$f":"VLOOKUP(F2216,Soutez!A:B,2,FALSE)","v":"CZ"},{"$f":"VLOOKUP(F2216,Soutez!A:C,3,FALSE)","v":2025},24,1197,0.92,4650,4278,"x",null,"Nimbus 2c WL","MK",""]
["Roman Michalek",1974,"M","Toužim","CZ/C1","Toužim Cup 2025 - Kombi",{"$f":"VLOOKUP(F2217,Soutez!A:B,2,FALSE)","v":"CZ"},{"$f":"VLOOKUP(F2217,Soutez!A:C,3,FALSE)","v":2025},25,851,0.92,3478,3200,"x",null,"DG-400 17m","TK",""]
["Lubos Muknsnabl",1995,"M","Letkov","CZ/C1","Toužim Cup 2025 - Kombi",{"$f":"VLOOKUP(F2218,Soutez!A:B,2,FALSE)","v":"CZ"},{"$f":"VLOOKUP(F2218,Soutez!A:C,3,FALSE)","v":2025},26,765,0.92,3118,2869,"x",null,"Nimbus 2 WL","LCN",""]
["Tomas Rendla",{"$f":"VLOOKUP(A2219,Pilot,2,0)","v":1973},{"$f":"VLOOKUP(A2219,Pilot,5,0)","v":"M"},{"$f":"VLOOKUP(A2219,Pilot,3,0)","v":"Zbraslavice"},{"$f":"VLOOKUP(A2219,Pilot,4,0)","v":"CZ/C1"},"Toužim Cup 2025 - Kombi",{"$f":"VLOOKUP(F2219,Soutez!A:B,2,FALSE)","v":"CZ"},{"$f":"VLOOKUP(F2219,Soutez!A:C,3,FALSE)","v":2025},27,547,0.92,2346,2158,null,null,"EB-29R","EX",""]
["Petr Hotovy",1958,"M","Česká Lípa","CZ/C2","Toužim Cup 2025 - Kombi",{"$f":"VLOOKUP(F2220,Soutez!A:B,2,FALSE)","v":"CZ"},{"$f":"VLOOKUP(F2220,Soutez!A:C,3,FALSE)","v":2025},28,429,0.92,1886,1735,null,null,"HpH 304 TS Twin Shark MS (850 kg)","LP",""]
["Roman Lanzendorf",1964,"M","Letkov","CZ/C1","Toužim Cup 2025 - Kombi",{"$f":"VLOOKUP(F2221,Soutez!A:B,2,FALSE)","v":"CZ"},{"$f":"VLOOKUP(F2221,Soutez!A:C,3,FALSE)","v":2025},29,420,0.92,1767,1626,"x",null,"Duo Discus T (700kg)","ZS",""]
["Zdenek Schenk",1972,"M","Hranice","CZ/M","Toužim Cup 2025 - Kombi",{"$f":"VLOOKUP(F2222,Soutez!A:B,2,FALSE)","v":"CZ"},{"$f":"VLOOKUP(F2222,Soutez!A:C,3,FALSE)","v":2025},30,393,0.92,1592,1465,null,null,"ASG-29E /18m","ŠNeK",""]
["Antonin Kutalek",1943,"M","Zábřeh","CZ/M","Toužim Cup 2025 - Kombi",{"$f":"VLOOKUP(F2223,Soutez!A:B,2,FALSE)","v":"CZ"},{"$f":"VLOOKUP(F2223,Soutez!A:C,3,FALSE)","v":2025},31,281,0.92,1151,1059,null,null,"LAK 17 AT 18m","GL",""]
["Jan Dersak 69",1969,"M","Kralupy","CZ/C1","Toužim Cup 2025 - Kombi",{"$f":"VLOOKUP(F2224,Soutez!A:B,2,FALSE)","v":"CZ"},{"$f":"VLOOKUP(F2224,Soutez!A:C,3,FALSE)","v":2025},32,224,0.92,882,811,null,null,"HpH 304MS SHARK","DJ",""]
["Petr Malcek",1965,"M","Letňany","CZ/C1","Toužim Cup 2025 - Kombi",{"$f":"VLOOKUP(F2225,Soutez!A:B,2,FALSE)","v":"CZ"},{"$f":"VLOOKUP(F2225,Soutez!A:C,3,FALSE)","v":2025},33,105,0.92,419,385,"x",null,"LS-6c /18m WL","F5",""]
["David Zapletal",1970,"M","Mladá Boleslav","CZ/C1","Toužim Cup 2025 - Kombi",{"$f":"VLOOKUP(F2226,Soutez!A:B,2,FALSE)","v":"CZ"},{"$f":"VLOOKUP(F2226,Soutez!A:C,3,FALSE)","v":2025},34,93,0.92,291,268,null,null,"Ventus c /17,6m","PUP",""]
["Frantisek Vancura",1966,"M","Hranice","CZ/M","Toužim Cup 2025 - Kombi",{"$f":"VLOOKUP(F2227,Soutez!A:B,2,FALSE)","v":"CZ"},{"$f":"VLOOKUP(F2227,Soutez!A:C,3,FALSE)","v":2025},34,93,{"$f":"VLOOKUP(F2227,Soutez,12,0)","v":0.92},291,268,null,null,"HpH 304 TS Twin Shark S 850kg","FNC",""]
["Petr Masik",{"$f":"VLOOKUP(A2228,Pilot,2,0)","v":2001},{"$f":"VLOOKUP(A2228,Pilot,5,0)","v":"M"},{"$f":"VLOOKUP(A2228,Pilot,3,0)","v":"Zábřeh"},{"$f":"VLOOKUP(A2228,Pilot,4,0)","v":"CZ/M"},"PPV 2025 - Klub",{"$f":"VLOOKUP(F2228,Soutez!A:B,2,FALSE)","v":"CZ"},{"$f":"VLOOKUP(F2228,Soutez!A:C,3,FALSE)","v":2025},1,3503,0.9,{"$f":"ROUND(J2228/MAX($J$2228:$J$2258)*10000*0.7+(MAX($I$2228:$I$2258)-I2228)/(MAX($I$2228:$I$2258)-1)*10000*0.3,0)","v":10000},{"$f":"ROUND(K2228*L2228,0)","v":9000},"x",null,"ASW 19 B",34,"Junior v roce 2026"]
["Stepan Bartos",2004,"M","Kolín","CZ/C1","PPV 2025 - Klub",{"$f":"VLOOKUP(F2229,Soutez!A:B,2,FALSE)","v":"CZ"},{"$f":"VLOOKUP(F2229,Soutez!A:C,3,FALSE)","v":2025},2,3440,0.9,9774,{"$f":"ROUND(K2229*L2229,0)","v":8797},"x",null,"Discus b WL","LD","Junior v roce 2026"]
["Milan Svoboda 80",1980,"M","Havlíčkův Brod","CZ/C2","PPV 2025 - Klub",{"$f":"VLOOKUP(F2230,Soutez!A:B,2,FALSE)","v":"CZ"},{"$f":"VLOOKUP(F2230,Soutez!A:C,3,FALSE)","v":2025},3,3406,0.9,9606,8645,"x",null,"Std. Cirrus","MS",""]
["Lukas Capek",1992,"M","Letňany","CZ/C1","PPV 2025 - Klub",{"$f":"VLOOKUP(F2231,Soutez!A:B,2,FALSE)","v":"CZ"},{"$f":"VLOOKUP(F2231,Soutez!A:C,3,FALSE)","v":2025},4,3391,0.9,9476,8528,"x",null,"Mosquito","LC",""]
["Amelie Boulanger",null,null,"Grenoble Vol à Voile",null,"PPV 2025 - Klub",{"$f":"VLOOKUP(F2232,Soutez!A:B,2,FALSE)","v":"CZ"},{"$f":"VLOOKUP(F2232,Soutez!A:C,3,FALSE)","v":2025},5,3351,0.9,9296,8366,null,null,"ASW 24",69,"Není v databázi"]
["Louis Janzam",null,null,"Grenoble Vol à Voile",null,"PPV 2025 - Klub",{"$f":"VLOOKUP(F2233,Soutez!A:B,2,FALSE)","v":"CZ"},{"$f":"VLOOKUP(F2233,Soutez!A:C,3,FALSE)","v":2025},6,3288,0.9,9070,8163,null,null,"Glasflugel 304","IMW","Není v databázi"]
["Vaclav Marel",{"$f":"VLOOKUP(A2234,Pilot,2,0)","v":1974},{"$f":"VLOOKUP(A2234,Pilot,5,0)","v":"M"},{"$f":"VLOOKUP(A2234,Pilot,3,0)","v":"Jaroměř"},{"$f":"VLOOKUP(A2234,Pilot,4,0)","v":"CZ/C2"},"PPV 2025 - Klub",{"$f":"VLOOKUP(F2234,Soutez!A:B,2,FALSE)","v":"CZ"},{"$f":"VLOOKUP(F2234,Soutez!A:C,3,FALSE)","v":2025},7,3284,0.9,8962,8066,"x",null,"Std. Cirrus","IF",""]
["Josef Kolman",1983,"M","Letňany","CZ/C1","PPV 2025 - Klub",{"$f":"VLOOKUP(F2235,Soutez!A:B,2,FALSE)","v":"CZ"},{"$f":"VLOOKUP(F2235,Soutez!A:C,3,FALSE)","v":2025},8,3206,0.9,8707,7836,"x",null,"ASW 15 B","BA4",""]
["Jan Zahradka",1981,"M","Hodkovice","CZ/C2","PPV 2025 - Klub",{"$f":"VLOOKUP(F2236,Soutez!A:B,2,FALSE)","v":"CZ"},{"$f":"VLOOKUP(F2236,Soutez!A:C,3,FALSE)","v":2025},9,3165,0.9,8525,7673,"x",null,"Std. Cirrus","AR",""]
["Martin Ficnar",1971,"M","Šumperk","CZ/M","PPV 2025 - Klub",{"$f":"VLOOKUP(F2237,Soutez!A:B,2,FALSE)","v":"CZ"},{"$f":"VLOOKUP(F2237,Soutez!A:C,3,FALSE)","v":2025},10,3102,0.9,8299,7469,"x",null,"LS 3a","S20",""]
["Martin Urner",1974,"M","Letňany","CZ/C1","PPV 2025 - Klub",{"$f":"VLOOKUP(F2238,Soutez!A:B,2,FALSE)","v":"CZ"},{"$f":"VLOOKUP(F2238,Soutez!A:C,3,FALSE)","v":2025},11,2959,0.9,7913,7122,"x",null,"ASW 15 B","JJ",""]
["Frantisek Suna",1983,"M","Hosín","CZ/C1","PPV 2025 - Klub",{"$f":"VLOOKUP(F2239,Soutez!A:B,2,FALSE)","v":"CZ"},{"$f":"VLOOKUP(F2239,Soutez!A:C,3,FALSE)","v":2025},12,2893,0.9,7681,6913,"x",null,"DG 100",78,""]
["Miloslav Hulmak",1963,"M","Hosín","CZ/C1","PPV 2025 - Klub",{"$f":"VLOOKUP(F2240,Soutez!A:B,2,FALSE)","v":"CZ"},{"$f":"VLOOKUP(F2240,Soutez!A:C,3,FALSE)","v":2025},13,2738,0.9,7271,6544,"x",null,"ASW 15 B","HH",""]
["Jan Hruska",1988,"M","Tábor","CZ/C1","PPV 2025 - Klub",{"$f":"VLOOKUP(F2241,Soutez!A:B,2,FALSE)","v":"CZ"},{"$f":"VLOOKUP(F2241,Soutez!A:C,3,FALSE)","v":2025},14,2625,0.9,6946,6251,null,null,"ASW 15 B","LF",""]
["Jaroslav Buryan",1953,"M","Zábřeh","CZ/M","PPV 2025 - Klub",{"$f":"VLOOKUP(F2242,Soutez!A:B,2,FALSE)","v":"CZ"},{"$f":"VLOOKUP(F2242,Soutez!A:C,3,FALSE)","v":2025},15,2495,0.9,6586,5927,null,null,"Discus bM WL","OL",""]
["Michal Kares",1987,"M","Ústí nad Orlicí","CZ/C2","PPV 2025 - Klub",{"$f":"VLOOKUP(F2243,Soutez!A:B,2,FALSE)","v":"CZ"},{"$f":"VLOOKUP(F2243,Soutez!A:C,3,FALSE)","v":2025},16,2440,0.9,6376,5738,"x",null,"Std. Cirrus","A",""]
["Pavel Liska",1965,"M","Roudnice","CZ/C2","PPV 2025 - Klub",{"$f":"VLOOKUP(F2244,Soutez!A:B,2,FALSE)","v":"CZ"},{"$f":"VLOOKUP(F2244,Soutez!A:C,3,FALSE)","v":2025},17,2255,0.9,5906,5315,"x",null,"VSO-10",6,""]
["Radoslav Pur",1973,"M","Hosín","CZ/C1","PPV 2025 - Klub",{"$f":"VLOOKUP(F2245,Soutez!A:B,2,FALSE)","v":"CZ"},{"$f":"VLOOKUP(F2245,Soutez!A:C,3,FALSE)","v":2025},18,2198,0.9,5692,{"$f":"ROUND(K2245*L2245,0)","v":5123},"x",null,"DG 200","EK",""]
["Petr Styblo",1975,"M","Letňany","CZ/C1","PPV 2025 - Klub",{"$f":"VLOOKUP(F2246,Soutez!A:B,2,FALSE)","v":"CZ"},{"$f":"VLOOKUP(F2246,Soutez!A:C,3,FALSE)","v":2025},19,2161,0.9,5518,4966,"x",null,"Discus b","LH",""]
["Premysl Muzik",1990,"M","Tábor","CZ/C1","PPV 2025 - Klub",{"$f":"VLOOKUP(F2247,Soutez!A:B,2,FALSE)","v":"CZ"},{"$f":"VLOOKUP(F2247,Soutez!A:C,3,FALSE)","v":2025},20,2143,0.9,5382,{"$f":"ROUND(K2247*L2247,0)","v":4844},"x",null,"Std. Cirrus","IMI",""]
["Jiri Holcman",1976,"M","Hosín","CZ/C1","PPV 2025 - Klub",{"$f":"VLOOKUP(F2248,Soutez!A:B,2,FALSE)","v":"CZ"},{"$f":"VLOOKUP(F2248,Soutez!A:C,3,FALSE)","v":2025},21,2095,0.9,5186,4667,"x",null,"ASW 19","BO",""]
["Petr Rozhon",1972,"M","Hosín","CZ/C1","PPV 2025 - Klub",{"$f":"VLOOKUP(F2249,Soutez!A:B,2,FALSE)","v":"CZ"},{"$f":"VLOOKUP(F2249,Soutez!A:C,3,FALSE)","v":2025},22,1959,0.9,4815,4334,"x",null,"VSO-10",9,""]
["Radek Zima 75",1975,"M","Břeclav","CZ/M","PPV 2025 - Klub",{"$f":"VLOOKUP(F2250,Soutez!A:B,2,FALSE)","v":"CZ"},{"$f":"VLOOKUP(F2250,Soutez!A:C,3,FALSE)","v":2025},23,1906,0.9,4609,4148,"x",null,"DG 100","M",""]
["Jaroslav Koudelka 95",{"$f":"VLOOKUP(A2251,Pilot,2,0)","v":1995},{"$f":"VLOOKUP(A2251,Pilot,5,0)","v":"M"},{"$f":"VLOOKUP(A2251,Pilot,3,0)","v":"Hosín"},{"$f":"VLOOKUP(A2251,Pilot,4,0)","v":"CZ/C1"},"PPV 2025 - Klub",{"$f":"VLOOKUP(F2251,Soutez!A:B,2,FALSE)","v":"CZ"},{"$f":"VLOOKUP(F2251,Soutez!A:C,3,FALSE)","v":2025},24,1691,0.9,4079,3671,"x",null,"Std. Cirrus",77,""]
["Lukas Kotek",{"$f":"VLOOKUP(A2252,Pilot,2,0)","v":1994},{"$f":"VLOOKUP(A2252,Pilot,5,0)","v":"M"},{"$f":"VLOOKUP(A2252,Pilot,3,0)","v":"Frýdlant"},{"$f":"VLOOKUP(A2252,Pilot,4,0)","v":"CZ/M"},"PPV 2025 - Klub",{"$f":"VLOOKUP(F2252,Soutez!A:B,2,FALSE)","v":"CZ"},{"$f":"VLOOKUP(F2252,Soutez!A:C,3,FALSE)","v":2025},25,1684,0.9,3965,3569,"x",null,"DG 200","AK",""]
["Jiri Donat",1983,"M","Letňany","CZ/C1","PPV 2025 - Klub",{"$f":"VLOOKUP(F2253,Soutez!A:B,2,FALSE)","v":"CZ"},{"$f":"VLOOKUP(F2253,Soutez!A:C,3,FALSE)","v":2025},26,1581,0.9,3659,3293,"x",null,"Std. Cirrus WL","JE",""]
["Jiri Janda",1966,"M","Letňany","CZ/C1","PPV 2025 - Klub",{"$f":"VLOOKUP(F2254,Soutez!A:B,2,FALSE)","v":"CZ"},{"$f":"VLOOKUP(F2254,Soutez!A:C,3,FALSE)","v":2025},27,1475,0.9,3347,3012,"x",null,"ASW 20","TA",""]
["Vaclav Petru",1974,"M","Letňany","CZ/C1","PPV 2025 - Klub",{"$f":"VLOOKUP(F2255,Soutez!A:B,2,FALSE)","v":"CZ"},{"$f":"VLOOKUP(F2255,Soutez!A:C,3,FALSE)","v":2025},28,1208,0.9,2714,2443,"x",null,"Alpin T","AI",""]
["Martin Marek",1967,"M","Roudnice","CZ/C2","PPV 2025 - Klub",{"$f":"VLOOKUP(F2256,Soutez!A:B,2,FALSE)","v":"CZ"},{"$f":"VLOOKUP(F2256,Soutez!A:C,3,FALSE)","v":2025},29,1078,0.9,2354,2119,"x",null,"Std. Cirrus","2X",""]
["Tomas Holenda",1956,"M","Havlíčkův Brod","CZ/C2","PPV 2025 - Klub",{"$f":"VLOOKUP(F2257,Soutez!A:B,2,FALSE)","v":"CZ"},{"$f":"VLOOKUP(F2257,Soutez!A:C,3,FALSE)","v":2025},30,1033,0.9,2164,1948,"x",null,"VT-16 Orlic 2","LI",""]
["Ales Valenta",1973,"M","Hořice","CZ/C2","PPV 2025 - Klub",{"$f":"VLOOKUP(F2258,Soutez!A:B,2,FALSE)","v":"CZ"},{"$f":"VLOOKUP(F2258,Soutez!A:C,3,FALSE)","v":2025},31,209,0.9,418,376,"x",null,"Std. Cirrus","W",""]
["Jan Kotan",{"$f":"VLOOKUP(A2259,Pilot,2,0)","v":1982},{"$f":"VLOOKUP(A2259,Pilot,5,0)","v":"M"},{"$f":"VLOOKUP(A2259,Pilot,3,0)","v":"Letňany"},{"$f":"VLOOKUP(A2259,Pilot,4,0)","v":"CZ/C1"},"PPV 2025 - Kombi",{"$f":"VLOOKUP(F2259,Soutez!A:B,2,FALSE)","v":"CZ"},{"$f":"VLOOKUP(F2259,Soutez!A:C,3,FALSE)","v":2025},1,3849,0.91500000000000004,{"$f":"ROUND(J2259/MAX($J$2259:$J$2286)*10000*0.7+(MAX($I$2259:$I$2286)-I2259)/(MAX($I$2259:$I$2286)-1)*10000*0.3,0)","v":10000},{"$f":"ROUND(K2259*L2259,0)","v":9150},"x",null,"AS 33 Es 18m","CAT",""]
["Jan Boruvka",1984,"M","Jičín","CZ/C2","PPV 2025 - Kombi",{"$f":"VLOOKUP(F2260,Soutez!A:B,2,FALSE)","v":"CZ"},{"$f":"VLOOKUP(F2260,Soutez!A:C,3,FALSE)","v":2025},2,3613,0.91500000000000004,9460,{"$f":"ROUND(K2260*L2260,0)","v":8656},"x",null,"ASG 29 E 18m","QX",""]
["Ondrej Bordovsky",1983,"M","Krnov","CZ/M","PPV 2025 - Kombi",{"$f":"VLOOKUP(F2261,Soutez!A:B,2,FALSE)","v":"CZ"},{"$f":"VLOOKUP(F2261,Soutez!A:C,3,FALSE)","v":2025},3,3491,0.91500000000000004,9127,8351,null,null,"Ventus c 17.6m","AD",""]
["David Zapletal",1970,"M","Mladá Boleslav","CZ/C1","PPV 2025 - Kombi",{"$f":"VLOOKUP(F2262,Soutez!A:B,2,FALSE)","v":"CZ"},{"$f":"VLOOKUP(F2262,Soutez!A:C,3,FALSE)","v":2025},4,3258,0.91500000000000004,8592,7862,"x",null,"Ventus c 17.6m","PUP",""]
["Marek Blatak",1969,"M","Šumperk","CZ/M","PPV 2025 - Kombi",{"$f":"VLOOKUP(F2263,Soutez!A:B,2,FALSE)","v":"CZ"},{"$f":"VLOOKUP(F2263,Soutez!A:C,3,FALSE)","v":2025},5,3211,0.91500000000000004,8395,7681,"x",null,"DG 808C Classic 18m","W",""]
["Jan Simon",1970,"M","Kralupy","CZ/C1","PPV 2025 - Kombi",{"$f":"VLOOKUP(F2264,Soutez!A:B,2,FALSE)","v":"CZ"},{"$f":"VLOOKUP(F2264,Soutez!A:C,3,FALSE)","v":2025},6,3181,0.91500000000000004,8230,7530,"x",null,"Ventus cT 17.6m","KR",""]
["Jaromir Pauer",1974,"M","Hosín","CZ/C1","PPV 2025 - Kombi",{"$f":"VLOOKUP(F2265,Soutez!A:B,2,FALSE)","v":"CZ"},{"$f":"VLOOKUP(F2265,Soutez!A:C,3,FALSE)","v":2025},7,3102,0.91500000000000004,7975,7297,"x",null,"Ventus b 16.6m","7F",""]
["Jiri Koudela",1974,"M","Vyškov","CZ/M","PPV 2025 - Kombi",{"$f":"VLOOKUP(F2266,Soutez!A:B,2,FALSE)","v":"CZ"},{"$f":"VLOOKUP(F2266,Soutez!A:C,3,FALSE)","v":2025},8,2995,0.91500000000000004,7669,7017,"x",null,"Ventus cM 17.6m","JK",""]
["Matous Schmidt",1981,"M","Letňany","CZ/C1","PPV 2025 - Kombi",{"$f":"VLOOKUP(F2267,Soutez!A:B,2,FALSE)","v":"CZ"},{"$f":"VLOOKUP(F2267,Soutez!A:C,3,FALSE)","v":2025},9,2992,0.91500000000000004,7553,6911,"x",null,"Ventus c 17.6m","UC",""]
["Petr Babak",1973,"M","Hořice","CZ/C2","PPV 2025 - Kombi",{"$f":"VLOOKUP(F2268,Soutez!A:B,2,FALSE)","v":"CZ"},{"$f":"VLOOKUP(F2268,Soutez!A:C,3,FALSE)","v":2025},10,2983,0.91500000000000004,7425,6794,"x",null,"Ventus 2cM 18m","ES",""]
["Josef Busek",1967,"M","Hosín","CZ/C1","PPV 2025 - Kombi",{"$f":"VLOOKUP(F2269,Soutez!A:B,2,FALSE)","v":"CZ"},{"$f":"VLOOKUP(F2269,Soutez!A:C,3,FALSE)","v":2025},11,2910,0.91500000000000004,7181,6571,null,null,"HpH 304 TS Twin Shark","TS",""]
["Ales Vyhnal",1989,"M","Kralupy","CZ/C1","PPV 2025 - Kombi",{"$f":"VLOOKUP(F2270,Soutez!A:B,2,FALSE)","v":"CZ"},{"$f":"VLOOKUP(F2270,Soutez!A:C,3,FALSE)","v":2025},12,2909,0.91500000000000004,7068,6467,"x",null,"Nimbus 3 22.9m","HS",{"$f":"IF(ISERROR(VLOOKUP(A2270,Pilot,6,0)),\"Není v databázi\",VLOOKUP(A2270,Pilot,6,0))","v":""}]
["Zdenek Boruvka 86",1986,"M","Jičín","CZ/C2","PPV 2025 - Kombi",{"$f":"VLOOKUP(F2271,Soutez!A:B,2,FALSE)","v":"CZ"},{"$f":"VLOOKUP(F2271,Soutez!A:C,3,FALSE)","v":2025},13,2856,0.91500000000000004,6861,6278,null,null,"Ventus c 17.6m","VV",""]
["Jan Florian",{"$f":"VLOOKUP(A2272,Pilot,2,0)","v":1992},{"$f":"VLOOKUP(A2272,Pilot,5,0)","v":"M"},{"$f":"VLOOKUP(A2272,Pilot,3,0)","v":"Zbraslavice"},{"$f":"VLOOKUP(A2272,Pilot,4,0)","v":"CZ/C1"},"PPV 2025 - Kombi",{"$f":"VLOOKUP(F2272,Soutez!A:B,2,FALSE)","v":"CZ"},{"$f":"VLOOKUP(F2272,Soutez!A:C,3,FALSE)","v":2025},14,2851,0.91500000000000004,6741,6168,"x",null,"Ventus c 17.6m","LS",""]
["Milos Srank",null,null,"Aeroklub Nové Zámky",null,"PPV 2025 - Kombi",{"$f":"VLOOKUP(F2273,Soutez!A:B,2,FALSE)","v":"CZ"},{"$f":"VLOOKUP(F2273,Soutez!A:C,3,FALSE)","v":2025},15,2844,0.91500000000000004,6617,6055,null,null,"ASG 29 E 18m","LK","Není v databázi"]
["Jan Dersak 69",{"$f":"VLOOKUP(A2274,Pilot,2,0)","v":1969},{"$f":"VLOOKUP(A2274,Pilot,5,0)","v":"M"},{"$f":"VLOOKUP(A2274,Pilot,3,0)","v":"Kralupy"},{"$f":"VLOOKUP(A2274,Pilot,4,0)","v":"CZ/C1"},"PPV 2025 - Kombi",{"$f":"VLOOKUP(F2274,Soutez!A:B,2,FALSE)","v":"CZ"},{"$f":"VLOOKUP(F2274,Soutez!A:C,3,FALSE)","v":2025},16,2821,0.91500000000000004,6464,5915,null,null,"HpH 304 MS Shark","DJ",""]
["Peter Janoska",null,null,"Aeroklub Nitra",null,"PPV 2025 - Kombi",{"$f":"VLOOKUP(F2275,Soutez!A:B,2,FALSE)","v":"CZ"},{"$f":"VLOOKUP(F2275,Soutez!A:C,3,FALSE)","v":2025},17,2441,0.91500000000000004,5662,5181,null,null,"LS 6 17.5m","N6","Není v databázi"]
["Benedikt & Kubovciik",null,null,"SGC Martin",null,"PPV 2025 - Kombi",{"$f":"VLOOKUP(F2276,Soutez!A:B,2,FALSE)","v":"CZ"},{"$f":"VLOOKUP(F2276,Soutez!A:C,3,FALSE)","v":2025},18,2290,0.91500000000000004,5276,{"$f":"ROUND(K2276*L2276,0)","v":4828},null,null,"HpH 304 TS Twin Shark","LP","Není v databázi"]
["Zdenek Schenk",{"$f":"VLOOKUP(A2277,Pilot,2,0)","v":1972},{"$f":"VLOOKUP(A2277,Pilot,5,0)","v":"M"},{"$f":"VLOOKUP(A2277,Pilot,3,0)","v":"Hranice"},{"$f":"VLOOKUP(A2277,Pilot,4,0)","v":"CZ/M"},"PPV 2025 - Kombi",{"$f":"VLOOKUP(F2277,Soutez!A:B,2,FALSE)","v":"CZ"},{"$f":"VLOOKUP(F2277,Soutez!A:C,3,FALSE)","v":2025},19,2283,0.91500000000000004,5152,4714,null,null,"ASG 29 E 18m","ŠNeK",""]
["Petr Starek",1974,"M","Zbraslavice","CZ/C1","PPV 2025 - Kombi",{"$f":"VLOOKUP(F2278,Soutez!A:B,2,FALSE)","v":"CZ"},{"$f":"VLOOKUP(F2278,Soutez!A:C,3,FALSE)","v":2025},20,2094,0.91500000000000004,4697,4298,"x",null,"HpH 304 SJ Shark",66,""]
["Ivo Burda",1962,"M","Zbraslavice","CZ/C1","PPV 2025 - Kombi",{"$f":"VLOOKUP(F2279,Soutez!A:B,2,FALSE)","v":"CZ"},{"$f":"VLOOKUP(F2279,Soutez!A:C,3,FALSE)","v":2025},21,1993,0.91500000000000004,4402,4028,null,null,"Ventus 2cx 18m","IB",""]
["Martin Holik",1959,"M","Letňany","CZ/C1","PPV 2025 - Kombi",{"$f":"VLOOKUP(F2280,Soutez!A:B,2,FALSE)","v":"CZ"},{"$f":"VLOOKUP(F2280,Soutez!A:C,3,FALSE)","v":2025},22,1846,0.91500000000000004,4024,3682,"x",null,"LS 6 18m","F5",""]
["Milos Mach",null,null,"Aeroklub Nové Zámky",null,"PPV 2025 - Kombi",{"$f":"VLOOKUP(F2281,Soutez!A:B,2,FALSE)","v":"CZ"},{"$f":"VLOOKUP(F2281,Soutez!A:C,3,FALSE)","v":2025},23,1802,0.91500000000000004,3833,3507,null,null,"Discus 2cT 18m","JH","Není v databázi"]
["Radek Bares",{"$f":"VLOOKUP(A2282,Pilot,2,0)","v":1963},{"$f":"VLOOKUP(A2282,Pilot,5,0)","v":"M"},{"$f":"VLOOKUP(A2282,Pilot,3,0)","v":"Jičín"},{"$f":"VLOOKUP(A2282,Pilot,4,0)","v":"CZ/C2"},"PPV 2025 - Kombi",{"$f":"VLOOKUP(F2282,Soutez!A:B,2,FALSE)","v":"CZ"},{"$f":"VLOOKUP(F2282,Soutez!A:C,3,FALSE)","v":2025},24,1432,0.91500000000000004,3049,2790,null,null,"Ventus c 17.6m","GE",""]
["Anton Zelenaj",null,null,"Aeroklub Nové Zámky",null,"PPV 2025 - Kombi",{"$f":"VLOOKUP(F2283,Soutez!A:B,2,FALSE)","v":"CZ"},{"$f":"VLOOKUP(F2283,Soutez!A:C,3,FALSE)","v":2025},25,1413,0.91500000000000004,2903,2656,null,null,"ASW 27","TZ","Není v databázi"]
["Antonin Kutalek",{"$f":"VLOOKUP(A2284,Pilot,2,0)","v":1943},{"$f":"VLOOKUP(A2284,Pilot,5,0)","v":"M"},{"$f":"VLOOKUP(A2284,Pilot,3,0)","v":"Zábřeh"},{"$f":"VLOOKUP(A2284,Pilot,4,0)","v":"CZ/M"},"PPV 2025 - Kombi",{"$f":"VLOOKUP(F2284,Soutez!A:B,2,FALSE)","v":"CZ"},{"$f":"VLOOKUP(F2284,Soutez!A:C,3,FALSE)","v":2025},26,1247,0.91500000000000004,2490,2278,null,null,"LAK-17A T 18m","GL",""]
["Ronald E. Sanders",null,null,"Outback Soaring",null,"PPV 2025 - Kombi",{"$f":"VLOOKUP(F2285,Soutez!A:B,2,FALSE)","v":"CZ"},{"$f":"VLOOKUP(F2285,Soutez!A:C,3,FALSE)","v":2025},27,928,0.91500000000000004,1799,1646,null,null,"JS1 18m","GPS","Není v databázi"]
["Vaclav Hruza",{"$f":"VLOOKUP(A2286,Pilot,2,0)","v":1965},{"$f":"VLOOKUP(A2286,Pilot,5,0)","v":"M"},{"$f":"VLOOKUP(A2286,Pilot,3,0)","v":"Břeclav"},{"$f":"VLOOKUP(A2286,Pilot,4,0)","v":"CZ/M"},"PPV 2025 - Kombi",{"$f":"VLOOKUP(F2286,Soutez!A:B,2,FALSE)","v":"CZ"},{"$f":"VLOOKUP(F2286,Soutez!A:C,3,FALSE)","v":2025},28,813,0.91500000000000004,1479,1353,null,null,"HpH 304 TS Twin Shark","PH",""]
["Frantisek Filandr",{"$f":"VLOOKUP(A2287,Pilot,2,0)","v":1956},{"$f":"VLOOKUP(A2287,Pilot,5,0)","v":"M"},{"$f":"VLOOKUP(A2287,Pilot,3,0)","v":"Most"},{"$f":"VLOOKUP(A2287,Pilot,4,0)","v":"CZ/C2"},"Ranský pohár 2025 - Klub",{"$f":"VLOOKUP(F2287,Soutez!A:B,2,FALSE)","v":"CZ"},{"$f":"VLOOKUP(F2287,Soutez!A:C,3,FALSE)","v":2025},1,1047,0.75,{"$f":"ROUND(J2287/MAX($J$2287:$J$2303)*10000*0.7+(MAX($I$2287:$I$2303)-I2287)/(MAX($I$2287:$I$2303)-1)*10000*0.3,0)","v":10000},{"$f":"ROUND(K2287*L2287,0)","v":7500},"x",null,"Std. Cirrus","FF",""]
["Jiri Maier 66",1966,"M","Raná","CZ/C2","Ranský pohár 2025 - Klub",{"$f":"VLOOKUP(F2288,Soutez!A:B,2,FALSE)","v":"CZ"},{"$f":"VLOOKUP(F2288,Soutez!A:C,3,FALSE)","v":2025},2,103,{"$f":"VLOOKUP(F2288,Soutez,12,0)","v":0.75},3501,{"$f":"ROUND(K2288*L2288,0)","v":2626},"x",null,"ASW 24 E WL","JM",""]
["Jan Smaha",{"$f":"VLOOKUP(A2289,Pilot,2,0)","v":1958},{"$f":"VLOOKUP(A2289,Pilot,5,0)","v":"M"},{"$f":"VLOOKUP(A2289,Pilot,3,0)","v":"Česká Lípa"},{"$f":"VLOOKUP(A2289,Pilot,4,0)","v":"CZ/C2"},"Ranský pohár 2025 - Klub",{"$f":"VLOOKUP(F2289,Soutez!A:B,2,FALSE)","v":"CZ"},{"$f":"VLOOKUP(F2289,Soutez!A:C,3,FALSE)","v":2025},3,946,0.75,8950,6713,"x",null,"ASW 15 B","CW",""]
["Dalibor Pek",1968,"M","Raná","CZ/C2","Ranský pohár 2025 - Klub",{"$f":"VLOOKUP(F2290,Soutez!A:B,2,FALSE)","v":"CZ"},{"$f":"VLOOKUP(F2290,Soutez!A:C,3,FALSE)","v":2025},4,866,0.75,8227,6170,"x",null,"Std. Cirrus","GP",""]
["Tomas Novak",1974,"M","Česká Lípa","CZ/C2","Ranský pohár 2025 - Klub",{"$f":"VLOOKUP(F2291,Soutez!A:B,2,FALSE)","v":"CZ"},{"$f":"VLOOKUP(F2291,Soutez!A:C,3,FALSE)","v":2025},5,789,0.75,7525,5644,"x",null,"Std. Cirrus","CI",""]
["David Riha",1983,"M","Vlašim","CZ/C1","Ranský pohár 2025 - Klub",{"$f":"VLOOKUP(F2292,Soutez!A:B,2,FALSE)","v":"CZ"},{"$f":"VLOOKUP(F2292,Soutez!A:C,3,FALSE)","v":2025},6,728,0.75,6930,5198,"x",null,"ASW 15 B","XE",""]
["Daniel Devecka",1981,"M","Vlašim","CZ/C1","Ranský pohár 2025 - Klub",{"$f":"VLOOKUP(F2293,Soutez!A:B,2,FALSE)","v":"CZ"},{"$f":"VLOOKUP(F2293,Soutez!A:C,3,FALSE)","v":2025},7,725,0.75,6722,5042,"x",null,"LS 3a","2G",""]
["Petr Herold",1970,"M","Vlašim","CZ/C1","Ranský pohár 2025 - Klub",{"$f":"VLOOKUP(F2294,Soutez!A:B,2,FALSE)","v":"CZ"},{"$f":"VLOOKUP(F2294,Soutez!A:C,3,FALSE)","v":2025},8,666,0.75,6140,4605,"x",null,"LS 3a 15m","O4",""]
["Rostislav Fric",1973,"M","Raná","CZ/C2","Ranský pohár 2025 - Klub",{"$f":"VLOOKUP(F2295,Soutez!A:B,2,FALSE)","v":"CZ"},{"$f":"VLOOKUP(F2295,Soutez!A:C,3,FALSE)","v":2025},9,631,0.75,5719,4289,"x",null,"ASW 19","FR",""]
["Marek Svancara",1976,"M","GAC Benešov","CZ/C1","Ranský pohár 2025 - Klub",{"$f":"VLOOKUP(F2296,Soutez!A:B,2,FALSE)","v":"CZ"},{"$f":"VLOOKUP(F2296,Soutez!A:C,3,FALSE)","v":2025},10,598,0.75,5311,{"$f":"ROUND(K2296*L2296,0)","v":3983},"x",null,"KKB-15","N1",""]
["Jana Mezerova",1975,"F","Raná","CZ/C2","Ranský pohár 2025 - Klub",{"$f":"VLOOKUP(F2297,Soutez!A:B,2,FALSE)","v":"CZ"},{"$f":"VLOOKUP(F2297,Soutez!A:C,3,FALSE)","v":2025},11,549,0.75,4795,3596,"x","x","LS 1-0","AL",""]
["Jaromir Vlk",1959,"M","Šumperk","CZ/M","Ranský pohár 2025 - Klub",{"$f":"VLOOKUP(F2298,Soutez!A:B,2,FALSE)","v":"CZ"},{"$f":"VLOOKUP(F2298,Soutez!A:C,3,FALSE)","v":2025},12,403,0.75,3632,2724,null,null,"ASW 15 B",15,""]
["Adam Laburda",2005,"M","Raná","CZ/C2","Ranský pohár 2025 - Klub",{"$f":"VLOOKUP(F2299,Soutez!A:B,2,FALSE)","v":"CZ"},{"$f":"VLOOKUP(F2299,Soutez!A:C,3,FALSE)","v":2025},13,274,0.75,2582,1937,"x",null,"VSO-10",59,"Junior v roce 2026"]
["Tomas Mezera",{"$f":"VLOOKUP(A2300,Pilot,2,0)","v":1973},{"$f":"VLOOKUP(A2300,Pilot,5,0)","v":"M"},{"$f":"VLOOKUP(A2300,Pilot,3,0)","v":"Raná"},{"$f":"VLOOKUP(A2300,Pilot,4,0)","v":"CZ/C2"},"Ranský pohár 2025 - Klub",{"$f":"VLOOKUP(F2300,Soutez!A:B,2,FALSE)","v":"CZ"},{"$f":"VLOOKUP(F2300,Soutez!A:C,3,FALSE)","v":2025},14,203,0.75,1920,1440,"x",null,"Janus A","RA",""]
["Sarka Lochova",1966,"F","Šumperk","CZ/M","Ranský pohár 2025 - Klub",{"$f":"VLOOKUP(F2301,Soutez!A:B,2,FALSE)","v":"CZ"},{"$f":"VLOOKUP(F2301,Soutez!A:C,3,FALSE)","v":2025},15,138,0.75,1298,974,"x","x","ASW 15 B","R5",""]
["Stanislav Vrabec",1975,"M","Česká Lípa","CZ/C2","Ranský pohár 2025 - Klub",{"$f":"VLOOKUP(F2302,Soutez!A:B,2,FALSE)","v":"CZ"},{"$f":"VLOOKUP(F2302,Soutez!A:C,3,FALSE)","v":2025},16,116,0.75,963,722,"x",null,"Std. Cirrus","CV",""]
["Martin Fric",1967,"M","Raná","CZ/C2","Ranský pohár 2025 - Klub",{"$f":"VLOOKUP(F2303,Soutez!A:B,2,FALSE)","v":"CZ"},{"$f":"VLOOKUP(F2303,Soutez!A:C,3,FALSE)","v":2025},17,54,0.75,361,271,null,null,"DG 100","E2",""]
["Lukas Capek",{"$f":"VLOOKUP(A2304,Pilot,2,0)","v":1992},{"$f":"VLOOKUP(A2304,Pilot,5,0)","v":"M"},{"$f":"VLOOKUP(A2304,Pilot,3,0)","v":"Letňany"},{"$f":"VLOOKUP(A2304,Pilot,4,0)","v":"CZ/C1"},"PMRg 2025 - Klub",{"$f":"VLOOKUP(F2304,Soutez!A:B,2,FALSE)","v":"CZ"},{"$f":"VLOOKUP(F2304,Soutez!A:C,3,FALSE)","v":2025},1,2112,0.9,{"$f":"ROUND(J2304/MAX($J$2304:$J$2313)*10000*0.7+(MAX($I$2304:$I$2313)-I2304)/(MAX($I$2304:$I$2313)-1)*10000*0.3,0)","v":10000},{"$f":"ROUND(K2304*L2304,0)","v":9000},"x",null,"303 Mosquito","LC",""]
["Josef Beran",1982,"M","Slaný","CZ/C1","PMRg 2025 - Klub",{"$f":"VLOOKUP(F2305,Soutez!A:B,2,FALSE)","v":"CZ"},{"$f":"VLOOKUP(F2305,Soutez!A:C,3,FALSE)","v":2025},2,1887,0.9,8921,{"$f":"ROUND(K2305*L2305,0)","v":8029},"x",null,"Std. Cirrus WL","IT",""]
["Premysl Muzik",1990,"M","Tábor","CZ/C1","PMRg 2025 - Klub",{"$f":"VLOOKUP(F2306,Soutez!A:B,2,FALSE)","v":"CZ"},{"$f":"VLOOKUP(F2306,Soutez!A:C,3,FALSE)","v":2025},3,1765,0.9,8183,7365,"x",null,"Std. Cirrus","IMI",""]
["Pavel Koudelka",1973,"M","Křižanov","CZ/M","PMRg 2025 - Klub",{"$f":"VLOOKUP(F2307,Soutez!A:B,2,FALSE)","v":"CZ"},{"$f":"VLOOKUP(F2307,Soutez!A:C,3,FALSE)","v":2025},4,1655,0.9,7485,6737,"x",null,"Std. Cirrus","ZL",""]
["Pavlina Horackova",1965,"F","Šumperk","CZ/M","PMRg 2025 - Klub",{"$f":"VLOOKUP(F2308,Soutez!A:B,2,FALSE)","v":"CZ"},{"$f":"VLOOKUP(F2308,Soutez!A:C,3,FALSE)","v":2025},5,1554,0.9,6817,6135,"x","x","SZD-48 Jantar Std.","SU",""]
["Vojtech Bystricky",2004,"M","Strakonice","CZ/C1","PMRg 2025 - Klub",{"$f":"VLOOKUP(F2309,Soutez!A:B,2,FALSE)","v":"CZ"},{"$f":"VLOOKUP(F2309,Soutez!A:C,3,FALSE)","v":2025},6,1087,0.9,4936,4442,"x",null,"VSO-10","L3","Junior v roce 2026"]
["Miroslav Kus",1970,"M","Strakonice","CZ/C1","PMRg 2025 - Klub",{"$f":"VLOOKUP(F2310,Soutez!A:B,2,FALSE)","v":"CZ"},{"$f":"VLOOKUP(F2310,Soutez!A:C,3,FALSE)","v":2025},7,330,0.9,2094,1885,"x",null,"VSO-10","C6",""]
["Jan Hirs",{"$f":"VLOOKUP(A2311,Pilot,2,0)","v":1975},{"$f":"VLOOKUP(A2311,Pilot,5,0)","v":"M"},{"$f":"VLOOKUP(A2311,Pilot,3,0)","v":"Strakonice"},{"$f":"VLOOKUP(A2311,Pilot,4,0)","v":"CZ/C1"},"PMRg 2025 - Klub",{"$f":"VLOOKUP(F2311,Soutez!A:B,2,FALSE)","v":"CZ"},{"$f":"VLOOKUP(F2311,Soutez!A:C,3,FALSE)","v":2025},8,249,0.9,1492,{"$f":"ROUND(K2311*L2311,0)","v":1343},"x",null,"Std. Cirrus","ST",""]
["Ales Sokolik",{"$f":"VLOOKUP(A2312,Pilot,2,0)","v":1973},{"$f":"VLOOKUP(A2312,Pilot,5,0)","v":"M"},{"$f":"VLOOKUP(A2312,Pilot,3,0)","v":"Strakonice"},{"$f":"VLOOKUP(A2312,Pilot,4,0)","v":"CZ/C1"},"PMRg 2025 - Klub",{"$f":"VLOOKUP(F2312,Soutez!A:B,2,FALSE)","v":"CZ"},{"$f":"VLOOKUP(F2312,Soutez!A:C,3,FALSE)","v":2025},9,3,0.9,343,309,"x",null,"LS 3","XX",""]
["Daniel Marek",{"$f":"VLOOKUP(A2313,Pilot,2,0)","v":1983},{"$f":"VLOOKUP(A2313,Pilot,5,0)","v":"M"},{"$f":"VLOOKUP(A2313,Pilot,3,0)","v":"Hosín"},{"$f":"VLOOKUP(A2313,Pilot,4,0)","v":"CZ/C1"},"PMRg 2025 - Klub",{"$f":"VLOOKUP(F2313,Soutez!A:B,2,FALSE)","v":"CZ"},{"$f":"VLOOKUP(F2313,Soutez!A:C,3,FALSE)","v":2025},10,2,0.9,7,6,"x",null,"ASW 19B","OWL",""]
["Lukas Kriz",{"$f":"VLOOKUP(A2314,Pilot,2,0)","v":2003},{"$f":"VLOOKUP(A2314,Pilot,5,0)","v":"M"},{"$f":"VLOOKUP(A2314,Pilot,3,0)","v":"Křižanov"},{"$f":"VLOOKUP(A2314,Pilot,4,0)","v":"CZ/M"},"PMRg 2025 - Kombi",{"$f":"VLOOKUP(F2314,Soutez!A:B,2,FALSE)","v":"CZ"},{"$f":"VLOOKUP(F2314,Soutez!A:C,3,FALSE)","v":2025},1,1933,0.91500000000000004,{"$f":"ROUND(J2314/MAX($J$2314:$J$2323)*10000*0.7+(MAX($I$2314:$I$2323)-I2314)/(MAX($I$2314:$I$2323)-1)*10000*0.3,0)","v":10000},{"$f":"ROUND(K2314*L2314,0)","v":9150},null,null,"LS 8","AU","Junior v roce 2026"]
["Jan Zapletal",1997,"M","Břeclav","CZ/M","PMRg 2025 - Kombi",{"$f":"VLOOKUP(F2315,Soutez!A:B,2,FALSE)","v":"CZ"},{"$f":"VLOOKUP(F2315,Soutez!A:C,3,FALSE)","v":2025},2,1799,0.91500000000000004,9181,{"$f":"ROUND(K2315*L2315,0)","v":8401},"x",null,"ASG 29 E 18m","2L",""]
["David Sachl",1978,"M","Kralupy","CZ/C1","PMRg 2025 - Kombi",{"$f":"VLOOKUP(F2316,Soutez!A:B,2,FALSE)","v":"CZ"},{"$f":"VLOOKUP(F2316,Soutez!A:C,3,FALSE)","v":2025},3,1755,0.91500000000000004,8689,7950,"x",null,"ASW 27b","MF",""]
["Radek Zima 78",{"$f":"VLOOKUP(A2317,Pilot,2,0)","v":1978},{"$f":"VLOOKUP(A2317,Pilot,5,0)","v":"M"},{"$f":"VLOOKUP(A2317,Pilot,3,0)","v":"Hodkovice"},{"$f":"VLOOKUP(A2317,Pilot,4,0)","v":"CZ/C2"},"PMRg 2025 - Kombi",{"$f":"VLOOKUP(F2317,Soutez!A:B,2,FALSE)","v":"CZ"},{"$f":"VLOOKUP(F2317,Soutez!A:C,3,FALSE)","v":2025},4,1609,0.91500000000000004,7827,7162,"x",null,"ASG 29 E 18m","XZ",""]
["Petr Hotovy",{"$f":"VLOOKUP(A2318,Pilot,2,0)","v":1958},{"$f":"VLOOKUP(A2318,Pilot,5,0)","v":"M"},{"$f":"VLOOKUP(A2318,Pilot,3,0)","v":"Česká Lípa"},{"$f":"VLOOKUP(A2318,Pilot,4,0)","v":"CZ/C2"},"PMRg 2025 - Kombi",{"$f":"VLOOKUP(F2318,Soutez!A:B,2,FALSE)","v":"CZ"},{"$f":"VLOOKUP(F2318,Soutez!A:C,3,FALSE)","v":2025},5,1538,0.91500000000000004,7236,{"$f":"ROUND(K2318*L2318,0)","v":6621},null,null,"Ventus 3 FES Sport","LB",""]
["Petr Panek",1975,"M","Dvůr Králové","CZ/C2","PMRg 2025 - Kombi",{"$f":"VLOOKUP(F2319,Soutez!A:B,2,FALSE)","v":"CZ"},{"$f":"VLOOKUP(F2319,Soutez!A:C,3,FALSE)","v":2025},6,1367,0.91500000000000004,6284,5750,null,null,"JS1 EVO JET","IGC",""]
["Jaroslav Potmesil",1964,"M","Zbraslavice","CZ/C1","PMRg 2025 - Kombi",{"$f":"VLOOKUP(F2320,Soutez!A:B,2,FALSE)","v":"CZ"},{"$f":"VLOOKUP(F2320,Soutez!A:C,3,FALSE)","v":2025},7,1361,0.91500000000000004,5929,5425,"x",null,"HpH 304 MS Shark","MS",""]
["Karel Mares",1974,"M","Slaný","CZ/C1","PMRg 2025 - Kombi",{"$f":"VLOOKUP(F2321,Soutez!A:B,2,FALSE)","v":"CZ"},{"$f":"VLOOKUP(F2321,Soutez!A:C,3,FALSE)","v":2025},8,1213,0.91500000000000004,5059,4629,"x",null,"DuoDiscus XT","BB",""]
["Michael Fik",1972,"M","Strakonice","CZ/C1","PMRg 2025 - Kombi",{"$f":"VLOOKUP(F2322,Soutez!A:B,2,FALSE)","v":"CZ"},{"$f":"VLOOKUP(F2322,Soutez!A:C,3,FALSE)","v":2025},9,551,0.91500000000000004,2329,2131,"x",null,"Duo Discus XT","DD",""]
["Bohus Marcinik",1947,"M","Příbram","CZ/C1","PMRg 2025 - Kombi",{"$f":"VLOOKUP(F2323,Soutez!A:B,2,FALSE)","v":"CZ"},{"$f":"VLOOKUP(F2323,Soutez!A:C,3,FALSE)","v":2025},10,0,0.91500000000000004,0,0,null,null,"Ventus 2cxM 18m","EK",""]
["Jan Stastny",{"$f":"VLOOKUP(A2324,Pilot,2,0)","v":2003},{"$f":"VLOOKUP(A2324,Pilot,5,0)","v":"M"},{"$f":"VLOOKUP(A2324,Pilot,3,0)","v":"Medlánky"},{"$f":"VLOOKUP(A2324,Pilot,4,0)","v":"CZ/M"},"PMČRj 2025 - Klub",{"$f":"VLOOKUP(F2324,Soutez!A:B,2,FALSE)","v":"CZ"},{"$f":"VLOOKUP(F2324,Soutez!A:C,3,FALSE)","v":2025},1,1706,0.91,{"$f":"ROUND(J2324/MAX($J$2324:$J$2350)*10000*0.7+(MAX($I$2324:$I$2350)-I2324)/(MAX($I$2324:$I$2350)-1)*10000*0.3,0)","v":10000},{"$f":"ROUND(K2324*L2324,0)","v":9100},null,null,"ASW 20A","A3","Junior v roce 2026"]
["Vit Morkovsky",2000,"M","Polička","CZ/C2","PMČRj 2025 - Klub",{"$f":"VLOOKUP(F2325,Soutez!A:B,2,FALSE)","v":"CZ"},{"$f":"VLOOKUP(F2325,Soutez!A:C,3,FALSE)","v":2025},2,1654,0.91,9671,{"$f":"ROUND(K2325*L2325,0)","v":8801},"x",null,"ASW 20","OX",""]
["Petr Masik",2001,"M","Zábřeh","CZ/M","PMČRj 2025 - Klub",{"$f":"VLOOKUP(F2326,Soutez!A:B,2,FALSE)","v":"CZ"},{"$f":"VLOOKUP(F2326,Soutez!A:C,3,FALSE)","v":2025},3,1612,0.91,9384,8539,"x",null,"ASW 19B",34,"Junior v roce 2026"]
["Stepan Filakovsky",2005,"M","Medlánky","CZ/M","PMČRj 2025 - Klub",{"$f":"VLOOKUP(F2327,Soutez!A:B,2,FALSE)","v":"CZ"},{"$f":"VLOOKUP(F2327,Soutez!A:C,3,FALSE)","v":2025},4,1554,0.91,9030,8217,"x",null,"LS 1f","FD","Junior v roce 2026"]
["Alex Gulich",2005,"M","Slaný","CZ/C1","PMČRj 2025 - Klub",{"$f":"VLOOKUP(F2328,Soutez!A:B,2,FALSE)","v":"CZ"},{"$f":"VLOOKUP(F2328,Soutez!A:C,3,FALSE)","v":2025},5,1489,0.91,8648,7870,"x",null,"Std. Cirrus","TI","Junior v roce 2026"]
["Eliska Kudejova",2006,"F","Strakonice","CZ/C1","PMČRj 2025 - Klub",{"$f":"VLOOKUP(F2329,Soutez!A:B,2,FALSE)","v":"CZ"},{"$f":"VLOOKUP(F2329,Soutez!A:C,3,FALSE)","v":2025},6,1459,0.91,8410,7653,"x","x","DG 101G","JL","Junior v roce 2026"]
["Vojtech Vach 03",{"$f":"VLOOKUP(A2330,Pilot,2,0)","v":2003},{"$f":"VLOOKUP(A2330,Pilot,5,0)","v":"M"},{"$f":"VLOOKUP(A2330,Pilot,3,0)","v":"Vrchlabí"},{"$f":"VLOOKUP(A2330,Pilot,4,0)","v":"CZ/C2"},"PMČRj 2025 - Klub",{"$f":"VLOOKUP(F2330,Soutez!A:B,2,FALSE)","v":"CZ"},{"$f":"VLOOKUP(F2330,Soutez!A:C,3,FALSE)","v":2025},7,1426,0.91,8159,7425,"x",null,"ASW 19","HB",{"$f":"IF(ISERROR(VLOOKUP(A2330,Pilot,6,0)),\"Není v databázi\",VLOOKUP(A2330,Pilot,6,0))","v":"Junior v roce 2026"}]
["Lukas Volek",2004,"M","Hodkovice","CZ/C2","PMČRj 2025 - Klub",{"$f":"VLOOKUP(F2331,Soutez!A:B,2,FALSE)","v":"CZ"},{"$f":"VLOOKUP(F2331,Soutez!A:C,3,FALSE)","v":2025},8,1407,0.91,7965,7248,"x",null,"ASW 19B","XP","Junior v roce 2026"]
["Ivan Morkovsky",2008,"M","Polička","CZ/C2","PMČRj 2025 - Klub",{"$f":"VLOOKUP(F2332,Soutez!A:B,2,FALSE)","v":"CZ"},{"$f":"VLOOKUP(F2332,Soutez!A:C,3,FALSE)","v":2025},9,1397,0.91,7809,7106,"x",null,"ASW 24 WL","SM","Junior v roce 2026"]
["Katerina Vancurova",2002,"F","Hranice","CZ/M","PMČRj 2025 - Klub",{"$f":"VLOOKUP(F2333,Soutez!A:B,2,FALSE)","v":"CZ"},{"$f":"VLOOKUP(F2333,Soutez!A:C,3,FALSE)","v":2025},10,1350,0.91,7501,6826,"x","x","Discus CS WL","HD","Junior v roce 2026"]
["Stepan Bartos",2004,"M","Kolín","CZ/C1","PMČRj 2025 - Klub",{"$f":"VLOOKUP(F2334,Soutez!A:B,2,FALSE)","v":"CZ"},{"$f":"VLOOKUP(F2334,Soutez!A:C,3,FALSE)","v":2025},11,1219,0.91,6848,6232,null,null,"Discus WL","LD","Junior v roce 2026"]
["Vojtech Pavek",2000,"M","Medlánky","CZ/M","PMČRj 2025 - Klub",{"$f":"VLOOKUP(F2335,Soutez!A:B,2,FALSE)","v":"CZ"},{"$f":"VLOOKUP(F2335,Soutez!A:C,3,FALSE)","v":2025},12,1209,0.91,6691,6089,"x",null,"Std. Cirrus","MP",""]
["Jakub Sachl",2006,"M","Kralupy","CZ/C1","PMČRj 2025 - Klub",{"$f":"VLOOKUP(F2336,Soutez!A:B,2,FALSE)","v":"CZ"},{"$f":"VLOOKUP(F2336,Soutez!A:C,3,FALSE)","v":2025},13,1172,0.91,6424,5846,"x",null,"DG 300 ELAN WL(RG)","BK","Junior v roce 2026"]
["Jan Svestka",2005,"M","Křižanov","CZ/M","PMČRj 2025 - Klub",{"$f":"VLOOKUP(F2337,Soutez!A:B,2,FALSE)","v":"CZ"},{"$f":"VLOOKUP(F2337,Soutez!A:C,3,FALSE)","v":2025},14,1168,0.91,6292,5726,"x",null,"ASW 19B","A1","Junior v roce 2026"]
["Tibor Hezina",2002,"M","Křižanov","CZ/M","PMČRj 2025 - Klub",{"$f":"VLOOKUP(F2338,Soutez!A:B,2,FALSE)","v":"CZ"},{"$f":"VLOOKUP(F2338,Soutez!A:C,3,FALSE)","v":2025},15,1118,0.91,5972,5435,"x",null,"Std. Cirrus","EJ","Junior v roce 2026"]
["Filip Mrstny",2006,"M","Beroun","CZ/C1","PMČRj 2025 - Klub",{"$f":"VLOOKUP(F2339,Soutez!A:B,2,FALSE)","v":"CZ"},{"$f":"VLOOKUP(F2339,Soutez!A:C,3,FALSE)","v":2025},16,1105,0.91,5803,5281,null,null,"Std. Cirrus",57,"Junior v roce 2026"]
["Martin Stastny",2005,"M","Medlánky","CZ/M","PMČRj 2025 - Klub",{"$f":"VLOOKUP(F2340,Soutez!A:B,2,FALSE)","v":"CZ"},{"$f":"VLOOKUP(F2340,Soutez!A:C,3,FALSE)","v":2025},17,1100,0.91,5667,{"$f":"ROUND(K2340*L2340,0)","v":5157},"x",null,"Std. Cirrus WL","CX","Junior v roce 2026"]
["Matyas John",{"$f":"VLOOKUP(A2341,Pilot,2,0)","v":2002},{"$f":"VLOOKUP(A2341,Pilot,5,0)","v":"M"},{"$f":"VLOOKUP(A2341,Pilot,3,0)","v":"Medlánky"},{"$f":"VLOOKUP(A2341,Pilot,4,0)","v":"CZ/M"},"PMČRj 2025 - Klub",{"$f":"VLOOKUP(F2341,Soutez!A:B,2,FALSE)","v":"CZ"},{"$f":"VLOOKUP(F2341,Soutez!A:C,3,FALSE)","v":2025},18,1082,0.91,5478,{"$f":"ROUND(K2341*L2341,0)","v":4985},"x",null,"Std. Cirrus","MS","Junior v roce 2026"]
["Petr Hosek",2001,"M","Beroun","CZ/C1","PMČRj 2025 - Klub",{"$f":"VLOOKUP(F2342,Soutez!A:B,2,FALSE)","v":"CZ"},{"$f":"VLOOKUP(F2342,Soutez!A:C,3,FALSE)","v":2025},18,1082,0.91,5478,4985,"x",null,"VSO-10","B1","Junior v roce 2026"]
["Zdenek Votava",2007,"M","Letkov","CZ/C1","PMČRj 2025 - Klub",{"$f":"VLOOKUP(F2343,Soutez!A:B,2,FALSE)","v":"CZ"},{"$f":"VLOOKUP(F2343,Soutez!A:C,3,FALSE)","v":2025},20,978,0.91,4821,4387,"x",null,"ASW 15B","LA","Junior v roce 2026"]
["Filip Riabec",{"$f":"VLOOKUP(A2344,Pilot,2,0)","v":2006},{"$f":"VLOOKUP(A2344,Pilot,5,0)","v":"M"},{"$f":"VLOOKUP(A2344,Pilot,3,0)","v":"Broumov"},{"$f":"VLOOKUP(A2344,Pilot,4,0)","v":"CZ/C2"},"PMČRj 2025 - Klub",{"$f":"VLOOKUP(F2344,Soutez!A:B,2,FALSE)","v":"CZ"},{"$f":"VLOOKUP(F2344,Soutez!A:C,3,FALSE)","v":2025},21,973,0.91,4685,4263,"x",null,"ASW 15B","2P","Junior v roce 2026"]
["Viktorie Kusa",2004,"F","Letňany","CZ/C1","PMČRj 2025 - Klub",{"$f":"VLOOKUP(F2345,Soutez!A:B,2,FALSE)","v":"CZ"},{"$f":"VLOOKUP(F2345,Soutez!A:C,3,FALSE)","v":2025},22,925,0.91,4372,3979,"x","x","G 102 Astir CS","PJ","Junior v roce 2026"]
["Adela Vachova",{"$f":"VLOOKUP(A2346,Pilot,2,0)","v":2007},{"$f":"VLOOKUP(A2346,Pilot,5,0)","v":"F"},{"$f":"VLOOKUP(A2346,Pilot,3,0)","v":"Hodkovice"},{"$f":"VLOOKUP(A2346,Pilot,4,0)","v":"CZ/C2"},"PMČRj 2025 - Klub",{"$f":"VLOOKUP(F2346,Soutez!A:B,2,FALSE)","v":"CZ"},{"$f":"VLOOKUP(F2346,Soutez!A:C,3,FALSE)","v":2025},23,860,0.91,3990,3631,"x","x","ASW-15b","BF","Junior v roce 2026"]
["Michal Prochazka",2006,"M","Beroun","CZ/C1","PMČRj 2025 - Klub",{"$f":"VLOOKUP(F2347,Soutez!A:B,2,FALSE)","v":"CZ"},{"$f":"VLOOKUP(F2347,Soutez!A:C,3,FALSE)","v":2025},24,815,0.91,3690,3358,"x",null,"Std. Cirrus","BU","Junior v roce 2026"]
["David Brunclik",2006,"M","Zbraslavice","CZ/C1","PMČRj 2025 - Klub",{"$f":"VLOOKUP(F2348,Soutez!A:B,2,FALSE)","v":"CZ"},{"$f":"VLOOKUP(F2348,Soutez!A:C,3,FALSE)","v":2025},25,778,0.91,3423,3115,"x",null,"ASW 15a","WL","Junior v roce 2026"]
["Daniel Sirmer",{"$f":"VLOOKUP(A2349,Pilot,2,0)","v":2005},{"$f":"VLOOKUP(A2349,Pilot,5,0)","v":"M"},{"$f":"VLOOKUP(A2349,Pilot,3,0)","v":"Jihlava"},{"$f":"VLOOKUP(A2349,Pilot,4,0)","v":"CZ/M"},"PMČRj 2025 - Klub",{"$f":"VLOOKUP(F2349,Soutez!A:B,2,FALSE)","v":"CZ"},{"$f":"VLOOKUP(F2349,Soutez!A:C,3,FALSE)","v":2025},26,662,{"$f":"VLOOKUP(F2349,Soutez,12,0)","v":0.91},2832,2577,"x",null,"VSO-10",62,"Junior v roce 2026"]
["Zuzana Novakova",{"$f":"VLOOKUP(A2350,Pilot,2,0)","v":2001},{"$f":"VLOOKUP(A2350,Pilot,5,0)","v":"F"},{"$f":"VLOOKUP(A2350,Pilot,3,0)","v":"Hranice"},{"$f":"VLOOKUP(A2350,Pilot,4,0)","v":"CZ/M"},"PMČRj 2025 - Klub",{"$f":"VLOOKUP(F2350,Soutez!A:B,2,FALSE)","v":"CZ"},{"$f":"VLOOKUP(F2350,Soutez!A:C,3,FALSE)","v":2025},27,496,0.91,2035,1852,"x","x","Cirrus 75","XII","Junior v roce 2026"]
["Tereza Koubkova",{"$f":"VLOOKUP(A2351,Pilot,2,0)","v":1999},{"$f":"VLOOKUP(A2351,Pilot,5,0)","v":"F"},{"$f":"VLOOKUP(A2351,Pilot,3,0)","v":"Strakonice"},{"$f":"VLOOKUP(A2351,Pilot,4,0)","v":"CZ/C1"},"WWGC 2025 - Klub",{"$f":"VLOOKUP(F2351,Soutez!A:B,2,FALSE)","v":"CZ"},{"$f":"VLOOKUP(F2351,Soutez!A:C,3,FALSE)","v":2025},1,4134,1.03,{"$f":"ROUND(J2351/MAX($J$2351:$J$2375)*10000*0.7+(MAX($I$2351:$I$2375)-I2351)/(MAX($I$2351:$I$2375)-1)*10000*0.3,0)","v":10000},{"$f":"ROUND(K2351*L2351,0)","v":10300},null,"x","LS4","IX",""]
["Julia Walowska",null,null,"Poland",null,"WWGC 2025 - Klub",{"$f":"VLOOKUP(F2352,Soutez!A:B,2,FALSE)","v":"CZ"},{"$f":"VLOOKUP(F2352,Soutez!A:C,3,FALSE)","v":2025},2,3851,1.03,9396,{"$f":"ROUND(K2352*L2352,0)","v":9678},null,null,"LS3","AN","Není v databázi"]
["Michaela Krizova",{"$f":"VLOOKUP(A2353,Pilot,2,0)","v":2001},{"$f":"VLOOKUP(A2353,Pilot,5,0)","v":"F"},{"$f":"VLOOKUP(A2353,Pilot,3,0)","v":"Přibyslav"},{"$f":"VLOOKUP(A2353,Pilot,4,0)","v":"CZ/C2"},"WWGC 2025 - Klub",{"$f":"VLOOKUP(F2353,Soutez!A:B,2,FALSE)","v":"CZ"},{"$f":"VLOOKUP(F2353,Soutez!A:C,3,FALSE)","v":2025},3,3825,1.03,9227,9504,null,null,"LS4","6L","Junior v roce 2026"]
["Ulrike Teichmann",null,null,"Germany",null,"WWGC 2025 - Klub",{"$f":"VLOOKUP(F2354,Soutez!A:B,2,FALSE)","v":"CZ"},{"$f":"VLOOKUP(F2354,Soutez!A:C,3,FALSE)","v":2025},4,3819,1.03,9092,9365,null,null,"LS7","CK","Není v databázi"]
["Carolin Rothhardt",null,null,"Germany",null,"WWGC 2025 - Klub",{"$f":"VLOOKUP(F2355,Soutez!A:B,2,FALSE)","v":"CZ"},{"$f":"VLOOKUP(F2355,Soutez!A:C,3,FALSE)","v":2025},5,3741,1.03,8835,9100,null,null,"LS7","PG","Není v databázi"]
["Sara Salonen",null,null,"Finland",null,"WWGC 2025 - Klub",{"$f":"VLOOKUP(F2356,Soutez!A:B,2,FALSE)","v":"CZ"},{"$f":"VLOOKUP(F2356,Soutez!A:C,3,FALSE)","v":2025},6,3738,1.03,8704,8965,null,null,"LS7","HV","Není v databázi"]
["Joanna Biedermann",null,null,"Poland",null,"WWGC 2025 - Klub",{"$f":"VLOOKUP(F2357,Soutez!A:B,2,FALSE)","v":"CZ"},{"$f":"VLOOKUP(F2357,Soutez!A:C,3,FALSE)","v":2025},7,3550,1.03,8261,8509,null,null,"LS3","FLS","Není v databázi"]
["Katerina Vojtova",{"$f":"VLOOKUP(A2358,Pilot,2,0)","v":1983},{"$f":"VLOOKUP(A2358,Pilot,5,0)","v":"F"},{"$f":"VLOOKUP(A2358,Pilot,3,0)","v":"Slaný"},{"$f":"VLOOKUP(A2358,Pilot,4,0)","v":"CZ/C1"},"WWGC 2025 - Klub",{"$f":"VLOOKUP(F2358,Soutez!A:B,2,FALSE)","v":"CZ"},{"$f":"VLOOKUP(F2358,Soutez!A:C,3,FALSE)","v":2025},8,3456,1.03,7977,8216,null,"x","ASW 20L","NW",""]
["Elena Fergnani",null,null,"Italy",null,"WWGC 2025 - Klub",{"$f":"VLOOKUP(F2359,Soutez!A:B,2,FALSE)","v":"CZ"},{"$f":"VLOOKUP(F2359,Soutez!A:C,3,FALSE)","v":2025},9,3386,1.03,7733,7965,null,null,"Discus a",40,"Není v databázi"]
["Louise Rodriguez",null,null,"France",null,"WWGC 2025 - Klub",{"$f":"VLOOKUP(F2360,Soutez!A:B,2,FALSE)","v":"CZ"},{"$f":"VLOOKUP(F2360,Soutez!A:C,3,FALSE)","v":2025},10,3355,1.03,7556,7783,null,null,"LS7","HG","Není v databázi"]
["Judit Murati",null,null,"Hungary",null,"WWGC 2025 - Klub",{"$f":"VLOOKUP(F2361,Soutez!A:B,2,FALSE)","v":"CZ"},{"$f":"VLOOKUP(F2361,Soutez!A:C,3,FALSE)","v":2025},11,3313,1.03,7360,7581,null,null,"ASW20c","J","Není v databázi"]
["Edita Skalskiene",null,null,"Lithuania",null,"WWGC 2025 - Klub",{"$f":"VLOOKUP(F2362,Soutez!A:B,2,FALSE)","v":"CZ"},{"$f":"VLOOKUP(F2362,Soutez!A:C,3,FALSE)","v":2025},12,3222,1.03,7081,7293,null,null,"ASW20f","W4","Není v databázi"]
["Daniela Wilden",null,null,"Germany",null,"WWGC 2025 - Klub",{"$f":"VLOOKUP(F2363,Soutez!A:B,2,FALSE)","v":"CZ"},{"$f":"VLOOKUP(F2363,Soutez!A:C,3,FALSE)","v":2025},13,3209,1.03,6934,7142,null,null,"LS7","FOX","Není v databázi"]
["Lilla Szamosujvari",null,null,"Hungary",null,"WWGC 2025 - Klub",{"$f":"VLOOKUP(F2364,Soutez!A:B,2,FALSE)","v":"CZ"},{"$f":"VLOOKUP(F2364,Soutez!A:C,3,FALSE)","v":2025},14,3207,1.03,6805,7009,null,null,"Glasflugel 304","JM","Není v databázi"]
["Christina Solberg Hansen",null,null,"Denmark",null,"WWGC 2025 - Klub",{"$f":"VLOOKUP(F2365,Soutez!A:B,2,FALSE)","v":"CZ"},{"$f":"VLOOKUP(F2365,Soutez!A:C,3,FALSE)","v":2025},15,2910,1.03,6177,6362,null,null,"LS1f","SH","Není v databázi"]
["Olena Yakymchuk",null,null,"Ukraine",null,"WWGC 2025 - Klub",{"$f":"VLOOKUP(F2366,Soutez!A:B,2,FALSE)","v":"CZ"},{"$f":"VLOOKUP(F2366,Soutez!A:C,3,FALSE)","v":2025},16,2866,1.03,5978,6157,null,null,"Discus cs","B8","Není v databázi"]
["Jane Nash",null,null,"United Kingdom",null,"WWGC 2025 - Klub",{"$f":"VLOOKUP(F2367,Soutez!A:B,2,FALSE)","v":"CZ"},{"$f":"VLOOKUP(F2367,Soutez!A:C,3,FALSE)","v":2025},17,2808,1.03,5755,5928,null,null,"SZD-55-1",100,"Není v databázi"]
["Anne Soltow",null,null,"United Kingdom",null,"WWGC 2025 - Klub",{"$f":"VLOOKUP(F2368,Soutez!A:B,2,FALSE)","v":"CZ"},{"$f":"VLOOKUP(F2368,Soutez!A:C,3,FALSE)","v":2025},18,2705,1.03,5455,5619,null,null,"Std. Cirrus",680,"Není v databázi"]
["Aneta Chabora",null,null,"Poland",null,"WWGC 2025 - Klub",{"$f":"VLOOKUP(F2369,Soutez!A:B,2,FALSE)","v":"CZ"},{"$f":"VLOOKUP(F2369,Soutez!A:C,3,FALSE)","v":2025},19,2491,1.03,4968,{"$f":"ROUND(K2369*L2369,0)","v":5117},null,null,"ASW 20L",311,"Není v databázi"]
["Mulder Alison",null,null,"United Kingdom",null,"WWGC 2025 - Klub",{"$f":"VLOOKUP(F2370,Soutez!A:B,2,FALSE)","v":"CZ"},{"$f":"VLOOKUP(F2370,Soutez!A:C,3,FALSE)","v":2025},20,2487,1.03,4836,4981,null,null,"LS4","LS4","Není v databázi"]
["Sylvia Grandstaff",null,null,"United States of America",null,"WWGC 2025 - Klub",{"$f":"VLOOKUP(F2371,Soutez!A:B,2,FALSE)","v":"CZ"},{"$f":"VLOOKUP(F2371,Soutez!A:C,3,FALSE)","v":2025},21,2468,1.03,4679,4819,null,null,"LS4","FP","Není v databázi"]
["Austeja Urbanaviciute",null,null,"Lithuania",null,"WWGC 2025 - Klub",{"$f":"VLOOKUP(F2372,Soutez!A:B,2,FALSE)","v":"CZ"},{"$f":"VLOOKUP(F2372,Soutez!A:C,3,FALSE)","v":2025},22,2375,1.03,4397,4529,null,null,"LS3a","QT","Není v databázi"]
["Karin Lindgren",null,null,"Sweeden",null,"WWGC 2025 - Klub",{"$f":"VLOOKUP(F2373,Soutez!A:B,2,FALSE)","v":"CZ"},{"$f":"VLOOKUP(F2373,Soutez!A:C,3,FALSE)","v":2025},23,2085,1.03,3780,3893,null,null,"Discus b","1X","Není v databázi"]
["Anaïs Gaubert",null,null,"France",null,"WWGC 2025 - Klub",{"$f":"VLOOKUP(F2374,Soutez!A:B,2,FALSE)","v":"CZ"},{"$f":"VLOOKUP(F2374,Soutez!A:C,3,FALSE)","v":2025},24,1995,1.03,3503,3608,null,null,"LS7","AG","Není v databázi"]
["Rositsa Ivanova",null,null,"Austria",null,"WWGC 2025 - Klub",{"$f":"VLOOKUP(F2375,Soutez!A:B,2,FALSE)","v":"CZ"},{"$f":"VLOOKUP(F2375,Soutez!A:C,3,FALSE)","v":2025},25,1422,1.03,2408,2480,null,null,"LS4","RI","Není v databázi"]
["Klara Teichmannova",{"$f":"VLOOKUP(A2376,Pilot,2,0)","v":1993},{"$f":"VLOOKUP(A2376,Pilot,5,0)","v":"F"},{"$f":"VLOOKUP(A2376,Pilot,3,0)","v":"Hronov"},{"$f":"VLOOKUP(A2376,Pilot,4,0)","v":"CZ/C2"},"WWGC 2025 - Std",{"$f":"VLOOKUP(F2376,Soutez!A:B,2,FALSE)","v":"CZ"},{"$f":"VLOOKUP(F2376,Soutez!A:C,3,FALSE)","v":2025},1,3689,1.0499999999999998,{"$f":"ROUND(J2376/MAX($J$2376:$J$2389)*10000*0.7+(MAX($I$2376:$I$2389)-I2376)/(MAX($I$2376:$I$2389)-1)*10000*0.3,0)","v":10000},{"$f":"ROUND(K2376*L2376,0)","v":10500},null,"x","LS8","W8",""]
["Judyta Czyz",null,null,"Poland",null,"WWGC 2025 - Std",{"$f":"VLOOKUP(F2377,Soutez!A:B,2,FALSE)","v":"CZ"},{"$f":"VLOOKUP(F2377,Soutez!A:C,3,FALSE)","v":2025},2,3563,1.0499999999999998,9530,{"$f":"ROUND(K2377*L2377,0)","v":10007},null,null,"LS8","ZB","Není v databázi"]
["Aude Untersee",null,null,"France",null,"WWGC 2025 - Std",{"$f":"VLOOKUP(F2378,Soutez!A:B,2,FALSE)","v":"CZ"},{"$f":"VLOOKUP(F2378,Soutez!A:C,3,FALSE)","v":2025},3,3560,1.0499999999999998,9294,9759,null,null,"Discus 2a","JPA","Není v databázi"]
["Melanie Desbois-Gadoulet",null,null,"France",null,"WWGC 2025 - Std",{"$f":"VLOOKUP(F2379,Soutez!A:B,2,FALSE)","v":"CZ"},{"$f":"VLOOKUP(F2379,Soutez!A:C,3,FALSE)","v":2025},4,3545,1.0499999999999998,9034,9486,null,null,"Discus 2a","AX","Není v databázi"]
["Petra Piskata",{"$f":"VLOOKUP(A2380,Pilot,2,0)","v":1989},{"$f":"VLOOKUP(A2380,Pilot,5,0)","v":"F"},{"$f":"VLOOKUP(A2380,Pilot,3,0)","v":"Luhačovice"},{"$f":"VLOOKUP(A2380,Pilot,4,0)","v":"CZ/M"},"WWGC 2025 - Std",{"$f":"VLOOKUP(F2380,Soutez!A:B,2,FALSE)","v":"CZ"},{"$f":"VLOOKUP(F2380,Soutez!A:C,3,FALSE)","v":2025},5,3506,1.0499999999999998,8730,9167,null,"x","LS8","FX",""]
["Barbora Moravcova",1994,"F","Zbraslavice","CZ/C1","WWGC 2025 - Std",{"$f":"VLOOKUP(F2381,Soutez!A:B,2,FALSE)","v":"CZ"},{"$f":"VLOOKUP(F2381,Soutez!A:C,3,FALSE)","v":2025},6,3498,1.0499999999999998,8484,8908,null,"x","LS8","JB",""]
["Kinga Tchorz",null,null,"Poland",null,"WWGC 2025 - Std",{"$f":"VLOOKUP(F2382,Soutez!A:B,2,FALSE)","v":"CZ"},{"$f":"VLOOKUP(F2382,Soutez!A:C,3,FALSE)","v":2025},7,3446,1.0499999999999998,8154,8562,null,null,"LS8","LOT","Není v databázi"]
["Lucia Esteban Loring",null,null,"Spain",null,"WWGC 2025 - Std",{"$f":"VLOOKUP(F2383,Soutez!A:B,2,FALSE)","v":"CZ"},{"$f":"VLOOKUP(F2383,Soutez!A:C,3,FALSE)","v":2025},8,3081,1.0499999999999998,7231,7593,null,null,"Discus 2a","L","Není v databázi"]
["Barbara Kuttel",null,null,"Switzerland",null,"WWGC 2025 - Std",{"$f":"VLOOKUP(F2384,Soutez!A:B,2,FALSE)","v":"CZ"},{"$f":"VLOOKUP(F2384,Soutez!A:C,3,FALSE)","v":2025},9,3021,1.0499999999999998,6886,7230,null,null,"LS8","BK","Není v databázi"]
["Christine Grote",null,null,"Germany",null,"WWGC 2025 - Std",{"$f":"VLOOKUP(F2385,Soutez!A:B,2,FALSE)","v":"CZ"},{"$f":"VLOOKUP(F2385,Soutez!A:C,3,FALSE)","v":2025},10,2972,1.0499999999999998,6563,6891,null,null,"Discus 2a","V7","Není v databázi"]
["Sabrina Vogt",null,null,"Germany",null,"WWGC 2025 - Std",{"$f":"VLOOKUP(F2386,Soutez!A:B,2,FALSE)","v":"CZ"},{"$f":"VLOOKUP(F2386,Soutez!A:C,3,FALSE)","v":2025},11,2964,1.0499999999999998,6317,{"$f":"ROUND(K2386*L2386,0)","v":6633},null,null,"LS8","BB","Není v databázi"]
["Cornelia Schaich",null,null,"Germany",null,"WWGC 2025 - Std",{"$f":"VLOOKUP(F2387,Soutez!A:B,2,FALSE)","v":"CZ"},{"$f":"VLOOKUP(F2387,Soutez!A:C,3,FALSE)","v":2025},12,2708,1.0499999999999998,5600,5880,null,null,"LS8","3S","Není v databázi"]
["Jan McCoshim",null,null,"United Kingdom",null,"WWGC 2025 - Std",{"$f":"VLOOKUP(F2388,Soutez!A:B,2,FALSE)","v":"CZ"},{"$f":"VLOOKUP(F2388,Soutez!A:C,3,FALSE)","v":2025},13,2346,1.0499999999999998,4682,4916,null,null,"LS8",161,"Není v databázi"]
["Lizzy van Zomeren",null,null,"Netherlands",null,"WWGC 2025 - Std",{"$f":"VLOOKUP(F2389,Soutez!A:B,2,FALSE)","v":"CZ"},{"$f":"VLOOKUP(F2389,Soutez!A:C,3,FALSE)","v":2025},14,2341,1.0499999999999998,4442,4664,null,null,"LS8","HT","Není v databázi"]
["Alena Netusilova",{"$f":"VLOOKUP(A2390,Pilot,2,0)","v":1970},{"$f":"VLOOKUP(A2390,Pilot,5,0)","v":"F"},{"$f":"VLOOKUP(A2390,Pilot,3,0)","v":"Zbraslavice"},{"$f":"VLOOKUP(A2390,Pilot,4,0)","v":"CZ/C1"},"WWGC 2025 - 18m",{"$f":"VLOOKUP(F2390,Soutez!A:B,2,FALSE)","v":"CZ"},{"$f":"VLOOKUP(F2390,Soutez!A:C,3,FALSE)","v":2025},1,3601,1.0499999999999998,{"$f":"ROUND(J2390/MAX($J$2390:$J$2400)*10000*0.7+(MAX($I$2390:$I$2400)-I2390)/(MAX($I$2390:$I$2400)-1)*10000*0.3,0)","v":10000},{"$f":"ROUND(K2390*L2390,0)","v":10500},null,"x","JS3 RES","A7",""]
["Marilyne Abadie-Berard",null,null,"France",null,"WWGC 2025 - 18m",{"$f":"VLOOKUP(F2391,Soutez!A:B,2,FALSE)","v":"CZ"},{"$f":"VLOOKUP(F2391,Soutez!A:C,3,FALSE)","v":2025},2,3324,1.0499999999999998,9162,{"$f":"ROUND(K2391*L2391,0)","v":9620},null,null,"JS3 JET","2L",{"$f":"IF(ISERROR(VLOOKUP(A2391,Pilot,6,0)),\"Není v databázi\",VLOOKUP(A2391,Pilot,6,0))","v":"Není v databázi"}]
["Michaela Rendlova",{"$f":"VLOOKUP(A2392,Pilot,2,0)","v":2004},{"$f":"VLOOKUP(A2392,Pilot,5,0)","v":"F"},{"$f":"VLOOKUP(A2392,Pilot,3,0)","v":"Toužim"},{"$f":"VLOOKUP(A2392,Pilot,4,0)","v":"CZ/C1"},"WWGC 2025 - 18m",{"$f":"VLOOKUP(F2392,Soutez!A:B,2,FALSE)","v":"CZ"},{"$f":"VLOOKUP(F2392,Soutez!A:C,3,FALSE)","v":2025},3,3275,1.0499999999999998,8766,9204,null,"x","AS33es","EA","Junior v roce 2026"]
["Sophie Curio",null,null,"Australia",null,"WWGC 2025 - 18m",{"$f":"VLOOKUP(F2393,Soutez!A:B,2,FALSE)","v":"CZ"},{"$f":"VLOOKUP(F2393,Soutez!A:C,3,FALSE)","v":2025},4,3251,1.0499999999999998,8420,8841,null,null,"AS33es","EZ","Není v databázi"]
["Hana Treslova",{"$f":"VLOOKUP(A2394,Pilot,2,0)","v":1991},{"$f":"VLOOKUP(A2394,Pilot,5,0)","v":"F"},{"$f":"VLOOKUP(A2394,Pilot,3,0)","v":"Raná"},{"$f":"VLOOKUP(A2394,Pilot,4,0)","v":"CZ/C2"},"WWGC 2025 - 18m",{"$f":"VLOOKUP(F2394,Soutez!A:B,2,FALSE)","v":"CZ"},{"$f":"VLOOKUP(F2394,Soutez!A:C,3,FALSE)","v":2025},5,3224,1.0499999999999998,8067,8470,null,null,"JS3 JET","XM",""]
["Jana Treslova",1963,"F","Raná","CZ/C2","WWGC 2025 - 18m",{"$f":"VLOOKUP(F2395,Soutez!A:B,2,FALSE)","v":"CZ"},{"$f":"VLOOKUP(F2395,Soutez!A:C,3,FALSE)","v":2025},6,3120,1.0499999999999998,7565,7943,null,"x","JS3 JET","ZE",""]
["Sandra Malzacher",null,null,"Germany",null,"WWGC 2025 - 18m",{"$f":"VLOOKUP(F2396,Soutez!A:B,2,FALSE)","v":"CZ"},{"$f":"VLOOKUP(F2396,Soutez!A:C,3,FALSE)","v":2025},7,2769,1.0499999999999998,6583,6912,null,null,"ASG 29","LEO","Není v databázi"]
["Jana Konitzer",null,null,"Germany",null,"WWGC 2025 - 18m",{"$f":"VLOOKUP(F2397,Soutez!A:B,2,FALSE)","v":"CZ"},{"$f":"VLOOKUP(F2397,Soutez!A:C,3,FALSE)","v":2025},8,2755,1.0499999999999998,6255,{"$f":"ROUND(K2397*L2397,0)","v":6568},null,null,"ASG 29e","LY","Není v databázi"]
["Ayala Truelove",null,null,"United Kingdom",null,"WWGC 2025 - 18m",{"$f":"VLOOKUP(F2398,Soutez!A:B,2,FALSE)","v":"CZ"},{"$f":"VLOOKUP(F2398,Soutez!A:C,3,FALSE)","v":2025},9,2632,1.0499999999999998,5716,6002,null,null,"JS3 JET","J7","Není v databázi"]
["Liz Sparrow",null,null,"United Kingdom",null,"WWGC 2025 - 18m",{"$f":"VLOOKUP(F2399,Soutez!A:B,2,FALSE)","v":"CZ"},{"$f":"VLOOKUP(F2399,Soutez!A:C,3,FALSE)","v":2025},10,2628,1.0499999999999998,5409,5679,null,null,"ASG 29",0,"Není v databázi"]
["Anja Barfuß",null,null,"Germany",null,"WWGC 2025 - 18m",{"$f":"VLOOKUP(F2400,Soutez!A:B,2,FALSE)","v":"CZ"},{"$f":"VLOOKUP(F2400,Soutez!A:C,3,FALSE)","v":2025},11,1988,1.0499999999999998,null,null,null,null,"ASG 29","J3","Není v databázi"]
["Jan Louda",{"$f":"VLOOKUP(A2401,Pilot,2,0)","v":1986},{"$f":"VLOOKUP(A2401,Pilot,5,0)","v":"M"},{"$f":"VLOOKUP(A2401,Pilot,3,0)","v":"Mladá Boleslav"},{"$f":"VLOOKUP(A2401,Pilot,4,0)","v":"CZ/C1"},"GGP MB 2025 - Klub GP",{"$f":"VLOOKUP(F2401,Soutez!A:B,2,FALSE)","v":"CZ"},{"$f":"VLOOKUP(F2401,Soutez!A:C,3,FALSE)","v":2025},1,44,{"$f":"VLOOKUP(F2401,Soutez,12,0)","v":0.755},{"$f":"ROUND((MAX($I$2401:$I$2415)-I2401)/(MAX($I$2401:$I$2415)-1)*10000,0)","v":10000},{"$f":"ROUND(K2401*L2401,0)","v":7550},"x",null,"ASW 19","XS",""]
["Alex Gulich",2005,"M","Slaný","CZ/C1","GGP MB 2025 - Klub GP",{"$f":"VLOOKUP(F2402,Soutez!A:B,2,FALSE)","v":"CZ"},{"$f":"VLOOKUP(F2402,Soutez!A:C,3,FALSE)","v":2025},2,27,0.755,9231,{"$f":"ROUND(K2402*L2402,0)","v":6969},null,null,"Std. Cirrus","TI","Junior v roce 2026"]
["Katerina Vojtova",1983,"F","Slaný","CZ/C1","GGP MB 2025 - Klub GP",{"$f":"VLOOKUP(F2403,Soutez!A:B,2,FALSE)","v":"CZ"},{"$f":"VLOOKUP(F2403,Soutez!A:C,3,FALSE)","v":2025},3,21,0.755,8462,6389,"x",null,"Std. Cirrus","KAC",""]
["Eliska Kudejova",2006,"F","Strakonice","CZ/C1","GGP MB 2025 - Klub GP",{"$f":"VLOOKUP(F2404,Soutez!A:B,2,FALSE)","v":"CZ"},{"$f":"VLOOKUP(F2404,Soutez!A:C,3,FALSE)","v":2025},4,18,0.755,7692,5807,null,null,"DG 101 G","JL","Junior v roce 2026"]
["Filip Mrstny",2006,"M","Beroun","CZ/C1","GGP MB 2025 - Klub GP",{"$f":"VLOOKUP(F2405,Soutez!A:B,2,FALSE)","v":"CZ"},{"$f":"VLOOKUP(F2405,Soutez!A:C,3,FALSE)","v":2025},4,18,0.755,7692,5807,"x",null,"Std. Cirrus",57,"Junior v roce 2026"]
["Matej Bartos",1998,"M","Hodkovice","CZ/C2","GGP MB 2025 - Klub GP",{"$f":"VLOOKUP(F2406,Soutez!A:B,2,FALSE)","v":"CZ"},{"$f":"VLOOKUP(F2406,Soutez!A:C,3,FALSE)","v":2025},6,16,0.755,6154,4646,"x",null,"ASW 19 B","XP",""]
["Josef Beran",1982,"M","Slaný","CZ/C1","GGP MB 2025 - Klub GP",{"$f":"VLOOKUP(F2407,Soutez!A:B,2,FALSE)","v":"CZ"},{"$f":"VLOOKUP(F2407,Soutez!A:C,3,FALSE)","v":2025},6,16,0.755,6154,4646,"x",null,"Std. Cirrus","IT",""]
["Jiri Bergman",1978,"M","Mladá Boleslav","CZ/C1","GGP MB 2025 - Klub GP",{"$f":"VLOOKUP(F2408,Soutez!A:B,2,FALSE)","v":"CZ"},{"$f":"VLOOKUP(F2408,Soutez!A:C,3,FALSE)","v":2025},8,11,0.755,4615,3484,"x",null,"Std. Cirrus","BW",""]
["Pavel Mracek",{"$f":"VLOOKUP(A2409,Pilot,2,0)","v":1986},{"$f":"VLOOKUP(A2409,Pilot,5,0)","v":"M"},{"$f":"VLOOKUP(A2409,Pilot,3,0)","v":"Mladá Boleslav"},{"$f":"VLOOKUP(A2409,Pilot,4,0)","v":"CZ/C1"},"GGP MB 2025 - Klub GP",{"$f":"VLOOKUP(F2409,Soutez!A:B,2,FALSE)","v":"CZ"},{"$f":"VLOOKUP(F2409,Soutez!A:C,3,FALSE)","v":2025},9,6,0.755,3846,2904,"x",null,"Std. Cirrus","WI",""]
["Milan Bado",1975,"M","Kolín","CZ/C1","GGP MB 2025 - Klub GP",{"$f":"VLOOKUP(F2410,Soutez!A:B,2,FALSE)","v":"CZ"},{"$f":"VLOOKUP(F2410,Soutez!A:C,3,FALSE)","v":2025},10,2,0.755,3077,{"$f":"ROUND(K2410*L2410,0)","v":2323},"x",null,"ASW 19 B","NO",""]
["Petr Houstek 79",1979,"M","Jaroměř","CZ/C2","GGP MB 2025 - Klub GP",{"$f":"VLOOKUP(F2411,Soutez!A:B,2,FALSE)","v":"CZ"},{"$f":"VLOOKUP(F2411,Soutez!A:C,3,FALSE)","v":2025},11,1,0.755,2308,1743,"x",null,"Std. Cirrus","G0",""]
["Jiri Bartunek",{"$f":"VLOOKUP(A2412,Pilot,2,0)","v":1982},{"$f":"VLOOKUP(A2412,Pilot,5,0)","v":"M"},{"$f":"VLOOKUP(A2412,Pilot,3,0)","v":"Mladá Boleslav"},{"$f":"VLOOKUP(A2412,Pilot,4,0)","v":"CZ/C1"},"GGP MB 2025 - Klub GP",{"$f":"VLOOKUP(F2412,Soutez!A:B,2,FALSE)","v":"CZ"},{"$f":"VLOOKUP(F2412,Soutez!A:C,3,FALSE)","v":2025},11,1,0.755,2308,1743,"x",null,"ASW 15 B","MB",""]
["David Brunclik",2006,"M","Zbraslavice","CZ/C1","GGP MB 2025 - Klub GP",{"$f":"VLOOKUP(F2413,Soutez!A:B,2,FALSE)","v":"CZ"},{"$f":"VLOOKUP(F2413,Soutez!A:C,3,FALSE)","v":2025},11,1,0.755,2308,1743,"x",null,"ASW 15 B","WL","Junior v roce 2026"]
["Martin Marek",1967,"M","Roudnice","CZ/C2","GGP MB 2025 - Klub GP",{"$f":"VLOOKUP(F2414,Soutez!A:B,2,FALSE)","v":"CZ"},{"$f":"VLOOKUP(F2414,Soutez!A:C,3,FALSE)","v":2025},14,0,0.755,0,0,null,null,"Std. Cirrus","2X",""]
["Tomas Knoz",{"$f":"VLOOKUP(A2415,Pilot,2,0)","v":2006},{"$f":"VLOOKUP(A2415,Pilot,5,0)","v":"M"},{"$f":"VLOOKUP(A2415,Pilot,3,0)","v":"Kunovice"},{"$f":"VLOOKUP(A2415,Pilot,4,0)","v":"CZ/M"},"GGP MB 2025 - Klub GP",{"$f":"VLOOKUP(F2415,Soutez!A:B,2,FALSE)","v":"CZ"},{"$f":"VLOOKUP(F2415,Soutez!A:C,3,FALSE)","v":2025},14,0,0.755,0,0,null,null,"G 102 Astir CS","O5","Junior v roce 2026"]
["Karel Novak",{"$f":"VLOOKUP(A2416,Pilot,2,0)","v":1993},{"$f":"VLOOKUP(A2416,Pilot,5,0)","v":"M"},{"$f":"VLOOKUP(A2416,Pilot,3,0)","v":"Mladá Boleslav"},{"$f":"VLOOKUP(A2416,Pilot,4,0)","v":"CZ/C1"},"GGP MB 2025 - Pohár MV - Kombi",{"$f":"VLOOKUP(F2416,Soutez!A:B,2,FALSE)","v":"CZ"},{"$f":"VLOOKUP(F2416,Soutez!A:C,3,FALSE)","v":2025},1,3547,0.755,{"$f":"ROUND(J2416/MAX($J$2416:$J$2425)*10000*0.7+(MAX($I$2416:$I$2425)-I2416)/(MAX($I$2416:$I$2425)-1)*10000*0.3,0)","v":10000},{"$f":"ROUND(K2416*L2416,0)","v":7550},null,null,"JS1C 21m","JX",{"$f":"IF(ISERROR(VLOOKUP(A2416,Pilot,6,0)),\"Není v databázi\",VLOOKUP(A2416,Pilot,6,0))","v":""}]
["Hana Treslova",1991,"F","Raná","CZ/C2","GGP MB 2025 - Pohár MV - Kombi",{"$f":"VLOOKUP(F2417,Soutez!A:B,2,FALSE)","v":"CZ"},{"$f":"VLOOKUP(F2417,Soutez!A:C,3,FALSE)","v":2025},2,3435,0.755,9446,{"$f":"ROUND(K2417*L2417,0)","v":7132},null,null,"JS3 18m","XM",""]
["Radek Zima 78",1978,"M","Hodkovice","CZ/C2","GGP MB 2025 - Pohár MV - Kombi",{"$f":"VLOOKUP(F2418,Soutez!A:B,2,FALSE)","v":"CZ"},{"$f":"VLOOKUP(F2418,Soutez!A:C,3,FALSE)","v":2025},3,2702,0.755,7666,5788,null,null,"DG 500M 22m","YA",""]
["Leos Strnadek",1983,"M","Hodkovice","CZ/C2","GGP MB 2025 - Pohár MV - Kombi",{"$f":"VLOOKUP(F2419,Soutez!A:B,2,FALSE)","v":"CZ"},{"$f":"VLOOKUP(F2419,Soutez!A:C,3,FALSE)","v":2025},4,2610,0.755,7151,5399,"x",null,"ASG 29 18m","XZ",""]
["Vojtech Hajek",1987,"M","Mladá Boleslav","CZ/C1","GGP MB 2025 - Pohár MV - Kombi",{"$f":"VLOOKUP(F2420,Soutez!A:B,2,FALSE)","v":"CZ"},{"$f":"VLOOKUP(F2420,Soutez!A:C,3,FALSE)","v":2025},5,2528,0.755,6656,5025,"x",null,"Duo Discus 700kg",777,""]
["Jan Hejret",1976,"M","Jaroměř","CZ/C2","GGP MB 2025 - Pohár MV - Kombi",{"$f":"VLOOKUP(F2421,Soutez!A:B,2,FALSE)","v":"CZ"},{"$f":"VLOOKUP(F2421,Soutez!A:C,3,FALSE)","v":2025},6,2445,0.755,6159,4650,"x",null,"Ventus c 17,6m","WP",""]
["David Sachl",1978,"M","Kralupy","CZ/C1","GGP MB 2025 - Pohár MV - Kombi",{"$f":"VLOOKUP(F2422,Soutez!A:B,2,FALSE)","v":"CZ"},{"$f":"VLOOKUP(F2422,Soutez!A:C,3,FALSE)","v":2025},7,2436,0.755,5807,4384,null,null,"HpH 304 TS Twin Shark","B2",""]
["Martin Cicvarek",1966,"M","Liberec","CZ/C2","GGP MB 2025 - Pohár MV - Kombi",{"$f":"VLOOKUP(F2423,Soutez!A:B,2,FALSE)","v":"CZ"},{"$f":"VLOOKUP(F2423,Soutez!A:C,3,FALSE)","v":2025},8,2242,0.755,5091,{"$f":"ROUND(K2423*L2423,0)","v":3844},null,null,"KKB 18 Fes","AC",""]
["Dana Novakova",1965,"F","Mladá Boleslav","CZ/C1","GGP MB 2025 - Pohár MV - Kombi",{"$f":"VLOOKUP(F2424,Soutez!A:B,2,FALSE)","v":"CZ"},{"$f":"VLOOKUP(F2424,Soutez!A:C,3,FALSE)","v":2025},9,2142,0.755,4561,3444,null,null,"LS 8 18m","ID",""]
["Libor Bednarik",1972,"M","Kunovice","CZ/M","GGP MB 2025 - Pohár MV - Kombi",{"$f":"VLOOKUP(F2425,Soutez!A:B,2,FALSE)","v":"CZ"},{"$f":"VLOOKUP(F2425,Soutez!A:C,3,FALSE)","v":2025},10,1519,0.755,2998,2263,"x",null,"HpH 304 TS Twin Shark","KEG",""]
["Petr Benes",{"$f":"VLOOKUP(A2426,Pilot,2,0)","v":1980},{"$f":"VLOOKUP(A2426,Pilot,5,0)","v":"M"},{"$f":"VLOOKUP(A2426,Pilot,3,0)","v":"Raná"},{"$f":"VLOOKUP(A2426,Pilot,4,0)","v":"CZ/C2"},"Ulf Memorial 2025 - Klub",{"$f":"VLOOKUP(F2426,Soutez!A:B,2,FALSE)","v":"CZ"},{"$f":"VLOOKUP(F2426,Soutez!A:C,3,FALSE)","v":2025},1,1217,0.75,{"$f":"ROUND(J2426/MAX($J$2426:$J$2436)*10000*0.7+(MAX($I$2426:$I$2436)-I2426)/(MAX($I$2426:$I$2436)-1)*10000*0.3,0)","v":10000},{"$f":"ROUND(K2426*L2426,0)","v":7500},"x",null,"ASK 13",13,""]
["Petr Seibrt",{"$f":"VLOOKUP(A2427,Pilot,2,0)","v":1974},{"$f":"VLOOKUP(A2427,Pilot,5,0)","v":"M"},{"$f":"VLOOKUP(A2427,Pilot,3,0)","v":"Náchod"},{"$f":"VLOOKUP(A2427,Pilot,4,0)","v":"CZ/C2"},"Ulf Memorial 2025 - Klub",{"$f":"VLOOKUP(F2427,Soutez!A:B,2,FALSE)","v":"CZ"},{"$f":"VLOOKUP(F2427,Soutez!A:C,3,FALSE)","v":2025},2,1055,0.75,8768,{"$f":"ROUND(K2427*L2427,0)","v":6576},"x",null,"Bergfalke IV","R2",""]
["Vladimir Abraham",1962,"M","Raná","CZ/C2","Ulf Memorial 2025 - Klub",{"$f":"VLOOKUP(F2428,Soutez!A:B,2,FALSE)","v":"CZ"},{"$f":"VLOOKUP(F2428,Soutez!A:C,3,FALSE)","v":2025},3,909,0.75,7628,5721,"x",null,"Ka 6","Y7",""]
["Miroslav Mitrus",1972,"M","GAC Benešov","CZ/C1","Ulf Memorial 2025 - Klub",{"$f":"VLOOKUP(F2429,Soutez!A:B,2,FALSE)","v":"CZ"},{"$f":"VLOOKUP(F2429,Soutez!A:C,3,FALSE)","v":2025},4,692,0.75,6080,4560,"x",null,"VT-125 Sohaj",68,""]
["Sarka Lochova",1966,"F","Šumperk","CZ/M","Ulf Memorial 2025 - Klub",{"$f":"VLOOKUP(F2430,Soutez!A:B,2,FALSE)","v":"CZ"},{"$f":"VLOOKUP(F2430,Soutez!A:C,3,FALSE)","v":2025},5,664,0.75,5619,4214,"x","x","Ka 6",22,""]
["Tomas Mezera",1973,"M","Raná","CZ/C2","Ulf Memorial 2025 - Klub",{"$f":"VLOOKUP(F2431,Soutez!A:B,2,FALSE)","v":"CZ"},{"$f":"VLOOKUP(F2431,Soutez!A:C,3,FALSE)","v":2025},6,632,0.75,5135,{"$f":"ROUND(K2431*L2431,0)","v":3851},"x",null,"VT-425 Sohaj",99,""]
["Michal Ondracek",1966,"M","Medlánky","CZ/M","Ulf Memorial 2025 - Klub",{"$f":"VLOOKUP(F2432,Soutez!A:B,2,FALSE)","v":"CZ"},{"$f":"VLOOKUP(F2432,Soutez!A:C,3,FALSE)","v":2025},6,632,0.75,5135,3851,"x",null,"Ka 6 E","2W",""]
["Jiri Lenik",1947,"M","Raná","CZ/C2","Ulf Memorial 2025 - Klub",{"$f":"VLOOKUP(F2433,Soutez!A:B,2,FALSE)","v":"CZ"},{"$f":"VLOOKUP(F2433,Soutez!A:C,3,FALSE)","v":2025},8,600,0.75,4351,3263,"x",null,"K 8",78,""]
["Krystof Mimra",1992,"M","Most","CZ/C2","Ulf Memorial 2025 - Klub",{"$f":"VLOOKUP(F2434,Soutez!A:B,2,FALSE)","v":"CZ"},{"$f":"VLOOKUP(F2434,Soutez!A:C,3,FALSE)","v":2025},9,358,{"$f":"VLOOKUP(F2434,Soutez,12,0)","v":0.75},2659,1994,"x",null,"VT-125 Sohaj",37,""]
["Karel Lang",{"$f":"VLOOKUP(A2435,Pilot,2,0)","v":1967},{"$f":"VLOOKUP(A2435,Pilot,5,0)","v":"M"},{"$f":"VLOOKUP(A2435,Pilot,3,0)","v":"Medlánky"},{"$f":"VLOOKUP(A2435,Pilot,4,0)","v":"CZ/M"},"Ulf Memorial 2025 - Klub",{"$f":"VLOOKUP(F2435,Soutez!A:B,2,FALSE)","v":"CZ"},{"$f":"VLOOKUP(F2435,Soutez!A:C,3,FALSE)","v":2025},10,241,0.75,1686,1265,"x",null,"VT-425 Sohaj",77,""]
["Zbynek Bican",1961,"M","Raná","CZ/C2","Ulf Memorial 2025 - Klub",{"$f":"VLOOKUP(F2436,Soutez!A:B,2,FALSE)","v":"CZ"},{"$f":"VLOOKUP(F2436,Soutez!A:C,3,FALSE)","v":2025},11,228,0.75,1311,983,"x",null,"LG-130 Kmotr","K",""]
["Roelof Corporaal",null,null,null,null,"FCC 2025 - Klub",{"$f":"VLOOKUP(F2437,Soutez!A:B,2,FALSE)","v":"SK"},{"$f":"VLOOKUP(F2437,Soutez!A:C,3,FALSE)","v":2025},1,6380,0.94000000000000006,{"$f":"ROUND(J2437/MAX($J$2437:$J$2470)*10000*0.7+(MAX($I$2437:$I$2470)-I2437)/(MAX($I$2437:$I$2470)-1)*10000*0.3,0)","v":10000},{"$f":"ROUND(K2437*L2437,0)","v":9400},null,null,"LS 7 neo","LK","Není v databázi"]
["David Mach",{"$f":"VLOOKUP(A2438,Pilot,2,0)","v":1994},{"$f":"VLOOKUP(A2438,Pilot,5,0)","v":"M"},{"$f":"VLOOKUP(A2438,Pilot,3,0)","v":"Hronov"},{"$f":"VLOOKUP(A2438,Pilot,4,0)","v":"CZ/C2"},"FCC 2025 - Klub",{"$f":"VLOOKUP(F2438,Soutez!A:B,2,FALSE)","v":"SK"},{"$f":"VLOOKUP(F2438,Soutez!A:C,3,FALSE)","v":2025},2,6354,0.94000000000000006,9881,{"$f":"ROUND(K2438*L2438,0)","v":9288},"x",null,"ASW 20l","JK",""]
["Alexandre Fierain",null,null,null,null,"FCC 2025 - Klub",{"$f":"VLOOKUP(F2439,Soutez!A:B,2,FALSE)","v":"SK"},{"$f":"VLOOKUP(F2439,Soutez!A:C,3,FALSE)","v":2025},3,6243,0.94000000000000006,9668,9088,null,null,"LS7 NEO","AG","Není v databázi"]
["Florian Kraja",null,null,null,null,"FCC 2025 - Klub",{"$f":"VLOOKUP(F2440,Soutez!A:B,2,FALSE)","v":"SK"},{"$f":"VLOOKUP(F2440,Soutez!A:C,3,FALSE)","v":2025},4,6007,0.94000000000000006,9318,8759,null,null,"LS 7 wl","FLO","Není v databázi"]
["Ferenc Tamas",null,null,null,null,"FCC 2025 - Klub",{"$f":"VLOOKUP(F2441,Soutez!A:B,2,FALSE)","v":"SK"},{"$f":"VLOOKUP(F2441,Soutez!A:C,3,FALSE)","v":2025},5,5991,0.94000000000000006,9210,8657,null,null,"LS 3 wl","XW","Není v databázi"]
["Karol Muller",null,null,null,null,"FCC 2025 - Klub",{"$f":"VLOOKUP(F2442,Soutez!A:B,2,FALSE)","v":"SK"},{"$f":"VLOOKUP(F2442,Soutez!A:C,3,FALSE)","v":2025},6,5862,0.94000000000000006,8977,8438,null,null,"Mosquito 303",33,"Není v databázi"]
["Vytautas Rasimavicius",null,null,null,null,"FCC 2025 - Klub",{"$f":"VLOOKUP(F2443,Soutez!A:B,2,FALSE)","v":"SK"},{"$f":"VLOOKUP(F2443,Soutez!A:C,3,FALSE)","v":2025},7,5861,0.94000000000000006,8885,8352,null,null,"LS3",16,"Není v databázi"]
["Michal Lesinger",{"$f":"VLOOKUP(A2444,Pilot,2,0)","v":1966},{"$f":"VLOOKUP(A2444,Pilot,5,0)","v":"M"},{"$f":"VLOOKUP(A2444,Pilot,3,0)","v":"Moravská Třebová"},{"$f":"VLOOKUP(A2444,Pilot,4,0)","v":"CZ/M"},"FCC 2025 - Klub",{"$f":"VLOOKUP(F2444,Soutez!A:B,2,FALSE)","v":"SK"},{"$f":"VLOOKUP(F2444,Soutez!A:C,3,FALSE)","v":2025},8,5832,0.94000000000000006,8762,8236,null,null,"ASW 20 a","LL",""]
["Tudor Bajenaru",null,null,null,null,"FCC 2025 - Klub",{"$f":"VLOOKUP(F2445,Soutez!A:B,2,FALSE)","v":"SK"},{"$f":"VLOOKUP(F2445,Soutez!A:C,3,FALSE)","v":2025},9,5749,0.94000000000000006,8580,8065,null,null,"LS 4a neo","Y3","Není v databázi"]
["Nicolas Caudrelier",null,null,null,null,"FCC 2025 - Klub",{"$f":"VLOOKUP(F2446,Soutez!A:B,2,FALSE)","v":"SK"},{"$f":"VLOOKUP(F2446,Soutez!A:C,3,FALSE)","v":2025},10,5740,0.94000000000000006,8480,7971,null,null,"ASW20 cl","VL","Není v databázi"]
["Edmund Schuller",null,null,null,null,"FCC 2025 - Klub",{"$f":"VLOOKUP(F2447,Soutez!A:B,2,FALSE)","v":"SK"},{"$f":"VLOOKUP(F2447,Soutez!A:C,3,FALSE)","v":2025},11,5722,0.94000000000000006,8369,7867,null,null,"ASW 24 wl","ZSI","Není v databázi"]
["Alin Simion",null,null,null,null,"FCC 2025 - Klub",{"$f":"VLOOKUP(F2448,Soutez!A:B,2,FALSE)","v":"SK"},{"$f":"VLOOKUP(F2448,Soutez!A:C,3,FALSE)","v":2025},12,5447,0.94000000000000006,7976,7497,null,null,"LS 4 a neo","Y2","Není v databázi"]
["Gaël Pischedda",null,null,null,null,"FCC 2025 - Klub",{"$f":"VLOOKUP(F2449,Soutez!A:B,2,FALSE)","v":"SK"},{"$f":"VLOOKUP(F2449,Soutez!A:C,3,FALSE)","v":2025},13,5332,0.94000000000000006,7759,7293,null,null,"LS 4 WL","E10","Není v databázi"]
["Georg Downing",null,null,null,null,"FCC 2025 - Klub",{"$f":"VLOOKUP(F2450,Soutez!A:B,2,FALSE)","v":"SK"},{"$f":"VLOOKUP(F2450,Soutez!A:C,3,FALSE)","v":2025},14,5264,0.94000000000000006,7594,7138,null,null,"ASW20",212,"Není v databázi"]
["Lilian Fröhlich",null,null,null,null,"FCC 2025 - Klub",{"$f":"VLOOKUP(F2451,Soutez!A:B,2,FALSE)","v":"SK"},{"$f":"VLOOKUP(F2451,Soutez!A:C,3,FALSE)","v":2025},15,5244,0.94000000000000006,7481,7032,null,null,"Mosquito 303 WL","YM","Není v databázi"]
["Slavomir Piskaty 84",{"$f":"VLOOKUP(A2452,Pilot,2,0)","v":1984},{"$f":"VLOOKUP(A2452,Pilot,5,0)","v":"M"},{"$f":"VLOOKUP(A2452,Pilot,3,0)","v":"Kunovice"},{"$f":"VLOOKUP(A2452,Pilot,4,0)","v":"CZ/M"},"FCC 2025 - Klub",{"$f":"VLOOKUP(F2452,Soutez!A:B,2,FALSE)","v":"SK"},{"$f":"VLOOKUP(F2452,Soutez!A:C,3,FALSE)","v":2025},16,5156,0.94000000000000006,7293,{"$f":"ROUND(K2452*L2452,0)","v":6855},"x",null,"Discus CS WL","KAL",""]
["Stanislaw Wujczak",null,null,null,null,"FCC 2025 - Klub",{"$f":"VLOOKUP(F2453,Soutez!A:B,2,FALSE)","v":"SK"},{"$f":"VLOOKUP(F2453,Soutez!A:C,3,FALSE)","v":2025},17,4952,0.94000000000000006,6979,6560,null,null,"Mini Nimbus b","RX","Není v databázi"]
["Vytautas Maciulis",null,null,null,null,"FCC 2025 - Klub",{"$f":"VLOOKUP(F2454,Soutez!A:B,2,FALSE)","v":"SK"},{"$f":"VLOOKUP(F2454,Soutez!A:C,3,FALSE)","v":2025},18,4889,0.94000000000000006,6819,6410,null,null,"mini LAK FES","VR","Není v databázi"]
["Ryszard Pachla",null,null,null,null,"FCC 2025 - Klub",{"$f":"VLOOKUP(F2455,Soutez!A:B,2,FALSE)","v":"SK"},{"$f":"VLOOKUP(F2455,Soutez!A:C,3,FALSE)","v":2025},19,4851,0.94000000000000006,6686,6285,null,null,"Jantar std 2 WL","LI","Není v databázi"]
["Antoni Zawirski",null,null,null,null,"FCC 2025 - Klub",{"$f":"VLOOKUP(F2456,Soutez!A:B,2,FALSE)","v":"SK"},{"$f":"VLOOKUP(F2456,Soutez!A:C,3,FALSE)","v":2025},20,4832,0.94000000000000006,6574,6180,null,null,"ASW 20","X56","Není v databázi"]
["Karol Pawlicki",null,null,null,null,"FCC 2025 - Klub",{"$f":"VLOOKUP(F2457,Soutez!A:B,2,FALSE)","v":"SK"},{"$f":"VLOOKUP(F2457,Soutez!A:C,3,FALSE)","v":2025},21,4756,0.94000000000000006,6400,6016,null,null,"Mini Nimbus b","FLY","Není v databázi"]
["Nicolas Douchet",null,null,null,null,"FCC 2025 - Klub",{"$f":"VLOOKUP(F2458,Soutez!A:B,2,FALSE)","v":"SK"},{"$f":"VLOOKUP(F2458,Soutez!A:C,3,FALSE)","v":2025},22,4721,0.94000000000000006,6271,5895,null,null,"LS 3a","9B","Není v databázi"]
["Tomasz Bajkowski",null,null,null,null,"FCC 2025 - Klub",{"$f":"VLOOKUP(F2459,Soutez!A:B,2,FALSE)","v":"SK"},{"$f":"VLOOKUP(F2459,Soutez!A:C,3,FALSE)","v":2025},23,4719,0.94000000000000006,6178,5807,null,null,"LS 4","MO","Není v databázi"]
["Gonczi & Ujhelyi",null,null,null,null,"FCC 2025 - Klub",{"$f":"VLOOKUP(F2460,Soutez!A:B,2,FALSE)","v":"SK"},{"$f":"VLOOKUP(F2460,Soutez!A:C,3,FALSE)","v":2025},24,4330,0.94000000000000006,5660,5320,null,null,"Janus C","DD","Není v databázi"]
["Wojciech Kubiak",null,null,null,null,"FCC 2025 - Klub",{"$f":"VLOOKUP(F2461,Soutez!A:B,2,FALSE)","v":"SK"},{"$f":"VLOOKUP(F2461,Soutez!A:C,3,FALSE)","v":2025},25,3992,0.94000000000000006,5198,4886,null,null,"SZD 55","W07","Není v databázi"]
["Kengo Matsumoto",null,null,null,null,"FCC 2025 - Klub",{"$f":"VLOOKUP(F2462,Soutez!A:B,2,FALSE)","v":"SK"},{"$f":"VLOOKUP(F2462,Soutez!A:C,3,FALSE)","v":2025},26,3979,0.94000000000000006,5093,4787,null,null,"ASW20 F","X11","Není v databázi"]
["Mariusz Rachwal",null,null,null,null,"FCC 2025 - Klub",{"$f":"VLOOKUP(F2463,Soutez!A:B,2,FALSE)","v":"SK"},{"$f":"VLOOKUP(F2463,Soutez!A:C,3,FALSE)","v":2025},27,3822,0.94000000000000006,4830,4540,null,null,"Mini Nimbus","VI","Není v databázi"]
["Marek Herbreder",null,null,null,null,"FCC 2025 - Klub",{"$f":"VLOOKUP(F2464,Soutez!A:B,2,FALSE)","v":"SK"},{"$f":"VLOOKUP(F2464,Soutez!A:C,3,FALSE)","v":2025},28,3711,0.94000000000000006,4617,4340,null,null,"SZD 55","TK","Není v databázi"]
["Andrzej Ogonowski",null,null,null,null,"FCC 2025 - Klub",{"$f":"VLOOKUP(F2465,Soutez!A:B,2,FALSE)","v":"SK"},{"$f":"VLOOKUP(F2465,Soutez!A:C,3,FALSE)","v":2025},29,3119,0.94000000000000006,3877,3644,null,null,"LS 4","OG","Není v databázi"]
["Piotr Ligwinski",null,null,null,null,"FCC 2025 - Klub",{"$f":"VLOOKUP(F2466,Soutez!A:B,2,FALSE)","v":"SK"},{"$f":"VLOOKUP(F2466,Soutez!A:C,3,FALSE)","v":2025},30,2493,0.94000000000000006,3099,2913,null,null,"ASW 24 wl","PLI","Není v databázi"]
["Marcin Bernaszuk",null,null,null,null,"FCC 2025 - Klub",{"$f":"VLOOKUP(F2467,Soutez!A:B,2,FALSE)","v":"SK"},{"$f":"VLOOKUP(F2467,Soutez!A:C,3,FALSE)","v":2025},31,2340,0.94000000000000006,2840,2670,null,null,"DG 100 Elan","B2","Není v databázi"]
["Aleksandar Diklic",null,null,null,null,"FCC 2025 - Klub",{"$f":"VLOOKUP(F2468,Soutez!A:B,2,FALSE)","v":"SK"},{"$f":"VLOOKUP(F2468,Soutez!A:C,3,FALSE)","v":2025},32,2132,0.94000000000000006,2521,2370,null,null,"DG 100",30,"Není v databázi"]
["Jerzy Mikolajczyk",null,null,null,null,"FCC 2025 - Klub",{"$f":"VLOOKUP(F2469,Soutez!A:B,2,FALSE)","v":"SK"},{"$f":"VLOOKUP(F2469,Soutez!A:C,3,FALSE)","v":2025},33,805,0.94000000000000006,974,916,null,null,"LS 4","YL","Není v databázi"]
["Ryszard Bendkowski",null,null,null,null,"FCC 2025 - Klub",{"$f":"VLOOKUP(F2470,Soutez!A:B,2,FALSE)","v":"SK"},{"$f":"VLOOKUP(F2470,Soutez!A:C,3,FALSE)","v":2025},34,70,0.94000000000000006,77,72,null,null,"Jantar Std 2","FILP","Není v databázi"]
["Radek Krejcirik",{"$f":"VLOOKUP(A2471,Pilot,2,0)","v":1991},{"$f":"VLOOKUP(A2471,Pilot,5,0)","v":"M"},{"$f":"VLOOKUP(A2471,Pilot,3,0)","v":"Hranice"},{"$f":"VLOOKUP(A2471,Pilot,4,0)","v":"CZ/M"},"FCC 2025 - Kombi 15m",{"$f":"VLOOKUP(F2471,Soutez!A:B,2,FALSE)","v":"SK"},{"$f":"VLOOKUP(F2471,Soutez!A:C,3,FALSE)","v":2025},1,6163,0.97500000000000009,{"$f":"ROUND(J2471/MAX($J$2471:$J$2505)*10000*0.7+(MAX($I$2471:$I$2505)-I2471)/(MAX($I$2471:$I$2505)-1)*10000*0.3,0)","v":10000},{"$f":"ROUND(K2471*L2471,0)","v":9750},null,null,"Duo Discus xT 750kg","DDI",""]
["Czeladzki & Czerwinski",null,null,null,null,"FCC 2025 - Kombi 15m",{"$f":"VLOOKUP(F2472,Soutez!A:B,2,FALSE)","v":"SK"},{"$f":"VLOOKUP(F2472,Soutez!A:C,3,FALSE)","v":2025},2,6131,0.97500000000000009,9875,{"$f":"ROUND(K2472*L2472,0)","v":9628},null,null,"Duo Discus XLT 750kg","POL","Není v databázi"]
["Marius Stelzer",null,null,null,null,"FCC 2025 - Kombi 15m",{"$f":"VLOOKUP(F2473,Soutez!A:B,2,FALSE)","v":"SK"},{"$f":"VLOOKUP(F2473,Soutez!A:C,3,FALSE)","v":2025},3,6112,0.97500000000000009,9766,9522,null,null,"Discus 2b 525kg",66,"Není v databázi"]
["Jakub Barszcz",null,null,null,null,"FCC 2025 - Kombi 15m",{"$f":"VLOOKUP(F2474,Soutez!A:B,2,FALSE)","v":"SK"},{"$f":"VLOOKUP(F2474,Soutez!A:C,3,FALSE)","v":2025},4,6048,0.97500000000000009,9605,9365,null,null,"LS 8 neo 525kg","LOT","Není v databázi"]
["Björn Gintzel",null,null,null,null,"FCC 2025 - Kombi 15m",{"$f":"VLOOKUP(F2475,Soutez!A:B,2,FALSE)","v":"SK"},{"$f":"VLOOKUP(F2475,Soutez!A:C,3,FALSE)","v":2025},5,5949,0.97500000000000009,9404,9169,null,null,"LS 8 neo 525kg","SB","Není v databázi"]
["Lukasz Blaszczyk",null,null,null,null,"FCC 2025 - Kombi 15m",{"$f":"VLOOKUP(F2476,Soutez!A:B,2,FALSE)","v":"SK"},{"$f":"VLOOKUP(F2476,Soutez!A:C,3,FALSE)","v":2025},6,5909,0.97500000000000009,9270,9038,null,null,"Discus 2a 525kg","I","Není v databázi"]
["Ionut Tudor",null,null,null,null,"FCC 2025 - Kombi 15m",{"$f":"VLOOKUP(F2477,Soutez!A:B,2,FALSE)","v":"SK"},{"$f":"VLOOKUP(F2477,Soutez!A:C,3,FALSE)","v":2025},7,5736,0.97500000000000009,8986,8761,null,null,"Discus 2a 525kg","YA",{"$f":"IF(ISERROR(VLOOKUP(A2477,Pilot,6,0)),\"Není v databázi\",VLOOKUP(A2477,Pilot,6,0))","v":"Není v databázi"}]
["Pavel Louzecky",{"$f":"VLOOKUP(A2478,Pilot,2,0)","v":1957},{"$f":"VLOOKUP(A2478,Pilot,5,0)","v":"M"},{"$f":"VLOOKUP(A2478,Pilot,3,0)","v":"Přibyslav"},{"$f":"VLOOKUP(A2478,Pilot,4,0)","v":"CZ/C2"},"FCC 2025 - Kombi 15m",{"$f":"VLOOKUP(F2478,Soutez!A:B,2,FALSE)","v":"SK"},{"$f":"VLOOKUP(F2478,Soutez!A:C,3,FALSE)","v":2025},8,5697,0.97500000000000009,8853,8632,"x",null,"LS 8 525kg","JB",""]
["Grabowski & Czyz",null,null,null,null,"FCC 2025 - Kombi 15m",{"$f":"VLOOKUP(F2479,Soutez!A:B,2,FALSE)","v":"SK"},{"$f":"VLOOKUP(F2479,Soutez!A:C,3,FALSE)","v":2025},9,5688,0.97500000000000009,8755,8536,null,null,"Duo Discus 700kg","DP","Není v databázi"]
["Sebastian Kawa",null,null,null,null,"FCC 2025 - Kombi 15m",{"$f":"VLOOKUP(F2480,Soutez!A:B,2,FALSE)","v":"SK"},{"$f":"VLOOKUP(F2480,Soutez!A:C,3,FALSE)","v":2025},10,5577,0.97500000000000009,8540,8327,null,null,"ASG 29 15m 525kg","PL","Není v databázi"]
["Jan Knischewski",null,null,null,null,"FCC 2025 - Kombi 15m",{"$f":"VLOOKUP(F2481,Soutez!A:B,2,FALSE)","v":"SK"},{"$f":"VLOOKUP(F2481,Soutez!A:C,3,FALSE)","v":2025},11,5573,0.97500000000000009,8448,8237,null,null,"LS 8 neo 525kg","OK","Není v databázi"]
["Norbert Scarlat",null,null,null,null,"FCC 2025 - Kombi 15m",{"$f":"VLOOKUP(F2482,Soutez!A:B,2,FALSE)","v":"SK"},{"$f":"VLOOKUP(F2482,Soutez!A:C,3,FALSE)","v":2025},12,5545,0.97500000000000009,8327,8119,null,null,"Discus 2a 525kg","YB","Není v databázi"]
["Marek Niewiadomy",null,null,null,null,"FCC 2025 - Kombi 15m",{"$f":"VLOOKUP(F2483,Soutez!A:B,2,FALSE)","v":"SK"},{"$f":"VLOOKUP(F2483,Soutez!A:C,3,FALSE)","v":2025},13,5509,0.97500000000000009,8198,7993,null,null,"LS 6 525kg","AP","Není v databázi"]
["David Neumann",null,null,null,null,"FCC 2025 - Kombi 15m",{"$f":"VLOOKUP(F2484,Soutez!A:B,2,FALSE)","v":"SK"},{"$f":"VLOOKUP(F2484,Soutez!A:C,3,FALSE)","v":2025},14,5405,0.97500000000000009,7992,{"$f":"ROUND(K2484*L2484,0)","v":7792},null,null,"Discus 2b 525kg","PK","Není v databázi"]
["Piotr Jarysz",null,null,null,null,"FCC 2025 - Kombi 15m",{"$f":"VLOOKUP(F2485,Soutez!A:B,2,FALSE)","v":"SK"},{"$f":"VLOOKUP(F2485,Soutez!A:C,3,FALSE)","v":2025},15,5346,0.97500000000000009,7837,7641,null,null,"LS 6a 525KG","BB","Není v databázi"]
["Arturas Klimasauskas",null,null,null,null,"FCC 2025 - Kombi 15m",{"$f":"VLOOKUP(F2486,Soutez!A:B,2,FALSE)","v":"SK"},{"$f":"VLOOKUP(F2486,Soutez!A:C,3,FALSE)","v":2025},16,5248,0.97500000000000009,7637,7446,null,null,"Ventus 2b 525kg","BX","Není v databázi"]
["Aneta Chabora",null,null,null,null,"FCC 2025 - Kombi 15m",{"$f":"VLOOKUP(F2487,Soutez!A:B,2,FALSE)","v":"SK"},{"$f":"VLOOKUP(F2487,Soutez!A:C,3,FALSE)","v":2025},17,5195,0.97500000000000009,7489,7302,null,null,"ASW 27 wl 500kg","3W","Není v databázi"]
["Beneditk Weagele",null,null,null,null,"FCC 2025 - Kombi 15m",{"$f":"VLOOKUP(F2488,Soutez!A:B,2,FALSE)","v":"SK"},{"$f":"VLOOKUP(F2488,Soutez!A:C,3,FALSE)","v":2025},17,5195,0.97500000000000009,7489,7302,null,null,"LS 8 neo 525kg","BYI","Není v databázi"]
["David-Matthäus Dill",null,null,null,null,"FCC 2025 - Kombi 15m",{"$f":"VLOOKUP(F2489,Soutez!A:B,2,FALSE)","v":"SK"},{"$f":"VLOOKUP(F2489,Soutez!A:C,3,FALSE)","v":2025},19,5088,0.97500000000000009,7191,7011,null,null,"Discus b WL 525kg","AT","Není v databázi"]
["Tim Milner",null,null,null,null,"FCC 2025 - Kombi 15m",{"$f":"VLOOKUP(F2490,Soutez!A:B,2,FALSE)","v":"SK"},{"$f":"VLOOKUP(F2490,Soutez!A:C,3,FALSE)","v":2025},20,5019,0.97500000000000009,7024,6848,null,null,"Discus 2ax 525kg","AX","Není v databázi"]
["Tomas Hynek",null,null,null,null,"FCC 2025 - Kombi 15m",{"$f":"VLOOKUP(F2491,Soutez!A:B,2,FALSE)","v":"SK"},{"$f":"VLOOKUP(F2491,Soutez!A:C,3,FALSE)","v":2025},21,4960,0.97500000000000009,6869,6697,null,null,"LS 8 525kg","AU","Junior v roce 2026"]
["Noud Kaaij",null,null,null,null,"FCC 2025 - Kombi 15m",{"$f":"VLOOKUP(F2492,Soutez!A:B,2,FALSE)","v":"SK"},{"$f":"VLOOKUP(F2492,Soutez!A:C,3,FALSE)","v":2025},22,4907,0.97500000000000009,6720,6552,null,null,"Duo Discus T 700kg","EAC","Není v databázi"]
["Niko & Kardosova",null,null,null,null,"FCC 2025 - Kombi 15m",{"$f":"VLOOKUP(F2493,Soutez!A:B,2,FALSE)","v":"SK"},{"$f":"VLOOKUP(F2493,Soutez!A:C,3,FALSE)","v":2025},23,4899,0.97500000000000009,6623,6457,null,null,"Duo Discus XLT 750kg","DUO","Není v databázi"]
["Oscar Butlin",null,null,null,null,"FCC 2025 - Kombi 15m",{"$f":"VLOOKUP(F2494,Soutez!A:B,2,FALSE)","v":"SK"},{"$f":"VLOOKUP(F2494,Soutez!A:C,3,FALSE)","v":2025},24,4546,0.97500000000000009,6134,5981,null,null,"LS 8 525kg","D7","Není v databázi"]
["Adam Woolley",null,null,null,null,"FCC 2025 - Kombi 15m",{"$f":"VLOOKUP(F2495,Soutez!A:B,2,FALSE)","v":"SK"},{"$f":"VLOOKUP(F2495,Soutez!A:C,3,FALSE)","v":2025},25,4387,0.97500000000000009,5865,5718,null,null,"Discus 2a 525kg","GX","Není v databázi"]
["Mate Meszaros",null,null,null,null,"FCC 2025 - Kombi 15m",{"$f":"VLOOKUP(F2496,Soutez!A:B,2,FALSE)","v":"SK"},{"$f":"VLOOKUP(F2496,Soutez!A:C,3,FALSE)","v":2025},26,4337,{"$f":"VLOOKUP(F2496,Soutez,12,0)","v":0.97500000000000009},5720,5577,null,null,"Discus 2a 525kg","HUN","Není v databázi"]
["Petra Piskata",{"$f":"VLOOKUP(A2497,Pilot,2,0)","v":1989},{"$f":"VLOOKUP(A2497,Pilot,5,0)","v":"F"},{"$f":"VLOOKUP(A2497,Pilot,3,0)","v":"Luhačovice"},{"$f":"VLOOKUP(A2497,Pilot,4,0)","v":"CZ/M"},"FCC 2025 - Kombi 15m",{"$f":"VLOOKUP(F2497,Soutez!A:B,2,FALSE)","v":"SK"},{"$f":"VLOOKUP(F2497,Soutez!A:C,3,FALSE)","v":2025},27,4273,0.97500000000000009,5559,5420,"x","x","LS 8 neo 525kg","FX",""]
["Andrzej Szczerba",null,null,null,null,"FCC 2025 - Kombi 15m",{"$f":"VLOOKUP(F2498,Soutez!A:B,2,FALSE)","v":"SK"},{"$f":"VLOOKUP(F2498,Soutez!A:C,3,FALSE)","v":2025},28,4272,0.97500000000000009,5470,5333,null,null,"Diana 2 FES 500KG","AI","Není v databázi"]
["Pavel Trojan",{"$f":"VLOOKUP(A2499,Pilot,2,0)","v":1960},{"$f":"VLOOKUP(A2499,Pilot,5,0)","v":"M"},{"$f":"VLOOKUP(A2499,Pilot,3,0)","v":"Chrudim"},{"$f":"VLOOKUP(A2499,Pilot,4,0)","v":"CZ/C2"},"FCC 2025 - Kombi 15m",{"$f":"VLOOKUP(F2499,Soutez!A:B,2,FALSE)","v":"SK"},{"$f":"VLOOKUP(F2499,Soutez!A:C,3,FALSE)","v":2025},29,4141,0.97500000000000009,5233,5102,"x",null,"Duo Discus T 700kg","ZS",""]
["Robert Toth",null,null,null,null,"FCC 2025 - Kombi 15m",{"$f":"VLOOKUP(F2500,Soutez!A:B,2,FALSE)","v":"SK"},{"$f":"VLOOKUP(F2500,Soutez!A:C,3,FALSE)","v":2025},30,4094,0.97500000000000009,5091,4964,null,null,"LS 6b 525kg","4L","Není v databázi"]
["Maciej Walasek",null,null,null,null,"FCC 2025 - Kombi 15m",{"$f":"VLOOKUP(F2501,Soutez!A:B,2,FALSE)","v":"SK"},{"$f":"VLOOKUP(F2501,Soutez!A:C,3,FALSE)","v":2025},31,4075,0.97500000000000009,4981,4856,null,null,"LS 6c WL 525kg","KK","Není v databázi"]
["Noah Lichter",null,null,null,null,"FCC 2025 - Kombi 15m",{"$f":"VLOOKUP(F2502,Soutez!A:B,2,FALSE)","v":"SK"},{"$f":"VLOOKUP(F2502,Soutez!A:C,3,FALSE)","v":2025},32,4012,0.97500000000000009,4822,4701,null,null,"Discus 2cT 15m 525kg","OLC","Není v databázi"]
["Wojciech Domanski",null,null,null,null,"FCC 2025 - Kombi 15m",{"$f":"VLOOKUP(F2503,Soutez!A:B,2,FALSE)","v":"SK"},{"$f":"VLOOKUP(F2503,Soutez!A:C,3,FALSE)","v":2025},33,3446,0.97500000000000009,4090,3988,null,null,"Ventus 2a 525","WD","Není v databázi"]
["Slavomir Valecko",{"$f":"VLOOKUP(A2504,Pilot,2,0)","v":1960},{"$f":"VLOOKUP(A2504,Pilot,5,0)","v":"M"},{"$f":"VLOOKUP(A2504,Pilot,3,0)","v":"Hranice"},{"$f":"VLOOKUP(A2504,Pilot,4,0)","v":"CZ/M"},"FCC 2025 - Kombi 15m",{"$f":"VLOOKUP(F2504,Soutez!A:B,2,FALSE)","v":"SK"},{"$f":"VLOOKUP(F2504,Soutez!A:C,3,FALSE)","v":2025},34,2905,0.97500000000000009,3388,3303,"x",null,"Discus CS 525kg","HD",""]
["Konrad Jaczkowski",null,null,null,null,"FCC 2025 - Kombi 15m",{"$f":"VLOOKUP(F2505,Soutez!A:B,2,FALSE)","v":"SK"},{"$f":"VLOOKUP(F2505,Soutez!A:C,3,FALSE)","v":2025},35,2237,0.97500000000000009,2541,2477,null,null,"Ventus 2b 15m 525kg","CB","Není v databázi"]
["Karol Staryszak",null,null,null,null,"FCC 2025 - Kombi Open",{"$f":"VLOOKUP(F2506,Soutez!A:B,2,FALSE)","v":"SK"},{"$f":"VLOOKUP(F2506,Soutez!A:C,3,FALSE)","v":2025},1,6872,0.96500000000000008,{"$f":"ROUND(J2506/MAX($J$2506:$J$2552)*10000*0.7+(MAX($I$2506:$I$2552)-I2506)/(MAX($I$2506:$I$2552)-1)*10000*0.3,0)","v":10000},{"$f":"ROUND(K2506*L2506,0)","v":9650},null,null,"ASG 29 E 18m 600kg","PES","Není v databázi"]
["Stanislaw Biela",null,null,null,null,"FCC 2025 - Kombi Open",{"$f":"VLOOKUP(F2507,Soutez!A:B,2,FALSE)","v":"SK"},{"$f":"VLOOKUP(F2507,Soutez!A:C,3,FALSE)","v":2025},2,6687,0.96500000000000008,9746,{"$f":"ROUND(K2507*L2507,0)","v":9405},null,null,"Ventus 3 T Sport 600kg","S","Není v databázi"]
["Andrzej Smielkiewicz",null,null,null,null,"FCC 2025 - Kombi Open",{"$f":"VLOOKUP(F2508,Soutez!A:B,2,FALSE)","v":"SK"},{"$f":"VLOOKUP(F2508,Soutez!A:C,3,FALSE)","v":2025},3,6430,0.96500000000000008,9419,9089,null,null,"AS 33 Me 18m 600kg","A2","Není v databázi"]
["Andre Weidlich",null,null,null,null,"FCC 2025 - Kombi Open",{"$f":"VLOOKUP(F2509,Soutez!A:B,2,FALSE)","v":"SK"},{"$f":"VLOOKUP(F2509,Soutez!A:C,3,FALSE)","v":2025},4,6372,0.96500000000000008,9295,8970,null,null,"Ventus 3M 600kg","TE","Není v databázi"]
["Lukasz Kornacki",null,null,null,null,"FCC 2025 - Kombi Open",{"$f":"VLOOKUP(F2510,Soutez!A:B,2,FALSE)","v":"SK"},{"$f":"VLOOKUP(F2510,Soutez!A:C,3,FALSE)","v":2025},5,6344,0.96500000000000008,9201,8879,null,null,"ASG 29 ES 600kg","HBI","Není v databázi"]
["Kornel Negro",null,null,null,null,"FCC 2025 - Kombi Open",{"$f":"VLOOKUP(F2511,Soutez!A:B,2,FALSE)","v":"SK"},{"$f":"VLOOKUP(F2511,Soutez!A:C,3,FALSE)","v":2025},6,6330,0.96500000000000008,9122,8803,null,null,"AS 33 ES 600kg","GPS","Není v databázi"]
["Jernej Lokovsek",null,null,null,null,"FCC 2025 - Kombi Open",{"$f":"VLOOKUP(F2512,Soutez!A:B,2,FALSE)","v":"SK"},{"$f":"VLOOKUP(F2512,Soutez!A:C,3,FALSE)","v":2025},7,6179,0.96500000000000008,8903,8591,null,null,"JS 3 RES 600kg","NL","Není v databázi"]
["Zdislaw Bednarczuk",null,null,null,null,"FCC 2025 - Kombi Open",{"$f":"VLOOKUP(F2513,Soutez!A:B,2,FALSE)","v":"SK"},{"$f":"VLOOKUP(F2513,Soutez!A:C,3,FALSE)","v":2025},8,6159,0.96500000000000008,8817,8508,null,null,"JS 3 600kg","ZB","Není v databázi"]
["Marek Sawczuk",null,null,null,null,"FCC 2025 - Kombi Open",{"$f":"VLOOKUP(F2514,Soutez!A:B,2,FALSE)","v":"SK"},{"$f":"VLOOKUP(F2514,Soutez!A:C,3,FALSE)","v":2025},9,6153,0.96500000000000008,8746,8440,null,null,"ASG 29 E /600kg","MS","Není v databázi"]
["Petr Krejcirik",{"$f":"VLOOKUP(A2515,Pilot,2,0)","v":1960},{"$f":"VLOOKUP(A2515,Pilot,5,0)","v":"M"},{"$f":"VLOOKUP(A2515,Pilot,3,0)","v":"Hranice"},{"$f":"VLOOKUP(A2515,Pilot,4,0)","v":"CZ/M"},"FCC 2025 - Kombi Open",{"$f":"VLOOKUP(F2515,Soutez!A:B,2,FALSE)","v":"SK"},{"$f":"VLOOKUP(F2515,Soutez!A:C,3,FALSE)","v":2025},10,6148,0.96500000000000008,8676,8372,null,null,"JS3 RES 18m 600kg","Q1",""]
["Luka Znidarsic",null,null,null,null,"FCC 2025 - Kombi Open",{"$f":"VLOOKUP(F2516,Soutez!A:B,2,FALSE)","v":"SK"},{"$f":"VLOOKUP(F2516,Soutez!A:C,3,FALSE)","v":2025},11,6077,0.96500000000000008,8538,8239,null,null,"Ventus 3 FES SPORT 600kg","LZ","Není v databázi"]
["Arkadiusz Downar",null,null,null,null,"FCC 2025 - Kombi Open",{"$f":"VLOOKUP(F2517,Soutez!A:B,2,FALSE)","v":"SK"},{"$f":"VLOOKUP(F2517,Soutez!A:C,3,FALSE)","v":2025},12,6014,0.96500000000000008,8409,8115,null,null,"ASG 29 E 18m 600kg","29L","Není v databázi"]
["Tomasz Dul",null,null,null,null,"FCC 2025 - Kombi Open",{"$f":"VLOOKUP(F2518,Soutez!A:B,2,FALSE)","v":"SK"},{"$f":"VLOOKUP(F2518,Soutez!A:C,3,FALSE)","v":2025},13,6000,0.96500000000000008,8329,8037,null,null,"JS 3 Jet 600kg","TO","Není v databázi"]
["Dariusz Czech",null,null,null,null,"FCC 2025 - Kombi Open",{"$f":"VLOOKUP(F2519,Soutez!A:B,2,FALSE)","v":"SK"},{"$f":"VLOOKUP(F2519,Soutez!A:C,3,FALSE)","v":2025},14,5944,0.96500000000000008,8207,7920,null,null,"ASG 29E 600kg","A21","Není v databázi"]
["Jiri Kusbach",{"$f":"VLOOKUP(A2520,Pilot,2,0)","v":1959},{"$f":"VLOOKUP(A2520,Pilot,5,0)","v":"M"},{"$f":"VLOOKUP(A2520,Pilot,3,0)","v":"Luhačovice"},{"$f":"VLOOKUP(A2520,Pilot,4,0)","v":"CZ/M"},"FCC 2025 - Kombi Open",{"$f":"VLOOKUP(F2520,Soutez!A:B,2,FALSE)","v":"SK"},{"$f":"VLOOKUP(F2520,Soutez!A:C,3,FALSE)","v":2025},15,5874,0.96500000000000008,8070,7788,null,null,"Diana 3 FES 600kg","B",""]
["Lubomir Jakubcak",null,null,null,null,"FCC 2025 - Kombi Open",{"$f":"VLOOKUP(F2521,Soutez!A:B,2,FALSE)","v":"SK"},{"$f":"VLOOKUP(F2521,Soutez!A:C,3,FALSE)","v":2025},16,5862,0.96500000000000008,7993,7713,null,null,"Arcus M 800kg","CÁR","Není v databázi"]
["Klaus Kalmbach",null,null,null,null,"FCC 2025 - Kombi Open",{"$f":"VLOOKUP(F2522,Soutez!A:B,2,FALSE)","v":"SK"},{"$f":"VLOOKUP(F2522,Soutez!A:C,3,FALSE)","v":2025},17,5850,0.96500000000000008,7915,7638,null,null,"JS3 18m Jet 600kg","CT","Není v databázi"]
["Kim Toppari",null,null,null,null,"FCC 2025 - Kombi Open",{"$f":"VLOOKUP(F2523,Soutez!A:B,2,FALSE)","v":"SK"},{"$f":"VLOOKUP(F2523,Soutez!A:C,3,FALSE)","v":2025},18,5754,0.96500000000000008,7752,7481,null,null,"Arcus T 800kg","HA","Není v databázi"]
["Kessler & Fernanda",null,null,null,null,"FCC 2025 - Kombi Open",{"$f":"VLOOKUP(F2524,Soutez!A:B,2,FALSE)","v":"SK"},{"$f":"VLOOKUP(F2524,Soutez!A:C,3,FALSE)","v":2025},19,5639,0.96500000000000008,7570,7305,null,null,"ASG 32 Mi 800kg","AK","Není v databázi"]
["Nuutti Kankare",null,null,null,null,"FCC 2025 - Kombi Open",{"$f":"VLOOKUP(F2525,Soutez!A:B,2,FALSE)","v":"SK"},{"$f":"VLOOKUP(F2525,Soutez!A:C,3,FALSE)","v":2025},20,5627,0.96500000000000008,7493,7231,null,null,"Ventus 3 FES 600kg","3F","Není v databázi"]
["Erazem Polutnik",null,null,null,null,"FCC 2025 - Kombi Open",{"$f":"VLOOKUP(F2526,Soutez!A:B,2,FALSE)","v":"SK"},{"$f":"VLOOKUP(F2526,Soutez!A:C,3,FALSE)","v":2025},21,5570,0.96500000000000008,7369,7111,null,null,"Arcus M 20 800kg","ET","Není v databázi"]
["Joze Verdev",null,null,null,null,"FCC 2025 - Kombi Open",{"$f":"VLOOKUP(F2527,Soutez!A:B,2,FALSE)","v":"SK"},{"$f":"VLOOKUP(F2527,Soutez!A:C,3,FALSE)","v":2025},22,5559,0.96500000000000008,7293,7038,null,null,"JS 1 c evo 18m 600kg","DZ","Není v databázi"]
["Leszek Staryszak",null,null,null,null,"FCC 2025 - Kombi Open",{"$f":"VLOOKUP(F2528,Soutez!A:B,2,FALSE)","v":"SK"},{"$f":"VLOOKUP(F2528,Soutez!A:C,3,FALSE)","v":2025},23,5536,0.96500000000000008,7204,6952,null,null,"ASG 29 E/ 600kg","BG","Není v databázi"]
["Kollar & Kromka",null,null,null,null,"FCC 2025 - Kombi Open",{"$f":"VLOOKUP(F2529,Soutez!A:B,2,FALSE)","v":"SK"},{"$f":"VLOOKUP(F2529,Soutez!A:C,3,FALSE)","v":2025},24,5337,0.96500000000000008,6936,6693,null,null,"Arcus M 800kg","TA3","Není v databázi"]
["Centka & Chudoment",null,null,null,null,"FCC 2025 - Kombi Open",{"$f":"VLOOKUP(F2530,Soutez!A:B,2,FALSE)","v":"SK"},{"$f":"VLOOKUP(F2530,Soutez!A:C,3,FALSE)","v":2025},25,5319,0.96500000000000008,6853,6613,null,null,"ASH 25 Mi 26m 750kg","L","Není v databázi"]
["Jana Treslova",{"$f":"VLOOKUP(A2531,Pilot,2,0)","v":1963},{"$f":"VLOOKUP(A2531,Pilot,5,0)","v":"F"},{"$f":"VLOOKUP(A2531,Pilot,3,0)","v":"Raná"},{"$f":"VLOOKUP(A2531,Pilot,4,0)","v":"CZ/C2"},"FCC 2025 - Kombi Open",{"$f":"VLOOKUP(F2531,Soutez!A:B,2,FALSE)","v":"SK"},{"$f":"VLOOKUP(F2531,Soutez!A:C,3,FALSE)","v":2025},26,5281,0.96500000000000008,6749,6513,null,null,"JS3 T3 600kg","XM",""]
["Ivan Novak",1962,"M","Mladá Boleslav","CZ/C1","FCC 2025 - Kombi Open",{"$f":"VLOOKUP(F2532,Soutez!A:B,2,FALSE)","v":"SK"},{"$f":"VLOOKUP(F2532,Soutez!A:C,3,FALSE)","v":2025},27,5277,0.96500000000000008,6680,6446,null,null,"ASG 29E 18m 600kg","QZ",""]
["Lan Lokovsek",null,null,null,null,"FCC 2025 - Kombi Open",{"$f":"VLOOKUP(F2533,Soutez!A:B,2,FALSE)","v":"SK"},{"$f":"VLOOKUP(F2533,Soutez!A:C,3,FALSE)","v":2025},28,5247,0.96500000000000008,6584,6354,null,null,"Lak 17 aT WL 500kg","JL","Není v databázi"]
["Laszlo Kapuy",null,null,null,null,"FCC 2025 - Kombi Open",{"$f":"VLOOKUP(F2534,Soutez!A:B,2,FALSE)","v":"SK"},{"$f":"VLOOKUP(F2534,Soutez!A:C,3,FALSE)","v":2025},29,5188,0.96500000000000008,6459,6233,null,null,"EB 29 D 28,3m/ 850kg","HB","Není v databázi"]
["Kamil Wojcik",null,null,null,null,"FCC 2025 - Kombi Open",{"$f":"VLOOKUP(F2535,Soutez!A:B,2,FALSE)","v":"SK"},{"$f":"VLOOKUP(F2535,Soutez!A:C,3,FALSE)","v":2025},30,5155,0.96500000000000008,6360,6137,null,null,"JS 3 RES 18m /600kg","WW","Není v databázi"]
["Lubomir Motl",{"$f":"VLOOKUP(A2536,Pilot,2,0)","v":1959},{"$f":"VLOOKUP(A2536,Pilot,5,0)","v":"M"},{"$f":"VLOOKUP(A2536,Pilot,3,0)","v":"Kyjov"},{"$f":"VLOOKUP(A2536,Pilot,4,0)","v":"CZ/M"},"FCC 2025 - Kombi Open",{"$f":"VLOOKUP(F2536,Soutez!A:B,2,FALSE)","v":"SK"},{"$f":"VLOOKUP(F2536,Soutez!A:C,3,FALSE)","v":2025},31,5141,0.96500000000000008,6280,{"$f":"ROUND(K2536*L2536,0)","v":6060},"x",null,"Nimbus 4 DM 820kg","AM",""]
["Janos Sindely",null,null,null,null,"FCC 2025 - Kombi Open",{"$f":"VLOOKUP(F2537,Soutez!A:B,2,FALSE)","v":"SK"},{"$f":"VLOOKUP(F2537,Soutez!A:C,3,FALSE)","v":2025},32,5112,0.96500000000000008,6185,5969,null,null,"JS 1 18m CDJ EVO 600kg","RZ","Není v databázi"]
["Bernd Goretzki",null,null,null,null,"FCC 2025 - Kombi Open",{"$f":"VLOOKUP(F2538,Soutez!A:B,2,FALSE)","v":"SK"},{"$f":"VLOOKUP(F2538,Soutez!A:C,3,FALSE)","v":2025},33,4782,0.96500000000000008,5784,5582,null,null,"Ventus 3M 600kg","C8","Není v databázi"]
["Lubomir Doupal",{"$f":"VLOOKUP(A2539,Pilot,2,0)","v":1975},{"$f":"VLOOKUP(A2539,Pilot,5,0)","v":"M"},{"$f":"VLOOKUP(A2539,Pilot,3,0)","v":"Kroměříž"},{"$f":"VLOOKUP(A2539,Pilot,4,0)","v":"CZ/M"},"FCC 2025 - Kombi Open",{"$f":"VLOOKUP(F2539,Soutez!A:B,2,FALSE)","v":"SK"},{"$f":"VLOOKUP(F2539,Soutez!A:C,3,FALSE)","v":2025},34,4698,0.96500000000000008,5633,5436,"x",null,"Arcus M / 800kg","LD",""]
["Wojciech Kos",null,null,null,null,"FCC 2025 - Kombi Open",{"$f":"VLOOKUP(F2540,Soutez!A:B,2,FALSE)","v":"SK"},{"$f":"VLOOKUP(F2540,Soutez!A:C,3,FALSE)","v":2025},35,4653,0.96500000000000008,5522,5329,null,null,"Arcus T 800kg","ZAR",{"$f":"IF(ISERROR(VLOOKUP(A2540,Pilot,6,0)),\"Není v databázi\",VLOOKUP(A2540,Pilot,6,0))","v":"Není v databázi"}]
["Zsolt Osi",null,null,null,null,"FCC 2025 - Kombi Open",{"$f":"VLOOKUP(F2541,Soutez!A:B,2,FALSE)","v":"SK"},{"$f":"VLOOKUP(F2541,Soutez!A:C,3,FALSE)","v":2025},36,4363,0.96500000000000008,5162,4981,null,null,"ASW 22 BLE / 810kg","BY","Není v databázi"]
["Andras Bodzsar",null,null,null,null,"FCC 2025 - Kombi Open",{"$f":"VLOOKUP(F2542,Soutez!A:B,2,FALSE)","v":"SK"},{"$f":"VLOOKUP(F2542,Soutez!A:C,3,FALSE)","v":2025},37,4328,0.96500000000000008,5061,4884,null,null,"JS 3 Jet 600kg","UJ","Není v databázi"]
["Christophe Delort d'Exea",null,null,null,null,"FCC 2025 - Kombi Open",{"$f":"VLOOKUP(F2543,Soutez!A:B,2,FALSE)","v":"SK"},{"$f":"VLOOKUP(F2543,Soutez!A:C,3,FALSE)","v":2025},38,4264,0.96500000000000008,4930,4757,null,null,"EB 29 R 850kg",72,"Není v databázi"]
["Jan Divok",null,null,null,null,"FCC 2025 - Kombi Open",{"$f":"VLOOKUP(F2544,Soutez!A:B,2,FALSE)","v":"SK"},{"$f":"VLOOKUP(F2544,Soutez!A:C,3,FALSE)","v":2025},39,3937,0.96500000000000008,4532,4373,null,null,"Discus 2ct 570kg","DJ","Není v databázi"]
["Lukasz Florkowski",null,null,null,null,"FCC 2025 - Kombi Open",{"$f":"VLOOKUP(F2545,Soutez!A:B,2,FALSE)","v":"SK"},{"$f":"VLOOKUP(F2545,Soutez!A:C,3,FALSE)","v":2025},40,3850,0.96500000000000008,4378,4225,null,null,"JS1 18m EVO 600kg","TP","Není v databázi"]
["Joanna Biedermann",null,null,null,null,"FCC 2025 - Kombi Open",{"$f":"VLOOKUP(F2546,Soutez!A:B,2,FALSE)","v":"SK"},{"$f":"VLOOKUP(F2546,Soutez!A:C,3,FALSE)","v":2025},41,3786,0.96500000000000008,4248,4099,null,null,"JS1 18m JET EVO 600kg","P","Není v databázi"]
["Lukas Benedikt",null,null,null,null,"FCC 2025 - Kombi Open",{"$f":"VLOOKUP(F2547,Soutez!A:B,2,FALSE)","v":"SK"},{"$f":"VLOOKUP(F2547,Soutez!A:C,3,FALSE)","v":2025},42,3387,0.96500000000000008,3776,3644,null,null,"Ventus 3F Sport 600kg","LB","Není v databázi"]
["Jan Keher",null,null,null,null,"FCC 2025 - Kombi Open",{"$f":"VLOOKUP(F2548,Soutez!A:B,2,FALSE)","v":"SK"},{"$f":"VLOOKUP(F2548,Soutez!A:C,3,FALSE)","v":2025},43,2835,0.96500000000000008,3149,3039,null,null,"Discus 2cT 565kg","EF","Není v databázi"]
["Arkadiusz Stefanczyk",null,null,null,null,"FCC 2025 - Kombi Open",{"$f":"VLOOKUP(F2549,Soutez!A:B,2,FALSE)","v":"SK"},{"$f":"VLOOKUP(F2549,Soutez!A:C,3,FALSE)","v":2025},44,2799,0.96500000000000008,3047,2940,null,null,"Ventus 3M 600kg","ST","Není v databázi"]
["Oldrich Bartonik",{"$f":"VLOOKUP(A2550,Pilot,2,0)","v":1961},{"$f":"VLOOKUP(A2550,Pilot,5,0)","v":"M"},{"$f":"VLOOKUP(A2550,Pilot,3,0)","v":"Luhačovice"},{"$f":"VLOOKUP(A2550,Pilot,4,0)","v":"CZ/M"},"FCC 2025 - Kombi Open",{"$f":"VLOOKUP(F2550,Soutez!A:B,2,FALSE)","v":"SK"},{"$f":"VLOOKUP(F2550,Soutez!A:C,3,FALSE)","v":2025},45,1816,0.96500000000000008,1980,1911,"x",null,"Diana3 FES 600kg","D3",""]
["Dariusz Pietraszkiewicz",null,null,null,null,"FCC 2025 - Kombi Open",{"$f":"VLOOKUP(F2551,Soutez!A:B,2,FALSE)","v":"SK"},{"$f":"VLOOKUP(F2551,Soutez!A:C,3,FALSE)","v":2025},46,1293,0.96500000000000008,1382,1334,null,null,"ASG 29 ES 600kg","RB","Není v databázi"]
["Botond Szabadfi",null,null,null,null,"FCC 2025 - Kombi Open",{"$f":"VLOOKUP(F2552,Soutez!A:B,2,FALSE)","v":"SK"},{"$f":"VLOOKUP(F2552,Soutez!A:C,3,FALSE)","v":2025},47,478,0.96500000000000008,487,470,null,null,"ASG 32 Mi","IV","Není v databázi"]
["David Darnady",null,"M","SGC Martin","SK","Fatraglide 2025 - Klub",{"$f":"VLOOKUP(F2553,Soutez!A:B,2,FALSE)","v":"SK"},{"$f":"VLOOKUP(F2553,Soutez!A:C,3,FALSE)","v":2025},1,4952,0.76,{"$f":"ROUND(J2553/MAX($J$2553:$J$2578)*10000*0.7+(MAX($I$2553:$I$2578)-I2553)/(MAX($I$2553:$I$2578)-1)*10000*0.3,0)","v":10000},{"$f":"ROUND(K2553*L2553,0)","v":7600},null,null,"ASW 20",311,"Není v databázi"]
["Jan Louda",{"$f":"VLOOKUP(A2554,Pilot,2,0)","v":1986},{"$f":"VLOOKUP(A2554,Pilot,5,0)","v":"M"},{"$f":"VLOOKUP(A2554,Pilot,3,0)","v":"Mladá Boleslav"},{"$f":"VLOOKUP(A2554,Pilot,4,0)","v":"CZ/C1"},"Fatraglide 2025 - Klub",{"$f":"VLOOKUP(F2554,Soutez!A:B,2,FALSE)","v":"SK"},{"$f":"VLOOKUP(F2554,Soutez!A:C,3,FALSE)","v":2025},2,4928,0.76,9830,{"$f":"ROUND(K2554*L2554,0)","v":7471},"x",null,"ASW 19 B","XS",""]
["Jozef Kozar",null,null,"Aeroklub Martin",null,"Fatraglide 2025 - Klub",{"$f":"VLOOKUP(F2555,Soutez!A:B,2,FALSE)","v":"SK"},{"$f":"VLOOKUP(F2555,Soutez!A:C,3,FALSE)","v":2025},3,4789,0.76,9497,7218,null,null,"ASW 20","IKW","Není v databázi"]
["Jan Horak",{"$f":"VLOOKUP(A2556,Pilot,2,0)","v":1971},{"$f":"VLOOKUP(A2556,Pilot,5,0)","v":"M"},{"$f":"VLOOKUP(A2556,Pilot,3,0)","v":"Zbraslavice"},{"$f":"VLOOKUP(A2556,Pilot,4,0)","v":"CZ/C1"},"Fatraglide 2025 - Klub",{"$f":"VLOOKUP(F2556,Soutez!A:B,2,FALSE)","v":"SK"},{"$f":"VLOOKUP(F2556,Soutez!A:C,3,FALSE)","v":2025},4,4690,0.76,9221,7008,"x",null,"ASW 20 A","WX",""]
["Jan Wojewoda",null,null,"Aeroklub Nadwislanski",null,"Fatraglide 2025 - Klub",{"$f":"VLOOKUP(F2557,Soutez!A:B,2,FALSE)","v":"SK"},{"$f":"VLOOKUP(F2557,Soutez!A:C,3,FALSE)","v":2025},5,4323,0.76,8565,6509,null,null,"SZD-48-3 M Brawo","BI","Není v databázi"]
["Julia Walowska",null,null,"Aeroklub Ostrowski",null,"Fatraglide 2025 - Klub",{"$f":"VLOOKUP(F2558,Soutez!A:B,2,FALSE)","v":"SK"},{"$f":"VLOOKUP(F2558,Soutez!A:C,3,FALSE)","v":2025},6,4183,{"$f":"VLOOKUP(F2558,Soutez,12,0)","v":0.76},8231,6256,null,null,"LS 3","AN","Není v databázi"]
["Peter Ronai",null,null,"Opitz Nandor REK",null,"Fatraglide 2025 - Klub",{"$f":"VLOOKUP(F2559,Soutez!A:B,2,FALSE)","v":"SK"},{"$f":"VLOOKUP(F2559,Soutez!A:C,3,FALSE)","v":2025},7,4138,0.76,8031,6104,null,null,"ASW 20","TE","Není v databázi"]
["Radoslaw Nogal",null,null,"Aeroklub Ostrowski",null,"Fatraglide 2025 - Klub",{"$f":"VLOOKUP(F2560,Soutez!A:B,2,FALSE)","v":"SK"},{"$f":"VLOOKUP(F2560,Soutez!A:C,3,FALSE)","v":2025},8,3938,0.76,7612,5785,null,null,"SZD-48-3 Jantar Std. 3","HI","Není v databázi"]
["Lubomir Belusko",null,null,"AK Presov",null,"Fatraglide 2025 - Klub",{"$f":"VLOOKUP(F2561,Soutez!A:B,2,FALSE)","v":"SK"},{"$f":"VLOOKUP(F2561,Soutez!A:C,3,FALSE)","v":2025},9,3928,0.76,7462,5671,null,null,"Pegase","HS","Není v databázi"]
["Gabor Erseki",null,null,"TBD",null,"Fatraglide 2025 - Klub",{"$f":"VLOOKUP(F2562,Soutez!A:B,2,FALSE)","v":"SK"},{"$f":"VLOOKUP(F2562,Soutez!A:C,3,FALSE)","v":2025},10,3465,0.76,6671,5070,null,null,"ASW 15","NK","Není v databázi"]
["Jakub Piasecki",null,null,"Aeroklub Kielecki, Politechnika Swietokrzyska",null,"Fatraglide 2025 - Klub",{"$f":"VLOOKUP(F2563,Soutez!A:B,2,FALSE)","v":"SK"},{"$f":"VLOOKUP(F2563,Soutez!A:C,3,FALSE)","v":2025},11,3141,0.76,6076,4618,null,null,"SZD-48-3 Jantar Std. 3","HO","Není v databázi"]
["Gabor Bors",null,null,"Opitz Nandor Repuloklub",null,"Fatraglide 2025 - Klub",{"$f":"VLOOKUP(F2564,Soutez!A:B,2,FALSE)","v":"SK"},{"$f":"VLOOKUP(F2564,Soutez!A:C,3,FALSE)","v":2025},12,3032,0.76,5786,4397,null,null,"Mini Nimbus","SU","Není v databázi"]
["Marek Seman",null,null,"AK Presov",null,"Fatraglide 2025 - Klub",{"$f":"VLOOKUP(F2565,Soutez!A:B,2,FALSE)","v":"SK"},{"$f":"VLOOKUP(F2565,Soutez!A:C,3,FALSE)","v":2025},13,3031,0.76,5648,4292,null,null,"Std. Cirrus","MJ","Není v databázi"]
["Michaela Soltysova",null,null,"SGC Martin",null,"Fatraglide 2025 - Klub",{"$f":"VLOOKUP(F2566,Soutez!A:B,2,FALSE)","v":"SK"},{"$f":"VLOOKUP(F2566,Soutez!A:C,3,FALSE)","v":2025},14,2753,0.76,5119,3890,null,null,"Std. Cirrus WL","LX","Není v databázi"]
["Antonio Rudolf Kalik",null,null,"AK Dubnica n. V.",null,"Fatraglide 2025 - Klub",{"$f":"VLOOKUP(F2567,Soutez!A:B,2,FALSE)","v":"SK"},{"$f":"VLOOKUP(F2567,Soutez!A:C,3,FALSE)","v":2025},15,2703,0.76,4912,3733,null,null,"LS 3","AK","Není v databázi"]
["Adam Sabla",null,null,"AK SNV",null,"Fatraglide 2025 - Klub",{"$f":"VLOOKUP(F2568,Soutez!A:B,2,FALSE)","v":"SK"},{"$f":"VLOOKUP(F2568,Soutez!A:C,3,FALSE)","v":2025},16,2405,0.76,4354,{"$f":"ROUND(K2568*L2568,0)","v":3309},null,null,"Std. Cirrus","SA","Není v databázi"]
["Peter Gasparovic",null,null,"SGC Martin",null,"Fatraglide 2025 - Klub",{"$f":"VLOOKUP(F2569,Soutez!A:B,2,FALSE)","v":"SK"},{"$f":"VLOOKUP(F2569,Soutez!A:C,3,FALSE)","v":2025},17,2318,0.76,4095,3112,null,null,"ASW 19","A4","Není v databázi"]
["Piotr Cioch",null,null,"ASW/AOS",null,"Fatraglide 2025 - Klub",{"$f":"VLOOKUP(F2570,Soutez!A:B,2,FALSE)","v":"SK"},{"$f":"VLOOKUP(F2570,Soutez!A:C,3,FALSE)","v":2025},18,1954,0.76,3444,2617,null,null,"Pegase A","PC","Není v databázi"]
["Peter Sedmak",null,null,"Aeroklub Martin",null,"Fatraglide 2025 - Klub",{"$f":"VLOOKUP(F2571,Soutez!A:B,2,FALSE)","v":"SK"},{"$f":"VLOOKUP(F2571,Soutez!A:C,3,FALSE)","v":2025},19,1862,0.76,3178,2415,null,null,"Pegase","MT","Není v databázi"]
["Samuel Rybar",null,null,"Aeroklub Prievidza",null,"Fatraglide 2025 - Klub",{"$f":"VLOOKUP(F2572,Soutez!A:B,2,FALSE)","v":"SK"},{"$f":"VLOOKUP(F2572,Soutez!A:C,3,FALSE)","v":2025},20,1846,0.76,3019,2294,null,null,"ASW 15b","AP","Není v databázi"]
["Jan Simko",null,null,"Aeroklub Martin",null,"Fatraglide 2025 - Klub",{"$f":"VLOOKUP(F2573,Soutez!A:B,2,FALSE)","v":"SK"},{"$f":"VLOOKUP(F2573,Soutez!A:C,3,FALSE)","v":2025},21,1326,0.76,2147,1632,null,null,"LS 4","MA","Není v databázi"]
["Rastislav Krak",null,null,"Aeroklub Poprad",null,"Fatraglide 2025 - Klub",{"$f":"VLOOKUP(F2574,Soutez!A:B,2,FALSE)","v":"SK"},{"$f":"VLOOKUP(F2574,Soutez!A:C,3,FALSE)","v":2025},22,1271,0.76,1933,1469,null,null,"ASW 19 B","A1","Není v databázi"]
["Matus Krasula",null,null,"AK Martin",null,"Fatraglide 2025 - Klub",{"$f":"VLOOKUP(F2575,Soutez!A:B,2,FALSE)","v":"SK"},{"$f":"VLOOKUP(F2575,Soutez!A:C,3,FALSE)","v":2025},23,1069,0.76,1511,1148,null,null,"VSO-10","OSA","Není v databázi"]
["Milan Surovcik Jr.",null,null,"Žilina",null,"Fatraglide 2025 - Klub",{"$f":"VLOOKUP(F2576,Soutez!A:B,2,FALSE)","v":"SK"},{"$f":"VLOOKUP(F2576,Soutez!A:C,3,FALSE)","v":2025},"HC",922,0.76,0,0,null,null,"ASW 20","S","Není v databázi"]
["Beliansky & Karolyiova",null,null,"Aeroklub Bratislava",null,"Fatraglide 2025 - Klub",{"$f":"VLOOKUP(F2577,Soutez!A:B,2,FALSE)","v":"SK"},{"$f":"VLOOKUP(F2577,Soutez!A:C,3,FALSE)","v":2025},"HC",78,0.76,0,0,null,null,"G 103 Twin Astir RG","MK","Není v databázi"]
["Simon Siska",null,null,"Aeroklub Martin",null,"Fatraglide 2025 - Klub",{"$f":"VLOOKUP(F2578,Soutez!A:B,2,FALSE)","v":"SK"},{"$f":"VLOOKUP(F2578,Soutez!A:C,3,FALSE)","v":2025},"HC",0,0.76,0,0,null,null,"ASW 24 WL","CK","Není v databázi"]
["Viliam Kubovcik",null,null,"AK Poprad",null,"Fatraglide 2025 - Kombi",{"$f":"VLOOKUP(F2579,Soutez!A:B,2,FALSE)","v":"SK"},{"$f":"VLOOKUP(F2579,Soutez!A:C,3,FALSE)","v":2025},1,5301,0.76,{"$f":"ROUND(J2579/MAX($J$2579:$J$2596)*10000*0.7+(MAX($I$2579:$I$2596)-I2579)/(MAX($I$2579:$I$2596)-1)*10000*0.3,0)","v":10000},{"$f":"ROUND(K2579*L2579,0)","v":7600},null,null,"JS3 RES 18m","VV","Není v databázi"]
["Marek Straka",null,null,"AK Dubnica n/V",null,"Fatraglide 2025 - Kombi",{"$f":"VLOOKUP(F2580,Soutez!A:B,2,FALSE)","v":"SK"},{"$f":"VLOOKUP(F2580,Soutez!A:C,3,FALSE)","v":2025},2,5043,0.76,9483,{"$f":"ROUND(K2580*L2580,0)","v":7207},null,null,"Ventus 2cxT 18m 565 kg","AI","Není v databázi"]
["Martin Sabla",null,null,"AK SNV",null,"Fatraglide 2025 - Kombi",{"$f":"VLOOKUP(F2581,Soutez!A:B,2,FALSE)","v":"SK"},{"$f":"VLOOKUP(F2581,Soutez!A:C,3,FALSE)","v":2025},3,4983,0.76,9227,7013,null,null,"Ventus 2b","VI","Není v databázi"]
["Branislav Jesensky",null,null,"SGC Martin",null,"Fatraglide 2025 - Kombi",{"$f":"VLOOKUP(F2582,Soutez!A:B,2,FALSE)","v":"SK"},{"$f":"VLOOKUP(F2582,Soutez!A:C,3,FALSE)","v":2025},4,4837,0.76,8858,6732,null,null,"JS1C TJ 21m","J","Není v databázi"]
["Milos Srank",null,null,"AK Nove Zamky",null,"Fatraglide 2025 - Kombi",{"$f":"VLOOKUP(F2583,Soutez!A:B,2,FALSE)","v":"SK"},{"$f":"VLOOKUP(F2583,Soutez!A:C,3,FALSE)","v":2025},5,4822,0.76,8662,6583,null,null,"ASG 29 E 18m","LK","Není v databázi"]
["Wiktor Czubski",null,null,"Aeroclub Ostrowski",null,"Fatraglide 2025 - Kombi",{"$f":"VLOOKUP(F2584,Soutez!A:B,2,FALSE)","v":"SK"},{"$f":"VLOOKUP(F2584,Soutez!A:C,3,FALSE)","v":2025},6,4576,0.76,8160,6202,null,null,"SZD-56-2 Diana 2 FES","ZJ","Není v databázi"]
["Jan Kovalcik",null,null,"AK Bratislava",null,"Fatraglide 2025 - Kombi",{"$f":"VLOOKUP(F2585,Soutez!A:B,2,FALSE)","v":"SK"},{"$f":"VLOOKUP(F2585,Soutez!A:C,3,FALSE)","v":2025},7,4512,0.76,7899,6003,null,null,"Arcus M","2P","Není v databázi"]
["Tibor Noga",null,null,"SGC Martin",null,"Fatraglide 2025 - Kombi",{"$f":"VLOOKUP(F2586,Soutez!A:B,2,FALSE)","v":"SK"},{"$f":"VLOOKUP(F2586,Soutez!A:C,3,FALSE)","v":2025},8,4509,0.76,7719,5866,null,null,"Ventus 2c 18m","LN","Není v databázi"]
["Martin Furjes",null,null,"SGC Martin",null,"Fatraglide 2025 - Kombi",{"$f":"VLOOKUP(F2587,Soutez!A:B,2,FALSE)","v":"SK"},{"$f":"VLOOKUP(F2587,Soutez!A:C,3,FALSE)","v":2025},9,4374,0.76,7364,5597,null,null,"JS3 TJ 18m","3J","Není v databázi"]
["Vaclav Hruza",{"$f":"VLOOKUP(A2588,Pilot,2,0)","v":1965},{"$f":"VLOOKUP(A2588,Pilot,5,0)","v":"M"},{"$f":"VLOOKUP(A2588,Pilot,3,0)","v":"Břeclav"},{"$f":"VLOOKUP(A2588,Pilot,4,0)","v":"CZ/M"},"Fatraglide 2025 - Kombi",{"$f":"VLOOKUP(F2588,Soutez!A:B,2,FALSE)","v":"SK"},{"$f":"VLOOKUP(F2588,Soutez!A:C,3,FALSE)","v":2025},10,4343,0.76,7147,5432,"x",null,"HpH 304 TS Twin Shark 850kg","PH",""]
["Petro & Snirc",null,null,"Aeroklub Nitra",null,"Fatraglide 2025 - Kombi",{"$f":"VLOOKUP(F2589,Soutez!A:B,2,FALSE)","v":"SK"},{"$f":"VLOOKUP(F2589,Soutez!A:C,3,FALSE)","v":2025},11,3966,0.76,6472,4919,null,null,"DG 1000T 20m","NIT","Není v databázi"]
["Miroslav Puffler",null,null,"SGC Martin",null,"Fatraglide 2025 - Kombi",{"$f":"VLOOKUP(F2590,Soutez!A:B,2,FALSE)","v":"SK"},{"$f":"VLOOKUP(F2590,Soutez!A:C,3,FALSE)","v":2025},12,3599,0.76,5811,4416,null,null,"Ventus cT 17.6m","TN","Není v databázi"]
["Hackl & Suranyi",null,null,"Opitz Nándor Repuloklub",null,"Fatraglide 2025 - Kombi",{"$f":"VLOOKUP(F2591,Soutez!A:B,2,FALSE)","v":"SK"},{"$f":"VLOOKUP(F2591,Soutez!A:C,3,FALSE)","v":2025},13,3385,0.76,5352,{"$f":"ROUND(K2591*L2591,0)","v":4068},null,null,"DG 500 22m","FY","Není v databázi"]
["Peter Abonyi",null,null,"SGC Martin",null,"Fatraglide 2025 - Kombi",{"$f":"VLOOKUP(F2592,Soutez!A:B,2,FALSE)","v":"SK"},{"$f":"VLOOKUP(F2592,Soutez!A:C,3,FALSE)","v":2025},14,2799,0.76,4402,3346,null,null,"Ventus c 17.6m","PA","Není v databázi"]
["Peter Varsik",null,null,"Aeroklub Bratislava",null,"Fatraglide 2025 - Kombi",{"$f":"VLOOKUP(F2593,Soutez!A:B,2,FALSE)","v":"SK"},{"$f":"VLOOKUP(F2593,Soutez!A:C,3,FALSE)","v":2025},15,2282,0.76,3543,2693,null,null,"Duo Discus","2X","Není v databázi"]
["Anton Zelenaj",null,null,"AK Nove Zamky",null,"Fatraglide 2025 - Kombi",{"$f":"VLOOKUP(F2594,Soutez!A:B,2,FALSE)","v":"SK"},{"$f":"VLOOKUP(F2594,Soutez!A:C,3,FALSE)","v":2025},16,1658,0.76,2542,1932,null,null,"ASW 27 WL","TZ","Není v databázi"]
["Ivan Chabada",null,null,"AK Banska Bystrica",null,"Fatraglide 2025 - Kombi",{"$f":"VLOOKUP(F2595,Soutez!A:B,2,FALSE)","v":"SK"},{"$f":"VLOOKUP(F2595,Soutez!A:C,3,FALSE)","v":2025},17,1066,0.76,1584,1204,null,null,"Nimbus 2 b","VY","Není v databázi"]
["Peter Ziak",null,null,"Aeroklub Martin",null,"Fatraglide 2025 - Kombi",{"$f":"VLOOKUP(F2596,Soutez!A:B,2,FALSE)","v":"SK"},{"$f":"VLOOKUP(F2596,Soutez!A:C,3,FALSE)","v":2025},18,951,0.76,1256,955,null,null,"LAK-17C FES 18m","PZ","Není v databázi"]
["Michal Lesinger",{"$f":"VLOOKUP(A2597,Pilot,2,0)","v":1966},{"$f":"VLOOKUP(A2597,Pilot,5,0)","v":"M"},{"$f":"VLOOKUP(A2597,Pilot,3,0)","v":"Moravská Třebová"},{"$f":"VLOOKUP(A2597,Pilot,4,0)","v":"CZ/M"},"Pribina Cup 2025 - Klub",{"$f":"VLOOKUP(F2597,Soutez!A:B,2,FALSE)","v":"SK"},{"$f":"VLOOKUP(F2597,Soutez!A:C,3,FALSE)","v":2025},1,3123,0.91,{"$f":"ROUND(J2597/MAX($J$2597:$J$2611)*10000*0.7+(MAX($I$2597:$I$2611)-I2597)/(MAX($I$2597:$I$2611)-1)*10000*0.3,0)","v":10000},{"$f":"ROUND(K2597*L2597,0)","v":9100},null,null,"ASW 20","LL",""]
["Milan Surovcik Jr.",null,null,"Žilina",null,"Pribina Cup 2025 - Klub",{"$f":"VLOOKUP(F2598,Soutez!A:B,2,FALSE)","v":"SK"},{"$f":"VLOOKUP(F2598,Soutez!A:C,3,FALSE)","v":2025},2,3093,0.91,9718,{"$f":"ROUND(K2598*L2598,0)","v":8843},null,null,"ASW-20","S","Není v databázi"]
["Edmund Schuller",null,null,"SGC Martin",null,"Pribina Cup 2025 - Klub",{"$f":"VLOOKUP(F2599,Soutez!A:B,2,FALSE)","v":"SK"},{"$f":"VLOOKUP(F2599,Soutez!A:C,3,FALSE)","v":2025},3,3014,0.91,9327,8488,null,null,"ASW-24+W","ZS","Není v databázi"]
["Karol Jan Muller",null,null,"SFG GIULINI.E.V.",null,"Pribina Cup 2025 - Klub",{"$f":"VLOOKUP(F2600,Soutez!A:B,2,FALSE)","v":"SK"},{"$f":"VLOOKUP(F2600,Soutez!A:C,3,FALSE)","v":2025},4,2851,0.91,8747,7960,null,null,"Mosquito",33,"Není v databázi"]
["John Bartels",null,null,"SFG Donauwörth Mohnheim",null,"Pribina Cup 2025 - Klub",{"$f":"VLOOKUP(F2601,Soutez!A:B,2,FALSE)","v":"SK"},{"$f":"VLOOKUP(F2601,Soutez!A:C,3,FALSE)","v":2025},5,2652,0.91,8087,7359,null,null,"Discus b+W","CG",{"$f":"IF(ISERROR(VLOOKUP(A2601,Pilot,6,0)),\"Není v databázi\",VLOOKUP(A2601,Pilot,6,0))","v":"Není v databázi"}]
["Florian Kraja",null,null,"LSF Dahlemer Binz",null,"Pribina Cup 2025 - Klub",{"$f":"VLOOKUP(F2602,Soutez!A:B,2,FALSE)","v":"SK"},{"$f":"VLOOKUP(F2602,Soutez!A:C,3,FALSE)","v":2025},6,2616,0.91,7792,7091,null,null,"LS-7WL","FLO","Není v databázi"]
["Lilian Mathilda Fröhlich",null,null,"AeroClub von Lübeck",null,"Pribina Cup 2025 - Klub",{"$f":"VLOOKUP(F2603,Soutez!A:B,2,FALSE)","v":"SK"},{"$f":"VLOOKUP(F2603,Soutez!A:C,3,FALSE)","v":2025},7,2517,0.91,7356,6694,null,null,"Mosquito+W","YM","Není v databázi"]
["Markus Uhlig",null,null,"FC Grossrückerswalde",null,"Pribina Cup 2025 - Klub",{"$f":"VLOOKUP(F2604,Soutez!A:B,2,FALSE)","v":"SK"},{"$f":"VLOOKUP(F2604,Soutez!A:C,3,FALSE)","v":2025},8,2441,0.91,6971,6344,null,null,"SZD-48 Jantar Std.2+W","M4","Není v databázi"]
["Kengo Matsumoto",null,null,"Soaring Association of Miyagi",null,"Pribina Cup 2025 - Klub",{"$f":"VLOOKUP(F2605,Soutez!A:B,2,FALSE)","v":"SK"},{"$f":"VLOOKUP(F2605,Soutez!A:C,3,FALSE)","v":2025},9,2431,0.91,6735,6129,null,null,"ASW-20","X11","Není v databázi"]
["Miha Premrl",null,null,"AK Postojna",null,"Pribina Cup 2025 - Klub",{"$f":"VLOOKUP(F2606,Soutez!A:B,2,FALSE)","v":"SK"},{"$f":"VLOOKUP(F2606,Soutez!A:C,3,FALSE)","v":2025},10,1629,0.91,4723,4298,null,null,"Std. Cirrus+W","IPF","Není v databázi"]
["Jan Wojewoda",null,null,"Aeroklub Nadwislanski",null,"Pribina Cup 2025 - Klub",{"$f":"VLOOKUP(F2607,Soutez!A:B,2,FALSE)","v":"SK"},{"$f":"VLOOKUP(F2607,Soutez!A:C,3,FALSE)","v":2025},11,1427,0.91,4056,{"$f":"ROUND(K2607*L2607,0)","v":3691},null,null,"SZD-48 Jantar Std.2","BI","Není v databázi"]
["Tibor Fratrik",null,null,"SGC Martin",null,"Pribina Cup 2025 - Klub",{"$f":"VLOOKUP(F2608,Soutez!A:B,2,FALSE)","v":"SK"},{"$f":"VLOOKUP(F2608,Soutez!A:C,3,FALSE)","v":2025},12,1141,0.91,3200,2912,null,null,"ASW-20C","VG","Není v databázi"]
["Ulrich Luta",null,null,"LV Aachen",null,"Pribina Cup 2025 - Klub",{"$f":"VLOOKUP(F2609,Soutez!A:B,2,FALSE)","v":"SK"},{"$f":"VLOOKUP(F2609,Soutez!A:C,3,FALSE)","v":2025},13,862,0.91,2361,2149,null,null,"ASW-20","FR","Není v databázi"]
["Peter Gasparovic",null,null,"SGC Martin",null,"Pribina Cup 2025 - Klub",{"$f":"VLOOKUP(F2610,Soutez!A:B,2,FALSE)","v":"SK"},{"$f":"VLOOKUP(F2610,Soutez!A:C,3,FALSE)","v":2025},14,710,0.91,1806,1643,null,null,"ASW-19B","A4","Není v databázi"]
["Martin Marincak",null,null,"AK Prešov",null,"Pribina Cup 2025 - Klub",{"$f":"VLOOKUP(F2611,Soutez!A:B,2,FALSE)","v":"SK"},{"$f":"VLOOKUP(F2611,Soutez!A:C,3,FALSE)","v":2025},15,519,0.91,1163,1058,null,null,"LS-1f","HI","Není v databázi"]
["Czeladzki & Biela",null,null,"Nowy Targ",null,"Pribina Cup 2025 - Kombi 15m",{"$f":"VLOOKUP(F2612,Soutez!A:B,2,FALSE)","v":"SK"},{"$f":"VLOOKUP(F2612,Soutez!A:C,3,FALSE)","v":2025},1,3048,0.92500000000000004,{"$f":"ROUND(J2612/MAX($J$2612:$J$2629)*10000*0.7+(MAX($I$2612:$I$2629)-I2612)/(MAX($I$2612:$I$2629)-1)*10000*0.3,0)","v":10000},{"$f":"ROUND(K2612*L2612,0)","v":9250},null,null,"Duo Discus XLT","POL","Není v databázi"]
["Maximilian Goormann",null,null,"Aero-Club Trier und Konz e.V",null,"Pribina Cup 2025 - Kombi 15m",{"$f":"VLOOKUP(F2613,Soutez!A:B,2,FALSE)","v":"SK"},{"$f":"VLOOKUP(F2613,Soutez!A:C,3,FALSE)","v":2025},2,2775,0.92500000000000004,9197,{"$f":"ROUND(K2613*L2613,0)","v":8507},null,null,"Ventus 2ax","VVI","Není v databázi"]
["Tim Milner",null,null,"Wolds gliding Club",null,"Pribina Cup 2025 - Kombi 15m",{"$f":"VLOOKUP(F2614,Soutez!A:B,2,FALSE)","v":"SK"},{"$f":"VLOOKUP(F2614,Soutez!A:C,3,FALSE)","v":2025},3,2755,0.92500000000000004,8974,8301,null,null,"Discus 2a","AX","Není v databázi"]
["Felix Kries",null,null,"DAeC",null,"Pribina Cup 2025 - Kombi 15m",{"$f":"VLOOKUP(F2615,Soutez!A:B,2,FALSE)","v":"SK"},{"$f":"VLOOKUP(F2615,Soutez!A:C,3,FALSE)","v":2025},4,2734,0.92500000000000004,8749,8093,null,null,"HpH 304 CZ","K","Není v databázi"]
["Oliver Ramsay",null,null,"Oxford Gliding Club",null,"Pribina Cup 2025 - Kombi 15m",{"$f":"VLOOKUP(F2616,Soutez!A:B,2,FALSE)","v":"SK"},{"$f":"VLOOKUP(F2616,Soutez!A:C,3,FALSE)","v":2025},5,2619,0.92500000000000004,8309,7686,null,null,"LS-8",302,"Není v databázi"]
["Jan Kretzschmar",null,null,"Aero Club Lichtenfels",null,"Pribina Cup 2025 - Kombi 15m",{"$f":"VLOOKUP(F2617,Soutez!A:B,2,FALSE)","v":"SK"},{"$f":"VLOOKUP(F2617,Soutez!A:C,3,FALSE)","v":2025},6,2546,0.92500000000000004,7965,7368,null,null,"LS-8a","JK","Není v databázi"]
["Antoni Zawirski",null,null,"Leszno",null,"Pribina Cup 2025 - Kombi 15m",{"$f":"VLOOKUP(F2618,Soutez!A:B,2,FALSE)","v":"SK"},{"$f":"VLOOKUP(F2618,Soutez!A:C,3,FALSE)","v":2025},7,2517,0.92500000000000004,7722,7143,null,null,"LS-8","LOT","Není v databázi"]
["Philipp Lauer",null,null,"DAeC",null,"Pribina Cup 2025 - Kombi 15m",{"$f":"VLOOKUP(F2619,Soutez!A:B,2,FALSE)","v":"SK"},{"$f":"VLOOKUP(F2619,Soutez!A:C,3,FALSE)","v":2025},8,2483,{"$f":"VLOOKUP(F2619,Soutez,12,0)","v":0.92500000000000004},7467,6907,null,null,"LS-8","GP","Není v databázi"]
["Max Lukas Maslak",null,null,"Aeroclub Bonn-Hangelar e.V.",null,"Pribina Cup 2025 - Kombi 15m",{"$f":"VLOOKUP(F2620,Soutez!A:B,2,FALSE)","v":"SK"},{"$f":"VLOOKUP(F2620,Soutez!A:C,3,FALSE)","v":2025},9,2375,0.92500000000000004,7043,6515,null,null,"LS-8a","AR","Není v databázi"]
["Jan Pavlik",{"$f":"VLOOKUP(A2621,Pilot,2,0)","v":1987},{"$f":"VLOOKUP(A2621,Pilot,5,0)","v":"M"},{"$f":"VLOOKUP(A2621,Pilot,3,0)","v":"Křižanov"},{"$f":"VLOOKUP(A2621,Pilot,4,0)","v":"CZ/M"},"Pribina Cup 2025 - Kombi 15m",{"$f":"VLOOKUP(F2621,Soutez!A:B,2,FALSE)","v":"SK"},{"$f":"VLOOKUP(F2621,Soutez!A:C,3,FALSE)","v":2025},10,2374,0.92500000000000004,6864,6349,null,null,"LS-8b","FX",""]
["Tomasz Kurowski",null,null,"Aeroklub Krakowski",null,"Pribina Cup 2025 - Kombi 15m",{"$f":"VLOOKUP(F2622,Soutez!A:B,2,FALSE)","v":"SK"},{"$f":"VLOOKUP(F2622,Soutez!A:C,3,FALSE)","v":2025},11,2288,0.92500000000000004,6490,{"$f":"ROUND(K2622*L2622,0)","v":6003},null,null,"Discus 2a","Y","Není v databázi"]
["Jana Treslova",{"$f":"VLOOKUP(A2623,Pilot,2,0)","v":1963},{"$f":"VLOOKUP(A2623,Pilot,5,0)","v":"F"},{"$f":"VLOOKUP(A2623,Pilot,3,0)","v":"Raná"},{"$f":"VLOOKUP(A2623,Pilot,4,0)","v":"CZ/C2"},"Pribina Cup 2025 - Kombi 15m",{"$f":"VLOOKUP(F2623,Soutez!A:B,2,FALSE)","v":"SK"},{"$f":"VLOOKUP(F2623,Soutez!A:C,3,FALSE)","v":2025},12,2286,0.92500000000000004,6309,5836,null,null,"LS 8","C6",""]
["Benedikt Waegele",null,null,"SFZ Königsdorf",null,"Pribina Cup 2025 - Kombi 15m",{"$f":"VLOOKUP(F2624,Soutez!A:B,2,FALSE)","v":"SK"},{"$f":"VLOOKUP(F2624,Soutez!A:C,3,FALSE)","v":2025},13,2236,0.92500000000000004,6018,5567,null,null,"LS-8a","BY","Není v databázi"]
["Tilo Holighaus",null,null,"FG Wolf-Hirth Kirchheim",null,"Pribina Cup 2025 - Kombi 15m",{"$f":"VLOOKUP(F2625,Soutez!A:B,2,FALSE)","v":"SK"},{"$f":"VLOOKUP(F2625,Soutez!A:C,3,FALSE)","v":2025},14,2227,0.92500000000000004,5820,5384,null,null,"Ventus 3T 15m","3V","Není v databázi"]
["Vladimir Foltin",null,null,"Aeroklub Nitra",null,"Pribina Cup 2025 - Kombi 15m",{"$f":"VLOOKUP(F2626,Soutez!A:B,2,FALSE)","v":"SK"},{"$f":"VLOOKUP(F2626,Soutez!A:C,3,FALSE)","v":2025},15,2123,0.92500000000000004,5405,5000,null,null,"JS3 TJ 15m",3,"Není v databázi"]
["David Neumann",null,null,"LSG Amberg",null,"Pribina Cup 2025 - Kombi 15m",{"$f":"VLOOKUP(F2627,Soutez!A:B,2,FALSE)","v":"SK"},{"$f":"VLOOKUP(F2627,Soutez!A:C,3,FALSE)","v":2025},16,2069,0.92500000000000004,5105,4722,null,null,"Discus 2b","PK","Není v databázi"]
["Oscar Butlin",null,null,"London Gliding Club",null,"Pribina Cup 2025 - Kombi 15m",{"$f":"VLOOKUP(F2628,Soutez!A:B,2,FALSE)","v":"SK"},{"$f":"VLOOKUP(F2628,Soutez!A:C,3,FALSE)","v":2025},17,1611,0.92500000000000004,3876,3585,null,null,"LS-8","D7","Není v databázi"]
["Benedikt Laho",null,null,"Aeroklub Nitra",null,"Pribina Cup 2025 - Kombi 15m",{"$f":"VLOOKUP(F2629,Soutez!A:B,2,FALSE)","v":"SK"},{"$f":"VLOOKUP(F2629,Soutez!A:C,3,FALSE)","v":2025},18,641,0.92500000000000004,1472,{"$f":"ROUND(K2629*L2629,0)","v":1362},null,null,"Discus 2cT","JH","Není v databázi"]
["Schwan & Janowitsch",null,null,"FRA-Wiener Neustadt",null,"Pribina Cup 2025 - Kombi Open",{"$f":"VLOOKUP(F2630,Soutez!A:B,2,FALSE)","v":"SK"},{"$f":"VLOOKUP(F2630,Soutez!A:C,3,FALSE)","v":2025},1,2825,0.92500000000000004,{"$f":"ROUND(J2630/MAX($J$2630:$J$2648)*10000*0.7+(MAX($I$2630:$I$2648)-I2630)/(MAX($I$2630:$I$2648)-1)*10000*0.3,0)","v":10000},{"$f":"ROUND(K2630*L2630,0)","v":9250},null,null,"Arcus",13,"Není v databázi"]
["Dierschke & Lippert",null,null,null,null,"Pribina Cup 2025 - Kombi Open",{"$f":"VLOOKUP(F2631,Soutez!A:B,2,FALSE)","v":"SK"},{"$f":"VLOOKUP(F2631,Soutez!A:C,3,FALSE)","v":2025},2,2570,0.92500000000000004,9201,{"$f":"ROUND(K2631*L2631,0)","v":8511},null,null,"Arcus","BN","Není v databázi"]
["Nils Zitzelsberger",null,null,"Aeroclub Stuttgart",null,"Pribina Cup 2025 - Kombi Open",{"$f":"VLOOKUP(F2632,Soutez!A:B,2,FALSE)","v":"SK"},{"$f":"VLOOKUP(F2632,Soutez!A:C,3,FALSE)","v":2025},3,2464,0.92500000000000004,8772,8114,null,null,"Ventus 3T 18m","IYB","Není v databázi"]
["Petr Krejcirik",{"$f":"VLOOKUP(A2633,Pilot,2,0)","v":1960},{"$f":"VLOOKUP(A2633,Pilot,5,0)","v":"M"},{"$f":"VLOOKUP(A2633,Pilot,3,0)","v":"Hranice"},{"$f":"VLOOKUP(A2633,Pilot,4,0)","v":"CZ/M"},"Pribina Cup 2025 - Kombi Open",{"$f":"VLOOKUP(F2633,Soutez!A:B,2,FALSE)","v":"SK"},{"$f":"VLOOKUP(F2633,Soutez!A:C,3,FALSE)","v":2025},4,2424,0.92500000000000004,8506,7868,null,null,"JS3 RES 18m","Q1",""]
["Viliam Kubovcik",null,null,"AK Poprad",null,"Pribina Cup 2025 - Kombi Open",{"$f":"VLOOKUP(F2634,Soutez!A:B,2,FALSE)","v":"SK"},{"$f":"VLOOKUP(F2634,Soutez!A:C,3,FALSE)","v":2025},5,2364,0.92500000000000004,8191,7577,null,null,"JS3 RES 18m","VV","Není v databázi"]
["Benoist & Triebel",null,null,null,null,"Pribina Cup 2025 - Kombi Open",{"$f":"VLOOKUP(F2635,Soutez!A:B,2,FALSE)","v":"SK"},{"$f":"VLOOKUP(F2635,Soutez!A:C,3,FALSE)","v":2025},6,2198,0.92500000000000004,7613,7042,null,null,"Arcus","SP","Není v databázi"]
["Michaela Rendlova",{"$f":"VLOOKUP(A2636,Pilot,2,0)","v":2004},{"$f":"VLOOKUP(A2636,Pilot,5,0)","v":"F"},{"$f":"VLOOKUP(A2636,Pilot,3,0)","v":"Toužim"},{"$f":"VLOOKUP(A2636,Pilot,4,0)","v":"CZ/C1"},"Pribina Cup 2025 - Kombi Open",{"$f":"VLOOKUP(F2636,Soutez!A:B,2,FALSE)","v":"SK"},{"$f":"VLOOKUP(F2636,Soutez!A:C,3,FALSE)","v":2025},7,2059,0.92500000000000004,7102,6569,null,null,"AS 33 Es 18m","EA","Junior v roce 2026"]
["Kornel Negro",null,null,"Alföldi Repülő és Vitorlás Klub SE",null,"Pribina Cup 2025 - Kombi Open",{"$f":"VLOOKUP(F2637,Soutez!A:B,2,FALSE)","v":"SK"},{"$f":"VLOOKUP(F2637,Soutez!A:C,3,FALSE)","v":2025},8,2047,0.92500000000000004,6906,6388,null,null,"AS 33 Es 18m","GPS","Není v databázi"]
["Jiri Kusbach",{"$f":"VLOOKUP(A2638,Pilot,2,0)","v":1959},{"$f":"VLOOKUP(A2638,Pilot,5,0)","v":"M"},{"$f":"VLOOKUP(A2638,Pilot,3,0)","v":"Luhačovice"},{"$f":"VLOOKUP(A2638,Pilot,4,0)","v":"CZ/M"},"Pribina Cup 2025 - Kombi Open",{"$f":"VLOOKUP(F2638,Soutez!A:B,2,FALSE)","v":"SK"},{"$f":"VLOOKUP(F2638,Soutez!A:C,3,FALSE)","v":2025},9,2044,0.92500000000000004,6731,6226,null,null,"Diana 3 FES","B",""]
["Thomas Hynek",null,null,"Flugschule ASKÖ Wien",null,"Pribina Cup 2025 - Kombi Open",{"$f":"VLOOKUP(F2639,Soutez!A:B,2,FALSE)","v":"SK"},{"$f":"VLOOKUP(F2639,Soutez!A:C,3,FALSE)","v":2025},10,1940,0.92500000000000004,6307,5834,null,null,"Ventus 2cM 18m","CC","Není v databázi"]
["Mathias Muench",null,null,"Alpenflugzentrum Unterwossen",null,"Pribina Cup 2025 - Kombi Open",{"$f":"VLOOKUP(F2640,Soutez!A:B,2,FALSE)","v":"SK"},{"$f":"VLOOKUP(F2640,Soutez!A:C,3,FALSE)","v":2025},11,1812,0.92500000000000004,5823,{"$f":"ROUND(K2640*L2640,0)","v":5386},null,null,"DG 800 B 18m","MU","Není v databázi"]
["Ferreira & Lubstorf",null,null,null,null,"Pribina Cup 2025 - Kombi Open",{"$f":"VLOOKUP(F2641,Soutez!A:B,2,FALSE)","v":"SK"},{"$f":"VLOOKUP(F2641,Soutez!A:C,3,FALSE)","v":2025},12,1732,0.92500000000000004,5458,5049,null,null,"ASG-32","OM","Není v databázi"]
["Pavel Jiranek",{"$f":"VLOOKUP(A2642,Pilot,2,0)","v":1993},{"$f":"VLOOKUP(A2642,Pilot,5,0)","v":"M"},{"$f":"VLOOKUP(A2642,Pilot,3,0)","v":"Toužim"},{"$f":"VLOOKUP(A2642,Pilot,4,0)","v":"CZ/C1"},"Pribina Cup 2025 - Kombi Open",{"$f":"VLOOKUP(F2642,Soutez!A:B,2,FALSE)","v":"SK"},{"$f":"VLOOKUP(F2642,Soutez!A:C,3,FALSE)","v":2025},13,1547,0.92500000000000004,4833,4471,null,null,"Ventus c 17.6m","CS",""]
["Reineke & Fecker",null,null,"FC Kamenz",null,"Pribina Cup 2025 - Kombi Open",{"$f":"VLOOKUP(F2643,Soutez!A:B,2,FALSE)","v":"SK"},{"$f":"VLOOKUP(F2643,Soutez!A:C,3,FALSE)","v":2025},14,1511,0.92500000000000004,4577,4234,null,null,"Arcus",7,"Není v databázi"]
["Rene Schönmann",null,null,"SGBF Segelfluggruppe Basel Fricktal",null,"Pribina Cup 2025 - Kombi Open",{"$f":"VLOOKUP(F2644,Soutez!A:B,2,FALSE)","v":"SK"},{"$f":"VLOOKUP(F2644,Soutez!A:C,3,FALSE)","v":2025},15,1266,0.92500000000000004,3804,3519,null,null,"JS1-C 21m","LI","Není v databázi"]
["Werner Danz",null,null,null,null,"Pribina Cup 2025 - Kombi Open",{"$f":"VLOOKUP(F2645,Soutez!A:B,2,FALSE)","v":"SK"},{"$f":"VLOOKUP(F2645,Soutez!A:C,3,FALSE)","v":2025},16,1137,0.92500000000000004,3317,3068,null,null,"Antares 18T","BT","Není v databázi"]
["Uros Krasovic",null,null,null,null,"Pribina Cup 2025 - Kombi Open",{"$f":"VLOOKUP(F2646,Soutez!A:B,2,FALSE)","v":"SK"},{"$f":"VLOOKUP(F2646,Soutez!A:C,3,FALSE)","v":2025},17,786,0.92500000000000004,2281,2110,null,null,"Ventus 3T 18m","EM","Není v databázi"]
["Kovalcik & Manka",null,null,null,null,"Pribina Cup 2025 - Kombi Open",{"$f":"VLOOKUP(F2647,Soutez!A:B,2,FALSE)","v":"SK"},{"$f":"VLOOKUP(F2647,Soutez!A:C,3,FALSE)","v":2025},18,548,0.92500000000000004,1525,1411,null,null,"Arcus","2P","Není v databázi"]
["Istvan Reti",null,null,null,null,"Pribina Cup 2025 - Kombi Open",{"$f":"VLOOKUP(F2648,Soutez!A:B,2,FALSE)","v":"SK"},{"$f":"VLOOKUP(F2648,Soutez!A:C,3,FALSE)","v":2025},19,317,0.92500000000000004,785,726,null,null,"ASG 29 18m","IR","Není v databázi"]
["Lars Van Breemen",null,null,"NLD",null,"JEGC 2025 - Klub",{"$f":"VLOOKUP(F2649,Soutez!A:B,2,FALSE)","v":"SK"},{"$f":"VLOOKUP(F2649,Soutez!A:C,3,FALSE)","v":2025},1,6646,1.0449999999999999,{"$f":"ROUND(J2649/MAX($J$2649:$J$2677)*10000*0.7+(MAX($I$2649:$I$2677)-I2649)/(MAX($I$2649:$I$2677)-1)*10000*0.3,0)","v":10000},{"$f":"ROUND(K2649*L2649,0)","v":10450},null,null,"LS 4b Neo (365,2)","S4","Není v databázi"]
["Jan Stastny",{"$f":"VLOOKUP(A2650,Pilot,2,0)","v":2003},{"$f":"VLOOKUP(A2650,Pilot,5,0)","v":"M"},{"$f":"VLOOKUP(A2650,Pilot,3,0)","v":"Medlánky"},{"$f":"VLOOKUP(A2650,Pilot,4,0)","v":"CZ/M"},"JEGC 2025 - Klub",{"$f":"VLOOKUP(F2650,Soutez!A:B,2,FALSE)","v":"SK"},{"$f":"VLOOKUP(F2650,Soutez!A:C,3,FALSE)","v":2025},2,6519,1.0449999999999999,9755,{"$f":"ROUND(K2650*L2650,0)","v":10194},"x",null,"ASW 20 (356,4)","NW","Junior v roce 2026"]
["Jens Kammerer",null,null,"GER",null,"JEGC 2025 - Klub",{"$f":"VLOOKUP(F2651,Soutez!A:B,2,FALSE)","v":"SK"},{"$f":"VLOOKUP(F2651,Soutez!A:C,3,FALSE)","v":2025},3,6496,1.0449999999999999,9620,10053,null,null,"DG 300 Neo (356,8)","PP","Není v databázi"]
["Michaela Krizova",{"$f":"VLOOKUP(A2652,Pilot,2,0)","v":2001},{"$f":"VLOOKUP(A2652,Pilot,5,0)","v":"F"},{"$f":"VLOOKUP(A2652,Pilot,3,0)","v":"Přibyslav"},{"$f":"VLOOKUP(A2652,Pilot,4,0)","v":"CZ/C2"},"JEGC 2025 - Klub",{"$f":"VLOOKUP(F2652,Soutez!A:B,2,FALSE)","v":"SK"},{"$f":"VLOOKUP(F2652,Soutez!A:C,3,FALSE)","v":2025},4,6440,1.0449999999999999,9450,9875,"x","x","ASW 20 (355,6)","A3","Junior v roce 2026"]
["Kim Toppari",null,null,"FIN",null,"JEGC 2025 - Klub",{"$f":"VLOOKUP(F2653,Soutez!A:B,2,FALSE)","v":"SK"},{"$f":"VLOOKUP(F2653,Soutez!A:C,3,FALSE)","v":2025},5,6420,1.0449999999999999,9318,9737,null,null,"LS 7 Neo (343)","KT","Není v databázi"]
["Vit Morkovsky",{"$f":"VLOOKUP(A2654,Pilot,2,0)","v":2000},{"$f":"VLOOKUP(A2654,Pilot,5,0)","v":"M"},{"$f":"VLOOKUP(A2654,Pilot,3,0)","v":"Polička"},{"$f":"VLOOKUP(A2654,Pilot,4,0)","v":"CZ/C2"},"JEGC 2025 - Klub",{"$f":"VLOOKUP(F2654,Soutez!A:B,2,FALSE)","v":"SK"},{"$f":"VLOOKUP(F2654,Soutez!A:C,3,FALSE)","v":2025},6,6286,1.0449999999999999,9065,9473,"x",null,"ASW 20 L (376,7)","CX",""]
["Nicolas Caudrelier",null,null,"FRA",null,"JEGC 2025 - Klub",{"$f":"VLOOKUP(F2655,Soutez!A:B,2,FALSE)","v":"SK"},{"$f":"VLOOKUP(F2655,Soutez!A:C,3,FALSE)","v":2025},7,6272,1.0449999999999999,8939,9341,null,null,"ASW 20 (353,2)","VL","Není v databázi"]
["Gaël Pischedda",null,null,"FRA",null,"JEGC 2025 - Klub",{"$f":"VLOOKUP(F2656,Soutez!A:B,2,FALSE)","v":"SK"},{"$f":"VLOOKUP(F2656,Soutez!A:C,3,FALSE)","v":2025},8,6131,1.0449999999999999,8680,9071,null,null,"LS 4 (332,6)","E10","Není v databázi"]
["Felix Kries",null,null,"GER",null,"JEGC 2025 - Klub",{"$f":"VLOOKUP(F2657,Soutez!A:B,2,FALSE)","v":"SK"},{"$f":"VLOOKUP(F2657,Soutez!A:C,3,FALSE)","v":2025},9,6130,1.0449999999999999,8568,8954,null,null,"LS 4 W (337,2)","V7","Není v databázi"]
["Geza Molnar",null,null,"HUN",null,"JEGC 2025 - Klub",{"$f":"VLOOKUP(F2658,Soutez!A:B,2,FALSE)","v":"SK"},{"$f":"VLOOKUP(F2658,Soutez!A:C,3,FALSE)","v":2025},10,5505,1.0449999999999999,7798,8149,null,null,"LS 3 (357,9)","7T","Není v databázi"]
["Julia Walowska",null,null,"POL",null,"JEGC 2025 - Klub",{"$f":"VLOOKUP(F2659,Soutez!A:B,2,FALSE)","v":"SK"},{"$f":"VLOOKUP(F2659,Soutez!A:C,3,FALSE)","v":2025},11,5443,1.0449999999999999,7622,7965,null,null,"LS 3 (378,4)","AN","Není v databázi"]
["Maximilian Goormann",null,null,"GER",null,"JEGC 2025 - Klub",{"$f":"VLOOKUP(F2660,Soutez!A:B,2,FALSE)","v":"SK"},{"$f":"VLOOKUP(F2660,Soutez!A:C,3,FALSE)","v":2025},12,5407,1.0449999999999999,7473,7809,null,null,"DG 300 Neo (347,6)","3N","Není v databázi"]
["Jasper Jansen",null,null,"NLD",null,"JEGC 2025 - Klub",{"$f":"VLOOKUP(F2661,Soutez!A:B,2,FALSE)","v":"SK"},{"$f":"VLOOKUP(F2661,Soutez!A:C,3,FALSE)","v":2025},13,5328,1.0449999999999999,7278,7606,null,null,"LS 4a (325,6)","AO","Není v databázi"]
["Nikolai Pontoppidan",null,null,"NOR",null,"JEGC 2025 - Klub",{"$f":"VLOOKUP(F2662,Soutez!A:B,2,FALSE)","v":"SK"},{"$f":"VLOOKUP(F2662,Soutez!A:C,3,FALSE)","v":2025},14,5255,1.0449999999999999,7090,7409,null,null,"LS 4 (334,2)","NP",{"$f":"IF(ISERROR(VLOOKUP(A2662,Pilot,6,0)),\"Není v databázi\",VLOOKUP(A2662,Pilot,6,0))","v":"Není v databázi"}]
["Andrea Paganin",null,null,"ITA",null,"JEGC 2025 - Klub",{"$f":"VLOOKUP(F2663,Soutez!A:B,2,FALSE)","v":"SK"},{"$f":"VLOOKUP(F2663,Soutez!A:C,3,FALSE)","v":2025},15,5193,1.0449999999999999,6914,7225,null,null,"ASW 24 W (342,8)","RB","Není v databázi"]
["Barna Hadi",null,null,"HUN",null,"JEGC 2025 - Klub",{"$f":"VLOOKUP(F2664,Soutez!A:B,2,FALSE)","v":"SK"},{"$f":"VLOOKUP(F2664,Soutez!A:C,3,FALSE)","v":2025},16,5162,1.0449999999999999,6770,7075,null,null,"ASW 20 WL(347,3)","RH","Není v databázi"]
["Matteo Merk",null,null,"CHE",null,"JEGC 2025 - Klub",{"$f":"VLOOKUP(F2665,Soutez!A:B,2,FALSE)","v":"SK"},{"$f":"VLOOKUP(F2665,Soutez!A:C,3,FALSE)","v":2025},17,5014,1.0449999999999999,6503,6796,null,null,"LS 4 (351,3)","WG","Není v databázi"]
["George Downing",null,null,"GBR",null,"JEGC 2025 - Klub",{"$f":"VLOOKUP(F2666,Soutez!A:B,2,FALSE)","v":"SK"},{"$f":"VLOOKUP(F2666,Soutez!A:C,3,FALSE)","v":2025},18,4928,1.0449999999999999,6302,6586,null,null,"ASW 20 L (363,4)",212,"Není v databázi"]
["Nicolas Douchet",null,null,"FRA",null,"JEGC 2025 - Klub",{"$f":"VLOOKUP(F2667,Soutez!A:B,2,FALSE)","v":"SK"},{"$f":"VLOOKUP(F2667,Soutez!A:C,3,FALSE)","v":2025},19,4905,1.0449999999999999,6166,{"$f":"ROUND(K2667*L2667,0)","v":6443},null,null,"LS 3 (352,2)","9B","Není v databázi"]
["Alessandro Bassalti",null,null,"ITA",null,"JEGC 2025 - Klub",{"$f":"VLOOKUP(F2668,Soutez!A:B,2,FALSE)","v":"SK"},{"$f":"VLOOKUP(F2668,Soutez!A:C,3,FALSE)","v":2025},20,4812,1.0449999999999999,5957,6225,null,null,"Discus b (365)","5I","Není v databázi"]
["Kengo Matsumoto",null,null,"JPL",null,"JEGC 2025 - Klub",{"$f":"VLOOKUP(F2669,Soutez!A:B,2,FALSE)","v":"SK"},{"$f":"VLOOKUP(F2669,Soutez!A:C,3,FALSE)","v":2025},"HC",4756,1.0449999999999999,0,0,null,null,"ASW 20 F (376,4)","X11","Není v databázi"]
["Jan Wojewoda",null,null,"POL",null,"JEGC 2025 - Klub",{"$f":"VLOOKUP(F2670,Soutez!A:B,2,FALSE)","v":"SK"},{"$f":"VLOOKUP(F2670,Soutez!A:C,3,FALSE)","v":2025},21,4743,1.0449999999999999,{"$f":"ROUND(J2670/MAX($J$2649:$J$2677)*10000*0.7+(MAX($I$2649:$I$2677)-I2670)/(MAX($I$2649:$I$2677)-1)*10000*0.3,0)","v":5773},6033,null,null,"ASW 20 F (373,8)","X56","Není v databázi"]
["Viktoria Divokova",null,null,"SVK",null,"JEGC 2025 - Klub",{"$f":"VLOOKUP(F2671,Soutez!A:B,2,FALSE)","v":"SK"},{"$f":"VLOOKUP(F2671,Soutez!A:C,3,FALSE)","v":2025},22,4697,1.0449999999999999,5614,5867,null,null,"Discus CS (337)","3D","Není v databázi"]
["Roland Veronyak",null,null,"HUN",null,"JEGC 2025 - Klub",{"$f":"VLOOKUP(F2672,Soutez!A:B,2,FALSE)","v":"SK"},{"$f":"VLOOKUP(F2672,Soutez!A:C,3,FALSE)","v":2025},23,4604,1.0449999999999999,5405,5648,null,null,"ASW 20 (356,8)","NY","Není v databázi"]
["Jules Mathay",null,null,"LUX",null,"JEGC 2025 - Klub",{"$f":"VLOOKUP(F2673,Soutez!A:B,2,FALSE)","v":"SK"},{"$f":"VLOOKUP(F2673,Soutez!A:C,3,FALSE)","v":2025},24,4434,1.0449999999999999,5115,{"$f":"ROUND(K2673*L2673,0)","v":5345},null,null,"LS 4b (356)","LS","Není v databázi"]
["Frida Bjoro",null,null,"NOR",null,"JEGC 2025 - Klub",{"$f":"VLOOKUP(F2674,Soutez!A:B,2,FALSE)","v":"SK"},{"$f":"VLOOKUP(F2674,Soutez!A:C,3,FALSE)","v":2025},25,4349,1.0449999999999999,4914,5135,null,null,"LS 4 (351,4)","FB","Není v databázi"]
["Antonio Rudolf Kalik",null,null,"SVK",null,"JEGC 2025 - Klub",{"$f":"VLOOKUP(F2675,Soutez!A:B,2,FALSE)","v":"SK"},{"$f":"VLOOKUP(F2675,Soutez!A:C,3,FALSE)","v":2025},26,3362,1.0449999999999999,3763,3932,null,null,"LS 3 (363,8)","AK","Není v databázi"]
["Manon Kuttel",null,null,"CHE",null,"JEGC 2025 - Klub",{"$f":"VLOOKUP(F2676,Soutez!A:B,2,FALSE)","v":"SK"},{"$f":"VLOOKUP(F2676,Soutez!A:C,3,FALSE)","v":2025},27,3346,1.0449999999999999,3635,3799,null,null,"Discus b (344,9)","LH","Není v databázi"]
["Michaela Soltysova",null,null,"SVK",null,"JEGC 2025 - Klub",{"$f":"VLOOKUP(F2677,Soutez!A:B,2,FALSE)","v":"SK"},{"$f":"VLOOKUP(F2677,Soutez!A:C,3,FALSE)","v":2025},28,2096,1.0449999999999999,2208,2307,null,null,"Cirrus std W (323,4)","LX","Není v databázi"]
["Lukas Kriz",{"$f":"VLOOKUP(A2678,Pilot,2,0)","v":2003},{"$f":"VLOOKUP(A2678,Pilot,5,0)","v":"M"},{"$f":"VLOOKUP(A2678,Pilot,3,0)","v":"Křižanov"},{"$f":"VLOOKUP(A2678,Pilot,4,0)","v":"CZ/M"},"JEGC 2025 - Std",{"$f":"VLOOKUP(F2678,Soutez!A:B,2,FALSE)","v":"SK"},{"$f":"VLOOKUP(F2678,Soutez!A:C,3,FALSE)","v":2025},1,6163,1.0449999999999999,{"$f":"ROUND(J2678/MAX($J$2678:$J$2696)*10000*0.7+(MAX($I$2678:$I$2696)-I2678)/(MAX($I$2678:$I$2696)-1)*10000*0.3,0)","v":10000},{"$f":"ROUND(K2678*L2678,0)","v":10450},"x",null,"LS 8","AU","Junior v roce 2026"]
["Clement de Pechy",null,null,"FRA",null,"JEGC 2025 - Std",{"$f":"VLOOKUP(F2679,Soutez!A:B,2,FALSE)","v":"SK"},{"$f":"VLOOKUP(F2679,Soutez!A:C,3,FALSE)","v":2025},2,5974,1.0449999999999999,9619,{"$f":"ROUND(K2679*L2679,0)","v":10052},null,null,"LS 8 Neo","2E","Není v databázi"]
["Theo Napoleon",null,null,"FRA",null,"JEGC 2025 - Std",{"$f":"VLOOKUP(F2680,Soutez!A:B,2,FALSE)","v":"SK"},{"$f":"VLOOKUP(F2680,Soutez!A:C,3,FALSE)","v":2025},3,5641,{"$f":"VLOOKUP(F2680,Soutez,12,0)","v":1.0449999999999999},9074,9482,null,null,"LS 8 Neo","S2","Není v databázi"]
["Paul Schwarz",null,null,"GER",null,"JEGC 2025 - Std",{"$f":"VLOOKUP(F2681,Soutez!A:B,2,FALSE)","v":"SK"},{"$f":"VLOOKUP(F2681,Soutez!A:C,3,FALSE)","v":2025},4,5498,1.0449999999999999,8745,9139,null,null,"LS 8 Neo","A8","Není v databázi"]
["Maciej Kowalski",null,null,"POL",null,"JEGC 2025 - Std",{"$f":"VLOOKUP(F2682,Soutez!A:B,2,FALSE)","v":"SK"},{"$f":"VLOOKUP(F2682,Soutez!A:C,3,FALSE)","v":2025},5,5491,1.0449999999999999,8570,8956,null,null,"Discus 2a","I","Není v databázi"]
["Lasse Edslev",null,null,"DEN",null,"JEGC 2025 - Std",{"$f":"VLOOKUP(F2683,Soutez!A:B,2,FALSE)","v":"SK"},{"$f":"VLOOKUP(F2683,Soutez!A:C,3,FALSE)","v":2025},6,5425,1.0449999999999999,8328,8703,null,null,"LS 8 Neo","LE","Není v databázi"]
["Nuno Ferreira",null,null,"GER",null,"JEGC 2025 - Std",{"$f":"VLOOKUP(F2684,Soutez!A:B,2,FALSE)","v":"SK"},{"$f":"VLOOKUP(F2684,Soutez!A:C,3,FALSE)","v":2025},7,5289,1.0449999999999999,8007,8367,null,null,"LS 8 neo","FJ","Není v databázi"]
["Tomas Hynek",{"$f":"VLOOKUP(A2685,Pilot,2,0)","v":2002},{"$f":"VLOOKUP(A2685,Pilot,5,0)","v":"M"},{"$f":"VLOOKUP(A2685,Pilot,3,0)","v":"Dvůr Králové"},{"$f":"VLOOKUP(A2685,Pilot,4,0)","v":"CZ/C2"},"JEGC 2025 - Std",{"$f":"VLOOKUP(F2685,Soutez!A:B,2,FALSE)","v":"SK"},{"$f":"VLOOKUP(F2685,Soutez!A:C,3,FALSE)","v":2025},8,5051,1.0449999999999999,7570,7911,null,null,"LS 8","EU","Junior v roce 2026"]
["Patrick Benoist",null,null,"GER",null,"JEGC 2025 - Std",{"$f":"VLOOKUP(F2686,Soutez!A:B,2,FALSE)","v":"SK"},{"$f":"VLOOKUP(F2686,Soutez!A:C,3,FALSE)","v":2025},9,4794,1.0449999999999999,7112,7432,null,null,"LS 8T Neo","PB","Není v databázi"]
["Antoni Zawirski",null,null,"POL",null,"JEGC 2025 - Std",{"$f":"VLOOKUP(F2687,Soutez!A:B,2,FALSE)","v":"SK"},{"$f":"VLOOKUP(F2687,Soutez!A:C,3,FALSE)","v":2025},10,4770,1.0449999999999999,6918,7229,null,null,"LS 8 Neo","LOT","Není v databázi"]
["Jacob Bøgelund Lassen",null,null,"DEN",null,"JEGC 2025 - Std",{"$f":"VLOOKUP(F2688,Soutez!A:B,2,FALSE)","v":"SK"},{"$f":"VLOOKUP(F2688,Soutez!A:C,3,FALSE)","v":2025},11,4737,1.0449999999999999,6714,7016,null,null,"Discus 2a W","MK","Není v databázi"]
["Oliver Ramsay",null,null,"GBR",null,"JEGC 2025 - Std",{"$f":"VLOOKUP(F2689,Soutez!A:B,2,FALSE)","v":"SK"},{"$f":"VLOOKUP(F2689,Soutez!A:C,3,FALSE)","v":2025},12,4481,1.0449999999999999,6256,6538,null,null,"LS 8",302,"Není v databázi"]
["François-Xavier Poisson",null,null,"FRA",null,"JEGC 2025 - Std",{"$f":"VLOOKUP(F2690,Soutez!A:B,2,FALSE)","v":"SK"},{"$f":"VLOOKUP(F2690,Soutez!A:C,3,FALSE)","v":2025},13,4446,1.0449999999999999,6050,6322,null,null,"Discus 2a W","ET","Není v databázi"]
["Michaela Rendlova",{"$f":"VLOOKUP(A2691,Pilot,2,0)","v":2004},{"$f":"VLOOKUP(A2691,Pilot,5,0)","v":"F"},{"$f":"VLOOKUP(A2691,Pilot,3,0)","v":"Toužim"},{"$f":"VLOOKUP(A2691,Pilot,4,0)","v":"CZ/C1"},"JEGC 2025 - Std",{"$f":"VLOOKUP(F2691,Soutez!A:B,2,FALSE)","v":"SK"},{"$f":"VLOOKUP(F2691,Soutez!A:C,3,FALSE)","v":2025},14,4245,1.0449999999999999,5655,{"$f":"ROUND(K2691*L2691,0)","v":5909},null,null,"LS 8","W8","Junior v roce 2026"]
["Noud Kaaij",null,null,"NLD",null,"JEGC 2025 - Std",{"$f":"VLOOKUP(F2692,Soutez!A:B,2,FALSE)","v":"SK"},{"$f":"VLOOKUP(F2692,Soutez!A:C,3,FALSE)","v":2025},15,4081,1.0449999999999999,5302,5541,null,null,"LS 8e neo",71,"Není v databázi"]
["Oscar Butlin",null,null,"GBR",null,"JEGC 2025 - Std",{"$f":"VLOOKUP(F2693,Soutez!A:B,2,FALSE)","v":"SK"},{"$f":"VLOOKUP(F2693,Soutez!A:C,3,FALSE)","v":2025},16,4024,1.0449999999999999,5071,5299,null,null,"LS 8","D7","Není v databázi"]
["Niels van Nieuwland",null,null,"NLD",null,"JEGC 2025 - Std",{"$f":"VLOOKUP(F2694,Soutez!A:B,2,FALSE)","v":"SK"},{"$f":"VLOOKUP(F2694,Soutez!A:C,3,FALSE)","v":2025},17,3565,1.0449999999999999,4382,4579,null,null,"LS 8 Neo","VNE","Není v databázi"]
["Mate Meszaros",null,null,"HUN",null,"JEGC 2025 - Std",{"$f":"VLOOKUP(F2695,Soutez!A:B,2,FALSE)","v":"SK"},{"$f":"VLOOKUP(F2695,Soutez!A:C,3,FALSE)","v":2025},18,2678,1.0449999999999999,3208,3352,null,null,"Discus 2a W","HUN","Není v databázi"]
["Tomasz Kurowski",null,null,"POL",null,"JEGC 2025 - Std",{"$f":"VLOOKUP(F2696,Soutez!A:B,2,FALSE)","v":"SK"},{"$f":"VLOOKUP(F2696,Soutez!A:C,3,FALSE)","v":2025},19,0,1.0449999999999999,0,0,null,null,"Discus 2a W","Y","Není v databázi"]
["Victor Mallick",null,null,null,null,"EGC 2025 - 18m",{"$f":"VLOOKUP(F2697,Soutez!A:B,2,FALSE)","v":"HU"},{"$f":"VLOOKUP(F2697,Soutez!A:C,3,FALSE)","v":2025},1,6736,1.125,{"$f":"ROUND(J2697/MAX($J$2697:$J$2731)*10000*0.7+(MAX($I$2697:$I$2731)-I2697)/(MAX($I$2697:$I$2731)-1)*10000*0.3,0)","v":10000},{"$f":"ROUND(K2697*L2697,0)","v":11250},null,null,"JS3","FM","Není v databázi"]
["Enguerrand Virol",null,null,null,null,"EGC 2025 - 18m",{"$f":"VLOOKUP(F2698,Soutez!A:B,2,FALSE)","v":"HU"},{"$f":"VLOOKUP(F2698,Soutez!A:C,3,FALSE)","v":2025},2,6670,1.125,9841,{"$f":"ROUND(K2698*L2698,0)","v":11071},null,null,"JS3","LB","Není v databázi"]
["Matthew Davis",null,null,null,null,"EGC 2025 - 18m",{"$f":"VLOOKUP(F2699,Soutez!A:B,2,FALSE)","v":"HU"},{"$f":"VLOOKUP(F2699,Soutez!A:C,3,FALSE)","v":2025},3,6634,1.125,9712,10926,null,null,"JS3",802,"Není v databázi"]
["Thies Bruins",null,null,null,null,"EGC 2025 - 18m",{"$f":"VLOOKUP(F2700,Soutez!A:B,2,FALSE)","v":"HU"},{"$f":"VLOOKUP(F2700,Soutez!A:C,3,FALSE)","v":2025},4,6514,1.125,9497,10684,null,null,"JS3","IV","Není v databázi"]
["Gary Stingemore",null,null,null,null,"EGC 2025 - 18m",{"$f":"VLOOKUP(F2701,Soutez!A:B,2,FALSE)","v":"HU"},{"$f":"VLOOKUP(F2701,Soutez!A:C,3,FALSE)","v":2025},5,6414,1.125,9302,10465,null,null,"AS33 ES",10,"Není v databázi"]
["Matthias Sturm",null,null,null,null,"EGC 2025 - 18m",{"$f":"VLOOKUP(F2702,Soutez!A:B,2,FALSE)","v":"HU"},{"$f":"VLOOKUP(F2702,Soutez!A:C,3,FALSE)","v":2025},6,6374,1.125,9169,10315,null,null,"JS3","M9","Není v databázi"]
["Arne J. Boye-Møller",null,null,null,null,"EGC 2025 - 18m",{"$f":"VLOOKUP(F2703,Soutez!A:B,2,FALSE)","v":"HU"},{"$f":"VLOOKUP(F2703,Soutez!A:C,3,FALSE)","v":2025},7,6372,1.125,9076,10211,null,null,"JS3","AB","Není v databázi"]
["Bert Schmelzer",null,null,null,null,"EGC 2025 - 18m",{"$f":"VLOOKUP(F2704,Soutez!A:B,2,FALSE)","v":"HU"},{"$f":"VLOOKUP(F2704,Soutez!A:C,3,FALSE)","v":2025},8,6340,1.125,8952,10071,null,null,"Ventus 3T",21,"Není v databázi"]
["Linas Miezlaiskis",null,null,null,null,"EGC 2025 - 18m",{"$f":"VLOOKUP(F2705,Soutez!A:B,2,FALSE)","v":"HU"},{"$f":"VLOOKUP(F2705,Soutez!A:C,3,FALSE)","v":2025},9,6283,1.125,8802,9902,null,null,"AS33","V","Není v databázi"]
["Gyorgy Gulyas",null,null,null,null,"EGC 2025 - 18m",{"$f":"VLOOKUP(F2706,Soutez!A:B,2,FALSE)","v":"HU"},{"$f":"VLOOKUP(F2706,Soutez!A:C,3,FALSE)","v":2025},10,6258,1.125,8685,9771,null,null,"JS3","HAB","Není v databázi"]
["Dennis Huybreckx",null,null,null,null,"EGC 2025 - 18m",{"$f":"VLOOKUP(F2707,Soutez!A:B,2,FALSE)","v":"HU"},{"$f":"VLOOKUP(F2707,Soutez!A:C,3,FALSE)","v":2025},11,6224,1.125,8559,9629,null,null,"Ventus 3TS","HX","Není v databázi"]
["Maros Divok",null,null,null,null,"EGC 2025 - 18m",{"$f":"VLOOKUP(F2708,Soutez!A:B,2,FALSE)","v":"HU"},{"$f":"VLOOKUP(F2708,Soutez!A:C,3,FALSE)","v":2025},12,6192,1.125,8435,9489,null,null,"AS33 ES","D","Není v databázi"]
["Radek Krejcirik",{"$f":"VLOOKUP(A2709,Pilot,2,0)","v":1991},{"$f":"VLOOKUP(A2709,Pilot,5,0)","v":"M"},{"$f":"VLOOKUP(A2709,Pilot,3,0)","v":"Hranice"},{"$f":"VLOOKUP(A2709,Pilot,4,0)","v":"CZ/M"},"EGC 2025 - 18m",{"$f":"VLOOKUP(F2709,Soutez!A:B,2,FALSE)","v":"HU"},{"$f":"VLOOKUP(F2709,Soutez!A:C,3,FALSE)","v":2025},13,6185,1.125,8336,9378,null,null,"JS3 JET","QX",""]
["Jurg Haas",null,null,null,null,"EGC 2025 - 18m",{"$f":"VLOOKUP(F2710,Soutez!A:B,2,FALSE)","v":"HU"},{"$f":"VLOOKUP(F2710,Soutez!A:C,3,FALSE)","v":2025},14,6144,1.125,8203,9228,null,null,"JS3","AS","Není v databázi"]
["Thomas Dantoft",null,null,null,null,"EGC 2025 - 18m",{"$f":"VLOOKUP(F2711,Soutez!A:B,2,FALSE)","v":"HU"},{"$f":"VLOOKUP(F2711,Soutez!A:C,3,FALSE)","v":2025},15,6138,1.125,8106,9119,null,null,"ASG 29E","BP","Není v databázi"]
["Roelof Corporaal",null,null,null,null,"EGC 2025 - 18m",{"$f":"VLOOKUP(F2712,Soutez!A:B,2,FALSE)","v":"HU"},{"$f":"VLOOKUP(F2712,Soutez!A:C,3,FALSE)","v":2025},16,6113,1.125,7989,8988,null,null,"JS3","MAX","Není v databázi"]
["Katrin Senne",null,null,null,null,"EGC 2025 - 18m",{"$f":"VLOOKUP(F2713,Soutez!A:B,2,FALSE)","v":"HU"},{"$f":"VLOOKUP(F2713,Soutez!A:C,3,FALSE)","v":2025},17,6024,1.125,7806,8782,null,null,"JS3 JET","UJ","Není v databázi"]
["Tomasz Rubaj",null,null,null,null,"EGC 2025 - 18m",{"$f":"VLOOKUP(F2714,Soutez!A:B,2,FALSE)","v":"HU"},{"$f":"VLOOKUP(F2714,Soutez!A:C,3,FALSE)","v":2025},18,5969,1.125,7657,{"$f":"ROUND(K2714*L2714,0)","v":8614},null,null,"AS33 ES","MB","Není v databázi"]
["Takeshi Maruyama",null,null,null,null,"EGC 2025 - 18m",{"$f":"VLOOKUP(F2715,Soutez!A:B,2,FALSE)","v":"HU"},{"$f":"VLOOKUP(F2715,Soutez!A:C,3,FALSE)","v":2025},"HC",5786,1.125,0,0,null,null,"JS3","AX","Není v databázi"]
["Boris Zorz",null,null,null,null,"EGC 2025 - 18m",{"$f":"VLOOKUP(F2716,Soutez!A:B,2,FALSE)","v":"HU"},{"$f":"VLOOKUP(F2716,Soutez!A:C,3,FALSE)","v":2025},19,5770,1.125,{"$f":"ROUND(J2716/MAX($J$2697:$J$2731)*10000*0.7+(MAX($I$2697:$I$2731)-I2716)/(MAX($I$2697:$I$2731)-1)*10000*0.3,0)","v":7360},8280,null,null,"JS3","BI","Není v databázi"]
["Markus Ganev",null,null,null,null,"EGC 2025 - 18m",{"$f":"VLOOKUP(F2717,Soutez!A:B,2,FALSE)","v":"HU"},{"$f":"VLOOKUP(F2717,Soutez!A:C,3,FALSE)","v":2025},20,5764,1.125,7263,8171,null,null,"Ventus 3TS","7X","Není v databázi"]
["Kornel Negro",null,null,null,null,"EGC 2025 - 18m",{"$f":"VLOOKUP(F2718,Soutez!A:B,2,FALSE)","v":"HU"},{"$f":"VLOOKUP(F2718,Soutez!A:C,3,FALSE)","v":2025},21,5718,1.125,7124,8015,null,null,"AS33 ES","GPS","Není v databázi"]
["Aku Jaakkola",null,null,null,null,"EGC 2025 - 18m",{"$f":"VLOOKUP(F2719,Soutez!A:B,2,FALSE)","v":"HU"},{"$f":"VLOOKUP(F2719,Soutez!A:C,3,FALSE)","v":2025},22,5705,1.125,7020,{"$f":"ROUND(K2719*L2719,0)","v":7898},null,null,"Ventus 3T","W","Není v databázi"]
["Werner Amann",null,null,null,null,"EGC 2025 - 18m",{"$f":"VLOOKUP(F2720,Soutez!A:B,2,FALSE)","v":"HU"},{"$f":"VLOOKUP(F2720,Soutez!A:C,3,FALSE)","v":2025},23,5687,1.125,6910,7774,null,null,"AS33","WG","Není v databázi"]
["Bernhard Leitner",null,null,null,null,"EGC 2025 - 18m",{"$f":"VLOOKUP(F2721,Soutez!A:B,2,FALSE)","v":"HU"},{"$f":"VLOOKUP(F2721,Soutez!A:C,3,FALSE)","v":2025},24,5606,1.125,6735,7577,null,null,"AS33 Es","BL","Není v databázi"]
["Teet Jagomägi",null,null,null,null,"EGC 2025 - 18m",{"$f":"VLOOKUP(F2722,Soutez!A:B,2,FALSE)","v":"HU"},{"$f":"VLOOKUP(F2722,Soutez!A:C,3,FALSE)","v":2025},25,5605,1.125,6643,7473,null,null,"JS1C",56,"Není v databázi"]
["Michael Reiner",null,null,null,null,"EGC 2025 - 18m",{"$f":"VLOOKUP(F2723,Soutez!A:B,2,FALSE)","v":"HU"},{"$f":"VLOOKUP(F2723,Soutez!A:C,3,FALSE)","v":2025},26,5516,1.125,6459,7266,null,null,"JS3 JET","FA","Není v databázi"]
["Luca Castelli",null,null,null,null,"EGC 2025 - 18m",{"$f":"VLOOKUP(F2724,Soutez!A:B,2,FALSE)","v":"HU"},{"$f":"VLOOKUP(F2724,Soutez!A:C,3,FALSE)","v":2025},27,5488,1.125,6339,7131,null,null,"JS1C","AR",{"$f":"IF(ISERROR(VLOOKUP(A2724,Pilot,6,0)),\"Není v databázi\",VLOOKUP(A2724,Pilot,6,0))","v":"Není v databázi"}]
["Jernej Lokovsek",null,null,null,null,"EGC 2025 - 18m",{"$f":"VLOOKUP(F2725,Soutez!A:B,2,FALSE)","v":"HU"},{"$f":"VLOOKUP(F2725,Soutez!A:C,3,FALSE)","v":2025},28,5185,1.125,5934,6676,null,null,"JS-MD3","NL","Není v databázi"]
["Ronny Eriksson",null,null,null,null,"EGC 2025 - 18m",{"$f":"VLOOKUP(F2726,Soutez!A:B,2,FALSE)","v":"HU"},{"$f":"VLOOKUP(F2726,Soutez!A:C,3,FALSE)","v":2025},29,4904,1.125,5551,6245,null,null,"JS3 RES","R","Není v databázi"]
["Vladimir Foltin",null,null,null,null,"EGC 2025 - 18m",{"$f":"VLOOKUP(F2727,Soutez!A:B,2,FALSE)","v":"HU"},{"$f":"VLOOKUP(F2727,Soutez!A:C,3,FALSE)","v":2025},30,4877,1.125,5432,6111,null,null,"JS3",3,"Není v databázi"]
["Jiri Kusbach",{"$f":"VLOOKUP(A2728,Pilot,2,0)","v":1959},{"$f":"VLOOKUP(A2728,Pilot,5,0)","v":"M"},{"$f":"VLOOKUP(A2728,Pilot,3,0)","v":"Luhačovice"},{"$f":"VLOOKUP(A2728,Pilot,4,0)","v":"CZ/M"},"EGC 2025 - 18m",{"$f":"VLOOKUP(F2728,Soutez!A:B,2,FALSE)","v":"HU"},{"$f":"VLOOKUP(F2728,Soutez!A:C,3,FALSE)","v":2025},31,4875,1.125,5339,6006,null,null,"Diana 3 FES","B",""]
["Oscar Marques",null,null,null,null,"EGC 2025 - 18m",{"$f":"VLOOKUP(F2729,Soutez!A:B,2,FALSE)","v":"HU"},{"$f":"VLOOKUP(F2729,Soutez!A:C,3,FALSE)","v":2025},32,4869,1.125,5242,5897,null,null,"Ventus 2cxT 18m","7L","Není v databázi"]
["Nuutti Kankare",null,null,null,null,"EGC 2025 - 18m",{"$f":"VLOOKUP(F2730,Soutez!A:B,2,FALSE)","v":"HU"},{"$f":"VLOOKUP(F2730,Soutez!A:C,3,FALSE)","v":2025},33,4834,1.125,5114,5753,null,null,"Ventus 3F","3F","Není v databázi"]
["Mauro Brunazzo",null,null,null,null,"EGC 2025 - 18m",{"$f":"VLOOKUP(F2731,Soutez!A:B,2,FALSE)","v":"HU"},{"$f":"VLOOKUP(F2731,Soutez!A:C,3,FALSE)","v":2025},34,3845,1.125,3996,4496,null,null,"AS33","MA","Není v databázi"]
["Felipe Levin",null,null,null,null,"EGC 2025 - Open",{"$f":"VLOOKUP(F2732,Soutez!A:B,2,FALSE)","v":"HU"},{"$f":"VLOOKUP(F2732,Soutez!A:C,3,FALSE)","v":2025},1,7011,1.08,{"$f":"ROUND(J2732/MAX($J$2732:$J$2744)*10000*0.7+(MAX($I$2732:$I$2744)-I2732)/(MAX($I$2732:$I$2744)-1)*10000*0.3,0)","v":10000},{"$f":"ROUND(K2732*L2732,0)","v":10800},null,null,"EB29R","FL","Není v databázi"]
["Markus Frank",null,null,null,null,"EGC 2025 - Open",{"$f":"VLOOKUP(F2733,Soutez!A:B,2,FALSE)","v":"HU"},{"$f":"VLOOKUP(F2733,Soutez!A:C,3,FALSE)","v":2025},2,6532,1.08,9272,{"$f":"ROUND(K2733*L2733,0)","v":10014},null,null,"EB29R","FE","Není v databázi"]
["Sylvain Gerbaud",null,null,null,null,"EGC 2025 - Open",{"$f":"VLOOKUP(F2734,Soutez!A:B,2,FALSE)","v":"HU"},{"$f":"VLOOKUP(F2734,Soutez!A:C,3,FALSE)","v":2025},3,6495,1.08,8985,9704,null,null,"EB29R",72,"Není v databázi"]
["Kevin Faur",null,null,null,null,"EGC 2025 - Open",{"$f":"VLOOKUP(F2735,Soutez!A:B,2,FALSE)","v":"HU"},{"$f":"VLOOKUP(F2735,Soutez!A:C,3,FALSE)","v":2025},4,6479,1.08,8719,9417,null,null,"JS5",5,"Není v databázi"]
["Oliver Binder",null,null,null,null,"EGC 2025 - Open",{"$f":"VLOOKUP(F2736,Soutez!A:B,2,FALSE)","v":"HU"},{"$f":"VLOOKUP(F2736,Soutez!A:C,3,FALSE)","v":2025},5,6256,1.08,8246,8906,null,null,"EB29R","OR","Není v databázi"]
["Tim Jenkinson",null,null,null,null,"EGC 2025 - Open",{"$f":"VLOOKUP(F2737,Soutez!A:B,2,FALSE)","v":"HU"},{"$f":"VLOOKUP(F2737,Soutez!A:C,3,FALSE)","v":2025},6,6121,1.08,7861,8490,null,null,"JS1C","TJ","Není v databázi"]
["Andy Davis",null,null,null,null,"EGC 2025 - Open",{"$f":"VLOOKUP(F2738,Soutez!A:B,2,FALSE)","v":"HU"},{"$f":"VLOOKUP(F2738,Soutez!A:C,3,FALSE)","v":2025},7,5991,1.08,7482,8081,null,null,"JS1C",80,"Není v databázi"]
["Bas Seijffert",null,null,null,null,"EGC 2025 - Open",{"$f":"VLOOKUP(F2739,Soutez!A:B,2,FALSE)","v":"HU"},{"$f":"VLOOKUP(F2739,Soutez!A:C,3,FALSE)","v":2025},8,5701,1.08,6942,7497,null,null,"JS1C","BJ","Není v databázi"]
["Bence Bodis",null,null,null,null,"EGC 2025 - Open",{"$f":"VLOOKUP(F2740,Soutez!A:B,2,FALSE)","v":"HU"},{"$f":"VLOOKUP(F2740,Soutez!A:C,3,FALSE)","v":2025},9,5664,1.08,6655,{"$f":"ROUND(K2740*L2740,0)","v":7187},null,null,"EB29D","FU","Není v databázi"]
["Petr Krejcirik",{"$f":"VLOOKUP(A2741,Pilot,2,0)","v":1960},{"$f":"VLOOKUP(A2741,Pilot,5,0)","v":"M"},{"$f":"VLOOKUP(A2741,Pilot,3,0)","v":"Hranice"},{"$f":"VLOOKUP(A2741,Pilot,4,0)","v":"CZ/M"},"EGC 2025 - Open",{"$f":"VLOOKUP(F2741,Soutez!A:B,2,FALSE)","v":"HU"},{"$f":"VLOOKUP(F2741,Soutez!A:C,3,FALSE)","v":2025},10,5402,1.08,6144,6636,null,null,"JS1C 21m","JX",""]
["Radek Kucirek",1973,"M","Havlíčkův Brod","CZ/C2","EGC 2025 - Open",{"$f":"VLOOKUP(F2742,Soutez!A:B,2,FALSE)","v":"HU"},{"$f":"VLOOKUP(F2742,Soutez!A:C,3,FALSE)","v":2025},11,5362,{"$f":"VLOOKUP(F2742,Soutez,12,0)","v":1.08},5854,6322,null,null,"JS1C","ZF",""]
["Peter Szabo",null,null,null,null,"EGC 2025 - Open",{"$f":"VLOOKUP(F2743,Soutez!A:B,2,FALSE)","v":"HU"},{"$f":"VLOOKUP(F2743,Soutez!A:C,3,FALSE)","v":2025},12,5238,1.08,5480,5918,null,null,"JS5","BX","Není v databázi"]
["Yves Gerster",null,null,null,null,"EGC 2025 - Open",{"$f":"VLOOKUP(F2744,Soutez!A:B,2,FALSE)","v":"HU"},{"$f":"VLOOKUP(F2744,Soutez!A:C,3,FALSE)","v":2025},13,5165,1.08,5157,5570,null,null,"JS3 18m","MK","Není v databázi"]
["Kawa & Matkowski",null,null,null,null,"EGC 2025 - Duo 20m",{"$f":"VLOOKUP(F2745,Soutez!A:B,2,FALSE)","v":"HU"},{"$f":"VLOOKUP(F2745,Soutez!A:C,3,FALSE)","v":2025},1,7058,1.08,{"$f":"ROUND(J2745/MAX($J$2745:$J$2767)*10000*0.7+(MAX($I$2745:$I$2767)-I2745)/(MAX($I$2745:$I$2767)-1)*10000*0.3,0)","v":10000},{"$f":"ROUND(K2745*L2745,0)","v":10800},null,null,"ASG32MI","PLL","Není v databázi"]
["Janowitsch & Lutz",null,null,null,null,"EGC 2025 - Duo 20m",{"$f":"VLOOKUP(F2746,Soutez!A:B,2,FALSE)","v":"HU"},{"$f":"VLOOKUP(F2746,Soutez!A:C,3,FALSE)","v":2025},2,6946,1.08,9753,{"$f":"ROUND(K2746*L2746,0)","v":10533},null,null,"Arcus M","WT","Není v databázi"]
["Biela & Czeladzki",null,null,null,null,"EGC 2025 - Duo 20m",{"$f":"VLOOKUP(F2747,Soutez!A:B,2,FALSE)","v":"HU"},{"$f":"VLOOKUP(F2747,Soutez!A:C,3,FALSE)","v":2025},3,6911,1.08,9581,10347,null,null,"Arcus T","PPL","Není v databázi"]
["Hartmann & Starkl",null,null,null,null,"EGC 2025 - Duo 20m",{"$f":"VLOOKUP(F2748,Soutez!A:B,2,FALSE)","v":"HU"},{"$f":"VLOOKUP(F2748,Soutez!A:C,3,FALSE)","v":2025},4,6872,1.08,9406,10158,null,null,"Arcus M",13,"Není v databázi"]
["Jones & Coppin",null,null,null,null,"EGC 2025 - Duo 20m",{"$f":"VLOOKUP(F2749,Soutez!A:B,2,FALSE)","v":"HU"},{"$f":"VLOOKUP(F2749,Soutez!A:C,3,FALSE)","v":2025},5,6769,1.08,9168,9901,null,null,"Arcus M","I10","Není v databázi"]
["de Pechy & Peronnet",null,null,null,null,"EGC 2025 - Duo 20m",{"$f":"VLOOKUP(F2750,Soutez!A:B,2,FALSE)","v":"HU"},{"$f":"VLOOKUP(F2750,Soutez!A:C,3,FALSE)","v":2025},6,6732,1.08,8995,9715,null,null,"Arcus T","MG","Není v databázi"]
["Harvey & Pentecost",null,null,null,null,"EGC 2025 - Duo 20m",{"$f":"VLOOKUP(F2751,Soutez!A:B,2,FALSE)","v":"HU"},{"$f":"VLOOKUP(F2751,Soutez!A:C,3,FALSE)","v":2025},7,6671,1.08,8798,9502,null,null,"Arcus M","N10","Není v databázi"]
["Kassai & Meszaros",null,null,null,null,"EGC 2025 - Duo 20m",{"$f":"VLOOKUP(F2752,Soutez!A:B,2,FALSE)","v":"HU"},{"$f":"VLOOKUP(F2752,Soutez!A:C,3,FALSE)","v":2025},8,6557,1.08,8549,9233,null,null,"Arcus T","HUX","Není v databázi"]
["Kettunen & Sorri",null,null,null,null,"EGC 2025 - Duo 20m",{"$f":"VLOOKUP(F2753,Soutez!A:B,2,FALSE)","v":"HU"},{"$f":"VLOOKUP(F2753,Soutez!A:C,3,FALSE)","v":2025},9,6505,1.08,8361,9030,null,null,"Arcus M","AM","Není v databázi"]
["Hillebrand & Meyer",null,null,null,null,"EGC 2025 - Duo 20m",{"$f":"VLOOKUP(F2754,Soutez!A:B,2,FALSE)","v":"HU"},{"$f":"VLOOKUP(F2754,Soutez!A:C,3,FALSE)","v":2025},10,6483,1.08,8202,8858,null,null,"Arcus M","XP","Není v databázi"]
["Akkermans & Gernaey",null,null,null,null,"EGC 2025 - Duo 20m",{"$f":"VLOOKUP(F2755,Soutez!A:B,2,FALSE)","v":"HU"},{"$f":"VLOOKUP(F2755,Soutez!A:C,3,FALSE)","v":2025},11,6465,1.08,8048,8692,null,null,"Arcus M","J","Není v databázi"]
["Bielen & Snyers",null,null,null,null,"EGC 2025 - Duo 20m",{"$f":"VLOOKUP(F2756,Soutez!A:B,2,FALSE)","v":"HU"},{"$f":"VLOOKUP(F2756,Soutez!A:C,3,FALSE)","v":2025},12,6404,1.08,7851,8479,null,null,"Arcus T","CR","Není v databázi"]
["Svobodny & Doriat",null,null,null,null,"EGC 2025 - Duo 20m",{"$f":"VLOOKUP(F2757,Soutez!A:B,2,FALSE)","v":"HU"},{"$f":"VLOOKUP(F2757,Soutez!A:C,3,FALSE)","v":2025},13,6395,1.08,7706,{"$f":"ROUND(K2757*L2757,0)","v":8322},null,null,"Arcus M","4A","Není v databázi"]
["Prodorutti & Montemaggi",null,null,null,null,"EGC 2025 - Duo 20m",{"$f":"VLOOKUP(F2758,Soutez!A:B,2,FALSE)","v":"HU"},{"$f":"VLOOKUP(F2758,Soutez!A:C,3,FALSE)","v":2025},14,6390,1.08,7565,8170,null,null,"Arcus M","SY","Není v databázi"]
["Costa & Etalle",null,null,null,null,"EGC 2025 - Duo 20m",{"$f":"VLOOKUP(F2759,Soutez!A:B,2,FALSE)","v":"HU"},{"$f":"VLOOKUP(F2759,Soutez!A:C,3,FALSE)","v":2025},15,6255,1.08,7295,7879,null,null,"Arcus T","BY","Není v databázi"]
["Michal Lesinger",{"$f":"VLOOKUP(A2760,Pilot,2,0)","v":1966},{"$f":"VLOOKUP(A2760,Pilot,5,0)","v":"M"},{"$f":"VLOOKUP(A2760,Pilot,3,0)","v":"Moravská Třebová"},{"$f":"VLOOKUP(A2760,Pilot,4,0)","v":"CZ/M"},"EGC 2025 - Duo 20m",{"$f":"VLOOKUP(F2760,Soutez!A:B,2,FALSE)","v":"HU"},{"$f":"VLOOKUP(F2760,Soutez!A:C,3,FALSE)","v":2025},16,6180,1.08,7084,7651,null,null,"ASG 32Mi","DX",""]
["Cronjaeger & Halter",null,null,null,null,"EGC 2025 - Duo 20m",{"$f":"VLOOKUP(F2761,Soutez!A:B,2,FALSE)","v":"HU"},{"$f":"VLOOKUP(F2761,Soutez!A:C,3,FALSE)","v":2025},17,6128,1.08,6896,7448,null,null,"Arcus T","KA","Není v databázi"]
["Sibanc & Travner",null,null,null,null,"EGC 2025 - Duo 20m",{"$f":"VLOOKUP(F2762,Soutez!A:B,2,FALSE)","v":"HU"},{"$f":"VLOOKUP(F2762,Soutez!A:C,3,FALSE)","v":2025},18,5841,1.08,6475,6993,null,null,"Arcus M","ET","Není v databázi"]
["Weber & Tóth",null,null,null,null,"EGC 2025 - Duo 20m",{"$f":"VLOOKUP(F2763,Soutez!A:B,2,FALSE)","v":"HU"},{"$f":"VLOOKUP(F2763,Soutez!A:C,3,FALSE)","v":2025},19,5755,1.08,6253,6753,null,null,"Twin Shark","TS","Není v databázi"]
["Ivan Novak",{"$f":"VLOOKUP(A2764,Pilot,2,0)","v":1962},{"$f":"VLOOKUP(A2764,Pilot,5,0)","v":"M"},{"$f":"VLOOKUP(A2764,Pilot,3,0)","v":"Mladá Boleslav"},{"$f":"VLOOKUP(A2764,Pilot,4,0)","v":"CZ/C1"},"EGC 2025 - Duo 20m",{"$f":"VLOOKUP(F2764,Soutez!A:B,2,FALSE)","v":"HU"},{"$f":"VLOOKUP(F2764,Soutez!A:C,3,FALSE)","v":2025},20,5620,1.08,5983,6462,null,null,"Arcus M","LD",""]
["Znidarsic & Lokovsek",null,null,null,null,"EGC 2025 - Duo 20m",{"$f":"VLOOKUP(F2765,Soutez!A:B,2,FALSE)","v":"HU"},{"$f":"VLOOKUP(F2765,Soutez!A:C,3,FALSE)","v":2025},21,5606,1.08,5833,6300,null,null,"Twin Shark FES","ES","Není v databázi"]
["Jakubcak & Sulirova",null,null,null,null,"EGC 2025 - Duo 20m",{"$f":"VLOOKUP(F2766,Soutez!A:B,2,FALSE)","v":"HU"},{"$f":"VLOOKUP(F2766,Soutez!A:C,3,FALSE)","v":2025},22,5413,1.08,5505,5945,null,null,"Arcus M","CAR","Není v databázi"]
["Kovalcik & Schuller",null,null,null,null,"EGC 2025 - Duo 20m",{"$f":"VLOOKUP(F2767,Soutez!A:B,2,FALSE)","v":"HU"},{"$f":"VLOOKUP(F2767,Soutez!A:C,3,FALSE)","v":2025},23,5107,1.08,5065,5470,null,null,"Arcus M","2P","Není v databázi"]
["Roman Jokl",{"$f":"VLOOKUP(A2768,Pilot,2,0)","v":1979},{"$f":"VLOOKUP(A2768,Pilot,5,0)","v":"M"},{"$f":"VLOOKUP(A2768,Pilot,3,0)","v":"Letkov"},{"$f":"VLOOKUP(A2768,Pilot,4,0)","v":"CZ/C1"},"Podbrdský pohár 2025 - Klub",{"$f":"VLOOKUP(F2768,Soutez!A:B,2,FALSE)","v":"CZ"},{"$f":"VLOOKUP(F2768,Soutez!A:C,3,FALSE)","v":2025},1,3642,0.755,{"$f":"ROUND(J2768/MAX($J$2768:$J$2780)*10000*0.7+(MAX($I$2768:$I$2780)-I2768)/(MAX($I$2768:$I$2780)-1)*10000*0.3,0)","v":10000},{"$f":"ROUND(K2768*L2768,0)","v":7550},null,null,"ASW-19B WL","JL",""]
["Milos Matejka",1956,"M","Beroun","CZ/C1","Podbrdský pohár 2025 - Klub",{"$f":"VLOOKUP(F2769,Soutez!A:B,2,FALSE)","v":"CZ"},{"$f":"VLOOKUP(F2769,Soutez!A:C,3,FALSE)","v":2025},2,3552,0.755,9577,{"$f":"ROUND(K2769*L2769,0)","v":7231},"x",null,"Discus b +W","SH",""]
["Daniel Dvorak",{"$f":"VLOOKUP(A2770,Pilot,2,0)","v":1980},{"$f":"VLOOKUP(A2770,Pilot,5,0)","v":"M"},{"$f":"VLOOKUP(A2770,Pilot,3,0)","v":"Letkov"},{"$f":"VLOOKUP(A2770,Pilot,4,0)","v":"CZ/C1"},"Podbrdský pohár 2025 - Klub",{"$f":"VLOOKUP(F2770,Soutez!A:B,2,FALSE)","v":"CZ"},{"$f":"VLOOKUP(F2770,Soutez!A:C,3,FALSE)","v":2025},3,3345,0.755,8929,6741,"x",null,"Std. Cirrus","LD",""]
["Dalibor Daricek",1993,"M","Kunovice","CZ/M","Podbrdský pohár 2025 - Klub",{"$f":"VLOOKUP(F2771,Soutez!A:B,2,FALSE)","v":"CZ"},{"$f":"VLOOKUP(F2771,Soutez!A:C,3,FALSE)","v":2025},4,3192,0.755,8385,6331,"x",null,"H-301,b Libelle","6X",""]
["Robin Stichenwirth",1984,"M","Letkov","CZ/C1","Podbrdský pohár 2025 - Klub",{"$f":"VLOOKUP(F2772,Soutez!A:B,2,FALSE)","v":"CZ"},{"$f":"VLOOKUP(F2772,Soutez!A:C,3,FALSE)","v":2025},5,3022,0.755,7808,5895,"x",null,"LS 1c","R",""]
["Markus Zingerle",null,null,"Innsbrucker Segelflieger Vereinigung",null,"Podbrdský pohár 2025 - Klub",{"$f":"VLOOKUP(F2773,Soutez!A:B,2,FALSE)","v":"CZ"},{"$f":"VLOOKUP(F2773,Soutez!A:C,3,FALSE)","v":2025},6,2798,0.755,7128,5382,null,null,"H-301,b Libelle",80,"Není v databázi"]
["Jan Manhal",{"$f":"VLOOKUP(A2774,Pilot,2,0)","v":1990},{"$f":"VLOOKUP(A2774,Pilot,5,0)","v":"M"},{"$f":"VLOOKUP(A2774,Pilot,3,0)","v":"Letkov"},{"$f":"VLOOKUP(A2774,Pilot,4,0)","v":"CZ/C1"},"Podbrdský pohár 2025 - Klub",{"$f":"VLOOKUP(F2774,Soutez!A:B,2,FALSE)","v":"CZ"},{"$f":"VLOOKUP(F2774,Soutez!A:C,3,FALSE)","v":2025},7,2492,0.755,6290,4749,"x",null,"LS 1c","IL2",""]
["Tomas Wodeckij",{"$f":"VLOOKUP(A2775,Pilot,2,0)","v":1987},{"$f":"VLOOKUP(A2775,Pilot,5,0)","v":"M"},{"$f":"VLOOKUP(A2775,Pilot,3,0)","v":"Letkov"},{"$f":"VLOOKUP(A2775,Pilot,4,0)","v":"CZ/C1"},"Podbrdský pohár 2025 - Klub",{"$f":"VLOOKUP(F2775,Soutez!A:B,2,FALSE)","v":"CZ"},{"$f":"VLOOKUP(F2775,Soutez!A:C,3,FALSE)","v":2025},8,2405,0.755,5872,4433,"x",null,"ASW-15B","LA",""]
["Jaroslav Simek",{"$f":"VLOOKUP(A2776,Pilot,2,0)","v":1968},{"$f":"VLOOKUP(A2776,Pilot,5,0)","v":"M"},{"$f":"VLOOKUP(A2776,Pilot,3,0)","v":"Letkov"},{"$f":"VLOOKUP(A2776,Pilot,4,0)","v":"CZ/C1"},"Podbrdský pohár 2025 - Klub",{"$f":"VLOOKUP(F2776,Soutez!A:B,2,FALSE)","v":"CZ"},{"$f":"VLOOKUP(F2776,Soutez!A:C,3,FALSE)","v":2025},9,2221,0.755,5269,3978,"x",null,"Std. Cirrus","LE",""]
["Antonin Klika",1964,"M","Beroun","CZ/C1","Podbrdský pohár 2025 - Klub",{"$f":"VLOOKUP(F2777,Soutez!A:B,2,FALSE)","v":"CZ"},{"$f":"VLOOKUP(F2777,Soutez!A:C,3,FALSE)","v":2025},10,1697,0.755,4012,{"$f":"ROUND(K2777*L2777,0)","v":3029},"x",null,"ASW-15B","LT2",""]
["Petr Weinhauer",1977,"M","Tábor","CZ/C1","Podbrdský pohár 2025 - Klub",{"$f":"VLOOKUP(F2778,Soutez!A:B,2,FALSE)","v":"CZ"},{"$f":"VLOOKUP(F2778,Soutez!A:C,3,FALSE)","v":2025},11,1611,0.755,3596,2715,"x",null,"Std. Cirrus","W",""]
["Jaroslav Dvorak",1980,"M","Letkov","CZ/C1","Podbrdský pohár 2025 - Klub",{"$f":"VLOOKUP(F2779,Soutez!A:B,2,FALSE)","v":"CZ"},{"$f":"VLOOKUP(F2779,Soutez!A:C,3,FALSE)","v":2025},12,1401,0.755,2943,2222,"x",null,"Std. Cirrus","AL",""]
["Lubos Stiburek",{"$f":"VLOOKUP(A2780,Pilot,2,0)","v":1954},{"$f":"VLOOKUP(A2780,Pilot,5,0)","v":"M"},{"$f":"VLOOKUP(A2780,Pilot,3,0)","v":"Letkov"},{"$f":"VLOOKUP(A2780,Pilot,4,0)","v":"CZ/C1"},"Podbrdský pohár 2025 - Klub",{"$f":"VLOOKUP(F2780,Soutez!A:B,2,FALSE)","v":"CZ"},{"$f":"VLOOKUP(F2780,Soutez!A:C,3,FALSE)","v":2025},13,349,0.755,671,507,"x",null,"Std. Cirrus","8J",""]
["Jakub Hlavacek",{"$f":"VLOOKUP(A2781,Pilot,2,0)","v":1991},{"$f":"VLOOKUP(A2781,Pilot,5,0)","v":"M"},{"$f":"VLOOKUP(A2781,Pilot,3,0)","v":"Letkov"},{"$f":"VLOOKUP(A2781,Pilot,4,0)","v":"CZ/C1"},"Podbrdský pohár 2025 - Kombi",{"$f":"VLOOKUP(F2781,Soutez!A:B,2,FALSE)","v":"CZ"},{"$f":"VLOOKUP(F2781,Soutez!A:C,3,FALSE)","v":2025},1,4327,0.76,{"$f":"ROUND(J2781/MAX($J$2781:$J$2796)*10000*0.7+(MAX($I$2781:$I$2796)-I2781)/(MAX($I$2781:$I$2796)-1)*10000*0.3,0)","v":10000},{"$f":"ROUND(K2781*L2781,0)","v":7600},"x",null,"DuoDiscus,T 700 kg (voda)","DL",""]
["Jan Muknsnabl",1992,"M","Letkov","CZ/C1","Podbrdský pohár 2025 - Kombi",{"$f":"VLOOKUP(F2782,Soutez!A:B,2,FALSE)","v":"CZ"},{"$f":"VLOOKUP(F2782,Soutez!A:C,3,FALSE)","v":2025},2,4173,0.76,9551,{"$f":"ROUND(K2782*L2782,0)","v":7259},"x",null,"Nimbus 2, 2b,2M (voda)","NB",""]
["Michal Cupak",1991,"M","Medlánky","CZ/M","Podbrdský pohár 2025 - Kombi",{"$f":"VLOOKUP(F2783,Soutez!A:B,2,FALSE)","v":"CZ"},{"$f":"VLOOKUP(F2783,Soutez!A:C,3,FALSE)","v":2025},3,4061,0.76,9170,6969,"x",null,"DuoDiscus X,XT,T WL 750 kg (voda)","MD",""]
["Petr Bartak",{"$f":"VLOOKUP(A2784,Pilot,2,0)","v":1984},{"$f":"VLOOKUP(A2784,Pilot,5,0)","v":"M"},{"$f":"VLOOKUP(A2784,Pilot,3,0)","v":"Letkov"},{"$f":"VLOOKUP(A2784,Pilot,4,0)","v":"CZ/C1"},"Podbrdský pohár 2025 - Kombi",{"$f":"VLOOKUP(F2784,Soutez!A:B,2,FALSE)","v":"CZ"},{"$f":"VLOOKUP(F2784,Soutez!A:C,3,FALSE)","v":2025},4,4018,0.76,8900,6764,null,null,"JS-3, TJ 18m (voda)","BS",""]
["Vratislav Sram",1966,"M","Broumov","CZ/C2","Podbrdský pohár 2025 - Kombi",{"$f":"VLOOKUP(F2785,Soutez!A:B,2,FALSE)","v":"CZ"},{"$f":"VLOOKUP(F2785,Soutez!A:C,3,FALSE)","v":2025},5,3879,0.76,8475,6441,null,null,"Nimbus 4DM (voda)",7,""]
["Petr Jedlicka",1987,"M","Medlánky","CZ/M","Podbrdský pohár 2025 - Kombi",{"$f":"VLOOKUP(F2786,Soutez!A:B,2,FALSE)","v":"CZ"},{"$f":"VLOOKUP(F2786,Soutez!A:C,3,FALSE)","v":2025},6,3537,0.76,7722,5869,"x",null,"Ventus c 17,6m (voda)","PD",{"$f":"IF(ISERROR(VLOOKUP(A2786,Pilot,6,0)),\"Není v databázi\",VLOOKUP(A2786,Pilot,6,0))","v":""}]
["Martin Picka",1974,"M","Tábor","CZ/C1","Podbrdský pohár 2025 - Kombi",{"$f":"VLOOKUP(F2787,Soutez!A:B,2,FALSE)","v":"CZ"},{"$f":"VLOOKUP(F2787,Soutez!A:C,3,FALSE)","v":2025},7,3416,0.76,7326,5568,"x",null,"JS-3, TJ 18m (voda)","NS",""]
["Matej Plch",1987,"M","Letkov","CZ/C1","Podbrdský pohár 2025 - Kombi",{"$f":"VLOOKUP(F2788,Soutez!A:B,2,FALSE)","v":"CZ"},{"$f":"VLOOKUP(F2788,Soutez!A:C,3,FALSE)","v":2025},8,3308,0.76,6952,5284,"x",null,"LS 8b,t,18 18m (voda)","EJ",""]
["Petr Jiranek 63",1962,"M","Toužim","CZ/C1","Podbrdský pohár 2025 - Kombi",{"$f":"VLOOKUP(F2789,Soutez!A:B,2,FALSE)","v":"CZ"},{"$f":"VLOOKUP(F2789,Soutez!A:C,3,FALSE)","v":2025},9,2946,0.76,6166,4686,"x",null,"HPH 304M 600kg 18m (voda)","LK",""]
["Olga Mokosova",{"$f":"VLOOKUP(A2790,Pilot,2,0)","v":1970},{"$f":"VLOOKUP(A2790,Pilot,5,0)","v":"F"},{"$f":"VLOOKUP(A2790,Pilot,3,0)","v":"Jihlava"},{"$f":"VLOOKUP(A2790,Pilot,4,0)","v":"CZ/M"},"Podbrdský pohár 2025 - Kombi",{"$f":"VLOOKUP(F2790,Soutez!A:B,2,FALSE)","v":"CZ"},{"$f":"VLOOKUP(F2790,Soutez!A:C,3,FALSE)","v":2025},10,2699,0.76,5566,{"$f":"ROUND(K2790*L2790,0)","v":4230},null,null,"LS 6-18","MM",""]
["Michal Drab",1969,"M","Letkov","CZ/C1","Podbrdský pohár 2025 - Kombi",{"$f":"VLOOKUP(F2791,Soutez!A:B,2,FALSE)","v":"CZ"},{"$f":"VLOOKUP(F2791,Soutez!A:C,3,FALSE)","v":2025},11,2594,0.76,5196,3949,null,null,"DG400/17m (voda)","DM",""]
["Lubomir Svoboda",1959,"M","Letkov","CZ/C1","Podbrdský pohár 2025 - Kombi",{"$f":"VLOOKUP(F2792,Soutez!A:B,2,FALSE)","v":"CZ"},{"$f":"VLOOKUP(F2792,Soutez!A:C,3,FALSE)","v":2025},12,2189,0.76,4341,3299,"x",null,"LAK-19 T 18m vf","LT",""]
["Lubos Muknsnabl",1995,"M","Letkov","CZ/C1","Podbrdský pohár 2025 - Kombi",{"$f":"VLOOKUP(F2793,Soutez!A:B,2,FALSE)","v":"CZ"},{"$f":"VLOOKUP(F2793,Soutez!A:C,3,FALSE)","v":2025},13,1948,0.76,3751,2851,"x",null,"Nimbus 2, 2b,2M (voda)","LCN",""]
["Petr Sindelar 80",{"$f":"VLOOKUP(A2794,Pilot,2,0)","v":1980},{"$f":"VLOOKUP(A2794,Pilot,5,0)","v":"M"},{"$f":"VLOOKUP(A2794,Pilot,3,0)","v":"Letkov"},{"$f":"VLOOKUP(A2794,Pilot,4,0)","v":"CZ/C1"},"Podbrdský pohár 2025 - Kombi",{"$f":"VLOOKUP(F2794,Soutez!A:B,2,FALSE)","v":"CZ"},{"$f":"VLOOKUP(F2794,Soutez!A:C,3,FALSE)","v":2025},14,1798,0.76,3309,2515,"x",null,"DG-800S 18m+W (voda)","9j",""]
["Vaclav Svoboda",1970,"M","Letkov","CZ/C1","Podbrdský pohár 2025 - Kombi",{"$f":"VLOOKUP(F2795,Soutez!A:B,2,FALSE)","v":"CZ"},{"$f":"VLOOKUP(F2795,Soutez!A:C,3,FALSE)","v":2025},15,442,0.76,915,695,null,null,"LS 8b,t,18 18m (voda)",301,""]
["Roman Lanzendorf",1964,"M","Letkov","CZ/C1","Podbrdský pohár 2025 - Kombi",{"$f":"VLOOKUP(F2796,Soutez!A:B,2,FALSE)","v":"CZ"},{"$f":"VLOOKUP(F2796,Soutez!A:C,3,FALSE)","v":2025},16,0,0.76,0,0,null,null,"Ventus ct 17,6m (voda)","AW",""]

{"sheet":"Zebrik G","index":7,"n_rows":983,"n_cols":16,"rows_kept":983,"cut":false,"hidden":false,"merged":[]}
[null,{"$f":"\"Všeobecný Žebřík pilotů plachtařů PK AeČR \"&A6","v":"Všeobecný Žebřík pilotů plachtařů PK AeČR 2025"},null,null,null,null,null,null,null,null,{"$f":"Zmeny!A5","v":"2025-12-21"},"Rev.",{"$f":"Zmeny!B5","v":"02"},{"$f":"Zmeny!C5","v":"Opraveny chyby, odstraněny HOP 2025"}]
[]
[null,"G","x",null,null,null,null,null,null,"Nominace","Junior v roce:","Junior v roce:",{"$f":"\"Repre družstvo \"&K4","v":"Repre družstvo 2026"},{"$f":"\"Repre výběr \"&K4","v":"Repre výběr 2026"},{"$f":"\"W \"&N3","v":"W Repre výběr 2026"},"Poznámka"]
[null,null,null,null,null,null,null,null,null,"PMČR 2026",{"$f":"A6+1","v":2026},{"$f":"K4+1","v":2027},"(RD)","(RV)","(WRV)"]
["Pořadí",null,null,null,null,null,"Data",null,"Pořadí",null,{"$f":"COUNTIF(K7:K983,\"Junior v roce \"&$K$4)","v":43},{"$f":"COUNTIF(L7:L983,\"Junior v roce \"&$L$4)","v":36},{"$f":"COUNTIF(M7:M983,\"RD \"&$K$4)","v":0},{"$f":"COUNTIF(N7:N983,\"RV \"&$K$4)","v":32},{"$f":"COUNTIF(O7:O983,\"WRV \"&$K$4)","v":12},{"$f":"COUNTIF(P7:P983,\"<>\")","v":0}]
[2025,"Jméno","Rok narození","M/F","Aeroklub","Region","Součet z Bi×Kinp","Počet G",2025]
[{"$f":"RANK(G7,G:G)","v":1},"Jan Pavlik",1987,"M","Křižanov","CZ/M",32031,3,{"$f":"RANK(G7,G:G)","v":1},{"$f":"IF(ISERROR(VLOOKUP(B7,'N PMČR 2026'!B:G,6,0)),\"-\",VLOOKUP(B7,'N PMČR 2026'!B:G,6,0))","v":1},{"$f":"IF(C7=\"(prázdné)\",\"\",IF(($K$4-C7)>25,\"\",\"Junior v roce \"&$K$4))","v":""},{"$f":"IF(C7=\"(prázdné)\",\"\",IF(($L$4-C7)>25,\"\",\"Junior v roce \"&$L$4))","v":""},null,"RV 2026",{"$f":"IF(ISERROR(VLOOKUP(B7,'Zebrik W'!$B$7:$N$1000,13,0)),\"\",IF(VLOOKUP(B7,'Zebrik W'!$B$7:$N$1000,13,0)=0,\"--\",VLOOKUP(B7,'Zebrik W'!$B$7:$N$1000,13,0)))","v":""}]
[{"$f":"RANK(G8,G:G)","v":2},"Tomas Suchanek",1964,"M","GAC Benešov","CZ/C1",31583,3,{"$f":"RANK(G8,G:G)","v":2},{"$f":"IF(ISERROR(VLOOKUP(B8,'N PMČR 2026'!B:G,6,0)),\"-\",VLOOKUP(B8,'N PMČR 2026'!B:G,6,0))","v":2},{"$f":"IF(C8=\"(prázdné)\",\"\",IF(($K$4-C8)>25,\"\",\"Junior v roce \"&$K$4))","v":""},{"$f":"IF(C8=\"(prázdné)\",\"\",IF(($L$4-C8)>25,\"\",\"Junior v roce \"&$L$4))","v":""},null,"RV 2026",{"$f":"IF(ISERROR(VLOOKUP(B8,'Zebrik W'!$B$7:$N$1000,13,0)),\"\",IF(VLOOKUP(B8,'Zebrik W'!$B$7:$N$1000,13,0)=0,\"--\",VLOOKUP(B8,'Zebrik W'!$B$7:$N$1000,13,0)))","v":""}]
[{"$f":"RANK(G9,G:G)","v":3},"Lukas Kriz",2003,"M","Křižanov","CZ/M",31536,3,{"$f":"RANK(G9,G:G)","v":3},{"$f":"IF(ISERROR(VLOOKUP(B9,'N PMČR 2026'!B:G,6,0)),\"-\",VLOOKUP(B9,'N PMČR 2026'!B:G,6,0))","v":3},"Junior v roce 2026","Junior v roce 2027",null,"RV 2026",{"$f":"IF(ISERROR(VLOOKUP(B9,'Zebrik W'!$B$7:$N$1000,13,0)),\"\",IF(VLOOKUP(B9,'Zebrik W'!$B$7:$N$1000,13,0)=0,\"--\",VLOOKUP(B9,'Zebrik W'!$B$7:$N$1000,13,0)))","v":""}]
[{"$f":"RANK(G10,G:G)","v":4},"Radek Krejcirik",1991,"M","Hranice","CZ/M",31348,3,{"$f":"RANK(G10,G:G)","v":4},{"$f":"IF(ISERROR(VLOOKUP(B10,'N PMČR 2026'!B:G,6,0)),\"-\",VLOOKUP(B10,'N PMČR 2026'!B:G,6,0))","v":4},"","",null,"RV 2026",{"$f":"IF(ISERROR(VLOOKUP(B10,'Zebrik W'!$B$7:$N$1000,13,0)),\"\",IF(VLOOKUP(B10,'Zebrik W'!$B$7:$N$1000,13,0)=0,\"--\",VLOOKUP(B10,'Zebrik W'!$B$7:$N$1000,13,0)))","v":""}]
[{"$f":"RANK(G11,G:G)","v":5},"Miloslav Cink",1987,"M","Letkov","CZ/C1",30530,3,{"$f":"RANK(G11,G:G)","v":5},{"$f":"IF(ISERROR(VLOOKUP(B11,'N PMČR 2026'!B:G,6,0)),\"-\",VLOOKUP(B11,'N PMČR 2026'!B:G,6,0))","v":5},"","",null,"RV 2026",{"$f":"IF(ISERROR(VLOOKUP(B11,'Zebrik W'!$B$7:$N$1000,13,0)),\"\",IF(VLOOKUP(B11,'Zebrik W'!$B$7:$N$1000,13,0)=0,\"--\",VLOOKUP(B11,'Zebrik W'!$B$7:$N$1000,13,0)))","v":""}]
[{"$f":"RANK(G12,G:G)","v":6},"Jaroslav Tomana",1975,"M","Zbraslavice","CZ/C1",30243,3,{"$f":"RANK(G12,G:G)","v":6},{"$f":"IF(ISERROR(VLOOKUP(B12,'N PMČR 2026'!B:G,6,0)),\"-\",VLOOKUP(B12,'N PMČR 2026'!B:G,6,0))","v":6},"","",null,"RV 2026",{"$f":"IF(ISERROR(VLOOKUP(B12,'Zebrik W'!$B$7:$N$1000,13,0)),\"\",IF(VLOOKUP(B12,'Zebrik W'!$B$7:$N$1000,13,0)=0,\"--\",VLOOKUP(B12,'Zebrik W'!$B$7:$N$1000,13,0)))","v":""}]
[{"$f":"RANK(G13,G:G)","v":7},"Jan Stastny",2003,"M","Medlánky","CZ/M",29735,3,{"$f":"RANK(G13,G:G)","v":7},{"$f":"IF(ISERROR(VLOOKUP(B13,'N PMČR 2026'!B:G,6,0)),\"-\",VLOOKUP(B13,'N PMČR 2026'!B:G,6,0))","v":7},"Junior v roce 2026","Junior v roce 2027",null,"RV 2026",{"$f":"IF(ISERROR(VLOOKUP(B13,'Zebrik W'!$B$7:$N$1000,13,0)),\"\",IF(VLOOKUP(B13,'Zebrik W'!$B$7:$N$1000,13,0)=0,\"--\",VLOOKUP(B13,'Zebrik W'!$B$7:$N$1000,13,0)))","v":""}]
[{"$f":"RANK(G14,G:G)","v":8},"Petr Tichy",1973,"M","Zbraslavice","CZ/C1",29671,3,{"$f":"RANK(G14,G:G)","v":8},{"$f":"IF(ISERROR(VLOOKUP(B14,'N PMČR 2026'!B:G,6,0)),\"-\",VLOOKUP(B14,'N PMČR 2026'!B:G,6,0))","v":8},"","",null,"RV 2026",{"$f":"IF(ISERROR(VLOOKUP(B14,'Zebrik W'!$B$7:$N$1000,13,0)),\"\",IF(VLOOKUP(B14,'Zebrik W'!$B$7:$N$1000,13,0)=0,\"--\",VLOOKUP(B14,'Zebrik W'!$B$7:$N$1000,13,0)))","v":""}]
[{"$f":"RANK(G15,G:G)","v":9},"Michal Lesinger",1966,"M","Moravská Třebová","CZ/M",29627,3,{"$f":"RANK(G15,G:G)","v":9},{"$f":"IF(ISERROR(VLOOKUP(B15,'N PMČR 2026'!B:G,6,0)),\"-\",VLOOKUP(B15,'N PMČR 2026'!B:G,6,0))","v":9},"","",null,"RV 2026",{"$f":"IF(ISERROR(VLOOKUP(B15,'Zebrik W'!$B$7:$N$1000,13,0)),\"\",IF(VLOOKUP(B15,'Zebrik W'!$B$7:$N$1000,13,0)=0,\"--\",VLOOKUP(B15,'Zebrik W'!$B$7:$N$1000,13,0)))","v":""}]
[{"$f":"RANK(G16,G:G)","v":10},"Karel Novak",1993,"M","Mladá Boleslav","CZ/C1",29256,3,{"$f":"RANK(G16,G:G)","v":10},{"$f":"IF(ISERROR(VLOOKUP(B16,'N PMČR 2026'!B:G,6,0)),\"-\",VLOOKUP(B16,'N PMČR 2026'!B:G,6,0))","v":10},"","",null,"RV 2026",{"$f":"IF(ISERROR(VLOOKUP(B16,'Zebrik W'!$B$7:$N$1000,13,0)),\"\",IF(VLOOKUP(B16,'Zebrik W'!$B$7:$N$1000,13,0)=0,\"--\",VLOOKUP(B16,'Zebrik W'!$B$7:$N$1000,13,0)))","v":""}]
[{"$f":"RANK(G17,G:G)","v":11},"Pavel Trybenekr",1990,"M","Hořice","CZ/C2",29141,3,{"$f":"RANK(G17,G:G)","v":11},{"$f":"IF(ISERROR(VLOOKUP(B17,'N PMČR 2026'!B:G,6,0)),\"-\",VLOOKUP(B17,'N PMČR 2026'!B:G,6,0))","v":11},"","",null,"RV 2026",{"$f":"IF(ISERROR(VLOOKUP(B17,'Zebrik W'!$B$7:$N$1000,13,0)),\"\",IF(VLOOKUP(B17,'Zebrik W'!$B$7:$N$1000,13,0)=0,\"--\",VLOOKUP(B17,'Zebrik W'!$B$7:$N$1000,13,0)))","v":""}]
[{"$f":"RANK(G18,G:G)","v":12},"Pavel Louzecky",1957,"M","Přibyslav","CZ/C2",28790,3,{"$f":"RANK(G18,G:G)","v":12},{"$f":"IF(ISERROR(VLOOKUP(B18,'N PMČR 2026'!B:G,6,0)),\"-\",VLOOKUP(B18,'N PMČR 2026'!B:G,6,0))","v":12},"","",null,"RV 2026",{"$f":"IF(ISERROR(VLOOKUP(B18,'Zebrik W'!$B$7:$N$1000,13,0)),\"\",IF(VLOOKUP(B18,'Zebrik W'!$B$7:$N$1000,13,0)=0,\"--\",VLOOKUP(B18,'Zebrik W'!$B$7:$N$1000,13,0)))","v":""}]
[{"$f":"RANK(G19,G:G)","v":13},"Ivan Harasta 65",1965,"M","Toužim","CZ/C1",28712,3,{"$f":"RANK(G19,G:G)","v":13},{"$f":"IF(ISERROR(VLOOKUP(B19,'N PMČR 2026'!B:G,6,0)),\"-\",VLOOKUP(B19,'N PMČR 2026'!B:G,6,0))","v":13},"","",null,"RV 2026",{"$f":"IF(ISERROR(VLOOKUP(B19,'Zebrik W'!$B$7:$N$1000,13,0)),\"\",IF(VLOOKUP(B19,'Zebrik W'!$B$7:$N$1000,13,0)=0,\"--\",VLOOKUP(B19,'Zebrik W'!$B$7:$N$1000,13,0)))","v":""}]
[{"$f":"RANK(G20,G:G)","v":14},"Jiri Kusbach",1959,"M","Luhačovice","CZ/M",28711,3,{"$f":"RANK(G20,G:G)","v":14},{"$f":"IF(ISERROR(VLOOKUP(B20,'N PMČR 2026'!B:G,6,0)),\"-\",VLOOKUP(B20,'N PMČR 2026'!B:G,6,0))","v":14},"","",null,"RV 2026",{"$f":"IF(ISERROR(VLOOKUP(B20,'Zebrik W'!$B$7:$N$1000,13,0)),\"\",IF(VLOOKUP(B20,'Zebrik W'!$B$7:$N$1000,13,0)=0,\"--\",VLOOKUP(B20,'Zebrik W'!$B$7:$N$1000,13,0)))","v":""}]
[{"$f":"RANK(G21,G:G)","v":15},"Michaela Krizova",2001,"F","Přibyslav","CZ/C2",28488,3,{"$f":"RANK(G21,G:G)","v":15},{"$f":"IF(ISERROR(VLOOKUP(B21,'N PMČR 2026'!B:G,6,0)),\"-\",VLOOKUP(B21,'N PMČR 2026'!B:G,6,0))","v":15},"Junior v roce 2026","",null,"RV 2026",{"$f":"IF(ISERROR(VLOOKUP(B21,'Zebrik W'!$B$7:$N$1000,13,0)),\"\",IF(VLOOKUP(B21,'Zebrik W'!$B$7:$N$1000,13,0)=0,\"--\",VLOOKUP(B21,'Zebrik W'!$B$7:$N$1000,13,0)))","v":"WRV 2026"}]
[{"$f":"RANK(G22,G:G)","v":16},"Petr Krejcirik",1960,"M","Hranice","CZ/M",28173,3,{"$f":"RANK(G22,G:G)","v":16},{"$f":"IF(ISERROR(VLOOKUP(B22,'N PMČR 2026'!B:G,6,0)),\"-\",VLOOKUP(B22,'N PMČR 2026'!B:G,6,0))","v":16},"","",null,"RV 2026",{"$f":"IF(ISERROR(VLOOKUP(B22,'Zebrik W'!$B$7:$N$1000,13,0)),\"\",IF(VLOOKUP(B22,'Zebrik W'!$B$7:$N$1000,13,0)=0,\"--\",VLOOKUP(B22,'Zebrik W'!$B$7:$N$1000,13,0)))","v":""}]
[{"$f":"RANK(G23,G:G)","v":17},"Hana Treslova",1991,"F","Raná","CZ/C2",28021,3,{"$f":"RANK(G23,G:G)","v":17},{"$f":"IF(ISERROR(VLOOKUP(B23,'N PMČR 2026'!B:G,6,0)),\"-\",VLOOKUP(B23,'N PMČR 2026'!B:G,6,0))","v":17},"","",null,"RV 2026",{"$f":"IF(ISERROR(VLOOKUP(B23,'Zebrik W'!$B$7:$N$1000,13,0)),\"\",IF(VLOOKUP(B23,'Zebrik W'!$B$7:$N$1000,13,0)=0,\"--\",VLOOKUP(B23,'Zebrik W'!$B$7:$N$1000,13,0)))","v":"WRV 2026"}]
[{"$f":"RANK(G24,G:G)","v":18},"Michaela Rendlova",2004,"F","Toužim","CZ/C1",27869,3,{"$f":"RANK(G24,G:G)","v":18},{"$f":"IF(ISERROR(VLOOKUP(B24,'N PMČR 2026'!B:G,6,0)),\"-\",VLOOKUP(B24,'N PMČR 2026'!B:G,6,0))","v":18},"Junior v roce 2026","Junior v roce 2027",null,"RV 2026",{"$f":"IF(ISERROR(VLOOKUP(B24,'Zebrik W'!$B$7:$N$1000,13,0)),\"\",IF(VLOOKUP(B24,'Zebrik W'!$B$7:$N$1000,13,0)=0,\"--\",VLOOKUP(B24,'Zebrik W'!$B$7:$N$1000,13,0)))","v":"WRV 2026"}]
[{"$f":"RANK(G25,G:G)","v":19},"Ivan Novak",1962,"M","Mladá Boleslav","CZ/C1",27777,3,{"$f":"RANK(G25,G:G)","v":19},{"$f":"IF(ISERROR(VLOOKUP(B25,'N PMČR 2026'!B:G,6,0)),\"-\",VLOOKUP(B25,'N PMČR 2026'!B:G,6,0))","v":19},"","",null,"RV 2026",{"$f":"IF(ISERROR(VLOOKUP(B25,'Zebrik W'!$B$7:$N$1000,13,0)),\"\",IF(VLOOKUP(B25,'Zebrik W'!$B$7:$N$1000,13,0)=0,\"--\",VLOOKUP(B25,'Zebrik W'!$B$7:$N$1000,13,0)))","v":""}]
[{"$f":"RANK(G26,G:G)","v":20},"Vit Morkovsky",2000,"M","Polička","CZ/C2",27674,3,{"$f":"RANK(G26,G:G)","v":20},{"$f":"IF(ISERROR(VLOOKUP(B26,'N PMČR 2026'!B:G,6,0)),\"-\",VLOOKUP(B26,'N PMČR 2026'!B:G,6,0))","v":20},"","",null,"RV 2026",{"$f":"IF(ISERROR(VLOOKUP(B26,'Zebrik W'!$B$7:$N$1000,13,0)),\"\",IF(VLOOKUP(B26,'Zebrik W'!$B$7:$N$1000,13,0)=0,\"--\",VLOOKUP(B26,'Zebrik W'!$B$7:$N$1000,13,0)))","v":""}]
[{"$f":"RANK(G27,G:G)","v":21},"Tomas Rendla",1973,"M","Zbraslavice","CZ/C1",27561,3,{"$f":"RANK(G27,G:G)","v":21},{"$f":"IF(ISERROR(VLOOKUP(B27,'N PMČR 2026'!B:G,6,0)),\"-\",VLOOKUP(B27,'N PMČR 2026'!B:G,6,0))","v":21},"","",null,"RV 2026",{"$f":"IF(ISERROR(VLOOKUP(B27,'Zebrik W'!$B$7:$N$1000,13,0)),\"\",IF(VLOOKUP(B27,'Zebrik W'!$B$7:$N$1000,13,0)=0,\"--\",VLOOKUP(B27,'Zebrik W'!$B$7:$N$1000,13,0)))","v":""}]
[{"$f":"RANK(G28,G:G)","v":22},"Jan Kotan",1982,"M","Letňany","CZ/C1",27475,3,{"$f":"RANK(G28,G:G)","v":22},{"$f":"IF(ISERROR(VLOOKUP(B28,'N PMČR 2026'!B:G,6,0)),\"-\",VLOOKUP(B28,'N PMČR 2026'!B:G,6,0))","v":42},"","",null,null,{"$f":"IF(ISERROR(VLOOKUP(B28,'Zebrik W'!$B$7:$N$1000,13,0)),\"\",IF(VLOOKUP(B28,'Zebrik W'!$B$7:$N$1000,13,0)=0,\"--\",VLOOKUP(B28,'Zebrik W'!$B$7:$N$1000,13,0)))","v":""}]
[{"$f":"RANK(G29,G:G)","v":23},"Ondrej Dupal",1966,"M","GAC Benešov","CZ/C1",27371,3,{"$f":"RANK(G29,G:G)","v":23},{"$f":"IF(ISERROR(VLOOKUP(B29,'N PMČR 2026'!B:G,6,0)),\"-\",VLOOKUP(B29,'N PMČR 2026'!B:G,6,0))","v":39},"","",null,null,{"$f":"IF(ISERROR(VLOOKUP(B29,'Zebrik W'!$B$7:$N$1000,13,0)),\"\",IF(VLOOKUP(B29,'Zebrik W'!$B$7:$N$1000,13,0)=0,\"--\",VLOOKUP(B29,'Zebrik W'!$B$7:$N$1000,13,0)))","v":""}]
[{"$f":"RANK(G30,G:G)","v":24},"Pavel Rericha",1967,"M","Moravská Třebová","CZ/M",27321,3,{"$f":"RANK(G30,G:G)","v":24},{"$f":"IF(ISERROR(VLOOKUP(B30,'N PMČR 2026'!B:G,6,0)),\"-\",VLOOKUP(B30,'N PMČR 2026'!B:G,6,0))","v":68},"","",null,null,{"$f":"IF(ISERROR(VLOOKUP(B30,'Zebrik W'!$B$7:$N$1000,13,0)),\"\",IF(VLOOKUP(B30,'Zebrik W'!$B$7:$N$1000,13,0)=0,\"--\",VLOOKUP(B30,'Zebrik W'!$B$7:$N$1000,13,0)))","v":""}]
[{"$f":"RANK(G31,G:G)","v":25},"Tereza Koubkova",1999,"F","Strakonice","CZ/C1",27285,3,{"$f":"RANK(G31,G:G)","v":25},{"$f":"IF(ISERROR(VLOOKUP(B31,'N PMČR 2026'!B:G,6,0)),\"-\",VLOOKUP(B31,'N PMČR 2026'!B:G,6,0))","v":22},"","",null,"RV 2026",{"$f":"IF(ISERROR(VLOOKUP(B31,'Zebrik W'!$B$7:$N$1000,13,0)),\"\",IF(VLOOKUP(B31,'Zebrik W'!$B$7:$N$1000,13,0)=0,\"--\",VLOOKUP(B31,'Zebrik W'!$B$7:$N$1000,13,0)))","v":"WRV 2026"}]
[{"$f":"RANK(G32,G:G)","v":26},"Tomas Hynek",2002,"M","Dvůr Králové","CZ/C2",27180,3,{"$f":"RANK(G32,G:G)","v":26},{"$f":"IF(ISERROR(VLOOKUP(B32,'N PMČR 2026'!B:G,6,0)),\"-\",VLOOKUP(B32,'N PMČR 2026'!B:G,6,0))","v":23},"Junior v roce 2026","Junior v roce 2027",null,"RV 2026",{"$f":"IF(ISERROR(VLOOKUP(B32,'Zebrik W'!$B$7:$N$1000,13,0)),\"\",IF(VLOOKUP(B32,'Zebrik W'!$B$7:$N$1000,13,0)=0,\"--\",VLOOKUP(B32,'Zebrik W'!$B$7:$N$1000,13,0)))","v":""}]
[{"$f":"RANK(G33,G:G)","v":27},"Radek Kucirek",1973,"M","Havlíčkův Brod","CZ/C2",27072,3,{"$f":"RANK(G33,G:G)","v":27},{"$f":"IF(ISERROR(VLOOKUP(B33,'N PMČR 2026'!B:G,6,0)),\"-\",VLOOKUP(B33,'N PMČR 2026'!B:G,6,0))","v":40},"","",null,null,{"$f":"IF(ISERROR(VLOOKUP(B33,'Zebrik W'!$B$7:$N$1000,13,0)),\"\",IF(VLOOKUP(B33,'Zebrik W'!$B$7:$N$1000,13,0)=0,\"--\",VLOOKUP(B33,'Zebrik W'!$B$7:$N$1000,13,0)))","v":""}]
[{"$f":"RANK(G34,G:G)","v":28},"Martin Hrivna",1978,"M","Zbraslavice","CZ/C1",27043,3,{"$f":"RANK(G34,G:G)","v":28},{"$f":"IF(ISERROR(VLOOKUP(B34,'N PMČR 2026'!B:G,6,0)),\"-\",VLOOKUP(B34,'N PMČR 2026'!B:G,6,0))","v":38},"","",null,null,{"$f":"IF(ISERROR(VLOOKUP(B34,'Zebrik W'!$B$7:$N$1000,13,0)),\"\",IF(VLOOKUP(B34,'Zebrik W'!$B$7:$N$1000,13,0)=0,\"--\",VLOOKUP(B34,'Zebrik W'!$B$7:$N$1000,13,0)))","v":""}]
[{"$f":"RANK(G35,G:G)","v":29},"Jindrich Svorc",1978,"M","Letňany","CZ/C1",27038,3,{"$f":"RANK(G35,G:G)","v":29},{"$f":"IF(ISERROR(VLOOKUP(B35,'N PMČR 2026'!B:G,6,0)),\"-\",VLOOKUP(B35,'N PMČR 2026'!B:G,6,0))","v":33},"","",null,null,{"$f":"IF(ISERROR(VLOOKUP(B35,'Zebrik W'!$B$7:$N$1000,13,0)),\"\",IF(VLOOKUP(B35,'Zebrik W'!$B$7:$N$1000,13,0)=0,\"--\",VLOOKUP(B35,'Zebrik W'!$B$7:$N$1000,13,0)))","v":""}]
[{"$f":"RANK(G36,G:G)","v":30},"David Mach",1994,"M","Hronov","CZ/C2",26690,3,{"$f":"RANK(G36,G:G)","v":30},{"$f":"IF(ISERROR(VLOOKUP(B36,'N PMČR 2026'!B:G,6,0)),\"-\",VLOOKUP(B36,'N PMČR 2026'!B:G,6,0))","v":69},"","",null,null,{"$f":"IF(ISERROR(VLOOKUP(B36,'Zebrik W'!$B$7:$N$1000,13,0)),\"\",IF(VLOOKUP(B36,'Zebrik W'!$B$7:$N$1000,13,0)=0,\"--\",VLOOKUP(B36,'Zebrik W'!$B$7:$N$1000,13,0)))","v":""}]
[{"$f":"RANK(G37,G:G)","v":31},"Petr Masik",2001,"M","Zábřeh","CZ/M",26689,3,{"$f":"RANK(G37,G:G)","v":31},{"$f":"IF(ISERROR(VLOOKUP(B37,'N PMČR 2026'!B:G,6,0)),\"-\",VLOOKUP(B37,'N PMČR 2026'!B:G,6,0))","v":24},"Junior v roce 2026","",null,"RV 2026",{"$f":"IF(ISERROR(VLOOKUP(B37,'Zebrik W'!$B$7:$N$1000,13,0)),\"\",IF(VLOOKUP(B37,'Zebrik W'!$B$7:$N$1000,13,0)=0,\"--\",VLOOKUP(B37,'Zebrik W'!$B$7:$N$1000,13,0)))","v":""}]
[{"$f":"RANK(G38,G:G)","v":32},"Petr Koutny",1971,"M","Křižanov","CZ/M",26624,3,{"$f":"RANK(G38,G:G)","v":32},{"$f":"IF(ISERROR(VLOOKUP(B38,'N PMČR 2026'!B:G,6,0)),\"-\",VLOOKUP(B38,'N PMČR 2026'!B:G,6,0))","v":37},"","",null,null,{"$f":"IF(ISERROR(VLOOKUP(B38,'Zebrik W'!$B$7:$N$1000,13,0)),\"\",IF(VLOOKUP(B38,'Zebrik W'!$B$7:$N$1000,13,0)=0,\"--\",VLOOKUP(B38,'Zebrik W'!$B$7:$N$1000,13,0)))","v":""}]
[{"$f":"RANK(G39,G:G)","v":33},"Ondrej Bordovsky",1983,"M","Krnov","CZ/M",26438,3,{"$f":"RANK(G39,G:G)","v":33},{"$f":"IF(ISERROR(VLOOKUP(B39,'N PMČR 2026'!B:G,6,0)),\"-\",VLOOKUP(B39,'N PMČR 2026'!B:G,6,0))","v":41},"","",null,null,{"$f":"IF(ISERROR(VLOOKUP(B39,'Zebrik W'!$B$7:$N$1000,13,0)),\"\",IF(VLOOKUP(B39,'Zebrik W'!$B$7:$N$1000,13,0)=0,\"--\",VLOOKUP(B39,'Zebrik W'!$B$7:$N$1000,13,0)))","v":""}]
[{"$f":"RANK(G40,G:G)","v":34},"Jan Boruvka",1984,"M","Jičín","CZ/C2",26422,3,{"$f":"RANK(G40,G:G)","v":34},{"$f":"IF(ISERROR(VLOOKUP(B40,'N PMČR 2026'!B:G,6,0)),\"-\",VLOOKUP(B40,'N PMČR 2026'!B:G,6,0))","v":43},"","",null,null,{"$f":"IF(ISERROR(VLOOKUP(B40,'Zebrik W'!$B$7:$N$1000,13,0)),\"\",IF(VLOOKUP(B40,'Zebrik W'!$B$7:$N$1000,13,0)=0,\"--\",VLOOKUP(B40,'Zebrik W'!$B$7:$N$1000,13,0)))","v":""}]
[{"$f":"RANK(G41,G:G)","v":35},"Radek Hybl",1980,"M","Šumperk","CZ/M",26337,3,{"$f":"RANK(G41,G:G)","v":35},{"$f":"IF(ISERROR(VLOOKUP(B41,'N PMČR 2026'!B:G,6,0)),\"-\",VLOOKUP(B41,'N PMČR 2026'!B:G,6,0))","v":70},"","",null,null,{"$f":"IF(ISERROR(VLOOKUP(B41,'Zebrik W'!$B$7:$N$1000,13,0)),\"\",IF(VLOOKUP(B41,'Zebrik W'!$B$7:$N$1000,13,0)=0,\"--\",VLOOKUP(B41,'Zebrik W'!$B$7:$N$1000,13,0)))","v":""}]
[{"$f":"RANK(G42,G:G)","v":36},"Jan Viskot",1995,"M","Břeclav","CZ/M",26234,3,{"$f":"RANK(G42,G:G)","v":36},{"$f":"IF(ISERROR(VLOOKUP(B42,'N PMČR 2026'!B:G,6,0)),\"-\",VLOOKUP(B42,'N PMČR 2026'!B:G,6,0))","v":71},"","",null,null,{"$f":"IF(ISERROR(VLOOKUP(B42,'Zebrik W'!$B$7:$N$1000,13,0)),\"\",IF(VLOOKUP(B42,'Zebrik W'!$B$7:$N$1000,13,0)=0,\"--\",VLOOKUP(B42,'Zebrik W'!$B$7:$N$1000,13,0)))","v":""}]
[{"$f":"RANK(G43,G:G)","v":37},"Jaromir Macoun",1999,"M","Jičín","CZ/C2",26226,3,{"$f":"RANK(G43,G:G)","v":37},{"$f":"IF(ISERROR(VLOOKUP(B43,'N PMČR 2026'!B:G,6,0)),\"-\",VLOOKUP(B43,'N PMČR 2026'!B:G,6,0))","v":72},"","",null,null,{"$f":"IF(ISERROR(VLOOKUP(B43,'Zebrik W'!$B$7:$N$1000,13,0)),\"\",IF(VLOOKUP(B43,'Zebrik W'!$B$7:$N$1000,13,0)=0,\"--\",VLOOKUP(B43,'Zebrik W'!$B$7:$N$1000,13,0)))","v":""}]
[{"$f":"RANK(G44,G:G)","v":38},"Lukas Capek",1992,"M","Letňany","CZ/C1",26203,3,{"$f":"RANK(G44,G:G)","v":38},{"$f":"IF(ISERROR(VLOOKUP(B44,'N PMČR 2026'!B:G,6,0)),\"-\",VLOOKUP(B44,'N PMČR 2026'!B:G,6,0))","v":49},"","",null,null,{"$f":"IF(ISERROR(VLOOKUP(B44,'Zebrik W'!$B$7:$N$1000,13,0)),\"\",IF(VLOOKUP(B44,'Zebrik W'!$B$7:$N$1000,13,0)=0,\"--\",VLOOKUP(B44,'Zebrik W'!$B$7:$N$1000,13,0)))","v":""}]
[{"$f":"RANK(G45,G:G)","v":39},"Petr Hofman",1984,"M","Letňany","CZ/C1",26174,3,{"$f":"RANK(G45,G:G)","v":39},{"$f":"IF(ISERROR(VLOOKUP(B45,'N PMČR 2026'!B:G,6,0)),\"-\",VLOOKUP(B45,'N PMČR 2026'!B:G,6,0))","v":34},"","",null,null,{"$f":"IF(ISERROR(VLOOKUP(B45,'Zebrik W'!$B$7:$N$1000,13,0)),\"\",IF(VLOOKUP(B45,'Zebrik W'!$B$7:$N$1000,13,0)=0,\"--\",VLOOKUP(B45,'Zebrik W'!$B$7:$N$1000,13,0)))","v":""}]
[{"$f":"RANK(G46,G:G)","v":40},"Jan Kantor",1983,"M","Letňany","CZ/C1",25777,3,{"$f":"RANK(G46,G:G)","v":40},{"$f":"IF(ISERROR(VLOOKUP(B46,'N PMČR 2026'!B:G,6,0)),\"-\",VLOOKUP(B46,'N PMČR 2026'!B:G,6,0))","v":36},"","",null,null,{"$f":"IF(ISERROR(VLOOKUP(B46,'Zebrik W'!$B$7:$N$1000,13,0)),\"\",IF(VLOOKUP(B46,'Zebrik W'!$B$7:$N$1000,13,0)=0,\"--\",VLOOKUP(B46,'Zebrik W'!$B$7:$N$1000,13,0)))","v":""}]
[{"$f":"RANK(G47,G:G)","v":41},"Pavel Jiranek",1993,"M","Toužim","CZ/C1",25754,3,{"$f":"RANK(G47,G:G)","v":41},{"$f":"IF(ISERROR(VLOOKUP(B47,'N PMČR 2026'!B:G,6,0)),\"-\",VLOOKUP(B47,'N PMČR 2026'!B:G,6,0))","v":73},"","",null,null,{"$f":"IF(ISERROR(VLOOKUP(B47,'Zebrik W'!$B$7:$N$1000,13,0)),\"\",IF(VLOOKUP(B47,'Zebrik W'!$B$7:$N$1000,13,0)=0,\"--\",VLOOKUP(B47,'Zebrik W'!$B$7:$N$1000,13,0)))","v":""}]
[{"$f":"RANK(G48,G:G)","v":42},"Roman Jokl",1979,"M","Letkov","CZ/C1",25724,3,{"$f":"RANK(G48,G:G)","v":42},{"$f":"IF(ISERROR(VLOOKUP(B48,'N PMČR 2026'!B:G,6,0)),\"-\",VLOOKUP(B48,'N PMČR 2026'!B:G,6,0))","v":74},"","",null,null,{"$f":"IF(ISERROR(VLOOKUP(B48,'Zebrik W'!$B$7:$N$1000,13,0)),\"\",IF(VLOOKUP(B48,'Zebrik W'!$B$7:$N$1000,13,0)=0,\"--\",VLOOKUP(B48,'Zebrik W'!$B$7:$N$1000,13,0)))","v":""}]
[{"$f":"RANK(G49,G:G)","v":43},"Alena Netusilova",1970,"F","Zbraslavice","CZ/C1",25657,3,{"$f":"RANK(G49,G:G)","v":43},{"$f":"IF(ISERROR(VLOOKUP(B49,'N PMČR 2026'!B:G,6,0)),\"-\",VLOOKUP(B49,'N PMČR 2026'!B:G,6,0))","v":25},"","",null,"RV 2026",{"$f":"IF(ISERROR(VLOOKUP(B49,'Zebrik W'!$B$7:$N$1000,13,0)),\"\",IF(VLOOKUP(B49,'Zebrik W'!$B$7:$N$1000,13,0)=0,\"--\",VLOOKUP(B49,'Zebrik W'!$B$7:$N$1000,13,0)))","v":"WRV 2026"}]
[{"$f":"RANK(G50,G:G)","v":44},"Frantisek Vancura",1966,"M","Hranice","CZ/M",25346,3,{"$f":"RANK(G50,G:G)","v":44},{"$f":"IF(ISERROR(VLOOKUP(B50,'N PMČR 2026'!B:G,6,0)),\"-\",VLOOKUP(B50,'N PMČR 2026'!B:G,6,0))","v":75},"","",null,null,{"$f":"IF(ISERROR(VLOOKUP(B50,'Zebrik W'!$B$7:$N$1000,13,0)),\"\",IF(VLOOKUP(B50,'Zebrik W'!$B$7:$N$1000,13,0)=0,\"--\",VLOOKUP(B50,'Zebrik W'!$B$7:$N$1000,13,0)))","v":""}]
[{"$f":"RANK(G51,G:G)","v":45},"Marek Blatak",1969,"M","Šumperk","CZ/M",25104,3,{"$f":"RANK(G51,G:G)","v":45},{"$f":"IF(ISERROR(VLOOKUP(B51,'N PMČR 2026'!B:G,6,0)),\"-\",VLOOKUP(B51,'N PMČR 2026'!B:G,6,0))","v":76},"","",null,null,{"$f":"IF(ISERROR(VLOOKUP(B51,'Zebrik W'!$B$7:$N$1000,13,0)),\"\",IF(VLOOKUP(B51,'Zebrik W'!$B$7:$N$1000,13,0)=0,\"--\",VLOOKUP(B51,'Zebrik W'!$B$7:$N$1000,13,0)))","v":""}]
[{"$f":"RANK(G52,G:G)","v":46},"Stepan Bartos",2004,"M","Kolín","CZ/C1",24979,3,{"$f":"RANK(G52,G:G)","v":46},{"$f":"IF(ISERROR(VLOOKUP(B52,'N PMČR 2026'!B:G,6,0)),\"-\",VLOOKUP(B52,'N PMČR 2026'!B:G,6,0))","v":"N2"},"Junior v roce 2026","Junior v roce 2027",null,null,{"$f":"IF(ISERROR(VLOOKUP(B52,'Zebrik W'!$B$7:$N$1000,13,0)),\"\",IF(VLOOKUP(B52,'Zebrik W'!$B$7:$N$1000,13,0)=0,\"--\",VLOOKUP(B52,'Zebrik W'!$B$7:$N$1000,13,0)))","v":""}]
[{"$f":"RANK(G53,G:G)","v":47},"Jan Hruska",1988,"M","Tábor","CZ/C1",24600,3,{"$f":"RANK(G53,G:G)","v":47},{"$f":"IF(ISERROR(VLOOKUP(B53,'N PMČR 2026'!B:G,6,0)),\"-\",VLOOKUP(B53,'N PMČR 2026'!B:G,6,0))","v":77},"","",null,null,{"$f":"IF(ISERROR(VLOOKUP(B53,'Zebrik W'!$B$7:$N$1000,13,0)),\"\",IF(VLOOKUP(B53,'Zebrik W'!$B$7:$N$1000,13,0)=0,\"--\",VLOOKUP(B53,'Zebrik W'!$B$7:$N$1000,13,0)))","v":""}]
[{"$f":"RANK(G54,G:G)","v":48},"Jiri Vondracek",1989,"M","Kladno","CZ/C1",24447,3,{"$f":"RANK(G54,G:G)","v":48},{"$f":"IF(ISERROR(VLOOKUP(B54,'N PMČR 2026'!B:G,6,0)),\"-\",VLOOKUP(B54,'N PMČR 2026'!B:G,6,0))","v":78},"","",null,null,{"$f":"IF(ISERROR(VLOOKUP(B54,'Zebrik W'!$B$7:$N$1000,13,0)),\"\",IF(VLOOKUP(B54,'Zebrik W'!$B$7:$N$1000,13,0)=0,\"--\",VLOOKUP(B54,'Zebrik W'!$B$7:$N$1000,13,0)))","v":""}]
[{"$f":"RANK(G55,G:G)","v":49},"Josef Busek",1967,"M","Hosín","CZ/C1",24373,3,{"$f":"RANK(G55,G:G)","v":49},{"$f":"IF(ISERROR(VLOOKUP(B55,'N PMČR 2026'!B:G,6,0)),\"-\",VLOOKUP(B55,'N PMČR 2026'!B:G,6,0))","v":79},"","",null,null,{"$f":"IF(ISERROR(VLOOKUP(B55,'Zebrik W'!$B$7:$N$1000,13,0)),\"\",IF(VLOOKUP(B55,'Zebrik W'!$B$7:$N$1000,13,0)=0,\"--\",VLOOKUP(B55,'Zebrik W'!$B$7:$N$1000,13,0)))","v":""}]
[{"$f":"RANK(G56,G:G)","v":50},"Jiri Steiger",1969,"M","Olomouc","CZ/M",24314,3,{"$f":"RANK(G56,G:G)","v":50},{"$f":"IF(ISERROR(VLOOKUP(B56,'N PMČR 2026'!B:G,6,0)),\"-\",VLOOKUP(B56,'N PMČR 2026'!B:G,6,0))","v":80},"","",null,null,{"$f":"IF(ISERROR(VLOOKUP(B56,'Zebrik W'!$B$7:$N$1000,13,0)),\"\",IF(VLOOKUP(B56,'Zebrik W'!$B$7:$N$1000,13,0)=0,\"--\",VLOOKUP(B56,'Zebrik W'!$B$7:$N$1000,13,0)))","v":""}]
[{"$f":"RANK(G57,G:G)","v":51},"Vaclav Marel",1974,"M","Jaroměř","CZ/C2",24261,3,{"$f":"RANK(G57,G:G)","v":51},{"$f":"IF(ISERROR(VLOOKUP(B57,'N PMČR 2026'!B:G,6,0)),\"-\",VLOOKUP(B57,'N PMČR 2026'!B:G,6,0))","v":"N1"},"","",null,null,{"$f":"IF(ISERROR(VLOOKUP(B57,'Zebrik W'!$B$7:$N$1000,13,0)),\"\",IF(VLOOKUP(B57,'Zebrik W'!$B$7:$N$1000,13,0)=0,\"--\",VLOOKUP(B57,'Zebrik W'!$B$7:$N$1000,13,0)))","v":""}]
[{"$f":"RANK(G58,G:G)","v":52},"Michal Cechmanek",1978,"M","Kroměříž","CZ/M",24135,3,{"$f":"RANK(G58,G:G)","v":52},{"$f":"IF(ISERROR(VLOOKUP(B58,'N PMČR 2026'!B:G,6,0)),\"-\",VLOOKUP(B58,'N PMČR 2026'!B:G,6,0))","v":"N2"},"","",null,null,{"$f":"IF(ISERROR(VLOOKUP(B58,'Zebrik W'!$B$7:$N$1000,13,0)),\"\",IF(VLOOKUP(B58,'Zebrik W'!$B$7:$N$1000,13,0)=0,\"--\",VLOOKUP(B58,'Zebrik W'!$B$7:$N$1000,13,0)))","v":""}]
[{"$f":"RANK(G59,G:G)","v":53},"Jan Beran",1999,"M","Kladno","CZ/C1",24128,3,{"$f":"RANK(G59,G:G)","v":53},{"$f":"IF(ISERROR(VLOOKUP(B59,'N PMČR 2026'!B:G,6,0)),\"-\",VLOOKUP(B59,'N PMČR 2026'!B:G,6,0))","v":"N3"},"","",null,null,{"$f":"IF(ISERROR(VLOOKUP(B59,'Zebrik W'!$B$7:$N$1000,13,0)),\"\",IF(VLOOKUP(B59,'Zebrik W'!$B$7:$N$1000,13,0)=0,\"--\",VLOOKUP(B59,'Zebrik W'!$B$7:$N$1000,13,0)))","v":""}]
[{"$f":"RANK(G60,G:G)","v":54},"Petr Panek",1975,"M","Dvůr Králové","CZ/C2",24049,3,{"$f":"RANK(G60,G:G)","v":54},{"$f":"IF(ISERROR(VLOOKUP(B60,'N PMČR 2026'!B:G,6,0)),\"-\",VLOOKUP(B60,'N PMČR 2026'!B:G,6,0))","v":58},"","",null,null,{"$f":"IF(ISERROR(VLOOKUP(B60,'Zebrik W'!$B$7:$N$1000,13,0)),\"\",IF(VLOOKUP(B60,'Zebrik W'!$B$7:$N$1000,13,0)=0,\"--\",VLOOKUP(B60,'Zebrik W'!$B$7:$N$1000,13,0)))","v":""}]
[{"$f":"RANK(G61,G:G)","v":55},"Jan Louda",1986,"M","Mladá Boleslav","CZ/C1",23896,3,{"$f":"RANK(G61,G:G)","v":55},{"$f":"IF(ISERROR(VLOOKUP(B61,'N PMČR 2026'!B:G,6,0)),\"-\",VLOOKUP(B61,'N PMČR 2026'!B:G,6,0))","v":"N4"},"","",null,null,{"$f":"IF(ISERROR(VLOOKUP(B61,'Zebrik W'!$B$7:$N$1000,13,0)),\"\",IF(VLOOKUP(B61,'Zebrik W'!$B$7:$N$1000,13,0)=0,\"--\",VLOOKUP(B61,'Zebrik W'!$B$7:$N$1000,13,0)))","v":""}]
[{"$f":"RANK(G62,G:G)","v":56},"Rene Hudak",1972,"M","Kunovice","CZ/M",23841,3,{"$f":"RANK(G62,G:G)","v":56},{"$f":"IF(ISERROR(VLOOKUP(B62,'N PMČR 2026'!B:G,6,0)),\"-\",VLOOKUP(B62,'N PMČR 2026'!B:G,6,0))","v":"N5"},"","",null,null,{"$f":"IF(ISERROR(VLOOKUP(B62,'Zebrik W'!$B$7:$N$1000,13,0)),\"\",IF(VLOOKUP(B62,'Zebrik W'!$B$7:$N$1000,13,0)=0,\"--\",VLOOKUP(B62,'Zebrik W'!$B$7:$N$1000,13,0)))","v":""}]
[{"$f":"RANK(G63,G:G)","v":57},"Dana Novakova",1965,"F","Mladá Boleslav","CZ/C1",23751,3,{"$f":"RANK(G63,G:G)","v":57},{"$f":"IF(ISERROR(VLOOKUP(B63,'N PMČR 2026'!B:G,6,0)),\"-\",VLOOKUP(B63,'N PMČR 2026'!B:G,6,0))","v":26},"","",null,"RV 2026",{"$f":"IF(ISERROR(VLOOKUP(B63,'Zebrik W'!$B$7:$N$1000,13,0)),\"\",IF(VLOOKUP(B63,'Zebrik W'!$B$7:$N$1000,13,0)=0,\"--\",VLOOKUP(B63,'Zebrik W'!$B$7:$N$1000,13,0)))","v":"WRV 2026"}]
[{"$f":"RANK(G64,G:G)","v":58},"Milan Svoboda 80",1980,"M","Havlíčkův Brod","CZ/C2",23727,3,{"$f":"RANK(G64,G:G)","v":58},{"$f":"IF(ISERROR(VLOOKUP(B64,'N PMČR 2026'!B:G,6,0)),\"-\",VLOOKUP(B64,'N PMČR 2026'!B:G,6,0))","v":35},"","",null,null,{"$f":"IF(ISERROR(VLOOKUP(B64,'Zebrik W'!$B$7:$N$1000,13,0)),\"\",IF(VLOOKUP(B64,'Zebrik W'!$B$7:$N$1000,13,0)=0,\"--\",VLOOKUP(B64,'Zebrik W'!$B$7:$N$1000,13,0)))","v":""}]
[{"$f":"RANK(G65,G:G)","v":59},"Josef Novak",1981,"M","Kunovice","CZ/M",23617,3,{"$f":"RANK(G65,G:G)","v":59},{"$f":"IF(ISERROR(VLOOKUP(B65,'N PMČR 2026'!B:G,6,0)),\"-\",VLOOKUP(B65,'N PMČR 2026'!B:G,6,0))","v":"N6"},"","",null,null,{"$f":"IF(ISERROR(VLOOKUP(B65,'Zebrik W'!$B$7:$N$1000,13,0)),\"\",IF(VLOOKUP(B65,'Zebrik W'!$B$7:$N$1000,13,0)=0,\"--\",VLOOKUP(B65,'Zebrik W'!$B$7:$N$1000,13,0)))","v":""}]
[{"$f":"RANK(G66,G:G)","v":60},"Alex Gulich",2005,"M","Slaný","CZ/C1",23570,3,{"$f":"RANK(G66,G:G)","v":60},{"$f":"IF(ISERROR(VLOOKUP(B66,'N PMČR 2026'!B:G,6,0)),\"-\",VLOOKUP(B66,'N PMČR 2026'!B:G,6,0))","v":45},"Junior v roce 2026","Junior v roce 2027",null,null,{"$f":"IF(ISERROR(VLOOKUP(B66,'Zebrik W'!$B$7:$N$1000,13,0)),\"\",IF(VLOOKUP(B66,'Zebrik W'!$B$7:$N$1000,13,0)=0,\"--\",VLOOKUP(B66,'Zebrik W'!$B$7:$N$1000,13,0)))","v":""}]
[{"$f":"RANK(G67,G:G)","v":61},"Stepan Filakovsky",2005,"M","Medlánky","CZ/M",23533,3,{"$f":"RANK(G67,G:G)","v":61},{"$f":"IF(ISERROR(VLOOKUP(B67,'N PMČR 2026'!B:G,6,0)),\"-\",VLOOKUP(B67,'N PMČR 2026'!B:G,6,0))","v":44},"Junior v roce 2026","Junior v roce 2027",null,null,{"$f":"IF(ISERROR(VLOOKUP(B67,'Zebrik W'!$B$7:$N$1000,13,0)),\"\",IF(VLOOKUP(B67,'Zebrik W'!$B$7:$N$1000,13,0)=0,\"--\",VLOOKUP(B67,'Zebrik W'!$B$7:$N$1000,13,0)))","v":""}]
[{"$f":"RANK(G68,G:G)","v":62},"Barbora Moravcova",1994,"F","Zbraslavice","CZ/C1",23439,3,{"$f":"RANK(G68,G:G)","v":62},{"$f":"IF(ISERROR(VLOOKUP(B68,'N PMČR 2026'!B:G,6,0)),\"-\",VLOOKUP(B68,'N PMČR 2026'!B:G,6,0))","v":27},"","",null,"RV 2026",{"$f":"IF(ISERROR(VLOOKUP(B68,'Zebrik W'!$B$7:$N$1000,13,0)),\"\",IF(VLOOKUP(B68,'Zebrik W'!$B$7:$N$1000,13,0)=0,\"--\",VLOOKUP(B68,'Zebrik W'!$B$7:$N$1000,13,0)))","v":"WRV 2026"}]
[{"$f":"RANK(G69,G:G)","v":63},"Martin Urner",1974,"M","Letňany","CZ/C1",23325,3,{"$f":"RANK(G69,G:G)","v":63},{"$f":"IF(ISERROR(VLOOKUP(B69,'N PMČR 2026'!B:G,6,0)),\"-\",VLOOKUP(B69,'N PMČR 2026'!B:G,6,0))","v":"N7"},"","",null,null,{"$f":"IF(ISERROR(VLOOKUP(B69,'Zebrik W'!$B$7:$N$1000,13,0)),\"\",IF(VLOOKUP(B69,'Zebrik W'!$B$7:$N$1000,13,0)=0,\"--\",VLOOKUP(B69,'Zebrik W'!$B$7:$N$1000,13,0)))","v":""}]
[{"$f":"RANK(G70,G:G)","v":64},"Jana Treslova",1963,"F","Raná","CZ/C2",23262,3,{"$f":"RANK(G70,G:G)","v":64},{"$f":"IF(ISERROR(VLOOKUP(B70,'N PMČR 2026'!B:G,6,0)),\"-\",VLOOKUP(B70,'N PMČR 2026'!B:G,6,0))","v":28},"","",null,"RV 2026",{"$f":"IF(ISERROR(VLOOKUP(B70,'Zebrik W'!$B$7:$N$1000,13,0)),\"\",IF(VLOOKUP(B70,'Zebrik W'!$B$7:$N$1000,13,0)=0,\"--\",VLOOKUP(B70,'Zebrik W'!$B$7:$N$1000,13,0)))","v":"WRV 2026"}]
[{"$f":"RANK(G71,G:G)","v":65},"Jiri Fousek",1990,"M","Raná","CZ/C2",23248,3,{"$f":"RANK(G71,G:G)","v":65},{"$f":"IF(ISERROR(VLOOKUP(B71,'N PMČR 2026'!B:G,6,0)),\"-\",VLOOKUP(B71,'N PMČR 2026'!B:G,6,0))","v":"N8"},"","",null,null,{"$f":"IF(ISERROR(VLOOKUP(B71,'Zebrik W'!$B$7:$N$1000,13,0)),\"\",IF(VLOOKUP(B71,'Zebrik W'!$B$7:$N$1000,13,0)=0,\"--\",VLOOKUP(B71,'Zebrik W'!$B$7:$N$1000,13,0)))","v":""}]
[{"$f":"RANK(G72,G:G)","v":66},"Jan Simon",1970,"M","Kralupy","CZ/C1",23082,3,{"$f":"RANK(G72,G:G)","v":66},{"$f":"IF(ISERROR(VLOOKUP(B72,'N PMČR 2026'!B:G,6,0)),\"-\",VLOOKUP(B72,'N PMČR 2026'!B:G,6,0))","v":"N9"},{"$f":"IF(C72=\"(prázdné)\",\"\",IF(($K$4-C72)>25,\"\",\"Junior v roce \"&$K$4))","v":""},{"$f":"IF(C72=\"(prázdné)\",\"\",IF(($L$4-C72)>25,\"\",\"Junior v roce \"&$L$4))","v":""},null,null,{"$f":"IF(ISERROR(VLOOKUP(B72,'Zebrik W'!$B$7:$N$1000,13,0)),\"\",IF(VLOOKUP(B72,'Zebrik W'!$B$7:$N$1000,13,0)=0,\"--\",VLOOKUP(B72,'Zebrik W'!$B$7:$N$1000,13,0)))","v":""}]
[{"$f":"RANK(G73,G:G)","v":67},"Vratislav Sram",1966,"M","Broumov","CZ/C2",22827,3,{"$f":"RANK(G73,G:G)","v":67},{"$f":"IF(ISERROR(VLOOKUP(B73,'N PMČR 2026'!B:G,6,0)),\"-\",VLOOKUP(B73,'N PMČR 2026'!B:G,6,0))","v":"N10"},"","",null,null,{"$f":"IF(ISERROR(VLOOKUP(B73,'Zebrik W'!$B$7:$N$1000,13,0)),\"\",IF(VLOOKUP(B73,'Zebrik W'!$B$7:$N$1000,13,0)=0,\"--\",VLOOKUP(B73,'Zebrik W'!$B$7:$N$1000,13,0)))","v":""}]
[{"$f":"RANK(G74,G:G)","v":68},"David Zapletal",1970,"M","Mladá Boleslav","CZ/C1",22722,3,{"$f":"RANK(G74,G:G)","v":68},{"$f":"IF(ISERROR(VLOOKUP(B74,'N PMČR 2026'!B:G,6,0)),\"-\",VLOOKUP(B74,'N PMČR 2026'!B:G,6,0))","v":"-"},"","",null,null,{"$f":"IF(ISERROR(VLOOKUP(B74,'Zebrik W'!$B$7:$N$1000,13,0)),\"\",IF(VLOOKUP(B74,'Zebrik W'!$B$7:$N$1000,13,0)=0,\"--\",VLOOKUP(B74,'Zebrik W'!$B$7:$N$1000,13,0)))","v":""}]
[{"$f":"RANK(G75,G:G)","v":69},"Petr Hotovy",1958,"M","Česká Lípa","CZ/C2",22713,3,{"$f":"RANK(G75,G:G)","v":69},{"$f":"IF(ISERROR(VLOOKUP(B75,'N PMČR 2026'!B:G,6,0)),\"-\",VLOOKUP(B75,'N PMČR 2026'!B:G,6,0))","v":56},"","",null,null,{"$f":"IF(ISERROR(VLOOKUP(B75,'Zebrik W'!$B$7:$N$1000,13,0)),\"\",IF(VLOOKUP(B75,'Zebrik W'!$B$7:$N$1000,13,0)=0,\"--\",VLOOKUP(B75,'Zebrik W'!$B$7:$N$1000,13,0)))","v":""}]
[{"$f":"RANK(G76,G:G)","v":70},"Jaroslav Buryan",1953,"M","Zábřeh","CZ/M",22697,3,{"$f":"RANK(G76,G:G)","v":70},{"$f":"IF(ISERROR(VLOOKUP(B76,'N PMČR 2026'!B:G,6,0)),\"-\",VLOOKUP(B76,'N PMČR 2026'!B:G,6,0))","v":"-"},"","",null,null,{"$f":"IF(ISERROR(VLOOKUP(B76,'Zebrik W'!$B$7:$N$1000,13,0)),\"\",IF(VLOOKUP(B76,'Zebrik W'!$B$7:$N$1000,13,0)=0,\"--\",VLOOKUP(B76,'Zebrik W'!$B$7:$N$1000,13,0)))","v":""}]
[{"$f":"RANK(G77,G:G)","v":71},"David Sachl",1978,"M","Kralupy","CZ/C1",22584,3,{"$f":"RANK(G77,G:G)","v":71},{"$f":"IF(ISERROR(VLOOKUP(B77,'N PMČR 2026'!B:G,6,0)),\"-\",VLOOKUP(B77,'N PMČR 2026'!B:G,6,0))","v":52},"","",null,null,{"$f":"IF(ISERROR(VLOOKUP(B77,'Zebrik W'!$B$7:$N$1000,13,0)),\"\",IF(VLOOKUP(B77,'Zebrik W'!$B$7:$N$1000,13,0)=0,\"--\",VLOOKUP(B77,'Zebrik W'!$B$7:$N$1000,13,0)))","v":""}]
[{"$f":"RANK(G78,G:G)","v":72},"Radek Zima 78",1978,"M","Hodkovice","CZ/C2",22451,3,{"$f":"RANK(G78,G:G)","v":72},{"$f":"IF(ISERROR(VLOOKUP(B78,'N PMČR 2026'!B:G,6,0)),\"-\",VLOOKUP(B78,'N PMČR 2026'!B:G,6,0))","v":54},"","",null,null,{"$f":"IF(ISERROR(VLOOKUP(B78,'Zebrik W'!$B$7:$N$1000,13,0)),\"\",IF(VLOOKUP(B78,'Zebrik W'!$B$7:$N$1000,13,0)=0,\"--\",VLOOKUP(B78,'Zebrik W'!$B$7:$N$1000,13,0)))","v":""}]
[{"$f":"RANK(G79,G:G)","v":73},"Jan Smekal",1976,"M","Zbraslavice","CZ/C1",22315,3,{"$f":"RANK(G79,G:G)","v":73},{"$f":"IF(ISERROR(VLOOKUP(B79,'N PMČR 2026'!B:G,6,0)),\"-\",VLOOKUP(B79,'N PMČR 2026'!B:G,6,0))","v":"-"},"","",null,null,{"$f":"IF(ISERROR(VLOOKUP(B79,'Zebrik W'!$B$7:$N$1000,13,0)),\"\",IF(VLOOKUP(B79,'Zebrik W'!$B$7:$N$1000,13,0)=0,\"--\",VLOOKUP(B79,'Zebrik W'!$B$7:$N$1000,13,0)))","v":""}]
[{"$f":"RANK(G80,G:G)","v":74},"Martin Ficnar",1971,"M","Šumperk","CZ/M",22276,3,{"$f":"RANK(G80,G:G)","v":74},{"$f":"IF(ISERROR(VLOOKUP(B80,'N PMČR 2026'!B:G,6,0)),\"-\",VLOOKUP(B80,'N PMČR 2026'!B:G,6,0))","v":"-"},"","",null,null,{"$f":"IF(ISERROR(VLOOKUP(B80,'Zebrik W'!$B$7:$N$1000,13,0)),\"\",IF(VLOOKUP(B80,'Zebrik W'!$B$7:$N$1000,13,0)=0,\"--\",VLOOKUP(B80,'Zebrik W'!$B$7:$N$1000,13,0)))","v":""}]
[{"$f":"RANK(G81,G:G)","v":75},"Zdenek Balcarek",1967,"M","Kroměříž","CZ/M",22071,3,{"$f":"RANK(G81,G:G)","v":75},{"$f":"IF(ISERROR(VLOOKUP(B81,'N PMČR 2026'!B:G,6,0)),\"-\",VLOOKUP(B81,'N PMČR 2026'!B:G,6,0))","v":"-"},"","",null,null,{"$f":"IF(ISERROR(VLOOKUP(B81,'Zebrik W'!$B$7:$N$1000,13,0)),\"\",IF(VLOOKUP(B81,'Zebrik W'!$B$7:$N$1000,13,0)=0,\"--\",VLOOKUP(B81,'Zebrik W'!$B$7:$N$1000,13,0)))","v":""}]
[{"$f":"RANK(G82,G:G)","v":76},"Jan Dersak 69",1969,"M","Kralupy","CZ/C1",22044,3,{"$f":"RANK(G82,G:G)","v":76},{"$f":"IF(ISERROR(VLOOKUP(B82,'N PMČR 2026'!B:G,6,0)),\"-\",VLOOKUP(B82,'N PMČR 2026'!B:G,6,0))","v":"-"},"","",null,null,{"$f":"IF(ISERROR(VLOOKUP(B82,'Zebrik W'!$B$7:$N$1000,13,0)),\"\",IF(VLOOKUP(B82,'Zebrik W'!$B$7:$N$1000,13,0)=0,\"--\",VLOOKUP(B82,'Zebrik W'!$B$7:$N$1000,13,0)))","v":""}]
[{"$f":"RANK(G83,G:G)","v":77},"Petr Stepanek",1989,"M","Moravská Třebová","CZ/M",21994,3,{"$f":"RANK(G83,G:G)","v":77},{"$f":"IF(ISERROR(VLOOKUP(B83,'N PMČR 2026'!B:G,6,0)),\"-\",VLOOKUP(B83,'N PMČR 2026'!B:G,6,0))","v":"-"},"","",null,null,{"$f":"IF(ISERROR(VLOOKUP(B83,'Zebrik W'!$B$7:$N$1000,13,0)),\"\",IF(VLOOKUP(B83,'Zebrik W'!$B$7:$N$1000,13,0)=0,\"--\",VLOOKUP(B83,'Zebrik W'!$B$7:$N$1000,13,0)))","v":""}]
[{"$f":"RANK(G84,G:G)","v":78},"Eliska Kudejova",2006,"F","Strakonice","CZ/C1",21916,3,{"$f":"RANK(G84,G:G)","v":78},{"$f":"IF(ISERROR(VLOOKUP(B84,'N PMČR 2026'!B:G,6,0)),\"-\",VLOOKUP(B84,'N PMČR 2026'!B:G,6,0))","v":29},"Junior v roce 2026","Junior v roce 2027",null,"RV 2026",{"$f":"IF(ISERROR(VLOOKUP(B84,'Zebrik W'!$B$7:$N$1000,13,0)),\"\",IF(VLOOKUP(B84,'Zebrik W'!$B$7:$N$1000,13,0)=0,\"--\",VLOOKUP(B84,'Zebrik W'!$B$7:$N$1000,13,0)))","v":"WRV 2026"}]
[{"$f":"RANK(G85,G:G)","v":79},"Martin Urban",1971,"M","Frýdlant","CZ/M",21905,3,{"$f":"RANK(G85,G:G)","v":79},{"$f":"IF(ISERROR(VLOOKUP(B85,'N PMČR 2026'!B:G,6,0)),\"-\",VLOOKUP(B85,'N PMČR 2026'!B:G,6,0))","v":"-"},"","",null,null,{"$f":"IF(ISERROR(VLOOKUP(B85,'Zebrik W'!$B$7:$N$1000,13,0)),\"\",IF(VLOOKUP(B85,'Zebrik W'!$B$7:$N$1000,13,0)=0,\"--\",VLOOKUP(B85,'Zebrik W'!$B$7:$N$1000,13,0)))","v":""}]
[{"$f":"RANK(G86,G:G)","v":80},"Jiri Stepanek",1956,"M","Moravská Třebová","CZ/M",21861,3,{"$f":"RANK(G86,G:G)","v":80},{"$f":"IF(ISERROR(VLOOKUP(B86,'N PMČR 2026'!B:G,6,0)),\"-\",VLOOKUP(B86,'N PMČR 2026'!B:G,6,0))","v":"-"},"","",null,null,{"$f":"IF(ISERROR(VLOOKUP(B86,'Zebrik W'!$B$7:$N$1000,13,0)),\"\",IF(VLOOKUP(B86,'Zebrik W'!$B$7:$N$1000,13,0)=0,\"--\",VLOOKUP(B86,'Zebrik W'!$B$7:$N$1000,13,0)))","v":""}]
[{"$f":"RANK(G87,G:G)","v":81},"Zdenek Boruvka 86",1986,"M","Jičín","CZ/C2",21752,3,{"$f":"RANK(G87,G:G)","v":81},{"$f":"IF(ISERROR(VLOOKUP(B87,'N PMČR 2026'!B:G,6,0)),\"-\",VLOOKUP(B87,'N PMČR 2026'!B:G,6,0))","v":"-"},"","",null,null,{"$f":"IF(ISERROR(VLOOKUP(B87,'Zebrik W'!$B$7:$N$1000,13,0)),\"\",IF(VLOOKUP(B87,'Zebrik W'!$B$7:$N$1000,13,0)=0,\"--\",VLOOKUP(B87,'Zebrik W'!$B$7:$N$1000,13,0)))","v":""}]
[{"$f":"RANK(G88,G:G)","v":82},"Michal Cupak",1991,"M","Medlánky","CZ/M",21658,3,{"$f":"RANK(G88,G:G)","v":82},{"$f":"IF(ISERROR(VLOOKUP(B88,'N PMČR 2026'!B:G,6,0)),\"-\",VLOOKUP(B88,'N PMČR 2026'!B:G,6,0))","v":"-"},"","",null,null,{"$f":"IF(ISERROR(VLOOKUP(B88,'Zebrik W'!$B$7:$N$1000,13,0)),\"\",IF(VLOOKUP(B88,'Zebrik W'!$B$7:$N$1000,13,0)=0,\"--\",VLOOKUP(B88,'Zebrik W'!$B$7:$N$1000,13,0)))","v":""}]
[{"$f":"RANK(G89,G:G)","v":83},"Petr Jiranek 91",1991,"M","Toužim","CZ/C1",21585,3,{"$f":"RANK(G89,G:G)","v":83},{"$f":"IF(ISERROR(VLOOKUP(B89,'N PMČR 2026'!B:G,6,0)),\"-\",VLOOKUP(B89,'N PMČR 2026'!B:G,6,0))","v":"-"},"","",null,null,{"$f":"IF(ISERROR(VLOOKUP(B89,'Zebrik W'!$B$7:$N$1000,13,0)),\"\",IF(VLOOKUP(B89,'Zebrik W'!$B$7:$N$1000,13,0)=0,\"--\",VLOOKUP(B89,'Zebrik W'!$B$7:$N$1000,13,0)))","v":""}]
[{"$f":"RANK(G90,G:G)","v":84},"Katerina Vojtova",1983,"F","Slaný","CZ/C1",21407,3,{"$f":"RANK(G90,G:G)","v":84},{"$f":"IF(ISERROR(VLOOKUP(B90,'N PMČR 2026'!B:G,6,0)),\"-\",VLOOKUP(B90,'N PMČR 2026'!B:G,6,0))","v":30},"","",null,"RV 2026",{"$f":"IF(ISERROR(VLOOKUP(B90,'Zebrik W'!$B$7:$N$1000,13,0)),\"\",IF(VLOOKUP(B90,'Zebrik W'!$B$7:$N$1000,13,0)=0,\"--\",VLOOKUP(B90,'Zebrik W'!$B$7:$N$1000,13,0)))","v":"WRV 2026"}]
[{"$f":"RANK(G91,G:G)","v":85},"Jiri Prochazka",1971,"M","Toužim","CZ/C1",21352,3,{"$f":"RANK(G91,G:G)","v":85},{"$f":"IF(ISERROR(VLOOKUP(B91,'N PMČR 2026'!B:G,6,0)),\"-\",VLOOKUP(B91,'N PMČR 2026'!B:G,6,0))","v":"-"},"","",null,null,{"$f":"IF(ISERROR(VLOOKUP(B91,'Zebrik W'!$B$7:$N$1000,13,0)),\"\",IF(VLOOKUP(B91,'Zebrik W'!$B$7:$N$1000,13,0)=0,\"--\",VLOOKUP(B91,'Zebrik W'!$B$7:$N$1000,13,0)))","v":""}]
[{"$f":"RANK(G92,G:G)","v":86},"Lukas Koukal",1991,"M","Letkov","CZ/C1",21329,3,{"$f":"RANK(G92,G:G)","v":86},{"$f":"IF(ISERROR(VLOOKUP(B92,'N PMČR 2026'!B:G,6,0)),\"-\",VLOOKUP(B92,'N PMČR 2026'!B:G,6,0))","v":"-"},"","",null,null,{"$f":"IF(ISERROR(VLOOKUP(B92,'Zebrik W'!$B$7:$N$1000,13,0)),\"\",IF(VLOOKUP(B92,'Zebrik W'!$B$7:$N$1000,13,0)=0,\"--\",VLOOKUP(B92,'Zebrik W'!$B$7:$N$1000,13,0)))","v":""}]
[{"$f":"RANK(G93,G:G)","v":87},"Radim Sobek",1977,"M","Hranice","CZ/M",21296,3,{"$f":"RANK(G93,G:G)","v":87},{"$f":"IF(ISERROR(VLOOKUP(B93,'N PMČR 2026'!B:G,6,0)),\"-\",VLOOKUP(B93,'N PMČR 2026'!B:G,6,0))","v":"-"},"","",null,null,{"$f":"IF(ISERROR(VLOOKUP(B93,'Zebrik W'!$B$7:$N$1000,13,0)),\"\",IF(VLOOKUP(B93,'Zebrik W'!$B$7:$N$1000,13,0)=0,\"--\",VLOOKUP(B93,'Zebrik W'!$B$7:$N$1000,13,0)))","v":""}]
[{"$f":"RANK(G94,G:G)","v":88},"Petr Bartak",1984,"M","Letkov","CZ/C1",21200,3,{"$f":"RANK(G94,G:G)","v":88},{"$f":"IF(ISERROR(VLOOKUP(B94,'N PMČR 2026'!B:G,6,0)),\"-\",VLOOKUP(B94,'N PMČR 2026'!B:G,6,0))","v":"-"},"","",null,null,{"$f":"IF(ISERROR(VLOOKUP(B94,'Zebrik W'!$B$7:$N$1000,13,0)),\"\",IF(VLOOKUP(B94,'Zebrik W'!$B$7:$N$1000,13,0)=0,\"--\",VLOOKUP(B94,'Zebrik W'!$B$7:$N$1000,13,0)))","v":""}]
[{"$f":"RANK(G95,G:G)","v":89},"Daniel Dvorak",1980,"M","Letkov","CZ/C1",21195,3,{"$f":"RANK(G95,G:G)","v":89},{"$f":"IF(ISERROR(VLOOKUP(B95,'N PMČR 2026'!B:G,6,0)),\"-\",VLOOKUP(B95,'N PMČR 2026'!B:G,6,0))","v":"-"},"","",null,null,{"$f":"IF(ISERROR(VLOOKUP(B95,'Zebrik W'!$B$7:$N$1000,13,0)),\"\",IF(VLOOKUP(B95,'Zebrik W'!$B$7:$N$1000,13,0)=0,\"--\",VLOOKUP(B95,'Zebrik W'!$B$7:$N$1000,13,0)))","v":""}]
[{"$f":"RANK(G96,G:G)","v":90},"Martin Hejny",1984,"M","Šumperk","CZ/M",21096,3,{"$f":"RANK(G96,G:G)","v":90},{"$f":"IF(ISERROR(VLOOKUP(B96,'N PMČR 2026'!B:G,6,0)),\"-\",VLOOKUP(B96,'N PMČR 2026'!B:G,6,0))","v":"-"},"","",null,null,{"$f":"IF(ISERROR(VLOOKUP(B96,'Zebrik W'!$B$7:$N$1000,13,0)),\"\",IF(VLOOKUP(B96,'Zebrik W'!$B$7:$N$1000,13,0)=0,\"--\",VLOOKUP(B96,'Zebrik W'!$B$7:$N$1000,13,0)))","v":""}]
[{"$f":"RANK(G97,G:G)","v":91},"Jan Muknsnabl",1992,"M","Letkov","CZ/C1",21081,3,{"$f":"RANK(G97,G:G)","v":91},{"$f":"IF(ISERROR(VLOOKUP(B97,'N PMČR 2026'!B:G,6,0)),\"-\",VLOOKUP(B97,'N PMČR 2026'!B:G,6,0))","v":"-"},"","",null,null,{"$f":"IF(ISERROR(VLOOKUP(B97,'Zebrik W'!$B$7:$N$1000,13,0)),\"\",IF(VLOOKUP(B97,'Zebrik W'!$B$7:$N$1000,13,0)=0,\"--\",VLOOKUP(B97,'Zebrik W'!$B$7:$N$1000,13,0)))","v":""}]
[{"$f":"RANK(G98,G:G)","v":92},"Jan Smaha",1958,"M","Česká Lípa","CZ/C2",21054,3,{"$f":"RANK(G98,G:G)","v":92},{"$f":"IF(ISERROR(VLOOKUP(B98,'N PMČR 2026'!B:G,6,0)),\"-\",VLOOKUP(B98,'N PMČR 2026'!B:G,6,0))","v":"-"},"","",null,null,{"$f":"IF(ISERROR(VLOOKUP(B98,'Zebrik W'!$B$7:$N$1000,13,0)),\"\",IF(VLOOKUP(B98,'Zebrik W'!$B$7:$N$1000,13,0)=0,\"--\",VLOOKUP(B98,'Zebrik W'!$B$7:$N$1000,13,0)))","v":""}]
[{"$f":"RANK(G99,G:G)","v":93},"Vojtech Vach 03",2003,"M","Vrchlabí","CZ/C2",21015,3,{"$f":"RANK(G99,G:G)","v":93},{"$f":"IF(ISERROR(VLOOKUP(B99,'N PMČR 2026'!B:G,6,0)),\"-\",VLOOKUP(B99,'N PMČR 2026'!B:G,6,0))","v":46},"Junior v roce 2026","Junior v roce 2027",null,null,{"$f":"IF(ISERROR(VLOOKUP(B99,'Zebrik W'!$B$7:$N$1000,13,0)),\"\",IF(VLOOKUP(B99,'Zebrik W'!$B$7:$N$1000,13,0)=0,\"--\",VLOOKUP(B99,'Zebrik W'!$B$7:$N$1000,13,0)))","v":""}]
[{"$f":"RANK(G100,G:G)","v":94},"Jan Vozeh",1995,"M","Rakovník","CZ/C1",20793,3,{"$f":"RANK(G100,G:G)","v":94},{"$f":"IF(ISERROR(VLOOKUP(B100,'N PMČR 2026'!B:G,6,0)),\"-\",VLOOKUP(B100,'N PMČR 2026'!B:G,6,0))","v":"-"},"","",null,null,{"$f":"IF(ISERROR(VLOOKUP(B100,'Zebrik W'!$B$7:$N$1000,13,0)),\"\",IF(VLOOKUP(B100,'Zebrik W'!$B$7:$N$1000,13,0)=0,\"--\",VLOOKUP(B100,'Zebrik W'!$B$7:$N$1000,13,0)))","v":""}]
[{"$f":"RANK(G101,G:G)","v":95},"Martin Picka",1974,"M","Tábor","CZ/C1",20681,3,{"$f":"RANK(G101,G:G)","v":95},{"$f":"IF(ISERROR(VLOOKUP(B101,'N PMČR 2026'!B:G,6,0)),\"-\",VLOOKUP(B101,'N PMČR 2026'!B:G,6,0))","v":"-"},"","",null,null,{"$f":"IF(ISERROR(VLOOKUP(B101,'Zebrik W'!$B$7:$N$1000,13,0)),\"\",IF(VLOOKUP(B101,'Zebrik W'!$B$7:$N$1000,13,0)=0,\"--\",VLOOKUP(B101,'Zebrik W'!$B$7:$N$1000,13,0)))","v":""}]
[{"$f":"RANK(G102,G:G)","v":96},"Jiri Koudela",1974,"M","Vyškov","CZ/M",20664,3,{"$f":"RANK(G102,G:G)","v":96},{"$f":"IF(ISERROR(VLOOKUP(B102,'N PMČR 2026'!B:G,6,0)),\"-\",VLOOKUP(B102,'N PMČR 2026'!B:G,6,0))","v":"-"},"","",null,null,{"$f":"IF(ISERROR(VLOOKUP(B102,'Zebrik W'!$B$7:$N$1000,13,0)),\"\",IF(VLOOKUP(B102,'Zebrik W'!$B$7:$N$1000,13,0)=0,\"--\",VLOOKUP(B102,'Zebrik W'!$B$7:$N$1000,13,0)))","v":""}]
[{"$f":"RANK(G103,G:G)","v":97},"Michal Drab",1969,"M","Letkov","CZ/C1",20450,3,{"$f":"RANK(G103,G:G)","v":97},{"$f":"IF(ISERROR(VLOOKUP(B103,'N PMČR 2026'!B:G,6,0)),\"-\",VLOOKUP(B103,'N PMČR 2026'!B:G,6,0))","v":"-"},"","",null,null,{"$f":"IF(ISERROR(VLOOKUP(B103,'Zebrik W'!$B$7:$N$1000,13,0)),\"\",IF(VLOOKUP(B103,'Zebrik W'!$B$7:$N$1000,13,0)=0,\"--\",VLOOKUP(B103,'Zebrik W'!$B$7:$N$1000,13,0)))","v":""}]
[{"$f":"RANK(G104,G:G)","v":98},"Leos Strnadek",1983,"M","Hodkovice","CZ/C2",20445,3,{"$f":"RANK(G104,G:G)","v":98},{"$f":"IF(ISERROR(VLOOKUP(B104,'N PMČR 2026'!B:G,6,0)),\"-\",VLOOKUP(B104,'N PMČR 2026'!B:G,6,0))","v":"-"},"","",null,null,{"$f":"IF(ISERROR(VLOOKUP(B104,'Zebrik W'!$B$7:$N$1000,13,0)),\"\",IF(VLOOKUP(B104,'Zebrik W'!$B$7:$N$1000,13,0)=0,\"--\",VLOOKUP(B104,'Zebrik W'!$B$7:$N$1000,13,0)))","v":""}]
[{"$f":"RANK(G105,G:G)","v":99},"Zdenek Boruvka 54",1954,"M","Jičín","CZ/C2",20444,3,{"$f":"RANK(G105,G:G)","v":99},{"$f":"IF(ISERROR(VLOOKUP(B105,'N PMČR 2026'!B:G,6,0)),\"-\",VLOOKUP(B105,'N PMČR 2026'!B:G,6,0))","v":"-"},"","",null,null,{"$f":"IF(ISERROR(VLOOKUP(B105,'Zebrik W'!$B$7:$N$1000,13,0)),\"\",IF(VLOOKUP(B105,'Zebrik W'!$B$7:$N$1000,13,0)=0,\"--\",VLOOKUP(B105,'Zebrik W'!$B$7:$N$1000,13,0)))","v":""}]
[{"$f":"RANK(G106,G:G)","v":100},"Pavlina Horackova",1965,"F","Šumperk","CZ/M",20388,3,{"$f":"RANK(G106,G:G)","v":100},{"$f":"IF(ISERROR(VLOOKUP(B106,'N PMČR 2026'!B:G,6,0)),\"-\",VLOOKUP(B106,'N PMČR 2026'!B:G,6,0))","v":57},"","",null,null,{"$f":"IF(ISERROR(VLOOKUP(B106,'Zebrik W'!$B$7:$N$1000,13,0)),\"\",IF(VLOOKUP(B106,'Zebrik W'!$B$7:$N$1000,13,0)=0,\"--\",VLOOKUP(B106,'Zebrik W'!$B$7:$N$1000,13,0)))","v":"--"}]
[{"$f":"RANK(G107,G:G)","v":101},"Frantisek Myska",1968,"M","Most","CZ/C2",20339,3,{"$f":"RANK(G107,G:G)","v":101},{"$f":"IF(ISERROR(VLOOKUP(B107,'N PMČR 2026'!B:G,6,0)),\"-\",VLOOKUP(B107,'N PMČR 2026'!B:G,6,0))","v":"-"},"","",null,null,{"$f":"IF(ISERROR(VLOOKUP(B107,'Zebrik W'!$B$7:$N$1000,13,0)),\"\",IF(VLOOKUP(B107,'Zebrik W'!$B$7:$N$1000,13,0)=0,\"--\",VLOOKUP(B107,'Zebrik W'!$B$7:$N$1000,13,0)))","v":""}]
[{"$f":"RANK(G108,G:G)","v":102},"Josef Kolman",1983,"M","Letňany","CZ/C1",20321,3,{"$f":"RANK(G108,G:G)","v":102},{"$f":"IF(ISERROR(VLOOKUP(B108,'N PMČR 2026'!B:G,6,0)),\"-\",VLOOKUP(B108,'N PMČR 2026'!B:G,6,0))","v":"-"},"","",null,null,{"$f":"IF(ISERROR(VLOOKUP(B108,'Zebrik W'!$B$7:$N$1000,13,0)),\"\",IF(VLOOKUP(B108,'Zebrik W'!$B$7:$N$1000,13,0)=0,\"--\",VLOOKUP(B108,'Zebrik W'!$B$7:$N$1000,13,0)))","v":""}]
[{"$f":"RANK(G109,G:G)","v":103},"Martin Kriz",1968,"M","Přibyslav","CZ/C2",20281,3,{"$f":"RANK(G109,G:G)","v":103},{"$f":"IF(ISERROR(VLOOKUP(B109,'N PMČR 2026'!B:G,6,0)),\"-\",VLOOKUP(B109,'N PMČR 2026'!B:G,6,0))","v":"-"},"","",null,null,{"$f":"IF(ISERROR(VLOOKUP(B109,'Zebrik W'!$B$7:$N$1000,13,0)),\"\",IF(VLOOKUP(B109,'Zebrik W'!$B$7:$N$1000,13,0)=0,\"--\",VLOOKUP(B109,'Zebrik W'!$B$7:$N$1000,13,0)))","v":""}]
[{"$f":"RANK(G110,G:G)","v":104},"Pavel Liska",1965,"M","Roudnice","CZ/C2",20171,3,{"$f":"RANK(G110,G:G)","v":104},{"$f":"IF(ISERROR(VLOOKUP(B110,'N PMČR 2026'!B:G,6,0)),\"-\",VLOOKUP(B110,'N PMČR 2026'!B:G,6,0))","v":"-"},"","",null,null,{"$f":"IF(ISERROR(VLOOKUP(B110,'Zebrik W'!$B$7:$N$1000,13,0)),\"\",IF(VLOOKUP(B110,'Zebrik W'!$B$7:$N$1000,13,0)=0,\"--\",VLOOKUP(B110,'Zebrik W'!$B$7:$N$1000,13,0)))","v":""}]
[{"$f":"RANK(G111,G:G)","v":105},"Martin Zahalka",1987,"M","Staňkov","CZ/C1",20161,3,{"$f":"RANK(G111,G:G)","v":105},{"$f":"IF(ISERROR(VLOOKUP(B111,'N PMČR 2026'!B:G,6,0)),\"-\",VLOOKUP(B111,'N PMČR 2026'!B:G,6,0))","v":"-"},"","",null,null,{"$f":"IF(ISERROR(VLOOKUP(B111,'Zebrik W'!$B$7:$N$1000,13,0)),\"\",IF(VLOOKUP(B111,'Zebrik W'!$B$7:$N$1000,13,0)=0,\"--\",VLOOKUP(B111,'Zebrik W'!$B$7:$N$1000,13,0)))","v":""}]
[{"$f":"RANK(G112,G:G)","v":106},"Petr Havelka",1997,"M","Zbraslavice","CZ/C1",20077,3,{"$f":"RANK(G112,G:G)","v":106},{"$f":"IF(ISERROR(VLOOKUP(B112,'N PMČR 2026'!B:G,6,0)),\"-\",VLOOKUP(B112,'N PMČR 2026'!B:G,6,0))","v":"-"},"","",null,null,{"$f":"IF(ISERROR(VLOOKUP(B112,'Zebrik W'!$B$7:$N$1000,13,0)),\"\",IF(VLOOKUP(B112,'Zebrik W'!$B$7:$N$1000,13,0)=0,\"--\",VLOOKUP(B112,'Zebrik W'!$B$7:$N$1000,13,0)))","v":""}]
[{"$f":"RANK(G113,G:G)","v":107},"Jan Horak",1971,"M","Zbraslavice","CZ/C1",20041,3,{"$f":"RANK(G113,G:G)","v":107},{"$f":"IF(ISERROR(VLOOKUP(B113,'N PMČR 2026'!B:G,6,0)),\"-\",VLOOKUP(B113,'N PMČR 2026'!B:G,6,0))","v":"-"},"","",null,null,{"$f":"IF(ISERROR(VLOOKUP(B113,'Zebrik W'!$B$7:$N$1000,13,0)),\"\",IF(VLOOKUP(B113,'Zebrik W'!$B$7:$N$1000,13,0)=0,\"--\",VLOOKUP(B113,'Zebrik W'!$B$7:$N$1000,13,0)))","v":""}]
[{"$f":"RANK(G114,G:G)","v":108},"Rostislav Stryk",1972,"M","Frýdlant","CZ/M",20019,3,{"$f":"RANK(G114,G:G)","v":108},{"$f":"IF(ISERROR(VLOOKUP(B114,'N PMČR 2026'!B:G,6,0)),\"-\",VLOOKUP(B114,'N PMČR 2026'!B:G,6,0))","v":"-"},"","",null,null,{"$f":"IF(ISERROR(VLOOKUP(B114,'Zebrik W'!$B$7:$N$1000,13,0)),\"\",IF(VLOOKUP(B114,'Zebrik W'!$B$7:$N$1000,13,0)=0,\"--\",VLOOKUP(B114,'Zebrik W'!$B$7:$N$1000,13,0)))","v":""}]
[{"$f":"RANK(G115,G:G)","v":109},"Adam Sugl",1987,"M","Vyškov","CZ/M",19921,3,{"$f":"RANK(G115,G:G)","v":109},{"$f":"IF(ISERROR(VLOOKUP(B115,'N PMČR 2026'!B:G,6,0)),\"-\",VLOOKUP(B115,'N PMČR 2026'!B:G,6,0))","v":"-"},"","",null,null,{"$f":"IF(ISERROR(VLOOKUP(B115,'Zebrik W'!$B$7:$N$1000,13,0)),\"\",IF(VLOOKUP(B115,'Zebrik W'!$B$7:$N$1000,13,0)=0,\"--\",VLOOKUP(B115,'Zebrik W'!$B$7:$N$1000,13,0)))","v":""}]
[{"$f":"RANK(G116,G:G)","v":110},"Marek Kornec",1957,"M","Dvůr Králové","CZ/C2",19899,3,{"$f":"RANK(G116,G:G)","v":110},{"$f":"IF(ISERROR(VLOOKUP(B116,'N PMČR 2026'!B:G,6,0)),\"-\",VLOOKUP(B116,'N PMČR 2026'!B:G,6,0))","v":"-"},"","",null,null,{"$f":"IF(ISERROR(VLOOKUP(B116,'Zebrik W'!$B$7:$N$1000,13,0)),\"\",IF(VLOOKUP(B116,'Zebrik W'!$B$7:$N$1000,13,0)=0,\"--\",VLOOKUP(B116,'Zebrik W'!$B$7:$N$1000,13,0)))","v":""}]
[{"$f":"RANK(G117,G:G)","v":111},"Lubomir Motl",1959,"M","Kyjov","CZ/M",19817,3,{"$f":"RANK(G117,G:G)","v":111},{"$f":"IF(ISERROR(VLOOKUP(B117,'N PMČR 2026'!B:G,6,0)),\"-\",VLOOKUP(B117,'N PMČR 2026'!B:G,6,0))","v":"-"},"","",null,null,{"$f":"IF(ISERROR(VLOOKUP(B117,'Zebrik W'!$B$7:$N$1000,13,0)),\"\",IF(VLOOKUP(B117,'Zebrik W'!$B$7:$N$1000,13,0)=0,\"--\",VLOOKUP(B117,'Zebrik W'!$B$7:$N$1000,13,0)))","v":""}]
[{"$f":"RANK(G118,G:G)","v":112},"Petr Babak",1973,"M","Hořice","CZ/C2",19785,3,{"$f":"RANK(G118,G:G)","v":112},{"$f":"IF(ISERROR(VLOOKUP(B118,'N PMČR 2026'!B:G,6,0)),\"-\",VLOOKUP(B118,'N PMČR 2026'!B:G,6,0))","v":"-"},"","",null,null,{"$f":"IF(ISERROR(VLOOKUP(B118,'Zebrik W'!$B$7:$N$1000,13,0)),\"\",IF(VLOOKUP(B118,'Zebrik W'!$B$7:$N$1000,13,0)=0,\"--\",VLOOKUP(B118,'Zebrik W'!$B$7:$N$1000,13,0)))","v":""}]
[{"$f":"RANK(G119,G:G)","v":113},"Martin Svarc",1981,"M","Olomouc","CZ/M",19758,3,{"$f":"RANK(G119,G:G)","v":113},{"$f":"IF(ISERROR(VLOOKUP(B119,'N PMČR 2026'!B:G,6,0)),\"-\",VLOOKUP(B119,'N PMČR 2026'!B:G,6,0))","v":"-"},"","",null,null,{"$f":"IF(ISERROR(VLOOKUP(B119,'Zebrik W'!$B$7:$N$1000,13,0)),\"\",IF(VLOOKUP(B119,'Zebrik W'!$B$7:$N$1000,13,0)=0,\"--\",VLOOKUP(B119,'Zebrik W'!$B$7:$N$1000,13,0)))","v":""}]
[{"$f":"RANK(G120,G:G)","v":114},"Zdenek Schenk",1972,"M","Hranice","CZ/M",19738,3,{"$f":"RANK(G120,G:G)","v":114},{"$f":"IF(ISERROR(VLOOKUP(B120,'N PMČR 2026'!B:G,6,0)),\"-\",VLOOKUP(B120,'N PMČR 2026'!B:G,6,0))","v":"-"},"","",null,null,{"$f":"IF(ISERROR(VLOOKUP(B120,'Zebrik W'!$B$7:$N$1000,13,0)),\"\",IF(VLOOKUP(B120,'Zebrik W'!$B$7:$N$1000,13,0)=0,\"--\",VLOOKUP(B120,'Zebrik W'!$B$7:$N$1000,13,0)))","v":""}]
[{"$f":"RANK(G121,G:G)","v":115},"Jiri Hula",1973,"M","Slaný","CZ/C1",19734,3,{"$f":"RANK(G121,G:G)","v":115},{"$f":"IF(ISERROR(VLOOKUP(B121,'N PMČR 2026'!B:G,6,0)),\"-\",VLOOKUP(B121,'N PMČR 2026'!B:G,6,0))","v":"-"},"","",null,null,{"$f":"IF(ISERROR(VLOOKUP(B121,'Zebrik W'!$B$7:$N$1000,13,0)),\"\",IF(VLOOKUP(B121,'Zebrik W'!$B$7:$N$1000,13,0)=0,\"--\",VLOOKUP(B121,'Zebrik W'!$B$7:$N$1000,13,0)))","v":""}]
[{"$f":"RANK(G122,G:G)","v":116},"Petr Jiranek 63",1962,"M","Toužim","CZ/C1",19515,3,{"$f":"RANK(G122,G:G)","v":116},{"$f":"IF(ISERROR(VLOOKUP(B122,'N PMČR 2026'!B:G,6,0)),\"-\",VLOOKUP(B122,'N PMČR 2026'!B:G,6,0))","v":"-"},"","",null,null,{"$f":"IF(ISERROR(VLOOKUP(B122,'Zebrik W'!$B$7:$N$1000,13,0)),\"\",IF(VLOOKUP(B122,'Zebrik W'!$B$7:$N$1000,13,0)=0,\"--\",VLOOKUP(B122,'Zebrik W'!$B$7:$N$1000,13,0)))","v":""}]
[{"$f":"RANK(G123,G:G)","v":117},"Josef Beran",1982,"M","Slaný","CZ/C1",19389,3,{"$f":"RANK(G123,G:G)","v":117},{"$f":"IF(ISERROR(VLOOKUP(B123,'N PMČR 2026'!B:G,6,0)),\"-\",VLOOKUP(B123,'N PMČR 2026'!B:G,6,0))","v":51},"","",null,null,{"$f":"IF(ISERROR(VLOOKUP(B123,'Zebrik W'!$B$7:$N$1000,13,0)),\"\",IF(VLOOKUP(B123,'Zebrik W'!$B$7:$N$1000,13,0)=0,\"--\",VLOOKUP(B123,'Zebrik W'!$B$7:$N$1000,13,0)))","v":""}]
[{"$f":"RANK(G124,G:G)","v":118},"Jan Pazour",1979,"M","Dvůr Králové","CZ/C2",19386,3,{"$f":"RANK(G124,G:G)","v":118},{"$f":"IF(ISERROR(VLOOKUP(B124,'N PMČR 2026'!B:G,6,0)),\"-\",VLOOKUP(B124,'N PMČR 2026'!B:G,6,0))","v":"-"},"","",null,null,{"$f":"IF(ISERROR(VLOOKUP(B124,'Zebrik W'!$B$7:$N$1000,13,0)),\"\",IF(VLOOKUP(B124,'Zebrik W'!$B$7:$N$1000,13,0)=0,\"--\",VLOOKUP(B124,'Zebrik W'!$B$7:$N$1000,13,0)))","v":""}]
[{"$f":"RANK(G125,G:G)","v":119},"Tomas Kulhavy",2001,"M","Liberec","CZ/C2",19324,3,{"$f":"RANK(G125,G:G)","v":119},{"$f":"IF(ISERROR(VLOOKUP(B125,'N PMČR 2026'!B:G,6,0)),\"-\",VLOOKUP(B125,'N PMČR 2026'!B:G,6,0))","v":"-"},"Junior v roce 2026","",null,null,{"$f":"IF(ISERROR(VLOOKUP(B125,'Zebrik W'!$B$7:$N$1000,13,0)),\"\",IF(VLOOKUP(B125,'Zebrik W'!$B$7:$N$1000,13,0)=0,\"--\",VLOOKUP(B125,'Zebrik W'!$B$7:$N$1000,13,0)))","v":""}]
[{"$f":"RANK(G126,G:G)","v":120},"Filip Mrstny",2006,"M","Beroun","CZ/C1",19046,3,{"$f":"RANK(G126,G:G)","v":120},{"$f":"IF(ISERROR(VLOOKUP(B126,'N PMČR 2026'!B:G,6,0)),\"-\",VLOOKUP(B126,'N PMČR 2026'!B:G,6,0))","v":"-"},"Junior v roce 2026","Junior v roce 2027",null,null,{"$f":"IF(ISERROR(VLOOKUP(B126,'Zebrik W'!$B$7:$N$1000,13,0)),\"\",IF(VLOOKUP(B126,'Zebrik W'!$B$7:$N$1000,13,0)=0,\"--\",VLOOKUP(B126,'Zebrik W'!$B$7:$N$1000,13,0)))","v":""}]
[{"$f":"RANK(G127,G:G)","v":120},"Vaclav Svoboda",1970,"M","Letkov","CZ/C1",19046,3,{"$f":"RANK(G127,G:G)","v":120},{"$f":"IF(ISERROR(VLOOKUP(B127,'N PMČR 2026'!B:G,6,0)),\"-\",VLOOKUP(B127,'N PMČR 2026'!B:G,6,0))","v":"-"},"","",null,null,{"$f":"IF(ISERROR(VLOOKUP(B127,'Zebrik W'!$B$7:$N$1000,13,0)),\"\",IF(VLOOKUP(B127,'Zebrik W'!$B$7:$N$1000,13,0)=0,\"--\",VLOOKUP(B127,'Zebrik W'!$B$7:$N$1000,13,0)))","v":""}]
[{"$f":"RANK(G128,G:G)","v":122},"David Riha",1983,"M","Vlašim","CZ/C1",18824,3,{"$f":"RANK(G128,G:G)","v":122},{"$f":"IF(ISERROR(VLOOKUP(B128,'N PMČR 2026'!B:G,6,0)),\"-\",VLOOKUP(B128,'N PMČR 2026'!B:G,6,0))","v":"-"},"","",null,null,{"$f":"IF(ISERROR(VLOOKUP(B128,'Zebrik W'!$B$7:$N$1000,13,0)),\"\",IF(VLOOKUP(B128,'Zebrik W'!$B$7:$N$1000,13,0)=0,\"--\",VLOOKUP(B128,'Zebrik W'!$B$7:$N$1000,13,0)))","v":""}]
[{"$f":"RANK(G129,G:G)","v":123},"Marek Svancara",1976,"M","GAC Benešov","CZ/C1",18635,3,{"$f":"RANK(G129,G:G)","v":123},{"$f":"IF(ISERROR(VLOOKUP(B129,'N PMČR 2026'!B:G,6,0)),\"-\",VLOOKUP(B129,'N PMČR 2026'!B:G,6,0))","v":"-"},"","",null,null,{"$f":"IF(ISERROR(VLOOKUP(B129,'Zebrik W'!$B$7:$N$1000,13,0)),\"\",IF(VLOOKUP(B129,'Zebrik W'!$B$7:$N$1000,13,0)=0,\"--\",VLOOKUP(B129,'Zebrik W'!$B$7:$N$1000,13,0)))","v":""}]
[{"$f":"RANK(G130,G:G)","v":124},"Wolfgang Sluka",1942,"M","Liberec","CZ/C2",18387,3,{"$f":"RANK(G130,G:G)","v":124},{"$f":"IF(ISERROR(VLOOKUP(B130,'N PMČR 2026'!B:G,6,0)),\"-\",VLOOKUP(B130,'N PMČR 2026'!B:G,6,0))","v":"-"},"","",null,null,{"$f":"IF(ISERROR(VLOOKUP(B130,'Zebrik W'!$B$7:$N$1000,13,0)),\"\",IF(VLOOKUP(B130,'Zebrik W'!$B$7:$N$1000,13,0)=0,\"--\",VLOOKUP(B130,'Zebrik W'!$B$7:$N$1000,13,0)))","v":""}]
[{"$f":"RANK(G131,G:G)","v":125},"Miloslav Hulmak",1963,"M","Hosín","CZ/C1",18301,3,{"$f":"RANK(G131,G:G)","v":125},{"$f":"IF(ISERROR(VLOOKUP(B131,'N PMČR 2026'!B:G,6,0)),\"-\",VLOOKUP(B131,'N PMČR 2026'!B:G,6,0))","v":"-"},"","",null,null,{"$f":"IF(ISERROR(VLOOKUP(B131,'Zebrik W'!$B$7:$N$1000,13,0)),\"\",IF(VLOOKUP(B131,'Zebrik W'!$B$7:$N$1000,13,0)=0,\"--\",VLOOKUP(B131,'Zebrik W'!$B$7:$N$1000,13,0)))","v":""}]
[{"$f":"RANK(G132,G:G)","v":126},"Jaroslav Sima",1972,"M","Chomutov","CZ/C2",18181,3,{"$f":"RANK(G132,G:G)","v":126},{"$f":"IF(ISERROR(VLOOKUP(B132,'N PMČR 2026'!B:G,6,0)),\"-\",VLOOKUP(B132,'N PMČR 2026'!B:G,6,0))","v":"-"},"","",null,null,{"$f":"IF(ISERROR(VLOOKUP(B132,'Zebrik W'!$B$7:$N$1000,13,0)),\"\",IF(VLOOKUP(B132,'Zebrik W'!$B$7:$N$1000,13,0)=0,\"--\",VLOOKUP(B132,'Zebrik W'!$B$7:$N$1000,13,0)))","v":""}]
[{"$f":"RANK(G133,G:G)","v":127},"Ladislav Prokes",1954,"M","Vrchlabí","CZ/C2",18062,3,{"$f":"RANK(G133,G:G)","v":127},{"$f":"IF(ISERROR(VLOOKUP(B133,'N PMČR 2026'!B:G,6,0)),\"-\",VLOOKUP(B133,'N PMČR 2026'!B:G,6,0))","v":"-"},"","",null,null,{"$f":"IF(ISERROR(VLOOKUP(B133,'Zebrik W'!$B$7:$N$1000,13,0)),\"\",IF(VLOOKUP(B133,'Zebrik W'!$B$7:$N$1000,13,0)=0,\"--\",VLOOKUP(B133,'Zebrik W'!$B$7:$N$1000,13,0)))","v":""}]
[{"$f":"RANK(G134,G:G)","v":128},"Frantisek Suna",1983,"M","Hosín","CZ/C1",17960,3,{"$f":"RANK(G134,G:G)","v":128},{"$f":"IF(ISERROR(VLOOKUP(B134,'N PMČR 2026'!B:G,6,0)),\"-\",VLOOKUP(B134,'N PMČR 2026'!B:G,6,0))","v":"-"},"","",null,null,{"$f":"IF(ISERROR(VLOOKUP(B134,'Zebrik W'!$B$7:$N$1000,13,0)),\"\",IF(VLOOKUP(B134,'Zebrik W'!$B$7:$N$1000,13,0)=0,\"--\",VLOOKUP(B134,'Zebrik W'!$B$7:$N$1000,13,0)))","v":""}]
[{"$f":"RANK(G135,G:G)","v":129},"Jan Florian",1992,"M","Zbraslavice","CZ/C1",17833,3,{"$f":"RANK(G135,G:G)","v":129},{"$f":"IF(ISERROR(VLOOKUP(B135,'N PMČR 2026'!B:G,6,0)),\"-\",VLOOKUP(B135,'N PMČR 2026'!B:G,6,0))","v":"-"},"","",null,null,{"$f":"IF(ISERROR(VLOOKUP(B135,'Zebrik W'!$B$7:$N$1000,13,0)),\"\",IF(VLOOKUP(B135,'Zebrik W'!$B$7:$N$1000,13,0)=0,\"--\",VLOOKUP(B135,'Zebrik W'!$B$7:$N$1000,13,0)))","v":""}]
[{"$f":"RANK(G136,G:G)","v":130},"Josef Novotny",1983,"M","Přibyslav","CZ/C2",17724,2,{"$f":"RANK(G136,G:G)","v":130},{"$f":"IF(ISERROR(VLOOKUP(B136,'N PMČR 2026'!B:G,6,0)),\"-\",VLOOKUP(B136,'N PMČR 2026'!B:G,6,0))","v":"-"},{"$f":"IF(C136=\"(prázdné)\",\"\",IF(($K$4-C136)>25,\"\",\"Junior v roce \"&$K$4))","v":""},{"$f":"IF(C136=\"(prázdné)\",\"\",IF(($L$4-C136)>25,\"\",\"Junior v roce \"&$L$4))","v":""},null,null,{"$f":"IF(ISERROR(VLOOKUP(B136,'Zebrik W'!$B$7:$N$1000,13,0)),\"\",IF(VLOOKUP(B136,'Zebrik W'!$B$7:$N$1000,13,0)=0,\"--\",VLOOKUP(B136,'Zebrik W'!$B$7:$N$1000,13,0)))","v":""}]
[{"$f":"RANK(G137,G:G)","v":131},"Tibor Hezina",2002,"M","Křižanov","CZ/M",17684,3,{"$f":"RANK(G137,G:G)","v":131},{"$f":"IF(ISERROR(VLOOKUP(B137,'N PMČR 2026'!B:G,6,0)),\"-\",VLOOKUP(B137,'N PMČR 2026'!B:G,6,0))","v":"-"},"Junior v roce 2026","Junior v roce 2027",null,null,{"$f":"IF(ISERROR(VLOOKUP(B137,'Zebrik W'!$B$7:$N$1000,13,0)),\"\",IF(VLOOKUP(B137,'Zebrik W'!$B$7:$N$1000,13,0)=0,\"--\",VLOOKUP(B137,'Zebrik W'!$B$7:$N$1000,13,0)))","v":""}]
[{"$f":"RANK(G138,G:G)","v":132},"Radim Tomala",1972,"M","Prostějov","CZ/M",17672,3,{"$f":"RANK(G138,G:G)","v":132},{"$f":"IF(ISERROR(VLOOKUP(B138,'N PMČR 2026'!B:G,6,0)),\"-\",VLOOKUP(B138,'N PMČR 2026'!B:G,6,0))","v":"-"},"","",null,null,{"$f":"IF(ISERROR(VLOOKUP(B138,'Zebrik W'!$B$7:$N$1000,13,0)),\"\",IF(VLOOKUP(B138,'Zebrik W'!$B$7:$N$1000,13,0)=0,\"--\",VLOOKUP(B138,'Zebrik W'!$B$7:$N$1000,13,0)))","v":""}]
[{"$f":"RANK(G139,G:G)","v":133},"Ondrej Teichman",1984,"M","Dvůr Králové","CZ/C2",17651,3,{"$f":"RANK(G139,G:G)","v":133},{"$f":"IF(ISERROR(VLOOKUP(B139,'N PMČR 2026'!B:G,6,0)),\"-\",VLOOKUP(B139,'N PMČR 2026'!B:G,6,0))","v":"-"},"","",null,null,{"$f":"IF(ISERROR(VLOOKUP(B139,'Zebrik W'!$B$7:$N$1000,13,0)),\"\",IF(VLOOKUP(B139,'Zebrik W'!$B$7:$N$1000,13,0)=0,\"--\",VLOOKUP(B139,'Zebrik W'!$B$7:$N$1000,13,0)))","v":""}]
[{"$f":"RANK(G140,G:G)","v":134},"Jaroslav Potmesil",1964,"M","Zbraslavice","CZ/C1",17620,3,{"$f":"RANK(G140,G:G)","v":134},{"$f":"IF(ISERROR(VLOOKUP(B140,'N PMČR 2026'!B:G,6,0)),\"-\",VLOOKUP(B140,'N PMČR 2026'!B:G,6,0))","v":59},"","",null,null,{"$f":"IF(ISERROR(VLOOKUP(B140,'Zebrik W'!$B$7:$N$1000,13,0)),\"\",IF(VLOOKUP(B140,'Zebrik W'!$B$7:$N$1000,13,0)=0,\"--\",VLOOKUP(B140,'Zebrik W'!$B$7:$N$1000,13,0)))","v":""}]
[{"$f":"RANK(G141,G:G)","v":135},"Jakub Kohn",1992,"M","Prostějov","CZ/M",17573,3,{"$f":"RANK(G141,G:G)","v":135},{"$f":"IF(ISERROR(VLOOKUP(B141,'N PMČR 2026'!B:G,6,0)),\"-\",VLOOKUP(B141,'N PMČR 2026'!B:G,6,0))","v":"-"},"","",null,null,{"$f":"IF(ISERROR(VLOOKUP(B141,'Zebrik W'!$B$7:$N$1000,13,0)),\"\",IF(VLOOKUP(B141,'Zebrik W'!$B$7:$N$1000,13,0)=0,\"--\",VLOOKUP(B141,'Zebrik W'!$B$7:$N$1000,13,0)))","v":""}]
[{"$f":"RANK(G142,G:G)","v":136},"Jan Mareth",1979,"M","Frýdlant","CZ/M",17565,3,{"$f":"RANK(G142,G:G)","v":136},{"$f":"IF(ISERROR(VLOOKUP(B142,'N PMČR 2026'!B:G,6,0)),\"-\",VLOOKUP(B142,'N PMČR 2026'!B:G,6,0))","v":"-"},"","",null,null,{"$f":"IF(ISERROR(VLOOKUP(B142,'Zebrik W'!$B$7:$N$1000,13,0)),\"\",IF(VLOOKUP(B142,'Zebrik W'!$B$7:$N$1000,13,0)=0,\"--\",VLOOKUP(B142,'Zebrik W'!$B$7:$N$1000,13,0)))","v":""}]
[{"$f":"RANK(G143,G:G)","v":137},"Radek Bares",1963,"M","Jičín","CZ/C2",17514,3,{"$f":"RANK(G143,G:G)","v":137},{"$f":"IF(ISERROR(VLOOKUP(B143,'N PMČR 2026'!B:G,6,0)),\"-\",VLOOKUP(B143,'N PMČR 2026'!B:G,6,0))","v":"-"},"","",null,null,{"$f":"IF(ISERROR(VLOOKUP(B143,'Zebrik W'!$B$7:$N$1000,13,0)),\"\",IF(VLOOKUP(B143,'Zebrik W'!$B$7:$N$1000,13,0)=0,\"--\",VLOOKUP(B143,'Zebrik W'!$B$7:$N$1000,13,0)))","v":""}]
[{"$f":"RANK(G144,G:G)","v":138},"Ales Vyhnal",1989,"M","Kralupy","CZ/C1",17444,3,{"$f":"RANK(G144,G:G)","v":138},{"$f":"IF(ISERROR(VLOOKUP(B144,'N PMČR 2026'!B:G,6,0)),\"-\",VLOOKUP(B144,'N PMČR 2026'!B:G,6,0))","v":"-"},"","",null,null,{"$f":"IF(ISERROR(VLOOKUP(B144,'Zebrik W'!$B$7:$N$1000,13,0)),\"\",IF(VLOOKUP(B144,'Zebrik W'!$B$7:$N$1000,13,0)=0,\"--\",VLOOKUP(B144,'Zebrik W'!$B$7:$N$1000,13,0)))","v":""}]
[{"$f":"RANK(G145,G:G)","v":139},"Jan Hybner",1977,"M","Liberec","CZ/C2",17391,3,{"$f":"RANK(G145,G:G)","v":139},{"$f":"IF(ISERROR(VLOOKUP(B145,'N PMČR 2026'!B:G,6,0)),\"-\",VLOOKUP(B145,'N PMČR 2026'!B:G,6,0))","v":"-"},"","",null,null,{"$f":"IF(ISERROR(VLOOKUP(B145,'Zebrik W'!$B$7:$N$1000,13,0)),\"\",IF(VLOOKUP(B145,'Zebrik W'!$B$7:$N$1000,13,0)=0,\"--\",VLOOKUP(B145,'Zebrik W'!$B$7:$N$1000,13,0)))","v":""}]
[{"$f":"RANK(G146,G:G)","v":140},"Milan Meisner",1961,"M","Dvůr Králové","CZ/C2",17380,3,{"$f":"RANK(G146,G:G)","v":140},{"$f":"IF(ISERROR(VLOOKUP(B146,'N PMČR 2026'!B:G,6,0)),\"-\",VLOOKUP(B146,'N PMČR 2026'!B:G,6,0))","v":"-"},"","",null,null,{"$f":"IF(ISERROR(VLOOKUP(B146,'Zebrik W'!$B$7:$N$1000,13,0)),\"\",IF(VLOOKUP(B146,'Zebrik W'!$B$7:$N$1000,13,0)=0,\"--\",VLOOKUP(B146,'Zebrik W'!$B$7:$N$1000,13,0)))","v":""}]
[{"$f":"RANK(G147,G:G)","v":141},"David Popovsky",1976,"M","Rakovník","CZ/C1",17219,3,{"$f":"RANK(G147,G:G)","v":141},{"$f":"IF(ISERROR(VLOOKUP(B147,'N PMČR 2026'!B:G,6,0)),\"-\",VLOOKUP(B147,'N PMČR 2026'!B:G,6,0))","v":"-"},"","",null,null,{"$f":"IF(ISERROR(VLOOKUP(B147,'Zebrik W'!$B$7:$N$1000,13,0)),\"\",IF(VLOOKUP(B147,'Zebrik W'!$B$7:$N$1000,13,0)=0,\"--\",VLOOKUP(B147,'Zebrik W'!$B$7:$N$1000,13,0)))","v":""}]
[{"$f":"RANK(G148,G:G)","v":142},"Katerina Vancurova",2002,"F","Hranice","CZ/M",17173,3,{"$f":"RANK(G148,G:G)","v":142},{"$f":"IF(ISERROR(VLOOKUP(B148,'N PMČR 2026'!B:G,6,0)),\"-\",VLOOKUP(B148,'N PMČR 2026'!B:G,6,0))","v":"N1"},"Junior v roce 2026","Junior v roce 2027",null,null,{"$f":"IF(ISERROR(VLOOKUP(B148,'Zebrik W'!$B$7:$N$1000,13,0)),\"\",IF(VLOOKUP(B148,'Zebrik W'!$B$7:$N$1000,13,0)=0,\"--\",VLOOKUP(B148,'Zebrik W'!$B$7:$N$1000,13,0)))","v":"--"}]
[{"$f":"RANK(G149,G:G)","v":143},"Jakub Malik",1999,"M","Letňany","CZ/C1",17167,2,{"$f":"RANK(G149,G:G)","v":143},{"$f":"IF(ISERROR(VLOOKUP(B149,'N PMČR 2026'!B:G,6,0)),\"-\",VLOOKUP(B149,'N PMČR 2026'!B:G,6,0))","v":"-"},"","",null,null,{"$f":"IF(ISERROR(VLOOKUP(B149,'Zebrik W'!$B$7:$N$1000,13,0)),\"\",IF(VLOOKUP(B149,'Zebrik W'!$B$7:$N$1000,13,0)=0,\"--\",VLOOKUP(B149,'Zebrik W'!$B$7:$N$1000,13,0)))","v":""}]
[{"$f":"RANK(G150,G:G)","v":144},"Petr Starek",1974,"M","Zbraslavice","CZ/C1",17067,3,{"$f":"RANK(G150,G:G)","v":144},{"$f":"IF(ISERROR(VLOOKUP(B150,'N PMČR 2026'!B:G,6,0)),\"-\",VLOOKUP(B150,'N PMČR 2026'!B:G,6,0))","v":"-"},"","",null,null,{"$f":"IF(ISERROR(VLOOKUP(B150,'Zebrik W'!$B$7:$N$1000,13,0)),\"\",IF(VLOOKUP(B150,'Zebrik W'!$B$7:$N$1000,13,0)=0,\"--\",VLOOKUP(B150,'Zebrik W'!$B$7:$N$1000,13,0)))","v":""}]
[{"$f":"RANK(G151,G:G)","v":145},"Jan Zahradka",1981,"M","Hodkovice","CZ/C2",17066,3,{"$f":"RANK(G151,G:G)","v":145},{"$f":"IF(ISERROR(VLOOKUP(B151,'N PMČR 2026'!B:G,6,0)),\"-\",VLOOKUP(B151,'N PMČR 2026'!B:G,6,0))","v":"-"},"","",null,null,{"$f":"IF(ISERROR(VLOOKUP(B151,'Zebrik W'!$B$7:$N$1000,13,0)),\"\",IF(VLOOKUP(B151,'Zebrik W'!$B$7:$N$1000,13,0)=0,\"--\",VLOOKUP(B151,'Zebrik W'!$B$7:$N$1000,13,0)))","v":""}]
[{"$f":"RANK(G152,G:G)","v":146},"Tomas Prikryl",1973,"M","Vyškov","CZ/M",16790,3,{"$f":"RANK(G152,G:G)","v":146},{"$f":"IF(ISERROR(VLOOKUP(B152,'N PMČR 2026'!B:G,6,0)),\"-\",VLOOKUP(B152,'N PMČR 2026'!B:G,6,0))","v":"-"},"","",null,null,{"$f":"IF(ISERROR(VLOOKUP(B152,'Zebrik W'!$B$7:$N$1000,13,0)),\"\",IF(VLOOKUP(B152,'Zebrik W'!$B$7:$N$1000,13,0)=0,\"--\",VLOOKUP(B152,'Zebrik W'!$B$7:$N$1000,13,0)))","v":""}]
[{"$f":"RANK(G153,G:G)","v":147},"Jiri Maier 66",1966,"M","Raná","CZ/C2",16719,3,{"$f":"RANK(G153,G:G)","v":147},{"$f":"IF(ISERROR(VLOOKUP(B153,'N PMČR 2026'!B:G,6,0)),\"-\",VLOOKUP(B153,'N PMČR 2026'!B:G,6,0))","v":"-"},"","",null,null,{"$f":"IF(ISERROR(VLOOKUP(B153,'Zebrik W'!$B$7:$N$1000,13,0)),\"\",IF(VLOOKUP(B153,'Zebrik W'!$B$7:$N$1000,13,0)=0,\"--\",VLOOKUP(B153,'Zebrik W'!$B$7:$N$1000,13,0)))","v":""}]
[{"$f":"RANK(G154,G:G)","v":148},"Jan Zanda",1983,"M","Letkov","CZ/C1",16709,3,{"$f":"RANK(G154,G:G)","v":148},{"$f":"IF(ISERROR(VLOOKUP(B154,'N PMČR 2026'!B:G,6,0)),\"-\",VLOOKUP(B154,'N PMČR 2026'!B:G,6,0))","v":"-"},"","",null,null,{"$f":"IF(ISERROR(VLOOKUP(B154,'Zebrik W'!$B$7:$N$1000,13,0)),\"\",IF(VLOOKUP(B154,'Zebrik W'!$B$7:$N$1000,13,0)=0,\"--\",VLOOKUP(B154,'Zebrik W'!$B$7:$N$1000,13,0)))","v":""}]
[{"$f":"RANK(G155,G:G)","v":149},"Miroslav Koci",1961,"M","Žamberk","CZ/C2",16598,3,{"$f":"RANK(G155,G:G)","v":149},{"$f":"IF(ISERROR(VLOOKUP(B155,'N PMČR 2026'!B:G,6,0)),\"-\",VLOOKUP(B155,'N PMČR 2026'!B:G,6,0))","v":"-"},"","",null,null,{"$f":"IF(ISERROR(VLOOKUP(B155,'Zebrik W'!$B$7:$N$1000,13,0)),\"\",IF(VLOOKUP(B155,'Zebrik W'!$B$7:$N$1000,13,0)=0,\"--\",VLOOKUP(B155,'Zebrik W'!$B$7:$N$1000,13,0)))","v":""}]
[{"$f":"RANK(G156,G:G)","v":150},"Petr Rozhon",1972,"M","Hosín","CZ/C1",16586,3,{"$f":"RANK(G156,G:G)","v":150},{"$f":"IF(ISERROR(VLOOKUP(B156,'N PMČR 2026'!B:G,6,0)),\"-\",VLOOKUP(B156,'N PMČR 2026'!B:G,6,0))","v":"-"},"","",null,null,{"$f":"IF(ISERROR(VLOOKUP(B156,'Zebrik W'!$B$7:$N$1000,13,0)),\"\",IF(VLOOKUP(B156,'Zebrik W'!$B$7:$N$1000,13,0)=0,\"--\",VLOOKUP(B156,'Zebrik W'!$B$7:$N$1000,13,0)))","v":""}]
[{"$f":"RANK(G157,G:G)","v":151},"Vladimir Hammer",2000,"M","Letkov","CZ/C1",16526,3,{"$f":"RANK(G157,G:G)","v":151},{"$f":"IF(ISERROR(VLOOKUP(B157,'N PMČR 2026'!B:G,6,0)),\"-\",VLOOKUP(B157,'N PMČR 2026'!B:G,6,0))","v":"-"},"","",null,null,{"$f":"IF(ISERROR(VLOOKUP(B157,'Zebrik W'!$B$7:$N$1000,13,0)),\"\",IF(VLOOKUP(B157,'Zebrik W'!$B$7:$N$1000,13,0)=0,\"--\",VLOOKUP(B157,'Zebrik W'!$B$7:$N$1000,13,0)))","v":""}]
[{"$f":"RANK(G158,G:G)","v":152},"Martin Stastny",2005,"M","Medlánky","CZ/M",16483,3,{"$f":"RANK(G158,G:G)","v":152},{"$f":"IF(ISERROR(VLOOKUP(B158,'N PMČR 2026'!B:G,6,0)),\"-\",VLOOKUP(B158,'N PMČR 2026'!B:G,6,0))","v":"-"},"Junior v roce 2026","Junior v roce 2027",null,null,{"$f":"IF(ISERROR(VLOOKUP(B158,'Zebrik W'!$B$7:$N$1000,13,0)),\"\",IF(VLOOKUP(B158,'Zebrik W'!$B$7:$N$1000,13,0)=0,\"--\",VLOOKUP(B158,'Zebrik W'!$B$7:$N$1000,13,0)))","v":""}]
[{"$f":"RANK(G159,G:G)","v":153},"Premysl Muzik",1990,"M","Tábor","CZ/C1",16440,3,{"$f":"RANK(G159,G:G)","v":153},{"$f":"IF(ISERROR(VLOOKUP(B159,'N PMČR 2026'!B:G,6,0)),\"-\",VLOOKUP(B159,'N PMČR 2026'!B:G,6,0))","v":53},"","",null,null,{"$f":"IF(ISERROR(VLOOKUP(B159,'Zebrik W'!$B$7:$N$1000,13,0)),\"\",IF(VLOOKUP(B159,'Zebrik W'!$B$7:$N$1000,13,0)=0,\"--\",VLOOKUP(B159,'Zebrik W'!$B$7:$N$1000,13,0)))","v":""}]
[{"$f":"RANK(G160,G:G)","v":154},"Tomas Ditrt",1969,"M","Podhořany","CZ/C2",16365,3,{"$f":"RANK(G160,G:G)","v":154},{"$f":"IF(ISERROR(VLOOKUP(B160,'N PMČR 2026'!B:G,6,0)),\"-\",VLOOKUP(B160,'N PMČR 2026'!B:G,6,0))","v":"-"},"","",null,null,{"$f":"IF(ISERROR(VLOOKUP(B160,'Zebrik W'!$B$7:$N$1000,13,0)),\"\",IF(VLOOKUP(B160,'Zebrik W'!$B$7:$N$1000,13,0)=0,\"--\",VLOOKUP(B160,'Zebrik W'!$B$7:$N$1000,13,0)))","v":""}]
[{"$f":"RANK(G161,G:G)","v":155},"Frantisek Komarek",1985,"M","Zbraslavice","CZ/C1",16208,3,{"$f":"RANK(G161,G:G)","v":155},{"$f":"IF(ISERROR(VLOOKUP(B161,'N PMČR 2026'!B:G,6,0)),\"-\",VLOOKUP(B161,'N PMČR 2026'!B:G,6,0))","v":"-"},"","",null,null,{"$f":"IF(ISERROR(VLOOKUP(B161,'Zebrik W'!$B$7:$N$1000,13,0)),\"\",IF(VLOOKUP(B161,'Zebrik W'!$B$7:$N$1000,13,0)=0,\"--\",VLOOKUP(B161,'Zebrik W'!$B$7:$N$1000,13,0)))","v":""}]
[{"$f":"RANK(G162,G:G)","v":156},"Petr Havrlant",1965,"M","Šumperk","CZ/M",16139,3,{"$f":"RANK(G162,G:G)","v":156},{"$f":"IF(ISERROR(VLOOKUP(B162,'N PMČR 2026'!B:G,6,0)),\"-\",VLOOKUP(B162,'N PMČR 2026'!B:G,6,0))","v":"-"},"","",null,null,{"$f":"IF(ISERROR(VLOOKUP(B162,'Zebrik W'!$B$7:$N$1000,13,0)),\"\",IF(VLOOKUP(B162,'Zebrik W'!$B$7:$N$1000,13,0)=0,\"--\",VLOOKUP(B162,'Zebrik W'!$B$7:$N$1000,13,0)))","v":""}]
[{"$f":"RANK(G163,G:G)","v":157},"Olga Mokosova",1970,"F","Jihlava","CZ/M",16064,3,{"$f":"RANK(G163,G:G)","v":157},{"$f":"IF(ISERROR(VLOOKUP(B163,'N PMČR 2026'!B:G,6,0)),\"-\",VLOOKUP(B163,'N PMČR 2026'!B:G,6,0))","v":"-"},"","",null,null,{"$f":"IF(ISERROR(VLOOKUP(B163,'Zebrik W'!$B$7:$N$1000,13,0)),\"\",IF(VLOOKUP(B163,'Zebrik W'!$B$7:$N$1000,13,0)=0,\"--\",VLOOKUP(B163,'Zebrik W'!$B$7:$N$1000,13,0)))","v":"--"}]
[{"$f":"RANK(G164,G:G)","v":158},"Marek Pechanec",1970,"M","Luhačovice","CZ/M",16061,2,{"$f":"RANK(G164,G:G)","v":158},{"$f":"IF(ISERROR(VLOOKUP(B164,'N PMČR 2026'!B:G,6,0)),\"-\",VLOOKUP(B164,'N PMČR 2026'!B:G,6,0))","v":"-"},"","",null,null,{"$f":"IF(ISERROR(VLOOKUP(B164,'Zebrik W'!$B$7:$N$1000,13,0)),\"\",IF(VLOOKUP(B164,'Zebrik W'!$B$7:$N$1000,13,0)=0,\"--\",VLOOKUP(B164,'Zebrik W'!$B$7:$N$1000,13,0)))","v":""}]
[{"$f":"RANK(G165,G:G)","v":159},"Radoslav Pur",1973,"M","Hosín","CZ/C1",16034,3,{"$f":"RANK(G165,G:G)","v":159},{"$f":"IF(ISERROR(VLOOKUP(B165,'N PMČR 2026'!B:G,6,0)),\"-\",VLOOKUP(B165,'N PMČR 2026'!B:G,6,0))","v":"-"},"","",null,null,{"$f":"IF(ISERROR(VLOOKUP(B165,'Zebrik W'!$B$7:$N$1000,13,0)),\"\",IF(VLOOKUP(B165,'Zebrik W'!$B$7:$N$1000,13,0)=0,\"--\",VLOOKUP(B165,'Zebrik W'!$B$7:$N$1000,13,0)))","v":""}]
[{"$f":"RANK(G166,G:G)","v":160},"Matej Plch",1987,"M","Letkov","CZ/C1",15729,3,{"$f":"RANK(G166,G:G)","v":160},{"$f":"IF(ISERROR(VLOOKUP(B166,'N PMČR 2026'!B:G,6,0)),\"-\",VLOOKUP(B166,'N PMČR 2026'!B:G,6,0))","v":"-"},"","",null,null,{"$f":"IF(ISERROR(VLOOKUP(B166,'Zebrik W'!$B$7:$N$1000,13,0)),\"\",IF(VLOOKUP(B166,'Zebrik W'!$B$7:$N$1000,13,0)=0,\"--\",VLOOKUP(B166,'Zebrik W'!$B$7:$N$1000,13,0)))","v":""}]
[{"$f":"RANK(G167,G:G)","v":161},"Karel Benisek 76",1976,"M","Toužim","CZ/C1",15537,3,{"$f":"RANK(G167,G:G)","v":161},{"$f":"IF(ISERROR(VLOOKUP(B167,'N PMČR 2026'!B:G,6,0)),\"-\",VLOOKUP(B167,'N PMČR 2026'!B:G,6,0))","v":"-"},"","",null,null,{"$f":"IF(ISERROR(VLOOKUP(B167,'Zebrik W'!$B$7:$N$1000,13,0)),\"\",IF(VLOOKUP(B167,'Zebrik W'!$B$7:$N$1000,13,0)=0,\"--\",VLOOKUP(B167,'Zebrik W'!$B$7:$N$1000,13,0)))","v":""}]
[{"$f":"RANK(G168,G:G)","v":162},"Matej Bartos",1998,"M","Hodkovice","CZ/C2",15533,3,{"$f":"RANK(G168,G:G)","v":162},{"$f":"IF(ISERROR(VLOOKUP(B168,'N PMČR 2026'!B:G,6,0)),\"-\",VLOOKUP(B168,'N PMČR 2026'!B:G,6,0))","v":"-"},"","",null,null,{"$f":"IF(ISERROR(VLOOKUP(B168,'Zebrik W'!$B$7:$N$1000,13,0)),\"\",IF(VLOOKUP(B168,'Zebrik W'!$B$7:$N$1000,13,0)=0,\"--\",VLOOKUP(B168,'Zebrik W'!$B$7:$N$1000,13,0)))","v":""}]
[{"$f":"RANK(G169,G:G)","v":163},"Miroslav Sklenar",1964,"M","Žamberk","CZ/C2",15529,3,{"$f":"RANK(G169,G:G)","v":163},{"$f":"IF(ISERROR(VLOOKUP(B169,'N PMČR 2026'!B:G,6,0)),\"-\",VLOOKUP(B169,'N PMČR 2026'!B:G,6,0))","v":"-"},"","",null,null,{"$f":"IF(ISERROR(VLOOKUP(B169,'Zebrik W'!$B$7:$N$1000,13,0)),\"\",IF(VLOOKUP(B169,'Zebrik W'!$B$7:$N$1000,13,0)=0,\"--\",VLOOKUP(B169,'Zebrik W'!$B$7:$N$1000,13,0)))","v":""}]
[{"$f":"RANK(G170,G:G)","v":164},"Jan Svestka",2005,"M","Křižanov","CZ/M",15423,3,{"$f":"RANK(G170,G:G)","v":164},{"$f":"IF(ISERROR(VLOOKUP(B170,'N PMČR 2026'!B:G,6,0)),\"-\",VLOOKUP(B170,'N PMČR 2026'!B:G,6,0))","v":"N5"},"Junior v roce 2026","Junior v roce 2027",null,null,{"$f":"IF(ISERROR(VLOOKUP(B170,'Zebrik W'!$B$7:$N$1000,13,0)),\"\",IF(VLOOKUP(B170,'Zebrik W'!$B$7:$N$1000,13,0)=0,\"--\",VLOOKUP(B170,'Zebrik W'!$B$7:$N$1000,13,0)))","v":""}]
[{"$f":"RANK(G171,G:G)","v":165},"Karel Mares",1974,"M","Slaný","CZ/C1",15339,3,{"$f":"RANK(G171,G:G)","v":165},{"$f":"IF(ISERROR(VLOOKUP(B171,'N PMČR 2026'!B:G,6,0)),\"-\",VLOOKUP(B171,'N PMČR 2026'!B:G,6,0))","v":60},"","",null,null,{"$f":"IF(ISERROR(VLOOKUP(B171,'Zebrik W'!$B$7:$N$1000,13,0)),\"\",IF(VLOOKUP(B171,'Zebrik W'!$B$7:$N$1000,13,0)=0,\"--\",VLOOKUP(B171,'Zebrik W'!$B$7:$N$1000,13,0)))","v":""}]
[{"$f":"RANK(G172,G:G)","v":166},"Martin Cicvarek",1966,"M","Liberec","CZ/C2",15105,3,{"$f":"RANK(G172,G:G)","v":166},{"$f":"IF(ISERROR(VLOOKUP(B172,'N PMČR 2026'!B:G,6,0)),\"-\",VLOOKUP(B172,'N PMČR 2026'!B:G,6,0))","v":"-"},"","",null,null,{"$f":"IF(ISERROR(VLOOKUP(B172,'Zebrik W'!$B$7:$N$1000,13,0)),\"\",IF(VLOOKUP(B172,'Zebrik W'!$B$7:$N$1000,13,0)=0,\"--\",VLOOKUP(B172,'Zebrik W'!$B$7:$N$1000,13,0)))","v":""}]
[{"$f":"RANK(G173,G:G)","v":167},"Vojtech Hajek",1987,"M","Mladá Boleslav","CZ/C1",15017,3,{"$f":"RANK(G173,G:G)","v":167},{"$f":"IF(ISERROR(VLOOKUP(B173,'N PMČR 2026'!B:G,6,0)),\"-\",VLOOKUP(B173,'N PMČR 2026'!B:G,6,0))","v":"-"},"","",null,null,{"$f":"IF(ISERROR(VLOOKUP(B173,'Zebrik W'!$B$7:$N$1000,13,0)),\"\",IF(VLOOKUP(B173,'Zebrik W'!$B$7:$N$1000,13,0)=0,\"--\",VLOOKUP(B173,'Zebrik W'!$B$7:$N$1000,13,0)))","v":""}]
[{"$f":"RANK(G174,G:G)","v":168},"Slavomir Piskaty 84",1984,"M","Kunovice","CZ/M",15001,2,{"$f":"RANK(G174,G:G)","v":168},{"$f":"IF(ISERROR(VLOOKUP(B174,'N PMČR 2026'!B:G,6,0)),\"-\",VLOOKUP(B174,'N PMČR 2026'!B:G,6,0))","v":"-"},"","",null,null,{"$f":"IF(ISERROR(VLOOKUP(B174,'Zebrik W'!$B$7:$N$1000,13,0)),\"\",IF(VLOOKUP(B174,'Zebrik W'!$B$7:$N$1000,13,0)=0,\"--\",VLOOKUP(B174,'Zebrik W'!$B$7:$N$1000,13,0)))","v":""}]
[{"$f":"RANK(G175,G:G)","v":169},"Vojtech Pavek",2000,"M","Medlánky","CZ/M",14985,3,{"$f":"RANK(G175,G:G)","v":169},{"$f":"IF(ISERROR(VLOOKUP(B175,'N PMČR 2026'!B:G,6,0)),\"-\",VLOOKUP(B175,'N PMČR 2026'!B:G,6,0))","v":"N3"},"","",null,null,{"$f":"IF(ISERROR(VLOOKUP(B175,'Zebrik W'!$B$7:$N$1000,13,0)),\"\",IF(VLOOKUP(B175,'Zebrik W'!$B$7:$N$1000,13,0)=0,\"--\",VLOOKUP(B175,'Zebrik W'!$B$7:$N$1000,13,0)))","v":""}]
[{"$f":"RANK(G176,G:G)","v":170},"Petr Lonsky",1965,"M","Toužim","CZ/C1",14740,3,{"$f":"RANK(G176,G:G)","v":170},{"$f":"IF(ISERROR(VLOOKUP(B176,'N PMČR 2026'!B:G,6,0)),\"-\",VLOOKUP(B176,'N PMČR 2026'!B:G,6,0))","v":"-"},"","",null,null,{"$f":"IF(ISERROR(VLOOKUP(B176,'Zebrik W'!$B$7:$N$1000,13,0)),\"\",IF(VLOOKUP(B176,'Zebrik W'!$B$7:$N$1000,13,0)=0,\"--\",VLOOKUP(B176,'Zebrik W'!$B$7:$N$1000,13,0)))","v":""}]
[{"$f":"RANK(G177,G:G)","v":171},"Stepan Obrovsky",1990,"M","Frýdlant","CZ/M",14716,3,{"$f":"RANK(G177,G:G)","v":171},{"$f":"IF(ISERROR(VLOOKUP(B177,'N PMČR 2026'!B:G,6,0)),\"-\",VLOOKUP(B177,'N PMČR 2026'!B:G,6,0))","v":"-"},"","",null,null,{"$f":"IF(ISERROR(VLOOKUP(B177,'Zebrik W'!$B$7:$N$1000,13,0)),\"\",IF(VLOOKUP(B177,'Zebrik W'!$B$7:$N$1000,13,0)=0,\"--\",VLOOKUP(B177,'Zebrik W'!$B$7:$N$1000,13,0)))","v":""}]
[{"$f":"RANK(G178,G:G)","v":172},"David Vrchota",1976,"M","Jaroměř","CZ/C2",14603,2,{"$f":"RANK(G178,G:G)","v":172},{"$f":"IF(ISERROR(VLOOKUP(B178,'N PMČR 2026'!B:G,6,0)),\"-\",VLOOKUP(B178,'N PMČR 2026'!B:G,6,0))","v":"-"},"","",null,null,{"$f":"IF(ISERROR(VLOOKUP(B178,'Zebrik W'!$B$7:$N$1000,13,0)),\"\",IF(VLOOKUP(B178,'Zebrik W'!$B$7:$N$1000,13,0)=0,\"--\",VLOOKUP(B178,'Zebrik W'!$B$7:$N$1000,13,0)))","v":""}]
[{"$f":"RANK(G179,G:G)","v":173},"Lukas Volek",2004,"M","Hodkovice","CZ/C2",14548,2,{"$f":"RANK(G179,G:G)","v":173},{"$f":"IF(ISERROR(VLOOKUP(B179,'N PMČR 2026'!B:G,6,0)),\"-\",VLOOKUP(B179,'N PMČR 2026'!B:G,6,0))","v":47},"Junior v roce 2026","Junior v roce 2027",null,null,{"$f":"IF(ISERROR(VLOOKUP(B179,'Zebrik W'!$B$7:$N$1000,13,0)),\"\",IF(VLOOKUP(B179,'Zebrik W'!$B$7:$N$1000,13,0)=0,\"--\",VLOOKUP(B179,'Zebrik W'!$B$7:$N$1000,13,0)))","v":""}]
[{"$f":"RANK(G180,G:G)","v":174},"Pavel Haluza",1966,"M","Prostějov","CZ/M",14539,3,{"$f":"RANK(G180,G:G)","v":174},{"$f":"IF(ISERROR(VLOOKUP(B180,'N PMČR 2026'!B:G,6,0)),\"-\",VLOOKUP(B180,'N PMČR 2026'!B:G,6,0))","v":"-"},"","",null,null,{"$f":"IF(ISERROR(VLOOKUP(B180,'Zebrik W'!$B$7:$N$1000,13,0)),\"\",IF(VLOOKUP(B180,'Zebrik W'!$B$7:$N$1000,13,0)=0,\"--\",VLOOKUP(B180,'Zebrik W'!$B$7:$N$1000,13,0)))","v":""}]
[{"$f":"RANK(G181,G:G)","v":175},"Petr Setka",1971,"M","Letkov","CZ/C1",14497,2,{"$f":"RANK(G181,G:G)","v":175},{"$f":"IF(ISERROR(VLOOKUP(B181,'N PMČR 2026'!B:G,6,0)),\"-\",VLOOKUP(B181,'N PMČR 2026'!B:G,6,0))","v":"-"},"","",null,null,{"$f":"IF(ISERROR(VLOOKUP(B181,'Zebrik W'!$B$7:$N$1000,13,0)),\"\",IF(VLOOKUP(B181,'Zebrik W'!$B$7:$N$1000,13,0)=0,\"--\",VLOOKUP(B181,'Zebrik W'!$B$7:$N$1000,13,0)))","v":""}]
[{"$f":"RANK(G182,G:G)","v":176},"Roman Schotli",1970,"M","Hranice","CZ/M",14444,3,{"$f":"RANK(G182,G:G)","v":176},{"$f":"IF(ISERROR(VLOOKUP(B182,'N PMČR 2026'!B:G,6,0)),\"-\",VLOOKUP(B182,'N PMČR 2026'!B:G,6,0))","v":"-"},"","",null,null,{"$f":"IF(ISERROR(VLOOKUP(B182,'Zebrik W'!$B$7:$N$1000,13,0)),\"\",IF(VLOOKUP(B182,'Zebrik W'!$B$7:$N$1000,13,0)=0,\"--\",VLOOKUP(B182,'Zebrik W'!$B$7:$N$1000,13,0)))","v":""}]
[{"$f":"RANK(G183,G:G)","v":177},"Jan Sponer",1988,"M","Medlánky","CZ/M",14427,2,{"$f":"RANK(G183,G:G)","v":177},{"$f":"IF(ISERROR(VLOOKUP(B183,'N PMČR 2026'!B:G,6,0)),\"-\",VLOOKUP(B183,'N PMČR 2026'!B:G,6,0))","v":"-"},"","",null,null,{"$f":"IF(ISERROR(VLOOKUP(B183,'Zebrik W'!$B$7:$N$1000,13,0)),\"\",IF(VLOOKUP(B183,'Zebrik W'!$B$7:$N$1000,13,0)=0,\"--\",VLOOKUP(B183,'Zebrik W'!$B$7:$N$1000,13,0)))","v":""}]
[{"$f":"RANK(G184,G:G)","v":178},"Petr Kolomaznik",1981,"M","Šumperk","CZ/M",14391,3,{"$f":"RANK(G184,G:G)","v":178},{"$f":"IF(ISERROR(VLOOKUP(B184,'N PMČR 2026'!B:G,6,0)),\"-\",VLOOKUP(B184,'N PMČR 2026'!B:G,6,0))","v":"-"},"","",null,null,{"$f":"IF(ISERROR(VLOOKUP(B184,'Zebrik W'!$B$7:$N$1000,13,0)),\"\",IF(VLOOKUP(B184,'Zebrik W'!$B$7:$N$1000,13,0)=0,\"--\",VLOOKUP(B184,'Zebrik W'!$B$7:$N$1000,13,0)))","v":""}]
[{"$f":"RANK(G185,G:G)","v":179},"Pavel Koudelka",1973,"M","Křižanov","CZ/M",14339,3,{"$f":"RANK(G185,G:G)","v":179},{"$f":"IF(ISERROR(VLOOKUP(B185,'N PMČR 2026'!B:G,6,0)),\"-\",VLOOKUP(B185,'N PMČR 2026'!B:G,6,0))","v":55},"","",null,null,{"$f":"IF(ISERROR(VLOOKUP(B185,'Zebrik W'!$B$7:$N$1000,13,0)),\"\",IF(VLOOKUP(B185,'Zebrik W'!$B$7:$N$1000,13,0)=0,\"--\",VLOOKUP(B185,'Zebrik W'!$B$7:$N$1000,13,0)))","v":""}]
[{"$f":"RANK(G186,G:G)","v":180},"Vojtech Pivonka",1976,"M","Vrchlabí","CZ/C2",14288,3,{"$f":"RANK(G186,G:G)","v":180},{"$f":"IF(ISERROR(VLOOKUP(B186,'N PMČR 2026'!B:G,6,0)),\"-\",VLOOKUP(B186,'N PMČR 2026'!B:G,6,0))","v":"-"},"","",null,null,{"$f":"IF(ISERROR(VLOOKUP(B186,'Zebrik W'!$B$7:$N$1000,13,0)),\"\",IF(VLOOKUP(B186,'Zebrik W'!$B$7:$N$1000,13,0)=0,\"--\",VLOOKUP(B186,'Zebrik W'!$B$7:$N$1000,13,0)))","v":""}]
[{"$f":"RANK(G187,G:G)","v":181},"Ivo Burda",1962,"M","Zbraslavice","CZ/C1",14257,3,{"$f":"RANK(G187,G:G)","v":181},{"$f":"IF(ISERROR(VLOOKUP(B187,'N PMČR 2026'!B:G,6,0)),\"-\",VLOOKUP(B187,'N PMČR 2026'!B:G,6,0))","v":"-"},"","",null,null,{"$f":"IF(ISERROR(VLOOKUP(B187,'Zebrik W'!$B$7:$N$1000,13,0)),\"\",IF(VLOOKUP(B187,'Zebrik W'!$B$7:$N$1000,13,0)=0,\"--\",VLOOKUP(B187,'Zebrik W'!$B$7:$N$1000,13,0)))","v":""}]
[{"$f":"RANK(G188,G:G)","v":182},"Jan Hejret",1976,"M","Jaroměř","CZ/C2",14222,3,{"$f":"RANK(G188,G:G)","v":182},{"$f":"IF(ISERROR(VLOOKUP(B188,'N PMČR 2026'!B:G,6,0)),\"-\",VLOOKUP(B188,'N PMČR 2026'!B:G,6,0))","v":"-"},"","",null,null,{"$f":"IF(ISERROR(VLOOKUP(B188,'Zebrik W'!$B$7:$N$1000,13,0)),\"\",IF(VLOOKUP(B188,'Zebrik W'!$B$7:$N$1000,13,0)=0,\"--\",VLOOKUP(B188,'Zebrik W'!$B$7:$N$1000,13,0)))","v":""}]
[{"$f":"RANK(G189,G:G)","v":183},"Lubomir Doupal",1975,"M","Kroměříž","CZ/M",14126,3,{"$f":"RANK(G189,G:G)","v":183},{"$f":"IF(ISERROR(VLOOKUP(B189,'N PMČR 2026'!B:G,6,0)),\"-\",VLOOKUP(B189,'N PMČR 2026'!B:G,6,0))","v":"-"},"","",null,null,{"$f":"IF(ISERROR(VLOOKUP(B189,'Zebrik W'!$B$7:$N$1000,13,0)),\"\",IF(VLOOKUP(B189,'Zebrik W'!$B$7:$N$1000,13,0)=0,\"--\",VLOOKUP(B189,'Zebrik W'!$B$7:$N$1000,13,0)))","v":""}]
[{"$f":"RANK(G190,G:G)","v":184},"Vit Prokop",1987,"M","Medlánky","CZ/M",14031,3,{"$f":"RANK(G190,G:G)","v":184},{"$f":"IF(ISERROR(VLOOKUP(B190,'N PMČR 2026'!B:G,6,0)),\"-\",VLOOKUP(B190,'N PMČR 2026'!B:G,6,0))","v":"-"},"","",null,null,{"$f":"IF(ISERROR(VLOOKUP(B190,'Zebrik W'!$B$7:$N$1000,13,0)),\"\",IF(VLOOKUP(B190,'Zebrik W'!$B$7:$N$1000,13,0)=0,\"--\",VLOOKUP(B190,'Zebrik W'!$B$7:$N$1000,13,0)))","v":""}]
[{"$f":"RANK(G191,G:G)","v":185},"Milos Matejka",1956,"M","Beroun","CZ/C1",13878,3,{"$f":"RANK(G191,G:G)","v":185},{"$f":"IF(ISERROR(VLOOKUP(B191,'N PMČR 2026'!B:G,6,0)),\"-\",VLOOKUP(B191,'N PMČR 2026'!B:G,6,0))","v":"-"},"","",null,null,{"$f":"IF(ISERROR(VLOOKUP(B191,'Zebrik W'!$B$7:$N$1000,13,0)),\"\",IF(VLOOKUP(B191,'Zebrik W'!$B$7:$N$1000,13,0)=0,\"--\",VLOOKUP(B191,'Zebrik W'!$B$7:$N$1000,13,0)))","v":""}]
[{"$f":"RANK(G192,G:G)","v":186},"Jaromir Pauer",1974,"M","Hosín","CZ/C1",13865,2,{"$f":"RANK(G192,G:G)","v":186},{"$f":"IF(ISERROR(VLOOKUP(B192,'N PMČR 2026'!B:G,6,0)),\"-\",VLOOKUP(B192,'N PMČR 2026'!B:G,6,0))","v":"-"},"","",null,null,{"$f":"IF(ISERROR(VLOOKUP(B192,'Zebrik W'!$B$7:$N$1000,13,0)),\"\",IF(VLOOKUP(B192,'Zebrik W'!$B$7:$N$1000,13,0)=0,\"--\",VLOOKUP(B192,'Zebrik W'!$B$7:$N$1000,13,0)))","v":""}]
[{"$f":"RANK(G193,G:G)","v":187},"Vaclav Hruza",1965,"M","Břeclav","CZ/M",13825,3,{"$f":"RANK(G193,G:G)","v":187},{"$f":"IF(ISERROR(VLOOKUP(B193,'N PMČR 2026'!B:G,6,0)),\"-\",VLOOKUP(B193,'N PMČR 2026'!B:G,6,0))","v":"-"},"","",null,null,{"$f":"IF(ISERROR(VLOOKUP(B193,'Zebrik W'!$B$7:$N$1000,13,0)),\"\",IF(VLOOKUP(B193,'Zebrik W'!$B$7:$N$1000,13,0)=0,\"--\",VLOOKUP(B193,'Zebrik W'!$B$7:$N$1000,13,0)))","v":""}]
[{"$f":"RANK(G194,G:G)","v":188},"Danes Grula",1961,"M","Medlánky","CZ/M",13736,2,{"$f":"RANK(G194,G:G)","v":188},{"$f":"IF(ISERROR(VLOOKUP(B194,'N PMČR 2026'!B:G,6,0)),\"-\",VLOOKUP(B194,'N PMČR 2026'!B:G,6,0))","v":"-"},"","",null,null,{"$f":"IF(ISERROR(VLOOKUP(B194,'Zebrik W'!$B$7:$N$1000,13,0)),\"\",IF(VLOOKUP(B194,'Zebrik W'!$B$7:$N$1000,13,0)=0,\"--\",VLOOKUP(B194,'Zebrik W'!$B$7:$N$1000,13,0)))","v":""}]
[{"$f":"RANK(G195,G:G)","v":189},"Frantisek Filandr",1956,"M","Most","CZ/C2",13725,2,{"$f":"RANK(G195,G:G)","v":189},{"$f":"IF(ISERROR(VLOOKUP(B195,'N PMČR 2026'!B:G,6,0)),\"-\",VLOOKUP(B195,'N PMČR 2026'!B:G,6,0))","v":"-"},"","",null,null,{"$f":"IF(ISERROR(VLOOKUP(B195,'Zebrik W'!$B$7:$N$1000,13,0)),\"\",IF(VLOOKUP(B195,'Zebrik W'!$B$7:$N$1000,13,0)=0,\"--\",VLOOKUP(B195,'Zebrik W'!$B$7:$N$1000,13,0)))","v":""}]
[{"$f":"RANK(G196,G:G)","v":189},"Daniel Ryba",1994,"M","Dvůr Králové","CZ/C2",13725,2,{"$f":"RANK(G196,G:G)","v":189},{"$f":"IF(ISERROR(VLOOKUP(B196,'N PMČR 2026'!B:G,6,0)),\"-\",VLOOKUP(B196,'N PMČR 2026'!B:G,6,0))","v":"-"},"","",null,null,{"$f":"IF(ISERROR(VLOOKUP(B196,'Zebrik W'!$B$7:$N$1000,13,0)),\"\",IF(VLOOKUP(B196,'Zebrik W'!$B$7:$N$1000,13,0)=0,\"--\",VLOOKUP(B196,'Zebrik W'!$B$7:$N$1000,13,0)))","v":""}]
[{"$f":"RANK(G197,G:G)","v":191},"Martin Fric",1967,"M","Raná","CZ/C2",13693,3,{"$f":"RANK(G197,G:G)","v":191},{"$f":"IF(ISERROR(VLOOKUP(B197,'N PMČR 2026'!B:G,6,0)),\"-\",VLOOKUP(B197,'N PMČR 2026'!B:G,6,0))","v":"-"},"","",null,null,{"$f":"IF(ISERROR(VLOOKUP(B197,'Zebrik W'!$B$7:$N$1000,13,0)),\"\",IF(VLOOKUP(B197,'Zebrik W'!$B$7:$N$1000,13,0)=0,\"--\",VLOOKUP(B197,'Zebrik W'!$B$7:$N$1000,13,0)))","v":""}]
[{"$f":"RANK(G198,G:G)","v":192},"David Benda",1974,"M","Letňany","CZ/C1",13603,3,{"$f":"RANK(G198,G:G)","v":192},{"$f":"IF(ISERROR(VLOOKUP(B198,'N PMČR 2026'!B:G,6,0)),\"-\",VLOOKUP(B198,'N PMČR 2026'!B:G,6,0))","v":"-"},"","",null,null,{"$f":"IF(ISERROR(VLOOKUP(B198,'Zebrik W'!$B$7:$N$1000,13,0)),\"\",IF(VLOOKUP(B198,'Zebrik W'!$B$7:$N$1000,13,0)=0,\"--\",VLOOKUP(B198,'Zebrik W'!$B$7:$N$1000,13,0)))","v":""}]
[{"$f":"RANK(G199,G:G)","v":193},"Martin Suchy",1969,"M","Hranice","CZ/M",13496,2,{"$f":"RANK(G199,G:G)","v":193},{"$f":"IF(ISERROR(VLOOKUP(B199,'N PMČR 2026'!B:G,6,0)),\"-\",VLOOKUP(B199,'N PMČR 2026'!B:G,6,0))","v":"-"},"","",null,null,{"$f":"IF(ISERROR(VLOOKUP(B199,'Zebrik W'!$B$7:$N$1000,13,0)),\"\",IF(VLOOKUP(B199,'Zebrik W'!$B$7:$N$1000,13,0)=0,\"--\",VLOOKUP(B199,'Zebrik W'!$B$7:$N$1000,13,0)))","v":""}]
[{"$f":"RANK(G200,G:G)","v":194},"Karel Horalek",1976,"M","Olomouc","CZ/M",13486,2,{"$f":"RANK(G200,G:G)","v":194},{"$f":"IF(ISERROR(VLOOKUP(B200,'N PMČR 2026'!B:G,6,0)),\"-\",VLOOKUP(B200,'N PMČR 2026'!B:G,6,0))","v":"-"},{"$f":"IF(C200=\"(prázdné)\",\"\",IF(($K$4-C200)>25,\"\",\"Junior v roce \"&$K$4))","v":""},{"$f":"IF(C200=\"(prázdné)\",\"\",IF(($L$4-C200)>25,\"\",\"Junior v roce \"&$L$4))","v":""},null,null,{"$f":"IF(ISERROR(VLOOKUP(B200,'Zebrik W'!$B$7:$N$1000,13,0)),\"\",IF(VLOOKUP(B200,'Zebrik W'!$B$7:$N$1000,13,0)=0,\"--\",VLOOKUP(B200,'Zebrik W'!$B$7:$N$1000,13,0)))","v":""}]
[{"$f":"RANK(G201,G:G)","v":195},"Pavel Foldyna",1976,"M","Frýdlant","CZ/M",13394,2,{"$f":"RANK(G201,G:G)","v":195},{"$f":"IF(ISERROR(VLOOKUP(B201,'N PMČR 2026'!B:G,6,0)),\"-\",VLOOKUP(B201,'N PMČR 2026'!B:G,6,0))","v":"-"},"","",null,null,{"$f":"IF(ISERROR(VLOOKUP(B201,'Zebrik W'!$B$7:$N$1000,13,0)),\"\",IF(VLOOKUP(B201,'Zebrik W'!$B$7:$N$1000,13,0)=0,\"--\",VLOOKUP(B201,'Zebrik W'!$B$7:$N$1000,13,0)))","v":""}]
[{"$f":"RANK(G202,G:G)","v":196},"Radek Zima 75",1975,"M","Břeclav","CZ/M",13351,3,{"$f":"RANK(G202,G:G)","v":196},{"$f":"IF(ISERROR(VLOOKUP(B202,'N PMČR 2026'!B:G,6,0)),\"-\",VLOOKUP(B202,'N PMČR 2026'!B:G,6,0))","v":"-"},"","",null,null,{"$f":"IF(ISERROR(VLOOKUP(B202,'Zebrik W'!$B$7:$N$1000,13,0)),\"\",IF(VLOOKUP(B202,'Zebrik W'!$B$7:$N$1000,13,0)=0,\"--\",VLOOKUP(B202,'Zebrik W'!$B$7:$N$1000,13,0)))","v":""}]
[{"$f":"RANK(G203,G:G)","v":197},"Jiri Holcman",1976,"M","Hosín","CZ/C1",13299,3,{"$f":"RANK(G203,G:G)","v":197},{"$f":"IF(ISERROR(VLOOKUP(B203,'N PMČR 2026'!B:G,6,0)),\"-\",VLOOKUP(B203,'N PMČR 2026'!B:G,6,0))","v":"-"},"","",null,null,{"$f":"IF(ISERROR(VLOOKUP(B203,'Zebrik W'!$B$7:$N$1000,13,0)),\"\",IF(VLOOKUP(B203,'Zebrik W'!$B$7:$N$1000,13,0)=0,\"--\",VLOOKUP(B203,'Zebrik W'!$B$7:$N$1000,13,0)))","v":""}]
[{"$f":"RANK(G204,G:G)","v":198},"Jan Podhrazsky",1976,"M","Šumperk","CZ/M",13243,2,{"$f":"RANK(G204,G:G)","v":198},{"$f":"IF(ISERROR(VLOOKUP(B204,'N PMČR 2026'!B:G,6,0)),\"-\",VLOOKUP(B204,'N PMČR 2026'!B:G,6,0))","v":"-"},"","",null,null,{"$f":"IF(ISERROR(VLOOKUP(B204,'Zebrik W'!$B$7:$N$1000,13,0)),\"\",IF(VLOOKUP(B204,'Zebrik W'!$B$7:$N$1000,13,0)=0,\"--\",VLOOKUP(B204,'Zebrik W'!$B$7:$N$1000,13,0)))","v":""}]
[{"$f":"RANK(G205,G:G)","v":199},"Ivan Morkovsky",2008,"M","Polička","CZ/C2",13218,2,{"$f":"RANK(G205,G:G)","v":199},{"$f":"IF(ISERROR(VLOOKUP(B205,'N PMČR 2026'!B:G,6,0)),\"-\",VLOOKUP(B205,'N PMČR 2026'!B:G,6,0))","v":48},"Junior v roce 2026","Junior v roce 2027",null,null,{"$f":"IF(ISERROR(VLOOKUP(B205,'Zebrik W'!$B$7:$N$1000,13,0)),\"\",IF(VLOOKUP(B205,'Zebrik W'!$B$7:$N$1000,13,0)=0,\"--\",VLOOKUP(B205,'Zebrik W'!$B$7:$N$1000,13,0)))","v":""}]
[{"$f":"RANK(G206,G:G)","v":200},"Petra Piskata",1989,"F","Luhačovice","CZ/M",13204,2,{"$f":"RANK(G206,G:G)","v":200},{"$f":"IF(ISERROR(VLOOKUP(B206,'N PMČR 2026'!B:G,6,0)),\"-\",VLOOKUP(B206,'N PMČR 2026'!B:G,6,0))","v":31},"","",null,"RV 2026",{"$f":"IF(ISERROR(VLOOKUP(B206,'Zebrik W'!$B$7:$N$1000,13,0)),\"\",IF(VLOOKUP(B206,'Zebrik W'!$B$7:$N$1000,13,0)=0,\"--\",VLOOKUP(B206,'Zebrik W'!$B$7:$N$1000,13,0)))","v":"WRV 2026"}]
[{"$f":"RANK(G207,G:G)","v":201},"Michal Kares",1987,"M","Ústí nad Orlicí","CZ/C2",13153,2,{"$f":"RANK(G207,G:G)","v":201},{"$f":"IF(ISERROR(VLOOKUP(B207,'N PMČR 2026'!B:G,6,0)),\"-\",VLOOKUP(B207,'N PMČR 2026'!B:G,6,0))","v":"-"},"","",null,null,{"$f":"IF(ISERROR(VLOOKUP(B207,'Zebrik W'!$B$7:$N$1000,13,0)),\"\",IF(VLOOKUP(B207,'Zebrik W'!$B$7:$N$1000,13,0)=0,\"--\",VLOOKUP(B207,'Zebrik W'!$B$7:$N$1000,13,0)))","v":""}]
[{"$f":"RANK(G208,G:G)","v":202},"Lukas Plocek",1990,"M","Mladá Boleslav","CZ/C1",13126,2,{"$f":"RANK(G208,G:G)","v":202},{"$f":"IF(ISERROR(VLOOKUP(B208,'N PMČR 2026'!B:G,6,0)),\"-\",VLOOKUP(B208,'N PMČR 2026'!B:G,6,0))","v":"-"},"","",null,null,{"$f":"IF(ISERROR(VLOOKUP(B208,'Zebrik W'!$B$7:$N$1000,13,0)),\"\",IF(VLOOKUP(B208,'Zebrik W'!$B$7:$N$1000,13,0)=0,\"--\",VLOOKUP(B208,'Zebrik W'!$B$7:$N$1000,13,0)))","v":""}]
[{"$f":"RANK(G209,G:G)","v":203},"Jakub Hlavacek",1991,"M","Letkov","CZ/C1",12883,2,{"$f":"RANK(G209,G:G)","v":203},{"$f":"IF(ISERROR(VLOOKUP(B209,'N PMČR 2026'!B:G,6,0)),\"-\",VLOOKUP(B209,'N PMČR 2026'!B:G,6,0))","v":"-"},"","",null,null,{"$f":"IF(ISERROR(VLOOKUP(B209,'Zebrik W'!$B$7:$N$1000,13,0)),\"\",IF(VLOOKUP(B209,'Zebrik W'!$B$7:$N$1000,13,0)=0,\"--\",VLOOKUP(B209,'Zebrik W'!$B$7:$N$1000,13,0)))","v":""}]
[{"$f":"RANK(G210,G:G)","v":204},"Jiri Krofta",1988,"M","Hosín","CZ/C1",12699,3,{"$f":"RANK(G210,G:G)","v":204},{"$f":"IF(ISERROR(VLOOKUP(B210,'N PMČR 2026'!B:G,6,0)),\"-\",VLOOKUP(B210,'N PMČR 2026'!B:G,6,0))","v":"-"},"","",null,null,{"$f":"IF(ISERROR(VLOOKUP(B210,'Zebrik W'!$B$7:$N$1000,13,0)),\"\",IF(VLOOKUP(B210,'Zebrik W'!$B$7:$N$1000,13,0)=0,\"--\",VLOOKUP(B210,'Zebrik W'!$B$7:$N$1000,13,0)))","v":""}]
[{"$f":"RANK(G211,G:G)","v":205},"Petr Styblo",1975,"M","Letňany","CZ/C1",12692,3,{"$f":"RANK(G211,G:G)","v":205},{"$f":"IF(ISERROR(VLOOKUP(B211,'N PMČR 2026'!B:G,6,0)),\"-\",VLOOKUP(B211,'N PMČR 2026'!B:G,6,0))","v":"-"},"","",null,null,{"$f":"IF(ISERROR(VLOOKUP(B211,'Zebrik W'!$B$7:$N$1000,13,0)),\"\",IF(VLOOKUP(B211,'Zebrik W'!$B$7:$N$1000,13,0)=0,\"--\",VLOOKUP(B211,'Zebrik W'!$B$7:$N$1000,13,0)))","v":""}]
[{"$f":"RANK(G212,G:G)","v":206},"Milan Dvorak",1965,"M","Liberec","CZ/C2",12646,2,{"$f":"RANK(G212,G:G)","v":206},{"$f":"IF(ISERROR(VLOOKUP(B212,'N PMČR 2026'!B:G,6,0)),\"-\",VLOOKUP(B212,'N PMČR 2026'!B:G,6,0))","v":"-"},"","",null,null,{"$f":"IF(ISERROR(VLOOKUP(B212,'Zebrik W'!$B$7:$N$1000,13,0)),\"\",IF(VLOOKUP(B212,'Zebrik W'!$B$7:$N$1000,13,0)=0,\"--\",VLOOKUP(B212,'Zebrik W'!$B$7:$N$1000,13,0)))","v":""}]
[{"$f":"RANK(G213,G:G)","v":207},"Jan Kohout",1970,"M","Žamberk","CZ/C2",12492,2,{"$f":"RANK(G213,G:G)","v":207},{"$f":"IF(ISERROR(VLOOKUP(B213,'N PMČR 2026'!B:G,6,0)),\"-\",VLOOKUP(B213,'N PMČR 2026'!B:G,6,0))","v":"-"},"","",null,null,{"$f":"IF(ISERROR(VLOOKUP(B213,'Zebrik W'!$B$7:$N$1000,13,0)),\"\",IF(VLOOKUP(B213,'Zebrik W'!$B$7:$N$1000,13,0)=0,\"--\",VLOOKUP(B213,'Zebrik W'!$B$7:$N$1000,13,0)))","v":""}]
[{"$f":"RANK(G214,G:G)","v":208},"Pavel Trojan",1960,"M","Chrudim","CZ/C2",12325,2,{"$f":"RANK(G214,G:G)","v":208},{"$f":"IF(ISERROR(VLOOKUP(B214,'N PMČR 2026'!B:G,6,0)),\"-\",VLOOKUP(B214,'N PMČR 2026'!B:G,6,0))","v":"-"},"","",null,null,{"$f":"IF(ISERROR(VLOOKUP(B214,'Zebrik W'!$B$7:$N$1000,13,0)),\"\",IF(VLOOKUP(B214,'Zebrik W'!$B$7:$N$1000,13,0)=0,\"--\",VLOOKUP(B214,'Zebrik W'!$B$7:$N$1000,13,0)))","v":""}]
[{"$f":"RANK(G215,G:G)","v":209},"Jan Zapletal",1997,"M","Břeclav","CZ/M",12170,2,{"$f":"RANK(G215,G:G)","v":209},{"$f":"IF(ISERROR(VLOOKUP(B215,'N PMČR 2026'!B:G,6,0)),\"-\",VLOOKUP(B215,'N PMČR 2026'!B:G,6,0))","v":50},"","",null,null,{"$f":"IF(ISERROR(VLOOKUP(B215,'Zebrik W'!$B$7:$N$1000,13,0)),\"\",IF(VLOOKUP(B215,'Zebrik W'!$B$7:$N$1000,13,0)=0,\"--\",VLOOKUP(B215,'Zebrik W'!$B$7:$N$1000,13,0)))","v":""}]
[{"$f":"RANK(G216,G:G)","v":210},"Slavomir Tanglmajer",1966,"M","Chomutov","CZ/C2",11861,3,{"$f":"RANK(G216,G:G)","v":210},{"$f":"IF(ISERROR(VLOOKUP(B216,'N PMČR 2026'!B:G,6,0)),\"-\",VLOOKUP(B216,'N PMČR 2026'!B:G,6,0))","v":"-"},"","",null,null,{"$f":"IF(ISERROR(VLOOKUP(B216,'Zebrik W'!$B$7:$N$1000,13,0)),\"\",IF(VLOOKUP(B216,'Zebrik W'!$B$7:$N$1000,13,0)=0,\"--\",VLOOKUP(B216,'Zebrik W'!$B$7:$N$1000,13,0)))","v":""}]
[{"$f":"RANK(G217,G:G)","v":211},"Petr Malcek",1965,"M","Letňany","CZ/C1",11744,3,{"$f":"RANK(G217,G:G)","v":211},{"$f":"IF(ISERROR(VLOOKUP(B217,'N PMČR 2026'!B:G,6,0)),\"-\",VLOOKUP(B217,'N PMČR 2026'!B:G,6,0))","v":"-"},"","",null,null,{"$f":"IF(ISERROR(VLOOKUP(B217,'Zebrik W'!$B$7:$N$1000,13,0)),\"\",IF(VLOOKUP(B217,'Zebrik W'!$B$7:$N$1000,13,0)=0,\"--\",VLOOKUP(B217,'Zebrik W'!$B$7:$N$1000,13,0)))","v":""}]
[{"$f":"RANK(G218,G:G)","v":212},"Martin Neuvirt",2001,"M","Přibyslav","CZ/C2",11691,2,{"$f":"RANK(G218,G:G)","v":212},{"$f":"IF(ISERROR(VLOOKUP(B218,'N PMČR 2026'!B:G,6,0)),\"-\",VLOOKUP(B218,'N PMČR 2026'!B:G,6,0))","v":"-"},"Junior v roce 2026","",null,null,{"$f":"IF(ISERROR(VLOOKUP(B218,'Zebrik W'!$B$7:$N$1000,13,0)),\"\",IF(VLOOKUP(B218,'Zebrik W'!$B$7:$N$1000,13,0)=0,\"--\",VLOOKUP(B218,'Zebrik W'!$B$7:$N$1000,13,0)))","v":""}]
[{"$f":"RANK(G219,G:G)","v":213},"Dalibor Pek",1968,"M","Raná","CZ/C2",11650,2,{"$f":"RANK(G219,G:G)","v":213},{"$f":"IF(ISERROR(VLOOKUP(B219,'N PMČR 2026'!B:G,6,0)),\"-\",VLOOKUP(B219,'N PMČR 2026'!B:G,6,0))","v":"-"},"","",null,null,{"$f":"IF(ISERROR(VLOOKUP(B219,'Zebrik W'!$B$7:$N$1000,13,0)),\"\",IF(VLOOKUP(B219,'Zebrik W'!$B$7:$N$1000,13,0)=0,\"--\",VLOOKUP(B219,'Zebrik W'!$B$7:$N$1000,13,0)))","v":""}]
[{"$f":"RANK(G220,G:G)","v":214},"Jaromir Vlk",1959,"M","Šumperk","CZ/M",11567,3,{"$f":"RANK(G220,G:G)","v":214},{"$f":"IF(ISERROR(VLOOKUP(B220,'N PMČR 2026'!B:G,6,0)),\"-\",VLOOKUP(B220,'N PMČR 2026'!B:G,6,0))","v":"-"},"","",null,null,{"$f":"IF(ISERROR(VLOOKUP(B220,'Zebrik W'!$B$7:$N$1000,13,0)),\"\",IF(VLOOKUP(B220,'Zebrik W'!$B$7:$N$1000,13,0)=0,\"--\",VLOOKUP(B220,'Zebrik W'!$B$7:$N$1000,13,0)))","v":""}]
[{"$f":"RANK(G221,G:G)","v":215},"Radek Tobolka",1977,"M","Jičín","CZ/C2",11480,2,{"$f":"RANK(G221,G:G)","v":215},{"$f":"IF(ISERROR(VLOOKUP(B221,'N PMČR 2026'!B:G,6,0)),\"-\",VLOOKUP(B221,'N PMČR 2026'!B:G,6,0))","v":"-"},"","",null,null,{"$f":"IF(ISERROR(VLOOKUP(B221,'Zebrik W'!$B$7:$N$1000,13,0)),\"\",IF(VLOOKUP(B221,'Zebrik W'!$B$7:$N$1000,13,0)=0,\"--\",VLOOKUP(B221,'Zebrik W'!$B$7:$N$1000,13,0)))","v":""}]
[{"$f":"RANK(G222,G:G)","v":216},"Filip Riabec",2006,"M","Broumov","CZ/C2",11466,3,{"$f":"RANK(G222,G:G)","v":216},{"$f":"IF(ISERROR(VLOOKUP(B222,'N PMČR 2026'!B:G,6,0)),\"-\",VLOOKUP(B222,'N PMČR 2026'!B:G,6,0))","v":"-"},"Junior v roce 2026","Junior v roce 2027",null,null,{"$f":"IF(ISERROR(VLOOKUP(B222,'Zebrik W'!$B$7:$N$1000,13,0)),\"\",IF(VLOOKUP(B222,'Zebrik W'!$B$7:$N$1000,13,0)=0,\"--\",VLOOKUP(B222,'Zebrik W'!$B$7:$N$1000,13,0)))","v":""}]
[{"$f":"RANK(G223,G:G)","v":217},"Lukas Maly",1998,"M","Vysoké Mýto","CZ/C2",11357,2,{"$f":"RANK(G223,G:G)","v":217},{"$f":"IF(ISERROR(VLOOKUP(B223,'N PMČR 2026'!B:G,6,0)),\"-\",VLOOKUP(B223,'N PMČR 2026'!B:G,6,0))","v":"-"},"","",null,null,{"$f":"IF(ISERROR(VLOOKUP(B223,'Zebrik W'!$B$7:$N$1000,13,0)),\"\",IF(VLOOKUP(B223,'Zebrik W'!$B$7:$N$1000,13,0)=0,\"--\",VLOOKUP(B223,'Zebrik W'!$B$7:$N$1000,13,0)))","v":""}]
[{"$f":"RANK(G224,G:G)","v":218},"Roman Lanzendorf",1964,"M","Letkov","CZ/C1",11267,3,{"$f":"RANK(G224,G:G)","v":218},{"$f":"IF(ISERROR(VLOOKUP(B224,'N PMČR 2026'!B:G,6,0)),\"-\",VLOOKUP(B224,'N PMČR 2026'!B:G,6,0))","v":"-"},"","",null,null,{"$f":"IF(ISERROR(VLOOKUP(B224,'Zebrik W'!$B$7:$N$1000,13,0)),\"\",IF(VLOOKUP(B224,'Zebrik W'!$B$7:$N$1000,13,0)=0,\"--\",VLOOKUP(B224,'Zebrik W'!$B$7:$N$1000,13,0)))","v":""}]
[{"$f":"RANK(G225,G:G)","v":219},"Antonin Kutalek",1943,"M","Zábřeh","CZ/M",11082,3,{"$f":"RANK(G225,G:G)","v":219},{"$f":"IF(ISERROR(VLOOKUP(B225,'N PMČR 2026'!B:G,6,0)),\"-\",VLOOKUP(B225,'N PMČR 2026'!B:G,6,0))","v":"-"},"","",null,null,{"$f":"IF(ISERROR(VLOOKUP(B225,'Zebrik W'!$B$7:$N$1000,13,0)),\"\",IF(VLOOKUP(B225,'Zebrik W'!$B$7:$N$1000,13,0)=0,\"--\",VLOOKUP(B225,'Zebrik W'!$B$7:$N$1000,13,0)))","v":""}]
[{"$f":"RANK(G226,G:G)","v":220},"Petr Brezina",1963,"M","Frýdlant","CZ/M",11022,3,{"$f":"RANK(G226,G:G)","v":220},{"$f":"IF(ISERROR(VLOOKUP(B226,'N PMČR 2026'!B:G,6,0)),\"-\",VLOOKUP(B226,'N PMČR 2026'!B:G,6,0))","v":"-"},"","",null,null,{"$f":"IF(ISERROR(VLOOKUP(B226,'Zebrik W'!$B$7:$N$1000,13,0)),\"\",IF(VLOOKUP(B226,'Zebrik W'!$B$7:$N$1000,13,0)=0,\"--\",VLOOKUP(B226,'Zebrik W'!$B$7:$N$1000,13,0)))","v":""}]
[{"$f":"RANK(G227,G:G)","v":221},"Leos Nosek",1958,"M","Křižanov","CZ/M",10939,3,{"$f":"RANK(G227,G:G)","v":221},{"$f":"IF(ISERROR(VLOOKUP(B227,'N PMČR 2026'!B:G,6,0)),\"-\",VLOOKUP(B227,'N PMČR 2026'!B:G,6,0))","v":"-"},"","",null,null,{"$f":"IF(ISERROR(VLOOKUP(B227,'Zebrik W'!$B$7:$N$1000,13,0)),\"\",IF(VLOOKUP(B227,'Zebrik W'!$B$7:$N$1000,13,0)=0,\"--\",VLOOKUP(B227,'Zebrik W'!$B$7:$N$1000,13,0)))","v":""}]
[{"$f":"RANK(G228,G:G)","v":222},"Martin Holik",1959,"M","Letňany","CZ/C1",10904,3,{"$f":"RANK(G228,G:G)","v":222},{"$f":"IF(ISERROR(VLOOKUP(B228,'N PMČR 2026'!B:G,6,0)),\"-\",VLOOKUP(B228,'N PMČR 2026'!B:G,6,0))","v":"-"},"","",null,null,{"$f":"IF(ISERROR(VLOOKUP(B228,'Zebrik W'!$B$7:$N$1000,13,0)),\"\",IF(VLOOKUP(B228,'Zebrik W'!$B$7:$N$1000,13,0)=0,\"--\",VLOOKUP(B228,'Zebrik W'!$B$7:$N$1000,13,0)))","v":""}]
[{"$f":"RANK(G229,G:G)","v":223},"Jiri Maier 99",1999,"M","Raná","CZ/C2",10545,2,{"$f":"RANK(G229,G:G)","v":223},{"$f":"IF(ISERROR(VLOOKUP(B229,'N PMČR 2026'!B:G,6,0)),\"-\",VLOOKUP(B229,'N PMČR 2026'!B:G,6,0))","v":"-"},"","",null,null,{"$f":"IF(ISERROR(VLOOKUP(B229,'Zebrik W'!$B$7:$N$1000,13,0)),\"\",IF(VLOOKUP(B229,'Zebrik W'!$B$7:$N$1000,13,0)=0,\"--\",VLOOKUP(B229,'Zebrik W'!$B$7:$N$1000,13,0)))","v":""}]
[{"$f":"RANK(G230,G:G)","v":224},"Milan Minarik",1900,"M","Hranice","CZ/M",10526,2,{"$f":"RANK(G230,G:G)","v":224},{"$f":"IF(ISERROR(VLOOKUP(B230,'N PMČR 2026'!B:G,6,0)),\"-\",VLOOKUP(B230,'N PMČR 2026'!B:G,6,0))","v":"-"},"","",null,null,{"$f":"IF(ISERROR(VLOOKUP(B230,'Zebrik W'!$B$7:$N$1000,13,0)),\"\",IF(VLOOKUP(B230,'Zebrik W'!$B$7:$N$1000,13,0)=0,\"--\",VLOOKUP(B230,'Zebrik W'!$B$7:$N$1000,13,0)))","v":""}]
[{"$f":"RANK(G231,G:G)","v":225},"Milan Bado",1975,"M","Kolín","CZ/C1",10399,3,{"$f":"RANK(G231,G:G)","v":225},{"$f":"IF(ISERROR(VLOOKUP(B231,'N PMČR 2026'!B:G,6,0)),\"-\",VLOOKUP(B231,'N PMČR 2026'!B:G,6,0))","v":"-"},"","",null,null,{"$f":"IF(ISERROR(VLOOKUP(B231,'Zebrik W'!$B$7:$N$1000,13,0)),\"\",IF(VLOOKUP(B231,'Zebrik W'!$B$7:$N$1000,13,0)=0,\"--\",VLOOKUP(B231,'Zebrik W'!$B$7:$N$1000,13,0)))","v":""}]
[{"$f":"RANK(G232,G:G)","v":226},"Jan Ratz",1987,"M","Zbraslavice","CZ/C1",10301,2,{"$f":"RANK(G232,G:G)","v":226},{"$f":"IF(ISERROR(VLOOKUP(B232,'N PMČR 2026'!B:G,6,0)),\"-\",VLOOKUP(B232,'N PMČR 2026'!B:G,6,0))","v":"-"},"","",null,null,{"$f":"IF(ISERROR(VLOOKUP(B232,'Zebrik W'!$B$7:$N$1000,13,0)),\"\",IF(VLOOKUP(B232,'Zebrik W'!$B$7:$N$1000,13,0)=0,\"--\",VLOOKUP(B232,'Zebrik W'!$B$7:$N$1000,13,0)))","v":""}]
[{"$f":"RANK(G233,G:G)","v":227},"Matej Krestes",1986,"M","Slaný","CZ/C1",10255,3,{"$f":"RANK(G233,G:G)","v":227},{"$f":"IF(ISERROR(VLOOKUP(B233,'N PMČR 2026'!B:G,6,0)),\"-\",VLOOKUP(B233,'N PMČR 2026'!B:G,6,0))","v":"-"},"","",null,null,{"$f":"IF(ISERROR(VLOOKUP(B233,'Zebrik W'!$B$7:$N$1000,13,0)),\"\",IF(VLOOKUP(B233,'Zebrik W'!$B$7:$N$1000,13,0)=0,\"--\",VLOOKUP(B233,'Zebrik W'!$B$7:$N$1000,13,0)))","v":""}]
[{"$f":"RANK(G234,G:G)","v":228},"Zdenek Mach",1976,"M","Broumov","CZ/C2",10252,2,{"$f":"RANK(G234,G:G)","v":228},{"$f":"IF(ISERROR(VLOOKUP(B234,'N PMČR 2026'!B:G,6,0)),\"-\",VLOOKUP(B234,'N PMČR 2026'!B:G,6,0))","v":"-"},"","",null,null,{"$f":"IF(ISERROR(VLOOKUP(B234,'Zebrik W'!$B$7:$N$1000,13,0)),\"\",IF(VLOOKUP(B234,'Zebrik W'!$B$7:$N$1000,13,0)=0,\"--\",VLOOKUP(B234,'Zebrik W'!$B$7:$N$1000,13,0)))","v":""}]
[{"$f":"RANK(G235,G:G)","v":229},"Vladimir Jirka",1965,"M","Zábřeh","CZ/M",10219,2,{"$f":"RANK(G235,G:G)","v":229},{"$f":"IF(ISERROR(VLOOKUP(B235,'N PMČR 2026'!B:G,6,0)),\"-\",VLOOKUP(B235,'N PMČR 2026'!B:G,6,0))","v":"-"},"","",null,null,{"$f":"IF(ISERROR(VLOOKUP(B235,'Zebrik W'!$B$7:$N$1000,13,0)),\"\",IF(VLOOKUP(B235,'Zebrik W'!$B$7:$N$1000,13,0)=0,\"--\",VLOOKUP(B235,'Zebrik W'!$B$7:$N$1000,13,0)))","v":""}]
[{"$f":"RANK(G236,G:G)","v":230},"Karel Policky",1950,"M","Kolín","CZ/C1",10175,3,{"$f":"RANK(G236,G:G)","v":230},{"$f":"IF(ISERROR(VLOOKUP(B236,'N PMČR 2026'!B:G,6,0)),\"-\",VLOOKUP(B236,'N PMČR 2026'!B:G,6,0))","v":"-"},"","",null,null,{"$f":"IF(ISERROR(VLOOKUP(B236,'Zebrik W'!$B$7:$N$1000,13,0)),\"\",IF(VLOOKUP(B236,'Zebrik W'!$B$7:$N$1000,13,0)=0,\"--\",VLOOKUP(B236,'Zebrik W'!$B$7:$N$1000,13,0)))","v":""}]
[{"$f":"RANK(G237,G:G)","v":231},"Michael Fik",1972,"M","Strakonice","CZ/C1",10162,3,{"$f":"RANK(G237,G:G)","v":231},{"$f":"IF(ISERROR(VLOOKUP(B237,'N PMČR 2026'!B:G,6,0)),\"-\",VLOOKUP(B237,'N PMČR 2026'!B:G,6,0))","v":62},"","",null,null,{"$f":"IF(ISERROR(VLOOKUP(B237,'Zebrik W'!$B$7:$N$1000,13,0)),\"\",IF(VLOOKUP(B237,'Zebrik W'!$B$7:$N$1000,13,0)=0,\"--\",VLOOKUP(B237,'Zebrik W'!$B$7:$N$1000,13,0)))","v":""}]
[{"$f":"RANK(G238,G:G)","v":232},"Rudolf Jung",1954,"M","Zbraslavice","CZ/C1",9883,3,{"$f":"RANK(G238,G:G)","v":232},{"$f":"IF(ISERROR(VLOOKUP(B238,'N PMČR 2026'!B:G,6,0)),\"-\",VLOOKUP(B238,'N PMČR 2026'!B:G,6,0))","v":"-"},"","",null,null,{"$f":"IF(ISERROR(VLOOKUP(B238,'Zebrik W'!$B$7:$N$1000,13,0)),\"\",IF(VLOOKUP(B238,'Zebrik W'!$B$7:$N$1000,13,0)=0,\"--\",VLOOKUP(B238,'Zebrik W'!$B$7:$N$1000,13,0)))","v":""}]
[{"$f":"RANK(G239,G:G)","v":233},"Petr Benes",1980,"M","Raná","CZ/C2",9843,2,{"$f":"RANK(G239,G:G)","v":233},{"$f":"IF(ISERROR(VLOOKUP(B239,'N PMČR 2026'!B:G,6,0)),\"-\",VLOOKUP(B239,'N PMČR 2026'!B:G,6,0))","v":"-"},"","",null,null,{"$f":"IF(ISERROR(VLOOKUP(B239,'Zebrik W'!$B$7:$N$1000,13,0)),\"\",IF(VLOOKUP(B239,'Zebrik W'!$B$7:$N$1000,13,0)=0,\"--\",VLOOKUP(B239,'Zebrik W'!$B$7:$N$1000,13,0)))","v":""}]
[{"$f":"RANK(G240,G:G)","v":234},"Petr Jedlicka",1987,"M","Medlánky","CZ/M",9830,2,{"$f":"RANK(G240,G:G)","v":234},{"$f":"IF(ISERROR(VLOOKUP(B240,'N PMČR 2026'!B:G,6,0)),\"-\",VLOOKUP(B240,'N PMČR 2026'!B:G,6,0))","v":"-"},"","",null,null,{"$f":"IF(ISERROR(VLOOKUP(B240,'Zebrik W'!$B$7:$N$1000,13,0)),\"\",IF(VLOOKUP(B240,'Zebrik W'!$B$7:$N$1000,13,0)=0,\"--\",VLOOKUP(B240,'Zebrik W'!$B$7:$N$1000,13,0)))","v":""}]
[{"$f":"RANK(G241,G:G)","v":235},"Lukas Petrzela",1987,"M","Olomouc","CZ/M",9784,3,{"$f":"RANK(G241,G:G)","v":235},{"$f":"IF(ISERROR(VLOOKUP(B241,'N PMČR 2026'!B:G,6,0)),\"-\",VLOOKUP(B241,'N PMČR 2026'!B:G,6,0))","v":"-"},"","",null,null,{"$f":"IF(ISERROR(VLOOKUP(B241,'Zebrik W'!$B$7:$N$1000,13,0)),\"\",IF(VLOOKUP(B241,'Zebrik W'!$B$7:$N$1000,13,0)=0,\"--\",VLOOKUP(B241,'Zebrik W'!$B$7:$N$1000,13,0)))","v":""}]
[{"$f":"RANK(G242,G:G)","v":236},"Tomas Novak",1974,"M","Česká Lípa","CZ/C2",9731,2,{"$f":"RANK(G242,G:G)","v":236},{"$f":"IF(ISERROR(VLOOKUP(B242,'N PMČR 2026'!B:G,6,0)),\"-\",VLOOKUP(B242,'N PMČR 2026'!B:G,6,0))","v":"-"},"","",null,null,{"$f":"IF(ISERROR(VLOOKUP(B242,'Zebrik W'!$B$7:$N$1000,13,0)),\"\",IF(VLOOKUP(B242,'Zebrik W'!$B$7:$N$1000,13,0)=0,\"--\",VLOOKUP(B242,'Zebrik W'!$B$7:$N$1000,13,0)))","v":""}]
[{"$f":"RANK(G243,G:G)","v":237},"Petr Omelka",1970,"M","Vyškov","CZ/M",9690,3,{"$f":"RANK(G243,G:G)","v":237},{"$f":"IF(ISERROR(VLOOKUP(B243,'N PMČR 2026'!B:G,6,0)),\"-\",VLOOKUP(B243,'N PMČR 2026'!B:G,6,0))","v":"-"},"","",null,null,{"$f":"IF(ISERROR(VLOOKUP(B243,'Zebrik W'!$B$7:$N$1000,13,0)),\"\",IF(VLOOKUP(B243,'Zebrik W'!$B$7:$N$1000,13,0)=0,\"--\",VLOOKUP(B243,'Zebrik W'!$B$7:$N$1000,13,0)))","v":""}]
[{"$f":"RANK(G244,G:G)","v":238},"Filip Sirc",1993,"M","Letňany","CZ/C1",9590,2,{"$f":"RANK(G244,G:G)","v":238},{"$f":"IF(ISERROR(VLOOKUP(B244,'N PMČR 2026'!B:G,6,0)),\"-\",VLOOKUP(B244,'N PMČR 2026'!B:G,6,0))","v":"-"},"","",null,null,{"$f":"IF(ISERROR(VLOOKUP(B244,'Zebrik W'!$B$7:$N$1000,13,0)),\"\",IF(VLOOKUP(B244,'Zebrik W'!$B$7:$N$1000,13,0)=0,\"--\",VLOOKUP(B244,'Zebrik W'!$B$7:$N$1000,13,0)))","v":""}]
[{"$f":"RANK(G245,G:G)","v":239},"Richard Jensen",1965,"M","Zbraslavice","CZ/C1",9513,2,{"$f":"RANK(G245,G:G)","v":239},{"$f":"IF(ISERROR(VLOOKUP(B245,'N PMČR 2026'!B:G,6,0)),\"-\",VLOOKUP(B245,'N PMČR 2026'!B:G,6,0))","v":"-"},"","",null,null,{"$f":"IF(ISERROR(VLOOKUP(B245,'Zebrik W'!$B$7:$N$1000,13,0)),\"\",IF(VLOOKUP(B245,'Zebrik W'!$B$7:$N$1000,13,0)=0,\"--\",VLOOKUP(B245,'Zebrik W'!$B$7:$N$1000,13,0)))","v":""}]
[{"$f":"RANK(G246,G:G)","v":240},"Slavomir Valecko",1960,"M","Hranice","CZ/M",9348,2,{"$f":"RANK(G246,G:G)","v":240},{"$f":"IF(ISERROR(VLOOKUP(B246,'N PMČR 2026'!B:G,6,0)),\"-\",VLOOKUP(B246,'N PMČR 2026'!B:G,6,0))","v":"-"},"","",null,null,{"$f":"IF(ISERROR(VLOOKUP(B246,'Zebrik W'!$B$7:$N$1000,13,0)),\"\",IF(VLOOKUP(B246,'Zebrik W'!$B$7:$N$1000,13,0)=0,\"--\",VLOOKUP(B246,'Zebrik W'!$B$7:$N$1000,13,0)))","v":""}]
[{"$f":"RANK(G247,G:G)","v":241},"Vladislav Cadsky",1975,"M","Kolín","CZ/C1",9175,3,{"$f":"RANK(G247,G:G)","v":241},{"$f":"IF(ISERROR(VLOOKUP(B247,'N PMČR 2026'!B:G,6,0)),\"-\",VLOOKUP(B247,'N PMČR 2026'!B:G,6,0))","v":"-"},"","",null,null,{"$f":"IF(ISERROR(VLOOKUP(B247,'Zebrik W'!$B$7:$N$1000,13,0)),\"\",IF(VLOOKUP(B247,'Zebrik W'!$B$7:$N$1000,13,0)=0,\"--\",VLOOKUP(B247,'Zebrik W'!$B$7:$N$1000,13,0)))","v":""}]
[{"$f":"RANK(G248,G:G)","v":242},"Tomas Zamecnik",1988,"M","Zbraslavice","CZ/C1",9170,2,{"$f":"RANK(G248,G:G)","v":242},{"$f":"IF(ISERROR(VLOOKUP(B248,'N PMČR 2026'!B:G,6,0)),\"-\",VLOOKUP(B248,'N PMČR 2026'!B:G,6,0))","v":"-"},"","",null,null,{"$f":"IF(ISERROR(VLOOKUP(B248,'Zebrik W'!$B$7:$N$1000,13,0)),\"\",IF(VLOOKUP(B248,'Zebrik W'!$B$7:$N$1000,13,0)=0,\"--\",VLOOKUP(B248,'Zebrik W'!$B$7:$N$1000,13,0)))","v":""}]
[{"$f":"RANK(G249,G:G)","v":243},"Vaclav Petru",1974,"M","Letňany","CZ/C1",9158,3,{"$f":"RANK(G249,G:G)","v":243},{"$f":"IF(ISERROR(VLOOKUP(B249,'N PMČR 2026'!B:G,6,0)),\"-\",VLOOKUP(B249,'N PMČR 2026'!B:G,6,0))","v":"-"},"","",null,null,{"$f":"IF(ISERROR(VLOOKUP(B249,'Zebrik W'!$B$7:$N$1000,13,0)),\"\",IF(VLOOKUP(B249,'Zebrik W'!$B$7:$N$1000,13,0)=0,\"--\",VLOOKUP(B249,'Zebrik W'!$B$7:$N$1000,13,0)))","v":""}]
[{"$f":"RANK(G250,G:G)","v":244},"Petr Hosek",2001,"M","Beroun","CZ/C1",9058,2,{"$f":"RANK(G250,G:G)","v":244},{"$f":"IF(ISERROR(VLOOKUP(B250,'N PMČR 2026'!B:G,6,0)),\"-\",VLOOKUP(B250,'N PMČR 2026'!B:G,6,0))","v":"-"},"Junior v roce 2026","",null,null,{"$f":"IF(ISERROR(VLOOKUP(B250,'Zebrik W'!$B$7:$N$1000,13,0)),\"\",IF(VLOOKUP(B250,'Zebrik W'!$B$7:$N$1000,13,0)=0,\"--\",VLOOKUP(B250,'Zebrik W'!$B$7:$N$1000,13,0)))","v":""}]
[{"$f":"RANK(G251,G:G)","v":245},"Matous Schmidt",1981,"M","Letňany","CZ/C1",8922,2,{"$f":"RANK(G251,G:G)","v":245},{"$f":"IF(ISERROR(VLOOKUP(B251,'N PMČR 2026'!B:G,6,0)),\"-\",VLOOKUP(B251,'N PMČR 2026'!B:G,6,0))","v":"-"},"","",null,null,{"$f":"IF(ISERROR(VLOOKUP(B251,'Zebrik W'!$B$7:$N$1000,13,0)),\"\",IF(VLOOKUP(B251,'Zebrik W'!$B$7:$N$1000,13,0)=0,\"--\",VLOOKUP(B251,'Zebrik W'!$B$7:$N$1000,13,0)))","v":""}]
[{"$f":"RANK(G252,G:G)","v":246},"Radovan Otto",1968,"M","Ústí nad Labem","CZ/C2",8827,2,{"$f":"RANK(G252,G:G)","v":246},{"$f":"IF(ISERROR(VLOOKUP(B252,'N PMČR 2026'!B:G,6,0)),\"-\",VLOOKUP(B252,'N PMČR 2026'!B:G,6,0))","v":"-"},"","",null,null,{"$f":"IF(ISERROR(VLOOKUP(B252,'Zebrik W'!$B$7:$N$1000,13,0)),\"\",IF(VLOOKUP(B252,'Zebrik W'!$B$7:$N$1000,13,0)=0,\"--\",VLOOKUP(B252,'Zebrik W'!$B$7:$N$1000,13,0)))","v":""}]
[{"$f":"RANK(G253,G:G)","v":247},"Beat Albrecht",1953,"M","Šumperk","CZ/M",8808,3,{"$f":"RANK(G253,G:G)","v":247},{"$f":"IF(ISERROR(VLOOKUP(B253,'N PMČR 2026'!B:G,6,0)),\"-\",VLOOKUP(B253,'N PMČR 2026'!B:G,6,0))","v":"-"},"","",null,null,{"$f":"IF(ISERROR(VLOOKUP(B253,'Zebrik W'!$B$7:$N$1000,13,0)),\"\",IF(VLOOKUP(B253,'Zebrik W'!$B$7:$N$1000,13,0)=0,\"--\",VLOOKUP(B253,'Zebrik W'!$B$7:$N$1000,13,0)))","v":""}]
[{"$f":"RANK(G254,G:G)","v":248},"Martin Markl",1960,"M","Kolín","CZ/C1",8759,3,{"$f":"RANK(G254,G:G)","v":248},{"$f":"IF(ISERROR(VLOOKUP(B254,'N PMČR 2026'!B:G,6,0)),\"-\",VLOOKUP(B254,'N PMČR 2026'!B:G,6,0))","v":"-"},"","",null,null,{"$f":"IF(ISERROR(VLOOKUP(B254,'Zebrik W'!$B$7:$N$1000,13,0)),\"\",IF(VLOOKUP(B254,'Zebrik W'!$B$7:$N$1000,13,0)=0,\"--\",VLOOKUP(B254,'Zebrik W'!$B$7:$N$1000,13,0)))","v":""}]
[{"$f":"RANK(G255,G:G)","v":249},"Adam Hepal",2004,"M","Moravská Třebová","CZ/M",8690,2,{"$f":"RANK(G255,G:G)","v":249},{"$f":"IF(ISERROR(VLOOKUP(B255,'N PMČR 2026'!B:G,6,0)),\"-\",VLOOKUP(B255,'N PMČR 2026'!B:G,6,0))","v":"-"},"Junior v roce 2026","Junior v roce 2027",null,null,{"$f":"IF(ISERROR(VLOOKUP(B255,'Zebrik W'!$B$7:$N$1000,13,0)),\"\",IF(VLOOKUP(B255,'Zebrik W'!$B$7:$N$1000,13,0)=0,\"--\",VLOOKUP(B255,'Zebrik W'!$B$7:$N$1000,13,0)))","v":""}]
[{"$f":"RANK(G256,G:G)","v":250},"Tomas Mezera",1973,"M","Raná","CZ/C2",8664,3,{"$f":"RANK(G256,G:G)","v":250},{"$f":"IF(ISERROR(VLOOKUP(B256,'N PMČR 2026'!B:G,6,0)),\"-\",VLOOKUP(B256,'N PMČR 2026'!B:G,6,0))","v":"-"},"","",null,null,{"$f":"IF(ISERROR(VLOOKUP(B256,'Zebrik W'!$B$7:$N$1000,13,0)),\"\",IF(VLOOKUP(B256,'Zebrik W'!$B$7:$N$1000,13,0)=0,\"--\",VLOOKUP(B256,'Zebrik W'!$B$7:$N$1000,13,0)))","v":""}]
[{"$f":"RANK(G257,G:G)","v":251},"Roman Cerny",1971,"M","Hranice","CZ/M",8660,3,{"$f":"RANK(G257,G:G)","v":251},{"$f":"IF(ISERROR(VLOOKUP(B257,'N PMČR 2026'!B:G,6,0)),\"-\",VLOOKUP(B257,'N PMČR 2026'!B:G,6,0))","v":"-"},"","",null,null,{"$f":"IF(ISERROR(VLOOKUP(B257,'Zebrik W'!$B$7:$N$1000,13,0)),\"\",IF(VLOOKUP(B257,'Zebrik W'!$B$7:$N$1000,13,0)=0,\"--\",VLOOKUP(B257,'Zebrik W'!$B$7:$N$1000,13,0)))","v":""}]
[{"$f":"RANK(G258,G:G)","v":252},"Daniel Devecka",1981,"M","Vlašim","CZ/C1",8605,2,{"$f":"RANK(G258,G:G)","v":252},{"$f":"IF(ISERROR(VLOOKUP(B258,'N PMČR 2026'!B:G,6,0)),\"-\",VLOOKUP(B258,'N PMČR 2026'!B:G,6,0))","v":"-"},"","",null,null,{"$f":"IF(ISERROR(VLOOKUP(B258,'Zebrik W'!$B$7:$N$1000,13,0)),\"\",IF(VLOOKUP(B258,'Zebrik W'!$B$7:$N$1000,13,0)=0,\"--\",VLOOKUP(B258,'Zebrik W'!$B$7:$N$1000,13,0)))","v":""}]
[{"$f":"RANK(G259,G:G)","v":253},"Filip Malik",2001,"M","Letňany","CZ/C1",8603,2,{"$f":"RANK(G259,G:G)","v":253},{"$f":"IF(ISERROR(VLOOKUP(B259,'N PMČR 2026'!B:G,6,0)),\"-\",VLOOKUP(B259,'N PMČR 2026'!B:G,6,0))","v":"-"},"Junior v roce 2026","",null,null,{"$f":"IF(ISERROR(VLOOKUP(B259,'Zebrik W'!$B$7:$N$1000,13,0)),\"\",IF(VLOOKUP(B259,'Zebrik W'!$B$7:$N$1000,13,0)=0,\"--\",VLOOKUP(B259,'Zebrik W'!$B$7:$N$1000,13,0)))","v":""}]
[{"$f":"RANK(G260,G:G)","v":254},"Tomas Ptacovsky",1981,"M","Letňany","CZ/C1",8493,2,{"$f":"RANK(G260,G:G)","v":254},{"$f":"IF(ISERROR(VLOOKUP(B260,'N PMČR 2026'!B:G,6,0)),\"-\",VLOOKUP(B260,'N PMČR 2026'!B:G,6,0))","v":"-"},"","",null,null,{"$f":"IF(ISERROR(VLOOKUP(B260,'Zebrik W'!$B$7:$N$1000,13,0)),\"\",IF(VLOOKUP(B260,'Zebrik W'!$B$7:$N$1000,13,0)=0,\"--\",VLOOKUP(B260,'Zebrik W'!$B$7:$N$1000,13,0)))","v":""}]
[{"$f":"RANK(G261,G:G)","v":255},"Jan Kristof",1962,"M","Frýdlant","CZ/M",8466,3,{"$f":"RANK(G261,G:G)","v":255},{"$f":"IF(ISERROR(VLOOKUP(B261,'N PMČR 2026'!B:G,6,0)),\"-\",VLOOKUP(B261,'N PMČR 2026'!B:G,6,0))","v":"-"},"","",null,null,{"$f":"IF(ISERROR(VLOOKUP(B261,'Zebrik W'!$B$7:$N$1000,13,0)),\"\",IF(VLOOKUP(B261,'Zebrik W'!$B$7:$N$1000,13,0)=0,\"--\",VLOOKUP(B261,'Zebrik W'!$B$7:$N$1000,13,0)))","v":""}]
[{"$f":"RANK(G262,G:G)","v":256},"Eduard Niko",1988,"M","Zbraslavice","CZ/C1",8407,1,{"$f":"RANK(G262,G:G)","v":256},{"$f":"IF(ISERROR(VLOOKUP(B262,'N PMČR 2026'!B:G,6,0)),\"-\",VLOOKUP(B262,'N PMČR 2026'!B:G,6,0))","v":"-"},"","",null,null,{"$f":"IF(ISERROR(VLOOKUP(B262,'Zebrik W'!$B$7:$N$1000,13,0)),\"\",IF(VLOOKUP(B262,'Zebrik W'!$B$7:$N$1000,13,0)=0,\"--\",VLOOKUP(B262,'Zebrik W'!$B$7:$N$1000,13,0)))","v":""}]
[{"$f":"RANK(G263,G:G)","v":257},"Jiri Donat",1983,"M","Letňany","CZ/C1",8112,3,{"$f":"RANK(G263,G:G)","v":257},{"$f":"IF(ISERROR(VLOOKUP(B263,'N PMČR 2026'!B:G,6,0)),\"-\",VLOOKUP(B263,'N PMČR 2026'!B:G,6,0))","v":"-"},"","",null,null,{"$f":"IF(ISERROR(VLOOKUP(B263,'Zebrik W'!$B$7:$N$1000,13,0)),\"\",IF(VLOOKUP(B263,'Zebrik W'!$B$7:$N$1000,13,0)=0,\"--\",VLOOKUP(B263,'Zebrik W'!$B$7:$N$1000,13,0)))","v":""}]
[{"$f":"RANK(G264,G:G)","v":258},"Martin Valenta",1969,"M","Toužim","CZ/C1",8108,3,{"$f":"RANK(G264,G:G)","v":258},{"$f":"IF(ISERROR(VLOOKUP(B264,'N PMČR 2026'!B:G,6,0)),\"-\",VLOOKUP(B264,'N PMČR 2026'!B:G,6,0))","v":"-"},{"$f":"IF(C264=\"(prázdné)\",\"\",IF(($K$4-C264)>25,\"\",\"Junior v roce \"&$K$4))","v":""},{"$f":"IF(C264=\"(prázdné)\",\"\",IF(($L$4-C264)>25,\"\",\"Junior v roce \"&$L$4))","v":""},null,null,{"$f":"IF(ISERROR(VLOOKUP(B264,'Zebrik W'!$B$7:$N$1000,13,0)),\"\",IF(VLOOKUP(B264,'Zebrik W'!$B$7:$N$1000,13,0)=0,\"--\",VLOOKUP(B264,'Zebrik W'!$B$7:$N$1000,13,0)))","v":""}]
[{"$f":"RANK(G265,G:G)","v":259},"Antonin Novotny",1972,"M","Luhačovice","CZ/M",7886,1,{"$f":"RANK(G265,G:G)","v":259},{"$f":"IF(ISERROR(VLOOKUP(B265,'N PMČR 2026'!B:G,6,0)),\"-\",VLOOKUP(B265,'N PMČR 2026'!B:G,6,0))","v":"-"},"","",null,null,{"$f":"IF(ISERROR(VLOOKUP(B265,'Zebrik W'!$B$7:$N$1000,13,0)),\"\",IF(VLOOKUP(B265,'Zebrik W'!$B$7:$N$1000,13,0)=0,\"--\",VLOOKUP(B265,'Zebrik W'!$B$7:$N$1000,13,0)))","v":""}]
[{"$f":"RANK(G266,G:G)","v":260},"Adela Vachova",2007,"F","Hodkovice","CZ/C2",7754,2,{"$f":"RANK(G266,G:G)","v":260},{"$f":"IF(ISERROR(VLOOKUP(B266,'N PMČR 2026'!B:G,6,0)),\"-\",VLOOKUP(B266,'N PMČR 2026'!B:G,6,0))","v":"-"},"Junior v roce 2026","Junior v roce 2027",null,null,{"$f":"IF(ISERROR(VLOOKUP(B266,'Zebrik W'!$B$7:$N$1000,13,0)),\"\",IF(VLOOKUP(B266,'Zebrik W'!$B$7:$N$1000,13,0)=0,\"--\",VLOOKUP(B266,'Zebrik W'!$B$7:$N$1000,13,0)))","v":"--"}]
[{"$f":"RANK(G267,G:G)","v":261},"Michal Prochazka",2006,"M","Beroun","CZ/C1",7751,2,{"$f":"RANK(G267,G:G)","v":261},{"$f":"IF(ISERROR(VLOOKUP(B267,'N PMČR 2026'!B:G,6,0)),\"-\",VLOOKUP(B267,'N PMČR 2026'!B:G,6,0))","v":"-"},"Junior v roce 2026","Junior v roce 2027",null,null,{"$f":"IF(ISERROR(VLOOKUP(B267,'Zebrik W'!$B$7:$N$1000,13,0)),\"\",IF(VLOOKUP(B267,'Zebrik W'!$B$7:$N$1000,13,0)=0,\"--\",VLOOKUP(B267,'Zebrik W'!$B$7:$N$1000,13,0)))","v":""}]
[{"$f":"RANK(G268,G:G)","v":262},"Lukas Hynek",1979,"M","Dvůr Králové","CZ/C2",7750,1,{"$f":"RANK(G268,G:G)","v":262},{"$f":"IF(ISERROR(VLOOKUP(B268,'N PMČR 2026'!B:G,6,0)),\"-\",VLOOKUP(B268,'N PMČR 2026'!B:G,6,0))","v":"-"},"","",null,null,{"$f":"IF(ISERROR(VLOOKUP(B268,'Zebrik W'!$B$7:$N$1000,13,0)),\"\",IF(VLOOKUP(B268,'Zebrik W'!$B$7:$N$1000,13,0)=0,\"--\",VLOOKUP(B268,'Zebrik W'!$B$7:$N$1000,13,0)))","v":""}]
[{"$f":"RANK(G269,G:G)","v":263},"Vit Tvrdik",2000,"M","Letňany","CZ/C1",7745,1,{"$f":"RANK(G269,G:G)","v":263},{"$f":"IF(ISERROR(VLOOKUP(B269,'N PMČR 2026'!B:G,6,0)),\"-\",VLOOKUP(B269,'N PMČR 2026'!B:G,6,0))","v":"-"},"","",null,null,{"$f":"IF(ISERROR(VLOOKUP(B269,'Zebrik W'!$B$7:$N$1000,13,0)),\"\",IF(VLOOKUP(B269,'Zebrik W'!$B$7:$N$1000,13,0)=0,\"--\",VLOOKUP(B269,'Zebrik W'!$B$7:$N$1000,13,0)))","v":""}]
[{"$f":"RANK(G270,G:G)","v":264},"Jan Sobotka",1973,"M","Vyškov","CZ/M",7639,3,{"$f":"RANK(G270,G:G)","v":264},{"$f":"IF(ISERROR(VLOOKUP(B270,'N PMČR 2026'!B:G,6,0)),\"-\",VLOOKUP(B270,'N PMČR 2026'!B:G,6,0))","v":"-"},"","",null,null,{"$f":"IF(ISERROR(VLOOKUP(B270,'Zebrik W'!$B$7:$N$1000,13,0)),\"\",IF(VLOOKUP(B270,'Zebrik W'!$B$7:$N$1000,13,0)=0,\"--\",VLOOKUP(B270,'Zebrik W'!$B$7:$N$1000,13,0)))","v":""}]
[{"$f":"RANK(G271,G:G)","v":265},"Oldrich Bartonik",1961,"M","Luhačovice","CZ/M",7594,2,{"$f":"RANK(G271,G:G)","v":265},{"$f":"IF(ISERROR(VLOOKUP(B271,'N PMČR 2026'!B:G,6,0)),\"-\",VLOOKUP(B271,'N PMČR 2026'!B:G,6,0))","v":"-"},"","",null,null,{"$f":"IF(ISERROR(VLOOKUP(B271,'Zebrik W'!$B$7:$N$1000,13,0)),\"\",IF(VLOOKUP(B271,'Zebrik W'!$B$7:$N$1000,13,0)=0,\"--\",VLOOKUP(B271,'Zebrik W'!$B$7:$N$1000,13,0)))","v":""}]
[{"$f":"RANK(G272,G:G)","v":266},"Michal Navratil",1985,"M","Křižanov","CZ/M",7550,1,{"$f":"RANK(G272,G:G)","v":266},{"$f":"IF(ISERROR(VLOOKUP(B272,'N PMČR 2026'!B:G,6,0)),\"-\",VLOOKUP(B272,'N PMČR 2026'!B:G,6,0))","v":"-"},"","",null,null,{"$f":"IF(ISERROR(VLOOKUP(B272,'Zebrik W'!$B$7:$N$1000,13,0)),\"\",IF(VLOOKUP(B272,'Zebrik W'!$B$7:$N$1000,13,0)=0,\"--\",VLOOKUP(B272,'Zebrik W'!$B$7:$N$1000,13,0)))","v":""}]
[{"$f":"RANK(G273,G:G)","v":267},"Rostislav Fric",1973,"M","Raná","CZ/C2",7513,2,{"$f":"RANK(G273,G:G)","v":267},{"$f":"IF(ISERROR(VLOOKUP(B273,'N PMČR 2026'!B:G,6,0)),\"-\",VLOOKUP(B273,'N PMČR 2026'!B:G,6,0))","v":"-"},"","",null,null,{"$f":"IF(ISERROR(VLOOKUP(B273,'Zebrik W'!$B$7:$N$1000,13,0)),\"\",IF(VLOOKUP(B273,'Zebrik W'!$B$7:$N$1000,13,0)=0,\"--\",VLOOKUP(B273,'Zebrik W'!$B$7:$N$1000,13,0)))","v":""}]
[{"$f":"RANK(G274,G:G)","v":268},"Jakub Sachl",2006,"M","Kralupy","CZ/C1",7446,2,{"$f":"RANK(G274,G:G)","v":268},{"$f":"IF(ISERROR(VLOOKUP(B274,'N PMČR 2026'!B:G,6,0)),\"-\",VLOOKUP(B274,'N PMČR 2026'!B:G,6,0))","v":"N4"},"Junior v roce 2026","Junior v roce 2027",null,null,{"$f":"IF(ISERROR(VLOOKUP(B274,'Zebrik W'!$B$7:$N$1000,13,0)),\"\",IF(VLOOKUP(B274,'Zebrik W'!$B$7:$N$1000,13,0)=0,\"--\",VLOOKUP(B274,'Zebrik W'!$B$7:$N$1000,13,0)))","v":""}]
[{"$f":"RANK(G275,G:G)","v":269},"Yvona Vyhnankova",1963,"F","Olomouc","CZ/M",7393,3,{"$f":"RANK(G275,G:G)","v":269},{"$f":"IF(ISERROR(VLOOKUP(B275,'N PMČR 2026'!B:G,6,0)),\"-\",VLOOKUP(B275,'N PMČR 2026'!B:G,6,0))","v":"-"},"","",null,null,{"$f":"IF(ISERROR(VLOOKUP(B275,'Zebrik W'!$B$7:$N$1000,13,0)),\"\",IF(VLOOKUP(B275,'Zebrik W'!$B$7:$N$1000,13,0)=0,\"--\",VLOOKUP(B275,'Zebrik W'!$B$7:$N$1000,13,0)))","v":"--"}]
[{"$f":"RANK(G276,G:G)","v":270},"Sarka Lochova",1966,"F","Šumperk","CZ/M",7317,3,{"$f":"RANK(G276,G:G)","v":270},{"$f":"IF(ISERROR(VLOOKUP(B276,'N PMČR 2026'!B:G,6,0)),\"-\",VLOOKUP(B276,'N PMČR 2026'!B:G,6,0))","v":"-"},"","",null,null,{"$f":"IF(ISERROR(VLOOKUP(B276,'Zebrik W'!$B$7:$N$1000,13,0)),\"\",IF(VLOOKUP(B276,'Zebrik W'!$B$7:$N$1000,13,0)=0,\"--\",VLOOKUP(B276,'Zebrik W'!$B$7:$N$1000,13,0)))","v":"--"}]
[{"$f":"RANK(G277,G:G)","v":271},"Milos Dedera",1956,"M","Jihlava","CZ/M",7300,1,{"$f":"RANK(G277,G:G)","v":271},{"$f":"IF(ISERROR(VLOOKUP(B277,'N PMČR 2026'!B:G,6,0)),\"-\",VLOOKUP(B277,'N PMČR 2026'!B:G,6,0))","v":"-"},"","",null,null,{"$f":"IF(ISERROR(VLOOKUP(B277,'Zebrik W'!$B$7:$N$1000,13,0)),\"\",IF(VLOOKUP(B277,'Zebrik W'!$B$7:$N$1000,13,0)=0,\"--\",VLOOKUP(B277,'Zebrik W'!$B$7:$N$1000,13,0)))","v":""}]
[{"$f":"RANK(G278,G:G)","v":272},"Jiri Cincera",1966,"M","Toužim","CZ/C1",7149,2,{"$f":"RANK(G278,G:G)","v":272},{"$f":"IF(ISERROR(VLOOKUP(B278,'N PMČR 2026'!B:G,6,0)),\"-\",VLOOKUP(B278,'N PMČR 2026'!B:G,6,0))","v":"-"},"","",null,null,{"$f":"IF(ISERROR(VLOOKUP(B278,'Zebrik W'!$B$7:$N$1000,13,0)),\"\",IF(VLOOKUP(B278,'Zebrik W'!$B$7:$N$1000,13,0)=0,\"--\",VLOOKUP(B278,'Zebrik W'!$B$7:$N$1000,13,0)))","v":""}]
[{"$f":"RANK(G279,G:G)","v":273},"Vojtech Bystricky",2004,"M","Strakonice","CZ/C1",7089,2,{"$f":"RANK(G279,G:G)","v":273},{"$f":"IF(ISERROR(VLOOKUP(B279,'N PMČR 2026'!B:G,6,0)),\"-\",VLOOKUP(B279,'N PMČR 2026'!B:G,6,0))","v":61},"Junior v roce 2026","Junior v roce 2027",null,null,{"$f":"IF(ISERROR(VLOOKUP(B279,'Zebrik W'!$B$7:$N$1000,13,0)),\"\",IF(VLOOKUP(B279,'Zebrik W'!$B$7:$N$1000,13,0)=0,\"--\",VLOOKUP(B279,'Zebrik W'!$B$7:$N$1000,13,0)))","v":""}]
[{"$f":"RANK(G280,G:G)","v":274},"Tim Raasch",2000,"M","Polička","CZ/C2",7063,2,{"$f":"RANK(G280,G:G)","v":274},{"$f":"IF(ISERROR(VLOOKUP(B280,'N PMČR 2026'!B:G,6,0)),\"-\",VLOOKUP(B280,'N PMČR 2026'!B:G,6,0))","v":"-"},"","",null,null,{"$f":"IF(ISERROR(VLOOKUP(B280,'Zebrik W'!$B$7:$N$1000,13,0)),\"\",IF(VLOOKUP(B280,'Zebrik W'!$B$7:$N$1000,13,0)=0,\"--\",VLOOKUP(B280,'Zebrik W'!$B$7:$N$1000,13,0)))","v":""}]
[{"$f":"RANK(G281,G:G)","v":275},"Michal Posluzny",1968,"M","Medlánky","CZ/M",7041,1,{"$f":"RANK(G281,G:G)","v":275},{"$f":"IF(ISERROR(VLOOKUP(B281,'N PMČR 2026'!B:G,6,0)),\"-\",VLOOKUP(B281,'N PMČR 2026'!B:G,6,0))","v":"-"},"","",null,null,{"$f":"IF(ISERROR(VLOOKUP(B281,'Zebrik W'!$B$7:$N$1000,13,0)),\"\",IF(VLOOKUP(B281,'Zebrik W'!$B$7:$N$1000,13,0)=0,\"--\",VLOOKUP(B281,'Zebrik W'!$B$7:$N$1000,13,0)))","v":""}]
[{"$f":"RANK(G282,G:G)","v":276},"Jan Zezula",1979,"M","Letňany","CZ/C1",7030,1,{"$f":"RANK(G282,G:G)","v":276},{"$f":"IF(ISERROR(VLOOKUP(B282,'N PMČR 2026'!B:G,6,0)),\"-\",VLOOKUP(B282,'N PMČR 2026'!B:G,6,0))","v":"-"},"","",null,null,{"$f":"IF(ISERROR(VLOOKUP(B282,'Zebrik W'!$B$7:$N$1000,13,0)),\"\",IF(VLOOKUP(B282,'Zebrik W'!$B$7:$N$1000,13,0)=0,\"--\",VLOOKUP(B282,'Zebrik W'!$B$7:$N$1000,13,0)))","v":""}]
[{"$f":"RANK(G283,G:G)","v":277},"Vit Grossmann",1977,"M","Hranice","CZ/M",7011,2,{"$f":"RANK(G283,G:G)","v":277},{"$f":"IF(ISERROR(VLOOKUP(B283,'N PMČR 2026'!B:G,6,0)),\"-\",VLOOKUP(B283,'N PMČR 2026'!B:G,6,0))","v":"-"},"","",null,null,{"$f":"IF(ISERROR(VLOOKUP(B283,'Zebrik W'!$B$7:$N$1000,13,0)),\"\",IF(VLOOKUP(B283,'Zebrik W'!$B$7:$N$1000,13,0)=0,\"--\",VLOOKUP(B283,'Zebrik W'!$B$7:$N$1000,13,0)))","v":""}]
[{"$f":"RANK(G284,G:G)","v":278},"Jiri Janda",1966,"M","Letňany","CZ/C1",6944,2,{"$f":"RANK(G284,G:G)","v":278},{"$f":"IF(ISERROR(VLOOKUP(B284,'N PMČR 2026'!B:G,6,0)),\"-\",VLOOKUP(B284,'N PMČR 2026'!B:G,6,0))","v":"-"},"","",null,null,{"$f":"IF(ISERROR(VLOOKUP(B284,'Zebrik W'!$B$7:$N$1000,13,0)),\"\",IF(VLOOKUP(B284,'Zebrik W'!$B$7:$N$1000,13,0)=0,\"--\",VLOOKUP(B284,'Zebrik W'!$B$7:$N$1000,13,0)))","v":""}]
[{"$f":"RANK(G285,G:G)","v":279},"Tomas Jung",1950,"M","Zbraslavice","CZ/C1",6812,3,{"$f":"RANK(G285,G:G)","v":279},{"$f":"IF(ISERROR(VLOOKUP(B285,'N PMČR 2026'!B:G,6,0)),\"-\",VLOOKUP(B285,'N PMČR 2026'!B:G,6,0))","v":"-"},"","",null,null,{"$f":"IF(ISERROR(VLOOKUP(B285,'Zebrik W'!$B$7:$N$1000,13,0)),\"\",IF(VLOOKUP(B285,'Zebrik W'!$B$7:$N$1000,13,0)=0,\"--\",VLOOKUP(B285,'Zebrik W'!$B$7:$N$1000,13,0)))","v":""}]
[{"$f":"RANK(G286,G:G)","v":280},"Ladislav Jozsa",1981,"M","Medlánky","CZ/M",6782,2,{"$f":"RANK(G286,G:G)","v":280},{"$f":"IF(ISERROR(VLOOKUP(B286,'N PMČR 2026'!B:G,6,0)),\"-\",VLOOKUP(B286,'N PMČR 2026'!B:G,6,0))","v":"-"},"","",null,null,{"$f":"IF(ISERROR(VLOOKUP(B286,'Zebrik W'!$B$7:$N$1000,13,0)),\"\",IF(VLOOKUP(B286,'Zebrik W'!$B$7:$N$1000,13,0)=0,\"--\",VLOOKUP(B286,'Zebrik W'!$B$7:$N$1000,13,0)))","v":""}]
[{"$f":"RANK(G287,G:G)","v":281},"David Tejnora",1982,"M","Jaroměř","CZ/C2",6710,1,{"$f":"RANK(G287,G:G)","v":281},{"$f":"IF(ISERROR(VLOOKUP(B287,'N PMČR 2026'!B:G,6,0)),\"-\",VLOOKUP(B287,'N PMČR 2026'!B:G,6,0))","v":"-"},"","",null,null,{"$f":"IF(ISERROR(VLOOKUP(B287,'Zebrik W'!$B$7:$N$1000,13,0)),\"\",IF(VLOOKUP(B287,'Zebrik W'!$B$7:$N$1000,13,0)=0,\"--\",VLOOKUP(B287,'Zebrik W'!$B$7:$N$1000,13,0)))","v":""}]
[{"$f":"RANK(G288,G:G)","v":282},"Jana Mezerova",1975,"F","Raná","CZ/C2",6702,2,{"$f":"RANK(G288,G:G)","v":282},{"$f":"IF(ISERROR(VLOOKUP(B288,'N PMČR 2026'!B:G,6,0)),\"-\",VLOOKUP(B288,'N PMČR 2026'!B:G,6,0))","v":"-"},"","",null,null,{"$f":"IF(ISERROR(VLOOKUP(B288,'Zebrik W'!$B$7:$N$1000,13,0)),\"\",IF(VLOOKUP(B288,'Zebrik W'!$B$7:$N$1000,13,0)=0,\"--\",VLOOKUP(B288,'Zebrik W'!$B$7:$N$1000,13,0)))","v":"--"}]
[{"$f":"RANK(G289,G:G)","v":283},"Adam Laburda",2005,"M","Raná","CZ/C2",6584,2,{"$f":"RANK(G289,G:G)","v":283},{"$f":"IF(ISERROR(VLOOKUP(B289,'N PMČR 2026'!B:G,6,0)),\"-\",VLOOKUP(B289,'N PMČR 2026'!B:G,6,0))","v":"-"},"Junior v roce 2026","Junior v roce 2027",null,null,{"$f":"IF(ISERROR(VLOOKUP(B289,'Zebrik W'!$B$7:$N$1000,13,0)),\"\",IF(VLOOKUP(B289,'Zebrik W'!$B$7:$N$1000,13,0)=0,\"--\",VLOOKUP(B289,'Zebrik W'!$B$7:$N$1000,13,0)))","v":""}]
[{"$f":"RANK(G290,G:G)","v":284},"Petr Seibrt",1974,"M","Náchod","CZ/C2",6576,1,{"$f":"RANK(G290,G:G)","v":284},{"$f":"IF(ISERROR(VLOOKUP(B290,'N PMČR 2026'!B:G,6,0)),\"-\",VLOOKUP(B290,'N PMČR 2026'!B:G,6,0))","v":"-"},"","",null,null,{"$f":"IF(ISERROR(VLOOKUP(B290,'Zebrik W'!$B$7:$N$1000,13,0)),\"\",IF(VLOOKUP(B290,'Zebrik W'!$B$7:$N$1000,13,0)=0,\"--\",VLOOKUP(B290,'Zebrik W'!$B$7:$N$1000,13,0)))","v":""}]
[{"$f":"RANK(G291,G:G)","v":285},"Jiri Slemr",1979,"M","Vysoké Mýto","CZ/C2",6575,1,{"$f":"RANK(G291,G:G)","v":285},{"$f":"IF(ISERROR(VLOOKUP(B291,'N PMČR 2026'!B:G,6,0)),\"-\",VLOOKUP(B291,'N PMČR 2026'!B:G,6,0))","v":"-"},"","",null,null,{"$f":"IF(ISERROR(VLOOKUP(B291,'Zebrik W'!$B$7:$N$1000,13,0)),\"\",IF(VLOOKUP(B291,'Zebrik W'!$B$7:$N$1000,13,0)=0,\"--\",VLOOKUP(B291,'Zebrik W'!$B$7:$N$1000,13,0)))","v":""}]
[{"$f":"RANK(G292,G:G)","v":286},"Oldrich Kounovsky",1976,"M","Medlánky","CZ/M",6541,2,{"$f":"RANK(G292,G:G)","v":286},{"$f":"IF(ISERROR(VLOOKUP(B292,'N PMČR 2026'!B:G,6,0)),\"-\",VLOOKUP(B292,'N PMČR 2026'!B:G,6,0))","v":"-"},"","",null,null,{"$f":"IF(ISERROR(VLOOKUP(B292,'Zebrik W'!$B$7:$N$1000,13,0)),\"\",IF(VLOOKUP(B292,'Zebrik W'!$B$7:$N$1000,13,0)=0,\"--\",VLOOKUP(B292,'Zebrik W'!$B$7:$N$1000,13,0)))","v":""}]
[{"$f":"RANK(G293,G:G)","v":287},"Jan Hlavacek 65",1965,"M","Rakovník","CZ/C1",6532,1,{"$f":"RANK(G293,G:G)","v":287},{"$f":"IF(ISERROR(VLOOKUP(B293,'N PMČR 2026'!B:G,6,0)),\"-\",VLOOKUP(B293,'N PMČR 2026'!B:G,6,0))","v":"-"},"","",null,null,{"$f":"IF(ISERROR(VLOOKUP(B293,'Zebrik W'!$B$7:$N$1000,13,0)),\"\",IF(VLOOKUP(B293,'Zebrik W'!$B$7:$N$1000,13,0)=0,\"--\",VLOOKUP(B293,'Zebrik W'!$B$7:$N$1000,13,0)))","v":""}]
[{"$f":"RANK(G294,G:G)","v":288},"Jiri Hodan",1959,"M","Zbraslavice","CZ/C1",6522,3,{"$f":"RANK(G294,G:G)","v":288},{"$f":"IF(ISERROR(VLOOKUP(B294,'N PMČR 2026'!B:G,6,0)),\"-\",VLOOKUP(B294,'N PMČR 2026'!B:G,6,0))","v":"-"},"","",null,null,{"$f":"IF(ISERROR(VLOOKUP(B294,'Zebrik W'!$B$7:$N$1000,13,0)),\"\",IF(VLOOKUP(B294,'Zebrik W'!$B$7:$N$1000,13,0)=0,\"--\",VLOOKUP(B294,'Zebrik W'!$B$7:$N$1000,13,0)))","v":""}]
[{"$f":"RANK(G295,G:G)","v":289},"Radim Zielinski",1969,"M","Frýdlant","CZ/M",6420,1,{"$f":"RANK(G295,G:G)","v":289},{"$f":"IF(ISERROR(VLOOKUP(B295,'N PMČR 2026'!B:G,6,0)),\"-\",VLOOKUP(B295,'N PMČR 2026'!B:G,6,0))","v":"-"},"","",null,null,{"$f":"IF(ISERROR(VLOOKUP(B295,'Zebrik W'!$B$7:$N$1000,13,0)),\"\",IF(VLOOKUP(B295,'Zebrik W'!$B$7:$N$1000,13,0)=0,\"--\",VLOOKUP(B295,'Zebrik W'!$B$7:$N$1000,13,0)))","v":""}]
[{"$f":"RANK(G296,G:G)","v":290},"Petr Rygl",1966,"M","Jičín","CZ/C2",6418,1,{"$f":"RANK(G296,G:G)","v":290},{"$f":"IF(ISERROR(VLOOKUP(B296,'N PMČR 2026'!B:G,6,0)),\"-\",VLOOKUP(B296,'N PMČR 2026'!B:G,6,0))","v":"-"},"","",null,null,{"$f":"IF(ISERROR(VLOOKUP(B296,'Zebrik W'!$B$7:$N$1000,13,0)),\"\",IF(VLOOKUP(B296,'Zebrik W'!$B$7:$N$1000,13,0)=0,\"--\",VLOOKUP(B296,'Zebrik W'!$B$7:$N$1000,13,0)))","v":""}]
[{"$f":"RANK(G297,G:G)","v":291},"Dalibor Daricek",1993,"M","Kunovice","CZ/M",6331,1,{"$f":"RANK(G297,G:G)","v":291},{"$f":"IF(ISERROR(VLOOKUP(B297,'N PMČR 2026'!B:G,6,0)),\"-\",VLOOKUP(B297,'N PMČR 2026'!B:G,6,0))","v":"-"},"","",null,null,{"$f":"IF(ISERROR(VLOOKUP(B297,'Zebrik W'!$B$7:$N$1000,13,0)),\"\",IF(VLOOKUP(B297,'Zebrik W'!$B$7:$N$1000,13,0)=0,\"--\",VLOOKUP(B297,'Zebrik W'!$B$7:$N$1000,13,0)))","v":""}]
[{"$f":"RANK(G298,G:G)","v":292},"Tomas Seifert",1972,"M","Raná","CZ/C2",6250,2,{"$f":"RANK(G298,G:G)","v":292},{"$f":"IF(ISERROR(VLOOKUP(B298,'N PMČR 2026'!B:G,6,0)),\"-\",VLOOKUP(B298,'N PMČR 2026'!B:G,6,0))","v":"-"},"","",null,null,{"$f":"IF(ISERROR(VLOOKUP(B298,'Zebrik W'!$B$7:$N$1000,13,0)),\"\",IF(VLOOKUP(B298,'Zebrik W'!$B$7:$N$1000,13,0)=0,\"--\",VLOOKUP(B298,'Zebrik W'!$B$7:$N$1000,13,0)))","v":""}]
[{"$f":"RANK(G299,G:G)","v":293},"Vojtech Novotny",1992,"M","Kralupy","CZ/C1",6142,1,{"$f":"RANK(G299,G:G)","v":293},{"$f":"IF(ISERROR(VLOOKUP(B299,'N PMČR 2026'!B:G,6,0)),\"-\",VLOOKUP(B299,'N PMČR 2026'!B:G,6,0))","v":"-"},"","",null,null,{"$f":"IF(ISERROR(VLOOKUP(B299,'Zebrik W'!$B$7:$N$1000,13,0)),\"\",IF(VLOOKUP(B299,'Zebrik W'!$B$7:$N$1000,13,0)=0,\"--\",VLOOKUP(B299,'Zebrik W'!$B$7:$N$1000,13,0)))","v":""}]
[{"$f":"RANK(G300,G:G)","v":294},"Jan Vavrin",1987,"M","Vysoké Mýto","CZ/C2",6096,1,{"$f":"RANK(G300,G:G)","v":294},{"$f":"IF(ISERROR(VLOOKUP(B300,'N PMČR 2026'!B:G,6,0)),\"-\",VLOOKUP(B300,'N PMČR 2026'!B:G,6,0))","v":"-"},"","",null,null,{"$f":"IF(ISERROR(VLOOKUP(B300,'Zebrik W'!$B$7:$N$1000,13,0)),\"\",IF(VLOOKUP(B300,'Zebrik W'!$B$7:$N$1000,13,0)=0,\"--\",VLOOKUP(B300,'Zebrik W'!$B$7:$N$1000,13,0)))","v":""}]
[{"$f":"RANK(G301,G:G)","v":295},"Stanislav Poslusny",1965,"M","GAC Benešov","CZ/C1",6080,1,{"$f":"RANK(G301,G:G)","v":295},{"$f":"IF(ISERROR(VLOOKUP(B301,'N PMČR 2026'!B:G,6,0)),\"-\",VLOOKUP(B301,'N PMČR 2026'!B:G,6,0))","v":"-"},"","",null,null,{"$f":"IF(ISERROR(VLOOKUP(B301,'Zebrik W'!$B$7:$N$1000,13,0)),\"\",IF(VLOOKUP(B301,'Zebrik W'!$B$7:$N$1000,13,0)=0,\"--\",VLOOKUP(B301,'Zebrik W'!$B$7:$N$1000,13,0)))","v":""}]
[{"$f":"RANK(G302,G:G)","v":296},"Jiri Pelucha",1984,"M","Frýdlant","CZ/M",5965,2,{"$f":"RANK(G302,G:G)","v":296},{"$f":"IF(ISERROR(VLOOKUP(B302,'N PMČR 2026'!B:G,6,0)),\"-\",VLOOKUP(B302,'N PMČR 2026'!B:G,6,0))","v":"-"},"","",null,null,{"$f":"IF(ISERROR(VLOOKUP(B302,'Zebrik W'!$B$7:$N$1000,13,0)),\"\",IF(VLOOKUP(B302,'Zebrik W'!$B$7:$N$1000,13,0)=0,\"--\",VLOOKUP(B302,'Zebrik W'!$B$7:$N$1000,13,0)))","v":""}]
[{"$f":"RANK(G303,G:G)","v":297},"Petr Tax",1968,"M","Jičín","CZ/C2",5939,1,{"$f":"RANK(G303,G:G)","v":297},{"$f":"IF(ISERROR(VLOOKUP(B303,'N PMČR 2026'!B:G,6,0)),\"-\",VLOOKUP(B303,'N PMČR 2026'!B:G,6,0))","v":"-"},"","",null,null,{"$f":"IF(ISERROR(VLOOKUP(B303,'Zebrik W'!$B$7:$N$1000,13,0)),\"\",IF(VLOOKUP(B303,'Zebrik W'!$B$7:$N$1000,13,0)=0,\"--\",VLOOKUP(B303,'Zebrik W'!$B$7:$N$1000,13,0)))","v":""}]
[{"$f":"RANK(G304,G:G)","v":298},"Peter Kaspar",1980,"M","Vyškov","CZ/M",5929,1,{"$f":"RANK(G304,G:G)","v":298},{"$f":"IF(ISERROR(VLOOKUP(B304,'N PMČR 2026'!B:G,6,0)),\"-\",VLOOKUP(B304,'N PMČR 2026'!B:G,6,0))","v":"-"},"","",null,null,{"$f":"IF(ISERROR(VLOOKUP(B304,'Zebrik W'!$B$7:$N$1000,13,0)),\"\",IF(VLOOKUP(B304,'Zebrik W'!$B$7:$N$1000,13,0)=0,\"--\",VLOOKUP(B304,'Zebrik W'!$B$7:$N$1000,13,0)))","v":""}]
[{"$f":"RANK(G305,G:G)","v":299},"Ivan Kuzelka",1945,"M","Havlíčkův Brod","CZ/C2",5921,2,{"$f":"RANK(G305,G:G)","v":299},{"$f":"IF(ISERROR(VLOOKUP(B305,'N PMČR 2026'!B:G,6,0)),\"-\",VLOOKUP(B305,'N PMČR 2026'!B:G,6,0))","v":"-"},"","",null,null,{"$f":"IF(ISERROR(VLOOKUP(B305,'Zebrik W'!$B$7:$N$1000,13,0)),\"\",IF(VLOOKUP(B305,'Zebrik W'!$B$7:$N$1000,13,0)=0,\"--\",VLOOKUP(B305,'Zebrik W'!$B$7:$N$1000,13,0)))","v":""}]
[{"$f":"RANK(G306,G:G)","v":300},"Robin Stichenwirth",1984,"M","Letkov","CZ/C1",5895,1,{"$f":"RANK(G306,G:G)","v":300},{"$f":"IF(ISERROR(VLOOKUP(B306,'N PMČR 2026'!B:G,6,0)),\"-\",VLOOKUP(B306,'N PMČR 2026'!B:G,6,0))","v":"-"},"","",null,null,{"$f":"IF(ISERROR(VLOOKUP(B306,'Zebrik W'!$B$7:$N$1000,13,0)),\"\",IF(VLOOKUP(B306,'Zebrik W'!$B$7:$N$1000,13,0)=0,\"--\",VLOOKUP(B306,'Zebrik W'!$B$7:$N$1000,13,0)))","v":""}]
[{"$f":"RANK(G307,G:G)","v":301},"Martin Benesovsky",1975,"M","Kolín","CZ/C1",5839,2,{"$f":"RANK(G307,G:G)","v":301},{"$f":"IF(ISERROR(VLOOKUP(B307,'N PMČR 2026'!B:G,6,0)),\"-\",VLOOKUP(B307,'N PMČR 2026'!B:G,6,0))","v":"-"},"","",null,null,{"$f":"IF(ISERROR(VLOOKUP(B307,'Zebrik W'!$B$7:$N$1000,13,0)),\"\",IF(VLOOKUP(B307,'Zebrik W'!$B$7:$N$1000,13,0)=0,\"--\",VLOOKUP(B307,'Zebrik W'!$B$7:$N$1000,13,0)))","v":""}]
[{"$f":"RANK(G308,G:G)","v":302},"Vaclav Zak",1962,"M","GAC Benešov","CZ/C1",5818,1,{"$f":"RANK(G308,G:G)","v":302},{"$f":"IF(ISERROR(VLOOKUP(B308,'N PMČR 2026'!B:G,6,0)),\"-\",VLOOKUP(B308,'N PMČR 2026'!B:G,6,0))","v":"-"},"","",null,null,{"$f":"IF(ISERROR(VLOOKUP(B308,'Zebrik W'!$B$7:$N$1000,13,0)),\"\",IF(VLOOKUP(B308,'Zebrik W'!$B$7:$N$1000,13,0)=0,\"--\",VLOOKUP(B308,'Zebrik W'!$B$7:$N$1000,13,0)))","v":""}]
[{"$f":"RANK(G309,G:G)","v":303},"Tereza Ludvikova",1997,"F","Jaroměř","CZ/C2",5772,1,{"$f":"RANK(G309,G:G)","v":303},{"$f":"IF(ISERROR(VLOOKUP(B309,'N PMČR 2026'!B:G,6,0)),\"-\",VLOOKUP(B309,'N PMČR 2026'!B:G,6,0))","v":"-"},"","",null,null,{"$f":"IF(ISERROR(VLOOKUP(B309,'Zebrik W'!$B$7:$N$1000,13,0)),\"\",IF(VLOOKUP(B309,'Zebrik W'!$B$7:$N$1000,13,0)=0,\"--\",VLOOKUP(B309,'Zebrik W'!$B$7:$N$1000,13,0)))","v":"--"}]
[{"$f":"RANK(G310,G:G)","v":304},"Vladimir Abraham",1962,"M","Raná","CZ/C2",5721,1,{"$f":"RANK(G310,G:G)","v":304},{"$f":"IF(ISERROR(VLOOKUP(B310,'N PMČR 2026'!B:G,6,0)),\"-\",VLOOKUP(B310,'N PMČR 2026'!B:G,6,0))","v":"-"},"","",null,null,{"$f":"IF(ISERROR(VLOOKUP(B310,'Zebrik W'!$B$7:$N$1000,13,0)),\"\",IF(VLOOKUP(B310,'Zebrik W'!$B$7:$N$1000,13,0)=0,\"--\",VLOOKUP(B310,'Zebrik W'!$B$7:$N$1000,13,0)))","v":""}]
[{"$f":"RANK(G311,G:G)","v":305},"Lubos Muknsnabl",1995,"M","Letkov","CZ/C1",5720,2,{"$f":"RANK(G311,G:G)","v":305},{"$f":"IF(ISERROR(VLOOKUP(B311,'N PMČR 2026'!B:G,6,0)),\"-\",VLOOKUP(B311,'N PMČR 2026'!B:G,6,0))","v":"-"},"","",null,null,{"$f":"IF(ISERROR(VLOOKUP(B311,'Zebrik W'!$B$7:$N$1000,13,0)),\"\",IF(VLOOKUP(B311,'Zebrik W'!$B$7:$N$1000,13,0)=0,\"--\",VLOOKUP(B311,'Zebrik W'!$B$7:$N$1000,13,0)))","v":""}]
[{"$f":"RANK(G312,G:G)","v":306},"Josef Kreutzer",1992,"M","Letkov","CZ/C1",5694,1,{"$f":"RANK(G312,G:G)","v":306},{"$f":"IF(ISERROR(VLOOKUP(B312,'N PMČR 2026'!B:G,6,0)),\"-\",VLOOKUP(B312,'N PMČR 2026'!B:G,6,0))","v":"-"},"","",null,null,{"$f":"IF(ISERROR(VLOOKUP(B312,'Zebrik W'!$B$7:$N$1000,13,0)),\"\",IF(VLOOKUP(B312,'Zebrik W'!$B$7:$N$1000,13,0)=0,\"--\",VLOOKUP(B312,'Zebrik W'!$B$7:$N$1000,13,0)))","v":""}]
[{"$f":"RANK(G313,G:G)","v":307},"Ales Holoubek",1966,"M","Jičín","CZ/C2",5589,2,{"$f":"RANK(G313,G:G)","v":307},{"$f":"IF(ISERROR(VLOOKUP(B313,'N PMČR 2026'!B:G,6,0)),\"-\",VLOOKUP(B313,'N PMČR 2026'!B:G,6,0))","v":"-"},"","",null,null,{"$f":"IF(ISERROR(VLOOKUP(B313,'Zebrik W'!$B$7:$N$1000,13,0)),\"\",IF(VLOOKUP(B313,'Zebrik W'!$B$7:$N$1000,13,0)=0,\"--\",VLOOKUP(B313,'Zebrik W'!$B$7:$N$1000,13,0)))","v":""}]
[{"$f":"RANK(G314,G:G)","v":308},"Lubomir Svoboda",1959,"M","Letkov","CZ/C1",5575,2,{"$f":"RANK(G314,G:G)","v":308},{"$f":"IF(ISERROR(VLOOKUP(B314,'N PMČR 2026'!B:G,6,0)),\"-\",VLOOKUP(B314,'N PMČR 2026'!B:G,6,0))","v":"-"},"","",null,null,{"$f":"IF(ISERROR(VLOOKUP(B314,'Zebrik W'!$B$7:$N$1000,13,0)),\"\",IF(VLOOKUP(B314,'Zebrik W'!$B$7:$N$1000,13,0)=0,\"--\",VLOOKUP(B314,'Zebrik W'!$B$7:$N$1000,13,0)))","v":""}]
[{"$f":"RANK(G315,G:G)","v":309},"Lumir Motyka",1955,"M","Frýdlant","CZ/M",5564,1,{"$f":"RANK(G315,G:G)","v":309},{"$f":"IF(ISERROR(VLOOKUP(B315,'N PMČR 2026'!B:G,6,0)),\"-\",VLOOKUP(B315,'N PMČR 2026'!B:G,6,0))","v":"-"},"","",null,null,{"$f":"IF(ISERROR(VLOOKUP(B315,'Zebrik W'!$B$7:$N$1000,13,0)),\"\",IF(VLOOKUP(B315,'Zebrik W'!$B$7:$N$1000,13,0)=0,\"--\",VLOOKUP(B315,'Zebrik W'!$B$7:$N$1000,13,0)))","v":""}]
[{"$f":"RANK(G316,G:G)","v":310},"Marek Novotny",2004,"M","Kladno","CZ/C1",5522,1,{"$f":"RANK(G316,G:G)","v":310},{"$f":"IF(ISERROR(VLOOKUP(B316,'N PMČR 2026'!B:G,6,0)),\"-\",VLOOKUP(B316,'N PMČR 2026'!B:G,6,0))","v":"-"},"Junior v roce 2026","Junior v roce 2027",null,null,{"$f":"IF(ISERROR(VLOOKUP(B316,'Zebrik W'!$B$7:$N$1000,13,0)),\"\",IF(VLOOKUP(B316,'Zebrik W'!$B$7:$N$1000,13,0)=0,\"--\",VLOOKUP(B316,'Zebrik W'!$B$7:$N$1000,13,0)))","v":""}]
[{"$f":"RANK(G317,G:G)","v":311},"Michal Vranek",1993,"M","Hosín","CZ/C1",5463,1,{"$f":"RANK(G317,G:G)","v":311},{"$f":"IF(ISERROR(VLOOKUP(B317,'N PMČR 2026'!B:G,6,0)),\"-\",VLOOKUP(B317,'N PMČR 2026'!B:G,6,0))","v":"-"},"","",null,null,{"$f":"IF(ISERROR(VLOOKUP(B317,'Zebrik W'!$B$7:$N$1000,13,0)),\"\",IF(VLOOKUP(B317,'Zebrik W'!$B$7:$N$1000,13,0)=0,\"--\",VLOOKUP(B317,'Zebrik W'!$B$7:$N$1000,13,0)))","v":""}]
[{"$f":"RANK(G318,G:G)","v":312},"Daniel Novak",1971,"M","Letkov","CZ/C1",5436,1,{"$f":"RANK(G318,G:G)","v":312},{"$f":"IF(ISERROR(VLOOKUP(B318,'N PMČR 2026'!B:G,6,0)),\"-\",VLOOKUP(B318,'N PMČR 2026'!B:G,6,0))","v":"-"},"","",null,null,{"$f":"IF(ISERROR(VLOOKUP(B318,'Zebrik W'!$B$7:$N$1000,13,0)),\"\",IF(VLOOKUP(B318,'Zebrik W'!$B$7:$N$1000,13,0)=0,\"--\",VLOOKUP(B318,'Zebrik W'!$B$7:$N$1000,13,0)))","v":""}]
[{"$f":"RANK(G319,G:G)","v":313},"Jan Vacik",1977,"M","Staňkov","CZ/C1",5266,2,{"$f":"RANK(G319,G:G)","v":313},{"$f":"IF(ISERROR(VLOOKUP(B319,'N PMČR 2026'!B:G,6,0)),\"-\",VLOOKUP(B319,'N PMČR 2026'!B:G,6,0))","v":"-"},"","",null,null,{"$f":"IF(ISERROR(VLOOKUP(B319,'Zebrik W'!$B$7:$N$1000,13,0)),\"\",IF(VLOOKUP(B319,'Zebrik W'!$B$7:$N$1000,13,0)=0,\"--\",VLOOKUP(B319,'Zebrik W'!$B$7:$N$1000,13,0)))","v":""}]
[{"$f":"RANK(G320,G:G)","v":314},"Miroslav Macik",1983,"M","Rakovník","CZ/C1",5231,1,{"$f":"RANK(G320,G:G)","v":314},{"$f":"IF(ISERROR(VLOOKUP(B320,'N PMČR 2026'!B:G,6,0)),\"-\",VLOOKUP(B320,'N PMČR 2026'!B:G,6,0))","v":"-"},"","",null,null,{"$f":"IF(ISERROR(VLOOKUP(B320,'Zebrik W'!$B$7:$N$1000,13,0)),\"\",IF(VLOOKUP(B320,'Zebrik W'!$B$7:$N$1000,13,0)=0,\"--\",VLOOKUP(B320,'Zebrik W'!$B$7:$N$1000,13,0)))","v":""}]
[{"$f":"RANK(G321,G:G)","v":315},"Tomas Holenda",1956,"M","Havlíčkův Brod","CZ/C2",5217,3,{"$f":"RANK(G321,G:G)","v":315},{"$f":"IF(ISERROR(VLOOKUP(B321,'N PMČR 2026'!B:G,6,0)),\"-\",VLOOKUP(B321,'N PMČR 2026'!B:G,6,0))","v":"-"},"","",null,null,{"$f":"IF(ISERROR(VLOOKUP(B321,'Zebrik W'!$B$7:$N$1000,13,0)),\"\",IF(VLOOKUP(B321,'Zebrik W'!$B$7:$N$1000,13,0)=0,\"--\",VLOOKUP(B321,'Zebrik W'!$B$7:$N$1000,13,0)))","v":""}]
[{"$f":"RANK(G322,G:G)","v":316},"Vaclav Sehnal",1962,"M","Kolín","CZ/C1",5169,1,{"$f":"RANK(G322,G:G)","v":316},{"$f":"IF(ISERROR(VLOOKUP(B322,'N PMČR 2026'!B:G,6,0)),\"-\",VLOOKUP(B322,'N PMČR 2026'!B:G,6,0))","v":"-"},"","",null,null,{"$f":"IF(ISERROR(VLOOKUP(B322,'Zebrik W'!$B$7:$N$1000,13,0)),\"\",IF(VLOOKUP(B322,'Zebrik W'!$B$7:$N$1000,13,0)=0,\"--\",VLOOKUP(B322,'Zebrik W'!$B$7:$N$1000,13,0)))","v":""}]
[{"$f":"RANK(G323,G:G)","v":317},"Dusan Gadas",1960,"M","Hranice","CZ/M",5134,1,{"$f":"RANK(G323,G:G)","v":317},{"$f":"IF(ISERROR(VLOOKUP(B323,'N PMČR 2026'!B:G,6,0)),\"-\",VLOOKUP(B323,'N PMČR 2026'!B:G,6,0))","v":"-"},"","",null,null,{"$f":"IF(ISERROR(VLOOKUP(B323,'Zebrik W'!$B$7:$N$1000,13,0)),\"\",IF(VLOOKUP(B323,'Zebrik W'!$B$7:$N$1000,13,0)=0,\"--\",VLOOKUP(B323,'Zebrik W'!$B$7:$N$1000,13,0)))","v":""}]
[{"$f":"RANK(G324,G:G)","v":318},"Roman Michalek",1974,"M","Toužim","CZ/C1",5116,3,{"$f":"RANK(G324,G:G)","v":318},{"$f":"IF(ISERROR(VLOOKUP(B324,'N PMČR 2026'!B:G,6,0)),\"-\",VLOOKUP(B324,'N PMČR 2026'!B:G,6,0))","v":"-"},"","",null,null,{"$f":"IF(ISERROR(VLOOKUP(B324,'Zebrik W'!$B$7:$N$1000,13,0)),\"\",IF(VLOOKUP(B324,'Zebrik W'!$B$7:$N$1000,13,0)=0,\"--\",VLOOKUP(B324,'Zebrik W'!$B$7:$N$1000,13,0)))","v":""}]
[{"$f":"RANK(G325,G:G)","v":319},"Martin Stepanek",1987,"M","Moravská Třebová","CZ/M",5013,1,{"$f":"RANK(G325,G:G)","v":319},{"$f":"IF(ISERROR(VLOOKUP(B325,'N PMČR 2026'!B:G,6,0)),\"-\",VLOOKUP(B325,'N PMČR 2026'!B:G,6,0))","v":"-"},"","",null,null,{"$f":"IF(ISERROR(VLOOKUP(B325,'Zebrik W'!$B$7:$N$1000,13,0)),\"\",IF(VLOOKUP(B325,'Zebrik W'!$B$7:$N$1000,13,0)=0,\"--\",VLOOKUP(B325,'Zebrik W'!$B$7:$N$1000,13,0)))","v":""}]
[{"$f":"RANK(G326,G:G)","v":320},"Matyas John",2002,"M","Medlánky","CZ/M",4985,1,{"$f":"RANK(G326,G:G)","v":320},{"$f":"IF(ISERROR(VLOOKUP(B326,'N PMČR 2026'!B:G,6,0)),\"-\",VLOOKUP(B326,'N PMČR 2026'!B:G,6,0))","v":"-"},"Junior v roce 2026","Junior v roce 2027",null,null,{"$f":"IF(ISERROR(VLOOKUP(B326,'Zebrik W'!$B$7:$N$1000,13,0)),\"\",IF(VLOOKUP(B326,'Zebrik W'!$B$7:$N$1000,13,0)=0,\"--\",VLOOKUP(B326,'Zebrik W'!$B$7:$N$1000,13,0)))","v":""}]
[{"$f":"RANK(G327,G:G)","v":321},"Anna Lanzendorfova",2005,"F","Letkov","CZ/C1",4981,1,{"$f":"RANK(G327,G:G)","v":321},{"$f":"IF(ISERROR(VLOOKUP(B327,'N PMČR 2026'!B:G,6,0)),\"-\",VLOOKUP(B327,'N PMČR 2026'!B:G,6,0))","v":"-"},"Junior v roce 2026","Junior v roce 2027",null,null,{"$f":"IF(ISERROR(VLOOKUP(B327,'Zebrik W'!$B$7:$N$1000,13,0)),\"\",IF(VLOOKUP(B327,'Zebrik W'!$B$7:$N$1000,13,0)=0,\"--\",VLOOKUP(B327,'Zebrik W'!$B$7:$N$1000,13,0)))","v":"--"}]
[{"$f":"RANK(G328,G:G)","v":322},"Klara Teichmannova",1993,"F","Hronov","CZ/C2",4975,1,{"$f":"RANK(G328,G:G)","v":322},{"$f":"IF(ISERROR(VLOOKUP(B328,'N PMČR 2026'!B:G,6,0)),\"-\",VLOOKUP(B328,'N PMČR 2026'!B:G,6,0))","v":32},{"$f":"IF(C328=\"(prázdné)\",\"\",IF(($K$4-C328)>25,\"\",\"Junior v roce \"&$K$4))","v":""},{"$f":"IF(C328=\"(prázdné)\",\"\",IF(($L$4-C328)>25,\"\",\"Junior v roce \"&$L$4))","v":""},null,"RV 2026",{"$f":"IF(ISERROR(VLOOKUP(B328,'Zebrik W'!$B$7:$N$1000,13,0)),\"\",IF(VLOOKUP(B328,'Zebrik W'!$B$7:$N$1000,13,0)=0,\"--\",VLOOKUP(B328,'Zebrik W'!$B$7:$N$1000,13,0)))","v":"WRV 2026"}]
[{"$f":"RANK(G329,G:G)","v":323},"Jakub Jezek",2002,"M","Ústí nad Orlicí","CZ/C2",4902,1,{"$f":"RANK(G329,G:G)","v":323},{"$f":"IF(ISERROR(VLOOKUP(B329,'N PMČR 2026'!B:G,6,0)),\"-\",VLOOKUP(B329,'N PMČR 2026'!B:G,6,0))","v":"-"},"Junior v roce 2026","Junior v roce 2027",null,null,{"$f":"IF(ISERROR(VLOOKUP(B329,'Zebrik W'!$B$7:$N$1000,13,0)),\"\",IF(VLOOKUP(B329,'Zebrik W'!$B$7:$N$1000,13,0)=0,\"--\",VLOOKUP(B329,'Zebrik W'!$B$7:$N$1000,13,0)))","v":""}]
[{"$f":"RANK(G330,G:G)","v":324},"David Brunclik",2006,"M","Zbraslavice","CZ/C1",4858,2,{"$f":"RANK(G330,G:G)","v":324},{"$f":"IF(ISERROR(VLOOKUP(B330,'N PMČR 2026'!B:G,6,0)),\"-\",VLOOKUP(B330,'N PMČR 2026'!B:G,6,0))","v":"-"},"Junior v roce 2026","Junior v roce 2027",null,null,{"$f":"IF(ISERROR(VLOOKUP(B330,'Zebrik W'!$B$7:$N$1000,13,0)),\"\",IF(VLOOKUP(B330,'Zebrik W'!$B$7:$N$1000,13,0)=0,\"--\",VLOOKUP(B330,'Zebrik W'!$B$7:$N$1000,13,0)))","v":""}]
[{"$f":"RANK(G331,G:G)","v":325},"Jan Sobek",2004,"M","Hranice","CZ/M",4846,1,{"$f":"RANK(G331,G:G)","v":325},{"$f":"IF(ISERROR(VLOOKUP(B331,'N PMČR 2026'!B:G,6,0)),\"-\",VLOOKUP(B331,'N PMČR 2026'!B:G,6,0))","v":"-"},"Junior v roce 2026","Junior v roce 2027",null,null,{"$f":"IF(ISERROR(VLOOKUP(B331,'Zebrik W'!$B$7:$N$1000,13,0)),\"\",IF(VLOOKUP(B331,'Zebrik W'!$B$7:$N$1000,13,0)=0,\"--\",VLOOKUP(B331,'Zebrik W'!$B$7:$N$1000,13,0)))","v":""}]
[{"$f":"RANK(G332,G:G)","v":326},"Jan Konecny",1972,"M","Rakovník","CZ/C1",4787,1,{"$f":"RANK(G332,G:G)","v":326},{"$f":"IF(ISERROR(VLOOKUP(B332,'N PMČR 2026'!B:G,6,0)),\"-\",VLOOKUP(B332,'N PMČR 2026'!B:G,6,0))","v":"-"},"","",null,null,{"$f":"IF(ISERROR(VLOOKUP(B332,'Zebrik W'!$B$7:$N$1000,13,0)),\"\",IF(VLOOKUP(B332,'Zebrik W'!$B$7:$N$1000,13,0)=0,\"--\",VLOOKUP(B332,'Zebrik W'!$B$7:$N$1000,13,0)))","v":""}]
[{"$f":"RANK(G333,G:G)","v":327},"Jan Manhal",1990,"M","Letkov","CZ/C1",4749,1,{"$f":"RANK(G333,G:G)","v":327},{"$f":"IF(ISERROR(VLOOKUP(B333,'N PMČR 2026'!B:G,6,0)),\"-\",VLOOKUP(B333,'N PMČR 2026'!B:G,6,0))","v":"-"},"","",null,null,{"$f":"IF(ISERROR(VLOOKUP(B333,'Zebrik W'!$B$7:$N$1000,13,0)),\"\",IF(VLOOKUP(B333,'Zebrik W'!$B$7:$N$1000,13,0)=0,\"--\",VLOOKUP(B333,'Zebrik W'!$B$7:$N$1000,13,0)))","v":""}]
[{"$f":"RANK(G334,G:G)","v":328},"Tomas Talanda",1988,"M","Křižanov","CZ/M",4745,1,{"$f":"RANK(G334,G:G)","v":328},{"$f":"IF(ISERROR(VLOOKUP(B334,'N PMČR 2026'!B:G,6,0)),\"-\",VLOOKUP(B334,'N PMČR 2026'!B:G,6,0))","v":"-"},"","",null,null,{"$f":"IF(ISERROR(VLOOKUP(B334,'Zebrik W'!$B$7:$N$1000,13,0)),\"\",IF(VLOOKUP(B334,'Zebrik W'!$B$7:$N$1000,13,0)=0,\"--\",VLOOKUP(B334,'Zebrik W'!$B$7:$N$1000,13,0)))","v":""}]
[{"$f":"RANK(G335,G:G)","v":329},"Petr Vodicka",1965,"M","Jaroměř","CZ/C2",4708,1,{"$f":"RANK(G335,G:G)","v":329},{"$f":"IF(ISERROR(VLOOKUP(B335,'N PMČR 2026'!B:G,6,0)),\"-\",VLOOKUP(B335,'N PMČR 2026'!B:G,6,0))","v":"-"},"","",null,null,{"$f":"IF(ISERROR(VLOOKUP(B335,'Zebrik W'!$B$7:$N$1000,13,0)),\"\",IF(VLOOKUP(B335,'Zebrik W'!$B$7:$N$1000,13,0)=0,\"--\",VLOOKUP(B335,'Zebrik W'!$B$7:$N$1000,13,0)))","v":""}]
[{"$f":"RANK(G336,G:G)","v":330},"Jakub Vlk",1986,"M","GAC Benešov","CZ/C1",4706,1,{"$f":"RANK(G336,G:G)","v":330},{"$f":"IF(ISERROR(VLOOKUP(B336,'N PMČR 2026'!B:G,6,0)),\"-\",VLOOKUP(B336,'N PMČR 2026'!B:G,6,0))","v":"-"},"","",null,null,{"$f":"IF(ISERROR(VLOOKUP(B336,'Zebrik W'!$B$7:$N$1000,13,0)),\"\",IF(VLOOKUP(B336,'Zebrik W'!$B$7:$N$1000,13,0)=0,\"--\",VLOOKUP(B336,'Zebrik W'!$B$7:$N$1000,13,0)))","v":""}]
[{"$f":"RANK(G337,G:G)","v":331},"Lukas Hykl",1985,"M","Kolín","CZ/C1",4669,1,{"$f":"RANK(G337,G:G)","v":331},{"$f":"IF(ISERROR(VLOOKUP(B337,'N PMČR 2026'!B:G,6,0)),\"-\",VLOOKUP(B337,'N PMČR 2026'!B:G,6,0))","v":"-"},"","",null,null,{"$f":"IF(ISERROR(VLOOKUP(B337,'Zebrik W'!$B$7:$N$1000,13,0)),\"\",IF(VLOOKUP(B337,'Zebrik W'!$B$7:$N$1000,13,0)=0,\"--\",VLOOKUP(B337,'Zebrik W'!$B$7:$N$1000,13,0)))","v":""}]
[{"$f":"RANK(G338,G:G)","v":332},"Tomas Profeld",1964,"M","Jičín","CZ/C2",4626,3,{"$f":"RANK(G338,G:G)","v":332},{"$f":"IF(ISERROR(VLOOKUP(B338,'N PMČR 2026'!B:G,6,0)),\"-\",VLOOKUP(B338,'N PMČR 2026'!B:G,6,0))","v":"-"},"","",null,null,{"$f":"IF(ISERROR(VLOOKUP(B338,'Zebrik W'!$B$7:$N$1000,13,0)),\"\",IF(VLOOKUP(B338,'Zebrik W'!$B$7:$N$1000,13,0)=0,\"--\",VLOOKUP(B338,'Zebrik W'!$B$7:$N$1000,13,0)))","v":""}]
[{"$f":"RANK(G339,G:G)","v":333},"Libor Bednarik",1972,"M","Kunovice","CZ/M",4622,2,{"$f":"RANK(G339,G:G)","v":333},{"$f":"IF(ISERROR(VLOOKUP(B339,'N PMČR 2026'!B:G,6,0)),\"-\",VLOOKUP(B339,'N PMČR 2026'!B:G,6,0))","v":"-"},"","",null,null,{"$f":"IF(ISERROR(VLOOKUP(B339,'Zebrik W'!$B$7:$N$1000,13,0)),\"\",IF(VLOOKUP(B339,'Zebrik W'!$B$7:$N$1000,13,0)=0,\"--\",VLOOKUP(B339,'Zebrik W'!$B$7:$N$1000,13,0)))","v":""}]
[{"$f":"RANK(G340,G:G)","v":334},"Eva Klapkova",1993,"F","Raná","CZ/C2",4620,2,{"$f":"RANK(G340,G:G)","v":334},{"$f":"IF(ISERROR(VLOOKUP(B340,'N PMČR 2026'!B:G,6,0)),\"-\",VLOOKUP(B340,'N PMČR 2026'!B:G,6,0))","v":"-"},"","",null,null,{"$f":"IF(ISERROR(VLOOKUP(B340,'Zebrik W'!$B$7:$N$1000,13,0)),\"\",IF(VLOOKUP(B340,'Zebrik W'!$B$7:$N$1000,13,0)=0,\"--\",VLOOKUP(B340,'Zebrik W'!$B$7:$N$1000,13,0)))","v":"--"}]
[{"$f":"RANK(G341,G:G)","v":335},"Petr Herold",1970,"M","Vlašim","CZ/C1",4605,1,{"$f":"RANK(G341,G:G)","v":335},{"$f":"IF(ISERROR(VLOOKUP(B341,'N PMČR 2026'!B:G,6,0)),\"-\",VLOOKUP(B341,'N PMČR 2026'!B:G,6,0))","v":"-"},"","",null,null,{"$f":"IF(ISERROR(VLOOKUP(B341,'Zebrik W'!$B$7:$N$1000,13,0)),\"\",IF(VLOOKUP(B341,'Zebrik W'!$B$7:$N$1000,13,0)=0,\"--\",VLOOKUP(B341,'Zebrik W'!$B$7:$N$1000,13,0)))","v":""}]
[{"$f":"RANK(G342,G:G)","v":336},"Jan Matejovsky",1972,"M","Hranice","CZ/M",4576,1,{"$f":"RANK(G342,G:G)","v":336},{"$f":"IF(ISERROR(VLOOKUP(B342,'N PMČR 2026'!B:G,6,0)),\"-\",VLOOKUP(B342,'N PMČR 2026'!B:G,6,0))","v":"-"},"","",null,null,{"$f":"IF(ISERROR(VLOOKUP(B342,'Zebrik W'!$B$7:$N$1000,13,0)),\"\",IF(VLOOKUP(B342,'Zebrik W'!$B$7:$N$1000,13,0)=0,\"--\",VLOOKUP(B342,'Zebrik W'!$B$7:$N$1000,13,0)))","v":""}]
[{"$f":"RANK(G343,G:G)","v":337},"Miroslav Mitrus",1972,"M","GAC Benešov","CZ/C1",4560,1,{"$f":"RANK(G343,G:G)","v":337},{"$f":"IF(ISERROR(VLOOKUP(B343,'N PMČR 2026'!B:G,6,0)),\"-\",VLOOKUP(B343,'N PMČR 2026'!B:G,6,0))","v":"-"},"","",null,null,{"$f":"IF(ISERROR(VLOOKUP(B343,'Zebrik W'!$B$7:$N$1000,13,0)),\"\",IF(VLOOKUP(B343,'Zebrik W'!$B$7:$N$1000,13,0)=0,\"--\",VLOOKUP(B343,'Zebrik W'!$B$7:$N$1000,13,0)))","v":""}]
[{"$f":"RANK(G344,G:G)","v":338},"Daniel Marek",1983,"M","Hosín","CZ/C1",4478,2,{"$f":"RANK(G344,G:G)","v":338},{"$f":"IF(ISERROR(VLOOKUP(B344,'N PMČR 2026'!B:G,6,0)),\"-\",VLOOKUP(B344,'N PMČR 2026'!B:G,6,0))","v":66},"","",null,null,{"$f":"IF(ISERROR(VLOOKUP(B344,'Zebrik W'!$B$7:$N$1000,13,0)),\"\",IF(VLOOKUP(B344,'Zebrik W'!$B$7:$N$1000,13,0)=0,\"--\",VLOOKUP(B344,'Zebrik W'!$B$7:$N$1000,13,0)))","v":""}]
[{"$f":"RANK(G345,G:G)","v":339},"Jakub Safar",1990,"M","Olomouc","CZ/M",4476,2,{"$f":"RANK(G345,G:G)","v":339},{"$f":"IF(ISERROR(VLOOKUP(B345,'N PMČR 2026'!B:G,6,0)),\"-\",VLOOKUP(B345,'N PMČR 2026'!B:G,6,0))","v":"-"},"","",null,null,{"$f":"IF(ISERROR(VLOOKUP(B345,'Zebrik W'!$B$7:$N$1000,13,0)),\"\",IF(VLOOKUP(B345,'Zebrik W'!$B$7:$N$1000,13,0)=0,\"--\",VLOOKUP(B345,'Zebrik W'!$B$7:$N$1000,13,0)))","v":""}]
[{"$f":"RANK(G346,G:G)","v":340},"Tomas Wodeckij",1987,"M","Letkov","CZ/C1",4433,1,{"$f":"RANK(G346,G:G)","v":340},{"$f":"IF(ISERROR(VLOOKUP(B346,'N PMČR 2026'!B:G,6,0)),\"-\",VLOOKUP(B346,'N PMČR 2026'!B:G,6,0))","v":"-"},"","",null,null,{"$f":"IF(ISERROR(VLOOKUP(B346,'Zebrik W'!$B$7:$N$1000,13,0)),\"\",IF(VLOOKUP(B346,'Zebrik W'!$B$7:$N$1000,13,0)=0,\"--\",VLOOKUP(B346,'Zebrik W'!$B$7:$N$1000,13,0)))","v":""}]
[{"$f":"RANK(G347,G:G)","v":341},"Vojtech Kostejn",1974,"M","Česká Lípa","CZ/C2",4427,1,{"$f":"RANK(G347,G:G)","v":341},{"$f":"IF(ISERROR(VLOOKUP(B347,'N PMČR 2026'!B:G,6,0)),\"-\",VLOOKUP(B347,'N PMČR 2026'!B:G,6,0))","v":"-"},"","",null,null,{"$f":"IF(ISERROR(VLOOKUP(B347,'Zebrik W'!$B$7:$N$1000,13,0)),\"\",IF(VLOOKUP(B347,'Zebrik W'!$B$7:$N$1000,13,0)=0,\"--\",VLOOKUP(B347,'Zebrik W'!$B$7:$N$1000,13,0)))","v":""}]
[{"$f":"RANK(G348,G:G)","v":342},"Pavel Svetlik",1968,"M","Kunovice","CZ/M",4406,1,{"$f":"RANK(G348,G:G)","v":342},{"$f":"IF(ISERROR(VLOOKUP(B348,'N PMČR 2026'!B:G,6,0)),\"-\",VLOOKUP(B348,'N PMČR 2026'!B:G,6,0))","v":"-"},"","",null,null,{"$f":"IF(ISERROR(VLOOKUP(B348,'Zebrik W'!$B$7:$N$1000,13,0)),\"\",IF(VLOOKUP(B348,'Zebrik W'!$B$7:$N$1000,13,0)=0,\"--\",VLOOKUP(B348,'Zebrik W'!$B$7:$N$1000,13,0)))","v":""}]
[{"$f":"RANK(G349,G:G)","v":342},"Radek Bartos",1971,"M","Kolín","CZ/C1",4406,2,{"$f":"RANK(G349,G:G)","v":342},{"$f":"IF(ISERROR(VLOOKUP(B349,'N PMČR 2026'!B:G,6,0)),\"-\",VLOOKUP(B349,'N PMČR 2026'!B:G,6,0))","v":"-"},"","",null,null,{"$f":"IF(ISERROR(VLOOKUP(B349,'Zebrik W'!$B$7:$N$1000,13,0)),\"\",IF(VLOOKUP(B349,'Zebrik W'!$B$7:$N$1000,13,0)=0,\"--\",VLOOKUP(B349,'Zebrik W'!$B$7:$N$1000,13,0)))","v":""}]
[{"$f":"RANK(G350,G:G)","v":344},"Zdenek Votava",2007,"M","Letkov","CZ/C1",4387,1,{"$f":"RANK(G350,G:G)","v":344},{"$f":"IF(ISERROR(VLOOKUP(B350,'N PMČR 2026'!B:G,6,0)),\"-\",VLOOKUP(B350,'N PMČR 2026'!B:G,6,0))","v":"-"},"Junior v roce 2026","Junior v roce 2027",null,null,{"$f":"IF(ISERROR(VLOOKUP(B350,'Zebrik W'!$B$7:$N$1000,13,0)),\"\",IF(VLOOKUP(B350,'Zebrik W'!$B$7:$N$1000,13,0)=0,\"--\",VLOOKUP(B350,'Zebrik W'!$B$7:$N$1000,13,0)))","v":""}]
[{"$f":"RANK(G351,G:G)","v":345},"Josef Hlusek",1993,"M","Kunovice","CZ/M",4297,2,{"$f":"RANK(G351,G:G)","v":345},{"$f":"IF(ISERROR(VLOOKUP(B351,'N PMČR 2026'!B:G,6,0)),\"-\",VLOOKUP(B351,'N PMČR 2026'!B:G,6,0))","v":"-"},"","",null,null,{"$f":"IF(ISERROR(VLOOKUP(B351,'Zebrik W'!$B$7:$N$1000,13,0)),\"\",IF(VLOOKUP(B351,'Zebrik W'!$B$7:$N$1000,13,0)=0,\"--\",VLOOKUP(B351,'Zebrik W'!$B$7:$N$1000,13,0)))","v":""}]
[{"$f":"RANK(G352,G:G)","v":346},"Jaromir Jedlicka",1972,"M","Letňany","CZ/C1",4243,1,{"$f":"RANK(G352,G:G)","v":346},{"$f":"IF(ISERROR(VLOOKUP(B352,'N PMČR 2026'!B:G,6,0)),\"-\",VLOOKUP(B352,'N PMČR 2026'!B:G,6,0))","v":"-"},"","",null,null,{"$f":"IF(ISERROR(VLOOKUP(B352,'Zebrik W'!$B$7:$N$1000,13,0)),\"\",IF(VLOOKUP(B352,'Zebrik W'!$B$7:$N$1000,13,0)=0,\"--\",VLOOKUP(B352,'Zebrik W'!$B$7:$N$1000,13,0)))","v":""}]
[{"$f":"RANK(G353,G:G)","v":347},"Ondrej Hurina",2003,"M","Zábřeh","CZ/M",4219,1,{"$f":"RANK(G353,G:G)","v":347},{"$f":"IF(ISERROR(VLOOKUP(B353,'N PMČR 2026'!B:G,6,0)),\"-\",VLOOKUP(B353,'N PMČR 2026'!B:G,6,0))","v":"-"},"Junior v roce 2026","Junior v roce 2027",null,null,{"$f":"IF(ISERROR(VLOOKUP(B353,'Zebrik W'!$B$7:$N$1000,13,0)),\"\",IF(VLOOKUP(B353,'Zebrik W'!$B$7:$N$1000,13,0)=0,\"--\",VLOOKUP(B353,'Zebrik W'!$B$7:$N$1000,13,0)))","v":""}]
[{"$f":"RANK(G354,G:G)","v":348},"Dusan Patocka",1972,"M","Vrchlabí","CZ/C2",4217,1,{"$f":"RANK(G354,G:G)","v":348},{"$f":"IF(ISERROR(VLOOKUP(B354,'N PMČR 2026'!B:G,6,0)),\"-\",VLOOKUP(B354,'N PMČR 2026'!B:G,6,0))","v":"-"},"","",null,null,{"$f":"IF(ISERROR(VLOOKUP(B354,'Zebrik W'!$B$7:$N$1000,13,0)),\"\",IF(VLOOKUP(B354,'Zebrik W'!$B$7:$N$1000,13,0)=0,\"--\",VLOOKUP(B354,'Zebrik W'!$B$7:$N$1000,13,0)))","v":""}]
[{"$f":"RANK(G355,G:G)","v":349},"Jaroslav Sefc",1971,"M","Broumov","CZ/C2",4107,2,{"$f":"RANK(G355,G:G)","v":349},{"$f":"IF(ISERROR(VLOOKUP(B355,'N PMČR 2026'!B:G,6,0)),\"-\",VLOOKUP(B355,'N PMČR 2026'!B:G,6,0))","v":"-"},"","",null,null,{"$f":"IF(ISERROR(VLOOKUP(B355,'Zebrik W'!$B$7:$N$1000,13,0)),\"\",IF(VLOOKUP(B355,'Zebrik W'!$B$7:$N$1000,13,0)=0,\"--\",VLOOKUP(B355,'Zebrik W'!$B$7:$N$1000,13,0)))","v":""}]
[{"$f":"RANK(G356,G:G)","v":350},"David Kraus",1990,"M","Olomouc","CZ/M",3997,2,{"$f":"RANK(G356,G:G)","v":350},{"$f":"IF(ISERROR(VLOOKUP(B356,'N PMČR 2026'!B:G,6,0)),\"-\",VLOOKUP(B356,'N PMČR 2026'!B:G,6,0))","v":"-"},"","",null,null,{"$f":"IF(ISERROR(VLOOKUP(B356,'Zebrik W'!$B$7:$N$1000,13,0)),\"\",IF(VLOOKUP(B356,'Zebrik W'!$B$7:$N$1000,13,0)=0,\"--\",VLOOKUP(B356,'Zebrik W'!$B$7:$N$1000,13,0)))","v":""}]
[{"$f":"RANK(G357,G:G)","v":351},"Martin Viteznik",1988,"M","Kralupy","CZ/C1",3994,1,{"$f":"RANK(G357,G:G)","v":351},{"$f":"IF(ISERROR(VLOOKUP(B357,'N PMČR 2026'!B:G,6,0)),\"-\",VLOOKUP(B357,'N PMČR 2026'!B:G,6,0))","v":"-"},"","",null,null,{"$f":"IF(ISERROR(VLOOKUP(B357,'Zebrik W'!$B$7:$N$1000,13,0)),\"\",IF(VLOOKUP(B357,'Zebrik W'!$B$7:$N$1000,13,0)=0,\"--\",VLOOKUP(B357,'Zebrik W'!$B$7:$N$1000,13,0)))","v":""}]
[{"$f":"RANK(G358,G:G)","v":352},"Viktorie Kusa",2004,"F","Letňany","CZ/C1",3979,1,{"$f":"RANK(G358,G:G)","v":352},{"$f":"IF(ISERROR(VLOOKUP(B358,'N PMČR 2026'!B:G,6,0)),\"-\",VLOOKUP(B358,'N PMČR 2026'!B:G,6,0))","v":"-"},"Junior v roce 2026","Junior v roce 2027",null,null,{"$f":"IF(ISERROR(VLOOKUP(B358,'Zebrik W'!$B$7:$N$1000,13,0)),\"\",IF(VLOOKUP(B358,'Zebrik W'!$B$7:$N$1000,13,0)=0,\"--\",VLOOKUP(B358,'Zebrik W'!$B$7:$N$1000,13,0)))","v":"--"}]
[{"$f":"RANK(G359,G:G)","v":353},"Jaroslav Simek",1968,"M","Letkov","CZ/C1",3978,1,{"$f":"RANK(G359,G:G)","v":353},{"$f":"IF(ISERROR(VLOOKUP(B359,'N PMČR 2026'!B:G,6,0)),\"-\",VLOOKUP(B359,'N PMČR 2026'!B:G,6,0))","v":"-"},"","",null,null,{"$f":"IF(ISERROR(VLOOKUP(B359,'Zebrik W'!$B$7:$N$1000,13,0)),\"\",IF(VLOOKUP(B359,'Zebrik W'!$B$7:$N$1000,13,0)=0,\"--\",VLOOKUP(B359,'Zebrik W'!$B$7:$N$1000,13,0)))","v":""}]
[{"$f":"RANK(G360,G:G)","v":354},"Ondrej Stepan",1984,"M","Žamberk","CZ/C2",3970,1,{"$f":"RANK(G360,G:G)","v":354},{"$f":"IF(ISERROR(VLOOKUP(B360,'N PMČR 2026'!B:G,6,0)),\"-\",VLOOKUP(B360,'N PMČR 2026'!B:G,6,0))","v":"-"},"","",null,null,{"$f":"IF(ISERROR(VLOOKUP(B360,'Zebrik W'!$B$7:$N$1000,13,0)),\"\",IF(VLOOKUP(B360,'Zebrik W'!$B$7:$N$1000,13,0)=0,\"--\",VLOOKUP(B360,'Zebrik W'!$B$7:$N$1000,13,0)))","v":""}]
[{"$f":"RANK(G361,G:G)","v":355},"Fabian Curda",2004,"M","Zábřeh","CZ/M",3873,1,{"$f":"RANK(G361,G:G)","v":355},{"$f":"IF(ISERROR(VLOOKUP(B361,'N PMČR 2026'!B:G,6,0)),\"-\",VLOOKUP(B361,'N PMČR 2026'!B:G,6,0))","v":"-"},"Junior v roce 2026","Junior v roce 2027",null,null,{"$f":"IF(ISERROR(VLOOKUP(B361,'Zebrik W'!$B$7:$N$1000,13,0)),\"\",IF(VLOOKUP(B361,'Zebrik W'!$B$7:$N$1000,13,0)=0,\"--\",VLOOKUP(B361,'Zebrik W'!$B$7:$N$1000,13,0)))","v":""}]
[{"$f":"RANK(G362,G:G)","v":356},"Michal Ondracek",1966,"M","Medlánky","CZ/M",3851,1,{"$f":"RANK(G362,G:G)","v":356},{"$f":"IF(ISERROR(VLOOKUP(B362,'N PMČR 2026'!B:G,6,0)),\"-\",VLOOKUP(B362,'N PMČR 2026'!B:G,6,0))","v":"-"},"","",null,null,{"$f":"IF(ISERROR(VLOOKUP(B362,'Zebrik W'!$B$7:$N$1000,13,0)),\"\",IF(VLOOKUP(B362,'Zebrik W'!$B$7:$N$1000,13,0)=0,\"--\",VLOOKUP(B362,'Zebrik W'!$B$7:$N$1000,13,0)))","v":""}]
[{"$f":"RANK(G363,G:G)","v":357},"Milos Pajr",1966,"M","Jičín","CZ/C2",3769,1,{"$f":"RANK(G363,G:G)","v":357},{"$f":"IF(ISERROR(VLOOKUP(B363,'N PMČR 2026'!B:G,6,0)),\"-\",VLOOKUP(B363,'N PMČR 2026'!B:G,6,0))","v":"-"},"","",null,null,{"$f":"IF(ISERROR(VLOOKUP(B363,'Zebrik W'!$B$7:$N$1000,13,0)),\"\",IF(VLOOKUP(B363,'Zebrik W'!$B$7:$N$1000,13,0)=0,\"--\",VLOOKUP(B363,'Zebrik W'!$B$7:$N$1000,13,0)))","v":""}]
[{"$f":"RANK(G364,G:G)","v":358},"Vit Pavelka",2004,"M","Moravská Třebová","CZ/M",3700,1,{"$f":"RANK(G364,G:G)","v":358},{"$f":"IF(ISERROR(VLOOKUP(B364,'N PMČR 2026'!B:G,6,0)),\"-\",VLOOKUP(B364,'N PMČR 2026'!B:G,6,0))","v":"-"},"Junior v roce 2026","Junior v roce 2027",null,null,{"$f":"IF(ISERROR(VLOOKUP(B364,'Zebrik W'!$B$7:$N$1000,13,0)),\"\",IF(VLOOKUP(B364,'Zebrik W'!$B$7:$N$1000,13,0)=0,\"--\",VLOOKUP(B364,'Zebrik W'!$B$7:$N$1000,13,0)))","v":""}]
[{"$f":"RANK(G365,G:G)","v":359},"Jaroslav Koudelka 95",1995,"M","Hosín","CZ/C1",3671,1,{"$f":"RANK(G365,G:G)","v":359},{"$f":"IF(ISERROR(VLOOKUP(B365,'N PMČR 2026'!B:G,6,0)),\"-\",VLOOKUP(B365,'N PMČR 2026'!B:G,6,0))","v":"-"},"","",null,null,{"$f":"IF(ISERROR(VLOOKUP(B365,'Zebrik W'!$B$7:$N$1000,13,0)),\"\",IF(VLOOKUP(B365,'Zebrik W'!$B$7:$N$1000,13,0)=0,\"--\",VLOOKUP(B365,'Zebrik W'!$B$7:$N$1000,13,0)))","v":""}]
[{"$f":"RANK(G366,G:G)","v":360},"Marie Vesela",1999,"F","Staňkov","CZ/C1",3617,3,{"$f":"RANK(G366,G:G)","v":360},{"$f":"IF(ISERROR(VLOOKUP(B366,'N PMČR 2026'!B:G,6,0)),\"-\",VLOOKUP(B366,'N PMČR 2026'!B:G,6,0))","v":"-"},"","",null,null,{"$f":"IF(ISERROR(VLOOKUP(B366,'Zebrik W'!$B$7:$N$1000,13,0)),\"\",IF(VLOOKUP(B366,'Zebrik W'!$B$7:$N$1000,13,0)=0,\"--\",VLOOKUP(B366,'Zebrik W'!$B$7:$N$1000,13,0)))","v":"--"}]
[{"$f":"RANK(G367,G:G)","v":361},"Lukas Kotek",1994,"M","Frýdlant","CZ/M",3569,1,{"$f":"RANK(G367,G:G)","v":361},{"$f":"IF(ISERROR(VLOOKUP(B367,'N PMČR 2026'!B:G,6,0)),\"-\",VLOOKUP(B367,'N PMČR 2026'!B:G,6,0))","v":"-"},"","",null,null,{"$f":"IF(ISERROR(VLOOKUP(B367,'Zebrik W'!$B$7:$N$1000,13,0)),\"\",IF(VLOOKUP(B367,'Zebrik W'!$B$7:$N$1000,13,0)=0,\"--\",VLOOKUP(B367,'Zebrik W'!$B$7:$N$1000,13,0)))","v":""}]
[{"$f":"RANK(G368,G:G)","v":362},"Martin Stransky",1964,"M","Jičín","CZ/C2",3564,1,{"$f":"RANK(G368,G:G)","v":362},{"$f":"IF(ISERROR(VLOOKUP(B368,'N PMČR 2026'!B:G,6,0)),\"-\",VLOOKUP(B368,'N PMČR 2026'!B:G,6,0))","v":"-"},"","",null,null,{"$f":"IF(ISERROR(VLOOKUP(B368,'Zebrik W'!$B$7:$N$1000,13,0)),\"\",IF(VLOOKUP(B368,'Zebrik W'!$B$7:$N$1000,13,0)=0,\"--\",VLOOKUP(B368,'Zebrik W'!$B$7:$N$1000,13,0)))","v":""}]
[{"$f":"RANK(G369,G:G)","v":363},"Michal Hemrle",1974,"M","Česká Lípa","CZ/C2",3553,1,{"$f":"RANK(G369,G:G)","v":363},{"$f":"IF(ISERROR(VLOOKUP(B369,'N PMČR 2026'!B:G,6,0)),\"-\",VLOOKUP(B369,'N PMČR 2026'!B:G,6,0))","v":"-"},"","",null,null,{"$f":"IF(ISERROR(VLOOKUP(B369,'Zebrik W'!$B$7:$N$1000,13,0)),\"\",IF(VLOOKUP(B369,'Zebrik W'!$B$7:$N$1000,13,0)=0,\"--\",VLOOKUP(B369,'Zebrik W'!$B$7:$N$1000,13,0)))","v":""}]
[{"$f":"RANK(G370,G:G)","v":364},"Pavel Derda",1952,"M","Dvůr Králové","CZ/C2",3541,2,{"$f":"RANK(G370,G:G)","v":364},{"$f":"IF(ISERROR(VLOOKUP(B370,'N PMČR 2026'!B:G,6,0)),\"-\",VLOOKUP(B370,'N PMČR 2026'!B:G,6,0))","v":"-"},"","",null,null,{"$f":"IF(ISERROR(VLOOKUP(B370,'Zebrik W'!$B$7:$N$1000,13,0)),\"\",IF(VLOOKUP(B370,'Zebrik W'!$B$7:$N$1000,13,0)=0,\"--\",VLOOKUP(B370,'Zebrik W'!$B$7:$N$1000,13,0)))","v":""}]
[{"$f":"RANK(G371,G:G)","v":365},"Jiri Bergman",1978,"M","Mladá Boleslav","CZ/C1",3484,1,{"$f":"RANK(G371,G:G)","v":365},{"$f":"IF(ISERROR(VLOOKUP(B371,'N PMČR 2026'!B:G,6,0)),\"-\",VLOOKUP(B371,'N PMČR 2026'!B:G,6,0))","v":"-"},"","",null,null,{"$f":"IF(ISERROR(VLOOKUP(B371,'Zebrik W'!$B$7:$N$1000,13,0)),\"\",IF(VLOOKUP(B371,'Zebrik W'!$B$7:$N$1000,13,0)=0,\"--\",VLOOKUP(B371,'Zebrik W'!$B$7:$N$1000,13,0)))","v":""}]
[{"$f":"RANK(G372,G:G)","v":366},"Daniel Suchy",1995,"M","Hranice","CZ/M",3432,1,{"$f":"RANK(G372,G:G)","v":366},{"$f":"IF(ISERROR(VLOOKUP(B372,'N PMČR 2026'!B:G,6,0)),\"-\",VLOOKUP(B372,'N PMČR 2026'!B:G,6,0))","v":"-"},"","",null,null,{"$f":"IF(ISERROR(VLOOKUP(B372,'Zebrik W'!$B$7:$N$1000,13,0)),\"\",IF(VLOOKUP(B372,'Zebrik W'!$B$7:$N$1000,13,0)=0,\"--\",VLOOKUP(B372,'Zebrik W'!$B$7:$N$1000,13,0)))","v":""}]
[{"$f":"RANK(G373,G:G)","v":367},"Petr Sindelar 80",1980,"M","Letkov","CZ/C1",3357,2,{"$f":"RANK(G373,G:G)","v":367},{"$f":"IF(ISERROR(VLOOKUP(B373,'N PMČR 2026'!B:G,6,0)),\"-\",VLOOKUP(B373,'N PMČR 2026'!B:G,6,0))","v":"-"},"","",null,null,{"$f":"IF(ISERROR(VLOOKUP(B373,'Zebrik W'!$B$7:$N$1000,13,0)),\"\",IF(VLOOKUP(B373,'Zebrik W'!$B$7:$N$1000,13,0)=0,\"--\",VLOOKUP(B373,'Zebrik W'!$B$7:$N$1000,13,0)))","v":""}]
[{"$f":"RANK(G374,G:G)","v":368},"Boris Guic",1966,"M","Zbraslavice","CZ/C1",3308,1,{"$f":"RANK(G374,G:G)","v":368},{"$f":"IF(ISERROR(VLOOKUP(B374,'N PMČR 2026'!B:G,6,0)),\"-\",VLOOKUP(B374,'N PMČR 2026'!B:G,6,0))","v":"-"},"","",null,null,{"$f":"IF(ISERROR(VLOOKUP(B374,'Zebrik W'!$B$7:$N$1000,13,0)),\"\",IF(VLOOKUP(B374,'Zebrik W'!$B$7:$N$1000,13,0)=0,\"--\",VLOOKUP(B374,'Zebrik W'!$B$7:$N$1000,13,0)))","v":""}]
[{"$f":"RANK(G375,G:G)","v":369},"Michal Fortik",1976,"M","Točná","CZ/C1",3304,1,{"$f":"RANK(G375,G:G)","v":369},{"$f":"IF(ISERROR(VLOOKUP(B375,'N PMČR 2026'!B:G,6,0)),\"-\",VLOOKUP(B375,'N PMČR 2026'!B:G,6,0))","v":"-"},"","",null,null,{"$f":"IF(ISERROR(VLOOKUP(B375,'Zebrik W'!$B$7:$N$1000,13,0)),\"\",IF(VLOOKUP(B375,'Zebrik W'!$B$7:$N$1000,13,0)=0,\"--\",VLOOKUP(B375,'Zebrik W'!$B$7:$N$1000,13,0)))","v":""}]
[{"$f":"RANK(G376,G:G)","v":370},"Jiri Lenik",1947,"M","Raná","CZ/C2",3263,1,{"$f":"RANK(G376,G:G)","v":370},{"$f":"IF(ISERROR(VLOOKUP(B376,'N PMČR 2026'!B:G,6,0)),\"-\",VLOOKUP(B376,'N PMČR 2026'!B:G,6,0))","v":"-"},"","",null,null,{"$f":"IF(ISERROR(VLOOKUP(B376,'Zebrik W'!$B$7:$N$1000,13,0)),\"\",IF(VLOOKUP(B376,'Zebrik W'!$B$7:$N$1000,13,0)=0,\"--\",VLOOKUP(B376,'Zebrik W'!$B$7:$N$1000,13,0)))","v":""}]
[{"$f":"RANK(G377,G:G)","v":371},"Jaroslav Hot",1965,"M","Toužim","CZ/C1",3213,1,{"$f":"RANK(G377,G:G)","v":371},{"$f":"IF(ISERROR(VLOOKUP(B377,'N PMČR 2026'!B:G,6,0)),\"-\",VLOOKUP(B377,'N PMČR 2026'!B:G,6,0))","v":"-"},"","",null,null,{"$f":"IF(ISERROR(VLOOKUP(B377,'Zebrik W'!$B$7:$N$1000,13,0)),\"\",IF(VLOOKUP(B377,'Zebrik W'!$B$7:$N$1000,13,0)=0,\"--\",VLOOKUP(B377,'Zebrik W'!$B$7:$N$1000,13,0)))","v":""}]
[{"$f":"RANK(G378,G:G)","v":372},"Martin Soucek",1975,"M","Mladá Boleslav","CZ/C1",3209,1,{"$f":"RANK(G378,G:G)","v":372},{"$f":"IF(ISERROR(VLOOKUP(B378,'N PMČR 2026'!B:G,6,0)),\"-\",VLOOKUP(B378,'N PMČR 2026'!B:G,6,0))","v":"-"},"","",null,null,{"$f":"IF(ISERROR(VLOOKUP(B378,'Zebrik W'!$B$7:$N$1000,13,0)),\"\",IF(VLOOKUP(B378,'Zebrik W'!$B$7:$N$1000,13,0)=0,\"--\",VLOOKUP(B378,'Zebrik W'!$B$7:$N$1000,13,0)))","v":""}]
[{"$f":"RANK(G379,G:G)","v":373},"Martin Krizovic",1971,"M","Přibyslav","CZ/C2",3200,1,{"$f":"RANK(G379,G:G)","v":373},{"$f":"IF(ISERROR(VLOOKUP(B379,'N PMČR 2026'!B:G,6,0)),\"-\",VLOOKUP(B379,'N PMČR 2026'!B:G,6,0))","v":"-"},"","",null,null,{"$f":"IF(ISERROR(VLOOKUP(B379,'Zebrik W'!$B$7:$N$1000,13,0)),\"\",IF(VLOOKUP(B379,'Zebrik W'!$B$7:$N$1000,13,0)=0,\"--\",VLOOKUP(B379,'Zebrik W'!$B$7:$N$1000,13,0)))","v":""}]
[{"$f":"RANK(G380,G:G)","v":374},"Michal Linhart",1982,"M","Vyškov","CZ/M",3183,2,{"$f":"RANK(G380,G:G)","v":374},{"$f":"IF(ISERROR(VLOOKUP(B380,'N PMČR 2026'!B:G,6,0)),\"-\",VLOOKUP(B380,'N PMČR 2026'!B:G,6,0))","v":"-"},"","",null,null,{"$f":"IF(ISERROR(VLOOKUP(B380,'Zebrik W'!$B$7:$N$1000,13,0)),\"\",IF(VLOOKUP(B380,'Zebrik W'!$B$7:$N$1000,13,0)=0,\"--\",VLOOKUP(B380,'Zebrik W'!$B$7:$N$1000,13,0)))","v":""}]
[{"$f":"RANK(G381,G:G)","v":375},"Frantisek Pycha",1972,"M","Chrudim","CZ/C2",3129,1,{"$f":"RANK(G381,G:G)","v":375},{"$f":"IF(ISERROR(VLOOKUP(B381,'N PMČR 2026'!B:G,6,0)),\"-\",VLOOKUP(B381,'N PMČR 2026'!B:G,6,0))","v":"-"},"","",null,null,{"$f":"IF(ISERROR(VLOOKUP(B381,'Zebrik W'!$B$7:$N$1000,13,0)),\"\",IF(VLOOKUP(B381,'Zebrik W'!$B$7:$N$1000,13,0)=0,\"--\",VLOOKUP(B381,'Zebrik W'!$B$7:$N$1000,13,0)))","v":""}]
[{"$f":"RANK(G382,G:G)","v":376},"Milos Hrabe",1979,"M","Letňany","CZ/C1",3062,2,{"$f":"RANK(G382,G:G)","v":376},{"$f":"IF(ISERROR(VLOOKUP(B382,'N PMČR 2026'!B:G,6,0)),\"-\",VLOOKUP(B382,'N PMČR 2026'!B:G,6,0))","v":"-"},"","",null,null,{"$f":"IF(ISERROR(VLOOKUP(B382,'Zebrik W'!$B$7:$N$1000,13,0)),\"\",IF(VLOOKUP(B382,'Zebrik W'!$B$7:$N$1000,13,0)=0,\"--\",VLOOKUP(B382,'Zebrik W'!$B$7:$N$1000,13,0)))","v":""}]
[{"$f":"RANK(G383,G:G)","v":377},"Dalibor Bucha",1973,"M","Hranice","CZ/M",3058,1,{"$f":"RANK(G383,G:G)","v":377},{"$f":"IF(ISERROR(VLOOKUP(B383,'N PMČR 2026'!B:G,6,0)),\"-\",VLOOKUP(B383,'N PMČR 2026'!B:G,6,0))","v":"-"},"","",null,null,{"$f":"IF(ISERROR(VLOOKUP(B383,'Zebrik W'!$B$7:$N$1000,13,0)),\"\",IF(VLOOKUP(B383,'Zebrik W'!$B$7:$N$1000,13,0)=0,\"--\",VLOOKUP(B383,'Zebrik W'!$B$7:$N$1000,13,0)))","v":""}]
[{"$f":"RANK(G384,G:G)","v":378},"Antonin Klika",1964,"M","Beroun","CZ/C1",3029,1,{"$f":"RANK(G384,G:G)","v":378},{"$f":"IF(ISERROR(VLOOKUP(B384,'N PMČR 2026'!B:G,6,0)),\"-\",VLOOKUP(B384,'N PMČR 2026'!B:G,6,0))","v":"-"},"","",null,null,{"$f":"IF(ISERROR(VLOOKUP(B384,'Zebrik W'!$B$7:$N$1000,13,0)),\"\",IF(VLOOKUP(B384,'Zebrik W'!$B$7:$N$1000,13,0)=0,\"--\",VLOOKUP(B384,'Zebrik W'!$B$7:$N$1000,13,0)))","v":""}]
[{"$f":"RANK(G385,G:G)","v":379},"Pavel Mracek",1986,"M","Mladá Boleslav","CZ/C1",2904,1,{"$f":"RANK(G385,G:G)","v":379},{"$f":"IF(ISERROR(VLOOKUP(B385,'N PMČR 2026'!B:G,6,0)),\"-\",VLOOKUP(B385,'N PMČR 2026'!B:G,6,0))","v":"-"},"","",null,null,{"$f":"IF(ISERROR(VLOOKUP(B385,'Zebrik W'!$B$7:$N$1000,13,0)),\"\",IF(VLOOKUP(B385,'Zebrik W'!$B$7:$N$1000,13,0)=0,\"--\",VLOOKUP(B385,'Zebrik W'!$B$7:$N$1000,13,0)))","v":""}]
[{"$f":"RANK(G386,G:G)","v":380},"Pavel Svrcek",1972,"M","Frýdlant","CZ/M",2880,3,{"$f":"RANK(G386,G:G)","v":380},{"$f":"IF(ISERROR(VLOOKUP(B386,'N PMČR 2026'!B:G,6,0)),\"-\",VLOOKUP(B386,'N PMČR 2026'!B:G,6,0))","v":"-"},"","",null,null,{"$f":"IF(ISERROR(VLOOKUP(B386,'Zebrik W'!$B$7:$N$1000,13,0)),\"\",IF(VLOOKUP(B386,'Zebrik W'!$B$7:$N$1000,13,0)=0,\"--\",VLOOKUP(B386,'Zebrik W'!$B$7:$N$1000,13,0)))","v":""}]
[{"$f":"RANK(G387,G:G)","v":381},"Jan Karas",1985,"M","Jihlava","CZ/M",2772,1,{"$f":"RANK(G387,G:G)","v":381},{"$f":"IF(ISERROR(VLOOKUP(B387,'N PMČR 2026'!B:G,6,0)),\"-\",VLOOKUP(B387,'N PMČR 2026'!B:G,6,0))","v":"-"},"","",null,null,{"$f":"IF(ISERROR(VLOOKUP(B387,'Zebrik W'!$B$7:$N$1000,13,0)),\"\",IF(VLOOKUP(B387,'Zebrik W'!$B$7:$N$1000,13,0)=0,\"--\",VLOOKUP(B387,'Zebrik W'!$B$7:$N$1000,13,0)))","v":""}]
[{"$f":"RANK(G388,G:G)","v":382},"Petr Weinhauer",1977,"M","Tábor","CZ/C1",2715,1,{"$f":"RANK(G388,G:G)","v":382},{"$f":"IF(ISERROR(VLOOKUP(B388,'N PMČR 2026'!B:G,6,0)),\"-\",VLOOKUP(B388,'N PMČR 2026'!B:G,6,0))","v":"-"},"","",null,null,{"$f":"IF(ISERROR(VLOOKUP(B388,'Zebrik W'!$B$7:$N$1000,13,0)),\"\",IF(VLOOKUP(B388,'Zebrik W'!$B$7:$N$1000,13,0)=0,\"--\",VLOOKUP(B388,'Zebrik W'!$B$7:$N$1000,13,0)))","v":""}]
[{"$f":"RANK(G389,G:G)","v":383},"Lubomir Mekota",1956,"M","Plasy","CZ/C1",2671,1,{"$f":"RANK(G389,G:G)","v":383},{"$f":"IF(ISERROR(VLOOKUP(B389,'N PMČR 2026'!B:G,6,0)),\"-\",VLOOKUP(B389,'N PMČR 2026'!B:G,6,0))","v":"-"},"","",null,null,{"$f":"IF(ISERROR(VLOOKUP(B389,'Zebrik W'!$B$7:$N$1000,13,0)),\"\",IF(VLOOKUP(B389,'Zebrik W'!$B$7:$N$1000,13,0)=0,\"--\",VLOOKUP(B389,'Zebrik W'!$B$7:$N$1000,13,0)))","v":""}]
[{"$f":"RANK(G390,G:G)","v":384},"Pavel Zakravsky",1979,"M","Hranice","CZ/M",2614,1,{"$f":"RANK(G390,G:G)","v":384},{"$f":"IF(ISERROR(VLOOKUP(B390,'N PMČR 2026'!B:G,6,0)),\"-\",VLOOKUP(B390,'N PMČR 2026'!B:G,6,0))","v":"-"},"","",null,null,{"$f":"IF(ISERROR(VLOOKUP(B390,'Zebrik W'!$B$7:$N$1000,13,0)),\"\",IF(VLOOKUP(B390,'Zebrik W'!$B$7:$N$1000,13,0)=0,\"--\",VLOOKUP(B390,'Zebrik W'!$B$7:$N$1000,13,0)))","v":""}]
[{"$f":"RANK(G391,G:G)","v":385},"Daniel Sirmer",2005,"M","Jihlava","CZ/M",2577,1,{"$f":"RANK(G391,G:G)","v":385},{"$f":"IF(ISERROR(VLOOKUP(B391,'N PMČR 2026'!B:G,6,0)),\"-\",VLOOKUP(B391,'N PMČR 2026'!B:G,6,0))","v":"-"},"Junior v roce 2026","Junior v roce 2027",null,null,{"$f":"IF(ISERROR(VLOOKUP(B391,'Zebrik W'!$B$7:$N$1000,13,0)),\"\",IF(VLOOKUP(B391,'Zebrik W'!$B$7:$N$1000,13,0)=0,\"--\",VLOOKUP(B391,'Zebrik W'!$B$7:$N$1000,13,0)))","v":""}]
[{"$f":"RANK(G392,G:G)","v":386},"Tereza Novakova",1993,"F","Chrudim","CZ/C2",2570,1,{"$f":"RANK(G392,G:G)","v":386},{"$f":"IF(ISERROR(VLOOKUP(B392,'N PMČR 2026'!B:G,6,0)),\"-\",VLOOKUP(B392,'N PMČR 2026'!B:G,6,0))","v":"-"},{"$f":"IF(C392=\"(prázdné)\",\"\",IF(($K$4-C392)>25,\"\",\"Junior v roce \"&$K$4))","v":""},{"$f":"IF(C392=\"(prázdné)\",\"\",IF(($L$4-C392)>25,\"\",\"Junior v roce \"&$L$4))","v":""},null,null,{"$f":"IF(ISERROR(VLOOKUP(B392,'Zebrik W'!$B$7:$N$1000,13,0)),\"\",IF(VLOOKUP(B392,'Zebrik W'!$B$7:$N$1000,13,0)=0,\"--\",VLOOKUP(B392,'Zebrik W'!$B$7:$N$1000,13,0)))","v":"--"}]
[{"$f":"RANK(G393,G:G)","v":387},"Petra Ctibor",1991,"F","Medlánky","CZ/M",2402,1,{"$f":"RANK(G393,G:G)","v":387},{"$f":"IF(ISERROR(VLOOKUP(B393,'N PMČR 2026'!B:G,6,0)),\"-\",VLOOKUP(B393,'N PMČR 2026'!B:G,6,0))","v":"-"},"","",null,null,{"$f":"IF(ISERROR(VLOOKUP(B393,'Zebrik W'!$B$7:$N$1000,13,0)),\"\",IF(VLOOKUP(B393,'Zebrik W'!$B$7:$N$1000,13,0)=0,\"--\",VLOOKUP(B393,'Zebrik W'!$B$7:$N$1000,13,0)))","v":"--"}]
[{"$f":"RANK(G394,G:G)","v":388},"Kamil Sohr",1973,"M","Šumperk","CZ/M",2346,1,{"$f":"RANK(G394,G:G)","v":388},{"$f":"IF(ISERROR(VLOOKUP(B394,'N PMČR 2026'!B:G,6,0)),\"-\",VLOOKUP(B394,'N PMČR 2026'!B:G,6,0))","v":"-"},"","",null,null,{"$f":"IF(ISERROR(VLOOKUP(B394,'Zebrik W'!$B$7:$N$1000,13,0)),\"\",IF(VLOOKUP(B394,'Zebrik W'!$B$7:$N$1000,13,0)=0,\"--\",VLOOKUP(B394,'Zebrik W'!$B$7:$N$1000,13,0)))","v":""}]
[{"$f":"RANK(G395,G:G)","v":389},"Jan Platenik",1981,"M","Krnov","CZ/M",2265,1,{"$f":"RANK(G395,G:G)","v":389},{"$f":"IF(ISERROR(VLOOKUP(B395,'N PMČR 2026'!B:G,6,0)),\"-\",VLOOKUP(B395,'N PMČR 2026'!B:G,6,0))","v":"-"},"","",null,null,{"$f":"IF(ISERROR(VLOOKUP(B395,'Zebrik W'!$B$7:$N$1000,13,0)),\"\",IF(VLOOKUP(B395,'Zebrik W'!$B$7:$N$1000,13,0)=0,\"--\",VLOOKUP(B395,'Zebrik W'!$B$7:$N$1000,13,0)))","v":""}]
[{"$f":"RANK(G396,G:G)","v":390},"Lukas Zach",1987,"M","Vyškov","CZ/M",2242,2,{"$f":"RANK(G396,G:G)","v":390},{"$f":"IF(ISERROR(VLOOKUP(B396,'N PMČR 2026'!B:G,6,0)),\"-\",VLOOKUP(B396,'N PMČR 2026'!B:G,6,0))","v":"-"},"","",null,null,{"$f":"IF(ISERROR(VLOOKUP(B396,'Zebrik W'!$B$7:$N$1000,13,0)),\"\",IF(VLOOKUP(B396,'Zebrik W'!$B$7:$N$1000,13,0)=0,\"--\",VLOOKUP(B396,'Zebrik W'!$B$7:$N$1000,13,0)))","v":""}]
[{"$f":"RANK(G397,G:G)","v":391},"Jaroslav Dvorak",1980,"M","Letkov","CZ/C1",2222,1,{"$f":"RANK(G397,G:G)","v":391},{"$f":"IF(ISERROR(VLOOKUP(B397,'N PMČR 2026'!B:G,6,0)),\"-\",VLOOKUP(B397,'N PMČR 2026'!B:G,6,0))","v":"-"},"","",null,null,{"$f":"IF(ISERROR(VLOOKUP(B397,'Zebrik W'!$B$7:$N$1000,13,0)),\"\",IF(VLOOKUP(B397,'Zebrik W'!$B$7:$N$1000,13,0)=0,\"--\",VLOOKUP(B397,'Zebrik W'!$B$7:$N$1000,13,0)))","v":""}]
[{"$f":"RANK(G398,G:G)","v":392},"Jiri Pajer",1977,"M","Zbraslavice","CZ/C1",2126,1,{"$f":"RANK(G398,G:G)","v":392},{"$f":"IF(ISERROR(VLOOKUP(B398,'N PMČR 2026'!B:G,6,0)),\"-\",VLOOKUP(B398,'N PMČR 2026'!B:G,6,0))","v":"-"},"","",null,null,{"$f":"IF(ISERROR(VLOOKUP(B398,'Zebrik W'!$B$7:$N$1000,13,0)),\"\",IF(VLOOKUP(B398,'Zebrik W'!$B$7:$N$1000,13,0)=0,\"--\",VLOOKUP(B398,'Zebrik W'!$B$7:$N$1000,13,0)))","v":""}]
[{"$f":"RANK(G399,G:G)","v":393},"Vladislav Panek",1965,"M","Letňany","CZ/C1",2124,1,{"$f":"RANK(G399,G:G)","v":393},{"$f":"IF(ISERROR(VLOOKUP(B399,'N PMČR 2026'!B:G,6,0)),\"-\",VLOOKUP(B399,'N PMČR 2026'!B:G,6,0))","v":"-"},"","",null,null,{"$f":"IF(ISERROR(VLOOKUP(B399,'Zebrik W'!$B$7:$N$1000,13,0)),\"\",IF(VLOOKUP(B399,'Zebrik W'!$B$7:$N$1000,13,0)=0,\"--\",VLOOKUP(B399,'Zebrik W'!$B$7:$N$1000,13,0)))","v":""}]
[{"$f":"RANK(G400,G:G)","v":394},"Martin Marek",1967,"M","Roudnice","CZ/C2",2119,1,{"$f":"RANK(G400,G:G)","v":394},{"$f":"IF(ISERROR(VLOOKUP(B400,'N PMČR 2026'!B:G,6,0)),\"-\",VLOOKUP(B400,'N PMČR 2026'!B:G,6,0))","v":"-"},"","",null,null,{"$f":"IF(ISERROR(VLOOKUP(B400,'Zebrik W'!$B$7:$N$1000,13,0)),\"\",IF(VLOOKUP(B400,'Zebrik W'!$B$7:$N$1000,13,0)=0,\"--\",VLOOKUP(B400,'Zebrik W'!$B$7:$N$1000,13,0)))","v":""}]
[{"$f":"RANK(G401,G:G)","v":395},"Ales Nestrojil",1980,"M","Medlánky","CZ/M",2039,1,{"$f":"RANK(G401,G:G)","v":395},{"$f":"IF(ISERROR(VLOOKUP(B401,'N PMČR 2026'!B:G,6,0)),\"-\",VLOOKUP(B401,'N PMČR 2026'!B:G,6,0))","v":"-"},"","",null,null,{"$f":"IF(ISERROR(VLOOKUP(B401,'Zebrik W'!$B$7:$N$1000,13,0)),\"\",IF(VLOOKUP(B401,'Zebrik W'!$B$7:$N$1000,13,0)=0,\"--\",VLOOKUP(B401,'Zebrik W'!$B$7:$N$1000,13,0)))","v":""}]
[{"$f":"RANK(G402,G:G)","v":396},"Krystof Mimra",1992,"M","Most","CZ/C2",1994,1,{"$f":"RANK(G402,G:G)","v":396},{"$f":"IF(ISERROR(VLOOKUP(B402,'N PMČR 2026'!B:G,6,0)),\"-\",VLOOKUP(B402,'N PMČR 2026'!B:G,6,0))","v":"-"},"","",null,null,{"$f":"IF(ISERROR(VLOOKUP(B402,'Zebrik W'!$B$7:$N$1000,13,0)),\"\",IF(VLOOKUP(B402,'Zebrik W'!$B$7:$N$1000,13,0)=0,\"--\",VLOOKUP(B402,'Zebrik W'!$B$7:$N$1000,13,0)))","v":""}]
[{"$f":"RANK(G403,G:G)","v":397},"Miroslav Kus",1970,"M","Strakonice","CZ/C1",1885,1,{"$f":"RANK(G403,G:G)","v":397},{"$f":"IF(ISERROR(VLOOKUP(B403,'N PMČR 2026'!B:G,6,0)),\"-\",VLOOKUP(B403,'N PMČR 2026'!B:G,6,0))","v":63},"","",null,null,{"$f":"IF(ISERROR(VLOOKUP(B403,'Zebrik W'!$B$7:$N$1000,13,0)),\"\",IF(VLOOKUP(B403,'Zebrik W'!$B$7:$N$1000,13,0)=0,\"--\",VLOOKUP(B403,'Zebrik W'!$B$7:$N$1000,13,0)))","v":""}]
[{"$f":"RANK(G404,G:G)","v":398},"Martin Piskacek",1991,"M","Křižanov","CZ/M",1857,1,{"$f":"RANK(G404,G:G)","v":398},{"$f":"IF(ISERROR(VLOOKUP(B404,'N PMČR 2026'!B:G,6,0)),\"-\",VLOOKUP(B404,'N PMČR 2026'!B:G,6,0))","v":"-"},"","",null,null,{"$f":"IF(ISERROR(VLOOKUP(B404,'Zebrik W'!$B$7:$N$1000,13,0)),\"\",IF(VLOOKUP(B404,'Zebrik W'!$B$7:$N$1000,13,0)=0,\"--\",VLOOKUP(B404,'Zebrik W'!$B$7:$N$1000,13,0)))","v":""}]
[{"$f":"RANK(G405,G:G)","v":399},"Zuzana Novakova",2001,"F","Hranice","CZ/M",1852,1,{"$f":"RANK(G405,G:G)","v":399},{"$f":"IF(ISERROR(VLOOKUP(B405,'N PMČR 2026'!B:G,6,0)),\"-\",VLOOKUP(B405,'N PMČR 2026'!B:G,6,0))","v":"-"},"Junior v roce 2026","",null,null,{"$f":"IF(ISERROR(VLOOKUP(B405,'Zebrik W'!$B$7:$N$1000,13,0)),\"\",IF(VLOOKUP(B405,'Zebrik W'!$B$7:$N$1000,13,0)=0,\"--\",VLOOKUP(B405,'Zebrik W'!$B$7:$N$1000,13,0)))","v":"--"}]
[{"$f":"RANK(G406,G:G)","v":400},"Petr Houstek 79",1979,"M","Jaroměř","CZ/C2",1743,1,{"$f":"RANK(G406,G:G)","v":400},{"$f":"IF(ISERROR(VLOOKUP(B406,'N PMČR 2026'!B:G,6,0)),\"-\",VLOOKUP(B406,'N PMČR 2026'!B:G,6,0))","v":"-"},"","",null,null,{"$f":"IF(ISERROR(VLOOKUP(B406,'Zebrik W'!$B$7:$N$1000,13,0)),\"\",IF(VLOOKUP(B406,'Zebrik W'!$B$7:$N$1000,13,0)=0,\"--\",VLOOKUP(B406,'Zebrik W'!$B$7:$N$1000,13,0)))","v":""}]
[{"$f":"RANK(G407,G:G)","v":400},"Jiri Bartunek",1982,"M","Mladá Boleslav","CZ/C1",1743,1,{"$f":"RANK(G407,G:G)","v":400},{"$f":"IF(ISERROR(VLOOKUP(B407,'N PMČR 2026'!B:G,6,0)),\"-\",VLOOKUP(B407,'N PMČR 2026'!B:G,6,0))","v":"-"},"","",null,null,{"$f":"IF(ISERROR(VLOOKUP(B407,'Zebrik W'!$B$7:$N$1000,13,0)),\"\",IF(VLOOKUP(B407,'Zebrik W'!$B$7:$N$1000,13,0)=0,\"--\",VLOOKUP(B407,'Zebrik W'!$B$7:$N$1000,13,0)))","v":""}]
[{"$f":"RANK(G408,G:G)","v":402},"Radim Hahn",1972,"M","Zábřeh","CZ/M",1724,1,{"$f":"RANK(G408,G:G)","v":402},{"$f":"IF(ISERROR(VLOOKUP(B408,'N PMČR 2026'!B:G,6,0)),\"-\",VLOOKUP(B408,'N PMČR 2026'!B:G,6,0))","v":"-"},"","",null,null,{"$f":"IF(ISERROR(VLOOKUP(B408,'Zebrik W'!$B$7:$N$1000,13,0)),\"\",IF(VLOOKUP(B408,'Zebrik W'!$B$7:$N$1000,13,0)=0,\"--\",VLOOKUP(B408,'Zebrik W'!$B$7:$N$1000,13,0)))","v":""}]
[{"$f":"RANK(G409,G:G)","v":403},"Albert Schneider",1967,"M","Hranice","CZ/M",1533,1,{"$f":"RANK(G409,G:G)","v":403},{"$f":"IF(ISERROR(VLOOKUP(B409,'N PMČR 2026'!B:G,6,0)),\"-\",VLOOKUP(B409,'N PMČR 2026'!B:G,6,0))","v":"-"},"","",null,null,{"$f":"IF(ISERROR(VLOOKUP(B409,'Zebrik W'!$B$7:$N$1000,13,0)),\"\",IF(VLOOKUP(B409,'Zebrik W'!$B$7:$N$1000,13,0)=0,\"--\",VLOOKUP(B409,'Zebrik W'!$B$7:$N$1000,13,0)))","v":""}]
[{"$f":"RANK(G410,G:G)","v":404},"Karel Ertl",1939,"M","LK Břeclav","CZ/M",1532,3,{"$f":"RANK(G410,G:G)","v":404},{"$f":"IF(ISERROR(VLOOKUP(B410,'N PMČR 2026'!B:G,6,0)),\"-\",VLOOKUP(B410,'N PMČR 2026'!B:G,6,0))","v":"-"},"","",null,null,{"$f":"IF(ISERROR(VLOOKUP(B410,'Zebrik W'!$B$7:$N$1000,13,0)),\"\",IF(VLOOKUP(B410,'Zebrik W'!$B$7:$N$1000,13,0)=0,\"--\",VLOOKUP(B410,'Zebrik W'!$B$7:$N$1000,13,0)))","v":""}]
[{"$f":"RANK(G411,G:G)","v":405},"Jan Heroudek",1970,"M","Rakovník","CZ/C1",1487,1,{"$f":"RANK(G411,G:G)","v":405},{"$f":"IF(ISERROR(VLOOKUP(B411,'N PMČR 2026'!B:G,6,0)),\"-\",VLOOKUP(B411,'N PMČR 2026'!B:G,6,0))","v":"-"},"","",null,null,{"$f":"IF(ISERROR(VLOOKUP(B411,'Zebrik W'!$B$7:$N$1000,13,0)),\"\",IF(VLOOKUP(B411,'Zebrik W'!$B$7:$N$1000,13,0)=0,\"--\",VLOOKUP(B411,'Zebrik W'!$B$7:$N$1000,13,0)))","v":""}]
[{"$f":"RANK(G412,G:G)","v":406},"Jiri Veprek",1959,"M","Dvůr Králové","CZ/C2",1483,2,{"$f":"RANK(G412,G:G)","v":406},{"$f":"IF(ISERROR(VLOOKUP(B412,'N PMČR 2026'!B:G,6,0)),\"-\",VLOOKUP(B412,'N PMČR 2026'!B:G,6,0))","v":"-"},"","",null,null,{"$f":"IF(ISERROR(VLOOKUP(B412,'Zebrik W'!$B$7:$N$1000,13,0)),\"\",IF(VLOOKUP(B412,'Zebrik W'!$B$7:$N$1000,13,0)=0,\"--\",VLOOKUP(B412,'Zebrik W'!$B$7:$N$1000,13,0)))","v":""}]
[{"$f":"RANK(G413,G:G)","v":407},"Vladimir Spilka",1940,"M","Hranice","CZ/M",1426,1,{"$f":"RANK(G413,G:G)","v":407},{"$f":"IF(ISERROR(VLOOKUP(B413,'N PMČR 2026'!B:G,6,0)),\"-\",VLOOKUP(B413,'N PMČR 2026'!B:G,6,0))","v":"-"},"","",null,null,{"$f":"IF(ISERROR(VLOOKUP(B413,'Zebrik W'!$B$7:$N$1000,13,0)),\"\",IF(VLOOKUP(B413,'Zebrik W'!$B$7:$N$1000,13,0)=0,\"--\",VLOOKUP(B413,'Zebrik W'!$B$7:$N$1000,13,0)))","v":""}]
[{"$f":"RANK(G414,G:G)","v":408},"Miroslav Odlozilik",1973,"M","Zbraslavice","CZ/C1",1370,1,{"$f":"RANK(G414,G:G)","v":408},{"$f":"IF(ISERROR(VLOOKUP(B414,'N PMČR 2026'!B:G,6,0)),\"-\",VLOOKUP(B414,'N PMČR 2026'!B:G,6,0))","v":"-"},"","",null,null,{"$f":"IF(ISERROR(VLOOKUP(B414,'Zebrik W'!$B$7:$N$1000,13,0)),\"\",IF(VLOOKUP(B414,'Zebrik W'!$B$7:$N$1000,13,0)=0,\"--\",VLOOKUP(B414,'Zebrik W'!$B$7:$N$1000,13,0)))","v":""}]
[{"$f":"RANK(G415,G:G)","v":409},"Jan Hirs",1975,"M","Strakonice","CZ/C1",1343,1,{"$f":"RANK(G415,G:G)","v":409},{"$f":"IF(ISERROR(VLOOKUP(B415,'N PMČR 2026'!B:G,6,0)),\"-\",VLOOKUP(B415,'N PMČR 2026'!B:G,6,0))","v":64},"","",null,null,{"$f":"IF(ISERROR(VLOOKUP(B415,'Zebrik W'!$B$7:$N$1000,13,0)),\"\",IF(VLOOKUP(B415,'Zebrik W'!$B$7:$N$1000,13,0)=0,\"--\",VLOOKUP(B415,'Zebrik W'!$B$7:$N$1000,13,0)))","v":""}]
[{"$f":"RANK(G416,G:G)","v":410},"Karel Lang",1967,"M","Medlánky","CZ/M",1265,1,{"$f":"RANK(G416,G:G)","v":410},{"$f":"IF(ISERROR(VLOOKUP(B416,'N PMČR 2026'!B:G,6,0)),\"-\",VLOOKUP(B416,'N PMČR 2026'!B:G,6,0))","v":"-"},"","",null,null,{"$f":"IF(ISERROR(VLOOKUP(B416,'Zebrik W'!$B$7:$N$1000,13,0)),\"\",IF(VLOOKUP(B416,'Zebrik W'!$B$7:$N$1000,13,0)=0,\"--\",VLOOKUP(B416,'Zebrik W'!$B$7:$N$1000,13,0)))","v":""}]
[{"$f":"RANK(G417,G:G)","v":411},"Frantisek Kriz",1961,"M","Toužim","CZ/C1",1221,1,{"$f":"RANK(G417,G:G)","v":411},{"$f":"IF(ISERROR(VLOOKUP(B417,'N PMČR 2026'!B:G,6,0)),\"-\",VLOOKUP(B417,'N PMČR 2026'!B:G,6,0))","v":"-"},"","",null,null,{"$f":"IF(ISERROR(VLOOKUP(B417,'Zebrik W'!$B$7:$N$1000,13,0)),\"\",IF(VLOOKUP(B417,'Zebrik W'!$B$7:$N$1000,13,0)=0,\"--\",VLOOKUP(B417,'Zebrik W'!$B$7:$N$1000,13,0)))","v":""}]
[{"$f":"RANK(G418,G:G)","v":412},"Petr Cernicky",1974,"M","Toužim","CZ/C1",1179,1,{"$f":"RANK(G418,G:G)","v":412},{"$f":"IF(ISERROR(VLOOKUP(B418,'N PMČR 2026'!B:G,6,0)),\"-\",VLOOKUP(B418,'N PMČR 2026'!B:G,6,0))","v":"-"},"","",null,null,{"$f":"IF(ISERROR(VLOOKUP(B418,'Zebrik W'!$B$7:$N$1000,13,0)),\"\",IF(VLOOKUP(B418,'Zebrik W'!$B$7:$N$1000,13,0)=0,\"--\",VLOOKUP(B418,'Zebrik W'!$B$7:$N$1000,13,0)))","v":""}]
[{"$f":"RANK(G419,G:G)","v":413},"Jan Hlavacek 04",2004,"M","Hosín","CZ/C1",1156,1,{"$f":"RANK(G419,G:G)","v":413},{"$f":"IF(ISERROR(VLOOKUP(B419,'N PMČR 2026'!B:G,6,0)),\"-\",VLOOKUP(B419,'N PMČR 2026'!B:G,6,0))","v":"-"},"Junior v roce 2026","Junior v roce 2027",null,null,{"$f":"IF(ISERROR(VLOOKUP(B419,'Zebrik W'!$B$7:$N$1000,13,0)),\"\",IF(VLOOKUP(B419,'Zebrik W'!$B$7:$N$1000,13,0)=0,\"--\",VLOOKUP(B419,'Zebrik W'!$B$7:$N$1000,13,0)))","v":""}]
[{"$f":"RANK(G420,G:G)","v":414},"Jan Mrozek",1982,"M","Frýdlant","CZ/M",1029,1,{"$f":"RANK(G420,G:G)","v":414},{"$f":"IF(ISERROR(VLOOKUP(B420,'N PMČR 2026'!B:G,6,0)),\"-\",VLOOKUP(B420,'N PMČR 2026'!B:G,6,0))","v":"-"},"","",null,null,{"$f":"IF(ISERROR(VLOOKUP(B420,'Zebrik W'!$B$7:$N$1000,13,0)),\"\",IF(VLOOKUP(B420,'Zebrik W'!$B$7:$N$1000,13,0)=0,\"--\",VLOOKUP(B420,'Zebrik W'!$B$7:$N$1000,13,0)))","v":""}]
[{"$f":"RANK(G421,G:G)","v":415},"Radek Jaksa",1979,"M","Prostějov","CZ/M",1006,1,{"$f":"RANK(G421,G:G)","v":415},{"$f":"IF(ISERROR(VLOOKUP(B421,'N PMČR 2026'!B:G,6,0)),\"-\",VLOOKUP(B421,'N PMČR 2026'!B:G,6,0))","v":"-"},"","",null,null,{"$f":"IF(ISERROR(VLOOKUP(B421,'Zebrik W'!$B$7:$N$1000,13,0)),\"\",IF(VLOOKUP(B421,'Zebrik W'!$B$7:$N$1000,13,0)=0,\"--\",VLOOKUP(B421,'Zebrik W'!$B$7:$N$1000,13,0)))","v":""}]
[{"$f":"RANK(G422,G:G)","v":416},"Zbynek Bican",1961,"M","Raná","CZ/C2",983,1,{"$f":"RANK(G422,G:G)","v":416},{"$f":"IF(ISERROR(VLOOKUP(B422,'N PMČR 2026'!B:G,6,0)),\"-\",VLOOKUP(B422,'N PMČR 2026'!B:G,6,0))","v":"-"},"","",null,null,{"$f":"IF(ISERROR(VLOOKUP(B422,'Zebrik W'!$B$7:$N$1000,13,0)),\"\",IF(VLOOKUP(B422,'Zebrik W'!$B$7:$N$1000,13,0)=0,\"--\",VLOOKUP(B422,'Zebrik W'!$B$7:$N$1000,13,0)))","v":""}]
[{"$f":"RANK(G423,G:G)","v":417},"Marek Hlavaty",1974,"M","Liberec","CZ/C2",958,1,{"$f":"RANK(G423,G:G)","v":417},{"$f":"IF(ISERROR(VLOOKUP(B423,'N PMČR 2026'!B:G,6,0)),\"-\",VLOOKUP(B423,'N PMČR 2026'!B:G,6,0))","v":"-"},"","",null,null,{"$f":"IF(ISERROR(VLOOKUP(B423,'Zebrik W'!$B$7:$N$1000,13,0)),\"\",IF(VLOOKUP(B423,'Zebrik W'!$B$7:$N$1000,13,0)=0,\"--\",VLOOKUP(B423,'Zebrik W'!$B$7:$N$1000,13,0)))","v":""}]
[{"$f":"RANK(G424,G:G)","v":418},"Tomas Vaclavik",1974,"M","Hosín","CZ/C1",874,1,{"$f":"RANK(G424,G:G)","v":418},{"$f":"IF(ISERROR(VLOOKUP(B424,'N PMČR 2026'!B:G,6,0)),\"-\",VLOOKUP(B424,'N PMČR 2026'!B:G,6,0))","v":"-"},"","",null,null,{"$f":"IF(ISERROR(VLOOKUP(B424,'Zebrik W'!$B$7:$N$1000,13,0)),\"\",IF(VLOOKUP(B424,'Zebrik W'!$B$7:$N$1000,13,0)=0,\"--\",VLOOKUP(B424,'Zebrik W'!$B$7:$N$1000,13,0)))","v":""}]
[{"$f":"RANK(G425,G:G)","v":419},"Roman Bradac",1974,"M","Rakovník","CZ/C1",800,1,{"$f":"RANK(G425,G:G)","v":419},{"$f":"IF(ISERROR(VLOOKUP(B425,'N PMČR 2026'!B:G,6,0)),\"-\",VLOOKUP(B425,'N PMČR 2026'!B:G,6,0))","v":"-"},"","",null,null,{"$f":"IF(ISERROR(VLOOKUP(B425,'Zebrik W'!$B$7:$N$1000,13,0)),\"\",IF(VLOOKUP(B425,'Zebrik W'!$B$7:$N$1000,13,0)=0,\"--\",VLOOKUP(B425,'Zebrik W'!$B$7:$N$1000,13,0)))","v":""}]
[{"$f":"RANK(G426,G:G)","v":420},"Stanislav Vrabec",1975,"M","Česká Lípa","CZ/C2",722,1,{"$f":"RANK(G426,G:G)","v":420},{"$f":"IF(ISERROR(VLOOKUP(B426,'N PMČR 2026'!B:G,6,0)),\"-\",VLOOKUP(B426,'N PMČR 2026'!B:G,6,0))","v":"-"},"","",null,null,{"$f":"IF(ISERROR(VLOOKUP(B426,'Zebrik W'!$B$7:$N$1000,13,0)),\"\",IF(VLOOKUP(B426,'Zebrik W'!$B$7:$N$1000,13,0)=0,\"--\",VLOOKUP(B426,'Zebrik W'!$B$7:$N$1000,13,0)))","v":""}]
[{"$f":"RANK(G427,G:G)","v":421},"Frantisek Brozman",1960,"M","Tachov","CZ/C1",606,1,{"$f":"RANK(G427,G:G)","v":421},{"$f":"IF(ISERROR(VLOOKUP(B427,'N PMČR 2026'!B:G,6,0)),\"-\",VLOOKUP(B427,'N PMČR 2026'!B:G,6,0))","v":"-"},"","",null,null,{"$f":"IF(ISERROR(VLOOKUP(B427,'Zebrik W'!$B$7:$N$1000,13,0)),\"\",IF(VLOOKUP(B427,'Zebrik W'!$B$7:$N$1000,13,0)=0,\"--\",VLOOKUP(B427,'Zebrik W'!$B$7:$N$1000,13,0)))","v":""}]
[{"$f":"RANK(G428,G:G)","v":422},"Pavel Melichar",1983,"M","Vlašim","CZ/C1",584,1,{"$f":"RANK(G428,G:G)","v":422},{"$f":"IF(ISERROR(VLOOKUP(B428,'N PMČR 2026'!B:G,6,0)),\"-\",VLOOKUP(B428,'N PMČR 2026'!B:G,6,0))","v":"-"},"","",null,null,{"$f":"IF(ISERROR(VLOOKUP(B428,'Zebrik W'!$B$7:$N$1000,13,0)),\"\",IF(VLOOKUP(B428,'Zebrik W'!$B$7:$N$1000,13,0)=0,\"--\",VLOOKUP(B428,'Zebrik W'!$B$7:$N$1000,13,0)))","v":""}]
[{"$f":"RANK(G429,G:G)","v":423},"Lubos Stiburek",1954,"M","Letkov","CZ/C1",507,1,{"$f":"RANK(G429,G:G)","v":423},{"$f":"IF(ISERROR(VLOOKUP(B429,'N PMČR 2026'!B:G,6,0)),\"-\",VLOOKUP(B429,'N PMČR 2026'!B:G,6,0))","v":"-"},"","",null,null,{"$f":"IF(ISERROR(VLOOKUP(B429,'Zebrik W'!$B$7:$N$1000,13,0)),\"\",IF(VLOOKUP(B429,'Zebrik W'!$B$7:$N$1000,13,0)=0,\"--\",VLOOKUP(B429,'Zebrik W'!$B$7:$N$1000,13,0)))","v":""}]
[{"$f":"RANK(G430,G:G)","v":424},"Pavel Handl",1971,"M","Kroměříž","CZ/M",504,1,{"$f":"RANK(G430,G:G)","v":424},{"$f":"IF(ISERROR(VLOOKUP(B430,'N PMČR 2026'!B:G,6,0)),\"-\",VLOOKUP(B430,'N PMČR 2026'!B:G,6,0))","v":"-"},"","",null,null,{"$f":"IF(ISERROR(VLOOKUP(B430,'Zebrik W'!$B$7:$N$1000,13,0)),\"\",IF(VLOOKUP(B430,'Zebrik W'!$B$7:$N$1000,13,0)=0,\"--\",VLOOKUP(B430,'Zebrik W'!$B$7:$N$1000,13,0)))","v":""}]
[{"$f":"RANK(G431,G:G)","v":425},"Karel Mrazek",1954,"M","Slaný","CZ/C1",463,1,{"$f":"RANK(G431,G:G)","v":425},{"$f":"IF(ISERROR(VLOOKUP(B431,'N PMČR 2026'!B:G,6,0)),\"-\",VLOOKUP(B431,'N PMČR 2026'!B:G,6,0))","v":"-"},"","",null,null,{"$f":"IF(ISERROR(VLOOKUP(B431,'Zebrik W'!$B$7:$N$1000,13,0)),\"\",IF(VLOOKUP(B431,'Zebrik W'!$B$7:$N$1000,13,0)=0,\"--\",VLOOKUP(B431,'Zebrik W'!$B$7:$N$1000,13,0)))","v":""}]
[{"$f":"RANK(G432,G:G)","v":426},"Jiri Pixa",1968,"M","Slaný","CZ/C1",456,1,{"$f":"RANK(G432,G:G)","v":426},{"$f":"IF(ISERROR(VLOOKUP(B432,'N PMČR 2026'!B:G,6,0)),\"-\",VLOOKUP(B432,'N PMČR 2026'!B:G,6,0))","v":"-"},"","",null,null,{"$f":"IF(ISERROR(VLOOKUP(B432,'Zebrik W'!$B$7:$N$1000,13,0)),\"\",IF(VLOOKUP(B432,'Zebrik W'!$B$7:$N$1000,13,0)=0,\"--\",VLOOKUP(B432,'Zebrik W'!$B$7:$N$1000,13,0)))","v":""}]
[{"$f":"RANK(G433,G:G)","v":427},"Ales Valenta",1973,"M","Hořice","CZ/C2",376,1,{"$f":"RANK(G433,G:G)","v":427},{"$f":"IF(ISERROR(VLOOKUP(B433,'N PMČR 2026'!B:G,6,0)),\"-\",VLOOKUP(B433,'N PMČR 2026'!B:G,6,0))","v":"-"},"","",null,null,{"$f":"IF(ISERROR(VLOOKUP(B433,'Zebrik W'!$B$7:$N$1000,13,0)),\"\",IF(VLOOKUP(B433,'Zebrik W'!$B$7:$N$1000,13,0)=0,\"--\",VLOOKUP(B433,'Zebrik W'!$B$7:$N$1000,13,0)))","v":""}]
[{"$f":"RANK(G434,G:G)","v":428},"Ales Sokolik",1973,"M","Strakonice","CZ/C1",309,1,{"$f":"RANK(G434,G:G)","v":428},{"$f":"IF(ISERROR(VLOOKUP(B434,'N PMČR 2026'!B:G,6,0)),\"-\",VLOOKUP(B434,'N PMČR 2026'!B:G,6,0))","v":65},"","",null,null,{"$f":"IF(ISERROR(VLOOKUP(B434,'Zebrik W'!$B$7:$N$1000,13,0)),\"\",IF(VLOOKUP(B434,'Zebrik W'!$B$7:$N$1000,13,0)=0,\"--\",VLOOKUP(B434,'Zebrik W'!$B$7:$N$1000,13,0)))","v":""}]
[{"$f":"RANK(G435,G:G)","v":429},"Ondrej Dostal",0,"M",0,"CZ",294,1,{"$f":"RANK(G435,G:G)","v":429},{"$f":"IF(ISERROR(VLOOKUP(B435,'N PMČR 2026'!B:G,6,0)),\"-\",VLOOKUP(B435,'N PMČR 2026'!B:G,6,0))","v":"-"},"","",null,null,{"$f":"IF(ISERROR(VLOOKUP(B435,'Zebrik W'!$B$7:$N$1000,13,0)),\"\",IF(VLOOKUP(B435,'Zebrik W'!$B$7:$N$1000,13,0)=0,\"--\",VLOOKUP(B435,'Zebrik W'!$B$7:$N$1000,13,0)))","v":""}]
[{"$f":"RANK(G436,G:G)","v":430},"Jan Hrbatsch",1989,"M","Hodkovice","CZ/C2",142,1,{"$f":"RANK(G436,G:G)","v":430},{"$f":"IF(ISERROR(VLOOKUP(B436,'N PMČR 2026'!B:G,6,0)),\"-\",VLOOKUP(B436,'N PMČR 2026'!B:G,6,0))","v":"-"},"","",null,null,{"$f":"IF(ISERROR(VLOOKUP(B436,'Zebrik W'!$B$7:$N$1000,13,0)),\"\",IF(VLOOKUP(B436,'Zebrik W'!$B$7:$N$1000,13,0)=0,\"--\",VLOOKUP(B436,'Zebrik W'!$B$7:$N$1000,13,0)))","v":""}]
[{"$f":"RANK(G437,G:G)","v":431},"Ludek Mikl",1963,"M","Šumperk","CZ/M",132,1,{"$f":"RANK(G437,G:G)","v":431},{"$f":"IF(ISERROR(VLOOKUP(B437,'N PMČR 2026'!B:G,6,0)),\"-\",VLOOKUP(B437,'N PMČR 2026'!B:G,6,0))","v":"-"},"","",null,null,{"$f":"IF(ISERROR(VLOOKUP(B437,'Zebrik W'!$B$7:$N$1000,13,0)),\"\",IF(VLOOKUP(B437,'Zebrik W'!$B$7:$N$1000,13,0)=0,\"--\",VLOOKUP(B437,'Zebrik W'!$B$7:$N$1000,13,0)))","v":""}]
[{"$f":"RANK(G438,G:G)","v":432},"Jiri Tomicek",1947,"M","Dvůr Králové","CZ/C2",109,1,{"$f":"RANK(G438,G:G)","v":432},{"$f":"IF(ISERROR(VLOOKUP(B438,'N PMČR 2026'!B:G,6,0)),\"-\",VLOOKUP(B438,'N PMČR 2026'!B:G,6,0))","v":"-"},"","",null,null,{"$f":"IF(ISERROR(VLOOKUP(B438,'Zebrik W'!$B$7:$N$1000,13,0)),\"\",IF(VLOOKUP(B438,'Zebrik W'!$B$7:$N$1000,13,0)=0,\"--\",VLOOKUP(B438,'Zebrik W'!$B$7:$N$1000,13,0)))","v":""}]
[{"$f":"RANK(G439,G:G)","v":433},"Josef Plechac",1942,"M","Hronov","CZ/C2",62,2,{"$f":"RANK(G439,G:G)","v":433},{"$f":"IF(ISERROR(VLOOKUP(B439,'N PMČR 2026'!B:G,6,0)),\"-\",VLOOKUP(B439,'N PMČR 2026'!B:G,6,0))","v":"-"},"","",null,null,{"$f":"IF(ISERROR(VLOOKUP(B439,'Zebrik W'!$B$7:$N$1000,13,0)),\"\",IF(VLOOKUP(B439,'Zebrik W'!$B$7:$N$1000,13,0)=0,\"--\",VLOOKUP(B439,'Zebrik W'!$B$7:$N$1000,13,0)))","v":""}]
[null,null,null,null,null,null,null,null,null,null,null,null,null,null,{"$f":"IF(ISERROR(VLOOKUP(B440,'Zebrik W'!$B$7:$N$1000,11,0)),\"\",IF(VLOOKUP(B440,'Zebrik W'!$B$7:$N$1000,11,0)=0,\"--\",VLOOKUP(B440,'Zebrik W'!$B$7:$N$1000,11,0)))","v":""}]
[null,null,null,null,null,null,null,null,null,null,null,null,null,null,{"$f":"IF(ISERROR(VLOOKUP(B441,'Zebrik W'!$B$7:$N$1000,11,0)),\"\",IF(VLOOKUP(B441,'Zebrik W'!$B$7:$N$1000,11,0)=0,\"--\",VLOOKUP(B441,'Zebrik W'!$B$7:$N$1000,11,0)))","v":""}]
[null,null,null,null,null,null,null,null,null,null,null,null,null,null,{"$f":"IF(ISERROR(VLOOKUP(B442,'Zebrik W'!$B$7:$N$1000,11,0)),\"\",IF(VLOOKUP(B442,'Zebrik W'!$B$7:$N$1000,11,0)=0,\"--\",VLOOKUP(B442,'Zebrik W'!$B$7:$N$1000,11,0)))","v":""}]
[null,null,null,null,null,null,null,null,null,null,null,null,null,null,{"$f":"IF(ISERROR(VLOOKUP(B443,'Zebrik W'!$B$7:$N$1000,11,0)),\"\",IF(VLOOKUP(B443,'Zebrik W'!$B$7:$N$1000,11,0)=0,\"--\",VLOOKUP(B443,'Zebrik W'!$B$7:$N$1000,11,0)))","v":""}]
[null,null,null,null,null,null,null,null,null,null,null,null,null,null,{"$f":"IF(ISERROR(VLOOKUP(B444,'Zebrik W'!$B$7:$N$1000,11,0)),\"\",IF(VLOOKUP(B444,'Zebrik W'!$B$7:$N$1000,11,0)=0,\"--\",VLOOKUP(B444,'Zebrik W'!$B$7:$N$1000,11,0)))","v":""}]
[null,null,null,null,null,null,null,null,null,null,null,null,null,null,{"$f":"IF(ISERROR(VLOOKUP(B445,'Zebrik W'!$B$7:$N$1000,11,0)),\"\",IF(VLOOKUP(B445,'Zebrik W'!$B$7:$N$1000,11,0)=0,\"--\",VLOOKUP(B445,'Zebrik W'!$B$7:$N$1000,11,0)))","v":""}]
[null,null,null,null,null,null,null,null,null,null,null,null,null,null,{"$f":"IF(ISERROR(VLOOKUP(B446,'Zebrik W'!$B$7:$N$1000,11,0)),\"\",IF(VLOOKUP(B446,'Zebrik W'!$B$7:$N$1000,11,0)=0,\"--\",VLOOKUP(B446,'Zebrik W'!$B$7:$N$1000,11,0)))","v":""}]
[null,null,null,null,null,null,null,null,null,null,null,null,null,null,{"$f":"IF(ISERROR(VLOOKUP(B447,'Zebrik W'!$B$7:$N$1000,11,0)),\"\",IF(VLOOKUP(B447,'Zebrik W'!$B$7:$N$1000,11,0)=0,\"--\",VLOOKUP(B447,'Zebrik W'!$B$7:$N$1000,11,0)))","v":""}]
[null,null,null,null,null,null,null,null,null,null,null,null,null,null,{"$f":"IF(ISERROR(VLOOKUP(B448,'Zebrik W'!$B$7:$N$1000,11,0)),\"\",IF(VLOOKUP(B448,'Zebrik W'!$B$7:$N$1000,11,0)=0,\"--\",VLOOKUP(B448,'Zebrik W'!$B$7:$N$1000,11,0)))","v":""}]
[null,null,null,null,null,null,null,null,null,null,null,null,null,null,{"$f":"IF(ISERROR(VLOOKUP(B449,'Zebrik W'!$B$7:$N$1000,11,0)),\"\",IF(VLOOKUP(B449,'Zebrik W'!$B$7:$N$1000,11,0)=0,\"--\",VLOOKUP(B449,'Zebrik W'!$B$7:$N$1000,11,0)))","v":""}]
[null,null,null,null,null,null,null,null,null,null,null,null,null,null,{"$f":"IF(ISERROR(VLOOKUP(B450,'Zebrik W'!$B$7:$N$1000,11,0)),\"\",IF(VLOOKUP(B450,'Zebrik W'!$B$7:$N$1000,11,0)=0,\"--\",VLOOKUP(B450,'Zebrik W'!$B$7:$N$1000,11,0)))","v":""}]
[null,null,null,null,null,null,null,null,null,null,null,null,null,null,{"$f":"IF(ISERROR(VLOOKUP(B451,'Zebrik W'!$B$7:$N$1000,11,0)),\"\",IF(VLOOKUP(B451,'Zebrik W'!$B$7:$N$1000,11,0)=0,\"--\",VLOOKUP(B451,'Zebrik W'!$B$7:$N$1000,11,0)))","v":""}]
[null,null,null,null,null,null,null,null,null,null,null,null,null,null,{"$f":"IF(ISERROR(VLOOKUP(B452,'Zebrik W'!$B$7:$N$1000,11,0)),\"\",IF(VLOOKUP(B452,'Zebrik W'!$B$7:$N$1000,11,0)=0,\"--\",VLOOKUP(B452,'Zebrik W'!$B$7:$N$1000,11,0)))","v":""}]
[null,null,null,null,null,null,null,null,null,null,null,null,null,null,{"$f":"IF(ISERROR(VLOOKUP(B453,'Zebrik W'!$B$7:$N$1000,11,0)),\"\",IF(VLOOKUP(B453,'Zebrik W'!$B$7:$N$1000,11,0)=0,\"--\",VLOOKUP(B453,'Zebrik W'!$B$7:$N$1000,11,0)))","v":""}]
[null,null,null,null,null,null,null,null,null,null,null,null,null,null,{"$f":"IF(ISERROR(VLOOKUP(B454,'Zebrik W'!$B$7:$N$1000,11,0)),\"\",IF(VLOOKUP(B454,'Zebrik W'!$B$7:$N$1000,11,0)=0,\"--\",VLOOKUP(B454,'Zebrik W'!$B$7:$N$1000,11,0)))","v":""}]
[null,null,null,null,null,null,null,null,null,null,null,null,null,null,{"$f":"IF(ISERROR(VLOOKUP(B455,'Zebrik W'!$B$7:$N$1000,11,0)),\"\",IF(VLOOKUP(B455,'Zebrik W'!$B$7:$N$1000,11,0)=0,\"--\",VLOOKUP(B455,'Zebrik W'!$B$7:$N$1000,11,0)))","v":""}]
[null,null,null,null,null,null,null,null,null,null,null,null,null,null,{"$f":"IF(ISERROR(VLOOKUP(B456,'Zebrik W'!$B$7:$N$1000,11,0)),\"\",IF(VLOOKUP(B456,'Zebrik W'!$B$7:$N$1000,11,0)=0,\"--\",VLOOKUP(B456,'Zebrik W'!$B$7:$N$1000,11,0)))","v":""}]
[null,null,null,null,null,null,null,null,null,null,null,null,null,null,{"$f":"IF(ISERROR(VLOOKUP(B457,'Zebrik W'!$B$7:$N$1000,11,0)),\"\",IF(VLOOKUP(B457,'Zebrik W'!$B$7:$N$1000,11,0)=0,\"--\",VLOOKUP(B457,'Zebrik W'!$B$7:$N$1000,11,0)))","v":""}]
[null,null,null,null,null,null,null,null,null,null,null,null,null,null,{"$f":"IF(ISERROR(VLOOKUP(B458,'Zebrik W'!$B$7:$N$1000,11,0)),\"\",IF(VLOOKUP(B458,'Zebrik W'!$B$7:$N$1000,11,0)=0,\"--\",VLOOKUP(B458,'Zebrik W'!$B$7:$N$1000,11,0)))","v":""}]
[null,null,null,null,null,null,null,null,null,null,null,null,null,null,{"$f":"IF(ISERROR(VLOOKUP(B459,'Zebrik W'!$B$7:$N$1000,11,0)),\"\",IF(VLOOKUP(B459,'Zebrik W'!$B$7:$N$1000,11,0)=0,\"--\",VLOOKUP(B459,'Zebrik W'!$B$7:$N$1000,11,0)))","v":""}]
[null,null,null,null,null,null,null,null,null,null,null,null,null,null,{"$f":"IF(ISERROR(VLOOKUP(B460,'Zebrik W'!$B$7:$N$1000,11,0)),\"\",IF(VLOOKUP(B460,'Zebrik W'!$B$7:$N$1000,11,0)=0,\"--\",VLOOKUP(B460,'Zebrik W'!$B$7:$N$1000,11,0)))","v":""}]
[null,null,null,null,null,null,null,null,null,null,null,null,null,null,{"$f":"IF(ISERROR(VLOOKUP(B461,'Zebrik W'!$B$7:$N$1000,11,0)),\"\",IF(VLOOKUP(B461,'Zebrik W'!$B$7:$N$1000,11,0)=0,\"--\",VLOOKUP(B461,'Zebrik W'!$B$7:$N$1000,11,0)))","v":""}]
[null,null,null,null,null,null,null,null,null,null,null,null,null,null,{"$f":"IF(ISERROR(VLOOKUP(B462,'Zebrik W'!$B$7:$N$1000,11,0)),\"\",IF(VLOOKUP(B462,'Zebrik W'!$B$7:$N$1000,11,0)=0,\"--\",VLOOKUP(B462,'Zebrik W'!$B$7:$N$1000,11,0)))","v":""}]
[null,null,null,null,null,null,null,null,null,null,null,null,null,null,{"$f":"IF(ISERROR(VLOOKUP(B463,'Zebrik W'!$B$7:$N$1000,11,0)),\"\",IF(VLOOKUP(B463,'Zebrik W'!$B$7:$N$1000,11,0)=0,\"--\",VLOOKUP(B463,'Zebrik W'!$B$7:$N$1000,11,0)))","v":""}]
[null,null,null,null,null,null,null,null,null,null,null,null,null,null,{"$f":"IF(ISERROR(VLOOKUP(B464,'Zebrik W'!$B$7:$N$1000,11,0)),\"\",IF(VLOOKUP(B464,'Zebrik W'!$B$7:$N$1000,11,0)=0,\"--\",VLOOKUP(B464,'Zebrik W'!$B$7:$N$1000,11,0)))","v":""}]
[null,null,null,null,null,null,null,null,null,null,null,null,null,null,{"$f":"IF(ISERROR(VLOOKUP(B465,'Zebrik W'!$B$7:$N$1000,11,0)),\"\",IF(VLOOKUP(B465,'Zebrik W'!$B$7:$N$1000,11,0)=0,\"--\",VLOOKUP(B465,'Zebrik W'!$B$7:$N$1000,11,0)))","v":""}]
[null,null,null,null,null,null,null,null,null,null,null,null,null,null,{"$f":"IF(ISERROR(VLOOKUP(B466,'Zebrik W'!$B$7:$N$1000,11,0)),\"\",IF(VLOOKUP(B466,'Zebrik W'!$B$7:$N$1000,11,0)=0,\"--\",VLOOKUP(B466,'Zebrik W'!$B$7:$N$1000,11,0)))","v":""}]
[null,null,null,null,null,null,null,null,null,null,null,null,null,null,{"$f":"IF(ISERROR(VLOOKUP(B467,'Zebrik W'!$B$7:$N$1000,11,0)),\"\",IF(VLOOKUP(B467,'Zebrik W'!$B$7:$N$1000,11,0)=0,\"--\",VLOOKUP(B467,'Zebrik W'!$B$7:$N$1000,11,0)))","v":""}]
[null,null,null,null,null,null,null,null,null,null,null,null,null,null,{"$f":"IF(ISERROR(VLOOKUP(B468,'Zebrik W'!$B$7:$N$1000,11,0)),\"\",IF(VLOOKUP(B468,'Zebrik W'!$B$7:$N$1000,11,0)=0,\"--\",VLOOKUP(B468,'Zebrik W'!$B$7:$N$1000,11,0)))","v":""}]
[null,null,null,null,null,null,null,null,null,null,null,null,null,null,{"$f":"IF(ISERROR(VLOOKUP(B469,'Zebrik W'!$B$7:$N$1000,11,0)),\"\",IF(VLOOKUP(B469,'Zebrik W'!$B$7:$N$1000,11,0)=0,\"--\",VLOOKUP(B469,'Zebrik W'!$B$7:$N$1000,11,0)))","v":""}]
[null,null,null,null,null,null,null,null,null,null,null,null,null,null,{"$f":"IF(ISERROR(VLOOKUP(B470,'Zebrik W'!$B$7:$N$1000,11,0)),\"\",IF(VLOOKUP(B470,'Zebrik W'!$B$7:$N$1000,11,0)=0,\"--\",VLOOKUP(B470,'Zebrik W'!$B$7:$N$1000,11,0)))","v":""}]
[null,null,null,null,null,null,null,null,null,null,null,null,null,null,{"$f":"IF(ISERROR(VLOOKUP(B471,'Zebrik W'!$B$7:$N$1000,11,0)),\"\",IF(VLOOKUP(B471,'Zebrik W'!$B$7:$N$1000,11,0)=0,\"--\",VLOOKUP(B471,'Zebrik W'!$B$7:$N$1000,11,0)))","v":""}]
[null,null,null,null,null,null,null,null,null,null,null,null,null,null,{"$f":"IF(ISERROR(VLOOKUP(B472,'Zebrik W'!$B$7:$N$1000,11,0)),\"\",IF(VLOOKUP(B472,'Zebrik W'!$B$7:$N$1000,11,0)=0,\"--\",VLOOKUP(B472,'Zebrik W'!$B$7:$N$1000,11,0)))","v":""}]
[null,null,null,null,null,null,null,null,null,null,null,null,null,null,{"$f":"IF(ISERROR(VLOOKUP(B473,'Zebrik W'!$B$7:$N$1000,11,0)),\"\",IF(VLOOKUP(B473,'Zebrik W'!$B$7:$N$1000,11,0)=0,\"--\",VLOOKUP(B473,'Zebrik W'!$B$7:$N$1000,11,0)))","v":""}]
[null,null,null,null,null,null,null,null,null,null,null,null,null,null,{"$f":"IF(ISERROR(VLOOKUP(B474,'Zebrik W'!$B$7:$N$1000,11,0)),\"\",IF(VLOOKUP(B474,'Zebrik W'!$B$7:$N$1000,11,0)=0,\"--\",VLOOKUP(B474,'Zebrik W'!$B$7:$N$1000,11,0)))","v":""}]
[null,null,null,null,null,null,null,null,null,null,null,null,null,null,{"$f":"IF(ISERROR(VLOOKUP(B475,'Zebrik W'!$B$7:$N$1000,11,0)),\"\",IF(VLOOKUP(B475,'Zebrik W'!$B$7:$N$1000,11,0)=0,\"--\",VLOOKUP(B475,'Zebrik W'!$B$7:$N$1000,11,0)))","v":""}]
[null,null,null,null,null,null,null,null,null,null,null,null,null,null,{"$f":"IF(ISERROR(VLOOKUP(B476,'Zebrik W'!$B$7:$N$1000,11,0)),\"\",IF(VLOOKUP(B476,'Zebrik W'!$B$7:$N$1000,11,0)=0,\"--\",VLOOKUP(B476,'Zebrik W'!$B$7:$N$1000,11,0)))","v":""}]
[null,null,null,null,null,null,null,null,null,null,null,null,null,null,{"$f":"IF(ISERROR(VLOOKUP(B477,'Zebrik W'!$B$7:$N$1000,11,0)),\"\",IF(VLOOKUP(B477,'Zebrik W'!$B$7:$N$1000,11,0)=0,\"--\",VLOOKUP(B477,'Zebrik W'!$B$7:$N$1000,11,0)))","v":""}]
[null,null,null,null,null,null,null,null,null,null,null,null,null,null,{"$f":"IF(ISERROR(VLOOKUP(B478,'Zebrik W'!$B$7:$N$1000,11,0)),\"\",IF(VLOOKUP(B478,'Zebrik W'!$B$7:$N$1000,11,0)=0,\"--\",VLOOKUP(B478,'Zebrik W'!$B$7:$N$1000,11,0)))","v":""}]
[null,null,null,null,null,null,null,null,null,null,null,null,null,null,{"$f":"IF(ISERROR(VLOOKUP(B479,'Zebrik W'!$B$7:$N$1000,11,0)),\"\",IF(VLOOKUP(B479,'Zebrik W'!$B$7:$N$1000,11,0)=0,\"--\",VLOOKUP(B479,'Zebrik W'!$B$7:$N$1000,11,0)))","v":""}]
[null,null,null,null,null,null,null,null,null,null,null,null,null,null,{"$f":"IF(ISERROR(VLOOKUP(B480,'Zebrik W'!$B$7:$N$1000,11,0)),\"\",IF(VLOOKUP(B480,'Zebrik W'!$B$7:$N$1000,11,0)=0,\"--\",VLOOKUP(B480,'Zebrik W'!$B$7:$N$1000,11,0)))","v":""}]
[null,null,null,null,null,null,null,null,null,null,null,null,null,null,{"$f":"IF(ISERROR(VLOOKUP(B481,'Zebrik W'!$B$7:$N$1000,11,0)),\"\",IF(VLOOKUP(B481,'Zebrik W'!$B$7:$N$1000,11,0)=0,\"--\",VLOOKUP(B481,'Zebrik W'!$B$7:$N$1000,11,0)))","v":""}]
[null,null,null,null,null,null,null,null,null,null,null,null,null,null,{"$f":"IF(ISERROR(VLOOKUP(B482,'Zebrik W'!$B$7:$N$1000,11,0)),\"\",IF(VLOOKUP(B482,'Zebrik W'!$B$7:$N$1000,11,0)=0,\"--\",VLOOKUP(B482,'Zebrik W'!$B$7:$N$1000,11,0)))","v":""}]
[null,null,null,null,null,null,null,null,null,null,null,null,null,null,{"$f":"IF(ISERROR(VLOOKUP(B483,'Zebrik W'!$B$7:$N$1000,11,0)),\"\",IF(VLOOKUP(B483,'Zebrik W'!$B$7:$N$1000,11,0)=0,\"--\",VLOOKUP(B483,'Zebrik W'!$B$7:$N$1000,11,0)))","v":""}]
[null,null,null,null,null,null,null,null,null,null,null,null,null,null,{"$f":"IF(ISERROR(VLOOKUP(B484,'Zebrik W'!$B$7:$N$1000,11,0)),\"\",IF(VLOOKUP(B484,'Zebrik W'!$B$7:$N$1000,11,0)=0,\"--\",VLOOKUP(B484,'Zebrik W'!$B$7:$N$1000,11,0)))","v":""}]
[null,null,null,null,null,null,null,null,null,null,null,null,null,null,{"$f":"IF(ISERROR(VLOOKUP(B485,'Zebrik W'!$B$7:$N$1000,11,0)),\"\",IF(VLOOKUP(B485,'Zebrik W'!$B$7:$N$1000,11,0)=0,\"--\",VLOOKUP(B485,'Zebrik W'!$B$7:$N$1000,11,0)))","v":""}]
[null,null,null,null,null,null,null,null,null,null,null,null,null,null,{"$f":"IF(ISERROR(VLOOKUP(B486,'Zebrik W'!$B$7:$N$1000,11,0)),\"\",IF(VLOOKUP(B486,'Zebrik W'!$B$7:$N$1000,11,0)=0,\"--\",VLOOKUP(B486,'Zebrik W'!$B$7:$N$1000,11,0)))","v":""}]
[null,null,null,null,null,null,null,null,null,null,null,null,null,null,{"$f":"IF(ISERROR(VLOOKUP(B487,'Zebrik W'!$B$7:$N$1000,11,0)),\"\",IF(VLOOKUP(B487,'Zebrik W'!$B$7:$N$1000,11,0)=0,\"--\",VLOOKUP(B487,'Zebrik W'!$B$7:$N$1000,11,0)))","v":""}]
[null,null,null,null,null,null,null,null,null,null,null,null,null,null,{"$f":"IF(ISERROR(VLOOKUP(B488,'Zebrik W'!$B$7:$N$1000,11,0)),\"\",IF(VLOOKUP(B488,'Zebrik W'!$B$7:$N$1000,11,0)=0,\"--\",VLOOKUP(B488,'Zebrik W'!$B$7:$N$1000,11,0)))","v":""}]
[null,null,null,null,null,null,null,null,null,null,null,null,null,null,{"$f":"IF(ISERROR(VLOOKUP(B489,'Zebrik W'!$B$7:$N$1000,11,0)),\"\",IF(VLOOKUP(B489,'Zebrik W'!$B$7:$N$1000,11,0)=0,\"--\",VLOOKUP(B489,'Zebrik W'!$B$7:$N$1000,11,0)))","v":""}]
[null,null,null,null,null,null,null,null,null,null,null,null,null,null,{"$f":"IF(ISERROR(VLOOKUP(B490,'Zebrik W'!$B$7:$N$1000,11,0)),\"\",IF(VLOOKUP(B490,'Zebrik W'!$B$7:$N$1000,11,0)=0,\"--\",VLOOKUP(B490,'Zebrik W'!$B$7:$N$1000,11,0)))","v":""}]
[null,null,null,null,null,null,null,null,null,null,null,null,null,null,{"$f":"IF(ISERROR(VLOOKUP(B491,'Zebrik W'!$B$7:$N$1000,11,0)),\"\",IF(VLOOKUP(B491,'Zebrik W'!$B$7:$N$1000,11,0)=0,\"--\",VLOOKUP(B491,'Zebrik W'!$B$7:$N$1000,11,0)))","v":""}]
[null,null,null,null,null,null,null,null,null,null,null,null,null,null,{"$f":"IF(ISERROR(VLOOKUP(B492,'Zebrik W'!$B$7:$N$1000,11,0)),\"\",IF(VLOOKUP(B492,'Zebrik W'!$B$7:$N$1000,11,0)=0,\"--\",VLOOKUP(B492,'Zebrik W'!$B$7:$N$1000,11,0)))","v":""}]
[null,null,null,null,null,null,null,null,null,null,null,null,null,null,{"$f":"IF(ISERROR(VLOOKUP(B493,'Zebrik W'!$B$7:$N$1000,11,0)),\"\",IF(VLOOKUP(B493,'Zebrik W'!$B$7:$N$1000,11,0)=0,\"--\",VLOOKUP(B493,'Zebrik W'!$B$7:$N$1000,11,0)))","v":""}]
[null,null,null,null,null,null,null,null,null,null,null,null,null,null,{"$f":"IF(ISERROR(VLOOKUP(B494,'Zebrik W'!$B$7:$N$1000,11,0)),\"\",IF(VLOOKUP(B494,'Zebrik W'!$B$7:$N$1000,11,0)=0,\"--\",VLOOKUP(B494,'Zebrik W'!$B$7:$N$1000,11,0)))","v":""}]
[null,null,null,null,null,null,null,null,null,null,null,null,null,null,{"$f":"IF(ISERROR(VLOOKUP(B495,'Zebrik W'!$B$7:$N$1000,11,0)),\"\",IF(VLOOKUP(B495,'Zebrik W'!$B$7:$N$1000,11,0)=0,\"--\",VLOOKUP(B495,'Zebrik W'!$B$7:$N$1000,11,0)))","v":""}]
[null,null,null,null,null,null,null,null,null,null,null,null,null,null,{"$f":"IF(ISERROR(VLOOKUP(B496,'Zebrik W'!$B$7:$N$1000,11,0)),\"\",IF(VLOOKUP(B496,'Zebrik W'!$B$7:$N$1000,11,0)=0,\"--\",VLOOKUP(B496,'Zebrik W'!$B$7:$N$1000,11,0)))","v":""}]
[null,null,null,null,null,null,null,null,null,null,null,null,null,null,{"$f":"IF(ISERROR(VLOOKUP(B497,'Zebrik W'!$B$7:$N$1000,11,0)),\"\",IF(VLOOKUP(B497,'Zebrik W'!$B$7:$N$1000,11,0)=0,\"--\",VLOOKUP(B497,'Zebrik W'!$B$7:$N$1000,11,0)))","v":""}]
[null,null,null,null,null,null,null,null,null,null,null,null,null,null,{"$f":"IF(ISERROR(VLOOKUP(B498,'Zebrik W'!$B$7:$N$1000,11,0)),\"\",IF(VLOOKUP(B498,'Zebrik W'!$B$7:$N$1000,11,0)=0,\"--\",VLOOKUP(B498,'Zebrik W'!$B$7:$N$1000,11,0)))","v":""}]
[null,null,null,null,null,null,null,null,null,null,null,null,null,null,{"$f":"IF(ISERROR(VLOOKUP(B499,'Zebrik W'!$B$7:$N$1000,11,0)),\"\",IF(VLOOKUP(B499,'Zebrik W'!$B$7:$N$1000,11,0)=0,\"--\",VLOOKUP(B499,'Zebrik W'!$B$7:$N$1000,11,0)))","v":""}]
[null,null,null,null,null,null,null,null,null,null,null,null,null,null,{"$f":"IF(ISERROR(VLOOKUP(B500,'Zebrik W'!$B$7:$N$1000,11,0)),\"\",IF(VLOOKUP(B500,'Zebrik W'!$B$7:$N$1000,11,0)=0,\"--\",VLOOKUP(B500,'Zebrik W'!$B$7:$N$1000,11,0)))","v":""}]
[null,null,null,null,null,null,null,null,null,null,null,null,null,null,{"$f":"IF(ISERROR(VLOOKUP(B501,'Zebrik W'!$B$7:$N$1000,11,0)),\"\",IF(VLOOKUP(B501,'Zebrik W'!$B$7:$N$1000,11,0)=0,\"--\",VLOOKUP(B501,'Zebrik W'!$B$7:$N$1000,11,0)))","v":""}]
[null,null,null,null,null,null,null,null,null,null,null,null,null,null,{"$f":"IF(ISERROR(VLOOKUP(B502,'Zebrik W'!$B$7:$N$1000,11,0)),\"\",IF(VLOOKUP(B502,'Zebrik W'!$B$7:$N$1000,11,0)=0,\"--\",VLOOKUP(B502,'Zebrik W'!$B$7:$N$1000,11,0)))","v":""}]
[null,null,null,null,null,null,null,null,null,null,null,null,null,null,{"$f":"IF(ISERROR(VLOOKUP(B503,'Zebrik W'!$B$7:$N$1000,11,0)),\"\",IF(VLOOKUP(B503,'Zebrik W'!$B$7:$N$1000,11,0)=0,\"--\",VLOOKUP(B503,'Zebrik W'!$B$7:$N$1000,11,0)))","v":""}]
[null,null,null,null,null,null,null,null,null,null,null,null,null,null,{"$f":"IF(ISERROR(VLOOKUP(B504,'Zebrik W'!$B$7:$N$1000,11,0)),\"\",IF(VLOOKUP(B504,'Zebrik W'!$B$7:$N$1000,11,0)=0,\"--\",VLOOKUP(B504,'Zebrik W'!$B$7:$N$1000,11,0)))","v":""}]
[null,null,null,null,null,null,null,null,null,null,null,null,null,null,{"$f":"IF(ISERROR(VLOOKUP(B505,'Zebrik W'!$B$7:$N$1000,11,0)),\"\",IF(VLOOKUP(B505,'Zebrik W'!$B$7:$N$1000,11,0)=0,\"--\",VLOOKUP(B505,'Zebrik W'!$B$7:$N$1000,11,0)))","v":""}]
[null,null,null,null,null,null,null,null,null,null,null,null,null,null,{"$f":"IF(ISERROR(VLOOKUP(B506,'Zebrik W'!$B$7:$N$1000,11,0)),\"\",IF(VLOOKUP(B506,'Zebrik W'!$B$7:$N$1000,11,0)=0,\"--\",VLOOKUP(B506,'Zebrik W'!$B$7:$N$1000,11,0)))","v":""}]
[null,null,null,null,null,null,null,null,null,null,null,null,null,null,{"$f":"IF(ISERROR(VLOOKUP(B507,'Zebrik W'!$B$7:$N$1000,11,0)),\"\",IF(VLOOKUP(B507,'Zebrik W'!$B$7:$N$1000,11,0)=0,\"--\",VLOOKUP(B507,'Zebrik W'!$B$7:$N$1000,11,0)))","v":""}]
[null,null,null,null,null,null,null,null,null,null,null,null,null,null,{"$f":"IF(ISERROR(VLOOKUP(B508,'Zebrik W'!$B$7:$N$1000,11,0)),\"\",IF(VLOOKUP(B508,'Zebrik W'!$B$7:$N$1000,11,0)=0,\"--\",VLOOKUP(B508,'Zebrik W'!$B$7:$N$1000,11,0)))","v":""}]
[null,null,null,null,null,null,null,null,null,null,null,null,null,null,{"$f":"IF(ISERROR(VLOOKUP(B509,'Zebrik W'!$B$7:$N$1000,11,0)),\"\",IF(VLOOKUP(B509,'Zebrik W'!$B$7:$N$1000,11,0)=0,\"--\",VLOOKUP(B509,'Zebrik W'!$B$7:$N$1000,11,0)))","v":""}]
[null,null,null,null,null,null,null,null,null,null,null,null,null,null,{"$f":"IF(ISERROR(VLOOKUP(B510,'Zebrik W'!$B$7:$N$1000,11,0)),\"\",IF(VLOOKUP(B510,'Zebrik W'!$B$7:$N$1000,11,0)=0,\"--\",VLOOKUP(B510,'Zebrik W'!$B$7:$N$1000,11,0)))","v":""}]
[null,null,null,null,null,null,null,null,null,null,null,null,null,null,{"$f":"IF(ISERROR(VLOOKUP(B511,'Zebrik W'!$B$7:$N$1000,11,0)),\"\",IF(VLOOKUP(B511,'Zebrik W'!$B$7:$N$1000,11,0)=0,\"--\",VLOOKUP(B511,'Zebrik W'!$B$7:$N$1000,11,0)))","v":""}]
[null,null,null,null,null,null,null,null,null,null,null,null,null,null,{"$f":"IF(ISERROR(VLOOKUP(B512,'Zebrik W'!$B$7:$N$1000,11,0)),\"\",IF(VLOOKUP(B512,'Zebrik W'!$B$7:$N$1000,11,0)=0,\"--\",VLOOKUP(B512,'Zebrik W'!$B$7:$N$1000,11,0)))","v":""}]
[null,null,null,null,null,null,null,null,null,null,null,null,null,null,{"$f":"IF(ISERROR(VLOOKUP(B513,'Zebrik W'!$B$7:$N$1000,11,0)),\"\",IF(VLOOKUP(B513,'Zebrik W'!$B$7:$N$1000,11,0)=0,\"--\",VLOOKUP(B513,'Zebrik W'!$B$7:$N$1000,11,0)))","v":""}]
[null,null,null,null,null,null,null,null,null,null,null,null,null,null,{"$f":"IF(ISERROR(VLOOKUP(B514,'Zebrik W'!$B$7:$N$1000,11,0)),\"\",IF(VLOOKUP(B514,'Zebrik W'!$B$7:$N$1000,11,0)=0,\"--\",VLOOKUP(B514,'Zebrik W'!$B$7:$N$1000,11,0)))","v":""}]
[null,null,null,null,null,null,null,null,null,null,null,null,null,null,{"$f":"IF(ISERROR(VLOOKUP(B515,'Zebrik W'!$B$7:$N$1000,11,0)),\"\",IF(VLOOKUP(B515,'Zebrik W'!$B$7:$N$1000,11,0)=0,\"--\",VLOOKUP(B515,'Zebrik W'!$B$7:$N$1000,11,0)))","v":""}]
[null,null,null,null,null,null,null,null,null,null,null,null,null,null,{"$f":"IF(ISERROR(VLOOKUP(B516,'Zebrik W'!$B$7:$N$1000,11,0)),\"\",IF(VLOOKUP(B516,'Zebrik W'!$B$7:$N$1000,11,0)=0,\"--\",VLOOKUP(B516,'Zebrik W'!$B$7:$N$1000,11,0)))","v":""}]
[null,null,null,null,null,null,null,null,null,null,null,null,null,null,{"$f":"IF(ISERROR(VLOOKUP(B517,'Zebrik W'!$B$7:$N$1000,11,0)),\"\",IF(VLOOKUP(B517,'Zebrik W'!$B$7:$N$1000,11,0)=0,\"--\",VLOOKUP(B517,'Zebrik W'!$B$7:$N$1000,11,0)))","v":""}]
[null,null,null,null,null,null,null,null,null,null,null,null,null,null,{"$f":"IF(ISERROR(VLOOKUP(B518,'Zebrik W'!$B$7:$N$1000,11,0)),\"\",IF(VLOOKUP(B518,'Zebrik W'!$B$7:$N$1000,11,0)=0,\"--\",VLOOKUP(B518,'Zebrik W'!$B$7:$N$1000,11,0)))","v":""}]
[null,null,null,null,null,null,null,null,null,null,null,null,null,null,{"$f":"IF(ISERROR(VLOOKUP(B519,'Zebrik W'!$B$7:$N$1000,11,0)),\"\",IF(VLOOKUP(B519,'Zebrik W'!$B$7:$N$1000,11,0)=0,\"--\",VLOOKUP(B519,'Zebrik W'!$B$7:$N$1000,11,0)))","v":""}]
[null,null,null,null,null,null,null,null,null,null,null,null,null,null,{"$f":"IF(ISERROR(VLOOKUP(B520,'Zebrik W'!$B$7:$N$1000,11,0)),\"\",IF(VLOOKUP(B520,'Zebrik W'!$B$7:$N$1000,11,0)=0,\"--\",VLOOKUP(B520,'Zebrik W'!$B$7:$N$1000,11,0)))","v":""}]
[null,null,null,null,null,null,null,null,null,null,null,null,null,null,{"$f":"IF(ISERROR(VLOOKUP(B521,'Zebrik W'!$B$7:$N$1000,11,0)),\"\",IF(VLOOKUP(B521,'Zebrik W'!$B$7:$N$1000,11,0)=0,\"--\",VLOOKUP(B521,'Zebrik W'!$B$7:$N$1000,11,0)))","v":""}]
[null,null,null,null,null,null,null,null,null,null,null,null,null,null,{"$f":"IF(ISERROR(VLOOKUP(B522,'Zebrik W'!$B$7:$N$1000,11,0)),\"\",IF(VLOOKUP(B522,'Zebrik W'!$B$7:$N$1000,11,0)=0,\"--\",VLOOKUP(B522,'Zebrik W'!$B$7:$N$1000,11,0)))","v":""}]
[null,null,null,null,null,null,null,null,null,null,null,null,null,null,{"$f":"IF(ISERROR(VLOOKUP(B523,'Zebrik W'!$B$7:$N$1000,11,0)),\"\",IF(VLOOKUP(B523,'Zebrik W'!$B$7:$N$1000,11,0)=0,\"--\",VLOOKUP(B523,'Zebrik W'!$B$7:$N$1000,11,0)))","v":""}]
[null,null,null,null,null,null,null,null,null,null,null,null,null,null,{"$f":"IF(ISERROR(VLOOKUP(B524,'Zebrik W'!$B$7:$N$1000,11,0)),\"\",IF(VLOOKUP(B524,'Zebrik W'!$B$7:$N$1000,11,0)=0,\"--\",VLOOKUP(B524,'Zebrik W'!$B$7:$N$1000,11,0)))","v":""}]
[null,null,null,null,null,null,null,null,null,null,null,null,null,null,{"$f":"IF(ISERROR(VLOOKUP(B525,'Zebrik W'!$B$7:$N$1000,11,0)),\"\",IF(VLOOKUP(B525,'Zebrik W'!$B$7:$N$1000,11,0)=0,\"--\",VLOOKUP(B525,'Zebrik W'!$B$7:$N$1000,11,0)))","v":""}]
[null,null,null,null,null,null,null,null,null,null,null,null,null,null,{"$f":"IF(ISERROR(VLOOKUP(B526,'Zebrik W'!$B$7:$N$1000,11,0)),\"\",IF(VLOOKUP(B526,'Zebrik W'!$B$7:$N$1000,11,0)=0,\"--\",VLOOKUP(B526,'Zebrik W'!$B$7:$N$1000,11,0)))","v":""}]
[null,null,null,null,null,null,null,null,null,null,null,null,null,null,{"$f":"IF(ISERROR(VLOOKUP(B527,'Zebrik W'!$B$7:$N$1000,11,0)),\"\",IF(VLOOKUP(B527,'Zebrik W'!$B$7:$N$1000,11,0)=0,\"--\",VLOOKUP(B527,'Zebrik W'!$B$7:$N$1000,11,0)))","v":""}]
[null,null,null,null,null,null,null,null,null,null,null,null,null,null,{"$f":"IF(ISERROR(VLOOKUP(B528,'Zebrik W'!$B$7:$N$1000,11,0)),\"\",IF(VLOOKUP(B528,'Zebrik W'!$B$7:$N$1000,11,0)=0,\"--\",VLOOKUP(B528,'Zebrik W'!$B$7:$N$1000,11,0)))","v":""}]
[null,null,null,null,null,null,null,null,null,null,null,null,null,null,{"$f":"IF(ISERROR(VLOOKUP(B529,'Zebrik W'!$B$7:$N$1000,11,0)),\"\",IF(VLOOKUP(B529,'Zebrik W'!$B$7:$N$1000,11,0)=0,\"--\",VLOOKUP(B529,'Zebrik W'!$B$7:$N$1000,11,0)))","v":""}]
[null,null,null,null,null,null,null,null,null,null,null,null,null,null,{"$f":"IF(ISERROR(VLOOKUP(B530,'Zebrik W'!$B$7:$N$1000,11,0)),\"\",IF(VLOOKUP(B530,'Zebrik W'!$B$7:$N$1000,11,0)=0,\"--\",VLOOKUP(B530,'Zebrik W'!$B$7:$N$1000,11,0)))","v":""}]
[null,null,null,null,null,null,null,null,null,null,null,null,null,null,{"$f":"IF(ISERROR(VLOOKUP(B531,'Zebrik W'!$B$7:$N$1000,11,0)),\"\",IF(VLOOKUP(B531,'Zebrik W'!$B$7:$N$1000,11,0)=0,\"--\",VLOOKUP(B531,'Zebrik W'!$B$7:$N$1000,11,0)))","v":""}]
[null,null,null,null,null,null,null,null,null,null,null,null,null,null,{"$f":"IF(ISERROR(VLOOKUP(B532,'Zebrik W'!$B$7:$N$1000,11,0)),\"\",IF(VLOOKUP(B532,'Zebrik W'!$B$7:$N$1000,11,0)=0,\"--\",VLOOKUP(B532,'Zebrik W'!$B$7:$N$1000,11,0)))","v":""}]
[null,null,null,null,null,null,null,null,null,null,null,null,null,null,{"$f":"IF(ISERROR(VLOOKUP(B533,'Zebrik W'!$B$7:$N$1000,11,0)),\"\",IF(VLOOKUP(B533,'Zebrik W'!$B$7:$N$1000,11,0)=0,\"--\",VLOOKUP(B533,'Zebrik W'!$B$7:$N$1000,11,0)))","v":""}]
[null,null,null,null,null,null,null,null,null,null,null,null,null,null,{"$f":"IF(ISERROR(VLOOKUP(B534,'Zebrik W'!$B$7:$N$1000,11,0)),\"\",IF(VLOOKUP(B534,'Zebrik W'!$B$7:$N$1000,11,0)=0,\"--\",VLOOKUP(B534,'Zebrik W'!$B$7:$N$1000,11,0)))","v":""}]
[null,null,null,null,null,null,null,null,null,null,null,null,null,null,{"$f":"IF(ISERROR(VLOOKUP(B535,'Zebrik W'!$B$7:$N$1000,11,0)),\"\",IF(VLOOKUP(B535,'Zebrik W'!$B$7:$N$1000,11,0)=0,\"--\",VLOOKUP(B535,'Zebrik W'!$B$7:$N$1000,11,0)))","v":""}]
[null,null,null,null,null,null,null,null,null,null,null,null,null,null,{"$f":"IF(ISERROR(VLOOKUP(B536,'Zebrik W'!$B$7:$N$1000,11,0)),\"\",IF(VLOOKUP(B536,'Zebrik W'!$B$7:$N$1000,11,0)=0,\"--\",VLOOKUP(B536,'Zebrik W'!$B$7:$N$1000,11,0)))","v":""}]
[null,null,null,null,null,null,null,null,null,null,null,null,null,null,{"$f":"IF(ISERROR(VLOOKUP(B537,'Zebrik W'!$B$7:$N$1000,11,0)),\"\",IF(VLOOKUP(B537,'Zebrik W'!$B$7:$N$1000,11,0)=0,\"--\",VLOOKUP(B537,'Zebrik W'!$B$7:$N$1000,11,0)))","v":""}]
[null,null,null,null,null,null,null,null,null,null,null,null,null,null,{"$f":"IF(ISERROR(VLOOKUP(B538,'Zebrik W'!$B$7:$N$1000,11,0)),\"\",IF(VLOOKUP(B538,'Zebrik W'!$B$7:$N$1000,11,0)=0,\"--\",VLOOKUP(B538,'Zebrik W'!$B$7:$N$1000,11,0)))","v":""}]
[null,null,null,null,null,null,null,null,null,null,null,null,null,null,{"$f":"IF(ISERROR(VLOOKUP(B539,'Zebrik W'!$B$7:$N$1000,11,0)),\"\",IF(VLOOKUP(B539,'Zebrik W'!$B$7:$N$1000,11,0)=0,\"--\",VLOOKUP(B539,'Zebrik W'!$B$7:$N$1000,11,0)))","v":""}]
[null,null,null,null,null,null,null,null,null,null,null,null,null,null,{"$f":"IF(ISERROR(VLOOKUP(B540,'Zebrik W'!$B$7:$N$1000,11,0)),\"\",IF(VLOOKUP(B540,'Zebrik W'!$B$7:$N$1000,11,0)=0,\"--\",VLOOKUP(B540,'Zebrik W'!$B$7:$N$1000,11,0)))","v":""}]
[null,null,null,null,null,null,null,null,null,null,null,null,null,null,{"$f":"IF(ISERROR(VLOOKUP(B541,'Zebrik W'!$B$7:$N$1000,11,0)),\"\",IF(VLOOKUP(B541,'Zebrik W'!$B$7:$N$1000,11,0)=0,\"--\",VLOOKUP(B541,'Zebrik W'!$B$7:$N$1000,11,0)))","v":""}]
[null,null,null,null,null,null,null,null,null,null,null,null,null,null,{"$f":"IF(ISERROR(VLOOKUP(B542,'Zebrik W'!$B$7:$N$1000,11,0)),\"\",IF(VLOOKUP(B542,'Zebrik W'!$B$7:$N$1000,11,0)=0,\"--\",VLOOKUP(B542,'Zebrik W'!$B$7:$N$1000,11,0)))","v":""}]
[null,null,null,null,null,null,null,null,null,null,null,null,null,null,{"$f":"IF(ISERROR(VLOOKUP(B543,'Zebrik W'!$B$7:$N$1000,11,0)),\"\",IF(VLOOKUP(B543,'Zebrik W'!$B$7:$N$1000,11,0)=0,\"--\",VLOOKUP(B543,'Zebrik W'!$B$7:$N$1000,11,0)))","v":""}]
[null,null,null,null,null,null,null,null,null,null,null,null,null,null,{"$f":"IF(ISERROR(VLOOKUP(B544,'Zebrik W'!$B$7:$N$1000,11,0)),\"\",IF(VLOOKUP(B544,'Zebrik W'!$B$7:$N$1000,11,0)=0,\"--\",VLOOKUP(B544,'Zebrik W'!$B$7:$N$1000,11,0)))","v":""}]
[null,null,null,null,null,null,null,null,null,null,null,null,null,null,{"$f":"IF(ISERROR(VLOOKUP(B545,'Zebrik W'!$B$7:$N$1000,11,0)),\"\",IF(VLOOKUP(B545,'Zebrik W'!$B$7:$N$1000,11,0)=0,\"--\",VLOOKUP(B545,'Zebrik W'!$B$7:$N$1000,11,0)))","v":""}]
[null,null,null,null,null,null,null,null,null,null,null,null,null,null,{"$f":"IF(ISERROR(VLOOKUP(B546,'Zebrik W'!$B$7:$N$1000,11,0)),\"\",IF(VLOOKUP(B546,'Zebrik W'!$B$7:$N$1000,11,0)=0,\"--\",VLOOKUP(B546,'Zebrik W'!$B$7:$N$1000,11,0)))","v":""}]
[null,null,null,null,null,null,null,null,null,null,null,null,null,null,{"$f":"IF(ISERROR(VLOOKUP(B547,'Zebrik W'!$B$7:$N$1000,11,0)),\"\",IF(VLOOKUP(B547,'Zebrik W'!$B$7:$N$1000,11,0)=0,\"--\",VLOOKUP(B547,'Zebrik W'!$B$7:$N$1000,11,0)))","v":""}]
[null,null,null,null,null,null,null,null,null,null,null,null,null,null,{"$f":"IF(ISERROR(VLOOKUP(B548,'Zebrik W'!$B$7:$N$1000,11,0)),\"\",IF(VLOOKUP(B548,'Zebrik W'!$B$7:$N$1000,11,0)=0,\"--\",VLOOKUP(B548,'Zebrik W'!$B$7:$N$1000,11,0)))","v":""}]
[null,null,null,null,null,null,null,null,null,null,null,null,null,null,{"$f":"IF(ISERROR(VLOOKUP(B549,'Zebrik W'!$B$7:$N$1000,11,0)),\"\",IF(VLOOKUP(B549,'Zebrik W'!$B$7:$N$1000,11,0)=0,\"--\",VLOOKUP(B549,'Zebrik W'!$B$7:$N$1000,11,0)))","v":""}]
[null,null,null,null,null,null,null,null,null,null,null,null,null,null,{"$f":"IF(ISERROR(VLOOKUP(B550,'Zebrik W'!$B$7:$N$1000,11,0)),\"\",IF(VLOOKUP(B550,'Zebrik W'!$B$7:$N$1000,11,0)=0,\"--\",VLOOKUP(B550,'Zebrik W'!$B$7:$N$1000,11,0)))","v":""}]
[null,null,null,null,null,null,null,null,null,null,null,null,null,null,{"$f":"IF(ISERROR(VLOOKUP(B551,'Zebrik W'!$B$7:$N$1000,11,0)),\"\",IF(VLOOKUP(B551,'Zebrik W'!$B$7:$N$1000,11,0)=0,\"--\",VLOOKUP(B551,'Zebrik W'!$B$7:$N$1000,11,0)))","v":""}]
[null,null,null,null,null,null,null,null,null,null,null,null,null,null,{"$f":"IF(ISERROR(VLOOKUP(B552,'Zebrik W'!$B$7:$N$1000,11,0)),\"\",IF(VLOOKUP(B552,'Zebrik W'!$B$7:$N$1000,11,0)=0,\"--\",VLOOKUP(B552,'Zebrik W'!$B$7:$N$1000,11,0)))","v":""}]
[null,null,null,null,null,null,null,null,null,null,null,null,null,null,{"$f":"IF(ISERROR(VLOOKUP(B553,'Zebrik W'!$B$7:$N$1000,11,0)),\"\",IF(VLOOKUP(B553,'Zebrik W'!$B$7:$N$1000,11,0)=0,\"--\",VLOOKUP(B553,'Zebrik W'!$B$7:$N$1000,11,0)))","v":""}]
[null,null,null,null,null,null,null,null,null,null,null,null,null,null,{"$f":"IF(ISERROR(VLOOKUP(B554,'Zebrik W'!$B$7:$N$1000,11,0)),\"\",IF(VLOOKUP(B554,'Zebrik W'!$B$7:$N$1000,11,0)=0,\"--\",VLOOKUP(B554,'Zebrik W'!$B$7:$N$1000,11,0)))","v":""}]
[null,null,null,null,null,null,null,null,null,null,null,null,null,null,{"$f":"IF(ISERROR(VLOOKUP(B555,'Zebrik W'!$B$7:$N$1000,11,0)),\"\",IF(VLOOKUP(B555,'Zebrik W'!$B$7:$N$1000,11,0)=0,\"--\",VLOOKUP(B555,'Zebrik W'!$B$7:$N$1000,11,0)))","v":""}]
[null,null,null,null,null,null,null,null,null,null,null,null,null,null,{"$f":"IF(ISERROR(VLOOKUP(B556,'Zebrik W'!$B$7:$N$1000,11,0)),\"\",IF(VLOOKUP(B556,'Zebrik W'!$B$7:$N$1000,11,0)=0,\"--\",VLOOKUP(B556,'Zebrik W'!$B$7:$N$1000,11,0)))","v":""}]
[null,null,null,null,null,null,null,null,null,null,null,null,null,null,{"$f":"IF(ISERROR(VLOOKUP(B557,'Zebrik W'!$B$7:$N$1000,11,0)),\"\",IF(VLOOKUP(B557,'Zebrik W'!$B$7:$N$1000,11,0)=0,\"--\",VLOOKUP(B557,'Zebrik W'!$B$7:$N$1000,11,0)))","v":""}]
[null,null,null,null,null,null,null,null,null,null,null,null,null,null,{"$f":"IF(ISERROR(VLOOKUP(B558,'Zebrik W'!$B$7:$N$1000,11,0)),\"\",IF(VLOOKUP(B558,'Zebrik W'!$B$7:$N$1000,11,0)=0,\"--\",VLOOKUP(B558,'Zebrik W'!$B$7:$N$1000,11,0)))","v":""}]
[null,null,null,null,null,null,null,null,null,null,null,null,null,null,{"$f":"IF(ISERROR(VLOOKUP(B559,'Zebrik W'!$B$7:$N$1000,11,0)),\"\",IF(VLOOKUP(B559,'Zebrik W'!$B$7:$N$1000,11,0)=0,\"--\",VLOOKUP(B559,'Zebrik W'!$B$7:$N$1000,11,0)))","v":""}]
[null,null,null,null,null,null,null,null,null,null,null,null,null,null,{"$f":"IF(ISERROR(VLOOKUP(B560,'Zebrik W'!$B$7:$N$1000,11,0)),\"\",IF(VLOOKUP(B560,'Zebrik W'!$B$7:$N$1000,11,0)=0,\"--\",VLOOKUP(B560,'Zebrik W'!$B$7:$N$1000,11,0)))","v":""}]
[null,null,null,null,null,null,null,null,null,null,null,null,null,null,{"$f":"IF(ISERROR(VLOOKUP(B561,'Zebrik W'!$B$7:$N$1000,11,0)),\"\",IF(VLOOKUP(B561,'Zebrik W'!$B$7:$N$1000,11,0)=0,\"--\",VLOOKUP(B561,'Zebrik W'!$B$7:$N$1000,11,0)))","v":""}]
[null,null,null,null,null,null,null,null,null,null,null,null,null,null,{"$f":"IF(ISERROR(VLOOKUP(B562,'Zebrik W'!$B$7:$N$1000,11,0)),\"\",IF(VLOOKUP(B562,'Zebrik W'!$B$7:$N$1000,11,0)=0,\"--\",VLOOKUP(B562,'Zebrik W'!$B$7:$N$1000,11,0)))","v":""}]
[null,null,null,null,null,null,null,null,null,null,null,null,null,null,{"$f":"IF(ISERROR(VLOOKUP(B563,'Zebrik W'!$B$7:$N$1000,11,0)),\"\",IF(VLOOKUP(B563,'Zebrik W'!$B$7:$N$1000,11,0)=0,\"--\",VLOOKUP(B563,'Zebrik W'!$B$7:$N$1000,11,0)))","v":""}]
[null,null,null,null,null,null,null,null,null,null,null,null,null,null,{"$f":"IF(ISERROR(VLOOKUP(B564,'Zebrik W'!$B$7:$N$1000,11,0)),\"\",IF(VLOOKUP(B564,'Zebrik W'!$B$7:$N$1000,11,0)=0,\"--\",VLOOKUP(B564,'Zebrik W'!$B$7:$N$1000,11,0)))","v":""}]
[null,null,null,null,null,null,null,null,null,null,null,null,null,null,{"$f":"IF(ISERROR(VLOOKUP(B565,'Zebrik W'!$B$7:$N$1000,11,0)),\"\",IF(VLOOKUP(B565,'Zebrik W'!$B$7:$N$1000,11,0)=0,\"--\",VLOOKUP(B565,'Zebrik W'!$B$7:$N$1000,11,0)))","v":""}]
[null,null,null,null,null,null,null,null,null,null,null,null,null,null,{"$f":"IF(ISERROR(VLOOKUP(B566,'Zebrik W'!$B$7:$N$1000,11,0)),\"\",IF(VLOOKUP(B566,'Zebrik W'!$B$7:$N$1000,11,0)=0,\"--\",VLOOKUP(B566,'Zebrik W'!$B$7:$N$1000,11,0)))","v":""}]
[null,null,null,null,null,null,null,null,null,null,null,null,null,null,{"$f":"IF(ISERROR(VLOOKUP(B567,'Zebrik W'!$B$7:$N$1000,11,0)),\"\",IF(VLOOKUP(B567,'Zebrik W'!$B$7:$N$1000,11,0)=0,\"--\",VLOOKUP(B567,'Zebrik W'!$B$7:$N$1000,11,0)))","v":""}]
[null,null,null,null,null,null,null,null,null,null,null,null,null,null,{"$f":"IF(ISERROR(VLOOKUP(B568,'Zebrik W'!$B$7:$N$1000,11,0)),\"\",IF(VLOOKUP(B568,'Zebrik W'!$B$7:$N$1000,11,0)=0,\"--\",VLOOKUP(B568,'Zebrik W'!$B$7:$N$1000,11,0)))","v":""}]
[null,null,null,null,null,null,null,null,null,null,null,null,null,null,{"$f":"IF(ISERROR(VLOOKUP(B569,'Zebrik W'!$B$7:$N$1000,11,0)),\"\",IF(VLOOKUP(B569,'Zebrik W'!$B$7:$N$1000,11,0)=0,\"--\",VLOOKUP(B569,'Zebrik W'!$B$7:$N$1000,11,0)))","v":""}]
[null,null,null,null,null,null,null,null,null,null,null,null,null,null,{"$f":"IF(ISERROR(VLOOKUP(B570,'Zebrik W'!$B$7:$N$1000,11,0)),\"\",IF(VLOOKUP(B570,'Zebrik W'!$B$7:$N$1000,11,0)=0,\"--\",VLOOKUP(B570,'Zebrik W'!$B$7:$N$1000,11,0)))","v":""}]
[null,null,null,null,null,null,null,null,null,null,null,null,null,null,{"$f":"IF(ISERROR(VLOOKUP(B571,'Zebrik W'!$B$7:$N$1000,11,0)),\"\",IF(VLOOKUP(B571,'Zebrik W'!$B$7:$N$1000,11,0)=0,\"--\",VLOOKUP(B571,'Zebrik W'!$B$7:$N$1000,11,0)))","v":""}]
[null,null,null,null,null,null,null,null,null,null,null,null,null,null,{"$f":"IF(ISERROR(VLOOKUP(B572,'Zebrik W'!$B$7:$N$1000,11,0)),\"\",IF(VLOOKUP(B572,'Zebrik W'!$B$7:$N$1000,11,0)=0,\"--\",VLOOKUP(B572,'Zebrik W'!$B$7:$N$1000,11,0)))","v":""}]
[null,null,null,null,null,null,null,null,null,null,null,null,null,null,{"$f":"IF(ISERROR(VLOOKUP(B573,'Zebrik W'!$B$7:$N$1000,11,0)),\"\",IF(VLOOKUP(B573,'Zebrik W'!$B$7:$N$1000,11,0)=0,\"--\",VLOOKUP(B573,'Zebrik W'!$B$7:$N$1000,11,0)))","v":""}]
[null,null,null,null,null,null,null,null,null,null,null,null,null,null,{"$f":"IF(ISERROR(VLOOKUP(B574,'Zebrik W'!$B$7:$N$1000,11,0)),\"\",IF(VLOOKUP(B574,'Zebrik W'!$B$7:$N$1000,11,0)=0,\"--\",VLOOKUP(B574,'Zebrik W'!$B$7:$N$1000,11,0)))","v":""}]
[null,null,null,null,null,null,null,null,null,null,null,null,null,null,{"$f":"IF(ISERROR(VLOOKUP(B575,'Zebrik W'!$B$7:$N$1000,11,0)),\"\",IF(VLOOKUP(B575,'Zebrik W'!$B$7:$N$1000,11,0)=0,\"--\",VLOOKUP(B575,'Zebrik W'!$B$7:$N$1000,11,0)))","v":""}]
[null,null,null,null,null,null,null,null,null,null,null,null,null,null,{"$f":"IF(ISERROR(VLOOKUP(B576,'Zebrik W'!$B$7:$N$1000,11,0)),\"\",IF(VLOOKUP(B576,'Zebrik W'!$B$7:$N$1000,11,0)=0,\"--\",VLOOKUP(B576,'Zebrik W'!$B$7:$N$1000,11,0)))","v":""}]
[null,null,null,null,null,null,null,null,null,null,null,null,null,null,{"$f":"IF(ISERROR(VLOOKUP(B577,'Zebrik W'!$B$7:$N$1000,11,0)),\"\",IF(VLOOKUP(B577,'Zebrik W'!$B$7:$N$1000,11,0)=0,\"--\",VLOOKUP(B577,'Zebrik W'!$B$7:$N$1000,11,0)))","v":""}]
[null,null,null,null,null,null,null,null,null,null,null,null,null,null,{"$f":"IF(ISERROR(VLOOKUP(B578,'Zebrik W'!$B$7:$N$1000,11,0)),\"\",IF(VLOOKUP(B578,'Zebrik W'!$B$7:$N$1000,11,0)=0,\"--\",VLOOKUP(B578,'Zebrik W'!$B$7:$N$1000,11,0)))","v":""}]
[null,null,null,null,null,null,null,null,null,null,null,null,null,null,{"$f":"IF(ISERROR(VLOOKUP(B579,'Zebrik W'!$B$7:$N$1000,11,0)),\"\",IF(VLOOKUP(B579,'Zebrik W'!$B$7:$N$1000,11,0)=0,\"--\",VLOOKUP(B579,'Zebrik W'!$B$7:$N$1000,11,0)))","v":""}]
[null,null,null,null,null,null,null,null,null,null,null,null,null,null,{"$f":"IF(ISERROR(VLOOKUP(B580,'Zebrik W'!$B$7:$N$1000,11,0)),\"\",IF(VLOOKUP(B580,'Zebrik W'!$B$7:$N$1000,11,0)=0,\"--\",VLOOKUP(B580,'Zebrik W'!$B$7:$N$1000,11,0)))","v":""}]
[null,null,null,null,null,null,null,null,null,null,null,null,null,null,{"$f":"IF(ISERROR(VLOOKUP(B581,'Zebrik W'!$B$7:$N$1000,11,0)),\"\",IF(VLOOKUP(B581,'Zebrik W'!$B$7:$N$1000,11,0)=0,\"--\",VLOOKUP(B581,'Zebrik W'!$B$7:$N$1000,11,0)))","v":""}]
[null,null,null,null,null,null,null,null,null,null,null,null,null,null,{"$f":"IF(ISERROR(VLOOKUP(B582,'Zebrik W'!$B$7:$N$1000,11,0)),\"\",IF(VLOOKUP(B582,'Zebrik W'!$B$7:$N$1000,11,0)=0,\"--\",VLOOKUP(B582,'Zebrik W'!$B$7:$N$1000,11,0)))","v":""}]
[null,null,null,null,null,null,null,null,null,null,null,null,null,null,{"$f":"IF(ISERROR(VLOOKUP(B583,'Zebrik W'!$B$7:$N$1000,11,0)),\"\",IF(VLOOKUP(B583,'Zebrik W'!$B$7:$N$1000,11,0)=0,\"--\",VLOOKUP(B583,'Zebrik W'!$B$7:$N$1000,11,0)))","v":""}]
[null,null,null,null,null,null,null,null,null,null,null,null,null,null,{"$f":"IF(ISERROR(VLOOKUP(B584,'Zebrik W'!$B$7:$N$1000,11,0)),\"\",IF(VLOOKUP(B584,'Zebrik W'!$B$7:$N$1000,11,0)=0,\"--\",VLOOKUP(B584,'Zebrik W'!$B$7:$N$1000,11,0)))","v":""}]
[null,null,null,null,null,null,null,null,null,null,null,null,null,null,{"$f":"IF(ISERROR(VLOOKUP(B585,'Zebrik W'!$B$7:$N$1000,11,0)),\"\",IF(VLOOKUP(B585,'Zebrik W'!$B$7:$N$1000,11,0)=0,\"--\",VLOOKUP(B585,'Zebrik W'!$B$7:$N$1000,11,0)))","v":""}]
[null,null,null,null,null,null,null,null,null,null,null,null,null,null,{"$f":"IF(ISERROR(VLOOKUP(B586,'Zebrik W'!$B$7:$N$1000,11,0)),\"\",IF(VLOOKUP(B586,'Zebrik W'!$B$7:$N$1000,11,0)=0,\"--\",VLOOKUP(B586,'Zebrik W'!$B$7:$N$1000,11,0)))","v":""}]
[null,null,null,null,null,null,null,null,null,null,null,null,null,null,{"$f":"IF(ISERROR(VLOOKUP(B587,'Zebrik W'!$B$7:$N$1000,11,0)),\"\",IF(VLOOKUP(B587,'Zebrik W'!$B$7:$N$1000,11,0)=0,\"--\",VLOOKUP(B587,'Zebrik W'!$B$7:$N$1000,11,0)))","v":""}]
[null,null,null,null,null,null,null,null,null,null,null,null,null,null,{"$f":"IF(ISERROR(VLOOKUP(B588,'Zebrik W'!$B$7:$N$1000,11,0)),\"\",IF(VLOOKUP(B588,'Zebrik W'!$B$7:$N$1000,11,0)=0,\"--\",VLOOKUP(B588,'Zebrik W'!$B$7:$N$1000,11,0)))","v":""}]
[null,null,null,null,null,null,null,null,null,null,null,null,null,null,{"$f":"IF(ISERROR(VLOOKUP(B589,'Zebrik W'!$B$7:$N$1000,11,0)),\"\",IF(VLOOKUP(B589,'Zebrik W'!$B$7:$N$1000,11,0)=0,\"--\",VLOOKUP(B589,'Zebrik W'!$B$7:$N$1000,11,0)))","v":""}]
[null,null,null,null,null,null,null,null,null,null,null,null,null,null,{"$f":"IF(ISERROR(VLOOKUP(B590,'Zebrik W'!$B$7:$N$1000,11,0)),\"\",IF(VLOOKUP(B590,'Zebrik W'!$B$7:$N$1000,11,0)=0,\"--\",VLOOKUP(B590,'Zebrik W'!$B$7:$N$1000,11,0)))","v":""}]
[null,null,null,null,null,null,null,null,null,null,null,null,null,null,{"$f":"IF(ISERROR(VLOOKUP(B591,'Zebrik W'!$B$7:$N$1000,11,0)),\"\",IF(VLOOKUP(B591,'Zebrik W'!$B$7:$N$1000,11,0)=0,\"--\",VLOOKUP(B591,'Zebrik W'!$B$7:$N$1000,11,0)))","v":""}]
[null,null,null,null,null,null,null,null,null,null,null,null,null,null,{"$f":"IF(ISERROR(VLOOKUP(B592,'Zebrik W'!$B$7:$N$1000,11,0)),\"\",IF(VLOOKUP(B592,'Zebrik W'!$B$7:$N$1000,11,0)=0,\"--\",VLOOKUP(B592,'Zebrik W'!$B$7:$N$1000,11,0)))","v":""}]
[null,null,null,null,null,null,null,null,null,null,null,null,null,null,{"$f":"IF(ISERROR(VLOOKUP(B593,'Zebrik W'!$B$7:$N$1000,11,0)),\"\",IF(VLOOKUP(B593,'Zebrik W'!$B$7:$N$1000,11,0)=0,\"--\",VLOOKUP(B593,'Zebrik W'!$B$7:$N$1000,11,0)))","v":""}]
[null,null,null,null,null,null,null,null,null,null,null,null,null,null,{"$f":"IF(ISERROR(VLOOKUP(B594,'Zebrik W'!$B$7:$N$1000,11,0)),\"\",IF(VLOOKUP(B594,'Zebrik W'!$B$7:$N$1000,11,0)=0,\"--\",VLOOKUP(B594,'Zebrik W'!$B$7:$N$1000,11,0)))","v":""}]
[null,null,null,null,null,null,null,null,null,null,null,null,null,null,{"$f":"IF(ISERROR(VLOOKUP(B595,'Zebrik W'!$B$7:$N$1000,11,0)),\"\",IF(VLOOKUP(B595,'Zebrik W'!$B$7:$N$1000,11,0)=0,\"--\",VLOOKUP(B595,'Zebrik W'!$B$7:$N$1000,11,0)))","v":""}]
[null,null,null,null,null,null,null,null,null,null,null,null,null,null,{"$f":"IF(ISERROR(VLOOKUP(B596,'Zebrik W'!$B$7:$N$1000,11,0)),\"\",IF(VLOOKUP(B596,'Zebrik W'!$B$7:$N$1000,11,0)=0,\"--\",VLOOKUP(B596,'Zebrik W'!$B$7:$N$1000,11,0)))","v":""}]
[null,null,null,null,null,null,null,null,null,null,null,null,null,null,{"$f":"IF(ISERROR(VLOOKUP(B597,'Zebrik W'!$B$7:$N$1000,11,0)),\"\",IF(VLOOKUP(B597,'Zebrik W'!$B$7:$N$1000,11,0)=0,\"--\",VLOOKUP(B597,'Zebrik W'!$B$7:$N$1000,11,0)))","v":""}]
[null,null,null,null,null,null,null,null,null,null,null,null,null,null,{"$f":"IF(ISERROR(VLOOKUP(B598,'Zebrik W'!$B$7:$N$1000,11,0)),\"\",IF(VLOOKUP(B598,'Zebrik W'!$B$7:$N$1000,11,0)=0,\"--\",VLOOKUP(B598,'Zebrik W'!$B$7:$N$1000,11,0)))","v":""}]
[null,null,null,null,null,null,null,null,null,null,null,null,null,null,{"$f":"IF(ISERROR(VLOOKUP(B599,'Zebrik W'!$B$7:$N$1000,11,0)),\"\",IF(VLOOKUP(B599,'Zebrik W'!$B$7:$N$1000,11,0)=0,\"--\",VLOOKUP(B599,'Zebrik W'!$B$7:$N$1000,11,0)))","v":""}]
[null,null,null,null,null,null,null,null,null,null,null,null,null,null,{"$f":"IF(ISERROR(VLOOKUP(B600,'Zebrik W'!$B$7:$N$1000,11,0)),\"\",IF(VLOOKUP(B600,'Zebrik W'!$B$7:$N$1000,11,0)=0,\"--\",VLOOKUP(B600,'Zebrik W'!$B$7:$N$1000,11,0)))","v":""}]
[null,null,null,null,null,null,null,null,null,null,null,null,null,null,{"$f":"IF(ISERROR(VLOOKUP(B601,'Zebrik W'!$B$7:$N$1000,11,0)),\"\",IF(VLOOKUP(B601,'Zebrik W'!$B$7:$N$1000,11,0)=0,\"--\",VLOOKUP(B601,'Zebrik W'!$B$7:$N$1000,11,0)))","v":""}]
[null,null,null,null,null,null,null,null,null,null,null,null,null,null,{"$f":"IF(ISERROR(VLOOKUP(B602,'Zebrik W'!$B$7:$N$1000,11,0)),\"\",IF(VLOOKUP(B602,'Zebrik W'!$B$7:$N$1000,11,0)=0,\"--\",VLOOKUP(B602,'Zebrik W'!$B$7:$N$1000,11,0)))","v":""}]
[null,null,null,null,null,null,null,null,null,null,null,null,null,null,{"$f":"IF(ISERROR(VLOOKUP(B603,'Zebrik W'!$B$7:$N$1000,11,0)),\"\",IF(VLOOKUP(B603,'Zebrik W'!$B$7:$N$1000,11,0)=0,\"--\",VLOOKUP(B603,'Zebrik W'!$B$7:$N$1000,11,0)))","v":""}]
[null,null,null,null,null,null,null,null,null,null,null,null,null,null,{"$f":"IF(ISERROR(VLOOKUP(B604,'Zebrik W'!$B$7:$N$1000,11,0)),\"\",IF(VLOOKUP(B604,'Zebrik W'!$B$7:$N$1000,11,0)=0,\"--\",VLOOKUP(B604,'Zebrik W'!$B$7:$N$1000,11,0)))","v":""}]
[null,null,null,null,null,null,null,null,null,null,null,null,null,null,{"$f":"IF(ISERROR(VLOOKUP(B605,'Zebrik W'!$B$7:$N$1000,11,0)),\"\",IF(VLOOKUP(B605,'Zebrik W'!$B$7:$N$1000,11,0)=0,\"--\",VLOOKUP(B605,'Zebrik W'!$B$7:$N$1000,11,0)))","v":""}]
[null,null,null,null,null,null,null,null,null,null,null,null,null,null,{"$f":"IF(ISERROR(VLOOKUP(B606,'Zebrik W'!$B$7:$N$1000,11,0)),\"\",IF(VLOOKUP(B606,'Zebrik W'!$B$7:$N$1000,11,0)=0,\"--\",VLOOKUP(B606,'Zebrik W'!$B$7:$N$1000,11,0)))","v":""}]
[null,null,null,null,null,null,null,null,null,null,null,null,null,null,{"$f":"IF(ISERROR(VLOOKUP(B607,'Zebrik W'!$B$7:$N$1000,11,0)),\"\",IF(VLOOKUP(B607,'Zebrik W'!$B$7:$N$1000,11,0)=0,\"--\",VLOOKUP(B607,'Zebrik W'!$B$7:$N$1000,11,0)))","v":""}]
[null,null,null,null,null,null,null,null,null,null,null,null,null,null,{"$f":"IF(ISERROR(VLOOKUP(B608,'Zebrik W'!$B$7:$N$1000,11,0)),\"\",IF(VLOOKUP(B608,'Zebrik W'!$B$7:$N$1000,11,0)=0,\"--\",VLOOKUP(B608,'Zebrik W'!$B$7:$N$1000,11,0)))","v":""}]
[null,null,null,null,null,null,null,null,null,null,null,null,null,null,{"$f":"IF(ISERROR(VLOOKUP(B609,'Zebrik W'!$B$7:$N$1000,11,0)),\"\",IF(VLOOKUP(B609,'Zebrik W'!$B$7:$N$1000,11,0)=0,\"--\",VLOOKUP(B609,'Zebrik W'!$B$7:$N$1000,11,0)))","v":""}]
[null,null,null,null,null,null,null,null,null,null,null,null,null,null,{"$f":"IF(ISERROR(VLOOKUP(B610,'Zebrik W'!$B$7:$N$1000,11,0)),\"\",IF(VLOOKUP(B610,'Zebrik W'!$B$7:$N$1000,11,0)=0,\"--\",VLOOKUP(B610,'Zebrik W'!$B$7:$N$1000,11,0)))","v":""}]
[null,null,null,null,null,null,null,null,null,null,null,null,null,null,{"$f":"IF(ISERROR(VLOOKUP(B611,'Zebrik W'!$B$7:$N$1000,11,0)),\"\",IF(VLOOKUP(B611,'Zebrik W'!$B$7:$N$1000,11,0)=0,\"--\",VLOOKUP(B611,'Zebrik W'!$B$7:$N$1000,11,0)))","v":""}]
[null,null,null,null,null,null,null,null,null,null,null,null,null,null,{"$f":"IF(ISERROR(VLOOKUP(B612,'Zebrik W'!$B$7:$N$1000,11,0)),\"\",IF(VLOOKUP(B612,'Zebrik W'!$B$7:$N$1000,11,0)=0,\"--\",VLOOKUP(B612,'Zebrik W'!$B$7:$N$1000,11,0)))","v":""}]
[null,null,null,null,null,null,null,null,null,null,null,null,null,null,{"$f":"IF(ISERROR(VLOOKUP(B613,'Zebrik W'!$B$7:$N$1000,11,0)),\"\",IF(VLOOKUP(B613,'Zebrik W'!$B$7:$N$1000,11,0)=0,\"--\",VLOOKUP(B613,'Zebrik W'!$B$7:$N$1000,11,0)))","v":""}]
[null,null,null,null,null,null,null,null,null,null,null,null,null,null,{"$f":"IF(ISERROR(VLOOKUP(B614,'Zebrik W'!$B$7:$N$1000,11,0)),\"\",IF(VLOOKUP(B614,'Zebrik W'!$B$7:$N$1000,11,0)=0,\"--\",VLOOKUP(B614,'Zebrik W'!$B$7:$N$1000,11,0)))","v":""}]
[null,null,null,null,null,null,null,null,null,null,null,null,null,null,{"$f":"IF(ISERROR(VLOOKUP(B615,'Zebrik W'!$B$7:$N$1000,11,0)),\"\",IF(VLOOKUP(B615,'Zebrik W'!$B$7:$N$1000,11,0)=0,\"--\",VLOOKUP(B615,'Zebrik W'!$B$7:$N$1000,11,0)))","v":""}]
[null,null,null,null,null,null,null,null,null,null,null,null,null,null,{"$f":"IF(ISERROR(VLOOKUP(B616,'Zebrik W'!$B$7:$N$1000,11,0)),\"\",IF(VLOOKUP(B616,'Zebrik W'!$B$7:$N$1000,11,0)=0,\"--\",VLOOKUP(B616,'Zebrik W'!$B$7:$N$1000,11,0)))","v":""}]
[null,null,null,null,null,null,null,null,null,null,null,null,null,null,{"$f":"IF(ISERROR(VLOOKUP(B617,'Zebrik W'!$B$7:$N$1000,11,0)),\"\",IF(VLOOKUP(B617,'Zebrik W'!$B$7:$N$1000,11,0)=0,\"--\",VLOOKUP(B617,'Zebrik W'!$B$7:$N$1000,11,0)))","v":""}]
[null,null,null,null,null,null,null,null,null,null,null,null,null,null,{"$f":"IF(ISERROR(VLOOKUP(B618,'Zebrik W'!$B$7:$N$1000,11,0)),\"\",IF(VLOOKUP(B618,'Zebrik W'!$B$7:$N$1000,11,0)=0,\"--\",VLOOKUP(B618,'Zebrik W'!$B$7:$N$1000,11,0)))","v":""}]
[null,null,null,null,null,null,null,null,null,null,null,null,null,null,{"$f":"IF(ISERROR(VLOOKUP(B619,'Zebrik W'!$B$7:$N$1000,11,0)),\"\",IF(VLOOKUP(B619,'Zebrik W'!$B$7:$N$1000,11,0)=0,\"--\",VLOOKUP(B619,'Zebrik W'!$B$7:$N$1000,11,0)))","v":""}]
[null,null,null,null,null,null,null,null,null,null,null,null,null,null,{"$f":"IF(ISERROR(VLOOKUP(B620,'Zebrik W'!$B$7:$N$1000,11,0)),\"\",IF(VLOOKUP(B620,'Zebrik W'!$B$7:$N$1000,11,0)=0,\"--\",VLOOKUP(B620,'Zebrik W'!$B$7:$N$1000,11,0)))","v":""}]
[null,null,null,null,null,null,null,null,null,null,null,null,null,null,{"$f":"IF(ISERROR(VLOOKUP(B621,'Zebrik W'!$B$7:$N$1000,11,0)),\"\",IF(VLOOKUP(B621,'Zebrik W'!$B$7:$N$1000,11,0)=0,\"--\",VLOOKUP(B621,'Zebrik W'!$B$7:$N$1000,11,0)))","v":""}]
[null,null,null,null,null,null,null,null,null,null,null,null,null,null,{"$f":"IF(ISERROR(VLOOKUP(B622,'Zebrik W'!$B$7:$N$1000,11,0)),\"\",IF(VLOOKUP(B622,'Zebrik W'!$B$7:$N$1000,11,0)=0,\"--\",VLOOKUP(B622,'Zebrik W'!$B$7:$N$1000,11,0)))","v":""}]
[null,null,null,null,null,null,null,null,null,null,null,null,null,null,{"$f":"IF(ISERROR(VLOOKUP(B623,'Zebrik W'!$B$7:$N$1000,11,0)),\"\",IF(VLOOKUP(B623,'Zebrik W'!$B$7:$N$1000,11,0)=0,\"--\",VLOOKUP(B623,'Zebrik W'!$B$7:$N$1000,11,0)))","v":""}]
[null,null,null,null,null,null,null,null,null,null,null,null,null,null,{"$f":"IF(ISERROR(VLOOKUP(B624,'Zebrik W'!$B$7:$N$1000,11,0)),\"\",IF(VLOOKUP(B624,'Zebrik W'!$B$7:$N$1000,11,0)=0,\"--\",VLOOKUP(B624,'Zebrik W'!$B$7:$N$1000,11,0)))","v":""}]
[null,null,null,null,null,null,null,null,null,null,null,null,null,null,{"$f":"IF(ISERROR(VLOOKUP(B625,'Zebrik W'!$B$7:$N$1000,11,0)),\"\",IF(VLOOKUP(B625,'Zebrik W'!$B$7:$N$1000,11,0)=0,\"--\",VLOOKUP(B625,'Zebrik W'!$B$7:$N$1000,11,0)))","v":""}]
[null,null,null,null,null,null,null,null,null,null,null,null,null,null,{"$f":"IF(ISERROR(VLOOKUP(B626,'Zebrik W'!$B$7:$N$1000,11,0)),\"\",IF(VLOOKUP(B626,'Zebrik W'!$B$7:$N$1000,11,0)=0,\"--\",VLOOKUP(B626,'Zebrik W'!$B$7:$N$1000,11,0)))","v":""}]
[null,null,null,null,null,null,null,null,null,null,null,null,null,null,{"$f":"IF(ISERROR(VLOOKUP(B627,'Zebrik W'!$B$7:$N$1000,11,0)),\"\",IF(VLOOKUP(B627,'Zebrik W'!$B$7:$N$1000,11,0)=0,\"--\",VLOOKUP(B627,'Zebrik W'!$B$7:$N$1000,11,0)))","v":""}]
[null,null,null,null,null,null,null,null,null,null,null,null,null,null,{"$f":"IF(ISERROR(VLOOKUP(B628,'Zebrik W'!$B$7:$N$1000,11,0)),\"\",IF(VLOOKUP(B628,'Zebrik W'!$B$7:$N$1000,11,0)=0,\"--\",VLOOKUP(B628,'Zebrik W'!$B$7:$N$1000,11,0)))","v":""}]
[null,null,null,null,null,null,null,null,null,null,null,null,null,null,{"$f":"IF(ISERROR(VLOOKUP(B629,'Zebrik W'!$B$7:$N$1000,11,0)),\"\",IF(VLOOKUP(B629,'Zebrik W'!$B$7:$N$1000,11,0)=0,\"--\",VLOOKUP(B629,'Zebrik W'!$B$7:$N$1000,11,0)))","v":""}]
[null,null,null,null,null,null,null,null,null,null,null,null,null,null,{"$f":"IF(ISERROR(VLOOKUP(B630,'Zebrik W'!$B$7:$N$1000,11,0)),\"\",IF(VLOOKUP(B630,'Zebrik W'!$B$7:$N$1000,11,0)=0,\"--\",VLOOKUP(B630,'Zebrik W'!$B$7:$N$1000,11,0)))","v":""}]
[null,null,null,null,null,null,null,null,null,null,null,null,null,null,{"$f":"IF(ISERROR(VLOOKUP(B631,'Zebrik W'!$B$7:$N$1000,11,0)),\"\",IF(VLOOKUP(B631,'Zebrik W'!$B$7:$N$1000,11,0)=0,\"--\",VLOOKUP(B631,'Zebrik W'!$B$7:$N$1000,11,0)))","v":""}]
[null,null,null,null,null,null,null,null,null,null,null,null,null,null,{"$f":"IF(ISERROR(VLOOKUP(B632,'Zebrik W'!$B$7:$N$1000,11,0)),\"\",IF(VLOOKUP(B632,'Zebrik W'!$B$7:$N$1000,11,0)=0,\"--\",VLOOKUP(B632,'Zebrik W'!$B$7:$N$1000,11,0)))","v":""}]
[null,null,null,null,null,null,null,null,null,null,null,null,null,null,{"$f":"IF(ISERROR(VLOOKUP(B633,'Zebrik W'!$B$7:$N$1000,11,0)),\"\",IF(VLOOKUP(B633,'Zebrik W'!$B$7:$N$1000,11,0)=0,\"--\",VLOOKUP(B633,'Zebrik W'!$B$7:$N$1000,11,0)))","v":""}]
[null,null,null,null,null,null,null,null,null,null,null,null,null,null,{"$f":"IF(ISERROR(VLOOKUP(B634,'Zebrik W'!$B$7:$N$1000,11,0)),\"\",IF(VLOOKUP(B634,'Zebrik W'!$B$7:$N$1000,11,0)=0,\"--\",VLOOKUP(B634,'Zebrik W'!$B$7:$N$1000,11,0)))","v":""}]
[null,null,null,null,null,null,null,null,null,null,null,null,null,null,{"$f":"IF(ISERROR(VLOOKUP(B635,'Zebrik W'!$B$7:$N$1000,11,0)),\"\",IF(VLOOKUP(B635,'Zebrik W'!$B$7:$N$1000,11,0)=0,\"--\",VLOOKUP(B635,'Zebrik W'!$B$7:$N$1000,11,0)))","v":""}]
[null,null,null,null,null,null,null,null,null,null,null,null,null,null,{"$f":"IF(ISERROR(VLOOKUP(B636,'Zebrik W'!$B$7:$N$1000,11,0)),\"\",IF(VLOOKUP(B636,'Zebrik W'!$B$7:$N$1000,11,0)=0,\"--\",VLOOKUP(B636,'Zebrik W'!$B$7:$N$1000,11,0)))","v":""}]
[null,null,null,null,null,null,null,null,null,null,null,null,null,null,{"$f":"IF(ISERROR(VLOOKUP(B637,'Zebrik W'!$B$7:$N$1000,11,0)),\"\",IF(VLOOKUP(B637,'Zebrik W'!$B$7:$N$1000,11,0)=0,\"--\",VLOOKUP(B637,'Zebrik W'!$B$7:$N$1000,11,0)))","v":""}]
[null,null,null,null,null,null,null,null,null,null,null,null,null,null,{"$f":"IF(ISERROR(VLOOKUP(B638,'Zebrik W'!$B$7:$N$1000,11,0)),\"\",IF(VLOOKUP(B638,'Zebrik W'!$B$7:$N$1000,11,0)=0,\"--\",VLOOKUP(B638,'Zebrik W'!$B$7:$N$1000,11,0)))","v":""}]
[null,null,null,null,null,null,null,null,null,null,null,null,null,null,{"$f":"IF(ISERROR(VLOOKUP(B639,'Zebrik W'!$B$7:$N$1000,11,0)),\"\",IF(VLOOKUP(B639,'Zebrik W'!$B$7:$N$1000,11,0)=0,\"--\",VLOOKUP(B639,'Zebrik W'!$B$7:$N$1000,11,0)))","v":""}]
[null,null,null,null,null,null,null,null,null,null,null,null,null,null,{"$f":"IF(ISERROR(VLOOKUP(B640,'Zebrik W'!$B$7:$N$1000,11,0)),\"\",IF(VLOOKUP(B640,'Zebrik W'!$B$7:$N$1000,11,0)=0,\"--\",VLOOKUP(B640,'Zebrik W'!$B$7:$N$1000,11,0)))","v":""}]
[null,null,null,null,null,null,null,null,null,null,null,null,null,null,{"$f":"IF(ISERROR(VLOOKUP(B641,'Zebrik W'!$B$7:$N$1000,11,0)),\"\",IF(VLOOKUP(B641,'Zebrik W'!$B$7:$N$1000,11,0)=0,\"--\",VLOOKUP(B641,'Zebrik W'!$B$7:$N$1000,11,0)))","v":""}]
[null,null,null,null,null,null,null,null,null,null,null,null,null,null,{"$f":"IF(ISERROR(VLOOKUP(B642,'Zebrik W'!$B$7:$N$1000,11,0)),\"\",IF(VLOOKUP(B642,'Zebrik W'!$B$7:$N$1000,11,0)=0,\"--\",VLOOKUP(B642,'Zebrik W'!$B$7:$N$1000,11,0)))","v":""}]
[null,null,null,null,null,null,null,null,null,null,null,null,null,null,{"$f":"IF(ISERROR(VLOOKUP(B643,'Zebrik W'!$B$7:$N$1000,11,0)),\"\",IF(VLOOKUP(B643,'Zebrik W'!$B$7:$N$1000,11,0)=0,\"--\",VLOOKUP(B643,'Zebrik W'!$B$7:$N$1000,11,0)))","v":""}]
[null,null,null,null,null,null,null,null,null,null,null,null,null,null,{"$f":"IF(ISERROR(VLOOKUP(B644,'Zebrik W'!$B$7:$N$1000,11,0)),\"\",IF(VLOOKUP(B644,'Zebrik W'!$B$7:$N$1000,11,0)=0,\"--\",VLOOKUP(B644,'Zebrik W'!$B$7:$N$1000,11,0)))","v":""}]
[null,null,null,null,null,null,null,null,null,null,null,null,null,null,{"$f":"IF(ISERROR(VLOOKUP(B645,'Zebrik W'!$B$7:$N$1000,11,0)),\"\",IF(VLOOKUP(B645,'Zebrik W'!$B$7:$N$1000,11,0)=0,\"--\",VLOOKUP(B645,'Zebrik W'!$B$7:$N$1000,11,0)))","v":""}]
[null,null,null,null,null,null,null,null,null,null,null,null,null,null,{"$f":"IF(ISERROR(VLOOKUP(B646,'Zebrik W'!$B$7:$N$1000,11,0)),\"\",IF(VLOOKUP(B646,'Zebrik W'!$B$7:$N$1000,11,0)=0,\"--\",VLOOKUP(B646,'Zebrik W'!$B$7:$N$1000,11,0)))","v":""}]
[null,null,null,null,null,null,null,null,null,null,null,null,null,null,{"$f":"IF(ISERROR(VLOOKUP(B647,'Zebrik W'!$B$7:$N$1000,11,0)),\"\",IF(VLOOKUP(B647,'Zebrik W'!$B$7:$N$1000,11,0)=0,\"--\",VLOOKUP(B647,'Zebrik W'!$B$7:$N$1000,11,0)))","v":""}]
[null,null,null,null,null,null,null,null,null,null,null,null,null,null,{"$f":"IF(ISERROR(VLOOKUP(B648,'Zebrik W'!$B$7:$N$1000,11,0)),\"\",IF(VLOOKUP(B648,'Zebrik W'!$B$7:$N$1000,11,0)=0,\"--\",VLOOKUP(B648,'Zebrik W'!$B$7:$N$1000,11,0)))","v":""}]
[null,null,null,null,null,null,null,null,null,null,null,null,null,null,{"$f":"IF(ISERROR(VLOOKUP(B649,'Zebrik W'!$B$7:$N$1000,11,0)),\"\",IF(VLOOKUP(B649,'Zebrik W'!$B$7:$N$1000,11,0)=0,\"--\",VLOOKUP(B649,'Zebrik W'!$B$7:$N$1000,11,0)))","v":""}]
[null,null,null,null,null,null,null,null,null,null,null,null,null,null,{"$f":"IF(ISERROR(VLOOKUP(B650,'Zebrik W'!$B$7:$N$1000,11,0)),\"\",IF(VLOOKUP(B650,'Zebrik W'!$B$7:$N$1000,11,0)=0,\"--\",VLOOKUP(B650,'Zebrik W'!$B$7:$N$1000,11,0)))","v":""}]
[null,null,null,null,null,null,null,null,null,null,null,null,null,null,{"$f":"IF(ISERROR(VLOOKUP(B651,'Zebrik W'!$B$7:$N$1000,11,0)),\"\",IF(VLOOKUP(B651,'Zebrik W'!$B$7:$N$1000,11,0)=0,\"--\",VLOOKUP(B651,'Zebrik W'!$B$7:$N$1000,11,0)))","v":""}]
[null,null,null,null,null,null,null,null,null,null,null,null,null,null,{"$f":"IF(ISERROR(VLOOKUP(B652,'Zebrik W'!$B$7:$N$1000,11,0)),\"\",IF(VLOOKUP(B652,'Zebrik W'!$B$7:$N$1000,11,0)=0,\"--\",VLOOKUP(B652,'Zebrik W'!$B$7:$N$1000,11,0)))","v":""}]
[null,null,null,null,null,null,null,null,null,null,null,null,null,null,{"$f":"IF(ISERROR(VLOOKUP(B653,'Zebrik W'!$B$7:$N$1000,11,0)),\"\",IF(VLOOKUP(B653,'Zebrik W'!$B$7:$N$1000,11,0)=0,\"--\",VLOOKUP(B653,'Zebrik W'!$B$7:$N$1000,11,0)))","v":""}]
[null,null,null,null,null,null,null,null,null,null,null,null,null,null,{"$f":"IF(ISERROR(VLOOKUP(B654,'Zebrik W'!$B$7:$N$1000,11,0)),\"\",IF(VLOOKUP(B654,'Zebrik W'!$B$7:$N$1000,11,0)=0,\"--\",VLOOKUP(B654,'Zebrik W'!$B$7:$N$1000,11,0)))","v":""}]
[null,null,null,null,null,null,null,null,null,null,null,null,null,null,{"$f":"IF(ISERROR(VLOOKUP(B655,'Zebrik W'!$B$7:$N$1000,11,0)),\"\",IF(VLOOKUP(B655,'Zebrik W'!$B$7:$N$1000,11,0)=0,\"--\",VLOOKUP(B655,'Zebrik W'!$B$7:$N$1000,11,0)))","v":""}]
[null,null,null,null,null,null,null,null,null,null,null,null,null,null,{"$f":"IF(ISERROR(VLOOKUP(B656,'Zebrik W'!$B$7:$N$1000,11,0)),\"\",IF(VLOOKUP(B656,'Zebrik W'!$B$7:$N$1000,11,0)=0,\"--\",VLOOKUP(B656,'Zebrik W'!$B$7:$N$1000,11,0)))","v":""}]
[null,null,null,null,null,null,null,null,null,null,null,null,null,null,{"$f":"IF(ISERROR(VLOOKUP(B657,'Zebrik W'!$B$7:$N$1000,11,0)),\"\",IF(VLOOKUP(B657,'Zebrik W'!$B$7:$N$1000,11,0)=0,\"--\",VLOOKUP(B657,'Zebrik W'!$B$7:$N$1000,11,0)))","v":""}]
[null,null,null,null,null,null,null,null,null,null,null,null,null,null,{"$f":"IF(ISERROR(VLOOKUP(B658,'Zebrik W'!$B$7:$N$1000,11,0)),\"\",IF(VLOOKUP(B658,'Zebrik W'!$B$7:$N$1000,11,0)=0,\"--\",VLOOKUP(B658,'Zebrik W'!$B$7:$N$1000,11,0)))","v":""}]
[null,null,null,null,null,null,null,null,null,null,null,null,null,null,{"$f":"IF(ISERROR(VLOOKUP(B659,'Zebrik W'!$B$7:$N$1000,11,0)),\"\",IF(VLOOKUP(B659,'Zebrik W'!$B$7:$N$1000,11,0)=0,\"--\",VLOOKUP(B659,'Zebrik W'!$B$7:$N$1000,11,0)))","v":""}]
[null,null,null,null,null,null,null,null,null,null,null,null,null,null,{"$f":"IF(ISERROR(VLOOKUP(B660,'Zebrik W'!$B$7:$N$1000,11,0)),\"\",IF(VLOOKUP(B660,'Zebrik W'!$B$7:$N$1000,11,0)=0,\"--\",VLOOKUP(B660,'Zebrik W'!$B$7:$N$1000,11,0)))","v":""}]
[null,null,null,null,null,null,null,null,null,null,null,null,null,null,{"$f":"IF(ISERROR(VLOOKUP(B661,'Zebrik W'!$B$7:$N$1000,11,0)),\"\",IF(VLOOKUP(B661,'Zebrik W'!$B$7:$N$1000,11,0)=0,\"--\",VLOOKUP(B661,'Zebrik W'!$B$7:$N$1000,11,0)))","v":""}]
[null,null,null,null,null,null,null,null,null,null,null,null,null,null,{"$f":"IF(ISERROR(VLOOKUP(B662,'Zebrik W'!$B$7:$N$1000,11,0)),\"\",IF(VLOOKUP(B662,'Zebrik W'!$B$7:$N$1000,11,0)=0,\"--\",VLOOKUP(B662,'Zebrik W'!$B$7:$N$1000,11,0)))","v":""}]
[null,null,null,null,null,null,null,null,null,null,null,null,null,null,{"$f":"IF(ISERROR(VLOOKUP(B663,'Zebrik W'!$B$7:$N$1000,11,0)),\"\",IF(VLOOKUP(B663,'Zebrik W'!$B$7:$N$1000,11,0)=0,\"--\",VLOOKUP(B663,'Zebrik W'!$B$7:$N$1000,11,0)))","v":""}]
[null,null,null,null,null,null,null,null,null,null,null,null,null,null,{"$f":"IF(ISERROR(VLOOKUP(B664,'Zebrik W'!$B$7:$N$1000,11,0)),\"\",IF(VLOOKUP(B664,'Zebrik W'!$B$7:$N$1000,11,0)=0,\"--\",VLOOKUP(B664,'Zebrik W'!$B$7:$N$1000,11,0)))","v":""}]
[null,null,null,null,null,null,null,null,null,null,null,null,null,null,{"$f":"IF(ISERROR(VLOOKUP(B665,'Zebrik W'!$B$7:$N$1000,11,0)),\"\",IF(VLOOKUP(B665,'Zebrik W'!$B$7:$N$1000,11,0)=0,\"--\",VLOOKUP(B665,'Zebrik W'!$B$7:$N$1000,11,0)))","v":""}]
[null,null,null,null,null,null,null,null,null,null,null,null,null,null,{"$f":"IF(ISERROR(VLOOKUP(B666,'Zebrik W'!$B$7:$N$1000,11,0)),\"\",IF(VLOOKUP(B666,'Zebrik W'!$B$7:$N$1000,11,0)=0,\"--\",VLOOKUP(B666,'Zebrik W'!$B$7:$N$1000,11,0)))","v":""}]
[null,null,null,null,null,null,null,null,null,null,null,null,null,null,{"$f":"IF(ISERROR(VLOOKUP(B667,'Zebrik W'!$B$7:$N$1000,11,0)),\"\",IF(VLOOKUP(B667,'Zebrik W'!$B$7:$N$1000,11,0)=0,\"--\",VLOOKUP(B667,'Zebrik W'!$B$7:$N$1000,11,0)))","v":""}]
[null,null,null,null,null,null,null,null,null,null,null,null,null,null,{"$f":"IF(ISERROR(VLOOKUP(B668,'Zebrik W'!$B$7:$N$1000,11,0)),\"\",IF(VLOOKUP(B668,'Zebrik W'!$B$7:$N$1000,11,0)=0,\"--\",VLOOKUP(B668,'Zebrik W'!$B$7:$N$1000,11,0)))","v":""}]
[null,null,null,null,null,null,null,null,null,null,null,null,null,null,{"$f":"IF(ISERROR(VLOOKUP(B669,'Zebrik W'!$B$7:$N$1000,11,0)),\"\",IF(VLOOKUP(B669,'Zebrik W'!$B$7:$N$1000,11,0)=0,\"--\",VLOOKUP(B669,'Zebrik W'!$B$7:$N$1000,11,0)))","v":""}]
[null,null,null,null,null,null,null,null,null,null,null,null,null,null,{"$f":"IF(ISERROR(VLOOKUP(B670,'Zebrik W'!$B$7:$N$1000,11,0)),\"\",IF(VLOOKUP(B670,'Zebrik W'!$B$7:$N$1000,11,0)=0,\"--\",VLOOKUP(B670,'Zebrik W'!$B$7:$N$1000,11,0)))","v":""}]
[null,null,null,null,null,null,null,null,null,null,null,null,null,null,{"$f":"IF(ISERROR(VLOOKUP(B671,'Zebrik W'!$B$7:$N$1000,11,0)),\"\",IF(VLOOKUP(B671,'Zebrik W'!$B$7:$N$1000,11,0)=0,\"--\",VLOOKUP(B671,'Zebrik W'!$B$7:$N$1000,11,0)))","v":""}]
[null,null,null,null,null,null,null,null,null,null,null,null,null,null,{"$f":"IF(ISERROR(VLOOKUP(B672,'Zebrik W'!$B$7:$N$1000,11,0)),\"\",IF(VLOOKUP(B672,'Zebrik W'!$B$7:$N$1000,11,0)=0,\"--\",VLOOKUP(B672,'Zebrik W'!$B$7:$N$1000,11,0)))","v":""}]
[null,null,null,null,null,null,null,null,null,null,null,null,null,null,{"$f":"IF(ISERROR(VLOOKUP(B673,'Zebrik W'!$B$7:$N$1000,11,0)),\"\",IF(VLOOKUP(B673,'Zebrik W'!$B$7:$N$1000,11,0)=0,\"--\",VLOOKUP(B673,'Zebrik W'!$B$7:$N$1000,11,0)))","v":""}]
[null,null,null,null,null,null,null,null,null,null,null,null,null,null,{"$f":"IF(ISERROR(VLOOKUP(B674,'Zebrik W'!$B$7:$N$1000,11,0)),\"\",IF(VLOOKUP(B674,'Zebrik W'!$B$7:$N$1000,11,0)=0,\"--\",VLOOKUP(B674,'Zebrik W'!$B$7:$N$1000,11,0)))","v":""}]
[null,null,null,null,null,null,null,null,null,null,null,null,null,null,{"$f":"IF(ISERROR(VLOOKUP(B675,'Zebrik W'!$B$7:$N$1000,11,0)),\"\",IF(VLOOKUP(B675,'Zebrik W'!$B$7:$N$1000,11,0)=0,\"--\",VLOOKUP(B675,'Zebrik W'!$B$7:$N$1000,11,0)))","v":""}]
[null,null,null,null,null,null,null,null,null,null,null,null,null,null,{"$f":"IF(ISERROR(VLOOKUP(B676,'Zebrik W'!$B$7:$N$1000,11,0)),\"\",IF(VLOOKUP(B676,'Zebrik W'!$B$7:$N$1000,11,0)=0,\"--\",VLOOKUP(B676,'Zebrik W'!$B$7:$N$1000,11,0)))","v":""}]
[null,null,null,null,null,null,null,null,null,null,null,null,null,null,{"$f":"IF(ISERROR(VLOOKUP(B677,'Zebrik W'!$B$7:$N$1000,11,0)),\"\",IF(VLOOKUP(B677,'Zebrik W'!$B$7:$N$1000,11,0)=0,\"--\",VLOOKUP(B677,'Zebrik W'!$B$7:$N$1000,11,0)))","v":""}]
[null,null,null,null,null,null,null,null,null,null,null,null,null,null,{"$f":"IF(ISERROR(VLOOKUP(B678,'Zebrik W'!$B$7:$N$1000,11,0)),\"\",IF(VLOOKUP(B678,'Zebrik W'!$B$7:$N$1000,11,0)=0,\"--\",VLOOKUP(B678,'Zebrik W'!$B$7:$N$1000,11,0)))","v":""}]
[null,null,null,null,null,null,null,null,null,null,null,null,null,null,{"$f":"IF(ISERROR(VLOOKUP(B679,'Zebrik W'!$B$7:$N$1000,11,0)),\"\",IF(VLOOKUP(B679,'Zebrik W'!$B$7:$N$1000,11,0)=0,\"--\",VLOOKUP(B679,'Zebrik W'!$B$7:$N$1000,11,0)))","v":""}]
[null,null,null,null,null,null,null,null,null,null,null,null,null,null,{"$f":"IF(ISERROR(VLOOKUP(B680,'Zebrik W'!$B$7:$N$1000,11,0)),\"\",IF(VLOOKUP(B680,'Zebrik W'!$B$7:$N$1000,11,0)=0,\"--\",VLOOKUP(B680,'Zebrik W'!$B$7:$N$1000,11,0)))","v":""}]
[null,null,null,null,null,null,null,null,null,null,null,null,null,null,{"$f":"IF(ISERROR(VLOOKUP(B681,'Zebrik W'!$B$7:$N$1000,11,0)),\"\",IF(VLOOKUP(B681,'Zebrik W'!$B$7:$N$1000,11,0)=0,\"--\",VLOOKUP(B681,'Zebrik W'!$B$7:$N$1000,11,0)))","v":""}]
[null,null,null,null,null,null,null,null,null,null,null,null,null,null,{"$f":"IF(ISERROR(VLOOKUP(B682,'Zebrik W'!$B$7:$N$1000,11,0)),\"\",IF(VLOOKUP(B682,'Zebrik W'!$B$7:$N$1000,11,0)=0,\"--\",VLOOKUP(B682,'Zebrik W'!$B$7:$N$1000,11,0)))","v":""}]
[null,null,null,null,null,null,null,null,null,null,null,null,null,null,{"$f":"IF(ISERROR(VLOOKUP(B683,'Zebrik W'!$B$7:$N$1000,11,0)),\"\",IF(VLOOKUP(B683,'Zebrik W'!$B$7:$N$1000,11,0)=0,\"--\",VLOOKUP(B683,'Zebrik W'!$B$7:$N$1000,11,0)))","v":""}]
[null,null,null,null,null,null,null,null,null,null,null,null,null,null,{"$f":"IF(ISERROR(VLOOKUP(B684,'Zebrik W'!$B$7:$N$1000,11,0)),\"\",IF(VLOOKUP(B684,'Zebrik W'!$B$7:$N$1000,11,0)=0,\"--\",VLOOKUP(B684,'Zebrik W'!$B$7:$N$1000,11,0)))","v":""}]
[null,null,null,null,null,null,null,null,null,null,null,null,null,null,{"$f":"IF(ISERROR(VLOOKUP(B685,'Zebrik W'!$B$7:$N$1000,11,0)),\"\",IF(VLOOKUP(B685,'Zebrik W'!$B$7:$N$1000,11,0)=0,\"--\",VLOOKUP(B685,'Zebrik W'!$B$7:$N$1000,11,0)))","v":""}]
[null,null,null,null,null,null,null,null,null,null,null,null,null,null,{"$f":"IF(ISERROR(VLOOKUP(B686,'Zebrik W'!$B$7:$N$1000,11,0)),\"\",IF(VLOOKUP(B686,'Zebrik W'!$B$7:$N$1000,11,0)=0,\"--\",VLOOKUP(B686,'Zebrik W'!$B$7:$N$1000,11,0)))","v":""}]
[null,null,null,null,null,null,null,null,null,null,null,null,null,null,{"$f":"IF(ISERROR(VLOOKUP(B687,'Zebrik W'!$B$7:$N$1000,11,0)),\"\",IF(VLOOKUP(B687,'Zebrik W'!$B$7:$N$1000,11,0)=0,\"--\",VLOOKUP(B687,'Zebrik W'!$B$7:$N$1000,11,0)))","v":""}]
[null,null,null,null,null,null,null,null,null,null,null,null,null,null,{"$f":"IF(ISERROR(VLOOKUP(B688,'Zebrik W'!$B$7:$N$1000,11,0)),\"\",IF(VLOOKUP(B688,'Zebrik W'!$B$7:$N$1000,11,0)=0,\"--\",VLOOKUP(B688,'Zebrik W'!$B$7:$N$1000,11,0)))","v":""}]
[null,null,null,null,null,null,null,null,null,null,null,null,null,null,{"$f":"IF(ISERROR(VLOOKUP(B689,'Zebrik W'!$B$7:$N$1000,11,0)),\"\",IF(VLOOKUP(B689,'Zebrik W'!$B$7:$N$1000,11,0)=0,\"--\",VLOOKUP(B689,'Zebrik W'!$B$7:$N$1000,11,0)))","v":""}]
[null,null,null,null,null,null,null,null,null,null,null,null,null,null,{"$f":"IF(ISERROR(VLOOKUP(B690,'Zebrik W'!$B$7:$N$1000,11,0)),\"\",IF(VLOOKUP(B690,'Zebrik W'!$B$7:$N$1000,11,0)=0,\"--\",VLOOKUP(B690,'Zebrik W'!$B$7:$N$1000,11,0)))","v":""}]
[null,null,null,null,null,null,null,null,null,null,null,null,null,null,{"$f":"IF(ISERROR(VLOOKUP(B691,'Zebrik W'!$B$7:$N$1000,11,0)),\"\",IF(VLOOKUP(B691,'Zebrik W'!$B$7:$N$1000,11,0)=0,\"--\",VLOOKUP(B691,'Zebrik W'!$B$7:$N$1000,11,0)))","v":""}]
[null,null,null,null,null,null,null,null,null,null,null,null,null,null,{"$f":"IF(ISERROR(VLOOKUP(B692,'Zebrik W'!$B$7:$N$1000,11,0)),\"\",IF(VLOOKUP(B692,'Zebrik W'!$B$7:$N$1000,11,0)=0,\"--\",VLOOKUP(B692,'Zebrik W'!$B$7:$N$1000,11,0)))","v":""}]
[null,null,null,null,null,null,null,null,null,null,null,null,null,null,{"$f":"IF(ISERROR(VLOOKUP(B693,'Zebrik W'!$B$7:$N$1000,11,0)),\"\",IF(VLOOKUP(B693,'Zebrik W'!$B$7:$N$1000,11,0)=0,\"--\",VLOOKUP(B693,'Zebrik W'!$B$7:$N$1000,11,0)))","v":""}]
[null,null,null,null,null,null,null,null,null,null,null,null,null,null,{"$f":"IF(ISERROR(VLOOKUP(B694,'Zebrik W'!$B$7:$N$1000,11,0)),\"\",IF(VLOOKUP(B694,'Zebrik W'!$B$7:$N$1000,11,0)=0,\"--\",VLOOKUP(B694,'Zebrik W'!$B$7:$N$1000,11,0)))","v":""}]
[null,null,null,null,null,null,null,null,null,null,null,null,null,null,{"$f":"IF(ISERROR(VLOOKUP(B695,'Zebrik W'!$B$7:$N$1000,11,0)),\"\",IF(VLOOKUP(B695,'Zebrik W'!$B$7:$N$1000,11,0)=0,\"--\",VLOOKUP(B695,'Zebrik W'!$B$7:$N$1000,11,0)))","v":""}]
[null,null,null,null,null,null,null,null,null,null,null,null,null,null,{"$f":"IF(ISERROR(VLOOKUP(B696,'Zebrik W'!$B$7:$N$1000,11,0)),\"\",IF(VLOOKUP(B696,'Zebrik W'!$B$7:$N$1000,11,0)=0,\"--\",VLOOKUP(B696,'Zebrik W'!$B$7:$N$1000,11,0)))","v":""}]
[null,null,null,null,null,null,null,null,null,null,null,null,null,null,{"$f":"IF(ISERROR(VLOOKUP(B697,'Zebrik W'!$B$7:$N$1000,11,0)),\"\",IF(VLOOKUP(B697,'Zebrik W'!$B$7:$N$1000,11,0)=0,\"--\",VLOOKUP(B697,'Zebrik W'!$B$7:$N$1000,11,0)))","v":""}]
[null,null,null,null,null,null,null,null,null,null,null,null,null,null,{"$f":"IF(ISERROR(VLOOKUP(B698,'Zebrik W'!$B$7:$N$1000,11,0)),\"\",IF(VLOOKUP(B698,'Zebrik W'!$B$7:$N$1000,11,0)=0,\"--\",VLOOKUP(B698,'Zebrik W'!$B$7:$N$1000,11,0)))","v":""}]
[null,null,null,null,null,null,null,null,null,null,null,null,null,null,{"$f":"IF(ISERROR(VLOOKUP(B699,'Zebrik W'!$B$7:$N$1000,11,0)),\"\",IF(VLOOKUP(B699,'Zebrik W'!$B$7:$N$1000,11,0)=0,\"--\",VLOOKUP(B699,'Zebrik W'!$B$7:$N$1000,11,0)))","v":""}]
[null,null,null,null,null,null,null,null,null,null,null,null,null,null,{"$f":"IF(ISERROR(VLOOKUP(B700,'Zebrik W'!$B$7:$N$1000,11,0)),\"\",IF(VLOOKUP(B700,'Zebrik W'!$B$7:$N$1000,11,0)=0,\"--\",VLOOKUP(B700,'Zebrik W'!$B$7:$N$1000,11,0)))","v":""}]
[null,null,null,null,null,null,null,null,null,null,null,null,null,null,{"$f":"IF(ISERROR(VLOOKUP(B701,'Zebrik W'!$B$7:$N$1000,11,0)),\"\",IF(VLOOKUP(B701,'Zebrik W'!$B$7:$N$1000,11,0)=0,\"--\",VLOOKUP(B701,'Zebrik W'!$B$7:$N$1000,11,0)))","v":""}]
[null,null,null,null,null,null,null,null,null,null,null,null,null,null,{"$f":"IF(ISERROR(VLOOKUP(B702,'Zebrik W'!$B$7:$N$1000,11,0)),\"\",IF(VLOOKUP(B702,'Zebrik W'!$B$7:$N$1000,11,0)=0,\"--\",VLOOKUP(B702,'Zebrik W'!$B$7:$N$1000,11,0)))","v":""}]
[null,null,null,null,null,null,null,null,null,null,null,null,null,null,{"$f":"IF(ISERROR(VLOOKUP(B703,'Zebrik W'!$B$7:$N$1000,11,0)),\"\",IF(VLOOKUP(B703,'Zebrik W'!$B$7:$N$1000,11,0)=0,\"--\",VLOOKUP(B703,'Zebrik W'!$B$7:$N$1000,11,0)))","v":""}]
[null,null,null,null,null,null,null,null,null,null,null,null,null,null,{"$f":"IF(ISERROR(VLOOKUP(B704,'Zebrik W'!$B$7:$N$1000,11,0)),\"\",IF(VLOOKUP(B704,'Zebrik W'!$B$7:$N$1000,11,0)=0,\"--\",VLOOKUP(B704,'Zebrik W'!$B$7:$N$1000,11,0)))","v":""}]
[null,null,null,null,null,null,null,null,null,null,null,null,null,null,{"$f":"IF(ISERROR(VLOOKUP(B705,'Zebrik W'!$B$7:$N$1000,11,0)),\"\",IF(VLOOKUP(B705,'Zebrik W'!$B$7:$N$1000,11,0)=0,\"--\",VLOOKUP(B705,'Zebrik W'!$B$7:$N$1000,11,0)))","v":""}]
[null,null,null,null,null,null,null,null,null,null,null,null,null,null,{"$f":"IF(ISERROR(VLOOKUP(B706,'Zebrik W'!$B$7:$N$1000,11,0)),\"\",IF(VLOOKUP(B706,'Zebrik W'!$B$7:$N$1000,11,0)=0,\"--\",VLOOKUP(B706,'Zebrik W'!$B$7:$N$1000,11,0)))","v":""}]
[null,null,null,null,null,null,null,null,null,null,null,null,null,null,{"$f":"IF(ISERROR(VLOOKUP(B707,'Zebrik W'!$B$7:$N$1000,11,0)),\"\",IF(VLOOKUP(B707,'Zebrik W'!$B$7:$N$1000,11,0)=0,\"--\",VLOOKUP(B707,'Zebrik W'!$B$7:$N$1000,11,0)))","v":""}]
[null,null,null,null,null,null,null,null,null,null,null,null,null,null,{"$f":"IF(ISERROR(VLOOKUP(B708,'Zebrik W'!$B$7:$N$1000,11,0)),\"\",IF(VLOOKUP(B708,'Zebrik W'!$B$7:$N$1000,11,0)=0,\"--\",VLOOKUP(B708,'Zebrik W'!$B$7:$N$1000,11,0)))","v":""}]
[null,null,null,null,null,null,null,null,null,null,null,null,null,null,{"$f":"IF(ISERROR(VLOOKUP(B709,'Zebrik W'!$B$7:$N$1000,11,0)),\"\",IF(VLOOKUP(B709,'Zebrik W'!$B$7:$N$1000,11,0)=0,\"--\",VLOOKUP(B709,'Zebrik W'!$B$7:$N$1000,11,0)))","v":""}]
[null,null,null,null,null,null,null,null,null,null,null,null,null,null,{"$f":"IF(ISERROR(VLOOKUP(B710,'Zebrik W'!$B$7:$N$1000,11,0)),\"\",IF(VLOOKUP(B710,'Zebrik W'!$B$7:$N$1000,11,0)=0,\"--\",VLOOKUP(B710,'Zebrik W'!$B$7:$N$1000,11,0)))","v":""}]
[null,null,null,null,null,null,null,null,null,null,null,null,null,null,{"$f":"IF(ISERROR(VLOOKUP(B711,'Zebrik W'!$B$7:$N$1000,11,0)),\"\",IF(VLOOKUP(B711,'Zebrik W'!$B$7:$N$1000,11,0)=0,\"--\",VLOOKUP(B711,'Zebrik W'!$B$7:$N$1000,11,0)))","v":""}]
[null,null,null,null,null,null,null,null,null,null,null,null,null,null,{"$f":"IF(ISERROR(VLOOKUP(B712,'Zebrik W'!$B$7:$N$1000,11,0)),\"\",IF(VLOOKUP(B712,'Zebrik W'!$B$7:$N$1000,11,0)=0,\"--\",VLOOKUP(B712,'Zebrik W'!$B$7:$N$1000,11,0)))","v":""}]
[null,null,null,null,null,null,null,null,null,null,null,null,null,null,{"$f":"IF(ISERROR(VLOOKUP(B713,'Zebrik W'!$B$7:$N$1000,11,0)),\"\",IF(VLOOKUP(B713,'Zebrik W'!$B$7:$N$1000,11,0)=0,\"--\",VLOOKUP(B713,'Zebrik W'!$B$7:$N$1000,11,0)))","v":""}]
[null,null,null,null,null,null,null,null,null,null,null,null,null,null,{"$f":"IF(ISERROR(VLOOKUP(B714,'Zebrik W'!$B$7:$N$1000,11,0)),\"\",IF(VLOOKUP(B714,'Zebrik W'!$B$7:$N$1000,11,0)=0,\"--\",VLOOKUP(B714,'Zebrik W'!$B$7:$N$1000,11,0)))","v":""}]
[null,null,null,null,null,null,null,null,null,null,null,null,null,null,{"$f":"IF(ISERROR(VLOOKUP(B715,'Zebrik W'!$B$7:$N$1000,11,0)),\"\",IF(VLOOKUP(B715,'Zebrik W'!$B$7:$N$1000,11,0)=0,\"--\",VLOOKUP(B715,'Zebrik W'!$B$7:$N$1000,11,0)))","v":""}]
[null,null,null,null,null,null,null,null,null,null,null,null,null,null,{"$f":"IF(ISERROR(VLOOKUP(B716,'Zebrik W'!$B$7:$N$1000,11,0)),\"\",IF(VLOOKUP(B716,'Zebrik W'!$B$7:$N$1000,11,0)=0,\"--\",VLOOKUP(B716,'Zebrik W'!$B$7:$N$1000,11,0)))","v":""}]
[null,null,null,null,null,null,null,null,null,null,null,null,null,null,{"$f":"IF(ISERROR(VLOOKUP(B717,'Zebrik W'!$B$7:$N$1000,11,0)),\"\",IF(VLOOKUP(B717,'Zebrik W'!$B$7:$N$1000,11,0)=0,\"--\",VLOOKUP(B717,'Zebrik W'!$B$7:$N$1000,11,0)))","v":""}]
[null,null,null,null,null,null,null,null,null,null,null,null,null,null,{"$f":"IF(ISERROR(VLOOKUP(B718,'Zebrik W'!$B$7:$N$1000,11,0)),\"\",IF(VLOOKUP(B718,'Zebrik W'!$B$7:$N$1000,11,0)=0,\"--\",VLOOKUP(B718,'Zebrik W'!$B$7:$N$1000,11,0)))","v":""}]
[null,null,null,null,null,null,null,null,null,null,null,null,null,null,{"$f":"IF(ISERROR(VLOOKUP(B719,'Zebrik W'!$B$7:$N$1000,11,0)),\"\",IF(VLOOKUP(B719,'Zebrik W'!$B$7:$N$1000,11,0)=0,\"--\",VLOOKUP(B719,'Zebrik W'!$B$7:$N$1000,11,0)))","v":""}]
[null,null,null,null,null,null,null,null,null,null,null,null,null,null,{"$f":"IF(ISERROR(VLOOKUP(B720,'Zebrik W'!$B$7:$N$1000,11,0)),\"\",IF(VLOOKUP(B720,'Zebrik W'!$B$7:$N$1000,11,0)=0,\"--\",VLOOKUP(B720,'Zebrik W'!$B$7:$N$1000,11,0)))","v":""}]
[null,null,null,null,null,null,null,null,null,null,null,null,null,null,{"$f":"IF(ISERROR(VLOOKUP(B721,'Zebrik W'!$B$7:$N$1000,11,0)),\"\",IF(VLOOKUP(B721,'Zebrik W'!$B$7:$N$1000,11,0)=0,\"--\",VLOOKUP(B721,'Zebrik W'!$B$7:$N$1000,11,0)))","v":""}]
[null,null,null,null,null,null,null,null,null,null,null,null,null,null,{"$f":"IF(ISERROR(VLOOKUP(B722,'Zebrik W'!$B$7:$N$1000,11,0)),\"\",IF(VLOOKUP(B722,'Zebrik W'!$B$7:$N$1000,11,0)=0,\"--\",VLOOKUP(B722,'Zebrik W'!$B$7:$N$1000,11,0)))","v":""}]
[null,null,null,null,null,null,null,null,null,null,null,null,null,null,{"$f":"IF(ISERROR(VLOOKUP(B723,'Zebrik W'!$B$7:$N$1000,11,0)),\"\",IF(VLOOKUP(B723,'Zebrik W'!$B$7:$N$1000,11,0)=0,\"--\",VLOOKUP(B723,'Zebrik W'!$B$7:$N$1000,11,0)))","v":""}]
[null,null,null,null,null,null,null,null,null,null,null,null,null,null,{"$f":"IF(ISERROR(VLOOKUP(B724,'Zebrik W'!$B$7:$N$1000,11,0)),\"\",IF(VLOOKUP(B724,'Zebrik W'!$B$7:$N$1000,11,0)=0,\"--\",VLOOKUP(B724,'Zebrik W'!$B$7:$N$1000,11,0)))","v":""}]
[null,null,null,null,null,null,null,null,null,null,null,null,null,null,{"$f":"IF(ISERROR(VLOOKUP(B725,'Zebrik W'!$B$7:$N$1000,11,0)),\"\",IF(VLOOKUP(B725,'Zebrik W'!$B$7:$N$1000,11,0)=0,\"--\",VLOOKUP(B725,'Zebrik W'!$B$7:$N$1000,11,0)))","v":""}]
[null,null,null,null,null,null,null,null,null,null,null,null,null,null,{"$f":"IF(ISERROR(VLOOKUP(B726,'Zebrik W'!$B$7:$N$1000,11,0)),\"\",IF(VLOOKUP(B726,'Zebrik W'!$B$7:$N$1000,11,0)=0,\"--\",VLOOKUP(B726,'Zebrik W'!$B$7:$N$1000,11,0)))","v":""}]
[null,null,null,null,null,null,null,null,null,null,null,null,null,null,{"$f":"IF(ISERROR(VLOOKUP(B727,'Zebrik W'!$B$7:$N$1000,11,0)),\"\",IF(VLOOKUP(B727,'Zebrik W'!$B$7:$N$1000,11,0)=0,\"--\",VLOOKUP(B727,'Zebrik W'!$B$7:$N$1000,11,0)))","v":""}]
[null,null,null,null,null,null,null,null,null,null,null,null,null,null,{"$f":"IF(ISERROR(VLOOKUP(B728,'Zebrik W'!$B$7:$N$1000,11,0)),\"\",IF(VLOOKUP(B728,'Zebrik W'!$B$7:$N$1000,11,0)=0,\"--\",VLOOKUP(B728,'Zebrik W'!$B$7:$N$1000,11,0)))","v":""}]
[null,null,null,null,null,null,null,null,null,null,null,null,null,null,{"$f":"IF(ISERROR(VLOOKUP(B729,'Zebrik W'!$B$7:$N$1000,11,0)),\"\",IF(VLOOKUP(B729,'Zebrik W'!$B$7:$N$1000,11,0)=0,\"--\",VLOOKUP(B729,'Zebrik W'!$B$7:$N$1000,11,0)))","v":""}]
[null,null,null,null,null,null,null,null,null,null,null,null,null,null,{"$f":"IF(ISERROR(VLOOKUP(B730,'Zebrik W'!$B$7:$N$1000,11,0)),\"\",IF(VLOOKUP(B730,'Zebrik W'!$B$7:$N$1000,11,0)=0,\"--\",VLOOKUP(B730,'Zebrik W'!$B$7:$N$1000,11,0)))","v":""}]
[null,null,null,null,null,null,null,null,null,null,null,null,null,null,{"$f":"IF(ISERROR(VLOOKUP(B731,'Zebrik W'!$B$7:$N$1000,11,0)),\"\",IF(VLOOKUP(B731,'Zebrik W'!$B$7:$N$1000,11,0)=0,\"--\",VLOOKUP(B731,'Zebrik W'!$B$7:$N$1000,11,0)))","v":""}]
[null,null,null,null,null,null,null,null,null,null,null,null,null,null,{"$f":"IF(ISERROR(VLOOKUP(B732,'Zebrik W'!$B$7:$N$1000,11,0)),\"\",IF(VLOOKUP(B732,'Zebrik W'!$B$7:$N$1000,11,0)=0,\"--\",VLOOKUP(B732,'Zebrik W'!$B$7:$N$1000,11,0)))","v":""}]
[null,null,null,null,null,null,null,null,null,null,null,null,null,null,{"$f":"IF(ISERROR(VLOOKUP(B733,'Zebrik W'!$B$7:$N$1000,11,0)),\"\",IF(VLOOKUP(B733,'Zebrik W'!$B$7:$N$1000,11,0)=0,\"--\",VLOOKUP(B733,'Zebrik W'!$B$7:$N$1000,11,0)))","v":""}]
[null,null,null,null,null,null,null,null,null,null,null,null,null,null,{"$f":"IF(ISERROR(VLOOKUP(B734,'Zebrik W'!$B$7:$N$1000,11,0)),\"\",IF(VLOOKUP(B734,'Zebrik W'!$B$7:$N$1000,11,0)=0,\"--\",VLOOKUP(B734,'Zebrik W'!$B$7:$N$1000,11,0)))","v":""}]
[null,null,null,null,null,null,null,null,null,null,null,null,null,null,{"$f":"IF(ISERROR(VLOOKUP(B735,'Zebrik W'!$B$7:$N$1000,11,0)),\"\",IF(VLOOKUP(B735,'Zebrik W'!$B$7:$N$1000,11,0)=0,\"--\",VLOOKUP(B735,'Zebrik W'!$B$7:$N$1000,11,0)))","v":""}]
[null,null,null,null,null,null,null,null,null,null,null,null,null,null,{"$f":"IF(ISERROR(VLOOKUP(B736,'Zebrik W'!$B$7:$N$1000,11,0)),\"\",IF(VLOOKUP(B736,'Zebrik W'!$B$7:$N$1000,11,0)=0,\"--\",VLOOKUP(B736,'Zebrik W'!$B$7:$N$1000,11,0)))","v":""}]
[null,null,null,null,null,null,null,null,null,null,null,null,null,null,{"$f":"IF(ISERROR(VLOOKUP(B737,'Zebrik W'!$B$7:$N$1000,11,0)),\"\",IF(VLOOKUP(B737,'Zebrik W'!$B$7:$N$1000,11,0)=0,\"--\",VLOOKUP(B737,'Zebrik W'!$B$7:$N$1000,11,0)))","v":""}]
[null,null,null,null,null,null,null,null,null,null,null,null,null,null,{"$f":"IF(ISERROR(VLOOKUP(B738,'Zebrik W'!$B$7:$N$1000,11,0)),\"\",IF(VLOOKUP(B738,'Zebrik W'!$B$7:$N$1000,11,0)=0,\"--\",VLOOKUP(B738,'Zebrik W'!$B$7:$N$1000,11,0)))","v":""}]
[null,null,null,null,null,null,null,null,null,null,null,null,null,null,{"$f":"IF(ISERROR(VLOOKUP(B739,'Zebrik W'!$B$7:$N$1000,11,0)),\"\",IF(VLOOKUP(B739,'Zebrik W'!$B$7:$N$1000,11,0)=0,\"--\",VLOOKUP(B739,'Zebrik W'!$B$7:$N$1000,11,0)))","v":""}]
[null,null,null,null,null,null,null,null,null,null,null,null,null,null,{"$f":"IF(ISERROR(VLOOKUP(B740,'Zebrik W'!$B$7:$N$1000,11,0)),\"\",IF(VLOOKUP(B740,'Zebrik W'!$B$7:$N$1000,11,0)=0,\"--\",VLOOKUP(B740,'Zebrik W'!$B$7:$N$1000,11,0)))","v":""}]
[null,null,null,null,null,null,null,null,null,null,null,null,null,null,{"$f":"IF(ISERROR(VLOOKUP(B741,'Zebrik W'!$B$7:$N$1000,11,0)),\"\",IF(VLOOKUP(B741,'Zebrik W'!$B$7:$N$1000,11,0)=0,\"--\",VLOOKUP(B741,'Zebrik W'!$B$7:$N$1000,11,0)))","v":""}]
[null,null,null,null,null,null,null,null,null,null,null,null,null,null,{"$f":"IF(ISERROR(VLOOKUP(B742,'Zebrik W'!$B$7:$N$1000,11,0)),\"\",IF(VLOOKUP(B742,'Zebrik W'!$B$7:$N$1000,11,0)=0,\"--\",VLOOKUP(B742,'Zebrik W'!$B$7:$N$1000,11,0)))","v":""}]
[null,null,null,null,null,null,null,null,null,null,null,null,null,null,{"$f":"IF(ISERROR(VLOOKUP(B743,'Zebrik W'!$B$7:$N$1000,11,0)),\"\",IF(VLOOKUP(B743,'Zebrik W'!$B$7:$N$1000,11,0)=0,\"--\",VLOOKUP(B743,'Zebrik W'!$B$7:$N$1000,11,0)))","v":""}]
[null,null,null,null,null,null,null,null,null,null,null,null,null,null,{"$f":"IF(ISERROR(VLOOKUP(B744,'Zebrik W'!$B$7:$N$1000,11,0)),\"\",IF(VLOOKUP(B744,'Zebrik W'!$B$7:$N$1000,11,0)=0,\"--\",VLOOKUP(B744,'Zebrik W'!$B$7:$N$1000,11,0)))","v":""}]
[null,null,null,null,null,null,null,null,null,null,null,null,null,null,{"$f":"IF(ISERROR(VLOOKUP(B745,'Zebrik W'!$B$7:$N$1000,11,0)),\"\",IF(VLOOKUP(B745,'Zebrik W'!$B$7:$N$1000,11,0)=0,\"--\",VLOOKUP(B745,'Zebrik W'!$B$7:$N$1000,11,0)))","v":""}]
[null,null,null,null,null,null,null,null,null,null,null,null,null,null,{"$f":"IF(ISERROR(VLOOKUP(B746,'Zebrik W'!$B$7:$N$1000,11,0)),\"\",IF(VLOOKUP(B746,'Zebrik W'!$B$7:$N$1000,11,0)=0,\"--\",VLOOKUP(B746,'Zebrik W'!$B$7:$N$1000,11,0)))","v":""}]
[null,null,null,null,null,null,null,null,null,null,null,null,null,null,{"$f":"IF(ISERROR(VLOOKUP(B747,'Zebrik W'!$B$7:$N$1000,11,0)),\"\",IF(VLOOKUP(B747,'Zebrik W'!$B$7:$N$1000,11,0)=0,\"--\",VLOOKUP(B747,'Zebrik W'!$B$7:$N$1000,11,0)))","v":""}]
[null,null,null,null,null,null,null,null,null,null,null,null,null,null,{"$f":"IF(ISERROR(VLOOKUP(B748,'Zebrik W'!$B$7:$N$1000,11,0)),\"\",IF(VLOOKUP(B748,'Zebrik W'!$B$7:$N$1000,11,0)=0,\"--\",VLOOKUP(B748,'Zebrik W'!$B$7:$N$1000,11,0)))","v":""}]
[null,null,null,null,null,null,null,null,null,null,null,null,null,null,{"$f":"IF(ISERROR(VLOOKUP(B749,'Zebrik W'!$B$7:$N$1000,11,0)),\"\",IF(VLOOKUP(B749,'Zebrik W'!$B$7:$N$1000,11,0)=0,\"--\",VLOOKUP(B749,'Zebrik W'!$B$7:$N$1000,11,0)))","v":""}]
[null,null,null,null,null,null,null,null,null,null,null,null,null,null,{"$f":"IF(ISERROR(VLOOKUP(B750,'Zebrik W'!$B$7:$N$1000,11,0)),\"\",IF(VLOOKUP(B750,'Zebrik W'!$B$7:$N$1000,11,0)=0,\"--\",VLOOKUP(B750,'Zebrik W'!$B$7:$N$1000,11,0)))","v":""}]
[null,null,null,null,null,null,null,null,null,null,null,null,null,null,{"$f":"IF(ISERROR(VLOOKUP(B751,'Zebrik W'!$B$7:$N$1000,11,0)),\"\",IF(VLOOKUP(B751,'Zebrik W'!$B$7:$N$1000,11,0)=0,\"--\",VLOOKUP(B751,'Zebrik W'!$B$7:$N$1000,11,0)))","v":""}]
[null,null,null,null,null,null,null,null,null,null,null,null,null,null,{"$f":"IF(ISERROR(VLOOKUP(B752,'Zebrik W'!$B$7:$N$1000,11,0)),\"\",IF(VLOOKUP(B752,'Zebrik W'!$B$7:$N$1000,11,0)=0,\"--\",VLOOKUP(B752,'Zebrik W'!$B$7:$N$1000,11,0)))","v":""}]
[null,null,null,null,null,null,null,null,null,null,null,null,null,null,{"$f":"IF(ISERROR(VLOOKUP(B753,'Zebrik W'!$B$7:$N$1000,11,0)),\"\",IF(VLOOKUP(B753,'Zebrik W'!$B$7:$N$1000,11,0)=0,\"--\",VLOOKUP(B753,'Zebrik W'!$B$7:$N$1000,11,0)))","v":""}]
[null,null,null,null,null,null,null,null,null,null,null,null,null,null,{"$f":"IF(ISERROR(VLOOKUP(B754,'Zebrik W'!$B$7:$N$1000,11,0)),\"\",IF(VLOOKUP(B754,'Zebrik W'!$B$7:$N$1000,11,0)=0,\"--\",VLOOKUP(B754,'Zebrik W'!$B$7:$N$1000,11,0)))","v":""}]
[null,null,null,null,null,null,null,null,null,null,null,null,null,null,{"$f":"IF(ISERROR(VLOOKUP(B755,'Zebrik W'!$B$7:$N$1000,11,0)),\"\",IF(VLOOKUP(B755,'Zebrik W'!$B$7:$N$1000,11,0)=0,\"--\",VLOOKUP(B755,'Zebrik W'!$B$7:$N$1000,11,0)))","v":""}]
[null,null,null,null,null,null,null,null,null,null,null,null,null,null,{"$f":"IF(ISERROR(VLOOKUP(B756,'Zebrik W'!$B$7:$N$1000,11,0)),\"\",IF(VLOOKUP(B756,'Zebrik W'!$B$7:$N$1000,11,0)=0,\"--\",VLOOKUP(B756,'Zebrik W'!$B$7:$N$1000,11,0)))","v":""}]
[null,null,null,null,null,null,null,null,null,null,null,null,null,null,{"$f":"IF(ISERROR(VLOOKUP(B757,'Zebrik W'!$B$7:$N$1000,11,0)),\"\",IF(VLOOKUP(B757,'Zebrik W'!$B$7:$N$1000,11,0)=0,\"--\",VLOOKUP(B757,'Zebrik W'!$B$7:$N$1000,11,0)))","v":""}]
[null,null,null,null,null,null,null,null,null,null,null,null,null,null,{"$f":"IF(ISERROR(VLOOKUP(B758,'Zebrik W'!$B$7:$N$1000,11,0)),\"\",IF(VLOOKUP(B758,'Zebrik W'!$B$7:$N$1000,11,0)=0,\"--\",VLOOKUP(B758,'Zebrik W'!$B$7:$N$1000,11,0)))","v":""}]
[null,null,null,null,null,null,null,null,null,null,null,null,null,null,{"$f":"IF(ISERROR(VLOOKUP(B759,'Zebrik W'!$B$7:$N$1000,11,0)),\"\",IF(VLOOKUP(B759,'Zebrik W'!$B$7:$N$1000,11,0)=0,\"--\",VLOOKUP(B759,'Zebrik W'!$B$7:$N$1000,11,0)))","v":""}]
[null,null,null,null,null,null,null,null,null,null,null,null,null,null,{"$f":"IF(ISERROR(VLOOKUP(B760,'Zebrik W'!$B$7:$N$1000,11,0)),\"\",IF(VLOOKUP(B760,'Zebrik W'!$B$7:$N$1000,11,0)=0,\"--\",VLOOKUP(B760,'Zebrik W'!$B$7:$N$1000,11,0)))","v":""}]
[null,null,null,null,null,null,null,null,null,null,null,null,null,null,{"$f":"IF(ISERROR(VLOOKUP(B761,'Zebrik W'!$B$7:$N$1000,11,0)),\"\",IF(VLOOKUP(B761,'Zebrik W'!$B$7:$N$1000,11,0)=0,\"--\",VLOOKUP(B761,'Zebrik W'!$B$7:$N$1000,11,0)))","v":""}]
[null,null,null,null,null,null,null,null,null,null,null,null,null,null,{"$f":"IF(ISERROR(VLOOKUP(B762,'Zebrik W'!$B$7:$N$1000,11,0)),\"\",IF(VLOOKUP(B762,'Zebrik W'!$B$7:$N$1000,11,0)=0,\"--\",VLOOKUP(B762,'Zebrik W'!$B$7:$N$1000,11,0)))","v":""}]
[null,null,null,null,null,null,null,null,null,null,null,null,null,null,{"$f":"IF(ISERROR(VLOOKUP(B763,'Zebrik W'!$B$7:$N$1000,11,0)),\"\",IF(VLOOKUP(B763,'Zebrik W'!$B$7:$N$1000,11,0)=0,\"--\",VLOOKUP(B763,'Zebrik W'!$B$7:$N$1000,11,0)))","v":""}]
[null,null,null,null,null,null,null,null,null,null,null,null,null,null,{"$f":"IF(ISERROR(VLOOKUP(B764,'Zebrik W'!$B$7:$N$1000,11,0)),\"\",IF(VLOOKUP(B764,'Zebrik W'!$B$7:$N$1000,11,0)=0,\"--\",VLOOKUP(B764,'Zebrik W'!$B$7:$N$1000,11,0)))","v":""}]
[null,null,null,null,null,null,null,null,null,null,null,null,null,null,{"$f":"IF(ISERROR(VLOOKUP(B765,'Zebrik W'!$B$7:$N$1000,11,0)),\"\",IF(VLOOKUP(B765,'Zebrik W'!$B$7:$N$1000,11,0)=0,\"--\",VLOOKUP(B765,'Zebrik W'!$B$7:$N$1000,11,0)))","v":""}]
[null,null,null,null,null,null,null,null,null,null,null,null,null,null,{"$f":"IF(ISERROR(VLOOKUP(B766,'Zebrik W'!$B$7:$N$1000,11,0)),\"\",IF(VLOOKUP(B766,'Zebrik W'!$B$7:$N$1000,11,0)=0,\"--\",VLOOKUP(B766,'Zebrik W'!$B$7:$N$1000,11,0)))","v":""}]
[null,null,null,null,null,null,null,null,null,null,null,null,null,null,{"$f":"IF(ISERROR(VLOOKUP(B767,'Zebrik W'!$B$7:$N$1000,11,0)),\"\",IF(VLOOKUP(B767,'Zebrik W'!$B$7:$N$1000,11,0)=0,\"--\",VLOOKUP(B767,'Zebrik W'!$B$7:$N$1000,11,0)))","v":""}]
[null,null,null,null,null,null,null,null,null,null,null,null,null,null,{"$f":"IF(ISERROR(VLOOKUP(B768,'Zebrik W'!$B$7:$N$1000,11,0)),\"\",IF(VLOOKUP(B768,'Zebrik W'!$B$7:$N$1000,11,0)=0,\"--\",VLOOKUP(B768,'Zebrik W'!$B$7:$N$1000,11,0)))","v":""}]
[null,null,null,null,null,null,null,null,null,null,null,null,null,null,{"$f":"IF(ISERROR(VLOOKUP(B769,'Zebrik W'!$B$7:$N$1000,11,0)),\"\",IF(VLOOKUP(B769,'Zebrik W'!$B$7:$N$1000,11,0)=0,\"--\",VLOOKUP(B769,'Zebrik W'!$B$7:$N$1000,11,0)))","v":""}]
[null,null,null,null,null,null,null,null,null,null,null,null,null,null,{"$f":"IF(ISERROR(VLOOKUP(B770,'Zebrik W'!$B$7:$N$1000,11,0)),\"\",IF(VLOOKUP(B770,'Zebrik W'!$B$7:$N$1000,11,0)=0,\"--\",VLOOKUP(B770,'Zebrik W'!$B$7:$N$1000,11,0)))","v":""}]
[null,null,null,null,null,null,null,null,null,null,null,null,null,null,{"$f":"IF(ISERROR(VLOOKUP(B771,'Zebrik W'!$B$7:$N$1000,11,0)),\"\",IF(VLOOKUP(B771,'Zebrik W'!$B$7:$N$1000,11,0)=0,\"--\",VLOOKUP(B771,'Zebrik W'!$B$7:$N$1000,11,0)))","v":""}]
[null,null,null,null,null,null,null,null,null,null,null,null,null,null,{"$f":"IF(ISERROR(VLOOKUP(B772,'Zebrik W'!$B$7:$N$1000,11,0)),\"\",IF(VLOOKUP(B772,'Zebrik W'!$B$7:$N$1000,11,0)=0,\"--\",VLOOKUP(B772,'Zebrik W'!$B$7:$N$1000,11,0)))","v":""}]
[null,null,null,null,null,null,null,null,null,null,null,null,null,null,{"$f":"IF(ISERROR(VLOOKUP(B773,'Zebrik W'!$B$7:$N$1000,11,0)),\"\",IF(VLOOKUP(B773,'Zebrik W'!$B$7:$N$1000,11,0)=0,\"--\",VLOOKUP(B773,'Zebrik W'!$B$7:$N$1000,11,0)))","v":""}]
[null,null,null,null,null,null,null,null,null,null,null,null,null,null,{"$f":"IF(ISERROR(VLOOKUP(B774,'Zebrik W'!$B$7:$N$1000,11,0)),\"\",IF(VLOOKUP(B774,'Zebrik W'!$B$7:$N$1000,11,0)=0,\"--\",VLOOKUP(B774,'Zebrik W'!$B$7:$N$1000,11,0)))","v":""}]
[null,null,null,null,null,null,null,null,null,null,null,null,null,null,{"$f":"IF(ISERROR(VLOOKUP(B775,'Zebrik W'!$B$7:$N$1000,11,0)),\"\",IF(VLOOKUP(B775,'Zebrik W'!$B$7:$N$1000,11,0)=0,\"--\",VLOOKUP(B775,'Zebrik W'!$B$7:$N$1000,11,0)))","v":""}]
[null,null,null,null,null,null,null,null,null,null,null,null,null,null,{"$f":"IF(ISERROR(VLOOKUP(B776,'Zebrik W'!$B$7:$N$1000,11,0)),\"\",IF(VLOOKUP(B776,'Zebrik W'!$B$7:$N$1000,11,0)=0,\"--\",VLOOKUP(B776,'Zebrik W'!$B$7:$N$1000,11,0)))","v":""}]
[null,null,null,null,null,null,null,null,null,null,null,null,null,null,{"$f":"IF(ISERROR(VLOOKUP(B777,'Zebrik W'!$B$7:$N$1000,11,0)),\"\",IF(VLOOKUP(B777,'Zebrik W'!$B$7:$N$1000,11,0)=0,\"--\",VLOOKUP(B777,'Zebrik W'!$B$7:$N$1000,11,0)))","v":""}]
[null,null,null,null,null,null,null,null,null,null,null,null,null,null,{"$f":"IF(ISERROR(VLOOKUP(B778,'Zebrik W'!$B$7:$N$1000,11,0)),\"\",IF(VLOOKUP(B778,'Zebrik W'!$B$7:$N$1000,11,0)=0,\"--\",VLOOKUP(B778,'Zebrik W'!$B$7:$N$1000,11,0)))","v":""}]
[null,null,null,null,null,null,null,null,null,null,null,null,null,null,{"$f":"IF(ISERROR(VLOOKUP(B779,'Zebrik W'!$B$7:$N$1000,11,0)),\"\",IF(VLOOKUP(B779,'Zebrik W'!$B$7:$N$1000,11,0)=0,\"--\",VLOOKUP(B779,'Zebrik W'!$B$7:$N$1000,11,0)))","v":""}]
[null,null,null,null,null,null,null,null,null,null,null,null,null,null,{"$f":"IF(ISERROR(VLOOKUP(B780,'Zebrik W'!$B$7:$N$1000,11,0)),\"\",IF(VLOOKUP(B780,'Zebrik W'!$B$7:$N$1000,11,0)=0,\"--\",VLOOKUP(B780,'Zebrik W'!$B$7:$N$1000,11,0)))","v":""}]
[null,null,null,null,null,null,null,null,null,null,null,null,null,null,{"$f":"IF(ISERROR(VLOOKUP(B781,'Zebrik W'!$B$7:$N$1000,11,0)),\"\",IF(VLOOKUP(B781,'Zebrik W'!$B$7:$N$1000,11,0)=0,\"--\",VLOOKUP(B781,'Zebrik W'!$B$7:$N$1000,11,0)))","v":""}]
[null,null,null,null,null,null,null,null,null,null,null,null,null,null,{"$f":"IF(ISERROR(VLOOKUP(B782,'Zebrik W'!$B$7:$N$1000,11,0)),\"\",IF(VLOOKUP(B782,'Zebrik W'!$B$7:$N$1000,11,0)=0,\"--\",VLOOKUP(B782,'Zebrik W'!$B$7:$N$1000,11,0)))","v":""}]
[null,null,null,null,null,null,null,null,null,null,null,null,null,null,{"$f":"IF(ISERROR(VLOOKUP(B783,'Zebrik W'!$B$7:$N$1000,11,0)),\"\",IF(VLOOKUP(B783,'Zebrik W'!$B$7:$N$1000,11,0)=0,\"--\",VLOOKUP(B783,'Zebrik W'!$B$7:$N$1000,11,0)))","v":""}]
[null,null,null,null,null,null,null,null,null,null,null,null,null,null,{"$f":"IF(ISERROR(VLOOKUP(B784,'Zebrik W'!$B$7:$N$1000,11,0)),\"\",IF(VLOOKUP(B784,'Zebrik W'!$B$7:$N$1000,11,0)=0,\"--\",VLOOKUP(B784,'Zebrik W'!$B$7:$N$1000,11,0)))","v":""}]
[null,null,null,null,null,null,null,null,null,null,null,null,null,null,{"$f":"IF(ISERROR(VLOOKUP(B785,'Zebrik W'!$B$7:$N$1000,11,0)),\"\",IF(VLOOKUP(B785,'Zebrik W'!$B$7:$N$1000,11,0)=0,\"--\",VLOOKUP(B785,'Zebrik W'!$B$7:$N$1000,11,0)))","v":""}]
[null,null,null,null,null,null,null,null,null,null,null,null,null,null,{"$f":"IF(ISERROR(VLOOKUP(B786,'Zebrik W'!$B$7:$N$1000,11,0)),\"\",IF(VLOOKUP(B786,'Zebrik W'!$B$7:$N$1000,11,0)=0,\"--\",VLOOKUP(B786,'Zebrik W'!$B$7:$N$1000,11,0)))","v":""}]
[null,null,null,null,null,null,null,null,null,null,null,null,null,null,{"$f":"IF(ISERROR(VLOOKUP(B787,'Zebrik W'!$B$7:$N$1000,11,0)),\"\",IF(VLOOKUP(B787,'Zebrik W'!$B$7:$N$1000,11,0)=0,\"--\",VLOOKUP(B787,'Zebrik W'!$B$7:$N$1000,11,0)))","v":""}]
[null,null,null,null,null,null,null,null,null,null,null,null,null,null,{"$f":"IF(ISERROR(VLOOKUP(B788,'Zebrik W'!$B$7:$N$1000,11,0)),\"\",IF(VLOOKUP(B788,'Zebrik W'!$B$7:$N$1000,11,0)=0,\"--\",VLOOKUP(B788,'Zebrik W'!$B$7:$N$1000,11,0)))","v":""}]
[null,null,null,null,null,null,null,null,null,null,null,null,null,null,{"$f":"IF(ISERROR(VLOOKUP(B789,'Zebrik W'!$B$7:$N$1000,11,0)),\"\",IF(VLOOKUP(B789,'Zebrik W'!$B$7:$N$1000,11,0)=0,\"--\",VLOOKUP(B789,'Zebrik W'!$B$7:$N$1000,11,0)))","v":""}]
[null,null,null,null,null,null,null,null,null,null,null,null,null,null,{"$f":"IF(ISERROR(VLOOKUP(B790,'Zebrik W'!$B$7:$N$1000,11,0)),\"\",IF(VLOOKUP(B790,'Zebrik W'!$B$7:$N$1000,11,0)=0,\"--\",VLOOKUP(B790,'Zebrik W'!$B$7:$N$1000,11,0)))","v":""}]
[null,null,null,null,null,null,null,null,null,null,null,null,null,null,{"$f":"IF(ISERROR(VLOOKUP(B791,'Zebrik W'!$B$7:$N$1000,11,0)),\"\",IF(VLOOKUP(B791,'Zebrik W'!$B$7:$N$1000,11,0)=0,\"--\",VLOOKUP(B791,'Zebrik W'!$B$7:$N$1000,11,0)))","v":""}]
[null,null,null,null,null,null,null,null,null,null,null,null,null,null,{"$f":"IF(ISERROR(VLOOKUP(B792,'Zebrik W'!$B$7:$N$1000,11,0)),\"\",IF(VLOOKUP(B792,'Zebrik W'!$B$7:$N$1000,11,0)=0,\"--\",VLOOKUP(B792,'Zebrik W'!$B$7:$N$1000,11,0)))","v":""}]
[null,null,null,null,null,null,null,null,null,null,null,null,null,null,{"$f":"IF(ISERROR(VLOOKUP(B793,'Zebrik W'!$B$7:$N$1000,11,0)),\"\",IF(VLOOKUP(B793,'Zebrik W'!$B$7:$N$1000,11,0)=0,\"--\",VLOOKUP(B793,'Zebrik W'!$B$7:$N$1000,11,0)))","v":""}]
[null,null,null,null,null,null,null,null,null,null,null,null,null,null,{"$f":"IF(ISERROR(VLOOKUP(B794,'Zebrik W'!$B$7:$N$1000,11,0)),\"\",IF(VLOOKUP(B794,'Zebrik W'!$B$7:$N$1000,11,0)=0,\"--\",VLOOKUP(B794,'Zebrik W'!$B$7:$N$1000,11,0)))","v":""}]
[null,null,null,null,null,null,null,null,null,null,null,null,null,null,{"$f":"IF(ISERROR(VLOOKUP(B795,'Zebrik W'!$B$7:$N$1000,11,0)),\"\",IF(VLOOKUP(B795,'Zebrik W'!$B$7:$N$1000,11,0)=0,\"--\",VLOOKUP(B795,'Zebrik W'!$B$7:$N$1000,11,0)))","v":""}]
[null,null,null,null,null,null,null,null,null,null,null,null,null,null,{"$f":"IF(ISERROR(VLOOKUP(B796,'Zebrik W'!$B$7:$N$1000,11,0)),\"\",IF(VLOOKUP(B796,'Zebrik W'!$B$7:$N$1000,11,0)=0,\"--\",VLOOKUP(B796,'Zebrik W'!$B$7:$N$1000,11,0)))","v":""}]
[null,null,null,null,null,null,null,null,null,null,null,null,null,null,{"$f":"IF(ISERROR(VLOOKUP(B797,'Zebrik W'!$B$7:$N$1000,11,0)),\"\",IF(VLOOKUP(B797,'Zebrik W'!$B$7:$N$1000,11,0)=0,\"--\",VLOOKUP(B797,'Zebrik W'!$B$7:$N$1000,11,0)))","v":""}]
[null,null,null,null,null,null,null,null,null,null,null,null,null,null,{"$f":"IF(ISERROR(VLOOKUP(B798,'Zebrik W'!$B$7:$N$1000,11,0)),\"\",IF(VLOOKUP(B798,'Zebrik W'!$B$7:$N$1000,11,0)=0,\"--\",VLOOKUP(B798,'Zebrik W'!$B$7:$N$1000,11,0)))","v":""}]
[null,null,null,null,null,null,null,null,null,null,null,null,null,null,{"$f":"IF(ISERROR(VLOOKUP(B799,'Zebrik W'!$B$7:$N$1000,11,0)),\"\",IF(VLOOKUP(B799,'Zebrik W'!$B$7:$N$1000,11,0)=0,\"--\",VLOOKUP(B799,'Zebrik W'!$B$7:$N$1000,11,0)))","v":""}]
[null,null,null,null,null,null,null,null,null,null,null,null,null,null,{"$f":"IF(ISERROR(VLOOKUP(B800,'Zebrik W'!$B$7:$N$1000,11,0)),\"\",IF(VLOOKUP(B800,'Zebrik W'!$B$7:$N$1000,11,0)=0,\"--\",VLOOKUP(B800,'Zebrik W'!$B$7:$N$1000,11,0)))","v":""}]
[null,null,null,null,null,null,null,null,null,null,null,null,null,null,{"$f":"IF(ISERROR(VLOOKUP(B801,'Zebrik W'!$B$7:$N$1000,11,0)),\"\",IF(VLOOKUP(B801,'Zebrik W'!$B$7:$N$1000,11,0)=0,\"--\",VLOOKUP(B801,'Zebrik W'!$B$7:$N$1000,11,0)))","v":""}]
[null,null,null,null,null,null,null,null,null,null,null,null,null,null,{"$f":"IF(ISERROR(VLOOKUP(B802,'Zebrik W'!$B$7:$N$1000,11,0)),\"\",IF(VLOOKUP(B802,'Zebrik W'!$B$7:$N$1000,11,0)=0,\"--\",VLOOKUP(B802,'Zebrik W'!$B$7:$N$1000,11,0)))","v":""}]
[null,null,null,null,null,null,null,null,null,null,null,null,null,null,{"$f":"IF(ISERROR(VLOOKUP(B803,'Zebrik W'!$B$7:$N$1000,11,0)),\"\",IF(VLOOKUP(B803,'Zebrik W'!$B$7:$N$1000,11,0)=0,\"--\",VLOOKUP(B803,'Zebrik W'!$B$7:$N$1000,11,0)))","v":""}]
[null,null,null,null,null,null,null,null,null,null,null,null,null,null,{"$f":"IF(ISERROR(VLOOKUP(B804,'Zebrik W'!$B$7:$N$1000,11,0)),\"\",IF(VLOOKUP(B804,'Zebrik W'!$B$7:$N$1000,11,0)=0,\"--\",VLOOKUP(B804,'Zebrik W'!$B$7:$N$1000,11,0)))","v":""}]
[null,null,null,null,null,null,null,null,null,null,null,null,null,null,{"$f":"IF(ISERROR(VLOOKUP(B805,'Zebrik W'!$B$7:$N$1000,11,0)),\"\",IF(VLOOKUP(B805,'Zebrik W'!$B$7:$N$1000,11,0)=0,\"--\",VLOOKUP(B805,'Zebrik W'!$B$7:$N$1000,11,0)))","v":""}]
[null,null,null,null,null,null,null,null,null,null,null,null,null,null,{"$f":"IF(ISERROR(VLOOKUP(B806,'Zebrik W'!$B$7:$N$1000,11,0)),\"\",IF(VLOOKUP(B806,'Zebrik W'!$B$7:$N$1000,11,0)=0,\"--\",VLOOKUP(B806,'Zebrik W'!$B$7:$N$1000,11,0)))","v":""}]
[null,null,null,null,null,null,null,null,null,null,null,null,null,null,{"$f":"IF(ISERROR(VLOOKUP(B807,'Zebrik W'!$B$7:$N$1000,11,0)),\"\",IF(VLOOKUP(B807,'Zebrik W'!$B$7:$N$1000,11,0)=0,\"--\",VLOOKUP(B807,'Zebrik W'!$B$7:$N$1000,11,0)))","v":""}]
[null,null,null,null,null,null,null,null,null,null,null,null,null,null,{"$f":"IF(ISERROR(VLOOKUP(B808,'Zebrik W'!$B$7:$N$1000,11,0)),\"\",IF(VLOOKUP(B808,'Zebrik W'!$B$7:$N$1000,11,0)=0,\"--\",VLOOKUP(B808,'Zebrik W'!$B$7:$N$1000,11,0)))","v":""}]
[null,null,null,null,null,null,null,null,null,null,null,null,null,null,{"$f":"IF(ISERROR(VLOOKUP(B809,'Zebrik W'!$B$7:$N$1000,11,0)),\"\",IF(VLOOKUP(B809,'Zebrik W'!$B$7:$N$1000,11,0)=0,\"--\",VLOOKUP(B809,'Zebrik W'!$B$7:$N$1000,11,0)))","v":""}]
[null,null,null,null,null,null,null,null,null,null,null,null,null,null,{"$f":"IF(ISERROR(VLOOKUP(B810,'Zebrik W'!$B$7:$N$1000,11,0)),\"\",IF(VLOOKUP(B810,'Zebrik W'!$B$7:$N$1000,11,0)=0,\"--\",VLOOKUP(B810,'Zebrik W'!$B$7:$N$1000,11,0)))","v":""}]
[null,null,null,null,null,null,null,null,null,null,null,null,null,null,{"$f":"IF(ISERROR(VLOOKUP(B811,'Zebrik W'!$B$7:$N$1000,11,0)),\"\",IF(VLOOKUP(B811,'Zebrik W'!$B$7:$N$1000,11,0)=0,\"--\",VLOOKUP(B811,'Zebrik W'!$B$7:$N$1000,11,0)))","v":""}]
[null,null,null,null,null,null,null,null,null,null,null,null,null,null,{"$f":"IF(ISERROR(VLOOKUP(B812,'Zebrik W'!$B$7:$N$1000,11,0)),\"\",IF(VLOOKUP(B812,'Zebrik W'!$B$7:$N$1000,11,0)=0,\"--\",VLOOKUP(B812,'Zebrik W'!$B$7:$N$1000,11,0)))","v":""}]
[null,null,null,null,null,null,null,null,null,null,null,null,null,null,{"$f":"IF(ISERROR(VLOOKUP(B813,'Zebrik W'!$B$7:$N$1000,11,0)),\"\",IF(VLOOKUP(B813,'Zebrik W'!$B$7:$N$1000,11,0)=0,\"--\",VLOOKUP(B813,'Zebrik W'!$B$7:$N$1000,11,0)))","v":""}]
[null,null,null,null,null,null,null,null,null,null,null,null,null,null,{"$f":"IF(ISERROR(VLOOKUP(B814,'Zebrik W'!$B$7:$N$1000,11,0)),\"\",IF(VLOOKUP(B814,'Zebrik W'!$B$7:$N$1000,11,0)=0,\"--\",VLOOKUP(B814,'Zebrik W'!$B$7:$N$1000,11,0)))","v":""}]
[null,null,null,null,null,null,null,null,null,null,null,null,null,null,{"$f":"IF(ISERROR(VLOOKUP(B815,'Zebrik W'!$B$7:$N$1000,11,0)),\"\",IF(VLOOKUP(B815,'Zebrik W'!$B$7:$N$1000,11,0)=0,\"--\",VLOOKUP(B815,'Zebrik W'!$B$7:$N$1000,11,0)))","v":""}]
[null,null,null,null,null,null,null,null,null,null,null,null,null,null,{"$f":"IF(ISERROR(VLOOKUP(B816,'Zebrik W'!$B$7:$N$1000,11,0)),\"\",IF(VLOOKUP(B816,'Zebrik W'!$B$7:$N$1000,11,0)=0,\"--\",VLOOKUP(B816,'Zebrik W'!$B$7:$N$1000,11,0)))","v":""}]
[null,null,null,null,null,null,null,null,null,null,null,null,null,null,{"$f":"IF(ISERROR(VLOOKUP(B817,'Zebrik W'!$B$7:$N$1000,11,0)),\"\",IF(VLOOKUP(B817,'Zebrik W'!$B$7:$N$1000,11,0)=0,\"--\",VLOOKUP(B817,'Zebrik W'!$B$7:$N$1000,11,0)))","v":""}]
[null,null,null,null,null,null,null,null,null,null,null,null,null,null,{"$f":"IF(ISERROR(VLOOKUP(B818,'Zebrik W'!$B$7:$N$1000,11,0)),\"\",IF(VLOOKUP(B818,'Zebrik W'!$B$7:$N$1000,11,0)=0,\"--\",VLOOKUP(B818,'Zebrik W'!$B$7:$N$1000,11,0)))","v":""}]
[null,null,null,null,null,null,null,null,null,null,null,null,null,null,{"$f":"IF(ISERROR(VLOOKUP(B819,'Zebrik W'!$B$7:$N$1000,11,0)),\"\",IF(VLOOKUP(B819,'Zebrik W'!$B$7:$N$1000,11,0)=0,\"--\",VLOOKUP(B819,'Zebrik W'!$B$7:$N$1000,11,0)))","v":""}]
[null,null,null,null,null,null,null,null,null,null,null,null,null,null,{"$f":"IF(ISERROR(VLOOKUP(B820,'Zebrik W'!$B$7:$N$1000,11,0)),\"\",IF(VLOOKUP(B820,'Zebrik W'!$B$7:$N$1000,11,0)=0,\"--\",VLOOKUP(B820,'Zebrik W'!$B$7:$N$1000,11,0)))","v":""}]
[null,null,null,null,null,null,null,null,null,null,null,null,null,null,{"$f":"IF(ISERROR(VLOOKUP(B821,'Zebrik W'!$B$7:$N$1000,11,0)),\"\",IF(VLOOKUP(B821,'Zebrik W'!$B$7:$N$1000,11,0)=0,\"--\",VLOOKUP(B821,'Zebrik W'!$B$7:$N$1000,11,0)))","v":""}]
[null,null,null,null,null,null,null,null,null,null,null,null,null,null,{"$f":"IF(ISERROR(VLOOKUP(B822,'Zebrik W'!$B$7:$N$1000,11,0)),\"\",IF(VLOOKUP(B822,'Zebrik W'!$B$7:$N$1000,11,0)=0,\"--\",VLOOKUP(B822,'Zebrik W'!$B$7:$N$1000,11,0)))","v":""}]
[null,null,null,null,null,null,null,null,null,null,null,null,null,null,{"$f":"IF(ISERROR(VLOOKUP(B823,'Zebrik W'!$B$7:$N$1000,11,0)),\"\",IF(VLOOKUP(B823,'Zebrik W'!$B$7:$N$1000,11,0)=0,\"--\",VLOOKUP(B823,'Zebrik W'!$B$7:$N$1000,11,0)))","v":""}]
[null,null,null,null,null,null,null,null,null,null,null,null,null,null,{"$f":"IF(ISERROR(VLOOKUP(B824,'Zebrik W'!$B$7:$N$1000,11,0)),\"\",IF(VLOOKUP(B824,'Zebrik W'!$B$7:$N$1000,11,0)=0,\"--\",VLOOKUP(B824,'Zebrik W'!$B$7:$N$1000,11,0)))","v":""}]
[null,null,null,null,null,null,null,null,null,null,null,null,null,null,{"$f":"IF(ISERROR(VLOOKUP(B825,'Zebrik W'!$B$7:$N$1000,11,0)),\"\",IF(VLOOKUP(B825,'Zebrik W'!$B$7:$N$1000,11,0)=0,\"--\",VLOOKUP(B825,'Zebrik W'!$B$7:$N$1000,11,0)))","v":""}]
[null,null,null,null,null,null,null,null,null,null,null,null,null,null,{"$f":"IF(ISERROR(VLOOKUP(B826,'Zebrik W'!$B$7:$N$1000,11,0)),\"\",IF(VLOOKUP(B826,'Zebrik W'!$B$7:$N$1000,11,0)=0,\"--\",VLOOKUP(B826,'Zebrik W'!$B$7:$N$1000,11,0)))","v":""}]
[null,null,null,null,null,null,null,null,null,null,null,null,null,null,{"$f":"IF(ISERROR(VLOOKUP(B827,'Zebrik W'!$B$7:$N$1000,11,0)),\"\",IF(VLOOKUP(B827,'Zebrik W'!$B$7:$N$1000,11,0)=0,\"--\",VLOOKUP(B827,'Zebrik W'!$B$7:$N$1000,11,0)))","v":""}]
[null,null,null,null,null,null,null,null,null,null,null,null,null,null,{"$f":"IF(ISERROR(VLOOKUP(B828,'Zebrik W'!$B$7:$N$1000,11,0)),\"\",IF(VLOOKUP(B828,'Zebrik W'!$B$7:$N$1000,11,0)=0,\"--\",VLOOKUP(B828,'Zebrik W'!$B$7:$N$1000,11,0)))","v":""}]
[null,null,null,null,null,null,null,null,null,null,null,null,null,null,{"$f":"IF(ISERROR(VLOOKUP(B829,'Zebrik W'!$B$7:$N$1000,11,0)),\"\",IF(VLOOKUP(B829,'Zebrik W'!$B$7:$N$1000,11,0)=0,\"--\",VLOOKUP(B829,'Zebrik W'!$B$7:$N$1000,11,0)))","v":""}]
[null,null,null,null,null,null,null,null,null,null,null,null,null,null,{"$f":"IF(ISERROR(VLOOKUP(B830,'Zebrik W'!$B$7:$N$1000,11,0)),\"\",IF(VLOOKUP(B830,'Zebrik W'!$B$7:$N$1000,11,0)=0,\"--\",VLOOKUP(B830,'Zebrik W'!$B$7:$N$1000,11,0)))","v":""}]
[null,null,null,null,null,null,null,null,null,null,null,null,null,null,{"$f":"IF(ISERROR(VLOOKUP(B831,'Zebrik W'!$B$7:$N$1000,11,0)),\"\",IF(VLOOKUP(B831,'Zebrik W'!$B$7:$N$1000,11,0)=0,\"--\",VLOOKUP(B831,'Zebrik W'!$B$7:$N$1000,11,0)))","v":""}]
[null,null,null,null,null,null,null,null,null,null,null,null,null,null,{"$f":"IF(ISERROR(VLOOKUP(B832,'Zebrik W'!$B$7:$N$1000,11,0)),\"\",IF(VLOOKUP(B832,'Zebrik W'!$B$7:$N$1000,11,0)=0,\"--\",VLOOKUP(B832,'Zebrik W'!$B$7:$N$1000,11,0)))","v":""}]
[null,null,null,null,null,null,null,null,null,null,null,null,null,null,{"$f":"IF(ISERROR(VLOOKUP(B833,'Zebrik W'!$B$7:$N$1000,11,0)),\"\",IF(VLOOKUP(B833,'Zebrik W'!$B$7:$N$1000,11,0)=0,\"--\",VLOOKUP(B833,'Zebrik W'!$B$7:$N$1000,11,0)))","v":""}]
[null,null,null,null,null,null,null,null,null,null,null,null,null,null,{"$f":"IF(ISERROR(VLOOKUP(B834,'Zebrik W'!$B$7:$N$1000,11,0)),\"\",IF(VLOOKUP(B834,'Zebrik W'!$B$7:$N$1000,11,0)=0,\"--\",VLOOKUP(B834,'Zebrik W'!$B$7:$N$1000,11,0)))","v":""}]
[null,null,null,null,null,null,null,null,null,null,null,null,null,null,{"$f":"IF(ISERROR(VLOOKUP(B835,'Zebrik W'!$B$7:$N$1000,11,0)),\"\",IF(VLOOKUP(B835,'Zebrik W'!$B$7:$N$1000,11,0)=0,\"--\",VLOOKUP(B835,'Zebrik W'!$B$7:$N$1000,11,0)))","v":""}]
[null,null,null,null,null,null,null,null,null,null,null,null,null,null,{"$f":"IF(ISERROR(VLOOKUP(B836,'Zebrik W'!$B$7:$N$1000,11,0)),\"\",IF(VLOOKUP(B836,'Zebrik W'!$B$7:$N$1000,11,0)=0,\"--\",VLOOKUP(B836,'Zebrik W'!$B$7:$N$1000,11,0)))","v":""}]
[null,null,null,null,null,null,null,null,null,null,null,null,null,null,{"$f":"IF(ISERROR(VLOOKUP(B837,'Zebrik W'!$B$7:$N$1000,11,0)),\"\",IF(VLOOKUP(B837,'Zebrik W'!$B$7:$N$1000,11,0)=0,\"--\",VLOOKUP(B837,'Zebrik W'!$B$7:$N$1000,11,0)))","v":""}]
[null,null,null,null,null,null,null,null,null,null,null,null,null,null,{"$f":"IF(ISERROR(VLOOKUP(B838,'Zebrik W'!$B$7:$N$1000,11,0)),\"\",IF(VLOOKUP(B838,'Zebrik W'!$B$7:$N$1000,11,0)=0,\"--\",VLOOKUP(B838,'Zebrik W'!$B$7:$N$1000,11,0)))","v":""}]
[null,null,null,null,null,null,null,null,null,null,null,null,null,null,{"$f":"IF(ISERROR(VLOOKUP(B839,'Zebrik W'!$B$7:$N$1000,11,0)),\"\",IF(VLOOKUP(B839,'Zebrik W'!$B$7:$N$1000,11,0)=0,\"--\",VLOOKUP(B839,'Zebrik W'!$B$7:$N$1000,11,0)))","v":""}]
[null,null,null,null,null,null,null,null,null,null,null,null,null,null,{"$f":"IF(ISERROR(VLOOKUP(B840,'Zebrik W'!$B$7:$N$1000,11,0)),\"\",IF(VLOOKUP(B840,'Zebrik W'!$B$7:$N$1000,11,0)=0,\"--\",VLOOKUP(B840,'Zebrik W'!$B$7:$N$1000,11,0)))","v":""}]
[null,null,null,null,null,null,null,null,null,null,null,null,null,null,{"$f":"IF(ISERROR(VLOOKUP(B841,'Zebrik W'!$B$7:$N$1000,11,0)),\"\",IF(VLOOKUP(B841,'Zebrik W'!$B$7:$N$1000,11,0)=0,\"--\",VLOOKUP(B841,'Zebrik W'!$B$7:$N$1000,11,0)))","v":""}]
[null,null,null,null,null,null,null,null,null,null,null,null,null,null,{"$f":"IF(ISERROR(VLOOKUP(B842,'Zebrik W'!$B$7:$N$1000,11,0)),\"\",IF(VLOOKUP(B842,'Zebrik W'!$B$7:$N$1000,11,0)=0,\"--\",VLOOKUP(B842,'Zebrik W'!$B$7:$N$1000,11,0)))","v":""}]
[null,null,null,null,null,null,null,null,null,null,null,null,null,null,{"$f":"IF(ISERROR(VLOOKUP(B843,'Zebrik W'!$B$7:$N$1000,11,0)),\"\",IF(VLOOKUP(B843,'Zebrik W'!$B$7:$N$1000,11,0)=0,\"--\",VLOOKUP(B843,'Zebrik W'!$B$7:$N$1000,11,0)))","v":""}]
[null,null,null,null,null,null,null,null,null,null,null,null,null,null,{"$f":"IF(ISERROR(VLOOKUP(B844,'Zebrik W'!$B$7:$N$1000,11,0)),\"\",IF(VLOOKUP(B844,'Zebrik W'!$B$7:$N$1000,11,0)=0,\"--\",VLOOKUP(B844,'Zebrik W'!$B$7:$N$1000,11,0)))","v":""}]
[null,null,null,null,null,null,null,null,null,null,null,null,null,null,{"$f":"IF(ISERROR(VLOOKUP(B845,'Zebrik W'!$B$7:$N$1000,11,0)),\"\",IF(VLOOKUP(B845,'Zebrik W'!$B$7:$N$1000,11,0)=0,\"--\",VLOOKUP(B845,'Zebrik W'!$B$7:$N$1000,11,0)))","v":""}]
[null,null,null,null,null,null,null,null,null,null,null,null,null,null,{"$f":"IF(ISERROR(VLOOKUP(B846,'Zebrik W'!$B$7:$N$1000,11,0)),\"\",IF(VLOOKUP(B846,'Zebrik W'!$B$7:$N$1000,11,0)=0,\"--\",VLOOKUP(B846,'Zebrik W'!$B$7:$N$1000,11,0)))","v":""}]
[null,null,null,null,null,null,null,null,null,null,null,null,null,null,{"$f":"IF(ISERROR(VLOOKUP(B847,'Zebrik W'!$B$7:$N$1000,11,0)),\"\",IF(VLOOKUP(B847,'Zebrik W'!$B$7:$N$1000,11,0)=0,\"--\",VLOOKUP(B847,'Zebrik W'!$B$7:$N$1000,11,0)))","v":""}]
[null,null,null,null,null,null,null,null,null,null,null,null,null,null,{"$f":"IF(ISERROR(VLOOKUP(B848,'Zebrik W'!$B$7:$N$1000,11,0)),\"\",IF(VLOOKUP(B848,'Zebrik W'!$B$7:$N$1000,11,0)=0,\"--\",VLOOKUP(B848,'Zebrik W'!$B$7:$N$1000,11,0)))","v":""}]
[null,null,null,null,null,null,null,null,null,null,null,null,null,null,{"$f":"IF(ISERROR(VLOOKUP(B849,'Zebrik W'!$B$7:$N$1000,11,0)),\"\",IF(VLOOKUP(B849,'Zebrik W'!$B$7:$N$1000,11,0)=0,\"--\",VLOOKUP(B849,'Zebrik W'!$B$7:$N$1000,11,0)))","v":""}]
[null,null,null,null,null,null,null,null,null,null,null,null,null,null,{"$f":"IF(ISERROR(VLOOKUP(B850,'Zebrik W'!$B$7:$N$1000,11,0)),\"\",IF(VLOOKUP(B850,'Zebrik W'!$B$7:$N$1000,11,0)=0,\"--\",VLOOKUP(B850,'Zebrik W'!$B$7:$N$1000,11,0)))","v":""}]
[null,null,null,null,null,null,null,null,null,null,null,null,null,null,{"$f":"IF(ISERROR(VLOOKUP(B851,'Zebrik W'!$B$7:$N$1000,11,0)),\"\",IF(VLOOKUP(B851,'Zebrik W'!$B$7:$N$1000,11,0)=0,\"--\",VLOOKUP(B851,'Zebrik W'!$B$7:$N$1000,11,0)))","v":""}]
[null,null,null,null,null,null,null,null,null,null,null,null,null,null,{"$f":"IF(ISERROR(VLOOKUP(B852,'Zebrik W'!$B$7:$N$1000,11,0)),\"\",IF(VLOOKUP(B852,'Zebrik W'!$B$7:$N$1000,11,0)=0,\"--\",VLOOKUP(B852,'Zebrik W'!$B$7:$N$1000,11,0)))","v":""}]
[null,null,null,null,null,null,null,null,null,null,null,null,null,null,{"$f":"IF(ISERROR(VLOOKUP(B853,'Zebrik W'!$B$7:$N$1000,11,0)),\"\",IF(VLOOKUP(B853,'Zebrik W'!$B$7:$N$1000,11,0)=0,\"--\",VLOOKUP(B853,'Zebrik W'!$B$7:$N$1000,11,0)))","v":""}]
[null,null,null,null,null,null,null,null,null,null,null,null,null,null,{"$f":"IF(ISERROR(VLOOKUP(B854,'Zebrik W'!$B$7:$N$1000,11,0)),\"\",IF(VLOOKUP(B854,'Zebrik W'!$B$7:$N$1000,11,0)=0,\"--\",VLOOKUP(B854,'Zebrik W'!$B$7:$N$1000,11,0)))","v":""}]
[null,null,null,null,null,null,null,null,null,null,null,null,null,null,{"$f":"IF(ISERROR(VLOOKUP(B855,'Zebrik W'!$B$7:$N$1000,11,0)),\"\",IF(VLOOKUP(B855,'Zebrik W'!$B$7:$N$1000,11,0)=0,\"--\",VLOOKUP(B855,'Zebrik W'!$B$7:$N$1000,11,0)))","v":""}]
[null,null,null,null,null,null,null,null,null,null,null,null,null,null,{"$f":"IF(ISERROR(VLOOKUP(B856,'Zebrik W'!$B$7:$N$1000,11,0)),\"\",IF(VLOOKUP(B856,'Zebrik W'!$B$7:$N$1000,11,0)=0,\"--\",VLOOKUP(B856,'Zebrik W'!$B$7:$N$1000,11,0)))","v":""}]
[null,null,null,null,null,null,null,null,null,null,null,null,null,null,{"$f":"IF(ISERROR(VLOOKUP(B857,'Zebrik W'!$B$7:$N$1000,11,0)),\"\",IF(VLOOKUP(B857,'Zebrik W'!$B$7:$N$1000,11,0)=0,\"--\",VLOOKUP(B857,'Zebrik W'!$B$7:$N$1000,11,0)))","v":""}]
[null,null,null,null,null,null,null,null,null,null,null,null,null,null,{"$f":"IF(ISERROR(VLOOKUP(B858,'Zebrik W'!$B$7:$N$1000,11,0)),\"\",IF(VLOOKUP(B858,'Zebrik W'!$B$7:$N$1000,11,0)=0,\"--\",VLOOKUP(B858,'Zebrik W'!$B$7:$N$1000,11,0)))","v":""}]
[null,null,null,null,null,null,null,null,null,null,null,null,null,null,{"$f":"IF(ISERROR(VLOOKUP(B859,'Zebrik W'!$B$7:$N$1000,11,0)),\"\",IF(VLOOKUP(B859,'Zebrik W'!$B$7:$N$1000,11,0)=0,\"--\",VLOOKUP(B859,'Zebrik W'!$B$7:$N$1000,11,0)))","v":""}]
[null,null,null,null,null,null,null,null,null,null,null,null,null,null,{"$f":"IF(ISERROR(VLOOKUP(B860,'Zebrik W'!$B$7:$N$1000,11,0)),\"\",IF(VLOOKUP(B860,'Zebrik W'!$B$7:$N$1000,11,0)=0,\"--\",VLOOKUP(B860,'Zebrik W'!$B$7:$N$1000,11,0)))","v":""}]
[null,null,null,null,null,null,null,null,null,null,null,null,null,null,{"$f":"IF(ISERROR(VLOOKUP(B861,'Zebrik W'!$B$7:$N$1000,11,0)),\"\",IF(VLOOKUP(B861,'Zebrik W'!$B$7:$N$1000,11,0)=0,\"--\",VLOOKUP(B861,'Zebrik W'!$B$7:$N$1000,11,0)))","v":""}]
[null,null,null,null,null,null,null,null,null,null,null,null,null,null,{"$f":"IF(ISERROR(VLOOKUP(B862,'Zebrik W'!$B$7:$N$1000,11,0)),\"\",IF(VLOOKUP(B862,'Zebrik W'!$B$7:$N$1000,11,0)=0,\"--\",VLOOKUP(B862,'Zebrik W'!$B$7:$N$1000,11,0)))","v":""}]
[null,null,null,null,null,null,null,null,null,null,null,null,null,null,{"$f":"IF(ISERROR(VLOOKUP(B863,'Zebrik W'!$B$7:$N$1000,11,0)),\"\",IF(VLOOKUP(B863,'Zebrik W'!$B$7:$N$1000,11,0)=0,\"--\",VLOOKUP(B863,'Zebrik W'!$B$7:$N$1000,11,0)))","v":""}]
[null,null,null,null,null,null,null,null,null,null,null,null,null,null,{"$f":"IF(ISERROR(VLOOKUP(B864,'Zebrik W'!$B$7:$N$1000,11,0)),\"\",IF(VLOOKUP(B864,'Zebrik W'!$B$7:$N$1000,11,0)=0,\"--\",VLOOKUP(B864,'Zebrik W'!$B$7:$N$1000,11,0)))","v":""}]
[null,null,null,null,null,null,null,null,null,null,null,null,null,null,{"$f":"IF(ISERROR(VLOOKUP(B865,'Zebrik W'!$B$7:$N$1000,11,0)),\"\",IF(VLOOKUP(B865,'Zebrik W'!$B$7:$N$1000,11,0)=0,\"--\",VLOOKUP(B865,'Zebrik W'!$B$7:$N$1000,11,0)))","v":""}]
[null,null,null,null,null,null,null,null,null,null,null,null,null,null,{"$f":"IF(ISERROR(VLOOKUP(B866,'Zebrik W'!$B$7:$N$1000,11,0)),\"\",IF(VLOOKUP(B866,'Zebrik W'!$B$7:$N$1000,11,0)=0,\"--\",VLOOKUP(B866,'Zebrik W'!$B$7:$N$1000,11,0)))","v":""}]
[null,null,null,null,null,null,null,null,null,null,null,null,null,null,{"$f":"IF(ISERROR(VLOOKUP(B867,'Zebrik W'!$B$7:$N$1000,11,0)),\"\",IF(VLOOKUP(B867,'Zebrik W'!$B$7:$N$1000,11,0)=0,\"--\",VLOOKUP(B867,'Zebrik W'!$B$7:$N$1000,11,0)))","v":""}]
[null,null,null,null,null,null,null,null,null,null,null,null,null,null,{"$f":"IF(ISERROR(VLOOKUP(B868,'Zebrik W'!$B$7:$N$1000,11,0)),\"\",IF(VLOOKUP(B868,'Zebrik W'!$B$7:$N$1000,11,0)=0,\"--\",VLOOKUP(B868,'Zebrik W'!$B$7:$N$1000,11,0)))","v":""}]
[null,null,null,null,null,null,null,null,null,null,null,null,null,null,{"$f":"IF(ISERROR(VLOOKUP(B869,'Zebrik W'!$B$7:$N$1000,11,0)),\"\",IF(VLOOKUP(B869,'Zebrik W'!$B$7:$N$1000,11,0)=0,\"--\",VLOOKUP(B869,'Zebrik W'!$B$7:$N$1000,11,0)))","v":""}]
[null,null,null,null,null,null,null,null,null,null,null,null,null,null,{"$f":"IF(ISERROR(VLOOKUP(B870,'Zebrik W'!$B$7:$N$1000,11,0)),\"\",IF(VLOOKUP(B870,'Zebrik W'!$B$7:$N$1000,11,0)=0,\"--\",VLOOKUP(B870,'Zebrik W'!$B$7:$N$1000,11,0)))","v":""}]
[null,null,null,null,null,null,null,null,null,null,null,null,null,null,{"$f":"IF(ISERROR(VLOOKUP(B871,'Zebrik W'!$B$7:$N$1000,11,0)),\"\",IF(VLOOKUP(B871,'Zebrik W'!$B$7:$N$1000,11,0)=0,\"--\",VLOOKUP(B871,'Zebrik W'!$B$7:$N$1000,11,0)))","v":""}]
[null,null,null,null,null,null,null,null,null,null,null,null,null,null,{"$f":"IF(ISERROR(VLOOKUP(B872,'Zebrik W'!$B$7:$N$1000,11,0)),\"\",IF(VLOOKUP(B872,'Zebrik W'!$B$7:$N$1000,11,0)=0,\"--\",VLOOKUP(B872,'Zebrik W'!$B$7:$N$1000,11,0)))","v":""}]
[null,null,null,null,null,null,null,null,null,null,null,null,null,null,{"$f":"IF(ISERROR(VLOOKUP(B873,'Zebrik W'!$B$7:$N$1000,11,0)),\"\",IF(VLOOKUP(B873,'Zebrik W'!$B$7:$N$1000,11,0)=0,\"--\",VLOOKUP(B873,'Zebrik W'!$B$7:$N$1000,11,0)))","v":""}]
[null,null,null,null,null,null,null,null,null,null,null,null,null,null,{"$f":"IF(ISERROR(VLOOKUP(B874,'Zebrik W'!$B$7:$N$1000,11,0)),\"\",IF(VLOOKUP(B874,'Zebrik W'!$B$7:$N$1000,11,0)=0,\"--\",VLOOKUP(B874,'Zebrik W'!$B$7:$N$1000,11,0)))","v":""}]
[null,null,null,null,null,null,null,null,null,null,null,null,null,null,{"$f":"IF(ISERROR(VLOOKUP(B875,'Zebrik W'!$B$7:$N$1000,11,0)),\"\",IF(VLOOKUP(B875,'Zebrik W'!$B$7:$N$1000,11,0)=0,\"--\",VLOOKUP(B875,'Zebrik W'!$B$7:$N$1000,11,0)))","v":""}]
[null,null,null,null,null,null,null,null,null,null,null,null,null,null,{"$f":"IF(ISERROR(VLOOKUP(B876,'Zebrik W'!$B$7:$N$1000,11,0)),\"\",IF(VLOOKUP(B876,'Zebrik W'!$B$7:$N$1000,11,0)=0,\"--\",VLOOKUP(B876,'Zebrik W'!$B$7:$N$1000,11,0)))","v":""}]
[null,null,null,null,null,null,null,null,null,null,null,null,null,null,{"$f":"IF(ISERROR(VLOOKUP(B877,'Zebrik W'!$B$7:$N$1000,11,0)),\"\",IF(VLOOKUP(B877,'Zebrik W'!$B$7:$N$1000,11,0)=0,\"--\",VLOOKUP(B877,'Zebrik W'!$B$7:$N$1000,11,0)))","v":""}]
[null,null,null,null,null,null,null,null,null,null,null,null,null,null,{"$f":"IF(ISERROR(VLOOKUP(B878,'Zebrik W'!$B$7:$N$1000,11,0)),\"\",IF(VLOOKUP(B878,'Zebrik W'!$B$7:$N$1000,11,0)=0,\"--\",VLOOKUP(B878,'Zebrik W'!$B$7:$N$1000,11,0)))","v":""}]
[null,null,null,null,null,null,null,null,null,null,null,null,null,null,{"$f":"IF(ISERROR(VLOOKUP(B879,'Zebrik W'!$B$7:$N$1000,11,0)),\"\",IF(VLOOKUP(B879,'Zebrik W'!$B$7:$N$1000,11,0)=0,\"--\",VLOOKUP(B879,'Zebrik W'!$B$7:$N$1000,11,0)))","v":""}]
[null,null,null,null,null,null,null,null,null,null,null,null,null,null,{"$f":"IF(ISERROR(VLOOKUP(B880,'Zebrik W'!$B$7:$N$1000,11,0)),\"\",IF(VLOOKUP(B880,'Zebrik W'!$B$7:$N$1000,11,0)=0,\"--\",VLOOKUP(B880,'Zebrik W'!$B$7:$N$1000,11,0)))","v":""}]
[null,null,null,null,null,null,null,null,null,null,null,null,null,null,{"$f":"IF(ISERROR(VLOOKUP(B881,'Zebrik W'!$B$7:$N$1000,11,0)),\"\",IF(VLOOKUP(B881,'Zebrik W'!$B$7:$N$1000,11,0)=0,\"--\",VLOOKUP(B881,'Zebrik W'!$B$7:$N$1000,11,0)))","v":""}]
[null,null,null,null,null,null,null,null,null,null,null,null,null,null,{"$f":"IF(ISERROR(VLOOKUP(B882,'Zebrik W'!$B$7:$N$1000,11,0)),\"\",IF(VLOOKUP(B882,'Zebrik W'!$B$7:$N$1000,11,0)=0,\"--\",VLOOKUP(B882,'Zebrik W'!$B$7:$N$1000,11,0)))","v":""}]
[null,null,null,null,null,null,null,null,null,null,null,null,null,null,{"$f":"IF(ISERROR(VLOOKUP(B883,'Zebrik W'!$B$7:$N$1000,11,0)),\"\",IF(VLOOKUP(B883,'Zebrik W'!$B$7:$N$1000,11,0)=0,\"--\",VLOOKUP(B883,'Zebrik W'!$B$7:$N$1000,11,0)))","v":""}]
[null,null,null,null,null,null,null,null,null,null,null,null,null,null,{"$f":"IF(ISERROR(VLOOKUP(B884,'Zebrik W'!$B$7:$N$1000,11,0)),\"\",IF(VLOOKUP(B884,'Zebrik W'!$B$7:$N$1000,11,0)=0,\"--\",VLOOKUP(B884,'Zebrik W'!$B$7:$N$1000,11,0)))","v":""}]
[null,null,null,null,null,null,null,null,null,null,null,null,null,null,{"$f":"IF(ISERROR(VLOOKUP(B885,'Zebrik W'!$B$7:$N$1000,11,0)),\"\",IF(VLOOKUP(B885,'Zebrik W'!$B$7:$N$1000,11,0)=0,\"--\",VLOOKUP(B885,'Zebrik W'!$B$7:$N$1000,11,0)))","v":""}]
[null,null,null,null,null,null,null,null,null,null,null,null,null,null,{"$f":"IF(ISERROR(VLOOKUP(B886,'Zebrik W'!$B$7:$N$1000,11,0)),\"\",IF(VLOOKUP(B886,'Zebrik W'!$B$7:$N$1000,11,0)=0,\"--\",VLOOKUP(B886,'Zebrik W'!$B$7:$N$1000,11,0)))","v":""}]
[null,null,null,null,null,null,null,null,null,null,null,null,null,null,{"$f":"IF(ISERROR(VLOOKUP(B887,'Zebrik W'!$B$7:$N$1000,11,0)),\"\",IF(VLOOKUP(B887,'Zebrik W'!$B$7:$N$1000,11,0)=0,\"--\",VLOOKUP(B887,'Zebrik W'!$B$7:$N$1000,11,0)))","v":""}]
[null,null,null,null,null,null,null,null,null,null,null,null,null,null,{"$f":"IF(ISERROR(VLOOKUP(B888,'Zebrik W'!$B$7:$N$1000,11,0)),\"\",IF(VLOOKUP(B888,'Zebrik W'!$B$7:$N$1000,11,0)=0,\"--\",VLOOKUP(B888,'Zebrik W'!$B$7:$N$1000,11,0)))","v":""}]
[null,null,null,null,null,null,null,null,null,null,null,null,null,null,{"$f":"IF(ISERROR(VLOOKUP(B889,'Zebrik W'!$B$7:$N$1000,11,0)),\"\",IF(VLOOKUP(B889,'Zebrik W'!$B$7:$N$1000,11,0)=0,\"--\",VLOOKUP(B889,'Zebrik W'!$B$7:$N$1000,11,0)))","v":""}]
[null,null,null,null,null,null,null,null,null,null,null,null,null,null,{"$f":"IF(ISERROR(VLOOKUP(B890,'Zebrik W'!$B$7:$N$1000,11,0)),\"\",IF(VLOOKUP(B890,'Zebrik W'!$B$7:$N$1000,11,0)=0,\"--\",VLOOKUP(B890,'Zebrik W'!$B$7:$N$1000,11,0)))","v":""}]
[null,null,null,null,null,null,null,null,null,null,null,null,null,null,{"$f":"IF(ISERROR(VLOOKUP(B891,'Zebrik W'!$B$7:$N$1000,11,0)),\"\",IF(VLOOKUP(B891,'Zebrik W'!$B$7:$N$1000,11,0)=0,\"--\",VLOOKUP(B891,'Zebrik W'!$B$7:$N$1000,11,0)))","v":""}]
[null,null,null,null,null,null,null,null,null,null,null,null,null,null,{"$f":"IF(ISERROR(VLOOKUP(B892,'Zebrik W'!$B$7:$N$1000,11,0)),\"\",IF(VLOOKUP(B892,'Zebrik W'!$B$7:$N$1000,11,0)=0,\"--\",VLOOKUP(B892,'Zebrik W'!$B$7:$N$1000,11,0)))","v":""}]
[null,null,null,null,null,null,null,null,null,null,null,null,null,null,{"$f":"IF(ISERROR(VLOOKUP(B893,'Zebrik W'!$B$7:$N$1000,11,0)),\"\",IF(VLOOKUP(B893,'Zebrik W'!$B$7:$N$1000,11,0)=0,\"--\",VLOOKUP(B893,'Zebrik W'!$B$7:$N$1000,11,0)))","v":""}]
[null,null,null,null,null,null,null,null,null,null,null,null,null,null,{"$f":"IF(ISERROR(VLOOKUP(B894,'Zebrik W'!$B$7:$N$1000,11,0)),\"\",IF(VLOOKUP(B894,'Zebrik W'!$B$7:$N$1000,11,0)=0,\"--\",VLOOKUP(B894,'Zebrik W'!$B$7:$N$1000,11,0)))","v":""}]
[null,null,null,null,null,null,null,null,null,null,null,null,null,null,{"$f":"IF(ISERROR(VLOOKUP(B895,'Zebrik W'!$B$7:$N$1000,11,0)),\"\",IF(VLOOKUP(B895,'Zebrik W'!$B$7:$N$1000,11,0)=0,\"--\",VLOOKUP(B895,'Zebrik W'!$B$7:$N$1000,11,0)))","v":""}]
[null,null,null,null,null,null,null,null,null,null,null,null,null,null,{"$f":"IF(ISERROR(VLOOKUP(B896,'Zebrik W'!$B$7:$N$1000,11,0)),\"\",IF(VLOOKUP(B896,'Zebrik W'!$B$7:$N$1000,11,0)=0,\"--\",VLOOKUP(B896,'Zebrik W'!$B$7:$N$1000,11,0)))","v":""}]
[null,null,null,null,null,null,null,null,null,null,null,null,null,null,{"$f":"IF(ISERROR(VLOOKUP(B897,'Zebrik W'!$B$7:$N$1000,11,0)),\"\",IF(VLOOKUP(B897,'Zebrik W'!$B$7:$N$1000,11,0)=0,\"--\",VLOOKUP(B897,'Zebrik W'!$B$7:$N$1000,11,0)))","v":""}]
[null,null,null,null,null,null,null,null,null,null,null,null,null,null,{"$f":"IF(ISERROR(VLOOKUP(B898,'Zebrik W'!$B$7:$N$1000,11,0)),\"\",IF(VLOOKUP(B898,'Zebrik W'!$B$7:$N$1000,11,0)=0,\"--\",VLOOKUP(B898,'Zebrik W'!$B$7:$N$1000,11,0)))","v":""}]
[null,null,null,null,null,null,null,null,null,null,null,null,null,null,{"$f":"IF(ISERROR(VLOOKUP(B899,'Zebrik W'!$B$7:$N$1000,11,0)),\"\",IF(VLOOKUP(B899,'Zebrik W'!$B$7:$N$1000,11,0)=0,\"--\",VLOOKUP(B899,'Zebrik W'!$B$7:$N$1000,11,0)))","v":""}]
[null,null,null,null,null,null,null,null,null,null,null,null,null,null,{"$f":"IF(ISERROR(VLOOKUP(B900,'Zebrik W'!$B$7:$N$1000,11,0)),\"\",IF(VLOOKUP(B900,'Zebrik W'!$B$7:$N$1000,11,0)=0,\"--\",VLOOKUP(B900,'Zebrik W'!$B$7:$N$1000,11,0)))","v":""}]
[null,null,null,null,null,null,null,null,null,null,null,null,null,null,{"$f":"IF(ISERROR(VLOOKUP(B901,'Zebrik W'!$B$7:$N$1000,11,0)),\"\",IF(VLOOKUP(B901,'Zebrik W'!$B$7:$N$1000,11,0)=0,\"--\",VLOOKUP(B901,'Zebrik W'!$B$7:$N$1000,11,0)))","v":""}]
[null,null,null,null,null,null,null,null,null,null,null,null,null,null,{"$f":"IF(ISERROR(VLOOKUP(B902,'Zebrik W'!$B$7:$N$1000,11,0)),\"\",IF(VLOOKUP(B902,'Zebrik W'!$B$7:$N$1000,11,0)=0,\"--\",VLOOKUP(B902,'Zebrik W'!$B$7:$N$1000,11,0)))","v":""}]
[null,null,null,null,null,null,null,null,null,null,null,null,null,null,{"$f":"IF(ISERROR(VLOOKUP(B903,'Zebrik W'!$B$7:$N$1000,11,0)),\"\",IF(VLOOKUP(B903,'Zebrik W'!$B$7:$N$1000,11,0)=0,\"--\",VLOOKUP(B903,'Zebrik W'!$B$7:$N$1000,11,0)))","v":""}]
[null,null,null,null,null,null,null,null,null,null,null,null,null,null,{"$f":"IF(ISERROR(VLOOKUP(B904,'Zebrik W'!$B$7:$N$1000,11,0)),\"\",IF(VLOOKUP(B904,'Zebrik W'!$B$7:$N$1000,11,0)=0,\"--\",VLOOKUP(B904,'Zebrik W'!$B$7:$N$1000,11,0)))","v":""}]
[null,null,null,null,null,null,null,null,null,null,null,null,null,null,{"$f":"IF(ISERROR(VLOOKUP(B905,'Zebrik W'!$B$7:$N$1000,11,0)),\"\",IF(VLOOKUP(B905,'Zebrik W'!$B$7:$N$1000,11,0)=0,\"--\",VLOOKUP(B905,'Zebrik W'!$B$7:$N$1000,11,0)))","v":""}]
[null,null,null,null,null,null,null,null,null,null,null,null,null,null,{"$f":"IF(ISERROR(VLOOKUP(B906,'Zebrik W'!$B$7:$N$1000,11,0)),\"\",IF(VLOOKUP(B906,'Zebrik W'!$B$7:$N$1000,11,0)=0,\"--\",VLOOKUP(B906,'Zebrik W'!$B$7:$N$1000,11,0)))","v":""}]
[null,null,null,null,null,null,null,null,null,null,null,null,null,null,{"$f":"IF(ISERROR(VLOOKUP(B907,'Zebrik W'!$B$7:$N$1000,11,0)),\"\",IF(VLOOKUP(B907,'Zebrik W'!$B$7:$N$1000,11,0)=0,\"--\",VLOOKUP(B907,'Zebrik W'!$B$7:$N$1000,11,0)))","v":""}]
[null,null,null,null,null,null,null,null,null,null,null,null,null,null,{"$f":"IF(ISERROR(VLOOKUP(B908,'Zebrik W'!$B$7:$N$1000,11,0)),\"\",IF(VLOOKUP(B908,'Zebrik W'!$B$7:$N$1000,11,0)=0,\"--\",VLOOKUP(B908,'Zebrik W'!$B$7:$N$1000,11,0)))","v":""}]
[null,null,null,null,null,null,null,null,null,null,null,null,null,null,{"$f":"IF(ISERROR(VLOOKUP(B909,'Zebrik W'!$B$7:$N$1000,11,0)),\"\",IF(VLOOKUP(B909,'Zebrik W'!$B$7:$N$1000,11,0)=0,\"--\",VLOOKUP(B909,'Zebrik W'!$B$7:$N$1000,11,0)))","v":""}]
[null,null,null,null,null,null,null,null,null,null,null,null,null,null,{"$f":"IF(ISERROR(VLOOKUP(B910,'Zebrik W'!$B$7:$N$1000,11,0)),\"\",IF(VLOOKUP(B910,'Zebrik W'!$B$7:$N$1000,11,0)=0,\"--\",VLOOKUP(B910,'Zebrik W'!$B$7:$N$1000,11,0)))","v":""}]
[null,null,null,null,null,null,null,null,null,null,null,null,null,null,{"$f":"IF(ISERROR(VLOOKUP(B911,'Zebrik W'!$B$7:$N$1000,11,0)),\"\",IF(VLOOKUP(B911,'Zebrik W'!$B$7:$N$1000,11,0)=0,\"--\",VLOOKUP(B911,'Zebrik W'!$B$7:$N$1000,11,0)))","v":""}]
[null,null,null,null,null,null,null,null,null,null,null,null,null,null,{"$f":"IF(ISERROR(VLOOKUP(B912,'Zebrik W'!$B$7:$N$1000,11,0)),\"\",IF(VLOOKUP(B912,'Zebrik W'!$B$7:$N$1000,11,0)=0,\"--\",VLOOKUP(B912,'Zebrik W'!$B$7:$N$1000,11,0)))","v":""}]
[null,null,null,null,null,null,null,null,null,null,null,null,null,null,{"$f":"IF(ISERROR(VLOOKUP(B913,'Zebrik W'!$B$7:$N$1000,11,0)),\"\",IF(VLOOKUP(B913,'Zebrik W'!$B$7:$N$1000,11,0)=0,\"--\",VLOOKUP(B913,'Zebrik W'!$B$7:$N$1000,11,0)))","v":""}]
[null,null,null,null,null,null,null,null,null,null,null,null,null,null,{"$f":"IF(ISERROR(VLOOKUP(B914,'Zebrik W'!$B$7:$N$1000,11,0)),\"\",IF(VLOOKUP(B914,'Zebrik W'!$B$7:$N$1000,11,0)=0,\"--\",VLOOKUP(B914,'Zebrik W'!$B$7:$N$1000,11,0)))","v":""}]
[null,null,null,null,null,null,null,null,null,null,null,null,null,null,{"$f":"IF(ISERROR(VLOOKUP(B915,'Zebrik W'!$B$7:$N$1000,11,0)),\"\",IF(VLOOKUP(B915,'Zebrik W'!$B$7:$N$1000,11,0)=0,\"--\",VLOOKUP(B915,'Zebrik W'!$B$7:$N$1000,11,0)))","v":""}]
[null,null,null,null,null,null,null,null,null,null,null,null,null,null,{"$f":"IF(ISERROR(VLOOKUP(B916,'Zebrik W'!$B$7:$N$1000,11,0)),\"\",IF(VLOOKUP(B916,'Zebrik W'!$B$7:$N$1000,11,0)=0,\"--\",VLOOKUP(B916,'Zebrik W'!$B$7:$N$1000,11,0)))","v":""}]
[null,null,null,null,null,null,null,null,null,null,null,null,null,null,{"$f":"IF(ISERROR(VLOOKUP(B917,'Zebrik W'!$B$7:$N$1000,11,0)),\"\",IF(VLOOKUP(B917,'Zebrik W'!$B$7:$N$1000,11,0)=0,\"--\",VLOOKUP(B917,'Zebrik W'!$B$7:$N$1000,11,0)))","v":""}]
[null,null,null,null,null,null,null,null,null,null,null,null,null,null,{"$f":"IF(ISERROR(VLOOKUP(B918,'Zebrik W'!$B$7:$N$1000,11,0)),\"\",IF(VLOOKUP(B918,'Zebrik W'!$B$7:$N$1000,11,0)=0,\"--\",VLOOKUP(B918,'Zebrik W'!$B$7:$N$1000,11,0)))","v":""}]
[null,null,null,null,null,null,null,null,null,null,null,null,null,null,{"$f":"IF(ISERROR(VLOOKUP(B919,'Zebrik W'!$B$7:$N$1000,11,0)),\"\",IF(VLOOKUP(B919,'Zebrik W'!$B$7:$N$1000,11,0)=0,\"--\",VLOOKUP(B919,'Zebrik W'!$B$7:$N$1000,11,0)))","v":""}]
[null,null,null,null,null,null,null,null,null,null,null,null,null,null,{"$f":"IF(ISERROR(VLOOKUP(B920,'Zebrik W'!$B$7:$N$1000,11,0)),\"\",IF(VLOOKUP(B920,'Zebrik W'!$B$7:$N$1000,11,0)=0,\"--\",VLOOKUP(B920,'Zebrik W'!$B$7:$N$1000,11,0)))","v":""}]
[null,null,null,null,null,null,null,null,null,null,null,null,null,null,{"$f":"IF(ISERROR(VLOOKUP(B921,'Zebrik W'!$B$7:$N$1000,11,0)),\"\",IF(VLOOKUP(B921,'Zebrik W'!$B$7:$N$1000,11,0)=0,\"--\",VLOOKUP(B921,'Zebrik W'!$B$7:$N$1000,11,0)))","v":""}]
[null,null,null,null,null,null,null,null,null,null,null,null,null,null,{"$f":"IF(ISERROR(VLOOKUP(B922,'Zebrik W'!$B$7:$N$1000,11,0)),\"\",IF(VLOOKUP(B922,'Zebrik W'!$B$7:$N$1000,11,0)=0,\"--\",VLOOKUP(B922,'Zebrik W'!$B$7:$N$1000,11,0)))","v":""}]
[null,null,null,null,null,null,null,null,null,null,null,null,null,null,{"$f":"IF(ISERROR(VLOOKUP(B923,'Zebrik W'!$B$7:$N$1000,11,0)),\"\",IF(VLOOKUP(B923,'Zebrik W'!$B$7:$N$1000,11,0)=0,\"--\",VLOOKUP(B923,'Zebrik W'!$B$7:$N$1000,11,0)))","v":""}]
[null,null,null,null,null,null,null,null,null,null,null,null,null,null,{"$f":"IF(ISERROR(VLOOKUP(B924,'Zebrik W'!$B$7:$N$1000,11,0)),\"\",IF(VLOOKUP(B924,'Zebrik W'!$B$7:$N$1000,11,0)=0,\"--\",VLOOKUP(B924,'Zebrik W'!$B$7:$N$1000,11,0)))","v":""}]
[null,null,null,null,null,null,null,null,null,null,null,null,null,null,{"$f":"IF(ISERROR(VLOOKUP(B925,'Zebrik W'!$B$7:$N$1000,11,0)),\"\",IF(VLOOKUP(B925,'Zebrik W'!$B$7:$N$1000,11,0)=0,\"--\",VLOOKUP(B925,'Zebrik W'!$B$7:$N$1000,11,0)))","v":""}]
[null,null,null,null,null,null,null,null,null,null,null,null,null,null,{"$f":"IF(ISERROR(VLOOKUP(B926,'Zebrik W'!$B$7:$N$1000,11,0)),\"\",IF(VLOOKUP(B926,'Zebrik W'!$B$7:$N$1000,11,0)=0,\"--\",VLOOKUP(B926,'Zebrik W'!$B$7:$N$1000,11,0)))","v":""}]
[null,null,null,null,null,null,null,null,null,null,null,null,null,null,{"$f":"IF(ISERROR(VLOOKUP(B927,'Zebrik W'!$B$7:$N$1000,11,0)),\"\",IF(VLOOKUP(B927,'Zebrik W'!$B$7:$N$1000,11,0)=0,\"--\",VLOOKUP(B927,'Zebrik W'!$B$7:$N$1000,11,0)))","v":""}]
[null,null,null,null,null,null,null,null,null,null,null,null,null,null,{"$f":"IF(ISERROR(VLOOKUP(B928,'Zebrik W'!$B$7:$N$1000,11,0)),\"\",IF(VLOOKUP(B928,'Zebrik W'!$B$7:$N$1000,11,0)=0,\"--\",VLOOKUP(B928,'Zebrik W'!$B$7:$N$1000,11,0)))","v":""}]
[null,null,null,null,null,null,null,null,null,null,null,null,null,null,{"$f":"IF(ISERROR(VLOOKUP(B929,'Zebrik W'!$B$7:$N$1000,11,0)),\"\",IF(VLOOKUP(B929,'Zebrik W'!$B$7:$N$1000,11,0)=0,\"--\",VLOOKUP(B929,'Zebrik W'!$B$7:$N$1000,11,0)))","v":""}]
[null,null,null,null,null,null,null,null,null,null,null,null,null,null,{"$f":"IF(ISERROR(VLOOKUP(B930,'Zebrik W'!$B$7:$N$1000,11,0)),\"\",IF(VLOOKUP(B930,'Zebrik W'!$B$7:$N$1000,11,0)=0,\"--\",VLOOKUP(B930,'Zebrik W'!$B$7:$N$1000,11,0)))","v":""}]
[null,null,null,null,null,null,null,null,null,null,null,null,null,null,{"$f":"IF(ISERROR(VLOOKUP(B931,'Zebrik W'!$B$7:$N$1000,11,0)),\"\",IF(VLOOKUP(B931,'Zebrik W'!$B$7:$N$1000,11,0)=0,\"--\",VLOOKUP(B931,'Zebrik W'!$B$7:$N$1000,11,0)))","v":""}]
[null,null,null,null,null,null,null,null,null,null,null,null,null,null,{"$f":"IF(ISERROR(VLOOKUP(B932,'Zebrik W'!$B$7:$N$1000,11,0)),\"\",IF(VLOOKUP(B932,'Zebrik W'!$B$7:$N$1000,11,0)=0,\"--\",VLOOKUP(B932,'Zebrik W'!$B$7:$N$1000,11,0)))","v":""}]
[null,null,null,null,null,null,null,null,null,null,null,null,null,null,{"$f":"IF(ISERROR(VLOOKUP(B933,'Zebrik W'!$B$7:$N$1000,11,0)),\"\",IF(VLOOKUP(B933,'Zebrik W'!$B$7:$N$1000,11,0)=0,\"--\",VLOOKUP(B933,'Zebrik W'!$B$7:$N$1000,11,0)))","v":""}]
[null,null,null,null,null,null,null,null,null,null,null,null,null,null,{"$f":"IF(ISERROR(VLOOKUP(B934,'Zebrik W'!$B$7:$N$1000,11,0)),\"\",IF(VLOOKUP(B934,'Zebrik W'!$B$7:$N$1000,11,0)=0,\"--\",VLOOKUP(B934,'Zebrik W'!$B$7:$N$1000,11,0)))","v":""}]
[null,null,null,null,null,null,null,null,null,null,null,null,null,null,{"$f":"IF(ISERROR(VLOOKUP(B935,'Zebrik W'!$B$7:$N$1000,11,0)),\"\",IF(VLOOKUP(B935,'Zebrik W'!$B$7:$N$1000,11,0)=0,\"--\",VLOOKUP(B935,'Zebrik W'!$B$7:$N$1000,11,0)))","v":""}]
[null,null,null,null,null,null,null,null,null,null,null,null,null,null,{"$f":"IF(ISERROR(VLOOKUP(B936,'Zebrik W'!$B$7:$N$1000,11,0)),\"\",IF(VLOOKUP(B936,'Zebrik W'!$B$7:$N$1000,11,0)=0,\"--\",VLOOKUP(B936,'Zebrik W'!$B$7:$N$1000,11,0)))","v":""}]
[null,null,null,null,null,null,null,null,null,null,null,null,null,null,{"$f":"IF(ISERROR(VLOOKUP(B937,'Zebrik W'!$B$7:$N$1000,11,0)),\"\",IF(VLOOKUP(B937,'Zebrik W'!$B$7:$N$1000,11,0)=0,\"--\",VLOOKUP(B937,'Zebrik W'!$B$7:$N$1000,11,0)))","v":""}]
[null,null,null,null,null,null,null,null,null,null,null,null,null,null,{"$f":"IF(ISERROR(VLOOKUP(B938,'Zebrik W'!$B$7:$N$1000,11,0)),\"\",IF(VLOOKUP(B938,'Zebrik W'!$B$7:$N$1000,11,0)=0,\"--\",VLOOKUP(B938,'Zebrik W'!$B$7:$N$1000,11,0)))","v":""}]
[null,null,null,null,null,null,null,null,null,null,null,null,null,null,{"$f":"IF(ISERROR(VLOOKUP(B939,'Zebrik W'!$B$7:$N$1000,11,0)),\"\",IF(VLOOKUP(B939,'Zebrik W'!$B$7:$N$1000,11,0)=0,\"--\",VLOOKUP(B939,'Zebrik W'!$B$7:$N$1000,11,0)))","v":""}]
[null,null,null,null,null,null,null,null,null,null,null,null,null,null,{"$f":"IF(ISERROR(VLOOKUP(B940,'Zebrik W'!$B$7:$N$1000,11,0)),\"\",IF(VLOOKUP(B940,'Zebrik W'!$B$7:$N$1000,11,0)=0,\"--\",VLOOKUP(B940,'Zebrik W'!$B$7:$N$1000,11,0)))","v":""}]
[null,null,null,null,null,null,null,null,null,null,null,null,null,null,{"$f":"IF(ISERROR(VLOOKUP(B941,'Zebrik W'!$B$7:$N$1000,11,0)),\"\",IF(VLOOKUP(B941,'Zebrik W'!$B$7:$N$1000,11,0)=0,\"--\",VLOOKUP(B941,'Zebrik W'!$B$7:$N$1000,11,0)))","v":""}]
[null,null,null,null,null,null,null,null,null,null,null,null,null,null,{"$f":"IF(ISERROR(VLOOKUP(B942,'Zebrik W'!$B$7:$N$1000,11,0)),\"\",IF(VLOOKUP(B942,'Zebrik W'!$B$7:$N$1000,11,0)=0,\"--\",VLOOKUP(B942,'Zebrik W'!$B$7:$N$1000,11,0)))","v":""}]
[null,null,null,null,null,null,null,null,null,null,null,null,null,null,{"$f":"IF(ISERROR(VLOOKUP(B943,'Zebrik W'!$B$7:$N$1000,11,0)),\"\",IF(VLOOKUP(B943,'Zebrik W'!$B$7:$N$1000,11,0)=0,\"--\",VLOOKUP(B943,'Zebrik W'!$B$7:$N$1000,11,0)))","v":""}]
[null,null,null,null,null,null,null,null,null,null,null,null,null,null,{"$f":"IF(ISERROR(VLOOKUP(B944,'Zebrik W'!$B$7:$N$1000,11,0)),\"\",IF(VLOOKUP(B944,'Zebrik W'!$B$7:$N$1000,11,0)=0,\"--\",VLOOKUP(B944,'Zebrik W'!$B$7:$N$1000,11,0)))","v":""}]
[null,null,null,null,null,null,null,null,null,null,null,null,null,null,{"$f":"IF(ISERROR(VLOOKUP(B945,'Zebrik W'!$B$7:$N$1000,11,0)),\"\",IF(VLOOKUP(B945,'Zebrik W'!$B$7:$N$1000,11,0)=0,\"--\",VLOOKUP(B945,'Zebrik W'!$B$7:$N$1000,11,0)))","v":""}]
[null,null,null,null,null,null,null,null,null,null,null,null,null,null,{"$f":"IF(ISERROR(VLOOKUP(B946,'Zebrik W'!$B$7:$N$1000,11,0)),\"\",IF(VLOOKUP(B946,'Zebrik W'!$B$7:$N$1000,11,0)=0,\"--\",VLOOKUP(B946,'Zebrik W'!$B$7:$N$1000,11,0)))","v":""}]
[null,null,null,null,null,null,null,null,null,null,null,null,null,null,{"$f":"IF(ISERROR(VLOOKUP(B947,'Zebrik W'!$B$7:$N$1000,11,0)),\"\",IF(VLOOKUP(B947,'Zebrik W'!$B$7:$N$1000,11,0)=0,\"--\",VLOOKUP(B947,'Zebrik W'!$B$7:$N$1000,11,0)))","v":""}]
[null,null,null,null,null,null,null,null,null,null,null,null,null,null,{"$f":"IF(ISERROR(VLOOKUP(B948,'Zebrik W'!$B$7:$N$1000,11,0)),\"\",IF(VLOOKUP(B948,'Zebrik W'!$B$7:$N$1000,11,0)=0,\"--\",VLOOKUP(B948,'Zebrik W'!$B$7:$N$1000,11,0)))","v":""}]
[null,null,null,null,null,null,null,null,null,null,null,null,null,null,{"$f":"IF(ISERROR(VLOOKUP(B949,'Zebrik W'!$B$7:$N$1000,11,0)),\"\",IF(VLOOKUP(B949,'Zebrik W'!$B$7:$N$1000,11,0)=0,\"--\",VLOOKUP(B949,'Zebrik W'!$B$7:$N$1000,11,0)))","v":""}]
[null,null,null,null,null,null,null,null,null,null,null,null,null,null,{"$f":"IF(ISERROR(VLOOKUP(B950,'Zebrik W'!$B$7:$N$1000,11,0)),\"\",IF(VLOOKUP(B950,'Zebrik W'!$B$7:$N$1000,11,0)=0,\"--\",VLOOKUP(B950,'Zebrik W'!$B$7:$N$1000,11,0)))","v":""}]
[null,null,null,null,null,null,null,null,null,null,null,null,null,null,{"$f":"IF(ISERROR(VLOOKUP(B951,'Zebrik W'!$B$7:$N$1000,11,0)),\"\",IF(VLOOKUP(B951,'Zebrik W'!$B$7:$N$1000,11,0)=0,\"--\",VLOOKUP(B951,'Zebrik W'!$B$7:$N$1000,11,0)))","v":""}]
[null,null,null,null,null,null,null,null,null,null,null,null,null,null,{"$f":"IF(ISERROR(VLOOKUP(B952,'Zebrik W'!$B$7:$N$1000,11,0)),\"\",IF(VLOOKUP(B952,'Zebrik W'!$B$7:$N$1000,11,0)=0,\"--\",VLOOKUP(B952,'Zebrik W'!$B$7:$N$1000,11,0)))","v":""}]
[null,null,null,null,null,null,null,null,null,null,null,null,null,null,{"$f":"IF(ISERROR(VLOOKUP(B953,'Zebrik W'!$B$7:$N$1000,11,0)),\"\",IF(VLOOKUP(B953,'Zebrik W'!$B$7:$N$1000,11,0)=0,\"--\",VLOOKUP(B953,'Zebrik W'!$B$7:$N$1000,11,0)))","v":""}]
[null,null,null,null,null,null,null,null,null,null,null,null,null,null,{"$f":"IF(ISERROR(VLOOKUP(B954,'Zebrik W'!$B$7:$N$1000,11,0)),\"\",IF(VLOOKUP(B954,'Zebrik W'!$B$7:$N$1000,11,0)=0,\"--\",VLOOKUP(B954,'Zebrik W'!$B$7:$N$1000,11,0)))","v":""}]
[null,null,null,null,null,null,null,null,null,null,null,null,null,null,{"$f":"IF(ISERROR(VLOOKUP(B955,'Zebrik W'!$B$7:$N$1000,11,0)),\"\",IF(VLOOKUP(B955,'Zebrik W'!$B$7:$N$1000,11,0)=0,\"--\",VLOOKUP(B955,'Zebrik W'!$B$7:$N$1000,11,0)))","v":""}]
[null,null,null,null,null,null,null,null,null,null,null,null,null,null,{"$f":"IF(ISERROR(VLOOKUP(B956,'Zebrik W'!$B$7:$N$1000,11,0)),\"\",IF(VLOOKUP(B956,'Zebrik W'!$B$7:$N$1000,11,0)=0,\"--\",VLOOKUP(B956,'Zebrik W'!$B$7:$N$1000,11,0)))","v":""}]
[null,null,null,null,null,null,null,null,null,null,null,null,null,null,{"$f":"IF(ISERROR(VLOOKUP(B957,'Zebrik W'!$B$7:$N$1000,11,0)),\"\",IF(VLOOKUP(B957,'Zebrik W'!$B$7:$N$1000,11,0)=0,\"--\",VLOOKUP(B957,'Zebrik W'!$B$7:$N$1000,11,0)))","v":""}]
[null,null,null,null,null,null,null,null,null,null,null,null,null,null,{"$f":"IF(ISERROR(VLOOKUP(B958,'Zebrik W'!$B$7:$N$1000,11,0)),\"\",IF(VLOOKUP(B958,'Zebrik W'!$B$7:$N$1000,11,0)=0,\"--\",VLOOKUP(B958,'Zebrik W'!$B$7:$N$1000,11,0)))","v":""}]
[null,null,null,null,null,null,null,null,null,null,null,null,null,null,{"$f":"IF(ISERROR(VLOOKUP(B959,'Zebrik W'!$B$7:$N$1000,11,0)),\"\",IF(VLOOKUP(B959,'Zebrik W'!$B$7:$N$1000,11,0)=0,\"--\",VLOOKUP(B959,'Zebrik W'!$B$7:$N$1000,11,0)))","v":""}]
[null,null,null,null,null,null,null,null,null,null,null,null,null,null,{"$f":"IF(ISERROR(VLOOKUP(B960,'Zebrik W'!$B$7:$N$1000,11,0)),\"\",IF(VLOOKUP(B960,'Zebrik W'!$B$7:$N$1000,11,0)=0,\"--\",VLOOKUP(B960,'Zebrik W'!$B$7:$N$1000,11,0)))","v":""}]
[null,null,null,null,null,null,null,null,null,null,null,null,null,null,{"$f":"IF(ISERROR(VLOOKUP(B961,'Zebrik W'!$B$7:$N$1000,11,0)),\"\",IF(VLOOKUP(B961,'Zebrik W'!$B$7:$N$1000,11,0)=0,\"--\",VLOOKUP(B961,'Zebrik W'!$B$7:$N$1000,11,0)))","v":""}]
[null,null,null,null,null,null,null,null,null,null,null,null,null,null,{"$f":"IF(ISERROR(VLOOKUP(B962,'Zebrik W'!$B$7:$N$1000,11,0)),\"\",IF(VLOOKUP(B962,'Zebrik W'!$B$7:$N$1000,11,0)=0,\"--\",VLOOKUP(B962,'Zebrik W'!$B$7:$N$1000,11,0)))","v":""}]
[null,null,null,null,null,null,null,null,null,null,null,null,null,null,{"$f":"IF(ISERROR(VLOOKUP(B963,'Zebrik W'!$B$7:$N$1000,11,0)),\"\",IF(VLOOKUP(B963,'Zebrik W'!$B$7:$N$1000,11,0)=0,\"--\",VLOOKUP(B963,'Zebrik W'!$B$7:$N$1000,11,0)))","v":""}]
[null,null,null,null,null,null,null,null,null,null,null,null,null,null,{"$f":"IF(ISERROR(VLOOKUP(B964,'Zebrik W'!$B$7:$N$1000,11,0)),\"\",IF(VLOOKUP(B964,'Zebrik W'!$B$7:$N$1000,11,0)=0,\"--\",VLOOKUP(B964,'Zebrik W'!$B$7:$N$1000,11,0)))","v":""}]
[null,null,null,null,null,null,null,null,null,null,null,null,null,null,{"$f":"IF(ISERROR(VLOOKUP(B965,'Zebrik W'!$B$7:$N$1000,11,0)),\"\",IF(VLOOKUP(B965,'Zebrik W'!$B$7:$N$1000,11,0)=0,\"--\",VLOOKUP(B965,'Zebrik W'!$B$7:$N$1000,11,0)))","v":""}]
[null,null,null,null,null,null,null,null,null,null,null,null,null,null,{"$f":"IF(ISERROR(VLOOKUP(B966,'Zebrik W'!$B$7:$N$1000,11,0)),\"\",IF(VLOOKUP(B966,'Zebrik W'!$B$7:$N$1000,11,0)=0,\"--\",VLOOKUP(B966,'Zebrik W'!$B$7:$N$1000,11,0)))","v":""}]
[null,null,null,null,null,null,null,null,null,null,null,null,null,null,{"$f":"IF(ISERROR(VLOOKUP(B967,'Zebrik W'!$B$7:$N$1000,11,0)),\"\",IF(VLOOKUP(B967,'Zebrik W'!$B$7:$N$1000,11,0)=0,\"--\",VLOOKUP(B967,'Zebrik W'!$B$7:$N$1000,11,0)))","v":""}]
[null,null,null,null,null,null,null,null,null,null,null,null,null,null,{"$f":"IF(ISERROR(VLOOKUP(B968,'Zebrik W'!$B$7:$N$1000,11,0)),\"\",IF(VLOOKUP(B968,'Zebrik W'!$B$7:$N$1000,11,0)=0,\"--\",VLOOKUP(B968,'Zebrik W'!$B$7:$N$1000,11,0)))","v":""}]
[null,null,null,null,null,null,null,null,null,null,null,null,null,null,{"$f":"IF(ISERROR(VLOOKUP(B969,'Zebrik W'!$B$7:$N$1000,11,0)),\"\",IF(VLOOKUP(B969,'Zebrik W'!$B$7:$N$1000,11,0)=0,\"--\",VLOOKUP(B969,'Zebrik W'!$B$7:$N$1000,11,0)))","v":""}]
[null,null,null,null,null,null,null,null,null,null,null,null,null,null,{"$f":"IF(ISERROR(VLOOKUP(B970,'Zebrik W'!$B$7:$N$1000,11,0)),\"\",IF(VLOOKUP(B970,'Zebrik W'!$B$7:$N$1000,11,0)=0,\"--\",VLOOKUP(B970,'Zebrik W'!$B$7:$N$1000,11,0)))","v":""}]
[null,null,null,null,null,null,null,null,null,null,null,null,null,null,{"$f":"IF(ISERROR(VLOOKUP(B971,'Zebrik W'!$B$7:$N$1000,11,0)),\"\",IF(VLOOKUP(B971,'Zebrik W'!$B$7:$N$1000,11,0)=0,\"--\",VLOOKUP(B971,'Zebrik W'!$B$7:$N$1000,11,0)))","v":""}]
[null,null,null,null,null,null,null,null,null,null,null,null,null,null,{"$f":"IF(ISERROR(VLOOKUP(B972,'Zebrik W'!$B$7:$N$1000,11,0)),\"\",IF(VLOOKUP(B972,'Zebrik W'!$B$7:$N$1000,11,0)=0,\"--\",VLOOKUP(B972,'Zebrik W'!$B$7:$N$1000,11,0)))","v":""}]
[null,null,null,null,null,null,null,null,null,null,null,null,null,null,{"$f":"IF(ISERROR(VLOOKUP(B973,'Zebrik W'!$B$7:$N$1000,11,0)),\"\",IF(VLOOKUP(B973,'Zebrik W'!$B$7:$N$1000,11,0)=0,\"--\",VLOOKUP(B973,'Zebrik W'!$B$7:$N$1000,11,0)))","v":""}]
[null,null,null,null,null,null,null,null,null,null,null,null,null,null,{"$f":"IF(ISERROR(VLOOKUP(B974,'Zebrik W'!$B$7:$N$1000,11,0)),\"\",IF(VLOOKUP(B974,'Zebrik W'!$B$7:$N$1000,11,0)=0,\"--\",VLOOKUP(B974,'Zebrik W'!$B$7:$N$1000,11,0)))","v":""}]
[null,null,null,null,null,null,null,null,null,null,null,null,null,null,{"$f":"IF(ISERROR(VLOOKUP(B975,'Zebrik W'!$B$7:$N$1000,11,0)),\"\",IF(VLOOKUP(B975,'Zebrik W'!$B$7:$N$1000,11,0)=0,\"--\",VLOOKUP(B975,'Zebrik W'!$B$7:$N$1000,11,0)))","v":""}]
[null,null,null,null,null,null,null,null,null,null,null,null,null,null,{"$f":"IF(ISERROR(VLOOKUP(B976,'Zebrik W'!$B$7:$N$1000,11,0)),\"\",IF(VLOOKUP(B976,'Zebrik W'!$B$7:$N$1000,11,0)=0,\"--\",VLOOKUP(B976,'Zebrik W'!$B$7:$N$1000,11,0)))","v":""}]
[null,null,null,null,null,null,null,null,null,null,null,null,null,null,{"$f":"IF(ISERROR(VLOOKUP(B977,'Zebrik W'!$B$7:$N$1000,11,0)),\"\",IF(VLOOKUP(B977,'Zebrik W'!$B$7:$N$1000,11,0)=0,\"--\",VLOOKUP(B977,'Zebrik W'!$B$7:$N$1000,11,0)))","v":""}]
[null,null,null,null,null,null,null,null,null,null,null,null,null,null,{"$f":"IF(ISERROR(VLOOKUP(B978,'Zebrik W'!$B$7:$N$1000,11,0)),\"\",IF(VLOOKUP(B978,'Zebrik W'!$B$7:$N$1000,11,0)=0,\"--\",VLOOKUP(B978,'Zebrik W'!$B$7:$N$1000,11,0)))","v":""}]
[null,null,null,null,null,null,null,null,null,null,null,null,null,null,{"$f":"IF(ISERROR(VLOOKUP(B979,'Zebrik W'!$B$7:$N$1000,11,0)),\"\",IF(VLOOKUP(B979,'Zebrik W'!$B$7:$N$1000,11,0)=0,\"--\",VLOOKUP(B979,'Zebrik W'!$B$7:$N$1000,11,0)))","v":""}]
[null,null,null,null,null,null,null,null,null,null,null,null,null,null,{"$f":"IF(ISERROR(VLOOKUP(B980,'Zebrik W'!$B$7:$N$1000,11,0)),\"\",IF(VLOOKUP(B980,'Zebrik W'!$B$7:$N$1000,11,0)=0,\"--\",VLOOKUP(B980,'Zebrik W'!$B$7:$N$1000,11,0)))","v":""}]
[null,null,null,null,null,null,null,null,null,null,null,null,null,null,{"$f":"IF(ISERROR(VLOOKUP(B981,'Zebrik W'!$B$7:$N$1000,11,0)),\"\",IF(VLOOKUP(B981,'Zebrik W'!$B$7:$N$1000,11,0)=0,\"--\",VLOOKUP(B981,'Zebrik W'!$B$7:$N$1000,11,0)))","v":""}]
[null,null,null,null,null,null,null,null,null,null,null,null,null,null,{"$f":"IF(ISERROR(VLOOKUP(B982,'Zebrik W'!$B$7:$N$1000,11,0)),\"\",IF(VLOOKUP(B982,'Zebrik W'!$B$7:$N$1000,11,0)=0,\"--\",VLOOKUP(B982,'Zebrik W'!$B$7:$N$1000,11,0)))","v":""}]
[null,null,null,null,null,null,null,null,null,null,null,null,null,null,{"$f":"IF(ISERROR(VLOOKUP(B983,'Zebrik W'!$B$7:$N$1000,11,0)),\"\",IF(VLOOKUP(B983,'Zebrik W'!$B$7:$N$1000,11,0)=0,\"--\",VLOOKUP(B983,'Zebrik W'!$B$7:$N$1000,11,0)))","v":""}]

{"sheet":"Zebrik W","index":8,"n_rows":36,"n_cols":15,"rows_kept":36,"cut":false,"hidden":false,"merged":[]}
[null,{"$f":"\"Ženský Žebřík pilotek plachtařek PK AeČR \"&A6","v":"Ženský Žebřík pilotek plachtařek PK AeČR 2025"},null,null,null,null,null,null,null,null,{"$f":"'Zebrik G'!K1","v":"2025-12-21"},"Rev.",{"$f":"'Zebrik G'!M1","v":"02"},{"$f":"'Zebrik G'!N1","v":"Opraveny chyby, odstraněny HOP 2025"}]
[]
[null,"W","x",null,null,null,null,null,null,"Nominace","Juniorka v roce:","Juniorka v roce:",{"$f":"\"W Repre družstvo \"&K4","v":"W Repre družstvo 2026"},{"$f":"\"W Repre výběr \"&K4","v":"W Repre výběr 2026"},"Poznámka"]
[null,null,null,null,null,null,null,null,null,"PMČR 2026",{"$f":"A6+1","v":2026},{"$f":"A6+2","v":2027},"(WRD)","(WRV)"]
["Pořadí",null,null,null,null,null,"Data",null,"Pořadí",null,{"$f":"COUNTIF(K7:K489,\"Juniorka v roce \"&$K$4)","v":8},{"$f":"COUNTIF(L7:L489,\"Juniorka v roce \"&$L$4)","v":6},{"$f":"COUNTIF(M7:M489,\"WRD \"&$K$4)","v":0},{"$f":"COUNTIF(N7:N489,\"WRV \"&$K$4)","v":12},{"$f":"COUNTIF(O7:O489,\"<>\")","v":0}]
[{"$f":"'Zebrik G'!A6","v":2025},"Jméno","Rok narození","M/F","Aeroklub","Region","Součet z Bi×Kinp","Počet W",{"$f":"'Zebrik G'!I6","v":2025}]
[{"$f":"RANK(G7,G:G)","v":1},"Alena Netusilova",1970,"F","Zbraslavice","CZ/C1",30464,3,{"$f":"RANK(G7,G:G)","v":1},{"$f":"IF(ISERROR(VLOOKUP(B7,'N PMČR 2026'!B:G,6,0)),\"-\",VLOOKUP(B7,'N PMČR 2026'!B:G,6,0))","v":25},{"$f":"IF(C7=\"(prázdné)\",\"\",IF(($K$4-C7)>25,\"\",\"Juniorka v roce \"&$K$4))","v":""},{"$f":"IF(C7=\"(prázdné)\",\"\",IF(($L$4-C7)>25,\"\",\"Juniorka v roce \"&$L$4))","v":""},null,"WRV 2026"]
[2,"Michaela Krizova",2001,"F","Přibyslav","CZ/C2",29616,3,{"$f":"RANK(G8,G:G)","v":2},{"$f":"IF(ISERROR(VLOOKUP(B8,'N PMČR 2026'!B:G,6,0)),\"-\",VLOOKUP(B8,'N PMČR 2026'!B:G,6,0))","v":15},{"$f":"IF(C8=\"(prázdné)\",\"\",IF(($K$4-C8)>25,\"\",\"Juniorka v roce \"&$K$4))","v":"Juniorka v roce 2026"},{"$f":"IF(C8=\"(prázdné)\",\"\",IF(($L$4-C8)>25,\"\",\"Juniorka v roce \"&$L$4))","v":""},null,"WRV 2026"]
[3,"Tereza Koubkova",1999,"F","Strakonice","CZ/C1",29258,3,3,{"$f":"IF(ISERROR(VLOOKUP(B9,'N PMČR 2026'!B:G,6,0)),\"-\",VLOOKUP(B9,'N PMČR 2026'!B:G,6,0))","v":22},"","",null,"WRV 2026"]
[4,"Michaela Rendlova",2004,"F","Toužim","CZ/C1",28958,3,4,{"$f":"IF(ISERROR(VLOOKUP(B10,'N PMČR 2026'!B:G,6,0)),\"-\",VLOOKUP(B10,'N PMČR 2026'!B:G,6,0))","v":18},"Juniorka v roce 2026","Juniorka v roce 2027",null,"WRV 2026"]
[5,"Hana Treslova",1991,"F","Raná","CZ/C2",28021,3,5,{"$f":"IF(ISERROR(VLOOKUP(B11,'N PMČR 2026'!B:G,6,0)),\"-\",VLOOKUP(B11,'N PMČR 2026'!B:G,6,0))","v":17},"","",null,"WRV 2026"]
[6,"Barbora Moravcova",1994,"F","Zbraslavice","CZ/C1",27789,3,6,{"$f":"IF(ISERROR(VLOOKUP(B12,'N PMČR 2026'!B:G,6,0)),\"-\",VLOOKUP(B12,'N PMČR 2026'!B:G,6,0))","v":27},"","",null,"WRV 2026"]
[7,"Dana Novakova",1965,"F","Mladá Boleslav","CZ/C1",24367,3,7,{"$f":"IF(ISERROR(VLOOKUP(B13,'N PMČR 2026'!B:G,6,0)),\"-\",VLOOKUP(B13,'N PMČR 2026'!B:G,6,0))","v":26},"","",null,"WRV 2026"]
[8,"Jana Treslova",1963,"F","Raná","CZ/C2",24274,3,8,{"$f":"IF(ISERROR(VLOOKUP(B14,'N PMČR 2026'!B:G,6,0)),\"-\",VLOOKUP(B14,'N PMČR 2026'!B:G,6,0))","v":28},"","",null,"WRV 2026"]
[9,"Katerina Vojtova",1983,"F","Slaný","CZ/C1",23234,3,9,{"$f":"IF(ISERROR(VLOOKUP(B15,'N PMČR 2026'!B:G,6,0)),\"-\",VLOOKUP(B15,'N PMČR 2026'!B:G,6,0))","v":30},"","",null,"WRV 2026"]
[10,"Petra Piskata",1989,"F","Luhačovice","CZ/M",22839,3,10,{"$f":"IF(ISERROR(VLOOKUP(B16,'N PMČR 2026'!B:G,6,0)),\"-\",VLOOKUP(B16,'N PMČR 2026'!B:G,6,0))","v":31},"","",null,"WRV 2026"]
[11,"Eliska Kudejova",2006,"F","Strakonice","CZ/C1",21916,3,11,{"$f":"IF(ISERROR(VLOOKUP(B17,'N PMČR 2026'!B:G,6,0)),\"-\",VLOOKUP(B17,'N PMČR 2026'!B:G,6,0))","v":29},"Juniorka v roce 2026","Juniorka v roce 2027",null,"WRV 2026"]
[12,"Pavlina Horackova",1965,"F","Šumperk","CZ/M",20388,3,12,{"$f":"IF(ISERROR(VLOOKUP(B18,'N PMČR 2026'!B:G,6,0)),\"-\",VLOOKUP(B18,'N PMČR 2026'!B:G,6,0))","v":57},"",""]
[13,"Katerina Vancurova",2002,"F","Hranice","CZ/M",17173,3,13,{"$f":"IF(ISERROR(VLOOKUP(B19,'N PMČR 2026'!B:G,6,0)),\"-\",VLOOKUP(B19,'N PMČR 2026'!B:G,6,0))","v":"N1"},"Juniorka v roce 2026","Juniorka v roce 2027"]
[14,"Olga Mokosova",1970,"F","Jihlava","CZ/M",16064,3,14,{"$f":"IF(ISERROR(VLOOKUP(B20,'N PMČR 2026'!B:G,6,0)),\"-\",VLOOKUP(B20,'N PMČR 2026'!B:G,6,0))","v":"-"},"",""]
[15,"Klara Teichmannova",1993,"F","Hronov","CZ/C2",15475,2,15,{"$f":"IF(ISERROR(VLOOKUP(B21,'N PMČR 2026'!B:G,6,0)),\"-\",VLOOKUP(B21,'N PMČR 2026'!B:G,6,0))","v":32},"","",null,"WRV 2026"]
[16,"Adela Vachova",2007,"F","Hodkovice","CZ/C2",7754,2,16,{"$f":"IF(ISERROR(VLOOKUP(B22,'N PMČR 2026'!B:G,6,0)),\"-\",VLOOKUP(B22,'N PMČR 2026'!B:G,6,0))","v":"-"},"Juniorka v roce 2026","Juniorka v roce 2027"]
[17,"Yvona Vyhnankova",1963,"F","Olomouc","CZ/M",7393,3,17,{"$f":"IF(ISERROR(VLOOKUP(B23,'N PMČR 2026'!B:G,6,0)),\"-\",VLOOKUP(B23,'N PMČR 2026'!B:G,6,0))","v":"-"},"",""]
[18,"Sarka Lochova",1966,"F","Šumperk","CZ/M",7317,3,18,{"$f":"IF(ISERROR(VLOOKUP(B24,'N PMČR 2026'!B:G,6,0)),\"-\",VLOOKUP(B24,'N PMČR 2026'!B:G,6,0))","v":"-"},"",""]
[19,"Jana Mezerova",1975,"F","Raná","CZ/C2",6702,2,19,{"$f":"IF(ISERROR(VLOOKUP(B25,'N PMČR 2026'!B:G,6,0)),\"-\",VLOOKUP(B25,'N PMČR 2026'!B:G,6,0))","v":"-"},"",""]
[20,"Tereza Ludvikova",1997,"F","Jaroměř","CZ/C2",5772,1,20,{"$f":"IF(ISERROR(VLOOKUP(B26,'N PMČR 2026'!B:G,6,0)),\"-\",VLOOKUP(B26,'N PMČR 2026'!B:G,6,0))","v":"-"},"",""]
[21,"Anna Lanzendorfova",2005,"F","Letkov","CZ/C1",4981,1,21,{"$f":"IF(ISERROR(VLOOKUP(B27,'N PMČR 2026'!B:G,6,0)),\"-\",VLOOKUP(B27,'N PMČR 2026'!B:G,6,0))","v":"-"},"Juniorka v roce 2026","Juniorka v roce 2027"]
[22,"Eva Klapkova",1993,"F","Raná","CZ/C2",4620,2,22,{"$f":"IF(ISERROR(VLOOKUP(B28,'N PMČR 2026'!B:G,6,0)),\"-\",VLOOKUP(B28,'N PMČR 2026'!B:G,6,0))","v":"-"},"",""]
[23,"Viktorie Kusa",2004,"F","Letňany","CZ/C1",3979,1,23,{"$f":"IF(ISERROR(VLOOKUP(B29,'N PMČR 2026'!B:G,6,0)),\"-\",VLOOKUP(B29,'N PMČR 2026'!B:G,6,0))","v":"-"},"Juniorka v roce 2026","Juniorka v roce 2027"]
[24,"Marie Vesela",1999,"F","Staňkov","CZ/C1",3617,3,24,{"$f":"IF(ISERROR(VLOOKUP(B30,'N PMČR 2026'!B:G,6,0)),\"-\",VLOOKUP(B30,'N PMČR 2026'!B:G,6,0))","v":"-"},"",""]
[25,"Tereza Novakova",1993,"F","Chrudim","CZ/C2",2570,1,25,{"$f":"IF(ISERROR(VLOOKUP(B31,'N PMČR 2026'!B:G,6,0)),\"-\",VLOOKUP(B31,'N PMČR 2026'!B:G,6,0))","v":"-"},"",""]
[26,"Petra Ctibor",1991,"F","Medlánky","CZ/M",2402,1,26,{"$f":"IF(ISERROR(VLOOKUP(B32,'N PMČR 2026'!B:G,6,0)),\"-\",VLOOKUP(B32,'N PMČR 2026'!B:G,6,0))","v":"-"},"",""]
[27,"Zuzana Novakova",2001,"F","Hranice","CZ/M",1852,1,27,{"$f":"IF(ISERROR(VLOOKUP(B33,'N PMČR 2026'!B:G,6,0)),\"-\",VLOOKUP(B33,'N PMČR 2026'!B:G,6,0))","v":"-"},{"$f":"IF(C33=\"(prázdné)\",\"\",IF(($K$4-C33)>25,\"\",\"Juniorka v roce \"&$K$4))","v":"Juniorka v roce 2026"},{"$f":"IF(C33=\"(prázdné)\",\"\",IF(($L$4-C33)>25,\"\",\"Juniorka v roce \"&$L$4))","v":""}]
[null,null,null,null,null,null,null,null,null,null,"",""]
[null,null,null,null,null,null,null,null,null,null,"",""]
[null,null,null,null,null,null,null,null,null,null,"",""]

{"sheet":"KB PMRg 2023","index":9,"n_rows":27,"n_cols":13,"rows_kept":27,"cut":false,"hidden":false,"merged":[[0,0,0,12]]}
["PMRg 2023 - Hosín - Korigované body"]
["Pořadí v KB","Jméno","Rok narození","M/F","Aeroklub","Region","Soutěž","Pořadí ve třídě","Body ve třídě","Bi","Typ","CN","Junior"]
[{"$f":"RANK(J3,J:J)","v":1},"Pavel Rericha",{"$f":"VLOOKUP(B3,Pilot,2,0)","v":1967},{"$f":"VLOOKUP(B3,Pilot,5,0)","v":"M"},{"$f":"VLOOKUP(B3,Pilot,3,0)","v":"Moravská Třebová"},{"$f":"VLOOKUP(B3,Pilot,4,0)","v":"CZ/M"},"PMRg 2023 - Klub",1,8730,10000,"ASW-19B","NO",{"$f":"IF(ISERROR(VLOOKUP(B3,Pilot,6,0)),\"Není v databázi\",VLOOKUP(B3,Pilot,6,0))","v":""}]
[1,"Lukas Kriz",{"$f":"VLOOKUP(B4,Pilot,2,0)","v":2003},{"$f":"VLOOKUP(B4,Pilot,5,0)","v":"M"},{"$f":"VLOOKUP(B4,Pilot,3,0)","v":"Křižanov"},{"$f":"VLOOKUP(B4,Pilot,4,0)","v":"CZ/M"},"PMRg, PMČRj 2023 - Kombi",1,9417,10000,"LS 8 15m","AU","Junior v roce 2026"]
[3,"Jaromir Macoun",1999,"M","Jičín","CZ/C2","PMRg, PMČRj 2023 - Kombi",2,9221,9554,"LS 8A","EU",""]
[4,"Jan Louda",1986,"M","Mladá Boleslav","CZ/C1","PMRg 2023 - Klub",2,8448,9543,"ASW-19","XS",""]
[5,"Josef Busek",1967,"M","Hosín","CZ/C1","PMRg, PMČRj 2023 - Kombi",3,8601,8793,"Duo Discus","BB",""]
[6,"Marek Svancara",1976,"M","GAC Benešov","CZ/C1","PMRg 2023 - Klub",3,7660,8681,"Std. Cirrus","GT",""]
[7,"Jan Smaha",1958,"M","Česká Lípa","CZ/C2","PMRg 2023 - Klub",4,7225,8101,"ASW-15B","CW",""]
[8,"Théo Manfredi",null,null,"Association Aéronautique du Val d\\'Oise","FR","PMRg, PMČRj 2023 - Kombi",4,7258,7495,"LAK-17A WL 15m","LE","Není v databázi"]
[9,"Jaromir Pauer",{"$f":"VLOOKUP(B11,Pilot,2,0)","v":1974},{"$f":"VLOOKUP(B11,Pilot,5,0)","v":"M"},{"$f":"VLOOKUP(B11,Pilot,3,0)","v":"Hosín"},{"$f":"VLOOKUP(B11,Pilot,4,0)","v":"CZ/C1"},"PMRg, PMČRj 2023 - Kombi",5,6880,6914,"Ventus B 16.6m WL","7F",""]
[10,"Petr Rozhon",1972,"M","Hosín","CZ/C1","PMRg 2023 - Klub",5,5980,6872,"VSO-10",9,""]
[11,"Pavel Koudelka",1973,"M","Křižanov","CZ/M","PMRg 2023 - Klub",6,5915,6589,"STD. Cirrus","ZL",""]
[12,"Michael Fik",1972,"M","Strakonice","CZ/C1","PMRg, PMČRj 2023 - Kombi",6,6702,6482,"Ventus 2c","ZR",""]
[13,"Jiri Krofta",1988,"M","Hosín","CZ/C1","PMRg 2023 - Klub",7,5909,6353,"Std. Cirrus","UY",""]
[14,"Michal Vranek",1993,"M","Hosín","CZ/C1","PMRg 2023 - Klub",8,5599,5874,"DG-100","8W",""]
[15,"Karel Mares",1974,"M","Slaný","CZ/C1","PMRg, PMČRj 2023 - Kombi",7,5894,5581,"Duo Discus XT","DD",""]
[16,"Miloslav Hulmak",1963,"M","Hosín","CZ/C1","PMRg 2023 - Klub",9,4969,5138,"ASW-15B","HH",""]
[17,"Radek Zima 78",1978,"M","Hodkovice","CZ/C2","PMRg, PMČRj 2023 - Kombi",8,5577,5046,"DG 500 22m","YA",""]
[18,"Daniel Marek",1983,"M","Hosín","CZ/C1","PMRg 2023 - Klub",10,4846,4809,"Std. Cirrus","XII",""]
[19,"Frantisek Suna",1983,"M","Hosín","CZ/C1","PMRg 2023 - Klub",11,4331,4165,"DG-100",78,""]
[20,"Peter Janoska",null,null,"Nitra","SK","PMRg, PMČRj 2023 - Kombi",9,4662,4065,"LS 6C /17,5m","N6","Není v databázi"]
[21,"Michal Hemrle",{"$f":"VLOOKUP(B23,Pilot,2,0)","v":1974},{"$f":"VLOOKUP(B23,Pilot,5,0)","v":"M"},{"$f":"VLOOKUP(B23,Pilot,3,0)","v":"Česká Lípa"},{"$f":"VLOOKUP(B23,Pilot,4,0)","v":"CZ/C2"},"PMRg, PMČRj 2023 - Kombi",10,4036,3300,"ASG 29 Es 18m","ET",""]
[22,"Radoslav Pur",1973,"M","Hosín","CZ/C1","PMRg 2023 - Klub",12,3358,3154,"DG-200","EK",""]
[23,"Jiri Holcman",1976,"M","Hosín","CZ/C1","PMRg 2023 - Klub",13,2234,2022,"ASW-19","BO",""]
[24,"Tomas Vaclavik",1974,"M","Hosín","CZ/C1","PMRg, PMČRj 2023 - Kombi",11,1238,920,"LAK-12",12,""]
[25,"Petr Sochor",1986,"M","Hosín","CZ/C1","PMRg 2023 - Klub",14,0,0,"ASW-15B","6Y",""]

{"sheet":"KB PMRg 2024","index":10,"n_rows":41,"n_cols":13,"rows_kept":41,"cut":false,"hidden":false,"merged":[[0,0,0,12]]}
["PMRg 2024 - Hodkovice - Korigované body"]
["Pořadí v KB","Jméno","Rok narození","M/F","Aeroklub","Region","Soutěž","Pořadí ve třídě","Body ve třídě","Bi","Typ","CN","Junior"]
[{"$f":"RANK(J3,J:J)","v":1},"Jan Hruska",{"$f":"VLOOKUP(B3,Pilot,2,0)","v":1988},{"$f":"VLOOKUP(B3,Pilot,5,0)","v":"M"},{"$f":"VLOOKUP(B3,Pilot,3,0)","v":"Tábor"},{"$f":"VLOOKUP(B3,Pilot,4,0)","v":"CZ/C1"},"PMRg 2024 - Klub",1,1293,10000,"ASW 15 B","LF",{"$f":"IF(ISERROR(VLOOKUP(B3,Pilot,6,0)),\"Není v databázi\",VLOOKUP(B3,Pilot,6,0))","v":""}]
[1,"Petr Panek",1975,"M","Dvůr Králové","CZ/C2","PMRg 2024 - Kombi",1,1018,10000,"JS-1b EVO JET","IGC",""]
[3,"Lukas Capek",1992,"M","Letňany","CZ/C1","PMRg 2024 - Klub",2,1292,9858,"Mosquito","LC",""]
[4,"Radek Zima 78",1978,"M","Hodkovice","CZ/C2","PMRg 2024 - Kombi",2,1004,9604,"ASG 29 E 18m","XZ",""]
[5,"Leos Strnadek",1983,"M","Hodkovice","CZ/C2","PMRg 2024 - Klub",3,1259,9543,"ASW 19 B","XP",""]
[5,"Pavlina Horackova",1965,"F","Šumperk","CZ/M","PMRg 2024 - Klub",3,1259,9543,"SZD-48 Jantar Std. 2","SU",""]
[7,"Michaela Rendlova",2004,"F","Toužim","CZ/C1","PMRg 2024 - Kombi",3,916,8699,"LS 8","W8","Junior v roce 2026"]
[8,"Michal Kares",1987,"M","Ústí nad Orlicí","CZ/C2","PMRg 2024 - Klub",5,1103,8426,"Std. Cirrus","J3",""]
[9,"Jiri Maier 66",1966,"M","Raná","CZ/C2","PMRg 2024 - Klub",6,1096,8252,"ASW 24 E","JM",""]
[10,"Katerina Vojtova",1983,"F","Slaný","CZ/C1","PMRg 2024 - Klub",7,1070,7975,"Std. Cirrus","KAC",""]
[11,"Jaromir Macoun",1999,"M","Jičín","CZ/C2","PMRg 2024 - Kombi",4,832,7821,"LS 8","EU",""]
[12,"Jiri Hula",1973,"M","Slaný","CZ/C1","PMRg 2024 - Klub",8,1062,7795,"Std. Cirrus WL","IT",""]
[13,"Zdenek Balcarek",1967,"M","Kroměříž","CZ/M","PMRg 2024 - Klub",9,1035,7512,"Discus b","AI",""]
[14,"Lukas Kriz",2003,"M","Křižanov","CZ/M","PMRg 2024 - Kombi",5,820,7439,"LS 8","AU","Junior v roce 2026"]
[15,"Jan Smaha",1958,"M","Česká Lípa","CZ/C2","PMRg 2024 - Klub",10,1000,7186,"ASW 15 B","CW",""]
[16,"Stanislav Poslusny",1965,"M","GAC Benešov","CZ/C1","PMRg 2024 - Klub",11,974,6909,"Std. Cirrus","SP",""]
[17,"Vaclav Zak",1962,"M","GAC Benešov","CZ/C1","PMRg 2024 - Klub",12,944,6611,"Std. Cirrus","TSI",""]
[18,"Matej Krestes",1986,"M","Slaný","CZ/C1","PMRg 2024 - Klub",13,912,6301,"Std. Cirrus","CON",""]
[19,"Jaroslav Potmesil",1964,"M","Zbraslavice","CZ/C1","PMRg 2024 - Kombi",6,626,5805,"TwinShark","TS",""]
[20,"Matej Bartos",1998,"M","Hodkovice","CZ/C2","PMRg 2024 - Klub",14,832,5732,"ASW 15 B","BF",""]
[21,"Matej Plch",1987,"M","Letkov","CZ/C1","PMRg 2024 - Kombi",7,588,5243,"LS 8 18m","EJ",""]
[22,"Jiri Krofta",1988,"M","Hosín","CZ/C1","PMRg 2024 - Klub",15,759,5200,"Std. Cirrus","UB",""]
[23,"David Riha",1983,"M","Vlašim","CZ/C1","PMRg 2024 - Klub",16,744,4982,"ASW 15 B","XE",""]
[24,"Pavel Svetlik",1968,"M","Kunovice","CZ/M","PMRg 2024 - Kombi",8,581,4895,"DG 500 22m","YA",""]
[25,"Premysl Muzik",1990,"M","Tábor","CZ/C1","PMRg 2024 - Klub",17,737,4808,"Std. Cirrus","IMI",""]
[26,"Lukas Maly",1998,"M","Vysoké Mýto","CZ/C2","PMRg 2024 - Klub",18,684,4385,"Discus CS",65,""]
[27,"Martin Kriz",1968,"M","Přibyslav","CZ/C2","PMRg 2024 - Klub",19,628,3945,"ASW 20",67,""]
[28,"Michal Fortik",1976,"M","Točná","CZ/C1","PMRg 2024 - Klub",20,618,3755,"ASW 15 B","B",""]
[29,"Antonin Kutalek",1943,"M","Zábřeh","CZ/M","PMRg 2024 - Kombi",9,378,3199,"LAK-17A T 15m","GL",""]
[30,"Michael Fik",1972,"M","Strakonice","CZ/C1","PMRg 2024 - Kombi",10,259,2081,"Duo Discus","DD",""]
[31,"Pavel Koudelka",1973,"M","Křižanov","CZ/M","PMRg 2024 - Klub",21,259,1675,"Std. Cirrus","ZL",""]
[32,"Jan Zahradka",1981,"M","Hodkovice","CZ/C2","PMRg 2024 - Klub",22,156,981,"Std. Cirrus","AR",""]
[33,"Petr Weinhauer",1977,"M","Tábor","CZ/C1","PMRg 2024 - Klub",23,0,0,"VSO-10","F3",""]
[33,"Michal Vranek",1993,"M","Hosín","CZ/C1","PMRg 2024 - Klub",23,0,0,"DG 100","8W",""]
[33,"Eva Klapkova",1993,"F","Raná","CZ/C2","PMRg 2024 - Klub",23,0,0,"ASW 15","TZ",""]
[33,"Jan Louda",1986,"M","Mladá Boleslav","CZ/C1","PMRg 2024 - Klub",23,0,0,"ASW 19 B","XS",""]
[33,"Daniel Devecka",1981,"M","Vlašim","CZ/C1","PMRg 2024 - Klub",23,0,0,"LS 3a","2G",""]
[33,"Zdenek Buben",1978,"M","Hodkovice","CZ/C2","PMRg 2024 - Kombi",11,0,0,"ASW 27 B WL","MF",""]
[33,"Ondrej Dvorak 87",1987,"M","Raná","CZ/C2","PMRg 2024 - Kombi",11,0,0,"Ventus a 15 WL","FW"]

{"sheet":"KB PMRg 2025","index":11,"n_rows":22,"n_cols":13,"rows_kept":22,"cut":false,"hidden":false,"merged":[[0,0,0,12]]}
["PMRg 2025 - Strakonice - Korigované body"]
["Pořadí v KB","Jméno","Rok narození","M/F","Aeroklub","Region","Soutěž","Pořadí ve třídě","Body ve třídě","Bi","Typ","CN","Junior"]
[{"$f":"RANK(J3,J:J)","v":1},"Lukas Capek",{"$f":"VLOOKUP(B3,Pilot,2,0)","v":1992},{"$f":"VLOOKUP(B3,Pilot,5,0)","v":"M"},{"$f":"VLOOKUP(B3,Pilot,3,0)","v":"Letňany"},{"$f":"VLOOKUP(B3,Pilot,4,0)","v":"CZ/C1"},"PMRg 2025 - Klub",1,2112,10000,"303 Mosquito","LC",{"$f":"IF(ISERROR(VLOOKUP(B3,Pilot,6,0)),\"Není v databázi\",VLOOKUP(B3,Pilot,6,0))","v":""}]
[1,"Lukas Kriz",2003,"M","Křižanov","CZ/M","PMRg 2025 - Kombi",1,1933,10000,"LS 8","AU","Junior v roce 2026"]
[3,"Jan Zapletal",1997,"M","Břeclav","CZ/M","PMRg 2025 - Kombi",2,1799,9181,"ASG 29 E 18m","2L",""]
[4,"Josef Beran",1982,"M","Slaný","CZ/C1","PMRg 2025 - Klub",2,1887,8921,"Std. Cirrus WL","IT",""]
[5,"David Sachl",1978,"M","Kralupy","CZ/C1","PMRg 2025 - Kombi",3,1755,8689,"ASW 27b","MF",""]
[6,"Premysl Muzik",1990,"M","Tábor","CZ/C1","PMRg 2025 - Klub",3,1765,8183,"Std. Cirrus","IMI",""]
[7,"Radek Zima 78",1978,"M","Hodkovice","CZ/C2","PMRg 2025 - Kombi",4,1609,7827,"ASG 29 E 18m","XZ",""]
[8,"Pavel Koudelka",1973,"M","Křižanov","CZ/M","PMRg 2025 - Klub",4,1655,7485,"Std. Cirrus","ZL",""]
[9,"Petr Hotovy",1958,"M","Česká Lípa","CZ/C2","PMRg 2025 - Kombi",5,1538,7236,"Ventus 3 FES Sport","LB",""]
[10,"Pavlina Horackova",1965,"F","Šumperk","CZ/M","PMRg 2025 - Klub",5,1554,6817,"SZD-48 Jantar Std.","SU",""]
[11,"Petr Panek",1975,"M","Dvůr Králové","CZ/C2","PMRg 2025 - Kombi",6,1367,6284,"JS1 EVO JET","IGC",""]
[12,"Jaroslav Potmesil",1964,"M","Zbraslavice","CZ/C1","PMRg 2025 - Kombi",7,1361,5929,"HpH 304 MS Shark","MS",""]
[13,"Karel Mares",1974,"M","Slaný","CZ/C1","PMRg 2025 - Kombi",8,1213,5059,"DuoDiscus XT","BB",""]
[14,"Vojtech Bystricky",2004,"M","Strakonice","CZ/C1","PMRg 2025 - Klub",6,1087,4936,"VSO-10","L3","Junior v roce 2026"]
[15,"Michael Fik",1972,"M","Strakonice","CZ/C1","PMRg 2025 - Kombi",9,551,2329,"Duo Discus XT","DD",""]
[16,"Miroslav Kus",1970,"M","Strakonice","CZ/C1","PMRg 2025 - Klub",7,330,2094,"VSO-10","C6",""]
[17,"Jan Hirs",1975,"M","Strakonice","CZ/C1","PMRg 2025 - Klub",8,249,1492,"Std. Cirrus","ST",""]
[18,"Ales Sokolik",1973,"M","Strakonice","CZ/C1","PMRg 2025 - Klub",9,3,343,"LS 3","XX",""]
[19,"Daniel Marek",1983,"M","Hosín","CZ/C1","PMRg 2025 - Klub",10,2,7,"ASW 19B","OWL",""]
[20,"Bohus Marcinik",1947,"M","Příbram","CZ/C1","PMRg 2025 - Kombi",10,0,0,"Ventus 2cxM 18m","EK",""]

{"sheet":"KB RPS 2025","index":12,"n_rows":246,"n_cols":16,"rows_kept":246,"cut":false,"hidden":true,"merged":[[0,0,0,12]]}
["RPS 2025 - AZ Cup, JPJ, TCup, PPV - Korigované body",null,null,null,null,null,null,null,null,null,null,null,null,null,null,"<48"]
["Pořadí v KB","Jméno","Rok narození","M/F","Aeroklub","Region","Soutěž","Pořadí ve třídě","Body ve třídě","Bi","Typ","CN","Junior","Pořadí Žebřík 2026","Nominace PMČR 2026","Nominace z KB RPS 2025"]
[{"$f":"RANK(J3,J:J)","v":1},"Uwe Wahlig",null,null,"Segelfluggruppe Bensheim e.V.",null,"AZ Cup 2025 - Klub",1,2674,10000,"LS 3 WL","SN",{"$f":"IF(ISERROR(VLOOKUP(B3,Pilot,6,0)),\"Není v databázi\",VLOOKUP(B3,Pilot,6,0))","v":"Není v databázi"},{"$f":"IF(ISERROR(VLOOKUP(B3,'Zebrik G'!B:I,8,0)),\"-\",VLOOKUP(B3,'Zebrik G'!B:I,8,0))","v":"-"},{"$f":"IF(ISERROR(VLOOKUP(B3,'N PMČR 2026'!B:G,6,0)),\"-\",VLOOKUP(B3,'N PMČR 2026'!B:G,6,0))","v":"-"}]
[1,"Karel Novak",{"$f":"VLOOKUP(B4,Pilot,2,0)","v":1993},{"$f":"VLOOKUP(B4,Pilot,5,0)","v":"M"},{"$f":"VLOOKUP(B4,Pilot,3,0)","v":"Mladá Boleslav"},{"$f":"VLOOKUP(B4,Pilot,4,0)","v":"CZ/C1"},"AZ Cup 2025 - Kombi 15m",1,3138,10000,"Ventus 2a","AXI","",{"$f":"IF(ISERROR(VLOOKUP(B4,'Zebrik G'!B:I,8,0)),\"-\",VLOOKUP(B4,'Zebrik G'!B:I,8,0))","v":10},{"$f":"IF(ISERROR(VLOOKUP(B4,'N PMČR 2026'!B:G,6,0)),\"-\",VLOOKUP(B4,'N PMČR 2026'!B:G,6,0))","v":10}]
[1,"Radek Krejcirik",1991,"M","Hranice","CZ/M","AZ Cup 2025 - Kombi Open",1,2791,10000,"JS1","ZF","",{"$f":"IF(ISERROR(VLOOKUP(B5,'Zebrik G'!B:I,8,0)),\"-\",VLOOKUP(B5,'Zebrik G'!B:I,8,0))","v":4},{"$f":"IF(ISERROR(VLOOKUP(B5,'N PMČR 2026'!B:G,6,0)),\"-\",VLOOKUP(B5,'N PMČR 2026'!B:G,6,0))","v":4}]
[1,"Jindrich Svorc",1978,"M","Letňany","CZ/C1","JPJ 2025 - Klub",1,4627,10000,"Discus bt","OI","",{"$f":"IF(ISERROR(VLOOKUP(B6,'Zebrik G'!B:I,8,0)),\"-\",VLOOKUP(B6,'Zebrik G'!B:I,8,0))","v":29},{"$f":"IF(ISERROR(VLOOKUP(B6,'N PMČR 2026'!B:G,6,0)),\"-\",VLOOKUP(B6,'N PMČR 2026'!B:G,6,0))","v":33}]
[1,"Petr Koutny",1971,"M","Křižanov","CZ/M","JPJ 2025 - Kombi 15m",1,4894,10000,"LS-8 15m",18,"",{"$f":"IF(ISERROR(VLOOKUP(B7,'Zebrik G'!B:I,8,0)),\"-\",VLOOKUP(B7,'Zebrik G'!B:I,8,0))","v":32},{"$f":"IF(ISERROR(VLOOKUP(B7,'N PMČR 2026'!B:G,6,0)),\"-\",VLOOKUP(B7,'N PMČR 2026'!B:G,6,0))","v":37}]
[1,"Radek Hybl",1980,"M","Šumperk","CZ/M","JPJ 2025 - Kombi Open",1,4709,10000,"Ventus cm 17,6m","IHH","",{"$f":"IF(ISERROR(VLOOKUP(B8,'Zebrik G'!B:I,8,0)),\"-\",VLOOKUP(B8,'Zebrik G'!B:I,8,0))","v":35},{"$f":"IF(ISERROR(VLOOKUP(B8,'N PMČR 2026'!B:G,6,0)),\"-\",VLOOKUP(B8,'N PMČR 2026'!B:G,6,0))","v":70},1]
[1,"Jiri Vondracek",1989,"M","Kladno","CZ/C1","Toužim Cup 2025 - Klub",1,2136,10000,"H-201b Std. Libelle WL",442,"",{"$f":"IF(ISERROR(VLOOKUP(B9,'Zebrik G'!B:I,8,0)),\"-\",VLOOKUP(B9,'Zebrik G'!B:I,8,0))","v":48},{"$f":"IF(ISERROR(VLOOKUP(B9,'N PMČR 2026'!B:G,6,0)),\"-\",VLOOKUP(B9,'N PMČR 2026'!B:G,6,0))","v":78},2]
[1,"Petr Jiranek 91",1991,"M","Toužim","CZ/C1","Toužim Cup 2025 - Kombi",1,2240,10000,"Ventus c /17,6m","PC","",{"$f":"IF(ISERROR(VLOOKUP(B10,'Zebrik G'!B:I,8,0)),\"-\",VLOOKUP(B10,'Zebrik G'!B:I,8,0))","v":83},{"$f":"IF(ISERROR(VLOOKUP(B10,'N PMČR 2026'!B:G,6,0)),\"-\",VLOOKUP(B10,'N PMČR 2026'!B:G,6,0))","v":"-"},3]
[1,"Petr Masik",2001,"M","Zábřeh","CZ/M","PPV 2025 - Klub",1,3503,10000,"ASW 19 B",34,"Junior v roce 2026",{"$f":"IF(ISERROR(VLOOKUP(B11,'Zebrik G'!B:I,8,0)),\"-\",VLOOKUP(B11,'Zebrik G'!B:I,8,0))","v":31},{"$f":"IF(ISERROR(VLOOKUP(B11,'N PMČR 2026'!B:G,6,0)),\"-\",VLOOKUP(B11,'N PMČR 2026'!B:G,6,0))","v":24}]
[1,"Jan Kotan",1982,"M","Letňany","CZ/C1","PPV 2025 - Kombi",1,3849,10000,"AS 33 Es 18m","CAT","",{"$f":"IF(ISERROR(VLOOKUP(B12,'Zebrik G'!B:I,8,0)),\"-\",VLOOKUP(B12,'Zebrik G'!B:I,8,0))","v":22},{"$f":"IF(ISERROR(VLOOKUP(B12,'N PMČR 2026'!B:G,6,0)),\"-\",VLOOKUP(B12,'N PMČR 2026'!B:G,6,0))","v":42}]
[11,"Ondrej Dupal",1966,"M","GAC Benešov","CZ/C1","Toužim Cup 2025 - Kombi",2,2225,9862,"ASG-29E /18m","GO","",{"$f":"IF(ISERROR(VLOOKUP(B13,'Zebrik G'!B:I,8,0)),\"-\",VLOOKUP(B13,'Zebrik G'!B:I,8,0))","v":23},{"$f":"IF(ISERROR(VLOOKUP(B13,'N PMČR 2026'!B:G,6,0)),\"-\",VLOOKUP(B13,'N PMČR 2026'!B:G,6,0))","v":39}]
[12,"Jaroslav Tomana",1975,"M","Zbraslavice","CZ/C1","AZ Cup 2025 - Klub",2,2646,9811,"Centair 101 BC Pegase","RT","",{"$f":"IF(ISERROR(VLOOKUP(B14,'Zebrik G'!B:I,8,0)),\"-\",VLOOKUP(B14,'Zebrik G'!B:I,8,0))","v":6},{"$f":"IF(ISERROR(VLOOKUP(B14,'N PMČR 2026'!B:G,6,0)),\"-\",VLOOKUP(B14,'N PMČR 2026'!B:G,6,0))","v":6}]
[13,"Petr Tichy",1973,"M","Zbraslavice","CZ/C1","AZ Cup 2025 - Kombi Open",2,2767,9790,"AS 33","EZ","",{"$f":"IF(ISERROR(VLOOKUP(B15,'Zebrik G'!B:I,8,0)),\"-\",VLOOKUP(B15,'Zebrik G'!B:I,8,0))","v":8},{"$f":"IF(ISERROR(VLOOKUP(B15,'N PMČR 2026'!B:G,6,0)),\"-\",VLOOKUP(B15,'N PMČR 2026'!B:G,6,0))","v":8}]
[14,"Stepan Bartos",2004,"M","Kolín","CZ/C1","PPV 2025 - Klub",2,3440,9774,"Discus b WL","LD","Junior v roce 2026",{"$f":"IF(ISERROR(VLOOKUP(B16,'Zebrik G'!B:I,8,0)),\"-\",VLOOKUP(B16,'Zebrik G'!B:I,8,0))","v":46},{"$f":"IF(ISERROR(VLOOKUP(B16,'N PMČR 2026'!B:G,6,0)),\"-\",VLOOKUP(B16,'N PMČR 2026'!B:G,6,0))","v":"N2"},4]
[15,"Jan Viskot",1995,"M","Břeclav","CZ/M","Toužim Cup 2025 - Kombi",3,2216,9743,"Discus 2a /15m","GX","",{"$f":"IF(ISERROR(VLOOKUP(B17,'Zebrik G'!B:I,8,0)),\"-\",VLOOKUP(B17,'Zebrik G'!B:I,8,0))","v":36},{"$f":"IF(ISERROR(VLOOKUP(B17,'N PMČR 2026'!B:G,6,0)),\"-\",VLOOKUP(B17,'N PMČR 2026'!B:G,6,0))","v":71},5]
[16,"Marek Blatak",1969,"M","Šumperk","CZ/M","JPJ 2025 - Kombi Open",2,4606,9670,"DG-808 S Comp 18m WL","W","",{"$f":"IF(ISERROR(VLOOKUP(B18,'Zebrik G'!B:I,8,0)),\"-\",VLOOKUP(B18,'Zebrik G'!B:I,8,0))","v":45},{"$f":"IF(ISERROR(VLOOKUP(B18,'N PMČR 2026'!B:G,6,0)),\"-\",VLOOKUP(B18,'N PMČR 2026'!B:G,6,0))","v":76},6]
[17,"Pavel Jiranek",1993,"M","Toužim","CZ/C1","Toužim Cup 2025 - Kombi",4,2202,9609,"Ventus c /17,6m","CS","",{"$f":"IF(ISERROR(VLOOKUP(B19,'Zebrik G'!B:I,8,0)),\"-\",VLOOKUP(B19,'Zebrik G'!B:I,8,0))","v":41},{"$f":"IF(ISERROR(VLOOKUP(B19,'N PMČR 2026'!B:G,6,0)),\"-\",VLOOKUP(B19,'N PMČR 2026'!B:G,6,0))","v":73},7]
[18,"Milan Svoboda 80",1980,"M","Havlíčkův Brod","CZ/C2","PPV 2025 - Klub",3,3406,9606,"Std. Cirrus","MS","",{"$f":"IF(ISERROR(VLOOKUP(B20,'Zebrik G'!B:I,8,0)),\"-\",VLOOKUP(B20,'Zebrik G'!B:I,8,0))","v":58},{"$f":"IF(ISERROR(VLOOKUP(B20,'N PMČR 2026'!B:G,6,0)),\"-\",VLOOKUP(B20,'N PMČR 2026'!B:G,6,0))","v":35}]
[19,"Roman Jokl",1979,"M","Letkov","CZ/C1","Toužim Cup 2025 - Klub",2,2050,9598,"ASW-19B WL","JL","",{"$f":"IF(ISERROR(VLOOKUP(B21,'Zebrik G'!B:I,8,0)),\"-\",VLOOKUP(B21,'Zebrik G'!B:I,8,0))","v":42},{"$f":"IF(ISERROR(VLOOKUP(B21,'N PMČR 2026'!B:G,6,0)),\"-\",VLOOKUP(B21,'N PMČR 2026'!B:G,6,0))","v":74},8]
[20,"Pavel Trybenekr",1990,"M","Hořice","CZ/C2","AZ Cup 2025 - Kombi 15m",2,3044,9590,"JS 3","ZE","",{"$f":"IF(ISERROR(VLOOKUP(B22,'Zebrik G'!B:I,8,0)),\"-\",VLOOKUP(B22,'Zebrik G'!B:I,8,0))","v":11},{"$f":"IF(ISERROR(VLOOKUP(B22,'N PMČR 2026'!B:G,6,0)),\"-\",VLOOKUP(B22,'N PMČR 2026'!B:G,6,0))","v":11}]
[21,"Tomas Rendla",1973,"M","Zbraslavice","CZ/C1","AZ Cup 2025 - Kombi Open",3,2729,9545,"EB 29 r","EX","",{"$f":"IF(ISERROR(VLOOKUP(B23,'Zebrik G'!B:I,8,0)),\"-\",VLOOKUP(B23,'Zebrik G'!B:I,8,0))","v":21},{"$f":"IF(ISERROR(VLOOKUP(B23,'N PMČR 2026'!B:G,6,0)),\"-\",VLOOKUP(B23,'N PMČR 2026'!B:G,6,0))","v":21}]
[22,"Josef Novotny",1983,"M","Přibyslav","CZ/C2","JPJ 2025 - Klub",2,4384,9532,"Std. Cirrus","AW","",{"$f":"IF(ISERROR(VLOOKUP(B24,'Zebrik G'!B:I,8,0)),\"-\",VLOOKUP(B24,'Zebrik G'!B:I,8,0))","v":130},{"$f":"IF(ISERROR(VLOOKUP(B24,'N PMČR 2026'!B:G,6,0)),\"-\",VLOOKUP(B24,'N PMČR 2026'!B:G,6,0))","v":"-"}]
[23,"Lukas Capek",1992,"M","Letňany","CZ/C1","PPV 2025 - Klub",4,3391,9476,"Mosquito","LC","",{"$f":"IF(ISERROR(VLOOKUP(B25,'Zebrik G'!B:I,8,0)),\"-\",VLOOKUP(B25,'Zebrik G'!B:I,8,0))","v":38},{"$f":"IF(ISERROR(VLOOKUP(B25,'N PMČR 2026'!B:G,6,0)),\"-\",VLOOKUP(B25,'N PMČR 2026'!B:G,6,0))","v":49},9]
[24,"Jan Boruvka",1984,"M","Jičín","CZ/C2","PPV 2025 - Kombi",2,3613,9460,"ASG 29 E 18m","QX","",{"$f":"IF(ISERROR(VLOOKUP(B26,'Zebrik G'!B:I,8,0)),\"-\",VLOOKUP(B26,'Zebrik G'!B:I,8,0))","v":34},{"$f":"IF(ISERROR(VLOOKUP(B26,'N PMČR 2026'!B:G,6,0)),\"-\",VLOOKUP(B26,'N PMČR 2026'!B:G,6,0))","v":43}]
[25,"Viktor Becan",null,null,"ALC Lesce","SLO","AZ Cup 2025 - Klub",3,2553,9452,"ASW 20","CP","Není v databázi",{"$f":"IF(ISERROR(VLOOKUP(B27,'Zebrik G'!B:I,8,0)),\"-\",VLOOKUP(B27,'Zebrik G'!B:I,8,0))","v":"-"},{"$f":"IF(ISERROR(VLOOKUP(B27,'N PMČR 2026'!B:G,6,0)),\"-\",VLOOKUP(B27,'N PMČR 2026'!B:G,6,0))","v":"-"}]
[26,"Ondrej Dupal",{"$f":"VLOOKUP(B28,Pilot,2,0)","v":1966},{"$f":"VLOOKUP(B28,Pilot,5,0)","v":"M"},{"$f":"VLOOKUP(B28,Pilot,3,0)","v":"GAC Benešov"},{"$f":"VLOOKUP(B28,Pilot,4,0)","v":"CZ/C1"},"AZ Cup 2025 - Kombi Open",4,2728,9392,"ASG 29 E","GO","",{"$f":"IF(ISERROR(VLOOKUP(B28,'Zebrik G'!B:I,8,0)),\"-\",VLOOKUP(B28,'Zebrik G'!B:I,8,0))","v":23},{"$f":"IF(ISERROR(VLOOKUP(B28,'N PMČR 2026'!B:G,6,0)),\"-\",VLOOKUP(B28,'N PMČR 2026'!B:G,6,0))","v":39}]
[27,"Frantisek Vancura",{"$f":"VLOOKUP(B29,Pilot,2,0)","v":1966},{"$f":"VLOOKUP(B29,Pilot,5,0)","v":"M"},{"$f":"VLOOKUP(B29,Pilot,3,0)","v":"Hranice"},{"$f":"VLOOKUP(B29,Pilot,4,0)","v":"CZ/M"},"JPJ 2025 - Kombi Open",3,4537,9391,"Nimbus 3 24,5m WL 750kg","A1","",{"$f":"IF(ISERROR(VLOOKUP(B29,'Zebrik G'!B:I,8,0)),\"-\",VLOOKUP(B29,'Zebrik G'!B:I,8,0))","v":44},{"$f":"IF(ISERROR(VLOOKUP(B29,'N PMČR 2026'!B:G,6,0)),\"-\",VLOOKUP(B29,'N PMČR 2026'!B:G,6,0))","v":75},10]
[28,"Amelie Boulanger",null,null,"Grenoble Vol à Voile",null,"PPV 2025 - Klub",5,3351,9296,"ASW 24",69,"Není v databázi",{"$f":"IF(ISERROR(VLOOKUP(B30,'Zebrik G'!B:I,8,0)),\"-\",VLOOKUP(B30,'Zebrik G'!B:I,8,0))","v":"-"},{"$f":"IF(ISERROR(VLOOKUP(B30,'N PMČR 2026'!B:G,6,0)),\"-\",VLOOKUP(B30,'N PMČR 2026'!B:G,6,0))","v":"-"}]
[29,"Darius Gudziunas",null,null,"Vilniaus Aeroklubas",null,"AZ Cup 2025 - Klub",4,2518,9245,"ASW 20","FL","Není v databázi",{"$f":"IF(ISERROR(VLOOKUP(B31,'Zebrik G'!B:I,8,0)),\"-\",VLOOKUP(B31,'Zebrik G'!B:I,8,0))","v":"-"},{"$f":"IF(ISERROR(VLOOKUP(B31,'N PMČR 2026'!B:G,6,0)),\"-\",VLOOKUP(B31,'N PMČR 2026'!B:G,6,0))","v":"-"}]
[30,"Stepan Filakovsky",{"$f":"VLOOKUP(B32,Pilot,2,0)","v":2005},{"$f":"VLOOKUP(B32,Pilot,5,0)","v":"M"},{"$f":"VLOOKUP(B32,Pilot,3,0)","v":"Medlánky"},{"$f":"VLOOKUP(B32,Pilot,4,0)","v":"CZ/M"},"Toužim Cup 2025 - Klub",3,1964,9196,"LS-1f","FD","Junior v roce 2026",{"$f":"IF(ISERROR(VLOOKUP(B32,'Zebrik G'!B:I,8,0)),\"-\",VLOOKUP(B32,'Zebrik G'!B:I,8,0))","v":61},{"$f":"IF(ISERROR(VLOOKUP(B32,'N PMČR 2026'!B:G,6,0)),\"-\",VLOOKUP(B32,'N PMČR 2026'!B:G,6,0))","v":44}]
[31,"Petr Jiranek 63",{"$f":"VLOOKUP(B33,Pilot,2,0)","v":1962},{"$f":"VLOOKUP(B33,Pilot,5,0)","v":"M"},{"$f":"VLOOKUP(B33,Pilot,3,0)","v":"Toužim"},{"$f":"VLOOKUP(B33,Pilot,4,0)","v":"CZ/C1"},"Toužim Cup 2025 - Kombi",5,2097,9189,"HpH 304MS SHARK /18m (560 kg)","LK","",{"$f":"IF(ISERROR(VLOOKUP(B33,'Zebrik G'!B:I,8,0)),\"-\",VLOOKUP(B33,'Zebrik G'!B:I,8,0))","v":116},{"$f":"IF(ISERROR(VLOOKUP(B33,'N PMČR 2026'!B:G,6,0)),\"-\",VLOOKUP(B33,'N PMČR 2026'!B:G,6,0))","v":"-"},11]
[32,"Petr Masik",{"$f":"VLOOKUP(B34,Pilot,2,0)","v":2001},{"$f":"VLOOKUP(B34,Pilot,5,0)","v":"M"},{"$f":"VLOOKUP(B34,Pilot,3,0)","v":"Zábřeh"},{"$f":"VLOOKUP(B34,Pilot,4,0)","v":"CZ/M"},"JPJ 2025 - Klub",3,4213,9174,"ASW-19B",34,"Junior v roce 2026",{"$f":"IF(ISERROR(VLOOKUP(B34,'Zebrik G'!B:I,8,0)),\"-\",VLOOKUP(B34,'Zebrik G'!B:I,8,0))","v":31},{"$f":"IF(ISERROR(VLOOKUP(B34,'N PMČR 2026'!B:G,6,0)),\"-\",VLOOKUP(B34,'N PMČR 2026'!B:G,6,0))","v":24}]
[33,"Ondrej Bordovsky",{"$f":"VLOOKUP(B35,Pilot,2,0)","v":1983},{"$f":"VLOOKUP(B35,Pilot,5,0)","v":"M"},{"$f":"VLOOKUP(B35,Pilot,3,0)","v":"Krnov"},{"$f":"VLOOKUP(B35,Pilot,4,0)","v":"CZ/M"},"PPV 2025 - Kombi",3,3491,9127,"Ventus c 17.6m","AD","",{"$f":"IF(ISERROR(VLOOKUP(B35,'Zebrik G'!B:I,8,0)),\"-\",VLOOKUP(B35,'Zebrik G'!B:I,8,0))","v":33},{"$f":"IF(ISERROR(VLOOKUP(B35,'N PMČR 2026'!B:G,6,0)),\"-\",VLOOKUP(B35,'N PMČR 2026'!B:G,6,0))","v":41}]
[34,"Daniel Eliott",null,null,"Chérence",null,"AZ Cup 2025 - Klub",5,2513,9117,"LS 4","YG","Není v databázi",{"$f":"IF(ISERROR(VLOOKUP(B36,'Zebrik G'!B:I,8,0)),\"-\",VLOOKUP(B36,'Zebrik G'!B:I,8,0))","v":"-"},{"$f":"IF(ISERROR(VLOOKUP(B36,'N PMČR 2026'!B:G,6,0)),\"-\",VLOOKUP(B36,'N PMČR 2026'!B:G,6,0))","v":"-"}]
[35,"Marius Pluscauskas",null,null,"Vilniaus aeroklubas",null,"AZ Cup 2025 - Kombi 15m",3,2907,9085,"Diana 2","BB","Není v databázi",{"$f":"IF(ISERROR(VLOOKUP(B37,'Zebrik G'!B:I,8,0)),\"-\",VLOOKUP(B37,'Zebrik G'!B:I,8,0))","v":"-"},{"$f":"IF(ISERROR(VLOOKUP(B37,'N PMČR 2026'!B:G,6,0)),\"-\",VLOOKUP(B37,'N PMČR 2026'!B:G,6,0))","v":"-"}]
[36,"Jan Smekal",{"$f":"VLOOKUP(B38,Pilot,2,0)","v":1976},{"$f":"VLOOKUP(B38,Pilot,5,0)","v":"M"},{"$f":"VLOOKUP(B38,Pilot,3,0)","v":"Zbraslavice"},{"$f":"VLOOKUP(B38,Pilot,4,0)","v":"CZ/C1"},"Toužim Cup 2025 - Kombi",6,2092,9083,"Ventus c /17,6m","CL","",{"$f":"IF(ISERROR(VLOOKUP(B38,'Zebrik G'!B:I,8,0)),\"-\",VLOOKUP(B38,'Zebrik G'!B:I,8,0))","v":73},{"$f":"IF(ISERROR(VLOOKUP(B38,'N PMČR 2026'!B:G,6,0)),\"-\",VLOOKUP(B38,'N PMČR 2026'!B:G,6,0))","v":"-"},12]
[37,"Jan Beran",{"$f":"VLOOKUP(B39,Pilot,2,0)","v":1999},{"$f":"VLOOKUP(B39,Pilot,5,0)","v":"M"},{"$f":"VLOOKUP(B39,Pilot,3,0)","v":"Kladno"},{"$f":"VLOOKUP(B39,Pilot,4,0)","v":"CZ/C1"},"Toužim Cup 2025 - Klub",4,1963,9073,"ASW-19B","HB","",{"$f":"IF(ISERROR(VLOOKUP(B39,'Zebrik G'!B:I,8,0)),\"-\",VLOOKUP(B39,'Zebrik G'!B:I,8,0))","v":53},{"$f":"IF(ISERROR(VLOOKUP(B39,'N PMČR 2026'!B:G,6,0)),\"-\",VLOOKUP(B39,'N PMČR 2026'!B:G,6,0))","v":"N3"},13]
[38,"Louis Janzam",null,null,"Grenoble Vol à Voile",null,"PPV 2025 - Klub",6,3288,9070,"Glasflugel 304","IMW","Není v databázi",{"$f":"IF(ISERROR(VLOOKUP(B40,'Zebrik G'!B:I,8,0)),\"-\",VLOOKUP(B40,'Zebrik G'!B:I,8,0))","v":"-"},{"$f":"IF(ISERROR(VLOOKUP(B40,'N PMČR 2026'!B:G,6,0)),\"-\",VLOOKUP(B40,'N PMČR 2026'!B:G,6,0))","v":"-"}]
[39,"Alena Netusilova",{"$f":"VLOOKUP(B41,Pilot,2,0)","v":1970},{"$f":"VLOOKUP(B41,Pilot,5,0)","v":"F"},{"$f":"VLOOKUP(B41,Pilot,3,0)","v":"Zbraslavice"},{"$f":"VLOOKUP(B41,Pilot,4,0)","v":"CZ/C1"},"AZ Cup 2025 - Kombi Open",5,2632,9001,"JS 3","3J","",{"$f":"IF(ISERROR(VLOOKUP(B41,'Zebrik G'!B:I,8,0)),\"-\",VLOOKUP(B41,'Zebrik G'!B:I,8,0))","v":43},{"$f":"IF(ISERROR(VLOOKUP(B41,'N PMČR 2026'!B:G,6,0)),\"-\",VLOOKUP(B41,'N PMČR 2026'!B:G,6,0))","v":25}]
[40,"Ivan Harasta 65",{"$f":"VLOOKUP(B42,Pilot,2,0)","v":1965},{"$f":"VLOOKUP(B42,Pilot,5,0)","v":"M"},{"$f":"VLOOKUP(B42,Pilot,3,0)","v":"Toužim"},{"$f":"VLOOKUP(B42,Pilot,4,0)","v":"CZ/C1"},"AZ Cup 2025 - Klub",6,2506,8983,"LS 4","IX","",{"$f":"IF(ISERROR(VLOOKUP(B42,'Zebrik G'!B:I,8,0)),\"-\",VLOOKUP(B42,'Zebrik G'!B:I,8,0))","v":13},{"$f":"IF(ISERROR(VLOOKUP(B42,'N PMČR 2026'!B:G,6,0)),\"-\",VLOOKUP(B42,'N PMČR 2026'!B:G,6,0))","v":13}]
[41,"Vaclav Marel",{"$f":"VLOOKUP(B43,Pilot,2,0)","v":1974},{"$f":"VLOOKUP(B43,Pilot,5,0)","v":"M"},{"$f":"VLOOKUP(B43,Pilot,3,0)","v":"Jaroměř"},{"$f":"VLOOKUP(B43,Pilot,4,0)","v":"CZ/C2"},"PPV 2025 - Klub",7,3284,8962,"Std. Cirrus","IF","",{"$f":"IF(ISERROR(VLOOKUP(B43,'Zebrik G'!B:I,8,0)),\"-\",VLOOKUP(B43,'Zebrik G'!B:I,8,0))","v":51},{"$f":"IF(ISERROR(VLOOKUP(B43,'N PMČR 2026'!B:G,6,0)),\"-\",VLOOKUP(B43,'N PMČR 2026'!B:G,6,0))","v":"N1"},14]
[42,"Jiri Steiger",{"$f":"VLOOKUP(B44,Pilot,2,0)","v":1969},{"$f":"VLOOKUP(B44,Pilot,5,0)","v":"M"},{"$f":"VLOOKUP(B44,Pilot,3,0)","v":"Olomouc"},{"$f":"VLOOKUP(B44,Pilot,4,0)","v":"CZ/M"},"JPJ 2025 - Kombi Open",4,4301,8864,"Ventus 3M 18m","JS","",{"$f":"IF(ISERROR(VLOOKUP(B44,'Zebrik G'!B:I,8,0)),\"-\",VLOOKUP(B44,'Zebrik G'!B:I,8,0))","v":50},{"$f":"IF(ISERROR(VLOOKUP(B44,'N PMČR 2026'!B:G,6,0)),\"-\",VLOOKUP(B44,'N PMČR 2026'!B:G,6,0))","v":80},15]
[43,"Hugo Corbille",null,null,"ATVV Grauhlet",null,"AZ Cup 2025 - Klub",7,2494,8836,"LS 7 WL","HG","Není v databázi",{"$f":"IF(ISERROR(VLOOKUP(B45,'Zebrik G'!B:I,8,0)),\"-\",VLOOKUP(B45,'Zebrik G'!B:I,8,0))","v":"-"},{"$f":"IF(ISERROR(VLOOKUP(B45,'N PMČR 2026'!B:G,6,0)),\"-\",VLOOKUP(B45,'N PMČR 2026'!B:G,6,0))","v":"-"}]
[44,"Steffen Goettler",null,null,"LSC Bad Homburg",null,"AZ Cup 2025 - Kombi 15m",4,2882,8829,"Ventus 2a","SG","Není v databázi",{"$f":"IF(ISERROR(VLOOKUP(B46,'Zebrik G'!B:I,8,0)),\"-\",VLOOKUP(B46,'Zebrik G'!B:I,8,0))","v":"-"},{"$f":"IF(ISERROR(VLOOKUP(B46,'N PMČR 2026'!B:G,6,0)),\"-\",VLOOKUP(B46,'N PMČR 2026'!B:G,6,0))","v":"-"}]
[45,"Martin Ficnar",{"$f":"VLOOKUP(B47,Pilot,2,0)","v":1971},{"$f":"VLOOKUP(B47,Pilot,5,0)","v":"M"},{"$f":"VLOOKUP(B47,Pilot,3,0)","v":"Šumperk"},{"$f":"VLOOKUP(B47,Pilot,4,0)","v":"CZ/M"},"JPJ 2025 - Klub",4,4045,8820,"LS-3a 15m","S20","",{"$f":"IF(ISERROR(VLOOKUP(B47,'Zebrik G'!B:I,8,0)),\"-\",VLOOKUP(B47,'Zebrik G'!B:I,8,0))","v":74},{"$f":"IF(ISERROR(VLOOKUP(B47,'N PMČR 2026'!B:G,6,0)),\"-\",VLOOKUP(B47,'N PMČR 2026'!B:G,6,0))","v":"-"},16]
[45,"Ivan Harasta 65",1965,"M","Toužim","CZ/C1","Toužim Cup 2025 - Kombi",7,2037,8820,"Nimbus 4DM","MM","",{"$f":"IF(ISERROR(VLOOKUP(B48,'Zebrik G'!B:I,8,0)),\"-\",VLOOKUP(B48,'Zebrik G'!B:I,8,0))","v":13},{"$f":"IF(ISERROR(VLOOKUP(B48,'N PMČR 2026'!B:G,6,0)),\"-\",VLOOKUP(B48,'N PMČR 2026'!B:G,6,0))","v":13}]
[47,"Jan Kotan",1982,"M","Letňany","CZ/C1","AZ Cup 2025 - Kombi Open",6,2582,8726,"AS 33","CAT","",{"$f":"IF(ISERROR(VLOOKUP(B49,'Zebrik G'!B:I,8,0)),\"-\",VLOOKUP(B49,'Zebrik G'!B:I,8,0))","v":22},{"$f":"IF(ISERROR(VLOOKUP(B49,'N PMČR 2026'!B:G,6,0)),\"-\",VLOOKUP(B49,'N PMČR 2026'!B:G,6,0))","v":42}]
[48,"Jiri Fousek",1990,"M","Raná","CZ/C2","Toužim Cup 2025 - Kombi",8,2034,8720,"Ventus c /17,6m","XE","",{"$f":"IF(ISERROR(VLOOKUP(B50,'Zebrik G'!B:I,8,0)),\"-\",VLOOKUP(B50,'Zebrik G'!B:I,8,0))","v":65},{"$f":"IF(ISERROR(VLOOKUP(B50,'N PMČR 2026'!B:G,6,0)),\"-\",VLOOKUP(B50,'N PMČR 2026'!B:G,6,0))","v":"N8"},17]
[49,"Martin Hejny",1984,"M","Šumperk","CZ/M","JPJ 2025 - Klub",5,4039,8710,"ASW-19B","B8","",{"$f":"IF(ISERROR(VLOOKUP(B51,'Zebrik G'!B:I,8,0)),\"-\",VLOOKUP(B51,'Zebrik G'!B:I,8,0))","v":90},{"$f":"IF(ISERROR(VLOOKUP(B51,'N PMČR 2026'!B:G,6,0)),\"-\",VLOOKUP(B51,'N PMČR 2026'!B:G,6,0))","v":"-"},18]
[50,"Josef Kolman",1983,"M","Letňany","CZ/C1","PPV 2025 - Klub",8,3206,8707,"ASW 15 B","BA4","",{"$f":"IF(ISERROR(VLOOKUP(B52,'Zebrik G'!B:I,8,0)),\"-\",VLOOKUP(B52,'Zebrik G'!B:I,8,0))","v":102},{"$f":"IF(ISERROR(VLOOKUP(B52,'N PMČR 2026'!B:G,6,0)),\"-\",VLOOKUP(B52,'N PMČR 2026'!B:G,6,0))","v":"-"},19]
[51,"Alexandre Fierain",null,null,"Abbeville",null,"AZ Cup 2025 - Klub",8,2485,8698,"LS 7 neo","AG","Není v databázi",{"$f":"IF(ISERROR(VLOOKUP(B53,'Zebrik G'!B:I,8,0)),\"-\",VLOOKUP(B53,'Zebrik G'!B:I,8,0))","v":"-"},{"$f":"IF(ISERROR(VLOOKUP(B53,'N PMČR 2026'!B:G,6,0)),\"-\",VLOOKUP(B53,'N PMČR 2026'!B:G,6,0))","v":"-"}]
[52,"Jiri Prochazka",{"$f":"VLOOKUP(B54,Pilot,2,0)","v":1971},{"$f":"VLOOKUP(B54,Pilot,5,0)","v":"M"},{"$f":"VLOOKUP(B54,Pilot,3,0)","v":"Toužim"},{"$f":"VLOOKUP(B54,Pilot,4,0)","v":"CZ/C1"},"Toužim Cup 2025 - Klub",5,1878,8674,"Janus CM (FG) (fix gear=pevný podvozek)","J59","",{"$f":"IF(ISERROR(VLOOKUP(B54,'Zebrik G'!B:I,8,0)),\"-\",VLOOKUP(B54,'Zebrik G'!B:I,8,0))","v":85},{"$f":"IF(ISERROR(VLOOKUP(B54,'N PMČR 2026'!B:G,6,0)),\"-\",VLOOKUP(B54,'N PMČR 2026'!B:G,6,0))","v":"-"},20]
[53,"David Zapletal",{"$f":"VLOOKUP(B55,Pilot,2,0)","v":1970},{"$f":"VLOOKUP(B55,Pilot,5,0)","v":"M"},{"$f":"VLOOKUP(B55,Pilot,3,0)","v":"Mladá Boleslav"},{"$f":"VLOOKUP(B55,Pilot,4,0)","v":"CZ/C1"},"PPV 2025 - Kombi",4,3258,8592,"Ventus c 17.6m","PUP","",{"$f":"IF(ISERROR(VLOOKUP(B55,'Zebrik G'!B:I,8,0)),\"-\",VLOOKUP(B55,'Zebrik G'!B:I,8,0))","v":68},{"$f":"IF(ISERROR(VLOOKUP(B55,'N PMČR 2026'!B:G,6,0)),\"-\",VLOOKUP(B55,'N PMČR 2026'!B:G,6,0))","v":"-"}]
[54,"Balazs Endrodi",null,null,"MÁV SE",null,"AZ Cup 2025 - Kombi 15m",5,2838,8531,"Discus 2a","WD","Není v databázi",{"$f":"IF(ISERROR(VLOOKUP(B56,'Zebrik G'!B:I,8,0)),\"-\",VLOOKUP(B56,'Zebrik G'!B:I,8,0))","v":"-"},{"$f":"IF(ISERROR(VLOOKUP(B56,'N PMČR 2026'!B:G,6,0)),\"-\",VLOOKUP(B56,'N PMČR 2026'!B:G,6,0))","v":"-"}]
[55,"Jan Zahradka",{"$f":"VLOOKUP(B57,Pilot,2,0)","v":1981},{"$f":"VLOOKUP(B57,Pilot,5,0)","v":"M"},{"$f":"VLOOKUP(B57,Pilot,3,0)","v":"Hodkovice"},{"$f":"VLOOKUP(B57,Pilot,4,0)","v":"CZ/C2"},"PPV 2025 - Klub",9,3165,8525,"Std. Cirrus","AR","",{"$f":"IF(ISERROR(VLOOKUP(B57,'Zebrik G'!B:I,8,0)),\"-\",VLOOKUP(B57,'Zebrik G'!B:I,8,0))","v":145},{"$f":"IF(ISERROR(VLOOKUP(B57,'N PMČR 2026'!B:G,6,0)),\"-\",VLOOKUP(B57,'N PMČR 2026'!B:G,6,0))","v":"-"}]
[56,"Jan Muknsnabl",1992,"M","Letkov","CZ/C1","Toužim Cup 2025 - Kombi",9,1997,8513,"Nimbus 2M WL","NB","",{"$f":"IF(ISERROR(VLOOKUP(B58,'Zebrik G'!B:I,8,0)),\"-\",VLOOKUP(B58,'Zebrik G'!B:I,8,0))","v":91},{"$f":"IF(ISERROR(VLOOKUP(B58,'N PMČR 2026'!B:G,6,0)),\"-\",VLOOKUP(B58,'N PMČR 2026'!B:G,6,0))","v":"-"}]
[57,"Alex Gulich",2005,"M","Slaný","CZ/C1","Toužim Cup 2025 - Klub",6,1854,8476,"Std. Cirrus","TI","Junior v roce 2026",{"$f":"IF(ISERROR(VLOOKUP(B59,'Zebrik G'!B:I,8,0)),\"-\",VLOOKUP(B59,'Zebrik G'!B:I,8,0))","v":60},{"$f":"IF(ISERROR(VLOOKUP(B59,'N PMČR 2026'!B:G,6,0)),\"-\",VLOOKUP(B59,'N PMČR 2026'!B:G,6,0))","v":45}]
[58,"Lukas Kriz",2003,"M","Křižanov","CZ/M","JPJ 2025 - Kombi 15m",2,4006,8430,"LS-8-18 15m","W8","Junior v roce 2026",{"$f":"IF(ISERROR(VLOOKUP(B60,'Zebrik G'!B:I,8,0)),\"-\",VLOOKUP(B60,'Zebrik G'!B:I,8,0))","v":3},{"$f":"IF(ISERROR(VLOOKUP(B60,'N PMČR 2026'!B:G,6,0)),\"-\",VLOOKUP(B60,'N PMČR 2026'!B:G,6,0))","v":3}]
[59,"Jan Vozeh",1995,"M","Rakovník","CZ/C1","JPJ 2025 - Klub",6,3914,8421,"LS-7","LZ","",{"$f":"IF(ISERROR(VLOOKUP(B61,'Zebrik G'!B:I,8,0)),\"-\",VLOOKUP(B61,'Zebrik G'!B:I,8,0))","v":94},{"$f":"IF(ISERROR(VLOOKUP(B61,'N PMČR 2026'!B:G,6,0)),\"-\",VLOOKUP(B61,'N PMČR 2026'!B:G,6,0))","v":"-"}]
[60,"Miroslav Koci",1961,"M","Žamberk","CZ/C2","JPJ 2025 - Kombi Open",5,4121,8420,"Ventus 2cxm 18m 565kg","E8","",{"$f":"IF(ISERROR(VLOOKUP(B62,'Zebrik G'!B:I,8,0)),\"-\",VLOOKUP(B62,'Zebrik G'!B:I,8,0))","v":149},{"$f":"IF(ISERROR(VLOOKUP(B62,'N PMČR 2026'!B:G,6,0)),\"-\",VLOOKUP(B62,'N PMČR 2026'!B:G,6,0))","v":"-"}]
[61,"Marek Blatak",1969,"M","Šumperk","CZ/M","PPV 2025 - Kombi",5,3211,8395,"DG 808C Classic 18m","W","",{"$f":"IF(ISERROR(VLOOKUP(B63,'Zebrik G'!B:I,8,0)),\"-\",VLOOKUP(B63,'Zebrik G'!B:I,8,0))","v":45},{"$f":"IF(ISERROR(VLOOKUP(B63,'N PMČR 2026'!B:G,6,0)),\"-\",VLOOKUP(B63,'N PMČR 2026'!B:G,6,0))","v":76}]
[62,"Boris Zorz",null,null,"AK ALC Lesce",null,"AZ Cup 2025 - Kombi Open",7,2482,8325,"JS 3","BL","Není v databázi",{"$f":"IF(ISERROR(VLOOKUP(B64,'Zebrik G'!B:I,8,0)),\"-\",VLOOKUP(B64,'Zebrik G'!B:I,8,0))","v":"-"},{"$f":"IF(ISERROR(VLOOKUP(B64,'N PMČR 2026'!B:G,6,0)),\"-\",VLOOKUP(B64,'N PMČR 2026'!B:G,6,0))","v":"-"}]
[63,"Hana Treslova",{"$f":"VLOOKUP(B65,Pilot,2,0)","v":1991},{"$f":"VLOOKUP(B65,Pilot,5,0)","v":"F"},{"$f":"VLOOKUP(B65,Pilot,3,0)","v":"Raná"},{"$f":"VLOOKUP(B65,Pilot,4,0)","v":"CZ/C2"},"Toužim Cup 2025 - Kombi",10,1961,8310,"JS3-18m","XM","",{"$f":"IF(ISERROR(VLOOKUP(B65,'Zebrik G'!B:I,8,0)),\"-\",VLOOKUP(B65,'Zebrik G'!B:I,8,0))","v":17},{"$f":"IF(ISERROR(VLOOKUP(B65,'N PMČR 2026'!B:G,6,0)),\"-\",VLOOKUP(B65,'N PMČR 2026'!B:G,6,0))","v":17}]
[64,"Martin Ficnar",{"$f":"VLOOKUP(B66,Pilot,2,0)","v":1971},{"$f":"VLOOKUP(B66,Pilot,5,0)","v":"M"},{"$f":"VLOOKUP(B66,Pilot,3,0)","v":"Šumperk"},{"$f":"VLOOKUP(B66,Pilot,4,0)","v":"CZ/M"},"PPV 2025 - Klub",10,3102,8299,"LS 3a","S20","",{"$f":"IF(ISERROR(VLOOKUP(B66,'Zebrik G'!B:I,8,0)),\"-\",VLOOKUP(B66,'Zebrik G'!B:I,8,0))","v":74},{"$f":"IF(ISERROR(VLOOKUP(B66,'N PMČR 2026'!B:G,6,0)),\"-\",VLOOKUP(B66,'N PMČR 2026'!B:G,6,0))","v":"-"}]
[{"$f":"RANK(J67,J:J)","v":65},"Aurelien Doriat",null,null,"ACP Poitiers",null,"AZ Cup 2025 - Kombi 15m",6,2814,8277,"LS 8","P1",{"$f":"IF(ISERROR(VLOOKUP(B67,Pilot,6,0)),\"Není v databázi\",VLOOKUP(B67,Pilot,6,0))","v":"Není v databázi"},{"$f":"IF(ISERROR(VLOOKUP(B67,'Zebrik G'!B:I,8,0)),\"-\",VLOOKUP(B67,'Zebrik G'!B:I,8,0))","v":"-"},{"$f":"IF(ISERROR(VLOOKUP(B67,'N PMČR 2026'!B:G,6,0)),\"-\",VLOOKUP(B67,'N PMČR 2026'!B:G,6,0))","v":"-"}]
[66,"David Popovsky",{"$f":"VLOOKUP(B68,Pilot,2,0)","v":1976},{"$f":"VLOOKUP(B68,Pilot,5,0)","v":"M"},{"$f":"VLOOKUP(B68,Pilot,3,0)","v":"Rakovník"},{"$f":"VLOOKUP(B68,Pilot,4,0)","v":"CZ/C1"},"AZ Cup 2025 - Klub",9,2367,8273,"ASW 24",76,"",{"$f":"IF(ISERROR(VLOOKUP(B68,'Zebrik G'!B:I,8,0)),\"-\",VLOOKUP(B68,'Zebrik G'!B:I,8,0))","v":141},{"$f":"IF(ISERROR(VLOOKUP(B68,'N PMČR 2026'!B:G,6,0)),\"-\",VLOOKUP(B68,'N PMČR 2026'!B:G,6,0))","v":"-"}]
[67,"Jan Simon",{"$f":"VLOOKUP(B69,Pilot,2,0)","v":1970},{"$f":"VLOOKUP(B69,Pilot,5,0)","v":"M"},{"$f":"VLOOKUP(B69,Pilot,3,0)","v":"Kralupy"},{"$f":"VLOOKUP(B69,Pilot,4,0)","v":"CZ/C1"},"PPV 2025 - Kombi",6,3181,8230,"Ventus cT 17.6m","KR","",{"$f":"IF(ISERROR(VLOOKUP(B69,'Zebrik G'!B:I,8,0)),\"-\",VLOOKUP(B69,'Zebrik G'!B:I,8,0))","v":66},{"$f":"IF(ISERROR(VLOOKUP(B69,'N PMČR 2026'!B:G,6,0)),\"-\",VLOOKUP(B69,'N PMČR 2026'!B:G,6,0))","v":"N9"}]
[68,"Karel Benisek 76",{"$f":"VLOOKUP(B70,Pilot,2,0)","v":1976},{"$f":"VLOOKUP(B70,Pilot,5,0)","v":"M"},{"$f":"VLOOKUP(B70,Pilot,3,0)","v":"Toužim"},{"$f":"VLOOKUP(B70,Pilot,4,0)","v":"CZ/C1"},"Toužim Cup 2025 - Klub",7,1793,8156,"Janus C (FG)","DF","",{"$f":"IF(ISERROR(VLOOKUP(B70,'Zebrik G'!B:I,8,0)),\"-\",VLOOKUP(B70,'Zebrik G'!B:I,8,0))","v":161},{"$f":"IF(ISERROR(VLOOKUP(B70,'N PMČR 2026'!B:G,6,0)),\"-\",VLOOKUP(B70,'N PMČR 2026'!B:G,6,0))","v":"-"}]
[69,"Louise Rodriguez",null,null,"Bailleau",null,"AZ Cup 2025 - Klub",10,2360,8140,"ASW 20","XI","Není v databázi",{"$f":"IF(ISERROR(VLOOKUP(B71,'Zebrik G'!B:I,8,0)),\"-\",VLOOKUP(B71,'Zebrik G'!B:I,8,0))","v":"-"},{"$f":"IF(ISERROR(VLOOKUP(B71,'N PMČR 2026'!B:G,6,0)),\"-\",VLOOKUP(B71,'N PMČR 2026'!B:G,6,0))","v":"-"}]
[70,"Zdenek Balcarek",{"$f":"VLOOKUP(B72,Pilot,2,0)","v":1967},{"$f":"VLOOKUP(B72,Pilot,5,0)","v":"M"},{"$f":"VLOOKUP(B72,Pilot,3,0)","v":"Kroměříž"},{"$f":"VLOOKUP(B72,Pilot,4,0)","v":"CZ/M"},"JPJ 2025 - Klub",7,3776,8113,"Discus b","AI","",{"$f":"IF(ISERROR(VLOOKUP(B72,'Zebrik G'!B:I,8,0)),\"-\",VLOOKUP(B72,'Zebrik G'!B:I,8,0))","v":75},{"$f":"IF(ISERROR(VLOOKUP(B72,'N PMČR 2026'!B:G,6,0)),\"-\",VLOOKUP(B72,'N PMČR 2026'!B:G,6,0))","v":"-"}]
[71,"Jan Simon",{"$f":"VLOOKUP(B73,Pilot,2,0)","v":1970},{"$f":"VLOOKUP(B73,Pilot,5,0)","v":"M"},{"$f":"VLOOKUP(B73,Pilot,3,0)","v":"Kralupy"},{"$f":"VLOOKUP(B73,Pilot,4,0)","v":"CZ/C1"},"JPJ 2025 - Kombi Open",6,4020,8093,"Ventus ct 17,6m","KR","",{"$f":"IF(ISERROR(VLOOKUP(B73,'Zebrik G'!B:I,8,0)),\"-\",VLOOKUP(B73,'Zebrik G'!B:I,8,0))","v":66},{"$f":"IF(ISERROR(VLOOKUP(B73,'N PMČR 2026'!B:G,6,0)),\"-\",VLOOKUP(B73,'N PMČR 2026'!B:G,6,0))","v":"N9"}]
[72,"Martin Zahalka",{"$f":"VLOOKUP(B74,Pilot,2,0)","v":1987},{"$f":"VLOOKUP(B74,Pilot,5,0)","v":"M"},{"$f":"VLOOKUP(B74,Pilot,3,0)","v":"Staňkov"},{"$f":"VLOOKUP(B74,Pilot,4,0)","v":"CZ/C1"},"Toužim Cup 2025 - Kombi",11,1920,8091,"DG-400 17m","FF","",{"$f":"IF(ISERROR(VLOOKUP(B74,'Zebrik G'!B:I,8,0)),\"-\",VLOOKUP(B74,'Zebrik G'!B:I,8,0))","v":105},{"$f":"IF(ISERROR(VLOOKUP(B74,'N PMČR 2026'!B:G,6,0)),\"-\",VLOOKUP(B74,'N PMČR 2026'!B:G,6,0))","v":"-"}]
[73,"Vladas Motuza",null,null,"KAASK",null,"AZ Cup 2025 - Kombi 15m",7,2806,8059,"ASG 29 15m","M7","Není v databázi",{"$f":"IF(ISERROR(VLOOKUP(B75,'Zebrik G'!B:I,8,0)),\"-\",VLOOKUP(B75,'Zebrik G'!B:I,8,0))","v":"-"},{"$f":"IF(ISERROR(VLOOKUP(B75,'N PMČR 2026'!B:G,6,0)),\"-\",VLOOKUP(B75,'N PMČR 2026'!B:G,6,0))","v":"-"}]
[74,"Eliska Kudejova",{"$f":"VLOOKUP(B76,Pilot,2,0)","v":2006},{"$f":"VLOOKUP(B76,Pilot,5,0)","v":"F"},{"$f":"VLOOKUP(B76,Pilot,3,0)","v":"Strakonice"},{"$f":"VLOOKUP(B76,Pilot,4,0)","v":"CZ/C1"},"Toužim Cup 2025 - Klub",8,1790,8026,"DG-101 G","JE","Junior v roce 2026",{"$f":"IF(ISERROR(VLOOKUP(B76,'Zebrik G'!B:I,8,0)),\"-\",VLOOKUP(B76,'Zebrik G'!B:I,8,0))","v":78},{"$f":"IF(ISERROR(VLOOKUP(B76,'N PMČR 2026'!B:G,6,0)),\"-\",VLOOKUP(B76,'N PMČR 2026'!B:G,6,0))","v":29}]
[75,"Jan Boruvka",1984,"M","Jičín","CZ/C2","AZ Cup 2025 - Kombi Open",8,2413,8002,"ASG 29 E","QX","",{"$f":"IF(ISERROR(VLOOKUP(B77,'Zebrik G'!B:I,8,0)),\"-\",VLOOKUP(B77,'Zebrik G'!B:I,8,0))","v":34},{"$f":"IF(ISERROR(VLOOKUP(B77,'N PMČR 2026'!B:G,6,0)),\"-\",VLOOKUP(B77,'N PMČR 2026'!B:G,6,0))","v":43}]
[76,"Adam Sugl",1987,"M","Vyškov","CZ/M","JPJ 2025 - Klub",8,3766,7997,"Std. Cirrus","GT","",{"$f":"IF(ISERROR(VLOOKUP(B78,'Zebrik G'!B:I,8,0)),\"-\",VLOOKUP(B78,'Zebrik G'!B:I,8,0))","v":109},{"$f":"IF(ISERROR(VLOOKUP(B78,'N PMČR 2026'!B:G,6,0)),\"-\",VLOOKUP(B78,'N PMČR 2026'!B:G,6,0))","v":"-"}]
[77,"Vratislav Sram",1966,"M","Broumov","CZ/C2","Toužim Cup 2025 - Kombi",12,1916,7988,"Nimbus 4DM",7,"",{"$f":"IF(ISERROR(VLOOKUP(B79,'Zebrik G'!B:I,8,0)),\"-\",VLOOKUP(B79,'Zebrik G'!B:I,8,0))","v":67},{"$f":"IF(ISERROR(VLOOKUP(B79,'N PMČR 2026'!B:G,6,0)),\"-\",VLOOKUP(B79,'N PMČR 2026'!B:G,6,0))","v":"N10"}]
[78,"Jaromir Pauer",1974,"M","Hosín","CZ/C1","PPV 2025 - Kombi",7,3102,7975,"Ventus b 16.6m","7F","",{"$f":"IF(ISERROR(VLOOKUP(B80,'Zebrik G'!B:I,8,0)),\"-\",VLOOKUP(B80,'Zebrik G'!B:I,8,0))","v":186},{"$f":"IF(ISERROR(VLOOKUP(B80,'N PMČR 2026'!B:G,6,0)),\"-\",VLOOKUP(B80,'N PMČR 2026'!B:G,6,0))","v":"-"}]
[79,"Martin Urner",1974,"M","Letňany","CZ/C1","PPV 2025 - Klub",11,2959,7913,"ASW 15 B","JJ","",{"$f":"IF(ISERROR(VLOOKUP(B81,'Zebrik G'!B:I,8,0)),\"-\",VLOOKUP(B81,'Zebrik G'!B:I,8,0))","v":63},{"$f":"IF(ISERROR(VLOOKUP(B81,'N PMČR 2026'!B:G,6,0)),\"-\",VLOOKUP(B81,'N PMČR 2026'!B:G,6,0))","v":"N7"}]
[80,"Edita Skalskiene",null,null,"KAASK",null,"AZ Cup 2025 - Klub",11,2308,7888,"ASW 20f","W4","Není v databázi",{"$f":"IF(ISERROR(VLOOKUP(B82,'Zebrik G'!B:I,8,0)),\"-\",VLOOKUP(B82,'Zebrik G'!B:I,8,0))","v":"-"},{"$f":"IF(ISERROR(VLOOKUP(B82,'N PMČR 2026'!B:G,6,0)),\"-\",VLOOKUP(B82,'N PMČR 2026'!B:G,6,0))","v":"-"}]
[81,"Josef Novak",{"$f":"VLOOKUP(B83,Pilot,2,0)","v":1981},{"$f":"VLOOKUP(B83,Pilot,5,0)","v":"M"},{"$f":"VLOOKUP(B83,Pilot,3,0)","v":"Kunovice"},{"$f":"VLOOKUP(B83,Pilot,4,0)","v":"CZ/M"},"JPJ 2025 - Klub",9,3731,7844,"LS-1f","JT","",{"$f":"IF(ISERROR(VLOOKUP(B83,'Zebrik G'!B:I,8,0)),\"-\",VLOOKUP(B83,'Zebrik G'!B:I,8,0))","v":59},{"$f":"IF(ISERROR(VLOOKUP(B83,'N PMČR 2026'!B:G,6,0)),\"-\",VLOOKUP(B83,'N PMČR 2026'!B:G,6,0))","v":"N6"}]
[82,"Lukas Koukal",{"$f":"VLOOKUP(B84,Pilot,2,0)","v":1991},{"$f":"VLOOKUP(B84,Pilot,5,0)","v":"M"},{"$f":"VLOOKUP(B84,Pilot,3,0)","v":"Letkov"},{"$f":"VLOOKUP(B84,Pilot,4,0)","v":"CZ/C1"},"Toužim Cup 2025 - Klub",9,1750,7775,"ASW-15B","T1","",{"$f":"IF(ISERROR(VLOOKUP(B84,'Zebrik G'!B:I,8,0)),\"-\",VLOOKUP(B84,'Zebrik G'!B:I,8,0))","v":86},{"$f":"IF(ISERROR(VLOOKUP(B84,'N PMČR 2026'!B:G,6,0)),\"-\",VLOOKUP(B84,'N PMČR 2026'!B:G,6,0))","v":"-"}]
[83,"Jan Dersak 69",{"$f":"VLOOKUP(B85,Pilot,2,0)","v":1969},{"$f":"VLOOKUP(B85,Pilot,5,0)","v":"M"},{"$f":"VLOOKUP(B85,Pilot,3,0)","v":"Kralupy"},{"$f":"VLOOKUP(B85,Pilot,4,0)","v":"CZ/C1"},"JPJ 2025 - Kombi Open",7,3920,7768,"HpH 304MS Shark 18m 600kg","DJ","",{"$f":"IF(ISERROR(VLOOKUP(B85,'Zebrik G'!B:I,8,0)),\"-\",VLOOKUP(B85,'Zebrik G'!B:I,8,0))","v":76},{"$f":"IF(ISERROR(VLOOKUP(B85,'N PMČR 2026'!B:G,6,0)),\"-\",VLOOKUP(B85,'N PMČR 2026'!B:G,6,0))","v":"-"}]
[84,"Rostislav Stryk",{"$f":"VLOOKUP(B86,Pilot,2,0)","v":1972},{"$f":"VLOOKUP(B86,Pilot,5,0)","v":"M"},{"$f":"VLOOKUP(B86,Pilot,3,0)","v":"Frýdlant"},{"$f":"VLOOKUP(B86,Pilot,4,0)","v":"CZ/M"},"JPJ 2025 - Klub",10,3702,7701,"Std. Cirrus",22,"",{"$f":"IF(ISERROR(VLOOKUP(B86,'Zebrik G'!B:I,8,0)),\"-\",VLOOKUP(B86,'Zebrik G'!B:I,8,0))","v":108},{"$f":"IF(ISERROR(VLOOKUP(B86,'N PMČR 2026'!B:G,6,0)),\"-\",VLOOKUP(B86,'N PMČR 2026'!B:G,6,0))","v":"-"}]
[85,"Zdenek Boruvka 86",{"$f":"VLOOKUP(B87,Pilot,2,0)","v":1986},{"$f":"VLOOKUP(B87,Pilot,5,0)","v":"M"},{"$f":"VLOOKUP(B87,Pilot,3,0)","v":"Jičín"},{"$f":"VLOOKUP(B87,Pilot,4,0)","v":"CZ/C2"},"AZ Cup 2025 - Kombi Open",9,2350,7694,"Ventus c","VV","",{"$f":"IF(ISERROR(VLOOKUP(B87,'Zebrik G'!B:I,8,0)),\"-\",VLOOKUP(B87,'Zebrik G'!B:I,8,0))","v":81},{"$f":"IF(ISERROR(VLOOKUP(B87,'N PMČR 2026'!B:G,6,0)),\"-\",VLOOKUP(B87,'N PMČR 2026'!B:G,6,0))","v":"-"}]
[86,"Gerald Moser-Furst",null,null,"USFC Krems",null,"Toužim Cup 2025 - Kombi",13,1849,7687,"Duo Discus (700 kg)","K2","Není v databázi",{"$f":"IF(ISERROR(VLOOKUP(B88,'Zebrik G'!B:I,8,0)),\"-\",VLOOKUP(B88,'Zebrik G'!B:I,8,0))","v":"-"},{"$f":"IF(ISERROR(VLOOKUP(B88,'N PMČR 2026'!B:G,6,0)),\"-\",VLOOKUP(B88,'N PMČR 2026'!B:G,6,0))","v":"-"}]
[87,"Frantisek Suna",{"$f":"VLOOKUP(B89,Pilot,2,0)","v":1983},{"$f":"VLOOKUP(B89,Pilot,5,0)","v":"M"},{"$f":"VLOOKUP(B89,Pilot,3,0)","v":"Hosín"},{"$f":"VLOOKUP(B89,Pilot,4,0)","v":"CZ/C1"},"PPV 2025 - Klub",12,2893,7681,"DG 100",78,"",{"$f":"IF(ISERROR(VLOOKUP(B89,'Zebrik G'!B:I,8,0)),\"-\",VLOOKUP(B89,'Zebrik G'!B:I,8,0))","v":128},{"$f":"IF(ISERROR(VLOOKUP(B89,'N PMČR 2026'!B:G,6,0)),\"-\",VLOOKUP(B89,'N PMČR 2026'!B:G,6,0))","v":"-"}]
[88,"Jiri Koudela",1974,"M","Vyškov","CZ/M","PPV 2025 - Kombi",8,2995,7669,"Ventus cM 17.6m","JK","",{"$f":"IF(ISERROR(VLOOKUP(B90,'Zebrik G'!B:I,8,0)),\"-\",VLOOKUP(B90,'Zebrik G'!B:I,8,0))","v":96},{"$f":"IF(ISERROR(VLOOKUP(B90,'N PMČR 2026'!B:G,6,0)),\"-\",VLOOKUP(B90,'N PMČR 2026'!B:G,6,0))","v":"-"}]
[89,"Josef Beran",1982,"M","Slaný","CZ/C1","Toužim Cup 2025 - Klub",10,1742,7629,"Std. Cirrus WL","IT","",{"$f":"IF(ISERROR(VLOOKUP(B91,'Zebrik G'!B:I,8,0)),\"-\",VLOOKUP(B91,'Zebrik G'!B:I,8,0))","v":117},{"$f":"IF(ISERROR(VLOOKUP(B91,'N PMČR 2026'!B:G,6,0)),\"-\",VLOOKUP(B91,'N PMČR 2026'!B:G,6,0))","v":51}]
[89,"Daniel Dvorak",1980,"M","Letkov","CZ/C1","Toužim Cup 2025 - Klub",10,1742,7629,"Std. Cirrus","LD","",{"$f":"IF(ISERROR(VLOOKUP(B92,'Zebrik G'!B:I,8,0)),\"-\",VLOOKUP(B92,'Zebrik G'!B:I,8,0))","v":89},{"$f":"IF(ISERROR(VLOOKUP(B92,'N PMČR 2026'!B:G,6,0)),\"-\",VLOOKUP(B92,'N PMČR 2026'!B:G,6,0))","v":"-"}]
[91,"Radek Tobolka",1977,"M","Jičín","CZ/C2","JPJ 2025 - Klub",11,3689,7581,"TST-10M Atlas",10,"",{"$f":"IF(ISERROR(VLOOKUP(B93,'Zebrik G'!B:I,8,0)),\"-\",VLOOKUP(B93,'Zebrik G'!B:I,8,0))","v":215},{"$f":"IF(ISERROR(VLOOKUP(B93,'N PMČR 2026'!B:G,6,0)),\"-\",VLOOKUP(B93,'N PMČR 2026'!B:G,6,0))","v":"-"}]
[92,"Petr Bartak",1984,"M","Letkov","CZ/C1","Toužim Cup 2025 - Kombi",14,1835,7553,"JS3-18m","BS","",{"$f":"IF(ISERROR(VLOOKUP(B94,'Zebrik G'!B:I,8,0)),\"-\",VLOOKUP(B94,'Zebrik G'!B:I,8,0))","v":88},{"$f":"IF(ISERROR(VLOOKUP(B94,'N PMČR 2026'!B:G,6,0)),\"-\",VLOOKUP(B94,'N PMČR 2026'!B:G,6,0))","v":"-"}]
[92,"Matous Schmidt",1981,"M","Letňany","CZ/C1","PPV 2025 - Kombi",9,2992,7553,"Ventus c 17.6m","UC","",{"$f":"IF(ISERROR(VLOOKUP(B95,'Zebrik G'!B:I,8,0)),\"-\",VLOOKUP(B95,'Zebrik G'!B:I,8,0))","v":245},{"$f":"IF(ISERROR(VLOOKUP(B95,'N PMČR 2026'!B:G,6,0)),\"-\",VLOOKUP(B95,'N PMČR 2026'!B:G,6,0))","v":"-"}]
[94,"Petr Masik",2001,"M","Zábřeh","CZ/M","AZ Cup 2025 - Klub",12,2207,7508,"ASW 19b",34,"Junior v roce 2026",{"$f":"IF(ISERROR(VLOOKUP(B96,'Zebrik G'!B:I,8,0)),\"-\",VLOOKUP(B96,'Zebrik G'!B:I,8,0))","v":31},{"$f":"IF(ISERROR(VLOOKUP(B96,'N PMČR 2026'!B:G,6,0)),\"-\",VLOOKUP(B96,'N PMČR 2026'!B:G,6,0))","v":24}]
[95,"Martin Urban",1971,"M","Frýdlant","CZ/M","JPJ 2025 - Klub",12,3678,7464,"LS-3a 15m","SJ","",{"$f":"IF(ISERROR(VLOOKUP(B97,'Zebrik G'!B:I,8,0)),\"-\",VLOOKUP(B97,'Zebrik G'!B:I,8,0))","v":79},{"$f":"IF(ISERROR(VLOOKUP(B97,'N PMČR 2026'!B:G,6,0)),\"-\",VLOOKUP(B97,'N PMČR 2026'!B:G,6,0))","v":"-"}]
[96,"Vit Prokop",1987,"M","Medlánky","CZ/M","Toužim Cup 2025 - Kombi",15,1828,7440,"Ventus c /17,6m","PD","",{"$f":"IF(ISERROR(VLOOKUP(B98,'Zebrik G'!B:I,8,0)),\"-\",VLOOKUP(B98,'Zebrik G'!B:I,8,0))","v":184},{"$f":"IF(ISERROR(VLOOKUP(B98,'N PMČR 2026'!B:G,6,0)),\"-\",VLOOKUP(B98,'N PMČR 2026'!B:G,6,0))","v":"-"}]
[97,"Jiri Koudela",1974,"M","Vyškov","CZ/M","JPJ 2025 - Kombi Open",8,3813,7433,"Ventus cm 17,6m","JK","",{"$f":"IF(ISERROR(VLOOKUP(B99,'Zebrik G'!B:I,8,0)),\"-\",VLOOKUP(B99,'Zebrik G'!B:I,8,0))","v":96},{"$f":"IF(ISERROR(VLOOKUP(B99,'N PMČR 2026'!B:G,6,0)),\"-\",VLOOKUP(B99,'N PMČR 2026'!B:G,6,0))","v":"-"}]
[98,"Petr Babak",1973,"M","Hořice","CZ/C2","PPV 2025 - Kombi",10,2983,7425,"Ventus 2cM 18m","ES","",{"$f":"IF(ISERROR(VLOOKUP(B100,'Zebrik G'!B:I,8,0)),\"-\",VLOOKUP(B100,'Zebrik G'!B:I,8,0))","v":112},{"$f":"IF(ISERROR(VLOOKUP(B100,'N PMČR 2026'!B:G,6,0)),\"-\",VLOOKUP(B100,'N PMČR 2026'!B:G,6,0))","v":"-"}]
[99,"Ivan Novak",1962,"M","Mladá Boleslav","CZ/C1","AZ Cup 2025 - Kombi Open",10,2295,7406,"LS 8 18m","ID","",{"$f":"IF(ISERROR(VLOOKUP(B101,'Zebrik G'!B:I,8,0)),\"-\",VLOOKUP(B101,'Zebrik G'!B:I,8,0))","v":19},{"$f":"IF(ISERROR(VLOOKUP(B101,'N PMČR 2026'!B:G,6,0)),\"-\",VLOOKUP(B101,'N PMČR 2026'!B:G,6,0))","v":19}]
[100,"Frantisek Myska",1968,"M","Most","CZ/C2","Toužim Cup 2025 - Kombi",16,1824,7336,"Ventus bt /16,6m","SK","",{"$f":"IF(ISERROR(VLOOKUP(B102,'Zebrik G'!B:I,8,0)),\"-\",VLOOKUP(B102,'Zebrik G'!B:I,8,0))","v":101},{"$f":"IF(ISERROR(VLOOKUP(B102,'N PMČR 2026'!B:G,6,0)),\"-\",VLOOKUP(B102,'N PMČR 2026'!B:G,6,0))","v":"-"}]
[101,"Radek Kucirek",1973,"M","Havlíčkův Brod","CZ/C2","AZ Cup 2025 - Kombi 15m",8,2570,7333,"Duo Discus T 700kg","XH","",{"$f":"IF(ISERROR(VLOOKUP(B103,'Zebrik G'!B:I,8,0)),\"-\",VLOOKUP(B103,'Zebrik G'!B:I,8,0))","v":27},{"$f":"IF(ISERROR(VLOOKUP(B103,'N PMČR 2026'!B:G,6,0)),\"-\",VLOOKUP(B103,'N PMČR 2026'!B:G,6,0))","v":40}]
[102,"Miloslav Hulmak",1963,"M","Hosín","CZ/C1","PPV 2025 - Klub",13,2738,7271,"ASW 15 B","HH","",{"$f":"IF(ISERROR(VLOOKUP(B104,'Zebrik G'!B:I,8,0)),\"-\",VLOOKUP(B104,'Zebrik G'!B:I,8,0))","v":125},{"$f":"IF(ISERROR(VLOOKUP(B104,'N PMČR 2026'!B:G,6,0)),\"-\",VLOOKUP(B104,'N PMČR 2026'!B:G,6,0))","v":"-"}]
[103,"Martin Neuvirt",2001,"M","Přibyslav","CZ/C2","JPJ 2025 - Klub",13,3614,7267,"Std. Cirrus","2C","Junior v roce 2026",{"$f":"IF(ISERROR(VLOOKUP(B105,'Zebrik G'!B:I,8,0)),\"-\",VLOOKUP(B105,'Zebrik G'!B:I,8,0))","v":212},{"$f":"IF(ISERROR(VLOOKUP(B105,'N PMČR 2026'!B:G,6,0)),\"-\",VLOOKUP(B105,'N PMČR 2026'!B:G,6,0))","v":"-"}]
[104,"Martin Kriz",1968,"M","Přibyslav","CZ/C2","JPJ 2025 - Kombi 15m",3,3374,7226,"ASW-20 (A)+F 15m WL",67,"",{"$f":"IF(ISERROR(VLOOKUP(B106,'Zebrik G'!B:I,8,0)),\"-\",VLOOKUP(B106,'Zebrik G'!B:I,8,0))","v":103},{"$f":"IF(ISERROR(VLOOKUP(B106,'N PMČR 2026'!B:G,6,0)),\"-\",VLOOKUP(B106,'N PMČR 2026'!B:G,6,0))","v":"-"}]
[105,"Josef Busek",1967,"M","Hosín","CZ/C1","PPV 2025 - Kombi",11,2910,7181,"HpH 304 TS Twin Shark","TS","",{"$f":"IF(ISERROR(VLOOKUP(B107,'Zebrik G'!B:I,8,0)),\"-\",VLOOKUP(B107,'Zebrik G'!B:I,8,0))","v":49},{"$f":"IF(ISERROR(VLOOKUP(B107,'N PMČR 2026'!B:G,6,0)),\"-\",VLOOKUP(B107,'N PMČR 2026'!B:G,6,0))","v":79}]
[106,"Stepan Bartos",2004,"M","Kolín","CZ/C1","AZ Cup 2025 - Klub",13,2116,7155,"Discus b WL","LD","Junior v roce 2026",{"$f":"IF(ISERROR(VLOOKUP(B108,'Zebrik G'!B:I,8,0)),\"-\",VLOOKUP(B108,'Zebrik G'!B:I,8,0))","v":46},{"$f":"IF(ISERROR(VLOOKUP(B108,'N PMČR 2026'!B:G,6,0)),\"-\",VLOOKUP(B108,'N PMČR 2026'!B:G,6,0))","v":"N2"}]
[107,"Radek Zima 78",1978,"M","Hodkovice","CZ/C2","Toužim Cup 2025 - Kombi",17,1778,7102,"ASG-29E /18m","XZ","",{"$f":"IF(ISERROR(VLOOKUP(B109,'Zebrik G'!B:I,8,0)),\"-\",VLOOKUP(B109,'Zebrik G'!B:I,8,0))","v":72},{"$f":"IF(ISERROR(VLOOKUP(B109,'N PMČR 2026'!B:G,6,0)),\"-\",VLOOKUP(B109,'N PMČR 2026'!B:G,6,0))","v":54}]
[108,"Ales Vyhnal",1989,"M","Kralupy","CZ/C1","PPV 2025 - Kombi",12,2909,7068,"Nimbus 3 22.9m","HS","",{"$f":"IF(ISERROR(VLOOKUP(B110,'Zebrik G'!B:I,8,0)),\"-\",VLOOKUP(B110,'Zebrik G'!B:I,8,0))","v":138},{"$f":"IF(ISERROR(VLOOKUP(B110,'N PMČR 2026'!B:G,6,0)),\"-\",VLOOKUP(B110,'N PMČR 2026'!B:G,6,0))","v":"-"}]
[109,"Anna Piotrowska",null,null,"Warszawski/Medimur",null,"AZ Cup 2025 - Kombi Open",11,2186,6983,"ASG 29 E","HE","Není v databázi",{"$f":"IF(ISERROR(VLOOKUP(B111,'Zebrik G'!B:I,8,0)),\"-\",VLOOKUP(B111,'Zebrik G'!B:I,8,0))","v":"-"},{"$f":"IF(ISERROR(VLOOKUP(B111,'N PMČR 2026'!B:G,6,0)),\"-\",VLOOKUP(B111,'N PMČR 2026'!B:G,6,0))","v":"-"}]
[109,"Michal Cupak",{"$f":"VLOOKUP(B112,Pilot,2,0)","v":1991},{"$f":"VLOOKUP(B112,Pilot,5,0)","v":"M"},{"$f":"VLOOKUP(B112,Pilot,3,0)","v":"Medlánky"},{"$f":"VLOOKUP(B112,Pilot,4,0)","v":"CZ/M"},"Toužim Cup 2025 - Kombi",18,1769,6983,"Duo Discus X","MD","",{"$f":"IF(ISERROR(VLOOKUP(B112,'Zebrik G'!B:I,8,0)),\"-\",VLOOKUP(B112,'Zebrik G'!B:I,8,0))","v":82},{"$f":"IF(ISERROR(VLOOKUP(B112,'N PMČR 2026'!B:G,6,0)),\"-\",VLOOKUP(B112,'N PMČR 2026'!B:G,6,0))","v":"-"}]
[111,"Miroslav Sklenar",{"$f":"VLOOKUP(B113,Pilot,2,0)","v":1964},{"$f":"VLOOKUP(B113,Pilot,5,0)","v":"M"},{"$f":"VLOOKUP(B113,Pilot,3,0)","v":"Žamberk"},{"$f":"VLOOKUP(B113,Pilot,4,0)","v":"CZ/C2"},"JPJ 2025 - Kombi Open",9,3613,6959,"Duo Discus 700kg","VP","",{"$f":"IF(ISERROR(VLOOKUP(B113,'Zebrik G'!B:I,8,0)),\"-\",VLOOKUP(B113,'Zebrik G'!B:I,8,0))","v":163},{"$f":"IF(ISERROR(VLOOKUP(B113,'N PMČR 2026'!B:G,6,0)),\"-\",VLOOKUP(B113,'N PMČR 2026'!B:G,6,0))","v":"-"}]
[112,"Jan Hruska",{"$f":"VLOOKUP(B114,Pilot,2,0)","v":1988},{"$f":"VLOOKUP(B114,Pilot,5,0)","v":"M"},{"$f":"VLOOKUP(B114,Pilot,3,0)","v":"Tábor"},{"$f":"VLOOKUP(B114,Pilot,4,0)","v":"CZ/C1"},"PPV 2025 - Klub",14,2625,6946,"ASW 15 B","LF","",{"$f":"IF(ISERROR(VLOOKUP(B114,'Zebrik G'!B:I,8,0)),\"-\",VLOOKUP(B114,'Zebrik G'!B:I,8,0))","v":47},{"$f":"IF(ISERROR(VLOOKUP(B114,'N PMČR 2026'!B:G,6,0)),\"-\",VLOOKUP(B114,'N PMČR 2026'!B:G,6,0))","v":77}]
[113,"Rene Hudak",{"$f":"VLOOKUP(B115,Pilot,2,0)","v":1972},{"$f":"VLOOKUP(B115,Pilot,5,0)","v":"M"},{"$f":"VLOOKUP(B115,Pilot,3,0)","v":"Kunovice"},{"$f":"VLOOKUP(B115,Pilot,4,0)","v":"CZ/M"},"JPJ 2025 - Klub",14,3451,6921,"Std. Cirrus","NK","",{"$f":"IF(ISERROR(VLOOKUP(B115,'Zebrik G'!B:I,8,0)),\"-\",VLOOKUP(B115,'Zebrik G'!B:I,8,0))","v":56},{"$f":"IF(ISERROR(VLOOKUP(B115,'N PMČR 2026'!B:G,6,0)),\"-\",VLOOKUP(B115,'N PMČR 2026'!B:G,6,0))","v":"N5"}]
[114,"Petr Havelka",{"$f":"VLOOKUP(B116,Pilot,2,0)","v":1997},{"$f":"VLOOKUP(B116,Pilot,5,0)","v":"M"},{"$f":"VLOOKUP(B116,Pilot,3,0)","v":"Zbraslavice"},{"$f":"VLOOKUP(B116,Pilot,4,0)","v":"CZ/C1"},"AZ Cup 2025 - Klub",14,2070,6919,"ASW 19b","PH","",{"$f":"IF(ISERROR(VLOOKUP(B116,'Zebrik G'!B:I,8,0)),\"-\",VLOOKUP(B116,'Zebrik G'!B:I,8,0))","v":106},{"$f":"IF(ISERROR(VLOOKUP(B116,'N PMČR 2026'!B:G,6,0)),\"-\",VLOOKUP(B116,'N PMČR 2026'!B:G,6,0))","v":"-"}]
[115,"Louis Bouderlique",null,null,"Amiens",null,"AZ Cup 2025 - Kombi 15m",9,2457,6881,"Discus 2a","ET","Není v databázi",{"$f":"IF(ISERROR(VLOOKUP(B117,'Zebrik G'!B:I,8,0)),\"-\",VLOOKUP(B117,'Zebrik G'!B:I,8,0))","v":"-"},{"$f":"IF(ISERROR(VLOOKUP(B117,'N PMČR 2026'!B:G,6,0)),\"-\",VLOOKUP(B117,'N PMČR 2026'!B:G,6,0))","v":"-"}]
[116,"Zdenek Boruvka 86",{"$f":"VLOOKUP(B118,Pilot,2,0)","v":1986},{"$f":"VLOOKUP(B118,Pilot,5,0)","v":"M"},{"$f":"VLOOKUP(B118,Pilot,3,0)","v":"Jičín"},{"$f":"VLOOKUP(B118,Pilot,4,0)","v":"CZ/C2"},"PPV 2025 - Kombi",13,2856,6861,"Ventus c 17.6m","VV","",{"$f":"IF(ISERROR(VLOOKUP(B118,'Zebrik G'!B:I,8,0)),\"-\",VLOOKUP(B118,'Zebrik G'!B:I,8,0))","v":81},{"$f":"IF(ISERROR(VLOOKUP(B118,'N PMČR 2026'!B:G,6,0)),\"-\",VLOOKUP(B118,'N PMČR 2026'!B:G,6,0))","v":"-"}]
[117,"Jan Florian",{"$f":"VLOOKUP(B119,Pilot,2,0)","v":1992},{"$f":"VLOOKUP(B119,Pilot,5,0)","v":"M"},{"$f":"VLOOKUP(B119,Pilot,3,0)","v":"Zbraslavice"},{"$f":"VLOOKUP(B119,Pilot,4,0)","v":"CZ/C1"},"PPV 2025 - Kombi",14,2851,6741,"Ventus c 17.6m","LS","",{"$f":"IF(ISERROR(VLOOKUP(B119,'Zebrik G'!B:I,8,0)),\"-\",VLOOKUP(B119,'Zebrik G'!B:I,8,0))","v":129},{"$f":"IF(ISERROR(VLOOKUP(B119,'N PMČR 2026'!B:G,6,0)),\"-\",VLOOKUP(B119,'N PMČR 2026'!B:G,6,0))","v":"-"}]
[118,"Alex Gulich",{"$f":"VLOOKUP(B120,Pilot,2,0)","v":2005},{"$f":"VLOOKUP(B120,Pilot,5,0)","v":"M"},{"$f":"VLOOKUP(B120,Pilot,3,0)","v":"Slaný"},{"$f":"VLOOKUP(B120,Pilot,4,0)","v":"CZ/C1"},"AZ Cup 2025 - Klub",15,2041,6728,"Cirrus std.","TI","Junior v roce 2026",{"$f":"IF(ISERROR(VLOOKUP(B120,'Zebrik G'!B:I,8,0)),\"-\",VLOOKUP(B120,'Zebrik G'!B:I,8,0))","v":60},{"$f":"IF(ISERROR(VLOOKUP(B120,'N PMČR 2026'!B:G,6,0)),\"-\",VLOOKUP(B120,'N PMČR 2026'!B:G,6,0))","v":45}]
[118,"Jan Kohout",{"$f":"VLOOKUP(B121,Pilot,2,0)","v":1970},{"$f":"VLOOKUP(B121,Pilot,5,0)","v":"M"},{"$f":"VLOOKUP(B121,Pilot,3,0)","v":"Žamberk"},{"$f":"VLOOKUP(B121,Pilot,4,0)","v":"CZ/C2"},"JPJ 2025 - Kombi Open",10,3576,6728,"JS1-CTJ 18m EVO","SK","",{"$f":"IF(ISERROR(VLOOKUP(B121,'Zebrik G'!B:I,8,0)),\"-\",VLOOKUP(B121,'Zebrik G'!B:I,8,0))","v":207},{"$f":"IF(ISERROR(VLOOKUP(B121,'N PMČR 2026'!B:G,6,0)),\"-\",VLOOKUP(B121,'N PMČR 2026'!B:G,6,0))","v":"-"}]
[120,"Michal Drab",{"$f":"VLOOKUP(B122,Pilot,2,0)","v":1969},{"$f":"VLOOKUP(B122,Pilot,5,0)","v":"M"},{"$f":"VLOOKUP(B122,Pilot,3,0)","v":"Letkov"},{"$f":"VLOOKUP(B122,Pilot,4,0)","v":"CZ/C1"},"Toužim Cup 2025 - Kombi",19,1716,6726,"DG-400 17m","DM","",{"$f":"IF(ISERROR(VLOOKUP(B122,'Zebrik G'!B:I,8,0)),\"-\",VLOOKUP(B122,'Zebrik G'!B:I,8,0))","v":97},{"$f":"IF(ISERROR(VLOOKUP(B122,'N PMČR 2026'!B:G,6,0)),\"-\",VLOOKUP(B122,'N PMČR 2026'!B:G,6,0))","v":"-"}]
[121,"Julien Duboc",null,null,"Condom",null,"AZ Cup 2025 - Kombi 15m",10,2451,6667,"Discus 2ax","JPA","Není v databázi",{"$f":"IF(ISERROR(VLOOKUP(B123,'Zebrik G'!B:I,8,0)),\"-\",VLOOKUP(B123,'Zebrik G'!B:I,8,0))","v":"-"},{"$f":"IF(ISERROR(VLOOKUP(B123,'N PMČR 2026'!B:G,6,0)),\"-\",VLOOKUP(B123,'N PMČR 2026'!B:G,6,0))","v":"-"}]
[122,"Milos Srank",null,null,"Aeroklub Nové Zámky",null,"PPV 2025 - Kombi",15,2844,6617,"ASG 29 E 18m","LK","Není v databázi",{"$f":"IF(ISERROR(VLOOKUP(B124,'Zebrik G'!B:I,8,0)),\"-\",VLOOKUP(B124,'Zebrik G'!B:I,8,0))","v":"-"},{"$f":"IF(ISERROR(VLOOKUP(B124,'N PMČR 2026'!B:G,6,0)),\"-\",VLOOKUP(B124,'N PMČR 2026'!B:G,6,0))","v":"-"}]
[123,"Pavel Rericha",{"$f":"VLOOKUP(B125,Pilot,2,0)","v":1967},{"$f":"VLOOKUP(B125,Pilot,5,0)","v":"M"},{"$f":"VLOOKUP(B125,Pilot,3,0)","v":"Moravská Třebová"},{"$f":"VLOOKUP(B125,Pilot,4,0)","v":"CZ/M"},"JPJ 2025 - Kombi 15m",4,3157,6616,"Ventus c 15m WL","EG","",{"$f":"IF(ISERROR(VLOOKUP(B125,'Zebrik G'!B:I,8,0)),\"-\",VLOOKUP(B125,'Zebrik G'!B:I,8,0))","v":24},{"$f":"IF(ISERROR(VLOOKUP(B125,'N PMČR 2026'!B:G,6,0)),\"-\",VLOOKUP(B125,'N PMČR 2026'!B:G,6,0))","v":68}]
[124,"Jaroslav Buryan",1953,"M","Zábřeh","CZ/M","PPV 2025 - Klub",15,2495,6586,"Discus bM WL","OL","",{"$f":"IF(ISERROR(VLOOKUP(B126,'Zebrik G'!B:I,8,0)),\"-\",VLOOKUP(B126,'Zebrik G'!B:I,8,0))","v":70},{"$f":"IF(ISERROR(VLOOKUP(B126,'N PMČR 2026'!B:G,6,0)),\"-\",VLOOKUP(B126,'N PMČR 2026'!B:G,6,0))","v":"-"}]
[125,"Peter Kaspar",1980,"M","Vyškov","CZ/M","JPJ 2025 - Klub",15,3249,6515,"Astir CS 77","1B","",{"$f":"IF(ISERROR(VLOOKUP(B127,'Zebrik G'!B:I,8,0)),\"-\",VLOOKUP(B127,'Zebrik G'!B:I,8,0))","v":298},{"$f":"IF(ISERROR(VLOOKUP(B127,'N PMČR 2026'!B:G,6,0)),\"-\",VLOOKUP(B127,'N PMČR 2026'!B:G,6,0))","v":"-"}]
[126,"Josef Kreutzer",1992,"M","Letkov","CZ/C1","Toužim Cup 2025 - Klub",12,1462,6471,"Std. Cirrus","AL","",{"$f":"IF(ISERROR(VLOOKUP(B128,'Zebrik G'!B:I,8,0)),\"-\",VLOOKUP(B128,'Zebrik G'!B:I,8,0))","v":306},{"$f":"IF(ISERROR(VLOOKUP(B128,'N PMČR 2026'!B:G,6,0)),\"-\",VLOOKUP(B128,'N PMČR 2026'!B:G,6,0))","v":"-"}]
[127,"Jan Dersak 69",1969,"M","Kralupy","CZ/C1","PPV 2025 - Kombi",16,2821,6464,"HpH 304 MS Shark","DJ","",{"$f":"IF(ISERROR(VLOOKUP(B129,'Zebrik G'!B:I,8,0)),\"-\",VLOOKUP(B129,'Zebrik G'!B:I,8,0))","v":76},{"$f":"IF(ISERROR(VLOOKUP(B129,'N PMČR 2026'!B:G,6,0)),\"-\",VLOOKUP(B129,'N PMČR 2026'!B:G,6,0))","v":"-"}]
[128,"David Sachl",1978,"M","Kralupy","CZ/C1","AZ Cup 2025 - Kombi 15m",11,2440,6443,"ASW 27 WL","MF","",{"$f":"IF(ISERROR(VLOOKUP(B130,'Zebrik G'!B:I,8,0)),\"-\",VLOOKUP(B130,'Zebrik G'!B:I,8,0))","v":71},{"$f":"IF(ISERROR(VLOOKUP(B130,'N PMČR 2026'!B:G,6,0)),\"-\",VLOOKUP(B130,'N PMČR 2026'!B:G,6,0))","v":52}]
[{"$f":"RANK(J131,J:J)","v":129},"David Riha",1983,"M","Vlašim","CZ/C1","AZ Cup 2025 - Klub",16,1970,6426,"ASW 15b","XEI",{"$f":"IF(ISERROR(VLOOKUP(B131,Pilot,6,0)),\"Není v databázi\",VLOOKUP(B131,Pilot,6,0))","v":""},{"$f":"IF(ISERROR(VLOOKUP(B131,'Zebrik G'!B:I,8,0)),\"-\",VLOOKUP(B131,'Zebrik G'!B:I,8,0))","v":122},{"$f":"IF(ISERROR(VLOOKUP(B131,'N PMČR 2026'!B:G,6,0)),\"-\",VLOOKUP(B131,'N PMČR 2026'!B:G,6,0))","v":"-"}]
[130,"Martin Svarc",1981,"M","Olomouc","CZ/M","JPJ 2025 - Klub",16,3244,6408,"DG-101 G","HE","",{"$f":"IF(ISERROR(VLOOKUP(B132,'Zebrik G'!B:I,8,0)),\"-\",VLOOKUP(B132,'Zebrik G'!B:I,8,0))","v":113},{"$f":"IF(ISERROR(VLOOKUP(B132,'N PMČR 2026'!B:G,6,0)),\"-\",VLOOKUP(B132,'N PMČR 2026'!B:G,6,0))","v":"-"}]
[131,"Tomas Prikryl",1973,"M","Vyškov","CZ/M","JPJ 2025 - Kombi Open",11,3470,6394,"Ventus 2cm 18m 525kg","FN","",{"$f":"IF(ISERROR(VLOOKUP(B133,'Zebrik G'!B:I,8,0)),\"-\",VLOOKUP(B133,'Zebrik G'!B:I,8,0))","v":146},{"$f":"IF(ISERROR(VLOOKUP(B133,'N PMČR 2026'!B:G,6,0)),\"-\",VLOOKUP(B133,'N PMČR 2026'!B:G,6,0))","v":"-"}]
[132,"Hana Treslova",1991,"F","Raná","CZ/C2","AZ Cup 2025 - Kombi Open",12,2007,6384,"JS 3","XM","",{"$f":"IF(ISERROR(VLOOKUP(B134,'Zebrik G'!B:I,8,0)),\"-\",VLOOKUP(B134,'Zebrik G'!B:I,8,0))","v":17},{"$f":"IF(ISERROR(VLOOKUP(B134,'N PMČR 2026'!B:G,6,0)),\"-\",VLOOKUP(B134,'N PMČR 2026'!B:G,6,0))","v":17}]
[133,"Michal Kares",1987,"M","Ústí nad Orlicí","CZ/C2","PPV 2025 - Klub",16,2440,6376,"Std. Cirrus","A","",{"$f":"IF(ISERROR(VLOOKUP(B135,'Zebrik G'!B:I,8,0)),\"-\",VLOOKUP(B135,'Zebrik G'!B:I,8,0))","v":201},{"$f":"IF(ISERROR(VLOOKUP(B135,'N PMČR 2026'!B:G,6,0)),\"-\",VLOOKUP(B135,'N PMČR 2026'!B:G,6,0))","v":"-"}]
[134,"Michal Cechmanek",1978,"M","Kroměříž","CZ/M","JPJ 2025 - Kombi 15m",5,3129,6275,"ASW-20 (A)+F 15m WL","MK","",{"$f":"IF(ISERROR(VLOOKUP(B136,'Zebrik G'!B:I,8,0)),\"-\",VLOOKUP(B136,'Zebrik G'!B:I,8,0))","v":52},{"$f":"IF(ISERROR(VLOOKUP(B136,'N PMČR 2026'!B:G,6,0)),\"-\",VLOOKUP(B136,'N PMČR 2026'!B:G,6,0))","v":"N2"}]
[135,"Martin Urner",1974,"M","Letňany","CZ/C1","JPJ 2025 - Klub",17,3216,6265,"ASW-15B","JJ","",{"$f":"IF(ISERROR(VLOOKUP(B137,'Zebrik G'!B:I,8,0)),\"-\",VLOOKUP(B137,'Zebrik G'!B:I,8,0))","v":63},{"$f":"IF(ISERROR(VLOOKUP(B137,'N PMČR 2026'!B:G,6,0)),\"-\",VLOOKUP(B137,'N PMČR 2026'!B:G,6,0))","v":"N7"}]
[136,"Jiri Fousek",1990,"M","Raná","CZ/C2","AZ Cup 2025 - Kombi Open",13,1985,6179,"Ventus c","XE","",{"$f":"IF(ISERROR(VLOOKUP(B138,'Zebrik G'!B:I,8,0)),\"-\",VLOOKUP(B138,'Zebrik G'!B:I,8,0))","v":65},{"$f":"IF(ISERROR(VLOOKUP(B138,'N PMČR 2026'!B:G,6,0)),\"-\",VLOOKUP(B138,'N PMČR 2026'!B:G,6,0))","v":"N8"}]
[137,"Radim Sobek",1977,"M","Hranice","CZ/M","JPJ 2025 - Klub",18,3212,6159,"TST-10M",7,"",{"$f":"IF(ISERROR(VLOOKUP(B139,'Zebrik G'!B:I,8,0)),\"-\",VLOOKUP(B139,'Zebrik G'!B:I,8,0))","v":87},{"$f":"IF(ISERROR(VLOOKUP(B139,'N PMČR 2026'!B:G,6,0)),\"-\",VLOOKUP(B139,'N PMČR 2026'!B:G,6,0))","v":"-"}]
[138,"Petr Lonsky",1965,"M","Toužim","CZ/C1","Toužim Cup 2025 - Klub",13,1388,6109,"LS-1d","CLI","",{"$f":"IF(ISERROR(VLOOKUP(B140,'Zebrik G'!B:I,8,0)),\"-\",VLOOKUP(B140,'Zebrik G'!B:I,8,0))","v":170},{"$f":"IF(ISERROR(VLOOKUP(B140,'N PMČR 2026'!B:G,6,0)),\"-\",VLOOKUP(B140,'N PMČR 2026'!B:G,6,0))","v":"-"}]
[139,"Anais Gaubert",null,null,null,null,"AZ Cup 2025 - Klub",17,1852,6002,"LS 7 WL","VX","Není v databázi",{"$f":"IF(ISERROR(VLOOKUP(B141,'Zebrik G'!B:I,8,0)),\"-\",VLOOKUP(B141,'Zebrik G'!B:I,8,0))","v":"-"},{"$f":"IF(ISERROR(VLOOKUP(B141,'N PMČR 2026'!B:G,6,0)),\"-\",VLOOKUP(B141,'N PMČR 2026'!B:G,6,0))","v":"-"}]
[140,"Petr Starek",{"$f":"VLOOKUP(B142,Pilot,2,0)","v":1974},{"$f":"VLOOKUP(B142,Pilot,5,0)","v":"M"},{"$f":"VLOOKUP(B142,Pilot,3,0)","v":"Zbraslavice"},{"$f":"VLOOKUP(B142,Pilot,4,0)","v":"CZ/C1"},"AZ Cup 2025 - Kombi Open",14,1964,5976,"HpH 304 JS 600 kg",66,"",{"$f":"IF(ISERROR(VLOOKUP(B142,'Zebrik G'!B:I,8,0)),\"-\",VLOOKUP(B142,'Zebrik G'!B:I,8,0))","v":144},{"$f":"IF(ISERROR(VLOOKUP(B142,'N PMČR 2026'!B:G,6,0)),\"-\",VLOOKUP(B142,'N PMČR 2026'!B:G,6,0))","v":"-"}]
[141,"Pavel Liska",{"$f":"VLOOKUP(B143,Pilot,2,0)","v":1965},{"$f":"VLOOKUP(B143,Pilot,5,0)","v":"M"},{"$f":"VLOOKUP(B143,Pilot,3,0)","v":"Roudnice"},{"$f":"VLOOKUP(B143,Pilot,4,0)","v":"CZ/C2"},"PPV 2025 - Klub",17,2255,5906,"VSO-10",6,"",{"$f":"IF(ISERROR(VLOOKUP(B143,'Zebrik G'!B:I,8,0)),\"-\",VLOOKUP(B143,'Zebrik G'!B:I,8,0))","v":104},{"$f":"IF(ISERROR(VLOOKUP(B143,'N PMČR 2026'!B:G,6,0)),\"-\",VLOOKUP(B143,'N PMČR 2026'!B:G,6,0))","v":"-"}]
[142,"Lukas Plocek",{"$f":"VLOOKUP(B144,Pilot,2,0)","v":1990},{"$f":"VLOOKUP(B144,Pilot,5,0)","v":"M"},{"$f":"VLOOKUP(B144,Pilot,3,0)","v":"Mladá Boleslav"},{"$f":"VLOOKUP(B144,Pilot,4,0)","v":"CZ/C1"},"Toužim Cup 2025 - Klub",14,1353,5874,"ASW-19B","AH","",{"$f":"IF(ISERROR(VLOOKUP(B144,'Zebrik G'!B:I,8,0)),\"-\",VLOOKUP(B144,'Zebrik G'!B:I,8,0))","v":202},{"$f":"IF(ISERROR(VLOOKUP(B144,'N PMČR 2026'!B:G,6,0)),\"-\",VLOOKUP(B144,'N PMČR 2026'!B:G,6,0))","v":"-"}]
[143,"Austeja Urbanaviciute",null,null,"Vilnius aeroclub",null,"AZ Cup 2025 - Klub",18,1844,5866,"LS 3a","QT","Není v databázi",{"$f":"IF(ISERROR(VLOOKUP(B145,'Zebrik G'!B:I,8,0)),\"-\",VLOOKUP(B145,'Zebrik G'!B:I,8,0))","v":"-"},{"$f":"IF(ISERROR(VLOOKUP(B145,'N PMČR 2026'!B:G,6,0)),\"-\",VLOOKUP(B145,'N PMČR 2026'!B:G,6,0))","v":"-"}]
[143,"Barbora Moravcova",{"$f":"VLOOKUP(B146,Pilot,2,0)","v":1994},{"$f":"VLOOKUP(B146,Pilot,5,0)","v":"F"},{"$f":"VLOOKUP(B146,Pilot,3,0)","v":"Zbraslavice"},{"$f":"VLOOKUP(B146,Pilot,4,0)","v":"CZ/C1"},"AZ Cup 2025 - Kombi 15m",12,2271,5866,"LS 8","EU","",{"$f":"IF(ISERROR(VLOOKUP(B146,'Zebrik G'!B:I,8,0)),\"-\",VLOOKUP(B146,'Zebrik G'!B:I,8,0))","v":62},{"$f":"IF(ISERROR(VLOOKUP(B146,'N PMČR 2026'!B:G,6,0)),\"-\",VLOOKUP(B146,'N PMČR 2026'!B:G,6,0))","v":27}]
[145,"Petr Havrlant",{"$f":"VLOOKUP(B147,Pilot,2,0)","v":1965},{"$f":"VLOOKUP(B147,Pilot,5,0)","v":"M"},{"$f":"VLOOKUP(B147,Pilot,3,0)","v":"Šumperk"},{"$f":"VLOOKUP(B147,Pilot,4,0)","v":"CZ/M"},"JPJ 2025 - Klub",19,3043,5804,"ASW-15B","Q1","",{"$f":"IF(ISERROR(VLOOKUP(B147,'Zebrik G'!B:I,8,0)),\"-\",VLOOKUP(B147,'Zebrik G'!B:I,8,0))","v":156},{"$f":"IF(ISERROR(VLOOKUP(B147,'N PMČR 2026'!B:G,6,0)),\"-\",VLOOKUP(B147,'N PMČR 2026'!B:G,6,0))","v":"-"}]
[146,"Danes Grula",{"$f":"VLOOKUP(B148,Pilot,2,0)","v":1961},{"$f":"VLOOKUP(B148,Pilot,5,0)","v":"M"},{"$f":"VLOOKUP(B148,Pilot,3,0)","v":"Medlánky"},{"$f":"VLOOKUP(B148,Pilot,4,0)","v":"CZ/M"},"Toužim Cup 2025 - Kombi",20,1436,5760,"ASG-32 -850 kg","DX","",{"$f":"IF(ISERROR(VLOOKUP(B148,'Zebrik G'!B:I,8,0)),\"-\",VLOOKUP(B148,'Zebrik G'!B:I,8,0))","v":188},{"$f":"IF(ISERROR(VLOOKUP(B148,'N PMČR 2026'!B:G,6,0)),\"-\",VLOOKUP(B148,'N PMČR 2026'!B:G,6,0))","v":"-"}]
[147,"Zdenek Schenk",{"$f":"VLOOKUP(B149,Pilot,2,0)","v":1972},{"$f":"VLOOKUP(B149,Pilot,5,0)","v":"M"},{"$f":"VLOOKUP(B149,Pilot,3,0)","v":"Hranice"},{"$f":"VLOOKUP(B149,Pilot,4,0)","v":"CZ/M"},"JPJ 2025 - Kombi Open",12,3126,5706,"ASG-29E 18m","ŠNeK","",{"$f":"IF(ISERROR(VLOOKUP(B149,'Zebrik G'!B:I,8,0)),\"-\",VLOOKUP(B149,'Zebrik G'!B:I,8,0))","v":114},{"$f":"IF(ISERROR(VLOOKUP(B149,'N PMČR 2026'!B:G,6,0)),\"-\",VLOOKUP(B149,'N PMČR 2026'!B:G,6,0))","v":"-"}]
[148,"Radoslav Pur",{"$f":"VLOOKUP(B150,Pilot,2,0)","v":1973},{"$f":"VLOOKUP(B150,Pilot,5,0)","v":"M"},{"$f":"VLOOKUP(B150,Pilot,3,0)","v":"Hosín"},{"$f":"VLOOKUP(B150,Pilot,4,0)","v":"CZ/C1"},"PPV 2025 - Klub",18,2198,5692,"DG 200","EK","",{"$f":"IF(ISERROR(VLOOKUP(B150,'Zebrik G'!B:I,8,0)),\"-\",VLOOKUP(B150,'Zebrik G'!B:I,8,0))","v":159},{"$f":"IF(ISERROR(VLOOKUP(B150,'N PMČR 2026'!B:G,6,0)),\"-\",VLOOKUP(B150,'N PMČR 2026'!B:G,6,0))","v":"-"}]
[149,"Peter Janoska",null,null,"Aeroklub Nitra",null,"PPV 2025 - Kombi",17,2441,5662,"LS 6 17.5m","N6","Není v databázi",{"$f":"IF(ISERROR(VLOOKUP(B151,'Zebrik G'!B:I,8,0)),\"-\",VLOOKUP(B151,'Zebrik G'!B:I,8,0))","v":"-"},{"$f":"IF(ISERROR(VLOOKUP(B151,'N PMČR 2026'!B:G,6,0)),\"-\",VLOOKUP(B151,'N PMČR 2026'!B:G,6,0))","v":"-"}]
[150,"Roman Schotli",{"$f":"VLOOKUP(B152,Pilot,2,0)","v":1970},{"$f":"VLOOKUP(B152,Pilot,5,0)","v":"M"},{"$f":"VLOOKUP(B152,Pilot,3,0)","v":"Hranice"},{"$f":"VLOOKUP(B152,Pilot,4,0)","v":"CZ/M"},"JPJ 2025 - Klub",20,2976,5602,"ASW-19B",19,"",{"$f":"IF(ISERROR(VLOOKUP(B152,'Zebrik G'!B:I,8,0)),\"-\",VLOOKUP(B152,'Zebrik G'!B:I,8,0))","v":176},{"$f":"IF(ISERROR(VLOOKUP(B152,'N PMČR 2026'!B:G,6,0)),\"-\",VLOOKUP(B152,'N PMČR 2026'!B:G,6,0))","v":"-"}]
[151,"Jakub Jezek",2002,"M","Ústí nad Orlicí","CZ/C2","Toužim Cup 2025 - Klub",15,1297,5570,"ASW-15B","X","Junior v roce 2026",{"$f":"IF(ISERROR(VLOOKUP(B153,'Zebrik G'!B:I,8,0)),\"-\",VLOOKUP(B153,'Zebrik G'!B:I,8,0))","v":323},{"$f":"IF(ISERROR(VLOOKUP(B153,'N PMČR 2026'!B:G,6,0)),\"-\",VLOOKUP(B153,'N PMČR 2026'!B:G,6,0))","v":"-"}]
[152,"Jan Dersak 69",1969,"M","Kralupy","CZ/C1","AZ Cup 2025 - Kombi Open",15,1861,5568,"HpH 304 MS 600 kg","DJ","",{"$f":"IF(ISERROR(VLOOKUP(B154,'Zebrik G'!B:I,8,0)),\"-\",VLOOKUP(B154,'Zebrik G'!B:I,8,0))","v":76},{"$f":"IF(ISERROR(VLOOKUP(B154,'N PMČR 2026'!B:G,6,0)),\"-\",VLOOKUP(B154,'N PMČR 2026'!B:G,6,0))","v":"-"}]
[153,"Petr Styblo",1975,"M","Letňany","CZ/C1","PPV 2025 - Klub",19,2161,5518,"Discus b","LH","",{"$f":"IF(ISERROR(VLOOKUP(B155,'Zebrik G'!B:I,8,0)),\"-\",VLOOKUP(B155,'Zebrik G'!B:I,8,0))","v":205},{"$f":"IF(ISERROR(VLOOKUP(B155,'N PMČR 2026'!B:G,6,0)),\"-\",VLOOKUP(B155,'N PMČR 2026'!B:G,6,0))","v":"-"}]
[154,"Martin Picka",1974,"M","Tábor","CZ/C1","Toužim Cup 2025 - Kombi",21,1387,5516,"JS3-18m","NS","",{"$f":"IF(ISERROR(VLOOKUP(B156,'Zebrik G'!B:I,8,0)),\"-\",VLOOKUP(B156,'Zebrik G'!B:I,8,0))","v":95},{"$f":"IF(ISERROR(VLOOKUP(B156,'N PMČR 2026'!B:G,6,0)),\"-\",VLOOKUP(B156,'N PMČR 2026'!B:G,6,0))","v":"-"}]
[155,"Radim Tomala",1972,"M","Prostějov","CZ/M","JPJ 2025 - Klub",21,2905,5395,"Std. Cirrus","RT","",{"$f":"IF(ISERROR(VLOOKUP(B157,'Zebrik G'!B:I,8,0)),\"-\",VLOOKUP(B157,'Zebrik G'!B:I,8,0))","v":132},{"$f":"IF(ISERROR(VLOOKUP(B157,'N PMČR 2026'!B:G,6,0)),\"-\",VLOOKUP(B157,'N PMČR 2026'!B:G,6,0))","v":"-"}]
[156,"Premysl Muzik",1990,"M","Tábor","CZ/C1","PPV 2025 - Klub",20,2143,5382,"Std. Cirrus","IMI","",{"$f":"IF(ISERROR(VLOOKUP(B158,'Zebrik G'!B:I,8,0)),\"-\",VLOOKUP(B158,'Zebrik G'!B:I,8,0))","v":153},{"$f":"IF(ISERROR(VLOOKUP(B158,'N PMČR 2026'!B:G,6,0)),\"-\",VLOOKUP(B158,'N PMČR 2026'!B:G,6,0))","v":53}]
[157,"Martin Stastny",2005,"M","Medlánky","CZ/M","Toužim Cup 2025 - Klub",16,1265,5346,"Std. Cirrus WL","CX","Junior v roce 2026",{"$f":"IF(ISERROR(VLOOKUP(B159,'Zebrik G'!B:I,8,0)),\"-\",VLOOKUP(B159,'Zebrik G'!B:I,8,0))","v":152},{"$f":"IF(ISERROR(VLOOKUP(B159,'N PMČR 2026'!B:G,6,0)),\"-\",VLOOKUP(B159,'N PMČR 2026'!B:G,6,0))","v":"-"}]
[158,"Milan Minarik",1900,"M","Hranice","CZ/M","JPJ 2025 - Kombi 15m",6,2682,5336,"Duo Discus 700kg","OK","",{"$f":"IF(ISERROR(VLOOKUP(B160,'Zebrik G'!B:I,8,0)),\"-\",VLOOKUP(B160,'Zebrik G'!B:I,8,0))","v":224},{"$f":"IF(ISERROR(VLOOKUP(B160,'N PMČR 2026'!B:G,6,0)),\"-\",VLOOKUP(B160,'N PMČR 2026'!B:G,6,0))","v":"-"}]
[159,"Benedikt & Kubovciik",null,null,"SGC Martin",null,"PPV 2025 - Kombi",18,2290,5276,"HpH 304 TS Twin Shark","LP","Není v databázi",{"$f":"IF(ISERROR(VLOOKUP(B161,'Zebrik G'!B:I,8,0)),\"-\",VLOOKUP(B161,'Zebrik G'!B:I,8,0))","v":"-"},{"$f":"IF(ISERROR(VLOOKUP(B161,'N PMČR 2026'!B:G,6,0)),\"-\",VLOOKUP(B161,'N PMČR 2026'!B:G,6,0))","v":"-"}]
[160,"Carlos Iucci",null,null,"SGC Martin",null,"AZ Cup 2025 - Klub",19,1658,5263,"ASW 20",311,"Není v databázi",{"$f":"IF(ISERROR(VLOOKUP(B162,'Zebrik G'!B:I,8,0)),\"-\",VLOOKUP(B162,'Zebrik G'!B:I,8,0))","v":"-"},{"$f":"IF(ISERROR(VLOOKUP(B162,'N PMČR 2026'!B:G,6,0)),\"-\",VLOOKUP(B162,'N PMČR 2026'!B:G,6,0))","v":"-"}]
[161,"Jiri Holcman",{"$f":"VLOOKUP(B163,Pilot,2,0)","v":1976},{"$f":"VLOOKUP(B163,Pilot,5,0)","v":"M"},{"$f":"VLOOKUP(B163,Pilot,3,0)","v":"Hosín"},{"$f":"VLOOKUP(B163,Pilot,4,0)","v":"CZ/C1"},"PPV 2025 - Klub",21,2095,5186,"ASW 19","BO","",{"$f":"IF(ISERROR(VLOOKUP(B163,'Zebrik G'!B:I,8,0)),\"-\",VLOOKUP(B163,'Zebrik G'!B:I,8,0))","v":197},{"$f":"IF(ISERROR(VLOOKUP(B163,'N PMČR 2026'!B:G,6,0)),\"-\",VLOOKUP(B163,'N PMČR 2026'!B:G,6,0))","v":"-"}]
[162,"Klara Teichmannova",1993,"F","Hronov","CZ/C2","AZ Cup 2025 - Kombi 15m",13,2054,5182,"LS 8","W8","",{"$f":"IF(ISERROR(VLOOKUP(B164,'Zebrik G'!B:I,8,0)),\"-\",VLOOKUP(B164,'Zebrik G'!B:I,8,0))","v":322},{"$f":"IF(ISERROR(VLOOKUP(B164,'N PMČR 2026'!B:G,6,0)),\"-\",VLOOKUP(B164,'N PMČR 2026'!B:G,6,0))","v":32}]
[163,"Jakub Vlk",1986,"M","GAC Benešov","CZ/C1","JPJ 2025 - Klub",22,2823,5171,"Discus b WL","JAV","",{"$f":"IF(ISERROR(VLOOKUP(B165,'Zebrik G'!B:I,8,0)),\"-\",VLOOKUP(B165,'Zebrik G'!B:I,8,0))","v":330},{"$f":"IF(ISERROR(VLOOKUP(B165,'N PMČR 2026'!B:G,6,0)),\"-\",VLOOKUP(B165,'N PMČR 2026'!B:G,6,0))","v":"-"}]
[164,"Tomas Ditrt",1969,"M","Podhořany","CZ/C2","AZ Cup 2025 - Kombi Open",16,1757,5157,"HpH 304 MS 600 kg","TDI","",{"$f":"IF(ISERROR(VLOOKUP(B166,'Zebrik G'!B:I,8,0)),\"-\",VLOOKUP(B166,'Zebrik G'!B:I,8,0))","v":154},{"$f":"IF(ISERROR(VLOOKUP(B166,'N PMČR 2026'!B:G,6,0)),\"-\",VLOOKUP(B166,'N PMČR 2026'!B:G,6,0))","v":"-"}]
[164,"Ivo Burda",1962,"M","Zbraslavice","CZ/C1","AZ Cup 2025 - Kombi Open",16,1757,5157,"Ventus 2 cxm 600 kg","IB","",{"$f":"IF(ISERROR(VLOOKUP(B167,'Zebrik G'!B:I,8,0)),\"-\",VLOOKUP(B167,'Zebrik G'!B:I,8,0))","v":181},{"$f":"IF(ISERROR(VLOOKUP(B167,'N PMČR 2026'!B:G,6,0)),\"-\",VLOOKUP(B167,'N PMČR 2026'!B:G,6,0))","v":"-"}]
[166,"Zdenek Schenk",1972,"M","Hranice","CZ/M","PPV 2025 - Kombi",19,2283,5152,"ASG 29 E 18m","ŠNeK","",{"$f":"IF(ISERROR(VLOOKUP(B168,'Zebrik G'!B:I,8,0)),\"-\",VLOOKUP(B168,'Zebrik G'!B:I,8,0))","v":114},{"$f":"IF(ISERROR(VLOOKUP(B168,'N PMČR 2026'!B:G,6,0)),\"-\",VLOOKUP(B168,'N PMČR 2026'!B:G,6,0))","v":"-"}]
[167,"Olga Mokosova",1970,"F","Jihlava","CZ/M","Toužim Cup 2025 - Kombi",22,1294,5135,"LS-6c /18m WL","MMI","",{"$f":"IF(ISERROR(VLOOKUP(B169,'Zebrik G'!B:I,8,0)),\"-\",VLOOKUP(B169,'Zebrik G'!B:I,8,0))","v":157},{"$f":"IF(ISERROR(VLOOKUP(B169,'N PMČR 2026'!B:G,6,0)),\"-\",VLOOKUP(B169,'N PMČR 2026'!B:G,6,0))","v":"-"}]
[168,"Tomas Zamecnik",1988,"M","Zbraslavice","CZ/C1","AZ Cup 2025 - Klub",20,1649,5124,"Cirrus std.","C1","",{"$f":"IF(ISERROR(VLOOKUP(B170,'Zebrik G'!B:I,8,0)),\"-\",VLOOKUP(B170,'Zebrik G'!B:I,8,0))","v":242},{"$f":"IF(ISERROR(VLOOKUP(B170,'N PMČR 2026'!B:G,6,0)),\"-\",VLOOKUP(B170,'N PMČR 2026'!B:G,6,0))","v":"-"}]
[169,"Filip Riabec",2006,"M","Broumov","CZ/C2","Toužim Cup 2025 - Klub",17,1206,5032,"ASW-15B","2P","Junior v roce 2026",{"$f":"IF(ISERROR(VLOOKUP(B171,'Zebrik G'!B:I,8,0)),\"-\",VLOOKUP(B171,'Zebrik G'!B:I,8,0))","v":216},{"$f":"IF(ISERROR(VLOOKUP(B171,'N PMČR 2026'!B:G,6,0)),\"-\",VLOOKUP(B171,'N PMČR 2026'!B:G,6,0))","v":"-"}]
[170,"Jan Mareth",1979,"M","Frýdlant","CZ/M","JPJ 2025 - Kombi 15m",7,2675,5026,"ASW-20 (A)+F 15m WL","NS","",{"$f":"IF(ISERROR(VLOOKUP(B172,'Zebrik G'!B:I,8,0)),\"-\",VLOOKUP(B172,'Zebrik G'!B:I,8,0))","v":136},{"$f":"IF(ISERROR(VLOOKUP(B172,'N PMČR 2026'!B:G,6,0)),\"-\",VLOOKUP(B172,'N PMČR 2026'!B:G,6,0))","v":"-"}]
[171,"Jakub Kohn",1992,"M","Prostějov","CZ/M","JPJ 2025 - Klub",23,2767,4986,"ASW-15B","FK","",{"$f":"IF(ISERROR(VLOOKUP(B173,'Zebrik G'!B:I,8,0)),\"-\",VLOOKUP(B173,'Zebrik G'!B:I,8,0))","v":135},{"$f":"IF(ISERROR(VLOOKUP(B173,'N PMČR 2026'!B:G,6,0)),\"-\",VLOOKUP(B173,'N PMČR 2026'!B:G,6,0))","v":"-"}]
[172,"Vaclav Svoboda",1970,"M","Letkov","CZ/C1","Toužim Cup 2025 - Kombi",23,1240,4875,"LS-8-18 /18m",301,"",{"$f":"IF(ISERROR(VLOOKUP(B174,'Zebrik G'!B:I,8,0)),\"-\",VLOOKUP(B174,'Zebrik G'!B:I,8,0))","v":120},{"$f":"IF(ISERROR(VLOOKUP(B174,'N PMČR 2026'!B:G,6,0)),\"-\",VLOOKUP(B174,'N PMČR 2026'!B:G,6,0))","v":"-"}]
[173,"Petr Rozhon",1972,"M","Hosín","CZ/C1","PPV 2025 - Klub",22,1959,4815,"VSO-10",9,"",{"$f":"IF(ISERROR(VLOOKUP(B175,'Zebrik G'!B:I,8,0)),\"-\",VLOOKUP(B175,'Zebrik G'!B:I,8,0))","v":150},{"$f":"IF(ISERROR(VLOOKUP(B175,'N PMČR 2026'!B:G,6,0)),\"-\",VLOOKUP(B175,'N PMČR 2026'!B:G,6,0))","v":"-"}]
[174,"Pavel Haluza",1966,"M","Prostějov","CZ/M","JPJ 2025 - Kombi Open",13,2618,4774,"Nimbus 2b","HT","",{"$f":"IF(ISERROR(VLOOKUP(B176,'Zebrik G'!B:I,8,0)),\"-\",VLOOKUP(B176,'Zebrik G'!B:I,8,0))","v":174},{"$f":"IF(ISERROR(VLOOKUP(B176,'N PMČR 2026'!B:G,6,0)),\"-\",VLOOKUP(B176,'N PMČR 2026'!B:G,6,0))","v":"-"}]
[175,"Petr Jiranek 63",1962,"M","Toužim","CZ/C1","AZ Cup 2025 - Kombi Open",18,1720,4764,"HpH 304 MS 600 kg","LK","",{"$f":"IF(ISERROR(VLOOKUP(B177,'Zebrik G'!B:I,8,0)),\"-\",VLOOKUP(B177,'Zebrik G'!B:I,8,0))","v":116},{"$f":"IF(ISERROR(VLOOKUP(B177,'N PMČR 2026'!B:G,6,0)),\"-\",VLOOKUP(B177,'N PMČR 2026'!B:G,6,0))","v":"-"}]
[176,"David Benda",1974,"M","Letňany","CZ/C1","JPJ 2025 - Klub",24,2682,4757,"G-102 Astir cs","PD","",{"$f":"IF(ISERROR(VLOOKUP(B178,'Zebrik G'!B:I,8,0)),\"-\",VLOOKUP(B178,'Zebrik G'!B:I,8,0))","v":192},{"$f":"IF(ISERROR(VLOOKUP(B178,'N PMČR 2026'!B:G,6,0)),\"-\",VLOOKUP(B178,'N PMČR 2026'!B:G,6,0))","v":"-"}]
[177,"Petr Starek",1974,"M","Zbraslavice","CZ/C1","PPV 2025 - Kombi",20,2094,4697,"HpH 304 SJ Shark",66,"",{"$f":"IF(ISERROR(VLOOKUP(B179,'Zebrik G'!B:I,8,0)),\"-\",VLOOKUP(B179,'Zebrik G'!B:I,8,0))","v":144},{"$f":"IF(ISERROR(VLOOKUP(B179,'N PMČR 2026'!B:G,6,0)),\"-\",VLOOKUP(B179,'N PMČR 2026'!B:G,6,0))","v":"-"}]
[178,"Jan Zanda",1983,"M","Letkov","CZ/C1","Toužim Cup 2025 - Kombi",24,1197,4650,"Nimbus 2c WL","MK","",{"$f":"IF(ISERROR(VLOOKUP(B180,'Zebrik G'!B:I,8,0)),\"-\",VLOOKUP(B180,'Zebrik G'!B:I,8,0))","v":148},{"$f":"IF(ISERROR(VLOOKUP(B180,'N PMČR 2026'!B:G,6,0)),\"-\",VLOOKUP(B180,'N PMČR 2026'!B:G,6,0))","v":"-"}]
[179,"Radek Zima 75",1975,"M","Břeclav","CZ/M","PPV 2025 - Klub",23,1906,4609,"DG 100","M","",{"$f":"IF(ISERROR(VLOOKUP(B181,'Zebrik G'!B:I,8,0)),\"-\",VLOOKUP(B181,'Zebrik G'!B:I,8,0))","v":196},{"$f":"IF(ISERROR(VLOOKUP(B181,'N PMČR 2026'!B:G,6,0)),\"-\",VLOOKUP(B181,'N PMČR 2026'!B:G,6,0))","v":"-"}]
[180,"Jaromir Jedlicka",1972,"M","Letňany","CZ/C1","AZ Cup 2025 - Kombi Open",19,1680,4514,"HpH 304 MS 600kg","TJ","",{"$f":"IF(ISERROR(VLOOKUP(B182,'Zebrik G'!B:I,8,0)),\"-\",VLOOKUP(B182,'Zebrik G'!B:I,8,0))","v":346},{"$f":"IF(ISERROR(VLOOKUP(B182,'N PMČR 2026'!B:G,6,0)),\"-\",VLOOKUP(B182,'N PMČR 2026'!B:G,6,0))","v":"-"}]
[181,"Jaroslav Buryan",1953,"M","Zábřeh","CZ/M","JPJ 2025 - Kombi 15m",8,2479,4446,"Discus bm WL","OL","",{"$f":"IF(ISERROR(VLOOKUP(B183,'Zebrik G'!B:I,8,0)),\"-\",VLOOKUP(B183,'Zebrik G'!B:I,8,0))","v":70},{"$f":"IF(ISERROR(VLOOKUP(B183,'N PMČR 2026'!B:G,6,0)),\"-\",VLOOKUP(B183,'N PMČR 2026'!B:G,6,0))","v":"-"}]
[182,"Melanie Desbois Gadoulet",null,null,"P2B - Ploërmel",null,"AZ Cup 2025 - Kombi 15m",14,1802,4420,"Discus 2a","AX","Není v databázi",{"$f":"IF(ISERROR(VLOOKUP(B184,'Zebrik G'!B:I,8,0)),\"-\",VLOOKUP(B184,'Zebrik G'!B:I,8,0))","v":"-"},{"$f":"IF(ISERROR(VLOOKUP(B184,'N PMČR 2026'!B:G,6,0)),\"-\",VLOOKUP(B184,'N PMČR 2026'!B:G,6,0))","v":"-"}]
[183,"Jiri Cincera",{"$f":"VLOOKUP(B185,Pilot,2,0)","v":1966},{"$f":"VLOOKUP(B185,Pilot,5,0)","v":"M"},{"$f":"VLOOKUP(B185,Pilot,3,0)","v":"Toužim"},{"$f":"VLOOKUP(B185,Pilot,4,0)","v":"CZ/C1"},"Toužim Cup 2025 - Klub",18,1054,4414,"LS-1c","CI","",{"$f":"IF(ISERROR(VLOOKUP(B185,'Zebrik G'!B:I,8,0)),\"-\",VLOOKUP(B185,'Zebrik G'!B:I,8,0))","v":272},{"$f":"IF(ISERROR(VLOOKUP(B185,'N PMČR 2026'!B:G,6,0)),\"-\",VLOOKUP(B185,'N PMČR 2026'!B:G,6,0))","v":"-"}]
[184,"Ivo Burda",1962,"M","Zbraslavice","CZ/C1","PPV 2025 - Kombi",21,1993,4402,"Ventus 2cx 18m","IB","",{"$f":"IF(ISERROR(VLOOKUP(B186,'Zebrik G'!B:I,8,0)),\"-\",VLOOKUP(B186,'Zebrik G'!B:I,8,0))","v":181},{"$f":"IF(ISERROR(VLOOKUP(B186,'N PMČR 2026'!B:G,6,0)),\"-\",VLOOKUP(B186,'N PMČR 2026'!B:G,6,0))","v":"-"}]
[185,"Petr Babak",1973,"M","Hořice","CZ/C2","JPJ 2025 - Kombi Open",14,2483,4397,"Ventus 2cm 18m 525kg","LS","",{"$f":"IF(ISERROR(VLOOKUP(B187,'Zebrik G'!B:I,8,0)),\"-\",VLOOKUP(B187,'Zebrik G'!B:I,8,0))","v":112},{"$f":"IF(ISERROR(VLOOKUP(B187,'N PMČR 2026'!B:G,6,0)),\"-\",VLOOKUP(B187,'N PMČR 2026'!B:G,6,0))","v":"-"}]
[186,"Richard Jensen",1965,"M","Zbraslavice","CZ/C1","AZ Cup 2025 - Klub",21,1340,4200,"ASW 19b","O2","",{"$f":"IF(ISERROR(VLOOKUP(B188,'Zebrik G'!B:I,8,0)),\"-\",VLOOKUP(B188,'Zebrik G'!B:I,8,0))","v":239},{"$f":"IF(ISERROR(VLOOKUP(B188,'N PMČR 2026'!B:G,6,0)),\"-\",VLOOKUP(B188,'N PMČR 2026'!B:G,6,0))","v":"-"}]
[187,"Martin Viteznik",1988,"M","Kralupy","CZ/C1","AZ Cup 2025 - Kombi 15m",15,1775,4160,"Duo Discus T 700kg","ZS","",{"$f":"IF(ISERROR(VLOOKUP(B189,'Zebrik G'!B:I,8,0)),\"-\",VLOOKUP(B189,'Zebrik G'!B:I,8,0))","v":351},{"$f":"IF(ISERROR(VLOOKUP(B189,'N PMČR 2026'!B:G,6,0)),\"-\",VLOOKUP(B189,'N PMČR 2026'!B:G,6,0))","v":"-"}]
[188,"Jaroslav Koudelka 95",1995,"M","Hosín","CZ/C1","PPV 2025 - Klub",24,1691,4079,"Std. Cirrus",77,"",{"$f":"IF(ISERROR(VLOOKUP(B190,'Zebrik G'!B:I,8,0)),\"-\",VLOOKUP(B190,'Zebrik G'!B:I,8,0))","v":359},{"$f":"IF(ISERROR(VLOOKUP(B190,'N PMČR 2026'!B:G,6,0)),\"-\",VLOOKUP(B190,'N PMČR 2026'!B:G,6,0))","v":"-"}]
[189,"Martin Holik",1959,"M","Letňany","CZ/C1","PPV 2025 - Kombi",22,1846,4024,"LS 6 18m","F5","",{"$f":"IF(ISERROR(VLOOKUP(B191,'Zebrik G'!B:I,8,0)),\"-\",VLOOKUP(B191,'Zebrik G'!B:I,8,0))","v":222},{"$f":"IF(ISERROR(VLOOKUP(B191,'N PMČR 2026'!B:G,6,0)),\"-\",VLOOKUP(B191,'N PMČR 2026'!B:G,6,0))","v":"-"}]
[190,"Frantisek Komarek",1985,"M","Zbraslavice","CZ/C1","AZ Cup 2025 - Klub",22,1296,3970,"ASW 19b","PM","",{"$f":"IF(ISERROR(VLOOKUP(B192,'Zebrik G'!B:I,8,0)),\"-\",VLOOKUP(B192,'Zebrik G'!B:I,8,0))","v":155},{"$f":"IF(ISERROR(VLOOKUP(B192,'N PMČR 2026'!B:G,6,0)),\"-\",VLOOKUP(B192,'N PMČR 2026'!B:G,6,0))","v":"-"}]
[191,"Rudolf Jung",1954,"M","Zbraslavice","CZ/C1","Toužim Cup 2025 - Klub",19,954,3966,"G-103 Twin Astir dvojí (zatahovací podvozek)","RB","",{"$f":"IF(ISERROR(VLOOKUP(B193,'Zebrik G'!B:I,8,0)),\"-\",VLOOKUP(B193,'Zebrik G'!B:I,8,0))","v":232},{"$f":"IF(ISERROR(VLOOKUP(B193,'N PMČR 2026'!B:G,6,0)),\"-\",VLOOKUP(B193,'N PMČR 2026'!B:G,6,0))","v":"-"}]
[192,"Lukas Kotek",1994,"M","Frýdlant","CZ/M","PPV 2025 - Klub",25,1684,3965,"DG 200","AK","",{"$f":"IF(ISERROR(VLOOKUP(B194,'Zebrik G'!B:I,8,0)),\"-\",VLOOKUP(B194,'Zebrik G'!B:I,8,0))","v":361},{"$f":"IF(ISERROR(VLOOKUP(B194,'N PMČR 2026'!B:G,6,0)),\"-\",VLOOKUP(B194,'N PMČR 2026'!B:G,6,0))","v":"-"}]
[{"$f":"RANK(J195,J:J)","v":193},"Milos Mach",null,null,"Aeroklub Nové Zámky",null,"PPV 2025 - Kombi",23,1802,3833,"Discus 2cT 18m","JH",{"$f":"IF(ISERROR(VLOOKUP(B195,Pilot,6,0)),\"Není v databázi\",VLOOKUP(B195,Pilot,6,0))","v":"Není v databázi"},{"$f":"IF(ISERROR(VLOOKUP(B195,'Zebrik G'!B:I,8,0)),\"-\",VLOOKUP(B195,'Zebrik G'!B:I,8,0))","v":"-"},{"$f":"IF(ISERROR(VLOOKUP(B195,'N PMČR 2026'!B:G,6,0)),\"-\",VLOOKUP(B195,'N PMČR 2026'!B:G,6,0))","v":"-"}]
[194,"Ladislav Jozsa",{"$f":"VLOOKUP(B196,Pilot,2,0)","v":1981},{"$f":"VLOOKUP(B196,Pilot,5,0)","v":"M"},{"$f":"VLOOKUP(B196,Pilot,3,0)","v":"Medlánky"},{"$f":"VLOOKUP(B196,Pilot,4,0)","v":"CZ/M"},"JPJ 2025 - Kombi 15m",9,2239,3802,"Ventus c 15m WL","LJ","",{"$f":"IF(ISERROR(VLOOKUP(B196,'Zebrik G'!B:I,8,0)),\"-\",VLOOKUP(B196,'Zebrik G'!B:I,8,0))","v":280},{"$f":"IF(ISERROR(VLOOKUP(B196,'N PMČR 2026'!B:G,6,0)),\"-\",VLOOKUP(B196,'N PMČR 2026'!B:G,6,0))","v":"-"}]
[195,"Roman Cerny",1971,"M","Hranice","CZ/M","JPJ 2025 - Kombi Open",15,2190,3785,"Nimbus 3 25,5m 700kg","RF","",{"$f":"IF(ISERROR(VLOOKUP(B197,'Zebrik G'!B:I,8,0)),\"-\",VLOOKUP(B197,'Zebrik G'!B:I,8,0))","v":251},{"$f":"IF(ISERROR(VLOOKUP(B197,'N PMČR 2026'!B:G,6,0)),\"-\",VLOOKUP(B197,'N PMČR 2026'!B:G,6,0))","v":"-"}]
[196,"Jiri Donat",1983,"M","Letňany","CZ/C1","PPV 2025 - Klub",26,1581,3659,"Std. Cirrus WL","JE","",{"$f":"IF(ISERROR(VLOOKUP(B198,'Zebrik G'!B:I,8,0)),\"-\",VLOOKUP(B198,'Zebrik G'!B:I,8,0))","v":257},{"$f":"IF(ISERROR(VLOOKUP(B198,'N PMČR 2026'!B:G,6,0)),\"-\",VLOOKUP(B198,'N PMČR 2026'!B:G,6,0))","v":"-"}]
[197,"Petr Brezina",1963,"M","Frýdlant","CZ/M","AZ Cup 2025 - Klub",23,1184,3561,"DG 200 15m","AK","",{"$f":"IF(ISERROR(VLOOKUP(B199,'Zebrik G'!B:I,8,0)),\"-\",VLOOKUP(B199,'Zebrik G'!B:I,8,0))","v":220},{"$f":"IF(ISERROR(VLOOKUP(B199,'N PMČR 2026'!B:G,6,0)),\"-\",VLOOKUP(B199,'N PMČR 2026'!B:G,6,0))","v":"-"}]
[198,"Roman Michalek",1974,"M","Toužim","CZ/C1","Toužim Cup 2025 - Kombi",25,851,3478,"DG-400 17m","TK","",{"$f":"IF(ISERROR(VLOOKUP(B200,'Zebrik G'!B:I,8,0)),\"-\",VLOOKUP(B200,'Zebrik G'!B:I,8,0))","v":318},{"$f":"IF(ISERROR(VLOOKUP(B200,'N PMČR 2026'!B:G,6,0)),\"-\",VLOOKUP(B200,'N PMČR 2026'!B:G,6,0))","v":"-"}]
[199,"Petr Omelka",1970,"M","Vyškov","CZ/M","JPJ 2025 - Klub",25,1873,3434,"DG-400 15m","MR","",{"$f":"IF(ISERROR(VLOOKUP(B201,'Zebrik G'!B:I,8,0)),\"-\",VLOOKUP(B201,'Zebrik G'!B:I,8,0))","v":237},{"$f":"IF(ISERROR(VLOOKUP(B201,'N PMČR 2026'!B:G,6,0)),\"-\",VLOOKUP(B201,'N PMČR 2026'!B:G,6,0))","v":"-"}]
[200,"Jiri Janda",1966,"M","Letňany","CZ/C1","PPV 2025 - Klub",27,1475,3347,"ASW 20","TA","",{"$f":"IF(ISERROR(VLOOKUP(B202,'Zebrik G'!B:I,8,0)),\"-\",VLOOKUP(B202,'Zebrik G'!B:I,8,0))","v":278},{"$f":"IF(ISERROR(VLOOKUP(B202,'N PMČR 2026'!B:G,6,0)),\"-\",VLOOKUP(B202,'N PMČR 2026'!B:G,6,0))","v":"-"}]
[201,"Jaromir Vlk",1959,"M","Šumperk","CZ/M","JPJ 2025 - Klub",26,1821,3255,"ASW-15B","R5","",{"$f":"IF(ISERROR(VLOOKUP(B203,'Zebrik G'!B:I,8,0)),\"-\",VLOOKUP(B203,'Zebrik G'!B:I,8,0))","v":214},{"$f":"IF(ISERROR(VLOOKUP(B203,'N PMČR 2026'!B:G,6,0)),\"-\",VLOOKUP(B203,'N PMČR 2026'!B:G,6,0))","v":"-"}]
[201,"Lukas Petrzela",1987,"M","Olomouc","CZ/M","JPJ 2025 - Kombi Open",16,1952,3255,"Nimbus 2b","MT","",{"$f":"IF(ISERROR(VLOOKUP(B204,'Zebrik G'!B:I,8,0)),\"-\",VLOOKUP(B204,'Zebrik G'!B:I,8,0))","v":235},{"$f":"IF(ISERROR(VLOOKUP(B204,'N PMČR 2026'!B:G,6,0)),\"-\",VLOOKUP(B204,'N PMČR 2026'!B:G,6,0))","v":"-"}]
[203,"Karel Benisek 76",1976,"M","Toužim","CZ/C1","AZ Cup 2025 - Klub",24,1094,3210,"Janus c","DF","",{"$f":"IF(ISERROR(VLOOKUP(B205,'Zebrik G'!B:I,8,0)),\"-\",VLOOKUP(B205,'Zebrik G'!B:I,8,0))","v":161},{"$f":"IF(ISERROR(VLOOKUP(B205,'N PMČR 2026'!B:G,6,0)),\"-\",VLOOKUP(B205,'N PMČR 2026'!B:G,6,0))","v":"-"}]
[204,"Lubos Muknsnabl",1995,"M","Letkov","CZ/C1","Toužim Cup 2025 - Kombi",26,765,3118,"Nimbus 2 WL","LCN","",{"$f":"IF(ISERROR(VLOOKUP(B206,'Zebrik G'!B:I,8,0)),\"-\",VLOOKUP(B206,'Zebrik G'!B:I,8,0))","v":305},{"$f":"IF(ISERROR(VLOOKUP(B206,'N PMČR 2026'!B:G,6,0)),\"-\",VLOOKUP(B206,'N PMČR 2026'!B:G,6,0))","v":"-"}]
[205,"Jan Vacik",1977,"M","Staňkov","CZ/C1","Toužim Cup 2025 - Klub",20,728,3106,"Std. Cirrus",4,"",{"$f":"IF(ISERROR(VLOOKUP(B207,'Zebrik G'!B:I,8,0)),\"-\",VLOOKUP(B207,'Zebrik G'!B:I,8,0))","v":313},{"$f":"IF(ISERROR(VLOOKUP(B207,'N PMČR 2026'!B:G,6,0)),\"-\",VLOOKUP(B207,'N PMČR 2026'!B:G,6,0))","v":"-"}]
[206,"Peter Pirc",null,null,"AK Celje",null,"AZ Cup 2025 - Kombi Open",20,1176,3099,"HpH 304 eS 600 Kg","PX","Není v databázi",{"$f":"IF(ISERROR(VLOOKUP(B208,'Zebrik G'!B:I,8,0)),\"-\",VLOOKUP(B208,'Zebrik G'!B:I,8,0))","v":"-"},{"$f":"IF(ISERROR(VLOOKUP(B208,'N PMČR 2026'!B:G,6,0)),\"-\",VLOOKUP(B208,'N PMČR 2026'!B:G,6,0))","v":"-"}]
[207,"Petr Kolomaznik",{"$f":"VLOOKUP(B209,Pilot,2,0)","v":1981},{"$f":"VLOOKUP(B209,Pilot,5,0)","v":"M"},{"$f":"VLOOKUP(B209,Pilot,3,0)","v":"Šumperk"},{"$f":"VLOOKUP(B209,Pilot,4,0)","v":"CZ/M"},"JPJ 2025 - Kombi 15m",10,1937,3071,"Discus CS WL","VE","",{"$f":"IF(ISERROR(VLOOKUP(B209,'Zebrik G'!B:I,8,0)),\"-\",VLOOKUP(B209,'Zebrik G'!B:I,8,0))","v":178},{"$f":"IF(ISERROR(VLOOKUP(B209,'N PMČR 2026'!B:G,6,0)),\"-\",VLOOKUP(B209,'N PMČR 2026'!B:G,6,0))","v":"-"}]
[208,"Yvona Vyhnankova",{"$f":"VLOOKUP(B210,Pilot,2,0)","v":1963},{"$f":"VLOOKUP(B210,Pilot,5,0)","v":"F"},{"$f":"VLOOKUP(B210,Pilot,3,0)","v":"Olomouc"},{"$f":"VLOOKUP(B210,Pilot,4,0)","v":"CZ/M"},"JPJ 2025 - Klub",27,1756,3057,"ASW-15","YZ","",{"$f":"IF(ISERROR(VLOOKUP(B210,'Zebrik G'!B:I,8,0)),\"-\",VLOOKUP(B210,'Zebrik G'!B:I,8,0))","v":269},{"$f":"IF(ISERROR(VLOOKUP(B210,'N PMČR 2026'!B:G,6,0)),\"-\",VLOOKUP(B210,'N PMČR 2026'!B:G,6,0))","v":"-"}]
[209,"Radek Bares",{"$f":"VLOOKUP(B211,Pilot,2,0)","v":1963},{"$f":"VLOOKUP(B211,Pilot,5,0)","v":"M"},{"$f":"VLOOKUP(B211,Pilot,3,0)","v":"Jičín"},{"$f":"VLOOKUP(B211,Pilot,4,0)","v":"CZ/C2"},"PPV 2025 - Kombi",24,1432,3049,"Ventus c 17.6m","GE","",{"$f":"IF(ISERROR(VLOOKUP(B211,'Zebrik G'!B:I,8,0)),\"-\",VLOOKUP(B211,'Zebrik G'!B:I,8,0))","v":137},{"$f":"IF(ISERROR(VLOOKUP(B211,'N PMČR 2026'!B:G,6,0)),\"-\",VLOOKUP(B211,'N PMČR 2026'!B:G,6,0))","v":"-"}]
[210,"Anton Zelenaj",null,null,"Aeroklub Nové Zámky",null,"PPV 2025 - Kombi",25,1413,2903,"ASW 27","TZ","Není v databázi",{"$f":"IF(ISERROR(VLOOKUP(B212,'Zebrik G'!B:I,8,0)),\"-\",VLOOKUP(B212,'Zebrik G'!B:I,8,0))","v":"-"},{"$f":"IF(ISERROR(VLOOKUP(B212,'N PMČR 2026'!B:G,6,0)),\"-\",VLOOKUP(B212,'N PMČR 2026'!B:G,6,0))","v":"-"}]
[211,"Petra Ctibor",{"$f":"VLOOKUP(B213,Pilot,2,0)","v":1991},{"$f":"VLOOKUP(B213,Pilot,5,0)","v":"F"},{"$f":"VLOOKUP(B213,Pilot,3,0)","v":"Medlánky"},{"$f":"VLOOKUP(B213,Pilot,4,0)","v":"CZ/M"},"Toužim Cup 2025 - Klub",21,650,2730,"DG-300 Club ELAN (RG) (zatahovací podvozek)","ER","",{"$f":"IF(ISERROR(VLOOKUP(B213,'Zebrik G'!B:I,8,0)),\"-\",VLOOKUP(B213,'Zebrik G'!B:I,8,0))","v":387},{"$f":"IF(ISERROR(VLOOKUP(B213,'N PMČR 2026'!B:G,6,0)),\"-\",VLOOKUP(B213,'N PMČR 2026'!B:G,6,0))","v":"-"}]
[212,"Vaclav Petru",{"$f":"VLOOKUP(B214,Pilot,2,0)","v":1974},{"$f":"VLOOKUP(B214,Pilot,5,0)","v":"M"},{"$f":"VLOOKUP(B214,Pilot,3,0)","v":"Letňany"},{"$f":"VLOOKUP(B214,Pilot,4,0)","v":"CZ/C1"},"PPV 2025 - Klub",28,1208,2714,"Alpin T","AI","",{"$f":"IF(ISERROR(VLOOKUP(B214,'Zebrik G'!B:I,8,0)),\"-\",VLOOKUP(B214,'Zebrik G'!B:I,8,0))","v":243},{"$f":"IF(ISERROR(VLOOKUP(B214,'N PMČR 2026'!B:G,6,0)),\"-\",VLOOKUP(B214,'N PMČR 2026'!B:G,6,0))","v":"-"}]
[213,"David Kraus",{"$f":"VLOOKUP(B215,Pilot,2,0)","v":1990},{"$f":"VLOOKUP(B215,Pilot,5,0)","v":"M"},{"$f":"VLOOKUP(B215,Pilot,3,0)","v":"Olomouc"},{"$f":"VLOOKUP(B215,Pilot,4,0)","v":"CZ/M"},"JPJ 2025 - Klub",28,1573,2680,"G-104 Speed Astir II b","6X","",{"$f":"IF(ISERROR(VLOOKUP(B215,'Zebrik G'!B:I,8,0)),\"-\",VLOOKUP(B215,'Zebrik G'!B:I,8,0))","v":350},{"$f":"IF(ISERROR(VLOOKUP(B215,'N PMČR 2026'!B:G,6,0)),\"-\",VLOOKUP(B215,'N PMČR 2026'!B:G,6,0))","v":"-"}]
[214,"Martin Valenta",{"$f":"VLOOKUP(B216,Pilot,2,0)","v":1969},{"$f":"VLOOKUP(B216,Pilot,5,0)","v":"M"},{"$f":"VLOOKUP(B216,Pilot,3,0)","v":"Toužim"},{"$f":"VLOOKUP(B216,Pilot,4,0)","v":"CZ/C1"},"Toužim Cup 2025 - Klub",22,635,2561,"G-104 Speed Astir II b","Y3","",{"$f":"IF(ISERROR(VLOOKUP(B216,'Zebrik G'!B:I,8,0)),\"-\",VLOOKUP(B216,'Zebrik G'!B:I,8,0))","v":258},{"$f":"IF(ISERROR(VLOOKUP(B216,'N PMČR 2026'!B:G,6,0)),\"-\",VLOOKUP(B216,'N PMČR 2026'!B:G,6,0))","v":"-"}]
[215,"Jakubcak Kutlak",null,null,"SGC Martin",null,"AZ Cup 2025 - Kombi Open",21,1003,2516,"Arcus m","CAR","Není v databázi",{"$f":"IF(ISERROR(VLOOKUP(B217,'Zebrik G'!B:I,8,0)),\"-\",VLOOKUP(B217,'Zebrik G'!B:I,8,0))","v":"-"},{"$f":"IF(ISERROR(VLOOKUP(B217,'N PMČR 2026'!B:G,6,0)),\"-\",VLOOKUP(B217,'N PMČR 2026'!B:G,6,0))","v":"-"}]
[216,"Antonin Kutalek",{"$f":"VLOOKUP(B218,Pilot,2,0)","v":1943},{"$f":"VLOOKUP(B218,Pilot,5,0)","v":"M"},{"$f":"VLOOKUP(B218,Pilot,3,0)","v":"Zábřeh"},{"$f":"VLOOKUP(B218,Pilot,4,0)","v":"CZ/M"},"PPV 2025 - Kombi",26,1247,2490,"LAK-17A T 18m","GL","",{"$f":"IF(ISERROR(VLOOKUP(B218,'Zebrik G'!B:I,8,0)),\"-\",VLOOKUP(B218,'Zebrik G'!B:I,8,0))","v":219},{"$f":"IF(ISERROR(VLOOKUP(B218,'N PMČR 2026'!B:G,6,0)),\"-\",VLOOKUP(B218,'N PMČR 2026'!B:G,6,0))","v":"-"}]
[217,"Antonin Kutalek",1943,"M","Zábřeh","CZ/M","JPJ 2025 - Kombi Open",17,1542,2469,"LAK-17AT 18m","GL","",{"$f":"IF(ISERROR(VLOOKUP(B219,'Zebrik G'!B:I,8,0)),\"-\",VLOOKUP(B219,'Zebrik G'!B:I,8,0))","v":219},{"$f":"IF(ISERROR(VLOOKUP(B219,'N PMČR 2026'!B:G,6,0)),\"-\",VLOOKUP(B219,'N PMČR 2026'!B:G,6,0))","v":"-"}]
[218,"Josef Hlusek",1993,"M","Kunovice","CZ/M","JPJ 2025 - Klub",29,1449,2392,"Std. Cirrus","WO","",{"$f":"IF(ISERROR(VLOOKUP(B220,'Zebrik G'!B:I,8,0)),\"-\",VLOOKUP(B220,'Zebrik G'!B:I,8,0))","v":345},{"$f":"IF(ISERROR(VLOOKUP(B220,'N PMČR 2026'!B:G,6,0)),\"-\",VLOOKUP(B220,'N PMČR 2026'!B:G,6,0))","v":"-"}]
[218,"Jan Hruska",1988,"M","Tábor","CZ/C1","Toužim Cup 2025 - Klub",23,620,2392,"ASW-15B","LF","",{"$f":"IF(ISERROR(VLOOKUP(B221,'Zebrik G'!B:I,8,0)),\"-\",VLOOKUP(B221,'Zebrik G'!B:I,8,0))","v":47},{"$f":"IF(ISERROR(VLOOKUP(B221,'N PMČR 2026'!B:G,6,0)),\"-\",VLOOKUP(B221,'N PMČR 2026'!B:G,6,0))","v":77}]
[220,"Martin Marek",1967,"M","Roudnice","CZ/C2","PPV 2025 - Klub",29,1078,2354,"Std. Cirrus","2X","",{"$f":"IF(ISERROR(VLOOKUP(B222,'Zebrik G'!B:I,8,0)),\"-\",VLOOKUP(B222,'Zebrik G'!B:I,8,0))","v":394},{"$f":"IF(ISERROR(VLOOKUP(B222,'N PMČR 2026'!B:G,6,0)),\"-\",VLOOKUP(B222,'N PMČR 2026'!B:G,6,0))","v":"-"}]
[221,"Tomas Rendla",1973,"M","Zbraslavice","CZ/C1","Toužim Cup 2025 - Kombi",27,547,2346,"EB-29R","EX","",{"$f":"IF(ISERROR(VLOOKUP(B223,'Zebrik G'!B:I,8,0)),\"-\",VLOOKUP(B223,'Zebrik G'!B:I,8,0))","v":21},{"$f":"IF(ISERROR(VLOOKUP(B223,'N PMČR 2026'!B:G,6,0)),\"-\",VLOOKUP(B223,'N PMČR 2026'!B:G,6,0))","v":21}]
[222,"Martin Fric",1967,"M","Raná","CZ/C2","Toužim Cup 2025 - Klub",24,613,2249,"ASW-19B","FR","",{"$f":"IF(ISERROR(VLOOKUP(B224,'Zebrik G'!B:I,8,0)),\"-\",VLOOKUP(B224,'Zebrik G'!B:I,8,0))","v":191},{"$f":"IF(ISERROR(VLOOKUP(B224,'N PMČR 2026'!B:G,6,0)),\"-\",VLOOKUP(B224,'N PMČR 2026'!B:G,6,0))","v":"-"}]
[223,"Tomas Holenda",1956,"M","Havlíčkův Brod","CZ/C2","PPV 2025 - Klub",30,1033,2164,"VT-16 Orlic 2","LI","",{"$f":"IF(ISERROR(VLOOKUP(B225,'Zebrik G'!B:I,8,0)),\"-\",VLOOKUP(B225,'Zebrik G'!B:I,8,0))","v":315},{"$f":"IF(ISERROR(VLOOKUP(B225,'N PMČR 2026'!B:G,6,0)),\"-\",VLOOKUP(B225,'N PMČR 2026'!B:G,6,0))","v":"-"}]
[224,"Jiri Hodan",1959,"M","Zbraslavice","CZ/C1","AZ Cup 2025 - Klub",25,722,2121,"G 103 II","RB","",{"$f":"IF(ISERROR(VLOOKUP(B226,'Zebrik G'!B:I,8,0)),\"-\",VLOOKUP(B226,'Zebrik G'!B:I,8,0))","v":288},{"$f":"IF(ISERROR(VLOOKUP(B226,'N PMČR 2026'!B:G,6,0)),\"-\",VLOOKUP(B226,'N PMČR 2026'!B:G,6,0))","v":"-"}]
[225,"Aneta Chabora",null,null,"Leszno",null,"AZ Cup 2025 - Kombi 15m",16,881,1965,"ASW 27b WL","3W","Není v databázi",{"$f":"IF(ISERROR(VLOOKUP(B227,'Zebrik G'!B:I,8,0)),\"-\",VLOOKUP(B227,'Zebrik G'!B:I,8,0))","v":"-"},{"$f":"IF(ISERROR(VLOOKUP(B227,'N PMČR 2026'!B:G,6,0)),\"-\",VLOOKUP(B227,'N PMČR 2026'!B:G,6,0))","v":"-"}]
[226,"Petr Hotovy",{"$f":"VLOOKUP(B228,Pilot,2,0)","v":1958},{"$f":"VLOOKUP(B228,Pilot,5,0)","v":"M"},{"$f":"VLOOKUP(B228,Pilot,3,0)","v":"Česká Lípa"},{"$f":"VLOOKUP(B228,Pilot,4,0)","v":"CZ/C2"},"Toužim Cup 2025 - Kombi",28,429,1886,"HpH 304 TS Twin Shark MS (850 kg)","LP","",{"$f":"IF(ISERROR(VLOOKUP(B228,'Zebrik G'!B:I,8,0)),\"-\",VLOOKUP(B228,'Zebrik G'!B:I,8,0))","v":69},{"$f":"IF(ISERROR(VLOOKUP(B228,'N PMČR 2026'!B:G,6,0)),\"-\",VLOOKUP(B228,'N PMČR 2026'!B:G,6,0))","v":56}]
[227,"Ronald E. Sanders",null,null,"Outback Soaring",null,"PPV 2025 - Kombi",27,928,1799,"JS1 18m","GPS","Není v databázi",{"$f":"IF(ISERROR(VLOOKUP(B229,'Zebrik G'!B:I,8,0)),\"-\",VLOOKUP(B229,'Zebrik G'!B:I,8,0))","v":"-"},{"$f":"IF(ISERROR(VLOOKUP(B229,'N PMČR 2026'!B:G,6,0)),\"-\",VLOOKUP(B229,'N PMČR 2026'!B:G,6,0))","v":"-"}]
[228,"Roman Lanzendorf",{"$f":"VLOOKUP(B230,Pilot,2,0)","v":1964},{"$f":"VLOOKUP(B230,Pilot,5,0)","v":"M"},{"$f":"VLOOKUP(B230,Pilot,3,0)","v":"Letkov"},{"$f":"VLOOKUP(B230,Pilot,4,0)","v":"CZ/C1"},"Toužim Cup 2025 - Kombi",29,420,1767,"Duo Discus T (700kg)","ZS","",{"$f":"IF(ISERROR(VLOOKUP(B230,'Zebrik G'!B:I,8,0)),\"-\",VLOOKUP(B230,'Zebrik G'!B:I,8,0))","v":218},{"$f":"IF(ISERROR(VLOOKUP(B230,'N PMČR 2026'!B:G,6,0)),\"-\",VLOOKUP(B230,'N PMČR 2026'!B:G,6,0))","v":"-"}]
[229,"Jakub Safar",1990,"M","Olomouc","CZ/M","JPJ 2025 - Klub",30,1029,1657,"G-102 Astir cs","AX","",{"$f":"IF(ISERROR(VLOOKUP(B231,'Zebrik G'!B:I,8,0)),\"-\",VLOOKUP(B231,'Zebrik G'!B:I,8,0))","v":339},{"$f":"IF(ISERROR(VLOOKUP(B231,'N PMČR 2026'!B:G,6,0)),\"-\",VLOOKUP(B231,'N PMČR 2026'!B:G,6,0))","v":"-"}]
[230,"Ales Holoubek",1966,"M","Jičín","CZ/C2","AZ Cup 2025 - Klub",26,581,1636,"ASW 15b","T","",{"$f":"IF(ISERROR(VLOOKUP(B232,'Zebrik G'!B:I,8,0)),\"-\",VLOOKUP(B232,'Zebrik G'!B:I,8,0))","v":307},{"$f":"IF(ISERROR(VLOOKUP(B232,'N PMČR 2026'!B:G,6,0)),\"-\",VLOOKUP(B232,'N PMČR 2026'!B:G,6,0))","v":"-"}]
[231,"Zdenek Schenk",1972,"M","Hranice","CZ/M","Toužim Cup 2025 - Kombi",30,393,1592,"ASG-29E /18m","ŠNeK","",{"$f":"IF(ISERROR(VLOOKUP(B233,'Zebrik G'!B:I,8,0)),\"-\",VLOOKUP(B233,'Zebrik G'!B:I,8,0))","v":114},{"$f":"IF(ISERROR(VLOOKUP(B233,'N PMČR 2026'!B:G,6,0)),\"-\",VLOOKUP(B233,'N PMČR 2026'!B:G,6,0))","v":"-"}]
[232,"Marie Vesela",1999,"F","Staňkov","CZ/C1","Toužim Cup 2025 - Klub",25,447,1585,"Discus b","IJK","",{"$f":"IF(ISERROR(VLOOKUP(B234,'Zebrik G'!B:I,8,0)),\"-\",VLOOKUP(B234,'Zebrik G'!B:I,8,0))","v":360},{"$f":"IF(ISERROR(VLOOKUP(B234,'N PMČR 2026'!B:G,6,0)),\"-\",VLOOKUP(B234,'N PMČR 2026'!B:G,6,0))","v":"-"}]
[233,"Tomas Profeld",1964,"M","Jičín","CZ/C2","JPJ 2025 - Kombi Open",18,1010,1501,"Ventus 2cm 18m 525kg","OZ","",{"$f":"IF(ISERROR(VLOOKUP(B235,'Zebrik G'!B:I,8,0)),\"-\",VLOOKUP(B235,'Zebrik G'!B:I,8,0))","v":332},{"$f":"IF(ISERROR(VLOOKUP(B235,'N PMČR 2026'!B:G,6,0)),\"-\",VLOOKUP(B235,'N PMČR 2026'!B:G,6,0))","v":"-"}]
[234,"Vaclav Hruza",1965,"M","Břeclav","CZ/M","PPV 2025 - Kombi",28,813,1479,"HpH 304 TS Twin Shark","PH","",{"$f":"IF(ISERROR(VLOOKUP(B236,'Zebrik G'!B:I,8,0)),\"-\",VLOOKUP(B236,'Zebrik G'!B:I,8,0))","v":187},{"$f":"IF(ISERROR(VLOOKUP(B236,'N PMČR 2026'!B:G,6,0)),\"-\",VLOOKUP(B236,'N PMČR 2026'!B:G,6,0))","v":"-"}]
[235,"Antonin Kutalek",1943,"M","Zábřeh","CZ/M","Toužim Cup 2025 - Kombi",31,281,1151,"LAK 17 AT 18m","GL","",{"$f":"IF(ISERROR(VLOOKUP(B237,'Zebrik G'!B:I,8,0)),\"-\",VLOOKUP(B237,'Zebrik G'!B:I,8,0))","v":219},{"$f":"IF(ISERROR(VLOOKUP(B237,'N PMČR 2026'!B:G,6,0)),\"-\",VLOOKUP(B237,'N PMČR 2026'!B:G,6,0))","v":"-"}]
[236,"Jan Dersak 69",1969,"M","Kralupy","CZ/C1","Toužim Cup 2025 - Kombi",32,224,882,"HpH 304MS SHARK","DJ","",{"$f":"IF(ISERROR(VLOOKUP(B238,'Zebrik G'!B:I,8,0)),\"-\",VLOOKUP(B238,'Zebrik G'!B:I,8,0))","v":76},{"$f":"IF(ISERROR(VLOOKUP(B238,'N PMČR 2026'!B:G,6,0)),\"-\",VLOOKUP(B238,'N PMČR 2026'!B:G,6,0))","v":"-"}]
[237,"Beat Albrecht",1953,"M","Šumperk","CZ/M","JPJ 2025 - Kombi 15m",11,612,875,"LS-8-18 15m","GL","",{"$f":"IF(ISERROR(VLOOKUP(B239,'Zebrik G'!B:I,8,0)),\"-\",VLOOKUP(B239,'Zebrik G'!B:I,8,0))","v":247},{"$f":"IF(ISERROR(VLOOKUP(B239,'N PMČR 2026'!B:G,6,0)),\"-\",VLOOKUP(B239,'N PMČR 2026'!B:G,6,0))","v":"-"}]
[238,"Pavel Svrcek",1972,"M","Frýdlant","CZ/M","AZ Cup 2025 - Klub",27,252,660,"DG 400 17m","PS","",{"$f":"IF(ISERROR(VLOOKUP(B240,'Zebrik G'!B:I,8,0)),\"-\",VLOOKUP(B240,'Zebrik G'!B:I,8,0))","v":380},{"$f":"IF(ISERROR(VLOOKUP(B240,'N PMČR 2026'!B:G,6,0)),\"-\",VLOOKUP(B240,'N PMČR 2026'!B:G,6,0))","v":"-"}]
[239,"Petr Malcek",1965,"M","Letňany","CZ/C1","Toužim Cup 2025 - Kombi",33,105,419,"LS-6c /18m WL","F5","",{"$f":"IF(ISERROR(VLOOKUP(B241,'Zebrik G'!B:I,8,0)),\"-\",VLOOKUP(B241,'Zebrik G'!B:I,8,0))","v":211},{"$f":"IF(ISERROR(VLOOKUP(B241,'N PMČR 2026'!B:G,6,0)),\"-\",VLOOKUP(B241,'N PMČR 2026'!B:G,6,0))","v":"-"}]
[240,"Ales Valenta",1973,"M","Hořice","CZ/C2","PPV 2025 - Klub",31,209,418,"Std. Cirrus","W","",{"$f":"IF(ISERROR(VLOOKUP(B242,'Zebrik G'!B:I,8,0)),\"-\",VLOOKUP(B242,'Zebrik G'!B:I,8,0))","v":427},{"$f":"IF(ISERROR(VLOOKUP(B242,'N PMČR 2026'!B:G,6,0)),\"-\",VLOOKUP(B242,'N PMČR 2026'!B:G,6,0))","v":"-"}]
[241,"David Zapletal",1970,"M","Mladá Boleslav","CZ/C1","Toužim Cup 2025 - Kombi",34,93,291,"Ventus c /17,6m","PUP","",{"$f":"IF(ISERROR(VLOOKUP(B243,'Zebrik G'!B:I,8,0)),\"-\",VLOOKUP(B243,'Zebrik G'!B:I,8,0))","v":68},{"$f":"IF(ISERROR(VLOOKUP(B243,'N PMČR 2026'!B:G,6,0)),\"-\",VLOOKUP(B243,'N PMČR 2026'!B:G,6,0))","v":"-"}]
[241,"Frantisek Vancura",1966,"M","Hranice","CZ/M","Toužim Cup 2025 - Kombi",34,93,291,"HpH 304 TS Twin Shark S 850kg","FNC","",{"$f":"IF(ISERROR(VLOOKUP(B244,'Zebrik G'!B:I,8,0)),\"-\",VLOOKUP(B244,'Zebrik G'!B:I,8,0))","v":44},{"$f":"IF(ISERROR(VLOOKUP(B244,'N PMČR 2026'!B:G,6,0)),\"-\",VLOOKUP(B244,'N PMČR 2026'!B:G,6,0))","v":75}]
[243,"Tomas Jung",1950,"M","Zbraslavice","CZ/C1","Toužim Cup 2025 - Klub",26,23,75,"ASW-19B","O2","",{"$f":"IF(ISERROR(VLOOKUP(B245,'Zebrik G'!B:I,8,0)),\"-\",VLOOKUP(B245,'Zebrik G'!B:I,8,0))","v":279},{"$f":"IF(ISERROR(VLOOKUP(B245,'N PMČR 2026'!B:G,6,0)),\"-\",VLOOKUP(B245,'N PMČR 2026'!B:G,6,0))","v":"-"}]
[244,"Jan Sobotka",1973,"M","Vyškov","CZ/M","JPJ 2025 - Klub",31,0,0,"LS-1f","DP","",{"$f":"IF(ISERROR(VLOOKUP(B246,'Zebrik G'!B:I,8,0)),\"-\",VLOOKUP(B246,'Zebrik G'!B:I,8,0))","v":264},{"$f":"IF(ISERROR(VLOOKUP(B246,'N PMČR 2026'!B:G,6,0)),\"-\",VLOOKUP(B246,'N PMČR 2026'!B:G,6,0))","v":"-"}]

{"sheet":"N PMČR 2026","index":13,"n_rows":136,"n_cols":17,"rows_kept":136,"cut":false,"hidden":false,"merged":[[43,1,43,7],[9,1,9,7],[72,1,72,7],[133,1,133,7],[94,1,94,7],[135,1,135,7],[127,1,127,7],[131,1,131,7],[132,1,132,7],[128,1,128,7]]}
[null,"Nominace na PMČR",null,2026,null,null,null,"Kontrola:","Počet","Nominace","Počet","Nominace","Pořadí","M:","F:","M+F:"]
[null,null,null,null,null,null,null,null,"PMČR","PMČR","PMČRj","PMČRj","Žebřík 2025",{"$f":"COUNTIF(E:E,\"M\")","v":81},{"$f":"COUNTIF(E:E,\"F\")","v":14},{"$f":"N2+O2","v":95},"S náhradníky"]
["No","Jméno","Aeroklub","Rok narození","M/F","Junior","No",null,{"$f":"IF(COUNTIF(I4:I120,\"2\"),COUNTIF(I4:I120,\"2\"),\"\")","v":""},null,null,null,"Celkem řádně nominováno:",{"$f":"N2-COUNTIF(E67:E71,\"M\")-COUNTIF(E109:E118,\"M\")","v":67},{"$f":"O2-COUNTIF(E67:E71,\"F\")-COUNTIF(E109:E118,\"F\")","v":13},{"$f":"N3+O3","v":80},"Bez náhradníků"]
["6.6.5.","Nominace na PMČR - všeobecně (dle SŘ ZM11)"]
[null,"Na PMČR nominuje PK minimálně 80 pilotů/pilotek a příslušný počet náhradníků pro stanovená nominační kritéria."]
[null,"PMČR se mohou zúčastnit pouze soutěžící nominovaní dle jednotlivých bodů odstavců 6.6.6., 6.6.7. a 6.6.8."]
[null,"Pořadatel soutěže nemůže doplnit soutěžící na základě jiných kritérií."]
[]
["6.6.6.","Řádná nominace - Na PMČR jsou nominováni:"]
[null,"Všichni členové reprezentačního výběru (RV) ČR stanoveného pro daný soutěžní ročník (bez náhradníků):"]
[1,"Jan Pavlik",{"$f":"VLOOKUP(B11,Pilot!A:C,3,0)","v":"Křižanov"},{"$f":"VLOOKUP(B11,Pilot!A:B,2,0)","v":1987},{"$f":"VLOOKUP(B11,Pilot!A:E,5,0)","v":"M"},{"$f":"VLOOKUP(B11,Pilot!A:F,6,0)","v":""},{"$f":"A11","v":1},null,{"$f":"COUNTIF(B:B,B11)","v":1},{"$f":"IF(ISERROR(VLOOKUP(B11,B:G,6,0)),\"-\",VLOOKUP(B11,B:G,6,0))","v":1},{"$f":"IF(COUNTIF('N PMČRj 2026'!B:B,B11)=0,\"-\",COUNTIF('N PMČRj 2026'!B:B,B11))","v":"-"},{"$f":"IF(ISERROR(VLOOKUP(B11,'N PMČRj 2026'!B:G,6,0)),\"-\",VLOOKUP(B11,'N PMČRj 2026'!B:G,6,0))","v":"-"},{"$f":"IF(ISERROR(VLOOKUP(B11,'Zebrik G'!B:I,8,0)),\"-\",VLOOKUP(B11,'Zebrik G'!B:I,8,0))","v":1}]
[{"$f":"A11+1","v":2},"Tomas Suchanek",{"$f":"VLOOKUP(B12,Pilot!A:C,3,0)","v":"GAC Benešov"},{"$f":"VLOOKUP(B12,Pilot!A:B,2,0)","v":1964},{"$f":"VLOOKUP(B12,Pilot!A:E,5,0)","v":"M"},{"$f":"VLOOKUP(B12,Pilot!A:F,6,0)","v":""},{"$f":"A12","v":2},null,1,2,{"$f":"IF(COUNTIF('N PMČRj 2026'!B:B,B12)=0,\"-\",COUNTIF('N PMČRj 2026'!B:B,B12))","v":"-"},{"$f":"IF(ISERROR(VLOOKUP(B12,'N PMČRj 2026'!B:G,6,0)),\"-\",VLOOKUP(B12,'N PMČRj 2026'!B:G,6,0))","v":"-"},{"$f":"IF(ISERROR(VLOOKUP(B12,'Zebrik G'!B:I,8,0)),\"-\",VLOOKUP(B12,'Zebrik G'!B:I,8,0))","v":2}]
[{"$f":"A12+1","v":3},"Lukas Kriz",{"$f":"VLOOKUP(B13,Pilot!A:C,3,0)","v":"Křižanov"},{"$f":"VLOOKUP(B13,Pilot!A:B,2,0)","v":2003},{"$f":"VLOOKUP(B13,Pilot!A:E,5,0)","v":"M"},{"$f":"VLOOKUP(B13,Pilot!A:F,6,0)","v":"Junior v roce 2026"},3,null,1,3,{"$f":"IF(COUNTIF('N PMČRj 2026'!B:B,B13)=0,\"-\",COUNTIF('N PMČRj 2026'!B:B,B13))","v":1},{"$f":"IF(ISERROR(VLOOKUP(B13,'N PMČRj 2026'!B:G,6,0)),\"-\",VLOOKUP(B13,'N PMČRj 2026'!B:G,6,0))","v":1},{"$f":"IF(ISERROR(VLOOKUP(B13,'Zebrik G'!B:I,8,0)),\"-\",VLOOKUP(B13,'Zebrik G'!B:I,8,0))","v":3}]
[4,"Radek Krejcirik",{"$f":"VLOOKUP(B14,Pilot!A:C,3,0)","v":"Hranice"},{"$f":"VLOOKUP(B14,Pilot!A:B,2,0)","v":1991},{"$f":"VLOOKUP(B14,Pilot!A:E,5,0)","v":"M"},{"$f":"VLOOKUP(B14,Pilot!A:F,6,0)","v":""},4,null,1,4,{"$f":"IF(COUNTIF('N PMČRj 2026'!B:B,B14)=0,\"-\",COUNTIF('N PMČRj 2026'!B:B,B14))","v":"-"},{"$f":"IF(ISERROR(VLOOKUP(B14,'N PMČRj 2026'!B:G,6,0)),\"-\",VLOOKUP(B14,'N PMČRj 2026'!B:G,6,0))","v":"-"},{"$f":"IF(ISERROR(VLOOKUP(B14,'Zebrik G'!B:I,8,0)),\"-\",VLOOKUP(B14,'Zebrik G'!B:I,8,0))","v":4}]
[5,"Miloslav Cink",{"$f":"VLOOKUP(B15,Pilot!A:C,3,0)","v":"Letkov"},{"$f":"VLOOKUP(B15,Pilot!A:B,2,0)","v":1987},{"$f":"VLOOKUP(B15,Pilot!A:E,5,0)","v":"M"},{"$f":"VLOOKUP(B15,Pilot!A:F,6,0)","v":""},5,null,1,5,{"$f":"IF(COUNTIF('N PMČRj 2026'!B:B,B15)=0,\"-\",COUNTIF('N PMČRj 2026'!B:B,B15))","v":"-"},{"$f":"IF(ISERROR(VLOOKUP(B15,'N PMČRj 2026'!B:G,6,0)),\"-\",VLOOKUP(B15,'N PMČRj 2026'!B:G,6,0))","v":"-"},{"$f":"IF(ISERROR(VLOOKUP(B15,'Zebrik G'!B:I,8,0)),\"-\",VLOOKUP(B15,'Zebrik G'!B:I,8,0))","v":5}]
[6,"Jaroslav Tomana",{"$f":"VLOOKUP(B16,Pilot!A:C,3,0)","v":"Zbraslavice"},{"$f":"VLOOKUP(B16,Pilot!A:B,2,0)","v":1975},{"$f":"VLOOKUP(B16,Pilot!A:E,5,0)","v":"M"},{"$f":"VLOOKUP(B16,Pilot!A:F,6,0)","v":""},6,null,1,6,{"$f":"IF(COUNTIF('N PMČRj 2026'!B:B,B16)=0,\"-\",COUNTIF('N PMČRj 2026'!B:B,B16))","v":"-"},{"$f":"IF(ISERROR(VLOOKUP(B16,'N PMČRj 2026'!B:G,6,0)),\"-\",VLOOKUP(B16,'N PMČRj 2026'!B:G,6,0))","v":"-"},{"$f":"IF(ISERROR(VLOOKUP(B16,'Zebrik G'!B:I,8,0)),\"-\",VLOOKUP(B16,'Zebrik G'!B:I,8,0))","v":6}]
[7,"Jan Stastny",{"$f":"VLOOKUP(B17,Pilot!A:C,3,0)","v":"Medlánky"},{"$f":"VLOOKUP(B17,Pilot!A:B,2,0)","v":2003},{"$f":"VLOOKUP(B17,Pilot!A:E,5,0)","v":"M"},{"$f":"VLOOKUP(B17,Pilot!A:F,6,0)","v":"Junior v roce 2026"},7,null,1,7,{"$f":"IF(COUNTIF('N PMČRj 2026'!B:B,B17)=0,\"-\",COUNTIF('N PMČRj 2026'!B:B,B17))","v":1},{"$f":"IF(ISERROR(VLOOKUP(B17,'N PMČRj 2026'!B:G,6,0)),\"-\",VLOOKUP(B17,'N PMČRj 2026'!B:G,6,0))","v":2},{"$f":"IF(ISERROR(VLOOKUP(B17,'Zebrik G'!B:I,8,0)),\"-\",VLOOKUP(B17,'Zebrik G'!B:I,8,0))","v":7}]
[8,"Petr Tichy",{"$f":"VLOOKUP(B18,Pilot!A:C,3,0)","v":"Zbraslavice"},{"$f":"VLOOKUP(B18,Pilot!A:B,2,0)","v":1973},{"$f":"VLOOKUP(B18,Pilot!A:E,5,0)","v":"M"},{"$f":"VLOOKUP(B18,Pilot!A:F,6,0)","v":""},8,null,1,8,{"$f":"IF(COUNTIF('N PMČRj 2026'!B:B,B18)=0,\"-\",COUNTIF('N PMČRj 2026'!B:B,B18))","v":"-"},{"$f":"IF(ISERROR(VLOOKUP(B18,'N PMČRj 2026'!B:G,6,0)),\"-\",VLOOKUP(B18,'N PMČRj 2026'!B:G,6,0))","v":"-"},{"$f":"IF(ISERROR(VLOOKUP(B18,'Zebrik G'!B:I,8,0)),\"-\",VLOOKUP(B18,'Zebrik G'!B:I,8,0))","v":8}]
[9,"Michal Lesinger",{"$f":"VLOOKUP(B19,Pilot!A:C,3,0)","v":"Moravská Třebová"},{"$f":"VLOOKUP(B19,Pilot!A:B,2,0)","v":1966},{"$f":"VLOOKUP(B19,Pilot!A:E,5,0)","v":"M"},{"$f":"VLOOKUP(B19,Pilot!A:F,6,0)","v":""},9,null,1,9,{"$f":"IF(COUNTIF('N PMČRj 2026'!B:B,B19)=0,\"-\",COUNTIF('N PMČRj 2026'!B:B,B19))","v":"-"},{"$f":"IF(ISERROR(VLOOKUP(B19,'N PMČRj 2026'!B:G,6,0)),\"-\",VLOOKUP(B19,'N PMČRj 2026'!B:G,6,0))","v":"-"},{"$f":"IF(ISERROR(VLOOKUP(B19,'Zebrik G'!B:I,8,0)),\"-\",VLOOKUP(B19,'Zebrik G'!B:I,8,0))","v":9}]
[10,"Karel Novak",{"$f":"VLOOKUP(B20,Pilot!A:C,3,0)","v":"Mladá Boleslav"},{"$f":"VLOOKUP(B20,Pilot!A:B,2,0)","v":1993},{"$f":"VLOOKUP(B20,Pilot!A:E,5,0)","v":"M"},{"$f":"VLOOKUP(B20,Pilot!A:F,6,0)","v":""},{"$f":"A20","v":10},null,1,10,{"$f":"IF(COUNTIF('N PMČRj 2026'!B:B,B20)=0,\"-\",COUNTIF('N PMČRj 2026'!B:B,B20))","v":"-"},{"$f":"IF(ISERROR(VLOOKUP(B20,'N PMČRj 2026'!B:G,6,0)),\"-\",VLOOKUP(B20,'N PMČRj 2026'!B:G,6,0))","v":"-"},{"$f":"IF(ISERROR(VLOOKUP(B20,'Zebrik G'!B:I,8,0)),\"-\",VLOOKUP(B20,'Zebrik G'!B:I,8,0))","v":10}]
[11,"Pavel Trybenekr",{"$f":"VLOOKUP(B21,Pilot!A:C,3,0)","v":"Hořice"},{"$f":"VLOOKUP(B21,Pilot!A:B,2,0)","v":1990},{"$f":"VLOOKUP(B21,Pilot!A:E,5,0)","v":"M"},{"$f":"VLOOKUP(B21,Pilot!A:F,6,0)","v":""},11,null,1,11,{"$f":"IF(COUNTIF('N PMČRj 2026'!B:B,B21)=0,\"-\",COUNTIF('N PMČRj 2026'!B:B,B21))","v":"-"},{"$f":"IF(ISERROR(VLOOKUP(B21,'N PMČRj 2026'!B:G,6,0)),\"-\",VLOOKUP(B21,'N PMČRj 2026'!B:G,6,0))","v":"-"},{"$f":"IF(ISERROR(VLOOKUP(B21,'Zebrik G'!B:I,8,0)),\"-\",VLOOKUP(B21,'Zebrik G'!B:I,8,0))","v":11}]
[12,"Pavel Louzecky",{"$f":"VLOOKUP(B22,Pilot!A:C,3,0)","v":"Přibyslav"},{"$f":"VLOOKUP(B22,Pilot!A:B,2,0)","v":1957},{"$f":"VLOOKUP(B22,Pilot!A:E,5,0)","v":"M"},{"$f":"VLOOKUP(B22,Pilot!A:F,6,0)","v":""},12,null,1,12,{"$f":"IF(COUNTIF('N PMČRj 2026'!B:B,B22)=0,\"-\",COUNTIF('N PMČRj 2026'!B:B,B22))","v":"-"},{"$f":"IF(ISERROR(VLOOKUP(B22,'N PMČRj 2026'!B:G,6,0)),\"-\",VLOOKUP(B22,'N PMČRj 2026'!B:G,6,0))","v":"-"},{"$f":"IF(ISERROR(VLOOKUP(B22,'Zebrik G'!B:I,8,0)),\"-\",VLOOKUP(B22,'Zebrik G'!B:I,8,0))","v":12}]
[13,"Ivan Harasta 65",{"$f":"VLOOKUP(B23,Pilot!A:C,3,0)","v":"Toužim"},{"$f":"VLOOKUP(B23,Pilot!A:B,2,0)","v":1965},{"$f":"VLOOKUP(B23,Pilot!A:E,5,0)","v":"M"},{"$f":"VLOOKUP(B23,Pilot!A:F,6,0)","v":""},{"$f":"A23","v":13},null,1,13,{"$f":"IF(COUNTIF('N PMČRj 2026'!B:B,B23)=0,\"-\",COUNTIF('N PMČRj 2026'!B:B,B23))","v":"-"},{"$f":"IF(ISERROR(VLOOKUP(B23,'N PMČRj 2026'!B:G,6,0)),\"-\",VLOOKUP(B23,'N PMČRj 2026'!B:G,6,0))","v":"-"},{"$f":"IF(ISERROR(VLOOKUP(B23,'Zebrik G'!B:I,8,0)),\"-\",VLOOKUP(B23,'Zebrik G'!B:I,8,0))","v":13}]
[14,"Jiri Kusbach",{"$f":"VLOOKUP(B24,Pilot!A:C,3,0)","v":"Luhačovice"},{"$f":"VLOOKUP(B24,Pilot!A:B,2,0)","v":1959},{"$f":"VLOOKUP(B24,Pilot!A:E,5,0)","v":"M"},{"$f":"VLOOKUP(B24,Pilot!A:F,6,0)","v":""},14,null,1,14,{"$f":"IF(COUNTIF('N PMČRj 2026'!B:B,B24)=0,\"-\",COUNTIF('N PMČRj 2026'!B:B,B24))","v":"-"},{"$f":"IF(ISERROR(VLOOKUP(B24,'N PMČRj 2026'!B:G,6,0)),\"-\",VLOOKUP(B24,'N PMČRj 2026'!B:G,6,0))","v":"-"},{"$f":"IF(ISERROR(VLOOKUP(B24,'Zebrik G'!B:I,8,0)),\"-\",VLOOKUP(B24,'Zebrik G'!B:I,8,0))","v":14}]
[15,"Michaela Krizova",{"$f":"VLOOKUP(B25,Pilot!A:C,3,0)","v":"Přibyslav"},{"$f":"VLOOKUP(B25,Pilot!A:B,2,0)","v":2001},{"$f":"VLOOKUP(B25,Pilot!A:E,5,0)","v":"F"},{"$f":"VLOOKUP(B25,Pilot!A:F,6,0)","v":"Junior v roce 2026"},15,null,1,15,{"$f":"IF(COUNTIF('N PMČRj 2026'!B:B,B25)=0,\"-\",COUNTIF('N PMČRj 2026'!B:B,B25))","v":1},{"$f":"IF(ISERROR(VLOOKUP(B25,'N PMČRj 2026'!B:G,6,0)),\"-\",VLOOKUP(B25,'N PMČRj 2026'!B:G,6,0))","v":3},{"$f":"IF(ISERROR(VLOOKUP(B25,'Zebrik G'!B:I,8,0)),\"-\",VLOOKUP(B25,'Zebrik G'!B:I,8,0))","v":15}]
[16,"Petr Krejcirik",{"$f":"VLOOKUP(B26,Pilot!A:C,3,0)","v":"Hranice"},{"$f":"VLOOKUP(B26,Pilot!A:B,2,0)","v":1960},{"$f":"VLOOKUP(B26,Pilot!A:E,5,0)","v":"M"},{"$f":"VLOOKUP(B26,Pilot!A:F,6,0)","v":""},16,null,1,16,{"$f":"IF(COUNTIF('N PMČRj 2026'!B:B,B26)=0,\"-\",COUNTIF('N PMČRj 2026'!B:B,B26))","v":"-"},{"$f":"IF(ISERROR(VLOOKUP(B26,'N PMČRj 2026'!B:G,6,0)),\"-\",VLOOKUP(B26,'N PMČRj 2026'!B:G,6,0))","v":"-"},{"$f":"IF(ISERROR(VLOOKUP(B26,'Zebrik G'!B:I,8,0)),\"-\",VLOOKUP(B26,'Zebrik G'!B:I,8,0))","v":16}]
[17,"Hana Treslova",{"$f":"VLOOKUP(B27,Pilot!A:C,3,0)","v":"Raná"},{"$f":"VLOOKUP(B27,Pilot!A:B,2,0)","v":1991},{"$f":"VLOOKUP(B27,Pilot!A:E,5,0)","v":"F"},{"$f":"VLOOKUP(B27,Pilot!A:F,6,0)","v":""},17,null,1,17,{"$f":"IF(COUNTIF('N PMČRj 2026'!B:B,B27)=0,\"-\",COUNTIF('N PMČRj 2026'!B:B,B27))","v":"-"},{"$f":"IF(ISERROR(VLOOKUP(B27,'N PMČRj 2026'!B:G,6,0)),\"-\",VLOOKUP(B27,'N PMČRj 2026'!B:G,6,0))","v":"-"},{"$f":"IF(ISERROR(VLOOKUP(B27,'Zebrik G'!B:I,8,0)),\"-\",VLOOKUP(B27,'Zebrik G'!B:I,8,0))","v":17}]
[18,"Michaela Rendlova",{"$f":"VLOOKUP(B28,Pilot!A:C,3,0)","v":"Toužim"},{"$f":"VLOOKUP(B28,Pilot!A:B,2,0)","v":2004},{"$f":"VLOOKUP(B28,Pilot!A:E,5,0)","v":"F"},{"$f":"VLOOKUP(B28,Pilot!A:F,6,0)","v":"Junior v roce 2026"},18,null,1,18,{"$f":"IF(COUNTIF('N PMČRj 2026'!B:B,B28)=0,\"-\",COUNTIF('N PMČRj 2026'!B:B,B28))","v":1},{"$f":"IF(ISERROR(VLOOKUP(B28,'N PMČRj 2026'!B:G,6,0)),\"-\",VLOOKUP(B28,'N PMČRj 2026'!B:G,6,0))","v":4},{"$f":"IF(ISERROR(VLOOKUP(B28,'Zebrik G'!B:I,8,0)),\"-\",VLOOKUP(B28,'Zebrik G'!B:I,8,0))","v":18}]
[19,"Ivan Novak",{"$f":"VLOOKUP(B29,Pilot!A:C,3,0)","v":"Mladá Boleslav"},{"$f":"VLOOKUP(B29,Pilot!A:B,2,0)","v":1962},{"$f":"VLOOKUP(B29,Pilot!A:E,5,0)","v":"M"},{"$f":"VLOOKUP(B29,Pilot!A:F,6,0)","v":""},19,null,1,19,{"$f":"IF(COUNTIF('N PMČRj 2026'!B:B,B29)=0,\"-\",COUNTIF('N PMČRj 2026'!B:B,B29))","v":"-"},{"$f":"IF(ISERROR(VLOOKUP(B29,'N PMČRj 2026'!B:G,6,0)),\"-\",VLOOKUP(B29,'N PMČRj 2026'!B:G,6,0))","v":"-"},{"$f":"IF(ISERROR(VLOOKUP(B29,'Zebrik G'!B:I,8,0)),\"-\",VLOOKUP(B29,'Zebrik G'!B:I,8,0))","v":19}]
[20,"Vit Morkovsky",{"$f":"VLOOKUP(B30,Pilot!A:C,3,0)","v":"Polička"},{"$f":"VLOOKUP(B30,Pilot!A:B,2,0)","v":2000},{"$f":"VLOOKUP(B30,Pilot!A:E,5,0)","v":"M"},{"$f":"VLOOKUP(B30,Pilot!A:F,6,0)","v":""},20,null,1,20,{"$f":"IF(COUNTIF('N PMČRj 2026'!B:B,B30)=0,\"-\",COUNTIF('N PMČRj 2026'!B:B,B30))","v":"-"},{"$f":"IF(ISERROR(VLOOKUP(B30,'N PMČRj 2026'!B:G,6,0)),\"-\",VLOOKUP(B30,'N PMČRj 2026'!B:G,6,0))","v":"-"},{"$f":"IF(ISERROR(VLOOKUP(B30,'Zebrik G'!B:I,8,0)),\"-\",VLOOKUP(B30,'Zebrik G'!B:I,8,0))","v":20}]
[21,"Tomas Rendla",{"$f":"VLOOKUP(B31,Pilot!A:C,3,0)","v":"Zbraslavice"},{"$f":"VLOOKUP(B31,Pilot!A:B,2,0)","v":1973},{"$f":"VLOOKUP(B31,Pilot!A:E,5,0)","v":"M"},{"$f":"VLOOKUP(B31,Pilot!A:F,6,0)","v":""},21,null,1,21,{"$f":"IF(COUNTIF('N PMČRj 2026'!B:B,B31)=0,\"-\",COUNTIF('N PMČRj 2026'!B:B,B31))","v":"-"},{"$f":"IF(ISERROR(VLOOKUP(B31,'N PMČRj 2026'!B:G,6,0)),\"-\",VLOOKUP(B31,'N PMČRj 2026'!B:G,6,0))","v":"-"},{"$f":"IF(ISERROR(VLOOKUP(B31,'Zebrik G'!B:I,8,0)),\"-\",VLOOKUP(B31,'Zebrik G'!B:I,8,0))","v":21}]
[22,"Tereza Koubkova",{"$f":"VLOOKUP(B32,Pilot!A:C,3,0)","v":"Strakonice"},{"$f":"VLOOKUP(B32,Pilot!A:B,2,0)","v":1999},{"$f":"VLOOKUP(B32,Pilot!A:E,5,0)","v":"F"},{"$f":"VLOOKUP(B32,Pilot!A:F,6,0)","v":""},22,null,1,22,{"$f":"IF(COUNTIF('N PMČRj 2026'!B:B,B32)=0,\"-\",COUNTIF('N PMČRj 2026'!B:B,B32))","v":"-"},{"$f":"IF(ISERROR(VLOOKUP(B32,'N PMČRj 2026'!B:G,6,0)),\"-\",VLOOKUP(B32,'N PMČRj 2026'!B:G,6,0))","v":"-"},{"$f":"IF(ISERROR(VLOOKUP(B32,'Zebrik G'!B:I,8,0)),\"-\",VLOOKUP(B32,'Zebrik G'!B:I,8,0))","v":25}]
[23,"Tomas Hynek",{"$f":"VLOOKUP(B33,Pilot!A:C,3,0)","v":"Dvůr Králové"},{"$f":"VLOOKUP(B33,Pilot!A:B,2,0)","v":2002},{"$f":"VLOOKUP(B33,Pilot!A:E,5,0)","v":"M"},{"$f":"VLOOKUP(B33,Pilot!A:F,6,0)","v":"Junior v roce 2026"},23,null,1,23,{"$f":"IF(COUNTIF('N PMČRj 2026'!B:B,B33)=0,\"-\",COUNTIF('N PMČRj 2026'!B:B,B33))","v":1},{"$f":"IF(ISERROR(VLOOKUP(B33,'N PMČRj 2026'!B:G,6,0)),\"-\",VLOOKUP(B33,'N PMČRj 2026'!B:G,6,0))","v":5},{"$f":"IF(ISERROR(VLOOKUP(B33,'Zebrik G'!B:I,8,0)),\"-\",VLOOKUP(B33,'Zebrik G'!B:I,8,0))","v":26}]
[24,"Petr Masik",{"$f":"VLOOKUP(B34,Pilot!A:C,3,0)","v":"Zábřeh"},{"$f":"VLOOKUP(B34,Pilot!A:B,2,0)","v":2001},{"$f":"VLOOKUP(B34,Pilot!A:E,5,0)","v":"M"},{"$f":"VLOOKUP(B34,Pilot!A:F,6,0)","v":"Junior v roce 2026"},24,null,1,24,{"$f":"IF(COUNTIF('N PMČRj 2026'!B:B,B34)=0,\"-\",COUNTIF('N PMČRj 2026'!B:B,B34))","v":1},{"$f":"IF(ISERROR(VLOOKUP(B34,'N PMČRj 2026'!B:G,6,0)),\"-\",VLOOKUP(B34,'N PMČRj 2026'!B:G,6,0))","v":6},{"$f":"IF(ISERROR(VLOOKUP(B34,'Zebrik G'!B:I,8,0)),\"-\",VLOOKUP(B34,'Zebrik G'!B:I,8,0))","v":31}]
[25,"Alena Netusilova",{"$f":"VLOOKUP(B35,Pilot!A:C,3,0)","v":"Zbraslavice"},{"$f":"VLOOKUP(B35,Pilot!A:B,2,0)","v":1970},{"$f":"VLOOKUP(B35,Pilot!A:E,5,0)","v":"F"},{"$f":"VLOOKUP(B35,Pilot!A:F,6,0)","v":""},{"$f":"A35","v":25},null,1,25,{"$f":"IF(COUNTIF('N PMČRj 2026'!B:B,B35)=0,\"-\",COUNTIF('N PMČRj 2026'!B:B,B35))","v":"-"},{"$f":"IF(ISERROR(VLOOKUP(B35,'N PMČRj 2026'!B:G,6,0)),\"-\",VLOOKUP(B35,'N PMČRj 2026'!B:G,6,0))","v":"-"},{"$f":"IF(ISERROR(VLOOKUP(B35,'Zebrik G'!B:I,8,0)),\"-\",VLOOKUP(B35,'Zebrik G'!B:I,8,0))","v":43}]
[26,"Dana Novakova",{"$f":"VLOOKUP(B36,Pilot!A:C,3,0)","v":"Mladá Boleslav"},{"$f":"VLOOKUP(B36,Pilot!A:B,2,0)","v":1965},{"$f":"VLOOKUP(B36,Pilot!A:E,5,0)","v":"F"},{"$f":"VLOOKUP(B36,Pilot!A:F,6,0)","v":""},26,null,1,26,{"$f":"IF(COUNTIF('N PMČRj 2026'!B:B,B36)=0,\"-\",COUNTIF('N PMČRj 2026'!B:B,B36))","v":"-"},{"$f":"IF(ISERROR(VLOOKUP(B36,'N PMČRj 2026'!B:G,6,0)),\"-\",VLOOKUP(B36,'N PMČRj 2026'!B:G,6,0))","v":"-"},{"$f":"IF(ISERROR(VLOOKUP(B36,'Zebrik G'!B:I,8,0)),\"-\",VLOOKUP(B36,'Zebrik G'!B:I,8,0))","v":57}]
[27,"Barbora Moravcova",{"$f":"VLOOKUP(B37,Pilot!A:C,3,0)","v":"Zbraslavice"},{"$f":"VLOOKUP(B37,Pilot!A:B,2,0)","v":1994},{"$f":"VLOOKUP(B37,Pilot!A:E,5,0)","v":"F"},{"$f":"VLOOKUP(B37,Pilot!A:F,6,0)","v":""},27,null,1,27,{"$f":"IF(COUNTIF('N PMČRj 2026'!B:B,B37)=0,\"-\",COUNTIF('N PMČRj 2026'!B:B,B37))","v":"-"},{"$f":"IF(ISERROR(VLOOKUP(B37,'N PMČRj 2026'!B:G,6,0)),\"-\",VLOOKUP(B37,'N PMČRj 2026'!B:G,6,0))","v":"-"},{"$f":"IF(ISERROR(VLOOKUP(B37,'Zebrik G'!B:I,8,0)),\"-\",VLOOKUP(B37,'Zebrik G'!B:I,8,0))","v":62}]
[28,"Jana Treslova",{"$f":"VLOOKUP(B38,Pilot!A:C,3,0)","v":"Raná"},{"$f":"VLOOKUP(B38,Pilot!A:B,2,0)","v":1963},{"$f":"VLOOKUP(B38,Pilot!A:E,5,0)","v":"F"},{"$f":"VLOOKUP(B38,Pilot!A:F,6,0)","v":""},{"$f":"A38","v":28},null,1,28,{"$f":"IF(COUNTIF('N PMČRj 2026'!B:B,B38)=0,\"-\",COUNTIF('N PMČRj 2026'!B:B,B38))","v":"-"},{"$f":"IF(ISERROR(VLOOKUP(B38,'N PMČRj 2026'!B:G,6,0)),\"-\",VLOOKUP(B38,'N PMČRj 2026'!B:G,6,0))","v":"-"},{"$f":"IF(ISERROR(VLOOKUP(B38,'Zebrik G'!B:I,8,0)),\"-\",VLOOKUP(B38,'Zebrik G'!B:I,8,0))","v":64}]
[29,"Eliska Kudejova",{"$f":"VLOOKUP(B39,Pilot!A:C,3,0)","v":"Strakonice"},{"$f":"VLOOKUP(B39,Pilot!A:B,2,0)","v":2006},{"$f":"VLOOKUP(B39,Pilot!A:E,5,0)","v":"F"},{"$f":"VLOOKUP(B39,Pilot!A:F,6,0)","v":"Junior v roce 2026"},29,null,1,29,{"$f":"IF(COUNTIF('N PMČRj 2026'!B:B,B39)=0,\"-\",COUNTIF('N PMČRj 2026'!B:B,B39))","v":1},{"$f":"IF(ISERROR(VLOOKUP(B39,'N PMČRj 2026'!B:G,6,0)),\"-\",VLOOKUP(B39,'N PMČRj 2026'!B:G,6,0))","v":7},{"$f":"IF(ISERROR(VLOOKUP(B39,'Zebrik G'!B:I,8,0)),\"-\",VLOOKUP(B39,'Zebrik G'!B:I,8,0))","v":78}]
[30,"Katerina Vojtova",{"$f":"VLOOKUP(B40,Pilot!A:C,3,0)","v":"Slaný"},{"$f":"VLOOKUP(B40,Pilot!A:B,2,0)","v":1983},{"$f":"VLOOKUP(B40,Pilot!A:E,5,0)","v":"F"},{"$f":"VLOOKUP(B40,Pilot!A:F,6,0)","v":""},{"$f":"A40","v":30},null,1,30,{"$f":"IF(COUNTIF('N PMČRj 2026'!B:B,B40)=0,\"-\",COUNTIF('N PMČRj 2026'!B:B,B40))","v":"-"},{"$f":"IF(ISERROR(VLOOKUP(B40,'N PMČRj 2026'!B:G,6,0)),\"-\",VLOOKUP(B40,'N PMČRj 2026'!B:G,6,0))","v":"-"},{"$f":"IF(ISERROR(VLOOKUP(B40,'Zebrik G'!B:I,8,0)),\"-\",VLOOKUP(B40,'Zebrik G'!B:I,8,0))","v":84}]
[31,"Petra Piskata",{"$f":"VLOOKUP(B41,Pilot!A:C,3,0)","v":"Luhačovice"},{"$f":"VLOOKUP(B41,Pilot!A:B,2,0)","v":1989},{"$f":"VLOOKUP(B41,Pilot!A:E,5,0)","v":"F"},{"$f":"VLOOKUP(B41,Pilot!A:F,6,0)","v":""},31,null,1,31,{"$f":"IF(COUNTIF('N PMČRj 2026'!B:B,B41)=0,\"-\",COUNTIF('N PMČRj 2026'!B:B,B41))","v":"-"},{"$f":"IF(ISERROR(VLOOKUP(B41,'N PMČRj 2026'!B:G,6,0)),\"-\",VLOOKUP(B41,'N PMČRj 2026'!B:G,6,0))","v":"-"},{"$f":"IF(ISERROR(VLOOKUP(B41,'Zebrik G'!B:I,8,0)),\"-\",VLOOKUP(B41,'Zebrik G'!B:I,8,0))","v":200}]
[32,"Klara Teichmannova",{"$f":"VLOOKUP(B42,Pilot!A:C,3,0)","v":"Hronov"},{"$f":"VLOOKUP(B42,Pilot!A:B,2,0)","v":1993},{"$f":"VLOOKUP(B42,Pilot!A:E,5,0)","v":"F"},{"$f":"VLOOKUP(B42,Pilot!A:F,6,0)","v":""},32,null,1,32,{"$f":"IF(COUNTIF('N PMČRj 2026'!B:B,B42)=0,\"-\",COUNTIF('N PMČRj 2026'!B:B,B42))","v":"-"},{"$f":"IF(ISERROR(VLOOKUP(B42,'N PMČRj 2026'!B:G,6,0)),\"-\",VLOOKUP(B42,'N PMČRj 2026'!B:G,6,0))","v":"-"},{"$f":"IF(ISERROR(VLOOKUP(B42,'Zebrik G'!B:I,8,0)),\"-\",VLOOKUP(B42,'Zebrik G'!B:I,8,0))","v":322}]
[]
[null,"Další soutěžící, kteří se umístili v konečném pořadí na posledním platném PMČR ve své třídě nejhůře v první polovině celkového pořadí (bez náhradníků):",null,null,null,null,null,null,null,null,null,null,{"$f":"IF(ISERROR(VLOOKUP(B44,'Zebrik G'!B:I,8,0)),\"-\",VLOOKUP(B44,'Zebrik G'!B:I,8,0))","v":"-"}]
[null,"PMČR 2025 - Havlíčkův Brod - Klub",null,null,null,null,null,null,null,null,null,null,{"$f":"IF(ISERROR(VLOOKUP(B45,'Zebrik G'!B:I,8,0)),\"-\",VLOOKUP(B45,'Zebrik G'!B:I,8,0))","v":"-"}]
[{"$f":"MAX($A$11:A45)+1","v":33},"Jindrich Svorc",{"$f":"VLOOKUP(B46,Pilot!A:C,3,0)","v":"Letňany"},{"$f":"VLOOKUP(B46,Pilot!A:B,2,0)","v":1978},{"$f":"VLOOKUP(B46,Pilot!A:E,5,0)","v":"M"},{"$f":"VLOOKUP(B46,Pilot!A:F,6,0)","v":""},{"$f":"A46","v":33},null,{"$f":"COUNTIF(B:B,B46)","v":1},{"$f":"IF(ISERROR(VLOOKUP(B46,B:G,6,0)),\"-\",VLOOKUP(B46,B:G,6,0))","v":33},{"$f":"IF(COUNTIF('N PMČRj 2026'!B:B,B46)=0,\"-\",COUNTIF('N PMČRj 2026'!B:B,B46))","v":"-"},{"$f":"IF(ISERROR(VLOOKUP(B46,'N PMČRj 2026'!B:G,6,0)),\"-\",VLOOKUP(B46,'N PMČRj 2026'!B:G,6,0))","v":"-"},{"$f":"IF(ISERROR(VLOOKUP(B46,'Zebrik G'!B:I,8,0)),\"-\",VLOOKUP(B46,'Zebrik G'!B:I,8,0))","v":29}]
[{"$f":"A46+1","v":34},"Petr Hofman",{"$f":"VLOOKUP(B47,Pilot!A:C,3,0)","v":"Letňany"},{"$f":"VLOOKUP(B47,Pilot!A:B,2,0)","v":1984},{"$f":"VLOOKUP(B47,Pilot!A:E,5,0)","v":"M"},{"$f":"VLOOKUP(B47,Pilot!A:F,6,0)","v":""},{"$f":"A47","v":34},null,{"$f":"COUNTIF(B:B,B47)","v":1},{"$f":"IF(ISERROR(VLOOKUP(B47,B:G,6,0)),\"-\",VLOOKUP(B47,B:G,6,0))","v":34},{"$f":"IF(COUNTIF('N PMČRj 2026'!B:B,B47)=0,\"-\",COUNTIF('N PMČRj 2026'!B:B,B47))","v":"-"},{"$f":"IF(ISERROR(VLOOKUP(B47,'N PMČRj 2026'!B:G,6,0)),\"-\",VLOOKUP(B47,'N PMČRj 2026'!B:G,6,0))","v":"-"},{"$f":"IF(ISERROR(VLOOKUP(B47,'Zebrik G'!B:I,8,0)),\"-\",VLOOKUP(B47,'Zebrik G'!B:I,8,0))","v":39}]
[{"$f":"A47+1","v":35},"Milan Svoboda 80",{"$f":"VLOOKUP(B48,Pilot!A:C,3,0)","v":"Havlíčkův Brod"},{"$f":"VLOOKUP(B48,Pilot!A:B,2,0)","v":1980},{"$f":"VLOOKUP(B48,Pilot!A:E,5,0)","v":"M"},{"$f":"VLOOKUP(B48,Pilot!A:F,6,0)","v":""},{"$f":"A48","v":35},null,{"$f":"COUNTIF(B:B,B48)","v":1},{"$f":"IF(ISERROR(VLOOKUP(B48,B:G,6,0)),\"-\",VLOOKUP(B48,B:G,6,0))","v":35},{"$f":"IF(COUNTIF('N PMČRj 2026'!B:B,B48)=0,\"-\",COUNTIF('N PMČRj 2026'!B:B,B48))","v":"-"},{"$f":"IF(ISERROR(VLOOKUP(B48,'N PMČRj 2026'!B:G,6,0)),\"-\",VLOOKUP(B48,'N PMČRj 2026'!B:G,6,0))","v":"-"},{"$f":"IF(ISERROR(VLOOKUP(B48,'Zebrik G'!B:I,8,0)),\"-\",VLOOKUP(B48,'Zebrik G'!B:I,8,0))","v":58}]
[null,"PMČR 2025 - Havlíčkův Brod - Kombi 15m"]
[{"$f":"MAX($A$11:A49)+1","v":36},"Jan Kantor",{"$f":"VLOOKUP(B50,Pilot!A:C,3,0)","v":"Letňany"},{"$f":"VLOOKUP(B50,Pilot!A:B,2,0)","v":1983},{"$f":"VLOOKUP(B50,Pilot!A:E,5,0)","v":"M"},{"$f":"VLOOKUP(B50,Pilot!A:F,6,0)","v":""},{"$f":"A50","v":36},null,{"$f":"COUNTIF(B:B,B50)","v":1},{"$f":"IF(ISERROR(VLOOKUP(B50,B:G,6,0)),\"-\",VLOOKUP(B50,B:G,6,0))","v":36},{"$f":"IF(COUNTIF('N PMČRj 2026'!B:B,B50)=0,\"-\",COUNTIF('N PMČRj 2026'!B:B,B50))","v":"-"},{"$f":"IF(ISERROR(VLOOKUP(B50,'N PMČRj 2026'!B:G,6,0)),\"-\",VLOOKUP(B50,'N PMČRj 2026'!B:G,6,0))","v":"-"},{"$f":"IF(ISERROR(VLOOKUP(B50,'Zebrik G'!B:I,8,0)),\"-\",VLOOKUP(B50,'Zebrik G'!B:I,8,0))","v":40}]
[{"$f":"A50+1","v":37},"Petr Koutny",{"$f":"VLOOKUP(B51,Pilot!A:C,3,0)","v":"Křižanov"},{"$f":"VLOOKUP(B51,Pilot!A:B,2,0)","v":1971},{"$f":"VLOOKUP(B51,Pilot!A:E,5,0)","v":"M"},{"$f":"VLOOKUP(B51,Pilot!A:F,6,0)","v":""},{"$f":"A51","v":37},null,{"$f":"COUNTIF(B:B,B51)","v":1},{"$f":"IF(ISERROR(VLOOKUP(B51,B:G,6,0)),\"-\",VLOOKUP(B51,B:G,6,0))","v":37},{"$f":"IF(COUNTIF('N PMČRj 2026'!B:B,B51)=0,\"-\",COUNTIF('N PMČRj 2026'!B:B,B51))","v":"-"},{"$f":"IF(ISERROR(VLOOKUP(B51,'N PMČRj 2026'!B:G,6,0)),\"-\",VLOOKUP(B51,'N PMČRj 2026'!B:G,6,0))","v":"-"},{"$f":"IF(ISERROR(VLOOKUP(B51,'Zebrik G'!B:I,8,0)),\"-\",VLOOKUP(B51,'Zebrik G'!B:I,8,0))","v":32}]
[null,"PMČR 2025 - Havlíčkův Brod - Kombi Open",null,null,null,null,null,null,null,null,null,null,{"$f":"IF(ISERROR(VLOOKUP(B52,'Zebrik G'!B:I,8,0)),\"-\",VLOOKUP(B52,'Zebrik G'!B:I,8,0))","v":"-"}]
[{"$f":"MAX($A$11:A52)+1","v":38},"Martin Hrivna",{"$f":"VLOOKUP(B53,Pilot!A:C,3,0)","v":"Zbraslavice"},{"$f":"VLOOKUP(B53,Pilot!A:B,2,0)","v":1978},{"$f":"VLOOKUP(B53,Pilot!A:E,5,0)","v":"M"},{"$f":"VLOOKUP(B53,Pilot!A:F,6,0)","v":""},{"$f":"A53","v":38},null,{"$f":"COUNTIF(B:B,B53)","v":1},{"$f":"IF(ISERROR(VLOOKUP(B53,B:G,6,0)),\"-\",VLOOKUP(B53,B:G,6,0))","v":38},{"$f":"IF(COUNTIF('N PMČRj 2026'!B:B,B53)=0,\"-\",COUNTIF('N PMČRj 2026'!B:B,B53))","v":"-"},{"$f":"IF(ISERROR(VLOOKUP(B53,'N PMČRj 2026'!B:G,6,0)),\"-\",VLOOKUP(B53,'N PMČRj 2026'!B:G,6,0))","v":"-"},{"$f":"IF(ISERROR(VLOOKUP(B53,'Zebrik G'!B:I,8,0)),\"-\",VLOOKUP(B53,'Zebrik G'!B:I,8,0))","v":28}]
[{"$f":"A53+1","v":39},"Ondrej Dupal",{"$f":"VLOOKUP(B54,Pilot!A:C,3,0)","v":"GAC Benešov"},{"$f":"VLOOKUP(B54,Pilot!A:B,2,0)","v":1966},{"$f":"VLOOKUP(B54,Pilot!A:E,5,0)","v":"M"},{"$f":"VLOOKUP(B54,Pilot!A:F,6,0)","v":""},{"$f":"A54","v":39},null,1,39,{"$f":"IF(COUNTIF('N PMČRj 2026'!B:B,B54)=0,\"-\",COUNTIF('N PMČRj 2026'!B:B,B54))","v":"-"},{"$f":"IF(ISERROR(VLOOKUP(B54,'N PMČRj 2026'!B:G,6,0)),\"-\",VLOOKUP(B54,'N PMČRj 2026'!B:G,6,0))","v":"-"},{"$f":"IF(ISERROR(VLOOKUP(B54,'Zebrik G'!B:I,8,0)),\"-\",VLOOKUP(B54,'Zebrik G'!B:I,8,0))","v":23}]
[{"$f":"A54+1","v":40},"Radek Kucirek",{"$f":"VLOOKUP(B55,Pilot!A:C,3,0)","v":"Havlíčkův Brod"},{"$f":"VLOOKUP(B55,Pilot!A:B,2,0)","v":1973},{"$f":"VLOOKUP(B55,Pilot!A:E,5,0)","v":"M"},{"$f":"VLOOKUP(B55,Pilot!A:F,6,0)","v":""},40,null,1,40,{"$f":"IF(COUNTIF('N PMČRj 2026'!B:B,B55)=0,\"-\",COUNTIF('N PMČRj 2026'!B:B,B55))","v":"-"},{"$f":"IF(ISERROR(VLOOKUP(B55,'N PMČRj 2026'!B:G,6,0)),\"-\",VLOOKUP(B55,'N PMČRj 2026'!B:G,6,0))","v":"-"},{"$f":"IF(ISERROR(VLOOKUP(B55,'Zebrik G'!B:I,8,0)),\"-\",VLOOKUP(B55,'Zebrik G'!B:I,8,0))","v":27}]
[{"$f":"A55+1","v":41},"Ondrej Bordovsky",{"$f":"VLOOKUP(B56,Pilot!A:C,3,0)","v":"Krnov"},{"$f":"VLOOKUP(B56,Pilot!A:B,2,0)","v":1983},{"$f":"VLOOKUP(B56,Pilot!A:E,5,0)","v":"M"},{"$f":"VLOOKUP(B56,Pilot!A:F,6,0)","v":""},{"$f":"A56","v":41},null,1,41,{"$f":"IF(COUNTIF('N PMČRj 2026'!B:B,B56)=0,\"-\",COUNTIF('N PMČRj 2026'!B:B,B56))","v":"-"},{"$f":"IF(ISERROR(VLOOKUP(B56,'N PMČRj 2026'!B:G,6,0)),\"-\",VLOOKUP(B56,'N PMČRj 2026'!B:G,6,0))","v":"-"},{"$f":"IF(ISERROR(VLOOKUP(B56,'Zebrik G'!B:I,8,0)),\"-\",VLOOKUP(B56,'Zebrik G'!B:I,8,0))","v":33}]
[42,"Jan Kotan",{"$f":"VLOOKUP(B57,Pilot!A:C,3,0)","v":"Letňany"},{"$f":"VLOOKUP(B57,Pilot!A:B,2,0)","v":1982},{"$f":"VLOOKUP(B57,Pilot!A:E,5,0)","v":"M"},{"$f":"VLOOKUP(B57,Pilot!A:F,6,0)","v":""},42,null,1,42,{"$f":"IF(COUNTIF('N PMČRj 2026'!B:B,B57)=0,\"-\",COUNTIF('N PMČRj 2026'!B:B,B57))","v":"-"},{"$f":"IF(ISERROR(VLOOKUP(B57,'N PMČRj 2026'!B:G,6,0)),\"-\",VLOOKUP(B57,'N PMČRj 2026'!B:G,6,0))","v":"-"},{"$f":"IF(ISERROR(VLOOKUP(B57,'Zebrik G'!B:I,8,0)),\"-\",VLOOKUP(B57,'Zebrik G'!B:I,8,0))","v":22}]
[43,"Jan Boruvka",{"$f":"VLOOKUP(B58,Pilot!A:C,3,0)","v":"Jičín"},{"$f":"VLOOKUP(B58,Pilot!A:B,2,0)","v":1984},{"$f":"VLOOKUP(B58,Pilot!A:E,5,0)","v":"M"},{"$f":"VLOOKUP(B58,Pilot!A:F,6,0)","v":""},43,null,1,43,{"$f":"IF(COUNTIF('N PMČRj 2026'!B:B,B58)=0,\"-\",COUNTIF('N PMČRj 2026'!B:B,B58))","v":"-"},{"$f":"IF(ISERROR(VLOOKUP(B58,'N PMČRj 2026'!B:G,6,0)),\"-\",VLOOKUP(B58,'N PMČRj 2026'!B:G,6,0))","v":"-"},{"$f":"IF(ISERROR(VLOOKUP(B58,'Zebrik G'!B:I,8,0)),\"-\",VLOOKUP(B58,'Zebrik G'!B:I,8,0))","v":34}]
[]
[null,"Prvních 5 soutěžících z posledního platného PMČRj mimo RV (+ 5 náhradníků):"]
[null,"PMČRj 2025 - Strakonice - Klub"]
[{"$f":"MAX($A$11:A61)+1","v":44},"Stepan Filakovsky",{"$f":"VLOOKUP(B62,Pilot!A:C,3,0)","v":"Medlánky"},{"$f":"VLOOKUP(B62,Pilot!A:B,2,0)","v":2005},{"$f":"VLOOKUP(B62,Pilot!A:E,5,0)","v":"M"},{"$f":"VLOOKUP(B62,Pilot!A:F,6,0)","v":"Junior v roce 2026"},{"$f":"A62","v":44},null,{"$f":"COUNTIF(B:B,B62)","v":1},{"$f":"IF(ISERROR(VLOOKUP(B62,B:G,6,0)),\"-\",VLOOKUP(B62,B:G,6,0))","v":44},{"$f":"IF(COUNTIF('N PMČRj 2026'!B:B,B62)=0,\"-\",COUNTIF('N PMČRj 2026'!B:B,B62))","v":1},{"$f":"IF(ISERROR(VLOOKUP(B62,'N PMČRj 2026'!B:G,6,0)),\"-\",VLOOKUP(B62,'N PMČRj 2026'!B:G,6,0))","v":8},{"$f":"IF(ISERROR(VLOOKUP(B62,'Zebrik G'!B:I,8,0)),\"-\",VLOOKUP(B62,'Zebrik G'!B:I,8,0))","v":61}]
[{"$f":"A62+1","v":45},"Alex Gulich",{"$f":"VLOOKUP(B63,Pilot!A:C,3,0)","v":"Slaný"},{"$f":"VLOOKUP(B63,Pilot!A:B,2,0)","v":2005},{"$f":"VLOOKUP(B63,Pilot!A:E,5,0)","v":"M"},{"$f":"VLOOKUP(B63,Pilot!A:F,6,0)","v":"Junior v roce 2026"},45,null,1,45,{"$f":"IF(COUNTIF('N PMČRj 2026'!B:B,B63)=0,\"-\",COUNTIF('N PMČRj 2026'!B:B,B63))","v":1},{"$f":"IF(ISERROR(VLOOKUP(B63,'N PMČRj 2026'!B:G,6,0)),\"-\",VLOOKUP(B63,'N PMČRj 2026'!B:G,6,0))","v":9},{"$f":"IF(ISERROR(VLOOKUP(B63,'Zebrik G'!B:I,8,0)),\"-\",VLOOKUP(B63,'Zebrik G'!B:I,8,0))","v":60}]
[{"$f":"A63+1","v":46},"Vojtech Vach 03",{"$f":"VLOOKUP(B64,Pilot!A:C,3,0)","v":"Vrchlabí"},{"$f":"VLOOKUP(B64,Pilot!A:B,2,0)","v":2003},{"$f":"VLOOKUP(B64,Pilot!A:E,5,0)","v":"M"},{"$f":"VLOOKUP(B64,Pilot!A:F,6,0)","v":"Junior v roce 2026"},46,null,1,46,{"$f":"IF(COUNTIF('N PMČRj 2026'!B:B,B64)=0,\"-\",COUNTIF('N PMČRj 2026'!B:B,B64))","v":1},{"$f":"IF(ISERROR(VLOOKUP(B64,'N PMČRj 2026'!B:G,6,0)),\"-\",VLOOKUP(B64,'N PMČRj 2026'!B:G,6,0))","v":10},{"$f":"IF(ISERROR(VLOOKUP(B64,'Zebrik G'!B:I,8,0)),\"-\",VLOOKUP(B64,'Zebrik G'!B:I,8,0))","v":93}]
[{"$f":"A64+1","v":47},"Lukas Volek",{"$f":"VLOOKUP(B65,Pilot!A:C,3,0)","v":"Hodkovice"},{"$f":"VLOOKUP(B65,Pilot!A:B,2,0)","v":2004},{"$f":"VLOOKUP(B65,Pilot!A:E,5,0)","v":"M"},{"$f":"VLOOKUP(B65,Pilot!A:F,6,0)","v":"Junior v roce 2026"},47,null,1,47,{"$f":"IF(COUNTIF('N PMČRj 2026'!B:B,B65)=0,\"-\",COUNTIF('N PMČRj 2026'!B:B,B65))","v":1},{"$f":"IF(ISERROR(VLOOKUP(B65,'N PMČRj 2026'!B:G,6,0)),\"-\",VLOOKUP(B65,'N PMČRj 2026'!B:G,6,0))","v":11},{"$f":"IF(ISERROR(VLOOKUP(B65,'Zebrik G'!B:I,8,0)),\"-\",VLOOKUP(B65,'Zebrik G'!B:I,8,0))","v":173}]
[{"$f":"A65+1","v":48},"Ivan Morkovsky",{"$f":"VLOOKUP(B66,Pilot!A:C,3,0)","v":"Polička"},{"$f":"VLOOKUP(B66,Pilot!A:B,2,0)","v":2008},{"$f":"VLOOKUP(B66,Pilot!A:E,5,0)","v":"M"},{"$f":"VLOOKUP(B66,Pilot!A:F,6,0)","v":"Junior v roce 2026"},48,null,1,48,{"$f":"IF(COUNTIF('N PMČRj 2026'!B:B,B66)=0,\"-\",COUNTIF('N PMČRj 2026'!B:B,B66))","v":1},{"$f":"IF(ISERROR(VLOOKUP(B66,'N PMČRj 2026'!B:G,6,0)),\"-\",VLOOKUP(B66,'N PMČRj 2026'!B:G,6,0))","v":12},{"$f":"IF(ISERROR(VLOOKUP(B66,'Zebrik G'!B:I,8,0)),\"-\",VLOOKUP(B66,'Zebrik G'!B:I,8,0))","v":199}]
["N1","Katerina Vancurova",{"$f":"VLOOKUP(B67,Pilot!A:C,3,0)","v":"Hranice"},{"$f":"VLOOKUP(B67,Pilot!A:B,2,0)","v":2002},{"$f":"VLOOKUP(B67,Pilot!A:E,5,0)","v":"F"},{"$f":"VLOOKUP(B67,Pilot!A:F,6,0)","v":"Junior v roce 2026"},"N1",null,1,"N1",{"$f":"IF(COUNTIF('N PMČRj 2026'!B:B,B67)=0,\"-\",COUNTIF('N PMČRj 2026'!B:B,B67))","v":1},{"$f":"IF(ISERROR(VLOOKUP(B67,'N PMČRj 2026'!B:G,6,0)),\"-\",VLOOKUP(B67,'N PMČRj 2026'!B:G,6,0))","v":13},{"$f":"IF(ISERROR(VLOOKUP(B67,'Zebrik G'!B:I,8,0)),\"-\",VLOOKUP(B67,'Zebrik G'!B:I,8,0))","v":142}]
["N2","Stepan Bartos",{"$f":"VLOOKUP(B68,Pilot!A:C,3,0)","v":"Kolín"},{"$f":"VLOOKUP(B68,Pilot!A:B,2,0)","v":2004},{"$f":"VLOOKUP(B68,Pilot!A:E,5,0)","v":"M"},{"$f":"VLOOKUP(B68,Pilot!A:F,6,0)","v":"Junior v roce 2026"},"N2",null,1,"N2",{"$f":"IF(COUNTIF('N PMČRj 2026'!B:B,B68)=0,\"-\",COUNTIF('N PMČRj 2026'!B:B,B68))","v":1},{"$f":"IF(ISERROR(VLOOKUP(B68,'N PMČRj 2026'!B:G,6,0)),\"-\",VLOOKUP(B68,'N PMČRj 2026'!B:G,6,0))","v":14},{"$f":"IF(ISERROR(VLOOKUP(B68,'Zebrik G'!B:I,8,0)),\"-\",VLOOKUP(B68,'Zebrik G'!B:I,8,0))","v":46}]
["N3","Vojtech Pavek",{"$f":"VLOOKUP(B69,Pilot!A:C,3,0)","v":"Medlánky"},{"$f":"VLOOKUP(B69,Pilot!A:B,2,0)","v":2000},{"$f":"VLOOKUP(B69,Pilot!A:E,5,0)","v":"M"},{"$f":"VLOOKUP(B69,Pilot!A:F,6,0)","v":""},"N3",null,1,"N3",{"$f":"IF(COUNTIF('N PMČRj 2026'!B:B,B69)=0,\"-\",COUNTIF('N PMČRj 2026'!B:B,B69))","v":"-"},{"$f":"IF(ISERROR(VLOOKUP(B69,'N PMČRj 2026'!B:G,6,0)),\"-\",VLOOKUP(B69,'N PMČRj 2026'!B:G,6,0))","v":"-"},{"$f":"IF(ISERROR(VLOOKUP(B69,'Zebrik G'!B:I,8,0)),\"-\",VLOOKUP(B69,'Zebrik G'!B:I,8,0))","v":169}]
["N4","Jakub Sachl",{"$f":"VLOOKUP(B70,Pilot!A:C,3,0)","v":"Kralupy"},{"$f":"VLOOKUP(B70,Pilot!A:B,2,0)","v":2006},{"$f":"VLOOKUP(B70,Pilot!A:E,5,0)","v":"M"},{"$f":"VLOOKUP(B70,Pilot!A:F,6,0)","v":"Junior v roce 2026"},"N4",null,1,"N4",{"$f":"IF(COUNTIF('N PMČRj 2026'!B:B,B70)=0,\"-\",COUNTIF('N PMČRj 2026'!B:B,B70))","v":"-"},{"$f":"IF(ISERROR(VLOOKUP(B70,'N PMČRj 2026'!B:G,6,0)),\"-\",VLOOKUP(B70,'N PMČRj 2026'!B:G,6,0))","v":"-"},{"$f":"IF(ISERROR(VLOOKUP(B70,'Zebrik G'!B:I,8,0)),\"-\",VLOOKUP(B70,'Zebrik G'!B:I,8,0))","v":268}]
["N5","Jan Svestka",{"$f":"VLOOKUP(B71,Pilot!A:C,3,0)","v":"Křižanov"},{"$f":"VLOOKUP(B71,Pilot!A:B,2,0)","v":2005},{"$f":"VLOOKUP(B71,Pilot!A:E,5,0)","v":"M"},{"$f":"VLOOKUP(B71,Pilot!A:F,6,0)","v":"Junior v roce 2026"},"N5",null,1,"N5",{"$f":"IF(COUNTIF('N PMČRj 2026'!B:B,B71)=0,\"-\",COUNTIF('N PMČRj 2026'!B:B,B71))","v":"-"},{"$f":"IF(ISERROR(VLOOKUP(B71,'N PMČRj 2026'!B:G,6,0)),\"-\",VLOOKUP(B71,'N PMČRj 2026'!B:G,6,0))","v":"-"},{"$f":"IF(ISERROR(VLOOKUP(B71,'Zebrik G'!B:I,8,0)),\"-\",VLOOKUP(B71,'Zebrik G'!B:I,8,0))","v":164}]
[]
[null,"Ostatní soutěžící z posledního platného PMRg v pořadí podle umístění, do naplnění celkového počtu nominovaných dle 6.6.5. (+ 10 náhradníků).\nJe-li PMRg pořádáno ve více třídách, a/nebo ve více regionech, pak jsou na PMČR nominováni soutěžící podle korigovaných bodů z jednotlivých tříd/regionů do naplnění celkového počtu nominovaných dle 6.6.5.\nV případě neplatnosti některé ze soutěžních tříd posledního PMRg budou pro výpočet korigovaných bodů použity výsledky z posledního platného PMRg v dané třídě:"]
[null,"PMRg 2025 - Strakonice - Korigované body"]
[{"$f":"MAX($A$11:A74)+1","v":49},"Lukas Capek",{"$f":"VLOOKUP(B75,Pilot!A:C,3,0)","v":"Letňany"},{"$f":"VLOOKUP(B75,Pilot!A:B,2,0)","v":1992},{"$f":"VLOOKUP(B75,Pilot!A:E,5,0)","v":"M"},{"$f":"VLOOKUP(B75,Pilot!A:F,6,0)","v":""},{"$f":"A75","v":49},null,{"$f":"COUNTIF(B:B,B75)","v":1},{"$f":"IF(ISERROR(VLOOKUP(B75,B:G,6,0)),\"-\",VLOOKUP(B75,B:G,6,0))","v":49},{"$f":"IF(COUNTIF('N PMČRj 2026'!B:B,B75)=0,\"-\",COUNTIF('N PMČRj 2026'!B:B,B75))","v":"-"},{"$f":"IF(ISERROR(VLOOKUP(B75,'N PMČRj 2026'!B:G,6,0)),\"-\",VLOOKUP(B75,'N PMČRj 2026'!B:G,6,0))","v":"-"},{"$f":"IF(ISERROR(VLOOKUP(B75,'Zebrik G'!B:I,8,0)),\"-\",VLOOKUP(B75,'Zebrik G'!B:I,8,0))","v":38}]
[{"$f":"A75+1","v":50},"Jan Zapletal",{"$f":"VLOOKUP(B76,Pilot!A:C,3,0)","v":"Břeclav"},{"$f":"VLOOKUP(B76,Pilot!A:B,2,0)","v":1997},{"$f":"VLOOKUP(B76,Pilot!A:E,5,0)","v":"M"},{"$f":"VLOOKUP(B76,Pilot!A:F,6,0)","v":""},{"$f":"A76","v":50},null,1,50,{"$f":"IF(COUNTIF('N PMČRj 2026'!B:B,B76)=0,\"-\",COUNTIF('N PMČRj 2026'!B:B,B76))","v":"-"},{"$f":"IF(ISERROR(VLOOKUP(B76,'N PMČRj 2026'!B:G,6,0)),\"-\",VLOOKUP(B76,'N PMČRj 2026'!B:G,6,0))","v":"-"},{"$f":"IF(ISERROR(VLOOKUP(B76,'Zebrik G'!B:I,8,0)),\"-\",VLOOKUP(B76,'Zebrik G'!B:I,8,0))","v":209}]
[{"$f":"A76+1","v":51},"Josef Beran",{"$f":"VLOOKUP(B77,Pilot!A:C,3,0)","v":"Slaný"},{"$f":"VLOOKUP(B77,Pilot!A:B,2,0)","v":1982},{"$f":"VLOOKUP(B77,Pilot!A:E,5,0)","v":"M"},{"$f":"VLOOKUP(B77,Pilot!A:F,6,0)","v":""},51,null,1,51,{"$f":"IF(COUNTIF('N PMČRj 2026'!B:B,B77)=0,\"-\",COUNTIF('N PMČRj 2026'!B:B,B77))","v":"-"},{"$f":"IF(ISERROR(VLOOKUP(B77,'N PMČRj 2026'!B:G,6,0)),\"-\",VLOOKUP(B77,'N PMČRj 2026'!B:G,6,0))","v":"-"},{"$f":"IF(ISERROR(VLOOKUP(B77,'Zebrik G'!B:I,8,0)),\"-\",VLOOKUP(B77,'Zebrik G'!B:I,8,0))","v":117}]
[52,"David Sachl",{"$f":"VLOOKUP(B78,Pilot!A:C,3,0)","v":"Kralupy"},{"$f":"VLOOKUP(B78,Pilot!A:B,2,0)","v":1978},{"$f":"VLOOKUP(B78,Pilot!A:E,5,0)","v":"M"},{"$f":"VLOOKUP(B78,Pilot!A:F,6,0)","v":""},52,null,1,52,{"$f":"IF(COUNTIF('N PMČRj 2026'!B:B,B78)=0,\"-\",COUNTIF('N PMČRj 2026'!B:B,B78))","v":"-"},{"$f":"IF(ISERROR(VLOOKUP(B78,'N PMČRj 2026'!B:G,6,0)),\"-\",VLOOKUP(B78,'N PMČRj 2026'!B:G,6,0))","v":"-"},{"$f":"IF(ISERROR(VLOOKUP(B78,'Zebrik G'!B:I,8,0)),\"-\",VLOOKUP(B78,'Zebrik G'!B:I,8,0))","v":71}]
[53,"Premysl Muzik",{"$f":"VLOOKUP(B79,Pilot!A:C,3,0)","v":"Tábor"},{"$f":"VLOOKUP(B79,Pilot!A:B,2,0)","v":1990},{"$f":"VLOOKUP(B79,Pilot!A:E,5,0)","v":"M"},{"$f":"VLOOKUP(B79,Pilot!A:F,6,0)","v":""},53,null,1,53,{"$f":"IF(COUNTIF('N PMČRj 2026'!B:B,B79)=0,\"-\",COUNTIF('N PMČRj 2026'!B:B,B79))","v":"-"},{"$f":"IF(ISERROR(VLOOKUP(B79,'N PMČRj 2026'!B:G,6,0)),\"-\",VLOOKUP(B79,'N PMČRj 2026'!B:G,6,0))","v":"-"},{"$f":"IF(ISERROR(VLOOKUP(B79,'Zebrik G'!B:I,8,0)),\"-\",VLOOKUP(B79,'Zebrik G'!B:I,8,0))","v":153}]
[54,"Radek Zima 78",{"$f":"VLOOKUP(B80,Pilot!A:C,3,0)","v":"Hodkovice"},{"$f":"VLOOKUP(B80,Pilot!A:B,2,0)","v":1978},{"$f":"VLOOKUP(B80,Pilot!A:E,5,0)","v":"M"},{"$f":"VLOOKUP(B80,Pilot!A:F,6,0)","v":""},54,null,1,54,{"$f":"IF(COUNTIF('N PMČRj 2026'!B:B,B80)=0,\"-\",COUNTIF('N PMČRj 2026'!B:B,B80))","v":"-"},{"$f":"IF(ISERROR(VLOOKUP(B80,'N PMČRj 2026'!B:G,6,0)),\"-\",VLOOKUP(B80,'N PMČRj 2026'!B:G,6,0))","v":"-"},{"$f":"IF(ISERROR(VLOOKUP(B80,'Zebrik G'!B:I,8,0)),\"-\",VLOOKUP(B80,'Zebrik G'!B:I,8,0))","v":72}]
[55,"Pavel Koudelka",{"$f":"VLOOKUP(B81,Pilot!A:C,3,0)","v":"Křižanov"},{"$f":"VLOOKUP(B81,Pilot!A:B,2,0)","v":1973},{"$f":"VLOOKUP(B81,Pilot!A:E,5,0)","v":"M"},{"$f":"VLOOKUP(B81,Pilot!A:F,6,0)","v":""},55,null,1,55,{"$f":"IF(COUNTIF('N PMČRj 2026'!B:B,B81)=0,\"-\",COUNTIF('N PMČRj 2026'!B:B,B81))","v":"-"},{"$f":"IF(ISERROR(VLOOKUP(B81,'N PMČRj 2026'!B:G,6,0)),\"-\",VLOOKUP(B81,'N PMČRj 2026'!B:G,6,0))","v":"-"},{"$f":"IF(ISERROR(VLOOKUP(B81,'Zebrik G'!B:I,8,0)),\"-\",VLOOKUP(B81,'Zebrik G'!B:I,8,0))","v":179}]
[56,"Petr Hotovy",{"$f":"VLOOKUP(B82,Pilot!A:C,3,0)","v":"Česká Lípa"},{"$f":"VLOOKUP(B82,Pilot!A:B,2,0)","v":1958},{"$f":"VLOOKUP(B82,Pilot!A:E,5,0)","v":"M"},{"$f":"VLOOKUP(B82,Pilot!A:F,6,0)","v":""},56,null,1,56,{"$f":"IF(COUNTIF('N PMČRj 2026'!B:B,B82)=0,\"-\",COUNTIF('N PMČRj 2026'!B:B,B82))","v":"-"},{"$f":"IF(ISERROR(VLOOKUP(B82,'N PMČRj 2026'!B:G,6,0)),\"-\",VLOOKUP(B82,'N PMČRj 2026'!B:G,6,0))","v":"-"},{"$f":"IF(ISERROR(VLOOKUP(B82,'Zebrik G'!B:I,8,0)),\"-\",VLOOKUP(B82,'Zebrik G'!B:I,8,0))","v":69}]
[57,"Pavlina Horackova",{"$f":"VLOOKUP(B83,Pilot!A:C,3,0)","v":"Šumperk"},{"$f":"VLOOKUP(B83,Pilot!A:B,2,0)","v":1965},{"$f":"VLOOKUP(B83,Pilot!A:E,5,0)","v":"F"},{"$f":"VLOOKUP(B83,Pilot!A:F,6,0)","v":""},57,null,1,57,{"$f":"IF(COUNTIF('N PMČRj 2026'!B:B,B83)=0,\"-\",COUNTIF('N PMČRj 2026'!B:B,B83))","v":"-"},{"$f":"IF(ISERROR(VLOOKUP(B83,'N PMČRj 2026'!B:G,6,0)),\"-\",VLOOKUP(B83,'N PMČRj 2026'!B:G,6,0))","v":"-"},{"$f":"IF(ISERROR(VLOOKUP(B83,'Zebrik G'!B:I,8,0)),\"-\",VLOOKUP(B83,'Zebrik G'!B:I,8,0))","v":100}]
[58,"Petr Panek",{"$f":"VLOOKUP(B84,Pilot!A:C,3,0)","v":"Dvůr Králové"},{"$f":"VLOOKUP(B84,Pilot!A:B,2,0)","v":1975},{"$f":"VLOOKUP(B84,Pilot!A:E,5,0)","v":"M"},{"$f":"VLOOKUP(B84,Pilot!A:F,6,0)","v":""},58,null,1,58,{"$f":"IF(COUNTIF('N PMČRj 2026'!B:B,B84)=0,\"-\",COUNTIF('N PMČRj 2026'!B:B,B84))","v":"-"},{"$f":"IF(ISERROR(VLOOKUP(B84,'N PMČRj 2026'!B:G,6,0)),\"-\",VLOOKUP(B84,'N PMČRj 2026'!B:G,6,0))","v":"-"},{"$f":"IF(ISERROR(VLOOKUP(B84,'Zebrik G'!B:I,8,0)),\"-\",VLOOKUP(B84,'Zebrik G'!B:I,8,0))","v":54}]
[59,"Jaroslav Potmesil",{"$f":"VLOOKUP(B85,Pilot!A:C,3,0)","v":"Zbraslavice"},{"$f":"VLOOKUP(B85,Pilot!A:B,2,0)","v":1964},{"$f":"VLOOKUP(B85,Pilot!A:E,5,0)","v":"M"},{"$f":"VLOOKUP(B85,Pilot!A:F,6,0)","v":""},59,null,1,59,{"$f":"IF(COUNTIF('N PMČRj 2026'!B:B,B85)=0,\"-\",COUNTIF('N PMČRj 2026'!B:B,B85))","v":"-"},{"$f":"IF(ISERROR(VLOOKUP(B85,'N PMČRj 2026'!B:G,6,0)),\"-\",VLOOKUP(B85,'N PMČRj 2026'!B:G,6,0))","v":"-"},{"$f":"IF(ISERROR(VLOOKUP(B85,'Zebrik G'!B:I,8,0)),\"-\",VLOOKUP(B85,'Zebrik G'!B:I,8,0))","v":134}]
[60,"Karel Mares",{"$f":"VLOOKUP(B86,Pilot!A:C,3,0)","v":"Slaný"},{"$f":"VLOOKUP(B86,Pilot!A:B,2,0)","v":1974},{"$f":"VLOOKUP(B86,Pilot!A:E,5,0)","v":"M"},{"$f":"VLOOKUP(B86,Pilot!A:F,6,0)","v":""},60,null,1,60,{"$f":"IF(COUNTIF('N PMČRj 2026'!B:B,B86)=0,\"-\",COUNTIF('N PMČRj 2026'!B:B,B86))","v":"-"},{"$f":"IF(ISERROR(VLOOKUP(B86,'N PMČRj 2026'!B:G,6,0)),\"-\",VLOOKUP(B86,'N PMČRj 2026'!B:G,6,0))","v":"-"},{"$f":"IF(ISERROR(VLOOKUP(B86,'Zebrik G'!B:I,8,0)),\"-\",VLOOKUP(B86,'Zebrik G'!B:I,8,0))","v":165}]
[61,"Vojtech Bystricky",{"$f":"VLOOKUP(B87,Pilot!A:C,3,0)","v":"Strakonice"},{"$f":"VLOOKUP(B87,Pilot!A:B,2,0)","v":2004},{"$f":"VLOOKUP(B87,Pilot!A:E,5,0)","v":"M"},{"$f":"VLOOKUP(B87,Pilot!A:F,6,0)","v":"Junior v roce 2026"},61,null,1,61,{"$f":"IF(COUNTIF('N PMČRj 2026'!B:B,B87)=0,\"-\",COUNTIF('N PMČRj 2026'!B:B,B87))","v":"-"},{"$f":"IF(ISERROR(VLOOKUP(B87,'N PMČRj 2026'!B:G,6,0)),\"-\",VLOOKUP(B87,'N PMČRj 2026'!B:G,6,0))","v":"-"},{"$f":"IF(ISERROR(VLOOKUP(B87,'Zebrik G'!B:I,8,0)),\"-\",VLOOKUP(B87,'Zebrik G'!B:I,8,0))","v":273}]
[62,"Michael Fik",{"$f":"VLOOKUP(B88,Pilot!A:C,3,0)","v":"Strakonice"},{"$f":"VLOOKUP(B88,Pilot!A:B,2,0)","v":1972},{"$f":"VLOOKUP(B88,Pilot!A:E,5,0)","v":"M"},{"$f":"VLOOKUP(B88,Pilot!A:F,6,0)","v":""},62,null,1,62,{"$f":"IF(COUNTIF('N PMČRj 2026'!B:B,B88)=0,\"-\",COUNTIF('N PMČRj 2026'!B:B,B88))","v":"-"},{"$f":"IF(ISERROR(VLOOKUP(B88,'N PMČRj 2026'!B:G,6,0)),\"-\",VLOOKUP(B88,'N PMČRj 2026'!B:G,6,0))","v":"-"},{"$f":"IF(ISERROR(VLOOKUP(B88,'Zebrik G'!B:I,8,0)),\"-\",VLOOKUP(B88,'Zebrik G'!B:I,8,0))","v":231}]
[63,"Miroslav Kus",{"$f":"VLOOKUP(B89,Pilot!A:C,3,0)","v":"Strakonice"},{"$f":"VLOOKUP(B89,Pilot!A:B,2,0)","v":1970},{"$f":"VLOOKUP(B89,Pilot!A:E,5,0)","v":"M"},{"$f":"VLOOKUP(B89,Pilot!A:F,6,0)","v":""},{"$f":"A89","v":63},null,1,63,{"$f":"IF(COUNTIF('N PMČRj 2026'!B:B,B89)=0,\"-\",COUNTIF('N PMČRj 2026'!B:B,B89))","v":"-"},{"$f":"IF(ISERROR(VLOOKUP(B89,'N PMČRj 2026'!B:G,6,0)),\"-\",VLOOKUP(B89,'N PMČRj 2026'!B:G,6,0))","v":"-"},{"$f":"IF(ISERROR(VLOOKUP(B89,'Zebrik G'!B:I,8,0)),\"-\",VLOOKUP(B89,'Zebrik G'!B:I,8,0))","v":397}]
[64,"Jan Hirs",{"$f":"VLOOKUP(B90,Pilot!A:C,3,0)","v":"Strakonice"},{"$f":"VLOOKUP(B90,Pilot!A:B,2,0)","v":1975},{"$f":"VLOOKUP(B90,Pilot!A:E,5,0)","v":"M"},{"$f":"VLOOKUP(B90,Pilot!A:F,6,0)","v":""},64,null,1,64,{"$f":"IF(COUNTIF('N PMČRj 2026'!B:B,B90)=0,\"-\",COUNTIF('N PMČRj 2026'!B:B,B90))","v":"-"},{"$f":"IF(ISERROR(VLOOKUP(B90,'N PMČRj 2026'!B:G,6,0)),\"-\",VLOOKUP(B90,'N PMČRj 2026'!B:G,6,0))","v":"-"},{"$f":"IF(ISERROR(VLOOKUP(B90,'Zebrik G'!B:I,8,0)),\"-\",VLOOKUP(B90,'Zebrik G'!B:I,8,0))","v":409}]
[65,"Ales Sokolik",{"$f":"VLOOKUP(B91,Pilot!A:C,3,0)","v":"Strakonice"},{"$f":"VLOOKUP(B91,Pilot!A:B,2,0)","v":1973},{"$f":"VLOOKUP(B91,Pilot!A:E,5,0)","v":"M"},{"$f":"VLOOKUP(B91,Pilot!A:F,6,0)","v":""},65,null,1,65,{"$f":"IF(COUNTIF('N PMČRj 2026'!B:B,B91)=0,\"-\",COUNTIF('N PMČRj 2026'!B:B,B91))","v":"-"},{"$f":"IF(ISERROR(VLOOKUP(B91,'N PMČRj 2026'!B:G,6,0)),\"-\",VLOOKUP(B91,'N PMČRj 2026'!B:G,6,0))","v":"-"},{"$f":"IF(ISERROR(VLOOKUP(B91,'Zebrik G'!B:I,8,0)),\"-\",VLOOKUP(B91,'Zebrik G'!B:I,8,0))","v":428}]
[66,"Daniel Marek",{"$f":"VLOOKUP(B92,Pilot!A:C,3,0)","v":"Hosín"},{"$f":"VLOOKUP(B92,Pilot!A:B,2,0)","v":1983},{"$f":"VLOOKUP(B92,Pilot!A:E,5,0)","v":"M"},{"$f":"VLOOKUP(B92,Pilot!A:F,6,0)","v":""},{"$f":"A92","v":66},null,1,66,{"$f":"IF(COUNTIF('N PMČRj 2026'!B:B,B92)=0,\"-\",COUNTIF('N PMČRj 2026'!B:B,B92))","v":"-"},{"$f":"IF(ISERROR(VLOOKUP(B92,'N PMČRj 2026'!B:G,6,0)),\"-\",VLOOKUP(B92,'N PMČRj 2026'!B:G,6,0))","v":"-"},{"$f":"IF(ISERROR(VLOOKUP(B92,'Zebrik G'!B:I,8,0)),\"-\",VLOOKUP(B92,'Zebrik G'!B:I,8,0))","v":338}]
[67,"Bohus Marcinik",{"$f":"VLOOKUP(B93,Pilot!A:C,3,0)","v":"Příbram"},{"$f":"VLOOKUP(B93,Pilot!A:B,2,0)","v":1947},{"$f":"VLOOKUP(B93,Pilot!A:E,5,0)","v":"M"},{"$f":"VLOOKUP(B93,Pilot!A:F,6,0)","v":""},67,null,1,67,{"$f":"IF(COUNTIF('N PMČRj 2026'!B:B,B93)=0,\"-\",COUNTIF('N PMČRj 2026'!B:B,B93))","v":"-"},{"$f":"IF(ISERROR(VLOOKUP(B93,'N PMČRj 2026'!B:G,6,0)),\"-\",VLOOKUP(B93,'N PMČRj 2026'!B:G,6,0))","v":"-"},{"$f":"IF(ISERROR(VLOOKUP(B93,'Zebrik G'!B:I,8,0)),\"-\",VLOOKUP(B93,'Zebrik G'!B:I,8,0))","v":"-"}]
[]
[null,"Ostatní soutěžící z posledního platného Všeobecného žebříku v pořadí podle umístění, do naplnění celkového počtu 80 nominovaných dle 6.6.5. (+ 10 náhradníků):"]
[{"$f":"MAX($A$11:A95)+1","v":68},"Pavel Rericha",{"$f":"VLOOKUP(B96,Pilot!A:C,3,0)","v":"Moravská Třebová"},{"$f":"VLOOKUP(B96,Pilot!A:B,2,0)","v":1967},{"$f":"VLOOKUP(B96,Pilot!A:E,5,0)","v":"M"},{"$f":"VLOOKUP(B96,Pilot!A:F,6,0)","v":""},68,null,{"$f":"COUNTIF(B:B,B96)","v":1},{"$f":"IF(ISERROR(VLOOKUP(B96,B:G,6,0)),\"-\",VLOOKUP(B96,B:G,6,0))","v":68},{"$f":"IF(COUNTIF('N PMČRj 2026'!B:B,B96)=0,\"-\",COUNTIF('N PMČRj 2026'!B:B,B96))","v":"-"},{"$f":"IF(ISERROR(VLOOKUP(B96,'N PMČRj 2026'!B:G,6,0)),\"-\",VLOOKUP(B96,'N PMČRj 2026'!B:G,6,0))","v":"-"},{"$f":"IF(ISERROR(VLOOKUP(B96,'Zebrik G'!B:I,8,0)),\"-\",VLOOKUP(B96,'Zebrik G'!B:I,8,0))","v":24}]
[{"$f":"A96+1","v":69},"David Mach",{"$f":"VLOOKUP(B97,Pilot!A:C,3,0)","v":"Hronov"},{"$f":"VLOOKUP(B97,Pilot!A:B,2,0)","v":1994},{"$f":"VLOOKUP(B97,Pilot!A:E,5,0)","v":"M"},{"$f":"VLOOKUP(B97,Pilot!A:F,6,0)","v":""},{"$f":"A97","v":69},null,1,69,{"$f":"IF(COUNTIF('N PMČRj 2026'!B:B,B97)=0,\"-\",COUNTIF('N PMČRj 2026'!B:B,B97))","v":"-"},{"$f":"IF(ISERROR(VLOOKUP(B97,'N PMČRj 2026'!B:G,6,0)),\"-\",VLOOKUP(B97,'N PMČRj 2026'!B:G,6,0))","v":"-"},{"$f":"IF(ISERROR(VLOOKUP(B97,'Zebrik G'!B:I,8,0)),\"-\",VLOOKUP(B97,'Zebrik G'!B:I,8,0))","v":30}]
[70,"Radek Hybl",{"$f":"VLOOKUP(B98,Pilot!A:C,3,0)","v":"Šumperk"},{"$f":"VLOOKUP(B98,Pilot!A:B,2,0)","v":1980},{"$f":"VLOOKUP(B98,Pilot!A:E,5,0)","v":"M"},{"$f":"VLOOKUP(B98,Pilot!A:F,6,0)","v":""},70,null,1,70,{"$f":"IF(COUNTIF('N PMČRj 2026'!B:B,B98)=0,\"-\",COUNTIF('N PMČRj 2026'!B:B,B98))","v":"-"},{"$f":"IF(ISERROR(VLOOKUP(B98,'N PMČRj 2026'!B:G,6,0)),\"-\",VLOOKUP(B98,'N PMČRj 2026'!B:G,6,0))","v":"-"},{"$f":"IF(ISERROR(VLOOKUP(B98,'Zebrik G'!B:I,8,0)),\"-\",VLOOKUP(B98,'Zebrik G'!B:I,8,0))","v":35}]
[71,"Jan Viskot",{"$f":"VLOOKUP(B99,Pilot!A:C,3,0)","v":"Břeclav"},{"$f":"VLOOKUP(B99,Pilot!A:B,2,0)","v":1995},{"$f":"VLOOKUP(B99,Pilot!A:E,5,0)","v":"M"},{"$f":"VLOOKUP(B99,Pilot!A:F,6,0)","v":""},71,null,1,71,{"$f":"IF(COUNTIF('N PMČRj 2026'!B:B,B99)=0,\"-\",COUNTIF('N PMČRj 2026'!B:B,B99))","v":"-"},{"$f":"IF(ISERROR(VLOOKUP(B99,'N PMČRj 2026'!B:G,6,0)),\"-\",VLOOKUP(B99,'N PMČRj 2026'!B:G,6,0))","v":"-"},{"$f":"IF(ISERROR(VLOOKUP(B99,'Zebrik G'!B:I,8,0)),\"-\",VLOOKUP(B99,'Zebrik G'!B:I,8,0))","v":36}]
[72,"Jaromir Macoun",{"$f":"VLOOKUP(B100,Pilot!A:C,3,0)","v":"Jičín"},{"$f":"VLOOKUP(B100,Pilot!A:B,2,0)","v":1999},{"$f":"VLOOKUP(B100,Pilot!A:E,5,0)","v":"M"},{"$f":"VLOOKUP(B100,Pilot!A:F,6,0)","v":""},{"$f":"A100","v":72},null,1,72,{"$f":"IF(COUNTIF('N PMČRj 2026'!B:B,B100)=0,\"-\",COUNTIF('N PMČRj 2026'!B:B,B100))","v":"-"},{"$f":"IF(ISERROR(VLOOKUP(B100,'N PMČRj 2026'!B:G,6,0)),\"-\",VLOOKUP(B100,'N PMČRj 2026'!B:G,6,0))","v":"-"},{"$f":"IF(ISERROR(VLOOKUP(B100,'Zebrik G'!B:I,8,0)),\"-\",VLOOKUP(B100,'Zebrik G'!B:I,8,0))","v":37}]
[73,"Pavel Jiranek",{"$f":"VLOOKUP(B101,Pilot!A:C,3,0)","v":"Toužim"},{"$f":"VLOOKUP(B101,Pilot!A:B,2,0)","v":1993},{"$f":"VLOOKUP(B101,Pilot!A:E,5,0)","v":"M"},{"$f":"VLOOKUP(B101,Pilot!A:F,6,0)","v":""},{"$f":"A101","v":73},null,1,73,{"$f":"IF(COUNTIF('N PMČRj 2026'!B:B,B101)=0,\"-\",COUNTIF('N PMČRj 2026'!B:B,B101))","v":"-"},{"$f":"IF(ISERROR(VLOOKUP(B101,'N PMČRj 2026'!B:G,6,0)),\"-\",VLOOKUP(B101,'N PMČRj 2026'!B:G,6,0))","v":"-"},{"$f":"IF(ISERROR(VLOOKUP(B101,'Zebrik G'!B:I,8,0)),\"-\",VLOOKUP(B101,'Zebrik G'!B:I,8,0))","v":41}]
[74,"Roman Jokl",{"$f":"VLOOKUP(B102,Pilot!A:C,3,0)","v":"Letkov"},{"$f":"VLOOKUP(B102,Pilot!A:B,2,0)","v":1979},{"$f":"VLOOKUP(B102,Pilot!A:E,5,0)","v":"M"},{"$f":"VLOOKUP(B102,Pilot!A:F,6,0)","v":""},{"$f":"A102","v":74},null,1,74,{"$f":"IF(COUNTIF('N PMČRj 2026'!B:B,B102)=0,\"-\",COUNTIF('N PMČRj 2026'!B:B,B102))","v":"-"},{"$f":"IF(ISERROR(VLOOKUP(B102,'N PMČRj 2026'!B:G,6,0)),\"-\",VLOOKUP(B102,'N PMČRj 2026'!B:G,6,0))","v":"-"},{"$f":"IF(ISERROR(VLOOKUP(B102,'Zebrik G'!B:I,8,0)),\"-\",VLOOKUP(B102,'Zebrik G'!B:I,8,0))","v":42}]
[75,"Frantisek Vancura",{"$f":"VLOOKUP(B103,Pilot!A:C,3,0)","v":"Hranice"},{"$f":"VLOOKUP(B103,Pilot!A:B,2,0)","v":1966},{"$f":"VLOOKUP(B103,Pilot!A:E,5,0)","v":"M"},{"$f":"VLOOKUP(B103,Pilot!A:F,6,0)","v":""},75,null,1,75,{"$f":"IF(COUNTIF('N PMČRj 2026'!B:B,B103)=0,\"-\",COUNTIF('N PMČRj 2026'!B:B,B103))","v":"-"},{"$f":"IF(ISERROR(VLOOKUP(B103,'N PMČRj 2026'!B:G,6,0)),\"-\",VLOOKUP(B103,'N PMČRj 2026'!B:G,6,0))","v":"-"},{"$f":"IF(ISERROR(VLOOKUP(B103,'Zebrik G'!B:I,8,0)),\"-\",VLOOKUP(B103,'Zebrik G'!B:I,8,0))","v":44}]
[76,"Marek Blatak",{"$f":"VLOOKUP(B104,Pilot!A:C,3,0)","v":"Šumperk"},{"$f":"VLOOKUP(B104,Pilot!A:B,2,0)","v":1969},{"$f":"VLOOKUP(B104,Pilot!A:E,5,0)","v":"M"},{"$f":"VLOOKUP(B104,Pilot!A:F,6,0)","v":""},76,null,1,76,{"$f":"IF(COUNTIF('N PMČRj 2026'!B:B,B104)=0,\"-\",COUNTIF('N PMČRj 2026'!B:B,B104))","v":"-"},{"$f":"IF(ISERROR(VLOOKUP(B104,'N PMČRj 2026'!B:G,6,0)),\"-\",VLOOKUP(B104,'N PMČRj 2026'!B:G,6,0))","v":"-"},{"$f":"IF(ISERROR(VLOOKUP(B104,'Zebrik G'!B:I,8,0)),\"-\",VLOOKUP(B104,'Zebrik G'!B:I,8,0))","v":45}]
[77,"Jan Hruska",{"$f":"VLOOKUP(B105,Pilot!A:C,3,0)","v":"Tábor"},{"$f":"VLOOKUP(B105,Pilot!A:B,2,0)","v":1988},{"$f":"VLOOKUP(B105,Pilot!A:E,5,0)","v":"M"},{"$f":"VLOOKUP(B105,Pilot!A:F,6,0)","v":""},77,null,1,77,{"$f":"IF(COUNTIF('N PMČRj 2026'!B:B,B105)=0,\"-\",COUNTIF('N PMČRj 2026'!B:B,B105))","v":"-"},{"$f":"IF(ISERROR(VLOOKUP(B105,'N PMČRj 2026'!B:G,6,0)),\"-\",VLOOKUP(B105,'N PMČRj 2026'!B:G,6,0))","v":"-"},{"$f":"IF(ISERROR(VLOOKUP(B105,'Zebrik G'!B:I,8,0)),\"-\",VLOOKUP(B105,'Zebrik G'!B:I,8,0))","v":47}]
[78,"Jiri Vondracek",{"$f":"VLOOKUP(B106,Pilot!A:C,3,0)","v":"Kladno"},{"$f":"VLOOKUP(B106,Pilot!A:B,2,0)","v":1989},{"$f":"VLOOKUP(B106,Pilot!A:E,5,0)","v":"M"},{"$f":"VLOOKUP(B106,Pilot!A:F,6,0)","v":""},{"$f":"A106","v":78},null,1,78,{"$f":"IF(COUNTIF('N PMČRj 2026'!B:B,B106)=0,\"-\",COUNTIF('N PMČRj 2026'!B:B,B106))","v":"-"},{"$f":"IF(ISERROR(VLOOKUP(B106,'N PMČRj 2026'!B:G,6,0)),\"-\",VLOOKUP(B106,'N PMČRj 2026'!B:G,6,0))","v":"-"},{"$f":"IF(ISERROR(VLOOKUP(B106,'Zebrik G'!B:I,8,0)),\"-\",VLOOKUP(B106,'Zebrik G'!B:I,8,0))","v":48}]
[79,"Josef Busek",{"$f":"VLOOKUP(B107,Pilot!A:C,3,0)","v":"Hosín"},{"$f":"VLOOKUP(B107,Pilot!A:B,2,0)","v":1967},{"$f":"VLOOKUP(B107,Pilot!A:E,5,0)","v":"M"},{"$f":"VLOOKUP(B107,Pilot!A:F,6,0)","v":""},{"$f":"A107","v":79},null,1,79,{"$f":"IF(COUNTIF('N PMČRj 2026'!B:B,B107)=0,\"-\",COUNTIF('N PMČRj 2026'!B:B,B107))","v":"-"},{"$f":"IF(ISERROR(VLOOKUP(B107,'N PMČRj 2026'!B:G,6,0)),\"-\",VLOOKUP(B107,'N PMČRj 2026'!B:G,6,0))","v":"-"},{"$f":"IF(ISERROR(VLOOKUP(B107,'Zebrik G'!B:I,8,0)),\"-\",VLOOKUP(B107,'Zebrik G'!B:I,8,0))","v":49}]
[80,"Jiri Steiger",{"$f":"VLOOKUP(B108,Pilot!A:C,3,0)","v":"Olomouc"},{"$f":"VLOOKUP(B108,Pilot!A:B,2,0)","v":1969},{"$f":"VLOOKUP(B108,Pilot!A:E,5,0)","v":"M"},{"$f":"VLOOKUP(B108,Pilot!A:F,6,0)","v":""},80,null,1,80,{"$f":"IF(COUNTIF('N PMČRj 2026'!B:B,B108)=0,\"-\",COUNTIF('N PMČRj 2026'!B:B,B108))","v":"-"},{"$f":"IF(ISERROR(VLOOKUP(B108,'N PMČRj 2026'!B:G,6,0)),\"-\",VLOOKUP(B108,'N PMČRj 2026'!B:G,6,0))","v":"-"},{"$f":"IF(ISERROR(VLOOKUP(B108,'Zebrik G'!B:I,8,0)),\"-\",VLOOKUP(B108,'Zebrik G'!B:I,8,0))","v":50}]
["N1","Vaclav Marel",{"$f":"VLOOKUP(B109,Pilot!A:C,3,0)","v":"Jaroměř"},{"$f":"VLOOKUP(B109,Pilot!A:B,2,0)","v":1974},{"$f":"VLOOKUP(B109,Pilot!A:E,5,0)","v":"M"},{"$f":"VLOOKUP(B109,Pilot!A:F,6,0)","v":""},{"$f":"A109","v":"N1"},null,1,"N1",{"$f":"IF(COUNTIF('N PMČRj 2026'!B:B,B109)=0,\"-\",COUNTIF('N PMČRj 2026'!B:B,B109))","v":"-"},{"$f":"IF(ISERROR(VLOOKUP(B109,'N PMČRj 2026'!B:G,6,0)),\"-\",VLOOKUP(B109,'N PMČRj 2026'!B:G,6,0))","v":"-"},{"$f":"IF(ISERROR(VLOOKUP(B109,'Zebrik G'!B:I,8,0)),\"-\",VLOOKUP(B109,'Zebrik G'!B:I,8,0))","v":51}]
["N2","Michal Cechmanek",{"$f":"VLOOKUP(B110,Pilot!A:C,3,0)","v":"Kroměříž"},{"$f":"VLOOKUP(B110,Pilot!A:B,2,0)","v":1978},{"$f":"VLOOKUP(B110,Pilot!A:E,5,0)","v":"M"},{"$f":"VLOOKUP(B110,Pilot!A:F,6,0)","v":""},"N2",null,1,"N2",{"$f":"IF(COUNTIF('N PMČRj 2026'!B:B,B110)=0,\"-\",COUNTIF('N PMČRj 2026'!B:B,B110))","v":"-"},{"$f":"IF(ISERROR(VLOOKUP(B110,'N PMČRj 2026'!B:G,6,0)),\"-\",VLOOKUP(B110,'N PMČRj 2026'!B:G,6,0))","v":"-"},{"$f":"IF(ISERROR(VLOOKUP(B110,'Zebrik G'!B:I,8,0)),\"-\",VLOOKUP(B110,'Zebrik G'!B:I,8,0))","v":52}]
["N3","Jan Beran",{"$f":"VLOOKUP(B111,Pilot!A:C,3,0)","v":"Kladno"},{"$f":"VLOOKUP(B111,Pilot!A:B,2,0)","v":1999},{"$f":"VLOOKUP(B111,Pilot!A:E,5,0)","v":"M"},{"$f":"VLOOKUP(B111,Pilot!A:F,6,0)","v":""},"N3",null,1,"N3",{"$f":"IF(COUNTIF('N PMČRj 2026'!B:B,B111)=0,\"-\",COUNTIF('N PMČRj 2026'!B:B,B111))","v":"-"},{"$f":"IF(ISERROR(VLOOKUP(B111,'N PMČRj 2026'!B:G,6,0)),\"-\",VLOOKUP(B111,'N PMČRj 2026'!B:G,6,0))","v":"-"},{"$f":"IF(ISERROR(VLOOKUP(B111,'Zebrik G'!B:I,8,0)),\"-\",VLOOKUP(B111,'Zebrik G'!B:I,8,0))","v":53}]
["N4","Jan Louda",{"$f":"VLOOKUP(B112,Pilot!A:C,3,0)","v":"Mladá Boleslav"},{"$f":"VLOOKUP(B112,Pilot!A:B,2,0)","v":1986},{"$f":"VLOOKUP(B112,Pilot!A:E,5,0)","v":"M"},{"$f":"VLOOKUP(B112,Pilot!A:F,6,0)","v":""},"N4",null,1,"N4",{"$f":"IF(COUNTIF('N PMČRj 2026'!B:B,B112)=0,\"-\",COUNTIF('N PMČRj 2026'!B:B,B112))","v":"-"},{"$f":"IF(ISERROR(VLOOKUP(B112,'N PMČRj 2026'!B:G,6,0)),\"-\",VLOOKUP(B112,'N PMČRj 2026'!B:G,6,0))","v":"-"},{"$f":"IF(ISERROR(VLOOKUP(B112,'Zebrik G'!B:I,8,0)),\"-\",VLOOKUP(B112,'Zebrik G'!B:I,8,0))","v":55}]
["N5","Rene Hudak",{"$f":"VLOOKUP(B113,Pilot!A:C,3,0)","v":"Kunovice"},{"$f":"VLOOKUP(B113,Pilot!A:B,2,0)","v":1972},{"$f":"VLOOKUP(B113,Pilot!A:E,5,0)","v":"M"},{"$f":"VLOOKUP(B113,Pilot!A:F,6,0)","v":""},"N5",null,1,"N5",{"$f":"IF(COUNTIF('N PMČRj 2026'!B:B,B113)=0,\"-\",COUNTIF('N PMČRj 2026'!B:B,B113))","v":"-"},{"$f":"IF(ISERROR(VLOOKUP(B113,'N PMČRj 2026'!B:G,6,0)),\"-\",VLOOKUP(B113,'N PMČRj 2026'!B:G,6,0))","v":"-"},{"$f":"IF(ISERROR(VLOOKUP(B113,'Zebrik G'!B:I,8,0)),\"-\",VLOOKUP(B113,'Zebrik G'!B:I,8,0))","v":56}]
["N6","Josef Novak",{"$f":"VLOOKUP(B114,Pilot!A:C,3,0)","v":"Kunovice"},{"$f":"VLOOKUP(B114,Pilot!A:B,2,0)","v":1981},{"$f":"VLOOKUP(B114,Pilot!A:E,5,0)","v":"M"},{"$f":"VLOOKUP(B114,Pilot!A:F,6,0)","v":""},"N6",null,1,"N6",{"$f":"IF(COUNTIF('N PMČRj 2026'!B:B,B114)=0,\"-\",COUNTIF('N PMČRj 2026'!B:B,B114))","v":"-"},{"$f":"IF(ISERROR(VLOOKUP(B114,'N PMČRj 2026'!B:G,6,0)),\"-\",VLOOKUP(B114,'N PMČRj 2026'!B:G,6,0))","v":"-"},{"$f":"IF(ISERROR(VLOOKUP(B114,'Zebrik G'!B:I,8,0)),\"-\",VLOOKUP(B114,'Zebrik G'!B:I,8,0))","v":59}]
["N7","Martin Urner",{"$f":"VLOOKUP(B115,Pilot!A:C,3,0)","v":"Letňany"},{"$f":"VLOOKUP(B115,Pilot!A:B,2,0)","v":1974},{"$f":"VLOOKUP(B115,Pilot!A:E,5,0)","v":"M"},{"$f":"VLOOKUP(B115,Pilot!A:F,6,0)","v":""},"N7",null,1,"N7",{"$f":"IF(COUNTIF('N PMČRj 2026'!B:B,B115)=0,\"-\",COUNTIF('N PMČRj 2026'!B:B,B115))","v":"-"},{"$f":"IF(ISERROR(VLOOKUP(B115,'N PMČRj 2026'!B:G,6,0)),\"-\",VLOOKUP(B115,'N PMČRj 2026'!B:G,6,0))","v":"-"},{"$f":"IF(ISERROR(VLOOKUP(B115,'Zebrik G'!B:I,8,0)),\"-\",VLOOKUP(B115,'Zebrik G'!B:I,8,0))","v":63}]
["N8","Jiri Fousek",{"$f":"VLOOKUP(B116,Pilot!A:C,3,0)","v":"Raná"},{"$f":"VLOOKUP(B116,Pilot!A:B,2,0)","v":1990},{"$f":"VLOOKUP(B116,Pilot!A:E,5,0)","v":"M"},{"$f":"VLOOKUP(B116,Pilot!A:F,6,0)","v":""},"N8",null,1,"N8",{"$f":"IF(COUNTIF('N PMČRj 2026'!B:B,B116)=0,\"-\",COUNTIF('N PMČRj 2026'!B:B,B116))","v":"-"},{"$f":"IF(ISERROR(VLOOKUP(B116,'N PMČRj 2026'!B:G,6,0)),\"-\",VLOOKUP(B116,'N PMČRj 2026'!B:G,6,0))","v":"-"},{"$f":"IF(ISERROR(VLOOKUP(B116,'Zebrik G'!B:I,8,0)),\"-\",VLOOKUP(B116,'Zebrik G'!B:I,8,0))","v":65}]
["N9","Jan Simon",{"$f":"VLOOKUP(B117,Pilot!A:C,3,0)","v":"Kralupy"},{"$f":"VLOOKUP(B117,Pilot!A:B,2,0)","v":1970},{"$f":"VLOOKUP(B117,Pilot!A:E,5,0)","v":"M"},{"$f":"VLOOKUP(B117,Pilot!A:F,6,0)","v":""},"N9",null,1,"N9",{"$f":"IF(COUNTIF('N PMČRj 2026'!B:B,B117)=0,\"-\",COUNTIF('N PMČRj 2026'!B:B,B117))","v":"-"},{"$f":"IF(ISERROR(VLOOKUP(B117,'N PMČRj 2026'!B:G,6,0)),\"-\",VLOOKUP(B117,'N PMČRj 2026'!B:G,6,0))","v":"-"},{"$f":"IF(ISERROR(VLOOKUP(B117,'Zebrik G'!B:I,8,0)),\"-\",VLOOKUP(B117,'Zebrik G'!B:I,8,0))","v":66}]
["N10","Vratislav Sram",{"$f":"VLOOKUP(B118,Pilot!A:C,3,0)","v":"Broumov"},{"$f":"VLOOKUP(B118,Pilot!A:B,2,0)","v":1966},{"$f":"VLOOKUP(B118,Pilot!A:E,5,0)","v":"M"},{"$f":"VLOOKUP(B118,Pilot!A:F,6,0)","v":""},"N10",null,1,"N10",{"$f":"IF(COUNTIF('N PMČRj 2026'!B:B,B118)=0,\"-\",COUNTIF('N PMČRj 2026'!B:B,B118))","v":"-"},{"$f":"IF(ISERROR(VLOOKUP(B118,'N PMČRj 2026'!B:G,6,0)),\"-\",VLOOKUP(B118,'N PMČRj 2026'!B:G,6,0))","v":"-"},{"$f":"IF(ISERROR(VLOOKUP(B118,'Zebrik G'!B:I,8,0)),\"-\",VLOOKUP(B118,'Zebrik G'!B:I,8,0))","v":67}]
[]
[null,"Další soutěžící může navrhnout PK podle jiných kritérií dle odstavce 9. (bez náhradníků):"]
[{"$f":"MAX($A$11:A120)+1","v":81},"-",{"$f":"VLOOKUP(B121,Pilot!A:C,3,0)","v":" "},{"$f":"VLOOKUP(B121,Pilot!A:B,2,0)","v":" "},{"$f":"VLOOKUP(B121,Pilot!A:E,5,0)","v":" "},{"$f":"VLOOKUP(B121,Pilot!A:F,6,0)","v":" "},{"$f":"A121","v":81},null,{"$f":"COUNTIF(B:B,B121)","v":5},{"$f":"IF(ISERROR(VLOOKUP(B121,B:G,6,0)),\"-\",VLOOKUP(B121,B:G,6,0))","v":81},{"$f":"IF(COUNTIF('N PMČRj 2026'!B:B,B121)=0,\"-\",COUNTIF('N PMČRj 2026'!B:B,B121))","v":37},{"$f":"IF(ISERROR(VLOOKUP(B121,'N PMČRj 2026'!B:G,6,0)),\"-\",VLOOKUP(B121,'N PMČRj 2026'!B:G,6,0))","v":"-"},{"$f":"IF(ISERROR(VLOOKUP(B121,'Zebrik G'!B:I,8,0)),\"-\",VLOOKUP(B121,'Zebrik G'!B:I,8,0))","v":"-"}]
[{"$f":"A121+1","v":82},"-",{"$f":"VLOOKUP(B122,Pilot!A:C,3,0)","v":" "},{"$f":"VLOOKUP(B122,Pilot!A:B,2,0)","v":" "},{"$f":"VLOOKUP(B122,Pilot!A:E,5,0)","v":" "},{"$f":"VLOOKUP(B122,Pilot!A:F,6,0)","v":" "},{"$f":"A122","v":82},null,{"$f":"COUNTIF(B:B,B122)","v":5},{"$f":"IF(ISERROR(VLOOKUP(B122,B:G,6,0)),\"-\",VLOOKUP(B122,B:G,6,0))","v":81},{"$f":"IF(COUNTIF('N PMČRj 2026'!B:B,B122)=0,\"-\",COUNTIF('N PMČRj 2026'!B:B,B122))","v":37},{"$f":"IF(ISERROR(VLOOKUP(B122,'N PMČRj 2026'!B:G,6,0)),\"-\",VLOOKUP(B122,'N PMČRj 2026'!B:G,6,0))","v":"-"},{"$f":"IF(ISERROR(VLOOKUP(B122,'Zebrik G'!B:I,8,0)),\"-\",VLOOKUP(B122,'Zebrik G'!B:I,8,0))","v":"-"}]
[83,"-",{"$f":"VLOOKUP(B123,Pilot!A:C,3,0)","v":" "},{"$f":"VLOOKUP(B123,Pilot!A:B,2,0)","v":" "},{"$f":"VLOOKUP(B123,Pilot!A:E,5,0)","v":" "},{"$f":"VLOOKUP(B123,Pilot!A:F,6,0)","v":" "},{"$f":"A123","v":83},null,{"$f":"COUNTIF(B:B,B123)","v":5},{"$f":"IF(ISERROR(VLOOKUP(B123,B:G,6,0)),\"-\",VLOOKUP(B123,B:G,6,0))","v":81},{"$f":"IF(COUNTIF('N PMČRj 2026'!B:B,B123)=0,\"-\",COUNTIF('N PMČRj 2026'!B:B,B123))","v":37},{"$f":"IF(ISERROR(VLOOKUP(B123,'N PMČRj 2026'!B:G,6,0)),\"-\",VLOOKUP(B123,'N PMČRj 2026'!B:G,6,0))","v":"-"},{"$f":"IF(ISERROR(VLOOKUP(B123,'Zebrik G'!B:I,8,0)),\"-\",VLOOKUP(B123,'Zebrik G'!B:I,8,0))","v":"-"}]
[84,"-",{"$f":"VLOOKUP(B124,Pilot!A:C,3,0)","v":" "},{"$f":"VLOOKUP(B124,Pilot!A:B,2,0)","v":" "},{"$f":"VLOOKUP(B124,Pilot!A:E,5,0)","v":" "},{"$f":"VLOOKUP(B124,Pilot!A:F,6,0)","v":" "},{"$f":"A124","v":84},null,{"$f":"COUNTIF(B:B,B124)","v":5},{"$f":"IF(ISERROR(VLOOKUP(B124,B:G,6,0)),\"-\",VLOOKUP(B124,B:G,6,0))","v":81},{"$f":"IF(COUNTIF('N PMČRj 2026'!B:B,B124)=0,\"-\",COUNTIF('N PMČRj 2026'!B:B,B124))","v":37},{"$f":"IF(ISERROR(VLOOKUP(B124,'N PMČRj 2026'!B:G,6,0)),\"-\",VLOOKUP(B124,'N PMČRj 2026'!B:G,6,0))","v":"-"},{"$f":"IF(ISERROR(VLOOKUP(B124,'Zebrik G'!B:I,8,0)),\"-\",VLOOKUP(B124,'Zebrik G'!B:I,8,0))","v":"-"}]
[85,"-",{"$f":"VLOOKUP(B125,Pilot!A:C,3,0)","v":" "},{"$f":"VLOOKUP(B125,Pilot!A:B,2,0)","v":" "},{"$f":"VLOOKUP(B125,Pilot!A:E,5,0)","v":" "},{"$f":"VLOOKUP(B125,Pilot!A:F,6,0)","v":" "},{"$f":"A125","v":85},null,{"$f":"COUNTIF(B:B,B125)","v":5},{"$f":"IF(ISERROR(VLOOKUP(B125,B:G,6,0)),\"-\",VLOOKUP(B125,B:G,6,0))","v":81},{"$f":"IF(COUNTIF('N PMČRj 2026'!B:B,B125)=0,\"-\",COUNTIF('N PMČRj 2026'!B:B,B125))","v":37},{"$f":"IF(ISERROR(VLOOKUP(B125,'N PMČRj 2026'!B:G,6,0)),\"-\",VLOOKUP(B125,'N PMČRj 2026'!B:G,6,0))","v":"-"},{"$f":"IF(ISERROR(VLOOKUP(B125,'Zebrik G'!B:I,8,0)),\"-\",VLOOKUP(B125,'Zebrik G'!B:I,8,0))","v":"-"}]
[]
["6.6.7.","Nominace zahraničních účastníků:"]
[null,"PMČR se mohou zúčastnit zahraniční účastníci pouze v případě, že nebude omezen počet řádně nominovaných soutěžících z ČR a soutěžící splňuje podmínky odstavce 6.1. a 6.6.1. SŘ."]
[null,"V případě pořádání společného PMČR s plachtařským mistrovstvím některého ze suverénních států může PK stanovit zvláštní pravidla pro nominaci."]
[]
["6.6.8.","Volná nominace:"]
[null,"Volnou nominaci je možné využít pouze v tom případě, že pilot na PMČR nepostupuje podle žádného z bodů odstavce 6.6.6."]
[null,"Umožňuje-li to kapacita pořádajícího letiště, mohou se z členů AeČR mimo řádně nominovaných do soutěže přihlásit také piloti/pilotky, kteří se:"]
[null,"- v posledních 3 letech před rokem konání soutěže zúčastnili MS, ME, WAG nebo Světové Grand Prix jako velitel kluzáku,"]
[null,"- umístili v aktuálním Všeobecném Žebříku do 100. místa."]
[null,"Při větším počtu přihlášek, než je kapacita letiště Pořadatele, rozhoduje o přijetí do soutěže pořadí soutěžícího v aktuálním Všeobecném Žebříku s podmínkou zaplacení vkladu v termínu stanoveném Pořadatelem."]

{"sheet":"N PMČRj 2026","index":14,"n_rows":130,"n_cols":18,"rows_kept":130,"cut":false,"hidden":false,"merged":[[20,1,20,7],[30,1,30,7]]}
[null,"Nominace na PMČRj",null,2025,null,null,null,"Kontrola:","Počet","Nominace","Počet","Nominace","Pořadí","M:","F:","M+F:",{"$f":"\"Limit juniora \"&Pilot!G1&\":\"","v":"Limit juniora 2026:"},{"$f":"Pilot!I1","v":2001}]
[null,null,null,null,null,null,null,null,"PMČRj","PMČRj","PMČR","PMČR",{"$f":"\"Žebřík \"&D1","v":"Žebřík 2025"},{"$f":"COUNTIF(E:E,\"M\")","v":10},{"$f":"COUNTIF(E:E,\"F\")","v":4},{"$f":"N2+O2","v":14},"S náhradníky"]
["No","Jméno","Aeroklub","Rok narození","M/F","Junior","No",null,{"$f":"IF(COUNTIF(I4:I120,\"2\"),COUNTIF(I4:I120,\"2\"),\"\")","v":""},null,null,null,"Celkem řádně nominováno:",{"$f":"N2-COUNTIF(E58:E62,\"M\")","v":10},{"$f":"O2-COUNTIF(E58:E62,\"F\")","v":4},{"$f":"N3+O3","v":14},"Bez náhradníků"]
["6.7.5.","Nominace na PMČRj (dle SŘ ZM11)"]
[null,"Na PMČRj nominuje PK celkem 40 pilotů/pilotek a stanovený počet náhradníků pro každé nominační kritérium."]
[null,"Na PMČRj jsou nominováni soutěžící (splňující statut juniora):"]
[]
[null,"Všichni členové reprezentačního výběru ČR (bez náhradníků):"]
[1,"Lukas Kriz",{"$f":"VLOOKUP(B9,Pilot!A:C,3,0)","v":"Křižanov"},{"$f":"VLOOKUP(B9,Pilot!A:C,2,0)","v":2003},{"$f":"VLOOKUP(B9,Pilot!A:E,5,0)","v":"M"},{"$f":"VLOOKUP(B9,Pilot!A:F,6,0)","v":"Junior v roce 2026"},{"$f":"A9","v":1},null,{"$f":"COUNTIF(B:B,B9)","v":1},{"$f":"IF(ISERROR(VLOOKUP(B9,B:G,6,0)),\"-\",VLOOKUP(B9,B:G,6,0))","v":1},{"$f":"IF(COUNTIF('N PMČR 2026'!B:B,B9)=0,\"-\",COUNTIF('N PMČR 2026'!B:B,B9))","v":1},{"$f":"IF(ISERROR(VLOOKUP(B9,'N PMČR 2026'!B:G,6,0)),\"-\",VLOOKUP(B9,'N PMČR 2026'!B:G,6,0))","v":3},{"$f":"IF(ISERROR(VLOOKUP(B9,'Zebrik G'!B:I,8,0)),\"-\",VLOOKUP(B9,'Zebrik G'!B:I,8,0))","v":3}]
[{"$f":"A9+1","v":2},"Jan Stastny",{"$f":"VLOOKUP(B10,Pilot!A:C,3,0)","v":"Medlánky"},{"$f":"VLOOKUP(B10,Pilot!A:C,2,0)","v":2003},{"$f":"VLOOKUP(B10,Pilot!A:E,5,0)","v":"M"},{"$f":"VLOOKUP(B10,Pilot!A:F,6,0)","v":"Junior v roce 2026"},{"$f":"A10","v":2},null,1,2,{"$f":"IF(COUNTIF('N PMČR 2026'!B:B,B10)=0,\"-\",COUNTIF('N PMČR 2026'!B:B,B10))","v":1},{"$f":"IF(ISERROR(VLOOKUP(B10,'N PMČR 2026'!B:G,6,0)),\"-\",VLOOKUP(B10,'N PMČR 2026'!B:G,6,0))","v":7},{"$f":"IF(ISERROR(VLOOKUP(B10,'Zebrik G'!B:I,8,0)),\"-\",VLOOKUP(B10,'Zebrik G'!B:I,8,0))","v":7}]
[{"$f":"A10+1","v":3},"Michaela Krizova",{"$f":"VLOOKUP(B11,Pilot!A:C,3,0)","v":"Přibyslav"},{"$f":"VLOOKUP(B11,Pilot!A:C,2,0)","v":2001},{"$f":"VLOOKUP(B11,Pilot!A:E,5,0)","v":"F"},{"$f":"VLOOKUP(B11,Pilot!A:F,6,0)","v":"Junior v roce 2026"},3,null,1,3,{"$f":"IF(COUNTIF('N PMČR 2026'!B:B,B11)=0,\"-\",COUNTIF('N PMČR 2026'!B:B,B11))","v":1},{"$f":"IF(ISERROR(VLOOKUP(B11,'N PMČR 2026'!B:G,6,0)),\"-\",VLOOKUP(B11,'N PMČR 2026'!B:G,6,0))","v":15},{"$f":"IF(ISERROR(VLOOKUP(B11,'Zebrik G'!B:I,8,0)),\"-\",VLOOKUP(B11,'Zebrik G'!B:I,8,0))","v":15}]
[4,"Michaela Rendlova",{"$f":"VLOOKUP(B12,Pilot!A:C,3,0)","v":"Toužim"},{"$f":"VLOOKUP(B12,Pilot!A:C,2,0)","v":2004},{"$f":"VLOOKUP(B12,Pilot!A:E,5,0)","v":"F"},{"$f":"VLOOKUP(B12,Pilot!A:F,6,0)","v":"Junior v roce 2026"},4,null,1,4,{"$f":"IF(COUNTIF('N PMČR 2026'!B:B,B12)=0,\"-\",COUNTIF('N PMČR 2026'!B:B,B12))","v":1},{"$f":"IF(ISERROR(VLOOKUP(B12,'N PMČR 2026'!B:G,6,0)),\"-\",VLOOKUP(B12,'N PMČR 2026'!B:G,6,0))","v":18},{"$f":"IF(ISERROR(VLOOKUP(B12,'Zebrik G'!B:I,8,0)),\"-\",VLOOKUP(B12,'Zebrik G'!B:I,8,0))","v":18}]
[5,"Tomas Hynek",{"$f":"VLOOKUP(B13,Pilot!A:C,3,0)","v":"Dvůr Králové"},{"$f":"VLOOKUP(B13,Pilot!A:C,2,0)","v":2002},{"$f":"VLOOKUP(B13,Pilot!A:E,5,0)","v":"M"},{"$f":"VLOOKUP(B13,Pilot!A:F,6,0)","v":"Junior v roce 2026"},5,null,1,5,{"$f":"IF(COUNTIF('N PMČR 2026'!B:B,B13)=0,\"-\",COUNTIF('N PMČR 2026'!B:B,B13))","v":1},{"$f":"IF(ISERROR(VLOOKUP(B13,'N PMČR 2026'!B:G,6,0)),\"-\",VLOOKUP(B13,'N PMČR 2026'!B:G,6,0))","v":23},{"$f":"IF(ISERROR(VLOOKUP(B13,'Zebrik G'!B:I,8,0)),\"-\",VLOOKUP(B13,'Zebrik G'!B:I,8,0))","v":26}]
[6,"Petr Masik",{"$f":"VLOOKUP(B14,Pilot!A:C,3,0)","v":"Zábřeh"},{"$f":"VLOOKUP(B14,Pilot!A:C,2,0)","v":2001},{"$f":"VLOOKUP(B14,Pilot!A:E,5,0)","v":"M"},{"$f":"VLOOKUP(B14,Pilot!A:F,6,0)","v":"Junior v roce 2026"},6,null,1,6,{"$f":"IF(COUNTIF('N PMČR 2026'!B:B,B14)=0,\"-\",COUNTIF('N PMČR 2026'!B:B,B14))","v":1},{"$f":"IF(ISERROR(VLOOKUP(B14,'N PMČR 2026'!B:G,6,0)),\"-\",VLOOKUP(B14,'N PMČR 2026'!B:G,6,0))","v":24},{"$f":"IF(ISERROR(VLOOKUP(B14,'Zebrik G'!B:I,8,0)),\"-\",VLOOKUP(B14,'Zebrik G'!B:I,8,0))","v":31}]
[7,"Eliska Kudejova",{"$f":"VLOOKUP(B15,Pilot!A:C,3,0)","v":"Strakonice"},{"$f":"VLOOKUP(B15,Pilot!A:C,2,0)","v":2006},{"$f":"VLOOKUP(B15,Pilot!A:E,5,0)","v":"F"},{"$f":"VLOOKUP(B15,Pilot!A:F,6,0)","v":"Junior v roce 2026"},{"$f":"A15","v":7},null,1,7,{"$f":"IF(COUNTIF('N PMČR 2026'!B:B,B15)=0,\"-\",COUNTIF('N PMČR 2026'!B:B,B15))","v":1},{"$f":"IF(ISERROR(VLOOKUP(B15,'N PMČR 2026'!B:G,6,0)),\"-\",VLOOKUP(B15,'N PMČR 2026'!B:G,6,0))","v":29},{"$f":"IF(ISERROR(VLOOKUP(B15,'Zebrik G'!B:I,8,0)),\"-\",VLOOKUP(B15,'Zebrik G'!B:I,8,0))","v":78}]
[]
[null,"Všichni soutěžící - účastníci posledního platného PMČR (bez náhradníků):"]
[null,"PMČR 2025 - Havlíčkův Brod - Klub, Kombi 15m, Kombi Open"]
["-","-",{"$f":"VLOOKUP(B19,Pilot!A:C,3,0)","v":" "},{"$f":"VLOOKUP(B19,Pilot!A:C,2,0)","v":" "},{"$f":"VLOOKUP(B19,Pilot!A:E,5,0)","v":" "},{"$f":"VLOOKUP(B19,Pilot!A:F,6,0)","v":" "},{"$f":"A19","v":"-"},null,{"$f":"COUNTIF(B:B,B19)","v":37},{"$f":"IF(ISERROR(VLOOKUP(B19,B:G,6,0)),\"-\",VLOOKUP(B19,B:G,6,0))","v":"-"},{"$f":"IF(COUNTIF('N PMČR 2026'!B:B,B19)=0,\"-\",COUNTIF('N PMČR 2026'!B:B,B19))","v":5},{"$f":"IF(ISERROR(VLOOKUP(B19,'N PMČR 2026'!B:G,6,0)),\"-\",VLOOKUP(B19,'N PMČR 2026'!B:G,6,0))","v":81},{"$f":"IF(ISERROR(VLOOKUP(B19,'Zebrik G'!B:I,8,0)),\"-\",VLOOKUP(B19,'Zebrik G'!B:I,8,0))","v":"-"}]
[]
[null,"Další soutěžící, kteří se umístili v konečném pořadí na posledním platném PMČRj ve své třídě nejhůře v první polovině celkového pořadí pilotů ČR (bez náhradníků):"]
[null,"PMČRj 2025 - Strakonice - Klub"]
[{"$f":"MAX($A$9:A22)+1","v":8},"Stepan Filakovsky",{"$f":"VLOOKUP(B23,Pilot!A:C,3,0)","v":"Medlánky"},{"$f":"VLOOKUP(B23,Pilot!A:C,2,0)","v":2005},{"$f":"VLOOKUP(B23,Pilot!A:E,5,0)","v":"M"},{"$f":"VLOOKUP(B23,Pilot!A:F,6,0)","v":"Junior v roce 2026"},{"$f":"A23","v":8},null,{"$f":"COUNTIF(B:B,B23)","v":1},{"$f":"IF(ISERROR(VLOOKUP(B23,B:G,6,0)),\"-\",VLOOKUP(B23,B:G,6,0))","v":8},{"$f":"IF(COUNTIF('N PMČR 2026'!B:B,B23)=0,\"-\",COUNTIF('N PMČR 2026'!B:B,B23))","v":1},{"$f":"IF(ISERROR(VLOOKUP(B23,'N PMČR 2026'!B:G,6,0)),\"-\",VLOOKUP(B23,'N PMČR 2026'!B:G,6,0))","v":44},{"$f":"IF(ISERROR(VLOOKUP(B23,'Zebrik G'!B:I,8,0)),\"-\",VLOOKUP(B23,'Zebrik G'!B:I,8,0))","v":61}]
[{"$f":"A23+1","v":9},"Alex Gulich",{"$f":"VLOOKUP(B24,Pilot!A:C,3,0)","v":"Slaný"},{"$f":"VLOOKUP(B24,Pilot!A:C,2,0)","v":2005},{"$f":"VLOOKUP(B24,Pilot!A:E,5,0)","v":"M"},{"$f":"VLOOKUP(B24,Pilot!A:F,6,0)","v":"Junior v roce 2026"},9,null,1,9,{"$f":"IF(COUNTIF('N PMČR 2026'!B:B,B24)=0,\"-\",COUNTIF('N PMČR 2026'!B:B,B24))","v":1},{"$f":"IF(ISERROR(VLOOKUP(B24,'N PMČR 2026'!B:G,6,0)),\"-\",VLOOKUP(B24,'N PMČR 2026'!B:G,6,0))","v":45},{"$f":"IF(ISERROR(VLOOKUP(B24,'Zebrik G'!B:I,8,0)),\"-\",VLOOKUP(B24,'Zebrik G'!B:I,8,0))","v":60}]
[{"$f":"A24+1","v":10},"Vojtech Vach 03",{"$f":"VLOOKUP(B25,Pilot!A:C,3,0)","v":"Vrchlabí"},{"$f":"VLOOKUP(B25,Pilot!A:C,2,0)","v":2003},{"$f":"VLOOKUP(B25,Pilot!A:E,5,0)","v":"M"},{"$f":"VLOOKUP(B25,Pilot!A:F,6,0)","v":"Junior v roce 2026"},10,null,1,10,{"$f":"IF(COUNTIF('N PMČR 2026'!B:B,B25)=0,\"-\",COUNTIF('N PMČR 2026'!B:B,B25))","v":1},{"$f":"IF(ISERROR(VLOOKUP(B25,'N PMČR 2026'!B:G,6,0)),\"-\",VLOOKUP(B25,'N PMČR 2026'!B:G,6,0))","v":46},{"$f":"IF(ISERROR(VLOOKUP(B25,'Zebrik G'!B:I,8,0)),\"-\",VLOOKUP(B25,'Zebrik G'!B:I,8,0))","v":93}]
[{"$f":"A25+1","v":11},"Lukas Volek",{"$f":"VLOOKUP(B26,Pilot!A:C,3,0)","v":"Hodkovice"},{"$f":"VLOOKUP(B26,Pilot!A:C,2,0)","v":2004},{"$f":"VLOOKUP(B26,Pilot!A:E,5,0)","v":"M"},{"$f":"VLOOKUP(B26,Pilot!A:F,6,0)","v":"Junior v roce 2026"},{"$f":"A26","v":11},null,1,11,{"$f":"IF(COUNTIF('N PMČR 2026'!B:B,B26)=0,\"-\",COUNTIF('N PMČR 2026'!B:B,B26))","v":1},{"$f":"IF(ISERROR(VLOOKUP(B26,'N PMČR 2026'!B:G,6,0)),\"-\",VLOOKUP(B26,'N PMČR 2026'!B:G,6,0))","v":47},{"$f":"IF(ISERROR(VLOOKUP(B26,'Zebrik G'!B:I,8,0)),\"-\",VLOOKUP(B26,'Zebrik G'!B:I,8,0))","v":173}]
[12,"Ivan Morkovsky",{"$f":"VLOOKUP(B27,Pilot!A:C,3,0)","v":"Polička"},{"$f":"VLOOKUP(B27,Pilot!A:C,2,0)","v":2008},{"$f":"VLOOKUP(B27,Pilot!A:E,5,0)","v":"M"},{"$f":"VLOOKUP(B27,Pilot!A:F,6,0)","v":"Junior v roce 2026"},{"$f":"A27","v":12},null,1,12,{"$f":"IF(COUNTIF('N PMČR 2026'!B:B,B27)=0,\"-\",COUNTIF('N PMČR 2026'!B:B,B27))","v":1},{"$f":"IF(ISERROR(VLOOKUP(B27,'N PMČR 2026'!B:G,6,0)),\"-\",VLOOKUP(B27,'N PMČR 2026'!B:G,6,0))","v":48},{"$f":"IF(ISERROR(VLOOKUP(B27,'Zebrik G'!B:I,8,0)),\"-\",VLOOKUP(B27,'Zebrik G'!B:I,8,0))","v":199}]
[13,"Katerina Vancurova",{"$f":"VLOOKUP(B28,Pilot!A:C,3,0)","v":"Hranice"},{"$f":"VLOOKUP(B28,Pilot!A:C,2,0)","v":2002},{"$f":"VLOOKUP(B28,Pilot!A:E,5,0)","v":"F"},{"$f":"VLOOKUP(B28,Pilot!A:F,6,0)","v":"Junior v roce 2026"},13,null,1,13,{"$f":"IF(COUNTIF('N PMČR 2026'!B:B,B28)=0,\"-\",COUNTIF('N PMČR 2026'!B:B,B28))","v":1},{"$f":"IF(ISERROR(VLOOKUP(B28,'N PMČR 2026'!B:G,6,0)),\"-\",VLOOKUP(B28,'N PMČR 2026'!B:G,6,0))","v":"N1"},{"$f":"IF(ISERROR(VLOOKUP(B28,'Zebrik G'!B:I,8,0)),\"-\",VLOOKUP(B28,'Zebrik G'!B:I,8,0))","v":142}]
[14,"Stepan Bartos",{"$f":"VLOOKUP(B29,Pilot!A:C,3,0)","v":"Kolín"},{"$f":"VLOOKUP(B29,Pilot!A:C,2,0)","v":2004},{"$f":"VLOOKUP(B29,Pilot!A:E,5,0)","v":"M"},{"$f":"VLOOKUP(B29,Pilot!A:F,6,0)","v":"Junior v roce 2026"},14,null,1,14,{"$f":"IF(COUNTIF('N PMČR 2026'!B:B,B29)=0,\"-\",COUNTIF('N PMČR 2026'!B:B,B29))","v":1},{"$f":"IF(ISERROR(VLOOKUP(B29,'N PMČR 2026'!B:G,6,0)),\"-\",VLOOKUP(B29,'N PMČR 2026'!B:G,6,0))","v":"N2"},{"$f":"IF(ISERROR(VLOOKUP(B29,'Zebrik G'!B:I,8,0)),\"-\",VLOOKUP(B29,'Zebrik G'!B:I,8,0))","v":46}]
[]
[null,"Ostatní soutěžící nominuje PK v pořadí podle umístění v CPS-INT předchozího roku do naplnění celkového počtu 40 nominovaných (+ 5 náhradníků):"]
[{"$f":"MAX($A$9:A31)+1","v":15},"-",{"$f":"VLOOKUP(B32,Pilot!A:C,3,0)","v":" "},{"$f":"VLOOKUP(B32,Pilot!A:C,2,0)","v":" "},{"$f":"VLOOKUP(B32,Pilot!A:E,5,0)","v":" "},{"$f":"VLOOKUP(B32,Pilot!A:F,6,0)","v":" "},{"$f":"A32","v":15},null,{"$f":"COUNTIF(B:B,B32)","v":37},{"$f":"IF(ISERROR(VLOOKUP(B32,B:G,6,0)),\"-\",VLOOKUP(B32,B:G,6,0))","v":"-"},{"$f":"IF(COUNTIF('N PMČR 2026'!B:B,B32)=0,\"-\",COUNTIF('N PMČR 2026'!B:B,B32))","v":5},{"$f":"IF(ISERROR(VLOOKUP(B32,'N PMČR 2026'!B:G,6,0)),\"-\",VLOOKUP(B32,'N PMČR 2026'!B:G,6,0))","v":81},{"$f":"IF(ISERROR(VLOOKUP(B32,'Zebrik G'!B:I,8,0)),\"-\",VLOOKUP(B32,'Zebrik G'!B:I,8,0))","v":"-"}]
[{"$f":"A32+1","v":16},"-",{"$f":"VLOOKUP(B33,Pilot!A:C,3,0)","v":" "},{"$f":"VLOOKUP(B33,Pilot!A:C,2,0)","v":" "},{"$f":"VLOOKUP(B33,Pilot!A:E,5,0)","v":" "},{"$f":"VLOOKUP(B33,Pilot!A:F,6,0)","v":" "},16,null,37,"-",{"$f":"IF(COUNTIF('N PMČR 2026'!B:B,B33)=0,\"-\",COUNTIF('N PMČR 2026'!B:B,B33))","v":5},{"$f":"IF(ISERROR(VLOOKUP(B33,'N PMČR 2026'!B:G,6,0)),\"-\",VLOOKUP(B33,'N PMČR 2026'!B:G,6,0))","v":81},{"$f":"IF(ISERROR(VLOOKUP(B33,'Zebrik G'!B:I,8,0)),\"-\",VLOOKUP(B33,'Zebrik G'!B:I,8,0))","v":"-"}]
[{"$f":"A33+1","v":17},"-",{"$f":"VLOOKUP(B34,Pilot!A:C,3,0)","v":" "},{"$f":"VLOOKUP(B34,Pilot!A:C,2,0)","v":" "},{"$f":"VLOOKUP(B34,Pilot!A:E,5,0)","v":" "},{"$f":"VLOOKUP(B34,Pilot!A:F,6,0)","v":" "},17,null,37,"-",{"$f":"IF(COUNTIF('N PMČR 2026'!B:B,B34)=0,\"-\",COUNTIF('N PMČR 2026'!B:B,B34))","v":5},{"$f":"IF(ISERROR(VLOOKUP(B34,'N PMČR 2026'!B:G,6,0)),\"-\",VLOOKUP(B34,'N PMČR 2026'!B:G,6,0))","v":81},{"$f":"IF(ISERROR(VLOOKUP(B34,'Zebrik G'!B:I,8,0)),\"-\",VLOOKUP(B34,'Zebrik G'!B:I,8,0))","v":"-"}]
[18,"-",{"$f":"VLOOKUP(B35,Pilot!A:C,3,0)","v":" "},{"$f":"VLOOKUP(B35,Pilot!A:C,2,0)","v":" "},{"$f":"VLOOKUP(B35,Pilot!A:E,5,0)","v":" "},{"$f":"VLOOKUP(B35,Pilot!A:F,6,0)","v":" "},18,null,37,"-",{"$f":"IF(COUNTIF('N PMČR 2026'!B:B,B35)=0,\"-\",COUNTIF('N PMČR 2026'!B:B,B35))","v":5},{"$f":"IF(ISERROR(VLOOKUP(B35,'N PMČR 2026'!B:G,6,0)),\"-\",VLOOKUP(B35,'N PMČR 2026'!B:G,6,0))","v":81},{"$f":"IF(ISERROR(VLOOKUP(B35,'Zebrik G'!B:I,8,0)),\"-\",VLOOKUP(B35,'Zebrik G'!B:I,8,0))","v":"-"}]
[19,"-",{"$f":"VLOOKUP(B36,Pilot!A:C,3,0)","v":" "},{"$f":"VLOOKUP(B36,Pilot!A:C,2,0)","v":" "},{"$f":"VLOOKUP(B36,Pilot!A:E,5,0)","v":" "},{"$f":"VLOOKUP(B36,Pilot!A:F,6,0)","v":" "},19,null,37,"-",{"$f":"IF(COUNTIF('N PMČR 2026'!B:B,B36)=0,\"-\",COUNTIF('N PMČR 2026'!B:B,B36))","v":5},{"$f":"IF(ISERROR(VLOOKUP(B36,'N PMČR 2026'!B:G,6,0)),\"-\",VLOOKUP(B36,'N PMČR 2026'!B:G,6,0))","v":81},{"$f":"IF(ISERROR(VLOOKUP(B36,'Zebrik G'!B:I,8,0)),\"-\",VLOOKUP(B36,'Zebrik G'!B:I,8,0))","v":"-"}]
[20,"-",{"$f":"VLOOKUP(B37,Pilot!A:C,3,0)","v":" "},{"$f":"VLOOKUP(B37,Pilot!A:C,2,0)","v":" "},{"$f":"VLOOKUP(B37,Pilot!A:E,5,0)","v":" "},{"$f":"VLOOKUP(B37,Pilot!A:F,6,0)","v":" "},20,null,37,"-",{"$f":"IF(COUNTIF('N PMČR 2026'!B:B,B37)=0,\"-\",COUNTIF('N PMČR 2026'!B:B,B37))","v":5},{"$f":"IF(ISERROR(VLOOKUP(B37,'N PMČR 2026'!B:G,6,0)),\"-\",VLOOKUP(B37,'N PMČR 2026'!B:G,6,0))","v":81},{"$f":"IF(ISERROR(VLOOKUP(B37,'Zebrik G'!B:I,8,0)),\"-\",VLOOKUP(B37,'Zebrik G'!B:I,8,0))","v":"-"}]
[21,"-",{"$f":"VLOOKUP(B38,Pilot!A:C,3,0)","v":" "},{"$f":"VLOOKUP(B38,Pilot!A:C,2,0)","v":" "},{"$f":"VLOOKUP(B38,Pilot!A:E,5,0)","v":" "},{"$f":"VLOOKUP(B38,Pilot!A:F,6,0)","v":" "},21,null,37,"-",{"$f":"IF(COUNTIF('N PMČR 2026'!B:B,B38)=0,\"-\",COUNTIF('N PMČR 2026'!B:B,B38))","v":5},{"$f":"IF(ISERROR(VLOOKUP(B38,'N PMČR 2026'!B:G,6,0)),\"-\",VLOOKUP(B38,'N PMČR 2026'!B:G,6,0))","v":81},{"$f":"IF(ISERROR(VLOOKUP(B38,'Zebrik G'!B:I,8,0)),\"-\",VLOOKUP(B38,'Zebrik G'!B:I,8,0))","v":"-"}]
[22,"-",{"$f":"VLOOKUP(B39,Pilot!A:C,3,0)","v":" "},{"$f":"VLOOKUP(B39,Pilot!A:C,2,0)","v":" "},{"$f":"VLOOKUP(B39,Pilot!A:E,5,0)","v":" "},{"$f":"VLOOKUP(B39,Pilot!A:F,6,0)","v":" "},22,null,37,"-",{"$f":"IF(COUNTIF('N PMČR 2026'!B:B,B39)=0,\"-\",COUNTIF('N PMČR 2026'!B:B,B39))","v":5},{"$f":"IF(ISERROR(VLOOKUP(B39,'N PMČR 2026'!B:G,6,0)),\"-\",VLOOKUP(B39,'N PMČR 2026'!B:G,6,0))","v":81},{"$f":"IF(ISERROR(VLOOKUP(B39,'Zebrik G'!B:I,8,0)),\"-\",VLOOKUP(B39,'Zebrik G'!B:I,8,0))","v":"-"}]
[23,"-",{"$f":"VLOOKUP(B40,Pilot!A:C,3,0)","v":" "},{"$f":"VLOOKUP(B40,Pilot!A:C,2,0)","v":" "},{"$f":"VLOOKUP(B40,Pilot!A:E,5,0)","v":" "},{"$f":"VLOOKUP(B40,Pilot!A:F,6,0)","v":" "},23,null,37,"-",{"$f":"IF(COUNTIF('N PMČR 2026'!B:B,B40)=0,\"-\",COUNTIF('N PMČR 2026'!B:B,B40))","v":5},{"$f":"IF(ISERROR(VLOOKUP(B40,'N PMČR 2026'!B:G,6,0)),\"-\",VLOOKUP(B40,'N PMČR 2026'!B:G,6,0))","v":81},{"$f":"IF(ISERROR(VLOOKUP(B40,'Zebrik G'!B:I,8,0)),\"-\",VLOOKUP(B40,'Zebrik G'!B:I,8,0))","v":"-"}]
[24,"-",{"$f":"VLOOKUP(B41,Pilot!A:C,3,0)","v":" "},{"$f":"VLOOKUP(B41,Pilot!A:C,2,0)","v":" "},{"$f":"VLOOKUP(B41,Pilot!A:E,5,0)","v":" "},{"$f":"VLOOKUP(B41,Pilot!A:F,6,0)","v":" "},24,null,37,"-",{"$f":"IF(COUNTIF('N PMČR 2026'!B:B,B41)=0,\"-\",COUNTIF('N PMČR 2026'!B:B,B41))","v":5},{"$f":"IF(ISERROR(VLOOKUP(B41,'N PMČR 2026'!B:G,6,0)),\"-\",VLOOKUP(B41,'N PMČR 2026'!B:G,6,0))","v":81},{"$f":"IF(ISERROR(VLOOKUP(B41,'Zebrik G'!B:I,8,0)),\"-\",VLOOKUP(B41,'Zebrik G'!B:I,8,0))","v":"-"}]
[25,"-",{"$f":"VLOOKUP(B42,Pilot!A:C,3,0)","v":" "},{"$f":"VLOOKUP(B42,Pilot!A:C,2,0)","v":" "},{"$f":"VLOOKUP(B42,Pilot!A:E,5,0)","v":" "},{"$f":"VLOOKUP(B42,Pilot!A:F,6,0)","v":" "},{"$f":"A42","v":25},null,37,"-",{"$f":"IF(COUNTIF('N PMČR 2026'!B:B,B42)=0,\"-\",COUNTIF('N PMČR 2026'!B:B,B42))","v":5},{"$f":"IF(ISERROR(VLOOKUP(B42,'N PMČR 2026'!B:G,6,0)),\"-\",VLOOKUP(B42,'N PMČR 2026'!B:G,6,0))","v":81},{"$f":"IF(ISERROR(VLOOKUP(B42,'Zebrik G'!B:I,8,0)),\"-\",VLOOKUP(B42,'Zebrik G'!B:I,8,0))","v":"-"}]
[26,"-",{"$f":"VLOOKUP(B43,Pilot!A:C,3,0)","v":" "},{"$f":"VLOOKUP(B43,Pilot!A:C,2,0)","v":" "},{"$f":"VLOOKUP(B43,Pilot!A:E,5,0)","v":" "},{"$f":"VLOOKUP(B43,Pilot!A:F,6,0)","v":" "},26,null,37,"-",{"$f":"IF(COUNTIF('N PMČR 2026'!B:B,B43)=0,\"-\",COUNTIF('N PMČR 2026'!B:B,B43))","v":5},{"$f":"IF(ISERROR(VLOOKUP(B43,'N PMČR 2026'!B:G,6,0)),\"-\",VLOOKUP(B43,'N PMČR 2026'!B:G,6,0))","v":81},{"$f":"IF(ISERROR(VLOOKUP(B43,'Zebrik G'!B:I,8,0)),\"-\",VLOOKUP(B43,'Zebrik G'!B:I,8,0))","v":"-"}]
[27,"-",{"$f":"VLOOKUP(B44,Pilot!A:C,3,0)","v":" "},{"$f":"VLOOKUP(B44,Pilot!A:C,2,0)","v":" "},{"$f":"VLOOKUP(B44,Pilot!A:E,5,0)","v":" "},{"$f":"VLOOKUP(B44,Pilot!A:F,6,0)","v":" "},27,null,37,"-",{"$f":"IF(COUNTIF('N PMČR 2026'!B:B,B44)=0,\"-\",COUNTIF('N PMČR 2026'!B:B,B44))","v":5},{"$f":"IF(ISERROR(VLOOKUP(B44,'N PMČR 2026'!B:G,6,0)),\"-\",VLOOKUP(B44,'N PMČR 2026'!B:G,6,0))","v":81},{"$f":"IF(ISERROR(VLOOKUP(B44,'Zebrik G'!B:I,8,0)),\"-\",VLOOKUP(B44,'Zebrik G'!B:I,8,0))","v":"-"}]
[28,"-",{"$f":"VLOOKUP(B45,Pilot!A:C,3,0)","v":" "},{"$f":"VLOOKUP(B45,Pilot!A:C,2,0)","v":" "},{"$f":"VLOOKUP(B45,Pilot!A:E,5,0)","v":" "},{"$f":"VLOOKUP(B45,Pilot!A:F,6,0)","v":" "},28,null,37,"-",{"$f":"IF(COUNTIF('N PMČR 2026'!B:B,B45)=0,\"-\",COUNTIF('N PMČR 2026'!B:B,B45))","v":5},{"$f":"IF(ISERROR(VLOOKUP(B45,'N PMČR 2026'!B:G,6,0)),\"-\",VLOOKUP(B45,'N PMČR 2026'!B:G,6,0))","v":81},{"$f":"IF(ISERROR(VLOOKUP(B45,'Zebrik G'!B:I,8,0)),\"-\",VLOOKUP(B45,'Zebrik G'!B:I,8,0))","v":"-"}]
[29,"-",{"$f":"VLOOKUP(B46,Pilot!A:C,3,0)","v":" "},{"$f":"VLOOKUP(B46,Pilot!A:C,2,0)","v":" "},{"$f":"VLOOKUP(B46,Pilot!A:E,5,0)","v":" "},{"$f":"VLOOKUP(B46,Pilot!A:F,6,0)","v":" "},29,null,37,"-",{"$f":"IF(COUNTIF('N PMČR 2026'!B:B,B46)=0,\"-\",COUNTIF('N PMČR 2026'!B:B,B46))","v":5},{"$f":"IF(ISERROR(VLOOKUP(B46,'N PMČR 2026'!B:G,6,0)),\"-\",VLOOKUP(B46,'N PMČR 2026'!B:G,6,0))","v":81},{"$f":"IF(ISERROR(VLOOKUP(B46,'Zebrik G'!B:I,8,0)),\"-\",VLOOKUP(B46,'Zebrik G'!B:I,8,0))","v":"-"}]
[30,"-",{"$f":"VLOOKUP(B47,Pilot!A:C,3,0)","v":" "},{"$f":"VLOOKUP(B47,Pilot!A:C,2,0)","v":" "},{"$f":"VLOOKUP(B47,Pilot!A:E,5,0)","v":" "},{"$f":"VLOOKUP(B47,Pilot!A:F,6,0)","v":" "},30,null,37,"-",{"$f":"IF(COUNTIF('N PMČR 2026'!B:B,B47)=0,\"-\",COUNTIF('N PMČR 2026'!B:B,B47))","v":5},{"$f":"IF(ISERROR(VLOOKUP(B47,'N PMČR 2026'!B:G,6,0)),\"-\",VLOOKUP(B47,'N PMČR 2026'!B:G,6,0))","v":81},{"$f":"IF(ISERROR(VLOOKUP(B47,'Zebrik G'!B:I,8,0)),\"-\",VLOOKUP(B47,'Zebrik G'!B:I,8,0))","v":"-"}]
[31,"-",{"$f":"VLOOKUP(B48,Pilot!A:C,3,0)","v":" "},{"$f":"VLOOKUP(B48,Pilot!A:C,2,0)","v":" "},{"$f":"VLOOKUP(B48,Pilot!A:E,5,0)","v":" "},{"$f":"VLOOKUP(B48,Pilot!A:F,6,0)","v":" "},31,null,37,"-",{"$f":"IF(COUNTIF('N PMČR 2026'!B:B,B48)=0,\"-\",COUNTIF('N PMČR 2026'!B:B,B48))","v":5},{"$f":"IF(ISERROR(VLOOKUP(B48,'N PMČR 2026'!B:G,6,0)),\"-\",VLOOKUP(B48,'N PMČR 2026'!B:G,6,0))","v":81},{"$f":"IF(ISERROR(VLOOKUP(B48,'Zebrik G'!B:I,8,0)),\"-\",VLOOKUP(B48,'Zebrik G'!B:I,8,0))","v":"-"}]
[32,"-",{"$f":"VLOOKUP(B49,Pilot!A:C,3,0)","v":" "},{"$f":"VLOOKUP(B49,Pilot!A:C,2,0)","v":" "},{"$f":"VLOOKUP(B49,Pilot!A:E,5,0)","v":" "},{"$f":"VLOOKUP(B49,Pilot!A:F,6,0)","v":" "},{"$f":"A49","v":32},null,37,"-",{"$f":"IF(COUNTIF('N PMČR 2026'!B:B,B49)=0,\"-\",COUNTIF('N PMČR 2026'!B:B,B49))","v":5},{"$f":"IF(ISERROR(VLOOKUP(B49,'N PMČR 2026'!B:G,6,0)),\"-\",VLOOKUP(B49,'N PMČR 2026'!B:G,6,0))","v":81},{"$f":"IF(ISERROR(VLOOKUP(B49,'Zebrik G'!B:I,8,0)),\"-\",VLOOKUP(B49,'Zebrik G'!B:I,8,0))","v":"-"}]
[33,"-",{"$f":"VLOOKUP(B50,Pilot!A:C,3,0)","v":" "},{"$f":"VLOOKUP(B50,Pilot!A:C,2,0)","v":" "},{"$f":"VLOOKUP(B50,Pilot!A:E,5,0)","v":" "},{"$f":"VLOOKUP(B50,Pilot!A:F,6,0)","v":" "},33,null,37,"-",{"$f":"IF(COUNTIF('N PMČR 2026'!B:B,B50)=0,\"-\",COUNTIF('N PMČR 2026'!B:B,B50))","v":5},{"$f":"IF(ISERROR(VLOOKUP(B50,'N PMČR 2026'!B:G,6,0)),\"-\",VLOOKUP(B50,'N PMČR 2026'!B:G,6,0))","v":81},{"$f":"IF(ISERROR(VLOOKUP(B50,'Zebrik G'!B:I,8,0)),\"-\",VLOOKUP(B50,'Zebrik G'!B:I,8,0))","v":"-"}]
[34,"-",{"$f":"VLOOKUP(B51,Pilot!A:C,3,0)","v":" "},{"$f":"VLOOKUP(B51,Pilot!A:C,2,0)","v":" "},{"$f":"VLOOKUP(B51,Pilot!A:E,5,0)","v":" "},{"$f":"VLOOKUP(B51,Pilot!A:F,6,0)","v":" "},34,null,37,"-",{"$f":"IF(COUNTIF('N PMČR 2026'!B:B,B51)=0,\"-\",COUNTIF('N PMČR 2026'!B:B,B51))","v":5},{"$f":"IF(ISERROR(VLOOKUP(B51,'N PMČR 2026'!B:G,6,0)),\"-\",VLOOKUP(B51,'N PMČR 2026'!B:G,6,0))","v":81},{"$f":"IF(ISERROR(VLOOKUP(B51,'Zebrik G'!B:I,8,0)),\"-\",VLOOKUP(B51,'Zebrik G'!B:I,8,0))","v":"-"}]
[35,"-",{"$f":"VLOOKUP(B52,Pilot!A:C,3,0)","v":" "},{"$f":"VLOOKUP(B52,Pilot!A:C,2,0)","v":" "},{"$f":"VLOOKUP(B52,Pilot!A:E,5,0)","v":" "},{"$f":"VLOOKUP(B52,Pilot!A:F,6,0)","v":" "},{"$f":"A52","v":35},null,37,"-",{"$f":"IF(COUNTIF('N PMČR 2026'!B:B,B52)=0,\"-\",COUNTIF('N PMČR 2026'!B:B,B52))","v":5},{"$f":"IF(ISERROR(VLOOKUP(B52,'N PMČR 2026'!B:G,6,0)),\"-\",VLOOKUP(B52,'N PMČR 2026'!B:G,6,0))","v":81},{"$f":"IF(ISERROR(VLOOKUP(B52,'Zebrik G'!B:I,8,0)),\"-\",VLOOKUP(B52,'Zebrik G'!B:I,8,0))","v":"-"}]
[36,"-",{"$f":"VLOOKUP(B53,Pilot!A:C,3,0)","v":" "},{"$f":"VLOOKUP(B53,Pilot!A:C,2,0)","v":" "},{"$f":"VLOOKUP(B53,Pilot!A:E,5,0)","v":" "},{"$f":"VLOOKUP(B53,Pilot!A:F,6,0)","v":" "},{"$f":"A53","v":36},null,37,"-",{"$f":"IF(COUNTIF('N PMČR 2026'!B:B,B53)=0,\"-\",COUNTIF('N PMČR 2026'!B:B,B53))","v":5},{"$f":"IF(ISERROR(VLOOKUP(B53,'N PMČR 2026'!B:G,6,0)),\"-\",VLOOKUP(B53,'N PMČR 2026'!B:G,6,0))","v":81},{"$f":"IF(ISERROR(VLOOKUP(B53,'Zebrik G'!B:I,8,0)),\"-\",VLOOKUP(B53,'Zebrik G'!B:I,8,0))","v":"-"}]
[37,"-",{"$f":"VLOOKUP(B54,Pilot!A:C,3,0)","v":" "},{"$f":"VLOOKUP(B54,Pilot!A:C,2,0)","v":" "},{"$f":"VLOOKUP(B54,Pilot!A:E,5,0)","v":" "},{"$f":"VLOOKUP(B54,Pilot!A:F,6,0)","v":" "},37,null,37,"-",{"$f":"IF(COUNTIF('N PMČR 2026'!B:B,B54)=0,\"-\",COUNTIF('N PMČR 2026'!B:B,B54))","v":5},{"$f":"IF(ISERROR(VLOOKUP(B54,'N PMČR 2026'!B:G,6,0)),\"-\",VLOOKUP(B54,'N PMČR 2026'!B:G,6,0))","v":81},{"$f":"IF(ISERROR(VLOOKUP(B54,'Zebrik G'!B:I,8,0)),\"-\",VLOOKUP(B54,'Zebrik G'!B:I,8,0))","v":"-"}]
[38,"-",{"$f":"VLOOKUP(B55,Pilot!A:C,3,0)","v":" "},{"$f":"VLOOKUP(B55,Pilot!A:C,2,0)","v":" "},{"$f":"VLOOKUP(B55,Pilot!A:E,5,0)","v":" "},{"$f":"VLOOKUP(B55,Pilot!A:F,6,0)","v":" "},38,null,37,"-",{"$f":"IF(COUNTIF('N PMČR 2026'!B:B,B55)=0,\"-\",COUNTIF('N PMČR 2026'!B:B,B55))","v":5},{"$f":"IF(ISERROR(VLOOKUP(B55,'N PMČR 2026'!B:G,6,0)),\"-\",VLOOKUP(B55,'N PMČR 2026'!B:G,6,0))","v":81},{"$f":"IF(ISERROR(VLOOKUP(B55,'Zebrik G'!B:I,8,0)),\"-\",VLOOKUP(B55,'Zebrik G'!B:I,8,0))","v":"-"}]
[39,"-",{"$f":"VLOOKUP(B56,Pilot!A:C,3,0)","v":" "},{"$f":"VLOOKUP(B56,Pilot!A:C,2,0)","v":" "},{"$f":"VLOOKUP(B56,Pilot!A:E,5,0)","v":" "},{"$f":"VLOOKUP(B56,Pilot!A:F,6,0)","v":" "},{"$f":"A56","v":39},null,{"$f":"COUNTIF(B:B,B56)","v":37},{"$f":"IF(ISERROR(VLOOKUP(B56,B:G,6,0)),\"-\",VLOOKUP(B56,B:G,6,0))","v":"-"},{"$f":"IF(COUNTIF('N PMČR 2026'!B:B,B56)=0,\"-\",COUNTIF('N PMČR 2026'!B:B,B56))","v":5},{"$f":"IF(ISERROR(VLOOKUP(B56,'N PMČR 2026'!B:G,6,0)),\"-\",VLOOKUP(B56,'N PMČR 2026'!B:G,6,0))","v":81},{"$f":"IF(ISERROR(VLOOKUP(B56,'Zebrik G'!B:I,8,0)),\"-\",VLOOKUP(B56,'Zebrik G'!B:I,8,0))","v":"-"}]
[40,"-",{"$f":"VLOOKUP(B57,Pilot!A:C,3,0)","v":" "},{"$f":"VLOOKUP(B57,Pilot!A:C,2,0)","v":" "},{"$f":"VLOOKUP(B57,Pilot!A:E,5,0)","v":" "},{"$f":"VLOOKUP(B57,Pilot!A:F,6,0)","v":" "},40,null,37,"-",{"$f":"IF(COUNTIF('N PMČR 2026'!B:B,B57)=0,\"-\",COUNTIF('N PMČR 2026'!B:B,B57))","v":5},{"$f":"IF(ISERROR(VLOOKUP(B57,'N PMČR 2026'!B:G,6,0)),\"-\",VLOOKUP(B57,'N PMČR 2026'!B:G,6,0))","v":81},{"$f":"IF(ISERROR(VLOOKUP(B57,'Zebrik G'!B:I,8,0)),\"-\",VLOOKUP(B57,'Zebrik G'!B:I,8,0))","v":"-"}]
["N1","-",{"$f":"VLOOKUP(B58,Pilot!A:C,3,0)","v":" "},{"$f":"VLOOKUP(B58,Pilot!A:C,2,0)","v":" "},{"$f":"VLOOKUP(B58,Pilot!A:E,5,0)","v":" "},{"$f":"VLOOKUP(B58,Pilot!A:F,6,0)","v":" "},"N1",null,{"$f":"COUNTIF(B:B,B58)","v":37},{"$f":"IF(ISERROR(VLOOKUP(B58,B:G,6,0)),\"-\",VLOOKUP(B58,B:G,6,0))","v":"-"},{"$f":"IF(COUNTIF('N PMČR 2026'!B:B,B58)=0,\"-\",COUNTIF('N PMČR 2026'!B:B,B58))","v":5},{"$f":"IF(ISERROR(VLOOKUP(B58,'N PMČR 2026'!B:G,6,0)),\"-\",VLOOKUP(B58,'N PMČR 2026'!B:G,6,0))","v":81},{"$f":"IF(ISERROR(VLOOKUP(B58,'Zebrik G'!B:I,8,0)),\"-\",VLOOKUP(B58,'Zebrik G'!B:I,8,0))","v":"-"}]
["N2","-",{"$f":"VLOOKUP(B59,Pilot!A:C,3,0)","v":" "},{"$f":"VLOOKUP(B59,Pilot!A:C,2,0)","v":" "},{"$f":"VLOOKUP(B59,Pilot!A:E,5,0)","v":" "},{"$f":"VLOOKUP(B59,Pilot!A:F,6,0)","v":" "},"N2",null,{"$f":"COUNTIF(B:B,B59)","v":37},{"$f":"IF(ISERROR(VLOOKUP(B59,B:G,6,0)),\"-\",VLOOKUP(B59,B:G,6,0))","v":"-"},{"$f":"IF(COUNTIF('N PMČR 2026'!B:B,B59)=0,\"-\",COUNTIF('N PMČR 2026'!B:B,B59))","v":5},{"$f":"IF(ISERROR(VLOOKUP(B59,'N PMČR 2026'!B:G,6,0)),\"-\",VLOOKUP(B59,'N PMČR 2026'!B:G,6,0))","v":81},{"$f":"IF(ISERROR(VLOOKUP(B59,'Zebrik G'!B:I,8,0)),\"-\",VLOOKUP(B59,'Zebrik G'!B:I,8,0))","v":"-"}]
["N3","-",{"$f":"VLOOKUP(B60,Pilot!A:C,3,0)","v":" "},{"$f":"VLOOKUP(B60,Pilot!A:C,2,0)","v":" "},{"$f":"VLOOKUP(B60,Pilot!A:E,5,0)","v":" "},{"$f":"VLOOKUP(B60,Pilot!A:F,6,0)","v":" "},"N3",null,{"$f":"COUNTIF(B:B,B60)","v":37},{"$f":"IF(ISERROR(VLOOKUP(B60,B:G,6,0)),\"-\",VLOOKUP(B60,B:G,6,0))","v":"-"},{"$f":"IF(COUNTIF('N PMČR 2026'!B:B,B60)=0,\"-\",COUNTIF('N PMČR 2026'!B:B,B60))","v":5},{"$f":"IF(ISERROR(VLOOKUP(B60,'N PMČR 2026'!B:G,6,0)),\"-\",VLOOKUP(B60,'N PMČR 2026'!B:G,6,0))","v":81},{"$f":"IF(ISERROR(VLOOKUP(B60,'Zebrik G'!B:I,8,0)),\"-\",VLOOKUP(B60,'Zebrik G'!B:I,8,0))","v":"-"}]
["N4","-",{"$f":"VLOOKUP(B61,Pilot!A:C,3,0)","v":" "},{"$f":"VLOOKUP(B61,Pilot!A:C,2,0)","v":" "},{"$f":"VLOOKUP(B61,Pilot!A:E,5,0)","v":" "},{"$f":"VLOOKUP(B61,Pilot!A:F,6,0)","v":" "},"N4",null,{"$f":"COUNTIF(B:B,B61)","v":37},{"$f":"IF(ISERROR(VLOOKUP(B61,B:G,6,0)),\"-\",VLOOKUP(B61,B:G,6,0))","v":"-"},{"$f":"IF(COUNTIF('N PMČR 2026'!B:B,B61)=0,\"-\",COUNTIF('N PMČR 2026'!B:B,B61))","v":5},{"$f":"IF(ISERROR(VLOOKUP(B61,'N PMČR 2026'!B:G,6,0)),\"-\",VLOOKUP(B61,'N PMČR 2026'!B:G,6,0))","v":81},{"$f":"IF(ISERROR(VLOOKUP(B61,'Zebrik G'!B:I,8,0)),\"-\",VLOOKUP(B61,'Zebrik G'!B:I,8,0))","v":"-"}]
["N5","-",{"$f":"VLOOKUP(B62,Pilot!A:C,3,0)","v":" "},{"$f":"VLOOKUP(B62,Pilot!A:C,2,0)","v":" "},{"$f":"VLOOKUP(B62,Pilot!A:E,5,0)","v":" "},{"$f":"VLOOKUP(B62,Pilot!A:F,6,0)","v":" "},"N5",null,{"$f":"COUNTIF(B:B,B62)","v":37},{"$f":"IF(ISERROR(VLOOKUP(B62,B:G,6,0)),\"-\",VLOOKUP(B62,B:G,6,0))","v":"-"},{"$f":"IF(COUNTIF('N PMČR 2026'!B:B,B62)=0,\"-\",COUNTIF('N PMČR 2026'!B:B,B62))","v":5},{"$f":"IF(ISERROR(VLOOKUP(B62,'N PMČR 2026'!B:G,6,0)),\"-\",VLOOKUP(B62,'N PMČR 2026'!B:G,6,0))","v":81},{"$f":"IF(ISERROR(VLOOKUP(B62,'Zebrik G'!B:I,8,0)),\"-\",VLOOKUP(B62,'Zebrik G'!B:I,8,0))","v":"-"}]
["6.7.5.6.","Další soutěžící může navrhnout PK podle jiných kritérií dle odstavce 9. SŘ:"]
[{"$f":"MAX($A$9:A63)+1","v":41},"-",{"$f":"VLOOKUP(B64,Pilot!A:C,3,0)","v":" "},{"$f":"VLOOKUP(B64,Pilot!A:C,2,0)","v":" "},{"$f":"VLOOKUP(B64,Pilot!A:E,5,0)","v":" "},{"$f":"VLOOKUP(B64,Pilot!A:F,6,0)","v":" "},{"$f":"A64","v":41},null,{"$f":"COUNTIF(B:B,B64)","v":37},{"$f":"IF(ISERROR(VLOOKUP(B64,B:G,6,0)),\"-\",VLOOKUP(B64,B:G,6,0))","v":"-"},{"$f":"IF(COUNTIF('N PMČR 2026'!B:B,B64)=0,\"-\",COUNTIF('N PMČR 2026'!B:B,B64))","v":5},{"$f":"IF(ISERROR(VLOOKUP(B64,'N PMČR 2026'!B:G,6,0)),\"-\",VLOOKUP(B64,'N PMČR 2026'!B:G,6,0))","v":81},{"$f":"IF(ISERROR(VLOOKUP(B64,'Zebrik G'!B:I,8,0)),\"-\",VLOOKUP(B64,'Zebrik G'!B:I,8,0))","v":"-"}]
[{"$f":"A64+1","v":42},"-",{"$f":"VLOOKUP(B65,Pilot!A:C,3,0)","v":" "},{"$f":"VLOOKUP(B65,Pilot!A:C,2,0)","v":" "},{"$f":"VLOOKUP(B65,Pilot!A:E,5,0)","v":" "},{"$f":"VLOOKUP(B65,Pilot!A:F,6,0)","v":" "},{"$f":"A65","v":42},null,{"$f":"COUNTIF(B:B,B65)","v":37},{"$f":"IF(ISERROR(VLOOKUP(B65,B:G,6,0)),\"-\",VLOOKUP(B65,B:G,6,0))","v":"-"},{"$f":"IF(COUNTIF('N PMČR 2026'!B:B,B65)=0,\"-\",COUNTIF('N PMČR 2026'!B:B,B65))","v":5},{"$f":"IF(ISERROR(VLOOKUP(B65,'N PMČR 2026'!B:G,6,0)),\"-\",VLOOKUP(B65,'N PMČR 2026'!B:G,6,0))","v":81},{"$f":"IF(ISERROR(VLOOKUP(B65,'Zebrik G'!B:I,8,0)),\"-\",VLOOKUP(B65,'Zebrik G'!B:I,8,0))","v":"-"}]
[{"$f":"A65+1","v":43},"-",{"$f":"VLOOKUP(B66,Pilot!A:C,3,0)","v":" "},{"$f":"VLOOKUP(B66,Pilot!A:C,2,0)","v":" "},{"$f":"VLOOKUP(B66,Pilot!A:E,5,0)","v":" "},{"$f":"VLOOKUP(B66,Pilot!A:F,6,0)","v":" "},{"$f":"A66","v":43},null,{"$f":"COUNTIF(B:B,B66)","v":37},{"$f":"IF(ISERROR(VLOOKUP(B66,B:G,6,0)),\"-\",VLOOKUP(B66,B:G,6,0))","v":"-"},{"$f":"IF(COUNTIF('N PMČR 2026'!B:B,B66)=0,\"-\",COUNTIF('N PMČR 2026'!B:B,B66))","v":5},{"$f":"IF(ISERROR(VLOOKUP(B66,'N PMČR 2026'!B:G,6,0)),\"-\",VLOOKUP(B66,'N PMČR 2026'!B:G,6,0))","v":81},{"$f":"IF(ISERROR(VLOOKUP(B66,'Zebrik G'!B:I,8,0)),\"-\",VLOOKUP(B66,'Zebrik G'!B:I,8,0))","v":"-"}]
[44,"-",{"$f":"VLOOKUP(B67,Pilot!A:C,3,0)","v":" "},{"$f":"VLOOKUP(B67,Pilot!A:C,2,0)","v":" "},{"$f":"VLOOKUP(B67,Pilot!A:E,5,0)","v":" "},{"$f":"VLOOKUP(B67,Pilot!A:F,6,0)","v":" "},{"$f":"A67","v":44},null,{"$f":"COUNTIF(B:B,B67)","v":37},{"$f":"IF(ISERROR(VLOOKUP(B67,B:G,6,0)),\"-\",VLOOKUP(B67,B:G,6,0))","v":"-"},{"$f":"IF(COUNTIF('N PMČR 2026'!B:B,B67)=0,\"-\",COUNTIF('N PMČR 2026'!B:B,B67))","v":5},{"$f":"IF(ISERROR(VLOOKUP(B67,'N PMČR 2026'!B:G,6,0)),\"-\",VLOOKUP(B67,'N PMČR 2026'!B:G,6,0))","v":81},{"$f":"IF(ISERROR(VLOOKUP(B67,'Zebrik G'!B:I,8,0)),\"-\",VLOOKUP(B67,'Zebrik G'!B:I,8,0))","v":"-"}]
[45,"-",{"$f":"VLOOKUP(B68,Pilot!A:C,3,0)","v":" "},{"$f":"VLOOKUP(B68,Pilot!A:C,2,0)","v":" "},{"$f":"VLOOKUP(B68,Pilot!A:E,5,0)","v":" "},{"$f":"VLOOKUP(B68,Pilot!A:F,6,0)","v":" "},{"$f":"A68","v":45},null,{"$f":"COUNTIF(B:B,B68)","v":37},{"$f":"IF(ISERROR(VLOOKUP(B68,B:G,6,0)),\"-\",VLOOKUP(B68,B:G,6,0))","v":"-"},{"$f":"IF(COUNTIF('N PMČR 2026'!B:B,B68)=0,\"-\",COUNTIF('N PMČR 2026'!B:B,B68))","v":5},{"$f":"IF(ISERROR(VLOOKUP(B68,'N PMČR 2026'!B:G,6,0)),\"-\",VLOOKUP(B68,'N PMČR 2026'!B:G,6,0))","v":81},{"$f":"IF(ISERROR(VLOOKUP(B68,'Zebrik G'!B:I,8,0)),\"-\",VLOOKUP(B68,'Zebrik G'!B:I,8,0))","v":"-"}]
[null,null,null,null,null,null,null,null,null,null,null,null,{"$f":"IF(ISERROR(VLOOKUP(C69,'Zebrik G'!C:K,8,0)),\"-\",VLOOKUP(C69,'Zebrik G'!C:K,8,0))","v":"-"}]
["6.7.6.","Statut juniora:",null,null,null,null,null,null,null,null,null,null,{"$f":"IF(ISERROR(VLOOKUP(C70,'Zebrik G'!C:K,8,0)),\"-\",VLOOKUP(C70,'Zebrik G'!C:K,8,0))","v":"-"}]
[null,"Za juniora jsou považování všichni soutěžící, kteří dovrší maximálně 25 let v kalendářním roce konání soutěže.",null,null,null,null,null,null,null,null,null,null,{"$f":"IF(ISERROR(VLOOKUP(C71,'Zebrik G'!C:K,8,0)),\"-\",VLOOKUP(C71,'Zebrik G'!C:K,8,0))","v":"-"}]
[null,null,null,null,null,null,null,null,null,null,null,null,{"$f":"IF(ISERROR(VLOOKUP(C72,'Zebrik G'!C:K,8,0)),\"-\",VLOOKUP(C72,'Zebrik G'!C:K,8,0))","v":"-"}]
[null,null,null,null,null,null,null,null,null,null,null,null,{"$f":"IF(ISERROR(VLOOKUP(C73,'Zebrik G'!C:K,8,0)),\"-\",VLOOKUP(C73,'Zebrik G'!C:K,8,0))","v":"-"}]
[null,null,null,null,null,null,null,null,null,null,null,null,{"$f":"IF(ISERROR(VLOOKUP(C74,'Zebrik G'!C:K,8,0)),\"-\",VLOOKUP(C74,'Zebrik G'!C:K,8,0))","v":"-"}]
[null,null,null,null,null,null,null,null,null,null,null,null,{"$f":"IF(ISERROR(VLOOKUP(C75,'Zebrik G'!C:K,8,0)),\"-\",VLOOKUP(C75,'Zebrik G'!C:K,8,0))","v":"-"}]
[null,null,null,null,null,null,null,null,null,null,null,null,{"$f":"IF(ISERROR(VLOOKUP(C76,'Zebrik G'!C:K,8,0)),\"-\",VLOOKUP(C76,'Zebrik G'!C:K,8,0))","v":"-"}]
[]
[]
[]
[null,null,null,null,null,null,null,null,null,null,null,null,{"$f":"IF(ISERROR(VLOOKUP(C80,'Zebrik G'!C:K,8,0)),\"-\",VLOOKUP(C80,'Zebrik G'!C:K,8,0))","v":"-"}]
[null,null,null,null,null,null,null,null,null,null,null,null,{"$f":"IF(ISERROR(VLOOKUP(C81,'Zebrik G'!C:K,8,0)),\"-\",VLOOKUP(C81,'Zebrik G'!C:K,8,0))","v":"-"}]
[null,null,null,null,null,null,null,null,null,null,null,null,{"$f":"IF(ISERROR(VLOOKUP(C82,'Zebrik G'!C:K,8,0)),\"-\",VLOOKUP(C82,'Zebrik G'!C:K,8,0))","v":"-"}]
[null,null,null,null,null,null,null,null,null,null,null,null,{"$f":"IF(ISERROR(VLOOKUP(C83,'Zebrik G'!C:K,8,0)),\"-\",VLOOKUP(C83,'Zebrik G'!C:K,8,0))","v":"-"}]
[null,null,null,null,null,null,null,null,null,null,null,null,{"$f":"IF(ISERROR(VLOOKUP(C84,'Zebrik G'!C:K,8,0)),\"-\",VLOOKUP(C84,'Zebrik G'!C:K,8,0))","v":"-"}]
[null,null,null,null,null,null,null,null,null,null,null,null,{"$f":"IF(ISERROR(VLOOKUP(C85,'Zebrik G'!C:K,8,0)),\"-\",VLOOKUP(C85,'Zebrik G'!C:K,8,0))","v":"-"}]
[null,null,null,null,null,null,null,null,null,null,null,null,{"$f":"IF(ISERROR(VLOOKUP(C86,'Zebrik G'!C:K,8,0)),\"-\",VLOOKUP(C86,'Zebrik G'!C:K,8,0))","v":"-"}]
[null,null,null,null,null,null,null,null,null,null,null,null,{"$f":"IF(ISERROR(VLOOKUP(C87,'Zebrik G'!C:K,8,0)),\"-\",VLOOKUP(C87,'Zebrik G'!C:K,8,0))","v":"-"}]
[null,null,null,null,null,null,null,null,null,null,null,null,{"$f":"IF(ISERROR(VLOOKUP(C88,'Zebrik G'!C:K,8,0)),\"-\",VLOOKUP(C88,'Zebrik G'!C:K,8,0))","v":"-"}]
[null,null,null,null,null,null,null,null,null,null,null,null,{"$f":"IF(ISERROR(VLOOKUP(C89,'Zebrik G'!C:K,8,0)),\"-\",VLOOKUP(C89,'Zebrik G'!C:K,8,0))","v":"-"}]
[null,null,null,null,null,null,null,null,null,null,null,null,{"$f":"IF(ISERROR(VLOOKUP(C90,'Zebrik G'!C:K,8,0)),\"-\",VLOOKUP(C90,'Zebrik G'!C:K,8,0))","v":"-"}]
[null,null,null,null,null,null,null,null,null,null,null,null,{"$f":"IF(ISERROR(VLOOKUP(C91,'Zebrik G'!C:K,8,0)),\"-\",VLOOKUP(C91,'Zebrik G'!C:K,8,0))","v":"-"}]
[null,null,null,null,null,null,null,null,null,null,null,null,{"$f":"IF(ISERROR(VLOOKUP(C92,'Zebrik G'!C:K,8,0)),\"-\",VLOOKUP(C92,'Zebrik G'!C:K,8,0))","v":"-"}]
[null,null,null,null,null,null,null,null,null,null,null,null,{"$f":"IF(ISERROR(VLOOKUP(C93,'Zebrik G'!C:K,8,0)),\"-\",VLOOKUP(C93,'Zebrik G'!C:K,8,0))","v":"-"}]
[null,null,null,null,null,null,null,null,null,null,null,null,{"$f":"IF(ISERROR(VLOOKUP(C94,'Zebrik G'!C:K,8,0)),\"-\",VLOOKUP(C94,'Zebrik G'!C:K,8,0))","v":"-"}]
[null,null,null,null,null,null,null,null,null,null,null,null,{"$f":"IF(ISERROR(VLOOKUP(C95,'Zebrik G'!C:K,8,0)),\"-\",VLOOKUP(C95,'Zebrik G'!C:K,8,0))","v":"-"}]
[null,null,null,null,null,null,null,null,null,null,null,null,{"$f":"IF(ISERROR(VLOOKUP(C96,'Zebrik G'!C:K,8,0)),\"-\",VLOOKUP(C96,'Zebrik G'!C:K,8,0))","v":"-"}]
[null,null,null,null,null,null,null,null,null,null,null,null,{"$f":"IF(ISERROR(VLOOKUP(C97,'Zebrik G'!C:K,8,0)),\"-\",VLOOKUP(C97,'Zebrik G'!C:K,8,0))","v":"-"}]
[null,null,null,null,null,null,null,null,null,null,null,null,{"$f":"IF(ISERROR(VLOOKUP(C98,'Zebrik G'!C:K,8,0)),\"-\",VLOOKUP(C98,'Zebrik G'!C:K,8,0))","v":"-"}]
[]
[]
[null,null,null,null,null,null,null,null,null,null,null,null,{"$f":"IF(ISERROR(VLOOKUP(C101,'Zebrik G'!C:K,8,0)),\"-\",VLOOKUP(C101,'Zebrik G'!C:K,8,0))","v":"-"}]
[null,null,null,null,null,null,null,null,null,null,null,null,{"$f":"IF(ISERROR(VLOOKUP(C102,'Zebrik G'!C:K,8,0)),\"-\",VLOOKUP(C102,'Zebrik G'!C:K,8,0))","v":"-"}]
[null,null,null,null,null,null,null,null,null,null,null,null,{"$f":"IF(ISERROR(VLOOKUP(C103,'Zebrik G'!C:K,8,0)),\"-\",VLOOKUP(C103,'Zebrik G'!C:K,8,0))","v":"-"}]
[null,null,null,null,null,null,null,null,null,null,null,null,{"$f":"IF(ISERROR(VLOOKUP(C104,'Zebrik G'!C:K,8,0)),\"-\",VLOOKUP(C104,'Zebrik G'!C:K,8,0))","v":"-"}]
[null,null,null,null,null,null,null,null,null,null,null,null,{"$f":"IF(ISERROR(VLOOKUP(C105,'Zebrik G'!C:K,8,0)),\"-\",VLOOKUP(C105,'Zebrik G'!C:K,8,0))","v":"-"}]
[null,null,null,null,null,null,null,null,null,null,null,null,{"$f":"IF(ISERROR(VLOOKUP(C106,'Zebrik G'!C:K,8,0)),\"-\",VLOOKUP(C106,'Zebrik G'!C:K,8,0))","v":"-"}]
[null,null,null,null,null,null,null,null,null,null,null,null,{"$f":"IF(ISERROR(VLOOKUP(C107,'Zebrik G'!C:K,8,0)),\"-\",VLOOKUP(C107,'Zebrik G'!C:K,8,0))","v":"-"}]
[null,null,null,null,null,null,null,null,null,null,null,null,{"$f":"IF(ISERROR(VLOOKUP(C108,'Zebrik G'!C:K,8,0)),\"-\",VLOOKUP(C108,'Zebrik G'!C:K,8,0))","v":"-"}]
[null,null,null,null,null,null,null,null,null,null,null,null,{"$f":"IF(ISERROR(VLOOKUP(C109,'Zebrik G'!C:K,8,0)),\"-\",VLOOKUP(C109,'Zebrik G'!C:K,8,0))","v":"-"}]
[null,null,null,null,null,null,null,null,null,null,null,null,{"$f":"IF(ISERROR(VLOOKUP(C110,'Zebrik G'!C:K,8,0)),\"-\",VLOOKUP(C110,'Zebrik G'!C:K,8,0))","v":"-"}]
[null,null,null,null,null,null,null,null,null,null,null,null,{"$f":"IF(ISERROR(VLOOKUP(C111,'Zebrik G'!C:K,8,0)),\"-\",VLOOKUP(C111,'Zebrik G'!C:K,8,0))","v":"-"}]
[null,null,null,null,null,null,null,null,null,null,null,null,{"$f":"IF(ISERROR(VLOOKUP(C112,'Zebrik G'!C:K,8,0)),\"-\",VLOOKUP(C112,'Zebrik G'!C:K,8,0))","v":"-"}]
[null,null,null,null,null,null,null,null,null,null,null,null,{"$f":"IF(ISERROR(VLOOKUP(C113,'Zebrik G'!C:K,8,0)),\"-\",VLOOKUP(C113,'Zebrik G'!C:K,8,0))","v":"-"}]
[null,null,null,null,null,null,null,null,null,null,null,null,{"$f":"IF(ISERROR(VLOOKUP(C114,'Zebrik G'!C:K,8,0)),\"-\",VLOOKUP(C114,'Zebrik G'!C:K,8,0))","v":"-"}]
[null,null,null,null,null,null,null,null,null,null,null,null,{"$f":"IF(ISERROR(VLOOKUP(C115,'Zebrik G'!C:K,8,0)),\"-\",VLOOKUP(C115,'Zebrik G'!C:K,8,0))","v":"-"}]
[null,null,null,null,null,null,null,null,null,null,null,null,{"$f":"IF(ISERROR(VLOOKUP(C116,'Zebrik G'!C:K,8,0)),\"-\",VLOOKUP(C116,'Zebrik G'!C:K,8,0))","v":"-"}]
[null,null,null,null,null,null,null,null,null,null,null,null,{"$f":"IF(ISERROR(VLOOKUP(C117,'Zebrik G'!C:K,8,0)),\"-\",VLOOKUP(C117,'Zebrik G'!C:K,8,0))","v":"-"}]
[null,null,null,null,null,null,null,null,null,null,null,null,{"$f":"IF(ISERROR(VLOOKUP(C118,'Zebrik G'!C:K,8,0)),\"-\",VLOOKUP(C118,'Zebrik G'!C:K,8,0))","v":"-"}]
[null,null,null,null,null,null,null,null,null,null,null,null,{"$f":"IF(ISERROR(VLOOKUP(C119,'Zebrik G'!C:K,8,0)),\"-\",VLOOKUP(C119,'Zebrik G'!C:K,8,0))","v":"-"}]
[null,null,null,null,null,null,null,null,null,null,null,null,{"$f":"IF(ISERROR(VLOOKUP(C120,'Zebrik G'!C:K,8,0)),\"-\",VLOOKUP(C120,'Zebrik G'!C:K,8,0))","v":"-"}]
[null,null,null,null,null,null,null,null,null,null,null,null,{"$f":"IF(ISERROR(VLOOKUP(C121,'Zebrik G'!C:K,8,0)),\"-\",VLOOKUP(C121,'Zebrik G'!C:K,8,0))","v":"-"}]
[null,null,null,null,null,null,null,null,null,null,null,null,{"$f":"IF(ISERROR(VLOOKUP(C122,'Zebrik G'!C:K,8,0)),\"-\",VLOOKUP(C122,'Zebrik G'!C:K,8,0))","v":"-"}]
[null,null,null,null,null,null,null,null,null,null,null,null,{"$f":"IF(ISERROR(VLOOKUP(C123,'Zebrik G'!C:K,8,0)),\"-\",VLOOKUP(C123,'Zebrik G'!C:K,8,0))","v":"-"}]
[]
[]
[null,null,null,null,null,null,null,null,null,null,null,null,{"$f":"IF(ISERROR(VLOOKUP(C126,'Zebrik G'!C:K,8,0)),\"-\",VLOOKUP(C126,'Zebrik G'!C:K,8,0))","v":"-"}]
[null,null,null,null,null,null,null,null,null,null,null,null,{"$f":"IF(ISERROR(VLOOKUP(C127,'Zebrik G'!C:K,8,0)),\"-\",VLOOKUP(C127,'Zebrik G'!C:K,8,0))","v":"-"}]
[null,null,null,null,null,null,null,null,null,null,null,null,{"$f":"IF(ISERROR(VLOOKUP(C128,'Zebrik G'!C:K,8,0)),\"-\",VLOOKUP(C128,'Zebrik G'!C:K,8,0))","v":"-"}]
[null,null,null,null,null,null,null,null,null,null,null,null,{"$f":"IF(ISERROR(VLOOKUP(C129,'Zebrik G'!C:K,8,0)),\"-\",VLOOKUP(C129,'Zebrik G'!C:K,8,0))","v":"-"}]
[null,null,null,null,null,null,null,null,null,null,null,null,{"$f":"IF(ISERROR(VLOOKUP(C130,'Zebrik G'!C:K,8,0)),\"-\",VLOOKUP(C130,'Zebrik G'!C:K,8,0))","v":"-"}]